Workbook

Sheet Смета 12 гр. по ФЕР
A1: =Source!B1 -> Smeta.RU (495) 974-1589 | H1: ПРИЛОЖЕНИЕ 1 к ФОРМЕ 7
B4: СМЕТА
B5: =IF(Source!G20<>"Новая локальная смета", Source!G20, "")
B7: =IF(Source!G12<>"Новый объект", Source!G12, "") -> на капитальный ремонт аудиторий для компьютерных классов №40,40а,41,42,46,47 в здании учебного корпуса №3 Димитровградского инженерно-технологического института-филиала НИЯУ МИФИ (ДИТИ НИЯУ МИФИ) по адресу: Ульяновская область,г.Димитровград,ул.Куйбышева,д.294 | AD7: =IF(Source!G12<>"Новый объект", Source!G12, "") -> на капитальный ремонт аудиторий для компьютерных классов №40,40а,41,42,46,47 в здании учебного корпуса №3 Димитровградского инженерно-технологического института-филиала НИЯУ МИФИ (ДИТИ НИЯУ МИФИ) по адресу: Ульяновская область,г.Димитровград,ул.Куйбышева,д.294
G10: базовая цена | I10: текущая цена
C11: Сметная стоимость | G11: =SUM(O22:O311)/1000 -> 166.2065 | I11: =(Source!F128/1000) -> 1174.8885 | K11: тыс. руб.
C12: Строительные работы | G12: =SUM(W22:W311)/1000 -> 133.33321 | I12: =(Source!F115)/1000 -> 798.75701 | K12: тыс. руб.
C13: Монтажные работы | G13: =SUM(X22:X311)/1000 -> 32.87329 | I13: =(Source!F116)/1000 -> 196.91118 | K13: тыс. руб.
C14: Оборудование | G14: =SUM(Y22:Y311)/1000 -> 0 | I14: =(Source!F107)/1000 -> 0 | K14: тыс. руб.
C15: Прочие работы | G15: =SUM(Z22:Z311)/1000 -> 0 | I15: =(Source!F117+Source!F118)/1000 -> 0 | K15: тыс. руб.
C16: Нормативная трудоемкость | G16: =I16 -> 1315.7377 | I16: =(Source!F120+Source!F121) -> 1315.7377 | K16: чел. -ч.
C17: Средства на оплату труда | G17: =SUM(R22:R311)/1000 -> 11.4197 | I17: =(Source!F113+ Source!F112)/1000 -> 68.4039 | K17: тыс. руб.
A19: Составлена в ценах IV квартал 2017 года
A20: № п/п | B20: Шифр расценки и коды ресурсов | C20: Наименование работ и затрат | D20: Ед. изм. | E20: Кол-во единиц | F20: Цена на ед. изм. | G20: Попра-вочные коэфф. | H20: Стоимость в ценах 2001г. | I20: Пункт коэфф. пересчета | J20: Коэфф. пересчета | K20: Стоимость в текущих ценах | L20: ЗТР всего чел.-час
A21: 1 | B21: 2 | C21: 3 | D21: 4 | E21: 5 | F21: 6 | G21: 7 | H21: 8 | I21: 9 | J21: 10 | K21: 11 | L21: 12
A22: =Source!E24 -> 1 | B22: =Source!F24 -> 46-04-012-03 | C22: =Source!G24 -> Разборка деревянных заполнений проемов дверных и воротных | D22: =Source!H24 -> 100 м2 | E22: =Source!I24 -> 0.0865 | F22: =Source!AL24+Source!AM24+Source!AO24 -> 1082.58 | I22: =Source!BO24 | S22: =ROUND((Source!FX24/100)*((ROUND(Source!AF24*Source!I24, 2)+ROUND(Source!AE24*Source!I24, 2))), 2) -> 80.93 | T22: =Source!X24 -> 484.8 | U22: =ROUND((Source!FY24/100)*((ROUND(Source!AF24*Source!I24, 2)+ROUND(Source!AE24*Source!I24, 2))), 2) -> 48.64 | V22: =Source!Y24 -> 293.82
C23: Зарплата | F23: =Source!AO24 -> 840.63 | G23: =Source!DG24 | H23: =ROUND(Source!AF24*Source!I24, 2) -> 72.71 | J23: =IF(Source!BA24<> 0, Source!BA24, 1) -> 5.99 | K23: =Source!S24 -> 435.56 | R23: =H23 -> 72.71
C24: Эксплуатация машин | F24: =Source!AM24 -> 241.95 | G24: =Source!DE24 | H24: =ROUND(Source!AD24*Source!I24, 2) -> 20.93 | J24: =IF(Source!BB24<> 0, Source!BB24, 1) -> 5.99 | K24: =Source!Q24 -> 125.36
C25: в т.ч. зарплата машинистов | F25: =Source!AN24 -> 104.49 | G25: =Source!DF24 | H25: =ROUND(Source!AE24*Source!I24, 2) -> 9.04 | J25: =IF(Source!BS24<> 0, Source!BS24, 1) -> 5.99 | K25: =Source!R24 -> 54.14 | R25: =H25 -> 9.04
C26: НР от ФОТ | D26: % | E26: =Source!BZ24 -> 110 | F26: =CONCATENATE(" )", Source!DL24, Source!FT24, "=", Source!FX24) -> )*0,9=99 | H26: =SUM(S22:S28) -> 80.93 | J26: =Source!AT24 -> 99 | K26: =SUM(T22:T28) -> 484.8
C27: СП от ФОТ | D27: % | E27: =Source!CA24 -> 70 | F27: =CONCATENATE(" )", Source!DM24, Source!FU24, "=", Source!FY24) -> )*0,85=59,5 | H27: =SUM(U22:U28) -> 48.64 | J27: =Source!AU24 -> 60 | K27: =SUM(V22:V28) -> 293.82
C28: Затраты труда | D28: чел-ч | E28: =Source!AQ24 -> 103.91 | G28: =Source!DI24 | L28: =Source!U24 -> 8.988215
G29: =H23+H24+H26+H27 -> 223.21 | J29: =K23+K24+K26+K27 -> 1339.54 | L29: =Source!U24 -> 8.988215 | O29: =G29 -> 223.21 | P29: =J29 -> 1339.54 | Q29: =L29 -> 8.988215 | W29: =IF(Source!BI24<=1,H23+H24+H26+H27, 0) -> 223.21 | X29: =IF(Source!BI24=2,H23+H24+H26+H27, 0) -> 0 | Y29: =IF(Source!BI24=3,H23+H24+H26+H27, 0) -> 0 | Z29: =IF(Source!BI24=4,H23+H24+H26+H27, 0) -> 0
A30: =Source!E25 -> 2 | B30: =Source!F25 -> 09-04-012-01 | C30: =Source!G25 -> Демонтаж: металлических дверных блоков в готовые проемы | D30: =Source!H25 -> м2 | E30: =Source!I25 -> 5.94 | F30: =Source!AL25+Source!AM25+Source!AO25 -> 63.94 | I30: =Source!BO25 | S30: =ROUND((Source!FX25/100)*((ROUND(Source!AF25*Source!I25, 2)+ROUND(Source!AE25*Source!I25, 2))), 2) -> 86.85 | T30: =Source!X25 -> 520.21 | U30: =ROUND((Source!FY25/100)*((ROUND(Source!AF25*Source!I25, 2)+ROUND(Source!AE25*Source!I25, 2))), 2) -> 77.47 | V30: =Source!Y25 -> 462.41
C31: Зарплата | F31: =Source!AO25 -> 23.81 | G31: =Source!DG25 -> )*0,7 | H31: =ROUND(Source!AF25*Source!I25, 2) -> 99.02 | J31: =IF(Source!BA25<> 0, Source!BA25, 1) -> 5.99 | K31: =Source!S25 -> 593.13 | R31: =H31 -> 99.02
C32: Эксплуатация машин | F32: =Source!AM25 -> 14.41 | G32: =Source!DE25 -> )*0,7 | H32: =ROUND(Source!AD25*Source!I25, 2) -> 59.93 | J32: =IF(Source!BB25<> 0, Source!BB25, 1) -> 5.99 | K32: =Source!Q25 -> 359.01
C33: в т.ч. зарплата машинистов | F33: =Source!AN25 -> 1.97 | G33: =Source!DF25 -> )*0,7 | H33: =ROUND(Source!AE25*Source!I25, 2) -> 8.2 | J33: =IF(Source!BS25<> 0, Source!BS25, 1) -> 5.99 | K33: =Source!R25 -> 49.1 | R33: =H33 -> 8.2
C34: НР от ФОТ | D34: % | E34: =Source!BZ25 -> 90 | F34: =CONCATENATE(" )", Source!DL25, Source!FT25, "=", Source!FX25) -> )*0,9=81 | H34: =SUM(S30:S36) -> 86.85 | J34: =Source!AT25 -> 81 | K34: =SUM(T30:T36) -> 520.21
C35: СП от ФОТ | D35: % | E35: =Source!CA25 -> 85 | F35: =CONCATENATE(" )", Source!DM25, Source!FU25, "=", Source!FY25) -> )*0,85=72,25 | H35: =SUM(U30:U36) -> 77.47 | J35: =Source!AU25 -> 72 | K35: =SUM(V30:V36) -> 462.41
C36: Затраты труда | D36: чел-ч | E36: =Source!AQ25 -> 2.4 | G36: =Source!DI25 -> )*0,7 | L36: =Source!U25 -> 9.9792
G37: =H31+H32+H34+H35 -> 323.27 | J37: =K31+K32+K34+K35 -> 1934.76 | L37: =Source!U25 -> 9.9792 | O37: =G37 -> 323.27 | P37: =J37 -> 1934.76 | Q37: =L37 -> 9.9792 | W37: =IF(Source!BI25<=1,H31+H32+H34+H35, 0) -> 323.27 | X37: =IF(Source!BI25=2,H31+H32+H34+H35, 0) -> 0 | Y37: =IF(Source!BI25=3,H31+H32+H34+H35, 0) -> 0 | Z37: =IF(Source!BI25=4,H31+H32+H34+H35, 0) -> 0
A38: =Source!E26 -> 3 | B38: =Source!F26 -> 46-04-001-04 | C38: =Source!G26 -> Разборка кирпичных стен | D38: =Source!H26 -> м3 | E38: =Source!I26 -> 3.91 | F38: =Source!AL26+Source!AM26+Source!AO26 -> 113.91 | I38: =Source!BO26 | S38: =ROUND((Source!FX26/100)*((ROUND(Source!AF26*Source!I26, 2)+ROUND(Source!AE26*Source!I26, 2))), 2) -> 282.62 | T38: =Source!X26 -> 1692.86 | U38: =ROUND((Source!FY26/100)*((ROUND(Source!AF26*Source!I26, 2)+ROUND(Source!AE26*Source!I26, 2))), 2) -> 169.85 | V38: =Source!Y26 -> 1025.98
C39: Зарплата | F39: =Source!AO26 -> 73.01 | G39: =Source!DG26 | H39: =ROUND(Source!AF26*Source!I26, 2) -> 285.47 | J39: =IF(Source!BA26<> 0, Source!BA26, 1) -> 5.99 | K39: =Source!S26 -> 1709.96 | R39: =H39 -> 285.47
C40: Эксплуатация машин | F40: =Source!AM26 -> 40.9 | G40: =Source!DE26 | H40: =ROUND(Source!AD26*Source!I26, 2) -> 159.92 | J40: =IF(Source!BB26<> 0, Source!BB26, 1) -> 5.99 | K40: =Source!Q26 -> 957.91
C41: НР от ФОТ | D41: % | E41: =Source!BZ26 -> 110 | F41: =CONCATENATE(" )", Source!DL26, Source!FT26, "=", Source!FX26) -> )*0,9=99 | H41: =SUM(S38:S43) -> 282.62 | J41: =Source!AT26 -> 99 | K41: =SUM(T38:T43) -> 1692.86
C42: СП от ФОТ | D42: % | E42: =Source!CA26 -> 70 | F42: =CONCATENATE(" )", Source!DM26, Source!FU26, "=", Source!FY26) -> )*0,85=59,5 | H42: =SUM(U38:U43) -> 169.85 | J42: =Source!AU26 -> 60 | K42: =SUM(V38:V43) -> 1025.98
C43: Затраты труда | D43: чел-ч | E43: =Source!AQ26 -> 8.24 | G43: =Source!DI26 | L43: =Source!U26 -> 32.2184
G44: =H39+H40+H41+H42 -> 897.86 | J44: =K39+K40+K41+K42 -> 5386.71 | L44: =Source!U26 -> 32.2184 | O44: =G44 -> 897.86 | P44: =J44 -> 5386.71 | Q44: =L44 -> 32.2184 | W44: =IF(Source!BI26<=1,H39+H40+H41+H42, 0) -> 897.86 | X44: =IF(Source!BI26=2,H39+H40+H41+H42, 0) -> 0 | Y44: =IF(Source!BI26=3,H39+H40+H41+H42, 0) -> 0 | Z44: =IF(Source!BI26=4,H39+H40+H41+H42, 0) -> 0
A45: =Source!E27 -> 4 | B45: =Source!F27 -> 10-06-031-01 | C45: =Source!G27 -> Разборка : перегородок из гипсоволокнистых листов (ГВЛ) по системе «КНАУФ» с одинарным металлическим каркасом и однослойной обшивкой с обеих сторон (С 361) глухих | D45: =Source!H27 -> 100 м2 | E45: =Source!I27 -> 0.0877 | F45: =Source!AL27+Source!AM27+Source!AO27 -> 7751.05 | I45: =Source!BO27 | S45: =ROUND((Source!FX27/100)*((ROUND(Source!AF27*Source!I27, 2)+ROUND(Source!AE27*Source!I27, 2))), 2) -> 70.28 | T45: =Source!X27 -> 420.21 | U45: =ROUND((Source!FY27/100)*((ROUND(Source!AF27*Source!I27, 2)+ROUND(Source!AE27*Source!I27, 2))), 2) -> 35.44 | V45: =Source!Y27 -> 214.07
C46: ="Объем: "&Source!I27&"=8,77/"&"100" -> Объем: 0,0877=8,77/100
...

Sheet Source
A1: 0 | B1: Smeta.RU (495) 974-1589 | D1: _PS_ | F1: 0 | G1: 0 | H1: 0 | I1: Smeta.RU | K1: 0 | L1: 13277 | M1: 10
A12: 1 | B12: 188 | C12: 0 | D12: =ROW(A130) -> 130 | E12: 0 | F12: Новый объект | G12: на капитальный ремонт аудиторий для компьютерных классов №40,40а,41,42,46,47 в здании учебного корпуса №3 Димитровградского инженерно-технологического института-филиала НИЯУ МИФИ (ДИТИ НИЯУ МИФИ) по адресу: Ульяновская область,г.Димитровград,ул.Куйбышева,д.294 | I12: 0 | K12: 0 | O12: 0 | P12: 0 | Q12: 0 | R12: 0 | V12: 0 | BH12: Сметные нормы списания | BI12: Коды ценников | BJ12: 1 | BK12: 1 | BL12: 0 | BM12: 0 | BN12: 1 | BO12: 0 | BP12: 2 | BQ12: 2 | BR12: 1 | BS12: 1 | BT12: 0 | BU12: 0 | BV12: 0 | BW12: 0 | BX12: 0 | BY12: ФЕР-2017 | BZ12: ТР для Версии 10: Центральные регионы (с учетом п-ма 2536-ИП/12/ГС от 22.03.2017 г | CA12: ФЕР-2017 | CB12: ФЕР-2017 | CC12: ФЕР-2017 | CD12: ФЕР-2017 | CE12: Поправки для ГСН 2017 от 31.03.2017 г | CF12: 0 | CG12: 0 | CH12: 524296 | CK12: 4 | EC12: 0
A15: 15 | B15: 1
A18: 52 | B18: =B130 -> 188 | C18: =C130 -> 1 | D18: =D130 -> 12 | E18: =E130 -> 0 | F18: =F130 -> Новый объект | G18: =G130 -> на капитальный ремонт аудиторий для компьютерных классов №40,40а,41,42,46,47 в здании учебного корпуса №3 Димитровградского инженерно-технологического института-филиала НИЯУ МИФИ (ДИТИ НИЯУ МИФИ) по адресу: Ульяновская область,г.Димитровград,ул.Куйбышева,д.294 | O18: =O130 -> 895203.14 | P18: =P130 -> 821764.52 | Q18: =Q130 -> 6258.58 | R18: =R130 -> 1223.86 | S18: =S130 -> 67180.04 | T18: =T130 -> 0 | U18: =U130 -> 1299.7997 | V18: =V130 -> 15.938036 | ... GX18: =GX130 -> 0
A20: 3 | B20: 1 | D20: =ROW(A98) -> 98 | F20: Новая локальная смета | G20: Новая локальная смета | I20: 0 | K20: 0 | V20: 0 | BX20: 0 | CF20: 0 | CG20: 0
A22: 52 | B22: =B98 -> 1 | C22: =C98 -> 3 | D22: =D98 -> 20 | E22: =E98 -> 0 | F22: =F98 -> Новая локальная смета | G22: =G98 -> Новая локальная смета | O22: =O98 -> 895203.14 | P22: =P98 -> 821764.52 | Q22: =Q98 -> 6258.58 | R22: =R98 -> 1223.86 | S22: =S98 -> 67180.04 | T22: =T98 -> 0 | U22: =U98 -> 1299.7997 | V22: =V98 -> 15.938036 | ... GX22: =GX98 -> 0
A24: 17 | B24: 1 | C24: =ROW(SmtRes!A3) -> 3 | D24: =ROW(EtalonRes!A3) -> 3 | E24: 1 | F24: 46-04-012-03 | G24: Разборка деревянных заполнений проемов дверных и воротных | H24: 100 м2 | I24: 0.0865 | J24: 0 | O24: =ROUND(CP24,2) -> 560.92 | P24: =ROUND(CQ24*I24,2) -> 0 | Q24: =ROUND(CR24*I24,2) -> 125.36 | R24: =ROUND(CS24*I24,2) -> 54.14 | S24: =ROUND(CT24*I24,2) -> 435.56 | T24: =ROUND(CU24*I24,2) -> 0 | U24: =CV24*I24 -> 8.988215 | V24: =CW24*I24 -> 0.66951 | W24: =ROUND(CX24*I24,2) -> 0 | X24: =ROUND(CY24,2) -> 484.8 | Y24: =ROUND(CZ24,2) -> 293.82 | AA24: 39076825 | AB24: =ROUND((AC24+AD24+AF24),2) -> 1082.58 | AC24: =ROUND((ES24),2) -> 0 | AD24: =ROUND((((ET24)-(EU24))+AE24),2) -> 241.95 | AE24: =ROUND((EU24),2) -> 104.49 | AF24: =ROUND((EV24),2) -> 840.63 | AG24: =ROUND((AP24),2) -> 0 | AH24: =(EW24) -> 103.91 | AI24: =(EX24) -> 7.74 | AJ24: =ROUND((AS24),2) -> 0 | AK24: 1082.58 | AL24: 0 | AM24: 241.95 | AN24: 104.49 | AO24: 840.63 | AP24: 0 | AQ24: 103.91 | AR24: 7.74 | AS24: 0 | AT24: 99 | AU24: 60 | AV24: 1 | AW24: 1 | AZ24: 5.99 | BA24: 5.99 | BB24: 5.99 | BC24: 5.99 | BH24: 0 | BI24: 1 | BJ24: ФЕР-2001, 46-04-012-03, приказ Минстроя России №1039/пр от 30.12.2016г. | BM24: 46001 | BN24: 0 | BP24: 0 | BQ24: 2 | BR24: 0 | BS24: 5.99 | BT24: 1 | BU24: 1 | BV24: 1 | BW24: 1 | BX24: 1 | BZ24: 110 | CA24: 70 | CF24: 0 | CG24: 0 | CM24: 0 | CO24: 0 | CP24: =(P24+Q24+S24) -> 560.92 | CQ24: =AC24*BC24 -> 0 | CR24: =AD24*BB24 -> 1449.2805 | CS24: =AE24*BS24 -> 625.8951 | CT24: =AF24*BA24 -> 5035.3737 | CU24: =AG24 -> 0 | CV24: =AH24 -> 103.91 | CW24: =AI24 -> 7.74 | CX24: =AJ24 -> 0 | CY24: =(((S24+R24)*AT24)/100) -> 484.803 | CZ24: =(((S24+R24)*AU24)/100) -> 293.82 | DN24: 0 | DO24: 0 | DP24: 1 | DQ24: 1 | DU24: 1005 | DV24: 100 м2 | DW24: 100 м2 | DX24: 100 | EE24: 39174571 | EF24: 2 | EG24: Общестроительные работы | EH24: 0 | EJ24: 1 | EK24: 46001 | EL24: Реконструкция зданий и сооружений | EM24: ФЕР-46 | EQ24: 0 | ER24: 1082.58 | ES24: 0 | ET24: 241.95 | EU24: 104.49 | EV24: 840.63 | EW24: 103.91 | EX24: 7.74 | EY24: 0 | FQ24: 0 | FR24: =ROUND(IF(AND(BH24=3,BI24=3),P24,0),2) -> 0 | FS24: 0 | FT24: *0,9 | FU24: *0,85 | FX24: 99 | FY24: 59.5 | GD24: 0 | GF24: -96754396 | GG24: 1 | GH24: 1 | GI24: 4 | GJ24: 0 | GK24: =ROUND(R24*(R12)/100,2) -> 0 | GL24: =ROUND(IF(AND(BH24=3,BI24=3,FS24<>0),P24,0),2) -> 0 | GM24: =ROUND(O24+X24+Y24+GK24,2)+GX24 -> 1339.54 | GN24: =IF(OR(BI24=0,BI24=1),ROUND(O24+X24+Y24+GK24,2),0) -> 1339.54 | GO24: =IF(BI24=2,ROUND(O24+X24+Y24+GK24,2),0) -> 0 | GP24: =IF(BI24=4,ROUND(O24+X24+Y24+GK24,2)+GX24,0) -> 0 | GR24: 0 | GS24: 3 | GT24: 0 | GV24: =ROUND(GT24,2) -> 0 | GW24: 1 | GX24: =ROUND(GV24*GW24*I24,2) -> 0 | HA24: 0 | HB24: 0 | IK24: 0
A25: 17 | B25: 1 | C25: =ROW(SmtRes!A10) -> 10 | D25: =ROW(EtalonRes!A12) -> 12 | E25: 2 | F25: 09-04-012-01 | G25: Демонтаж: металлических дверных блоков в готовые проемы | H25: м2 | I25: 5.94 | J25: 0 | O25: =ROUND(CP25,2) -> 952.14 | P25: =ROUND(CQ25*I25,2) -> 0 | Q25: =ROUND(CR25*I25,2) -> 359.01 | R25: =ROUND(CS25*I25,2) -> 49.1 | S25: =ROUND(CT25*I25,2) -> 593.13 | T25: =ROUND(CU25*I25,2) -> 0 | U25: =CV25*I25 -> 9.9792 | V25: =CW25*I25 -> 0.70686 | W25: =ROUND(CX25*I25,2) -> 0 | X25: =ROUND(CY25,2) -> 520.21 | Y25: =ROUND(CZ25,2) -> 462.41 | AA25: 39076825 | AB25: =ROUND((AC25+AD25+AF25),2) -> 26.76 | AC25: =ROUND(((ES25*0)),2) -> 0 | AD25: =ROUND(((((ET25*0.7))-((EU25*0.7)))+AE25),2) -> 10.09 | AE25: =ROUND(((EU25*0.7)),2) -> 1.38 | AF25: =ROUND(((EV25*0.7)),2) -> 16.67 | AG25: =ROUND((AP25),2) -> 0 | AH25: =((EW25*0.7)) -> 1.68 | AI25: =((EX25*0.7)) -> 0.119 | AJ25: =ROUND((AS25),2) -> 0 | AK25: 63.94 | AL25: 25.72 | AM25: 14.41 | AN25: 1.97 | AO25: 23.81 | AP25: 0 | AQ25: 2.4 | AR25: 0.17 | AS25: 0 | AT25: 81 | AU25: 72 | AV25: 1 | AW25: 1 | AZ25: 5.99 | BA25: 5.99 | BB25: 5.99 | BC25: 5.99 | BH25: 0 | BI25: 1 | BJ25: ФЕР-2001, 09-04-012-01, приказ Минстроя России №1039/пр от 30.12.2016г. | BM25: 9001 | BN25: 0 | BP25: 0 | BQ25: 2 | BR25: 0 | BS25: 5.99 | BT25: 1 | BU25: 1 | BV25: 1 | BW25: 1 | BX25: 1 | BZ25: 90 | CA25: 85 | CF25: 0 | CG25: 0 | CM25: 0 | CN25: Поправка: МДС 81-36.2004, п.3.3.1.д Наименование: При демонтаже металлических конструкций | CO25: 0 | CP25: =(P25+Q25+S25) -> 952.14 | CQ25: =AC25*BC25 -> 0 | CR25: =AD25*BB25 -> 60.4391 | CS25: =AE25*BS25 -> 8.2662 | CT25: =AF25*BA25 -> 99.8533 | CU25: =AG25 -> 0 | CV25: =AH25 -> 1.68 | CW25: =AI25 -> 0.119 | CX25: =AJ25 -> 0 | CY25: =(((S25+R25)*AT25)/100) -> 520.2063 | CZ25: =(((S25+R25)*AU25)/100) -> 462.4056 | DD25: )*0 | DE25: )*0,7 | DF25: )*0,7 | DG25: )*0,7 | DI25: )*0,7 | DJ25: )*0,7 | DN25: 0 | DO25: 0 | DP25: 1 | DQ25: 1 | DU25: 1005 | DV25: м2 | DW25: м2 | DX25: 1 | EE25: 39174502 | EF25: 2 | EG25: Общестроительные работы | EH25: 0 | EJ25: 1 | EK25: 9001 | EL25: Металлические конструкции | EM25: ФЕР-09 | EO25: Поправка: МДС 81-36.2004, п.3.3.1.д | EQ25: 0 | ER25: 63.94 | ES25: 25.72 | ET25: 14.41 | EU25: 1.97 | EV25: 23.81 | EW25: 2.4 | EX25: 0.17 | EY25: 0 | FQ25: 0 | FR25: =ROUND(IF(AND(BH25=3,BI25=3),P25,0),2) -> 0 | FS25: 0 | FT25: *0,9 | FU25: *0,85 | FX25: 81 | FY25: 72.25 | GD25: 0 | GF25: 838148157 | GG25: 1 | GH25: 1 | GI25: 4 | GJ25: 0 | GK25: =ROUND(R25*(R12)/100,2) -> 0 | GL25: =ROUND(IF(AND(BH25=3,BI25=3,FS25<>0),P25,0),2) -> 0 | GM25: =ROUND(O25+X25+Y25+GK25,2)+GX25 -> 1934.76 | GN25: =IF(OR(BI25=0,BI25=1),ROUND(O25+X25+Y25+GK25,2),0) -> 1934.76 | GO25: =IF(BI25=2,ROUND(O25+X25+Y25+GK25,2),0) -> 0 | GP25: =IF(BI25=4,ROUND(O25+X25+Y25+GK25,2)+GX25,0) -> 0 | GR25: 0 | GS25: 3 | GT25: 0 | GV25: =ROUND(GT25,2) -> 0 | GW25: 1 | GX25: =ROUND(GV25*GW25*I25,2) -> 0 | HA25: 0 | HB25: 0 | IK25: 0
A26: 17 | B26: 1 | C26: =ROW(SmtRes!A13) -> 13 | D26: =ROW(EtalonRes!A15) -> 15 | E26: 3 | F26: 46-04-001-04 | G26: Разборка кирпичных стен | H26: м3 | I26: 3.91 | J26: 0 | O26: =ROUND(CP26,2) -> 2667.87 | P26: =ROUND(CQ26*I26,2) -> 0 | Q26: =ROUND(CR26*I26,2) -> 957.91 | R26: =ROUND(CS26*I26,2) -> 0 | S26: =ROUND(CT26*I26,2) -> 1709.96 | T26: =ROUND(CU26*I26,2) -> 0 | U26: =CV26*I26 -> 32.2184 | V26: =CW26*I26 -> 0 | W26: =ROUND(CX26*I26,2) -> 0 | X26: =ROUND(CY26,2) -> 1692.86 | Y26: =ROUND(CZ26,2) -> 1025.98 | AA26: 39076825 | AB26: =ROUND((AC26+AD26+AF26),2) -> 113.91 | AC26: =ROUND((ES26),2) -> 0 | AD26: =ROUND((((ET26)-(EU26))+AE26),2) -> 40.9 | AE26: =ROUND((EU26),2) -> 0 | AF26: =ROUND((EV26),2) -> 73.01 | AG26: =ROUND((AP26),2) -> 0 | AH26: =(EW26) -> 8.24 | AI26: =(EX26) -> 0 | AJ26: =ROUND((AS26),2) -> 0 | AK26: 113.91 | AL26: 0 | AM26: 40.9 | AN26: 0 | AO26: 73.01 | AP26: 0 | AQ26: 8.24 | AR26: 0 | AS26: 0 | AT26: 99 | AU26: 60 | AV26: 1 | AW26: 1 | AZ26: 5.99 | BA26: 5.99 | BB26: 5.99 | BC26: 5.99 | BH26: 0 | BI26: 1 | BJ26: ФЕР-2001, 46-04-001-04, приказ Минстроя России №1039/пр от 30.12.2016г. | BM26: 46001 | BN26: 0 | BP26: 0 | BQ26: 2 | BR26: 0 | BS26: 5.99 | BT26: 1 | BU26: 1 | BV26: 1 | BW26: 1 | BX26: 1 | BZ26: 110 | CA26: 70 | CF26: 0 | CG26: 0 | CM26: 0 | CO26: 0 | CP26: =(P26+Q26+S26) -> 2667.87 | CQ26: =AC26*BC26 -> 0 | CR26: =AD26*BB26 -> 244.991 | CS26: =AE26*BS26 -> 0 | CT26: =AF26*BA26 -> 437.3299 | CU26: =AG26 -> 0 | CV26: =AH26 -> 8.24 | CW26: =AI26 -> 0 | CX26: =AJ26 -> 0 | CY26: =(((S26+R26)*AT26)/100) -> 1692.8604 | CZ26: =(((S26+R26)*AU26)/100) -> 1025.976 | DN26: 0 | DO26: 0 | DP26: 1 | DQ26: 1 | DU26: 1007 | DV26: м3 | DW26: м3 | DX26: 1 | EE26: 39174571 | EF26: 2 | EG26: Общестроительные работы | EH26: 0 | EJ26: 1 | EK26: 46001 | EL26: Реконструкция зданий и сооружений | EM26: ФЕР-46 | EQ26: 0 | ER26: 113.91 | ES26: 0 | ET26: 40.9 | EU26: 0 | EV26: 73.01 | EW26: 8.24 | EX26: 0 | EY26: 0 | FQ26: 0 | FR26: =ROUND(IF(AND(BH26=3,BI26=3),P26,0),2) -> 0 | FS26: 0 | FT26: *0,9 | FU26: *0,85 | FX26: 99 | FY26: 59.5 | GD26: 0 | GF26: 1582154589 | GG26: 1 | GH26: 1 | GI26: 4 | GJ26: 0 | GK26: =ROUND(R26*(R12)/100,2) -> 0 | GL26: =ROUND(IF(AND(BH26=3,BI26=3,FS26<>0),P26,0),2) -> 0 | GM26: =ROUND(O26+X26+Y26+GK26,2)+GX26 -> 5386.71 | GN26: =IF(OR(BI26=0,BI26=1),ROUND(O26+X26+Y26+GK26,2),0) -> 5386.71 | GO26: =IF(BI26=2,ROUND(O26+X26+Y26+GK26,2),0) -> 0 | GP26: =IF(BI26=4,ROUND(O26+X26+Y26+GK26,2)+GX26,0) -> 0 | GR26: 0 | GS26: 3 | GT26: 0 | GV26: =ROUND(GT26,2) -> 0 | GW26: 1 | GX26: =ROUND(GV26*GW26*I26,2) -> 0 | HA26: 0 | HB26: 0 | IK26: 0
A27: 17 | B27: 1 | C27: =ROW(SmtRes!A23) -> 23 | D27: =ROW(EtalonRes!A29) -> 29 | E27: 4 | F27: 10-06-031-01 | G27: Разборка : перегородок из гипсоволокнистых листов (ГВЛ) по системе «КНАУФ» с одинарным металлическим каркасом и однослойной обшивкой с обеих сторон (С 361) глухих | H27: 100 м2 | I27: =ROUND(8.77/100,9) -> 0.0877 | J27: 0 | O27: =ROUND(CP27,2) -> 404.33 | P27: =ROUND(CQ27*I27,2) -> 0 | Q27: =ROUND(CR27*I27,2) -> 7.91 | R27: =ROUND(CS27*I27,2) -> 0 | S27: =ROUND(CT27*I27,2) -> 396.42 | T27: =ROUND(CU27*I27,2) -> 0 | U27: =CV27*I27 -> 7.29664 | V27: =CW27*I27 -> 0 | W27: =ROUND(CX27*I27,2) -> 0 | X27: =ROUND(CY27,2) -> 420.21 | Y27: =ROUND(CZ27,2) -> 214.07 | AA27: 39076825 | AB27: =ROUND((AC27+AD27+AF27),2) -> 769.67 | AC27: =ROUND(((ES27*0)),2) -> 0 | AD27: =ROUND(((((ET27*0.8))-((EU27*0.8)))+AE27),2) -> 15.05 | AE27: =ROUND(((EU27*0.8)),2) -> 0 | AF27: =ROUND(((EV27*0.8)),2) -> 754.62 | AG27: =ROUND((AP27),2) -> 0 | AH27: =((EW27*0.8)) -> 83.2 | AI27: =((EX27*0.8)) -> 0 | AJ27: =ROUND((AS27),2) -> 0 | AK27: 7751.05 | AL27: 6788.96 | AM27: 18.81 | AN27: 0 | AO27: 943.28 | AP27: 0 | AQ27: 104 | AR27: 0 | AS27: 0 | AT27: 106 | AU27: 54 | AV27: 1 | AW27: 1 | AZ27: 5.99 | BA27: 5.99 | BB27: 5.99 | BC27: 5.99 | BH27: 0 | BI27: 1 | BJ27: ФЕР-2001, 10-06-031-01, приказ Минстроя России №1039/пр от 30.12.2016г. | BM27: 10001 | BN27: 0 | BP27: 0 | BQ27: 2 | BR27: 0 | BS27: 5.99 | BT27: 1 | BU27: 1 | BV27: 1 | BW27: 1 | BX27: 1 | BZ27: 118 | CA27: 63 | CF27: 0 | CG27: 0 | CM27: 0 | CN27: Поправка: Табл.2, п.2 Наименование: При демонтаже (разборке) сборных деревянных конструкций | CO27: 0 | CP27: =(P27+Q27+S27) -> 404.33 | CQ27: =AC27*BC27 -> 0 | CR27: =AD27*BB27 -> 90.1495 | CS27: =AE27*BS27 -> 0 | CT27: =AF27*BA27 -> 4520.1738 | CU27: =AG27 -> 0 | CV27: =AH27 -> 83.2 | CW27: =AI27 -> 0 | CX27: =AJ27 -> 0 | CY27: =(((S27+R27)*AT27)/100) -> 420.2052 | CZ27: =(((S27+R27)*AU27)/100) -> 214.0668 | DD27: )*0 | DE27: )*0,8 | DF27: )*0,8 | DG27: )*0,8 | DI27: )*0,8 | DJ27: )*0,8 | DN27: 0 | DO27: 0 | DP27: 1 | DQ27: 1 | DU27: 1005 | DV27: 100 м2 | DW27: 100 м2 | DX27: 100 | EE27: 39174503 | EF27: 2 | EG27: Общестроительные работы | EH27: 0 | EJ27: 1 | EK27: 10001 | EL27: Деревянные конструкции | EM27: ФЕР-10 | EO27: Поправка: Табл.2, п.2 | EQ27: 0 | ER27: 7751.05 | ES27: 6788.96 | ET27: 18.81 | EU27: 0 | EV27: 943.28 | EW27: 104 | EX27: 0 | EY27: 0 | FQ27: 0 | FR27: =ROUND(IF(AND(BH27=3,BI27=3),P27,0),2) -> 0 | FS27: 0 | FT27: *0,9 | FU27: *0,85 | FX27: 106.2 | FY27: 53.55 | GD27: 0 | GF27: 2059584284 | GG27: 1 | GH27: 1 | GI27: 4 | GJ27: 0 | GK27: =ROUND(R27*(R12)/100,2) -> 0 | GL27: =ROUND(IF(AND(BH27=3,BI27=3,FS27<>0),P27,0),2) -> 0 | GM27: =ROUND(O27+X27+Y27+GK27,2)+GX27 -> 1038.61 | GN27: =IF(OR(BI27=0,BI27=1),ROUND(O27+X27+Y27+GK27,2),0) -> 1038.61 | GO27: =IF(BI27=2,ROUND(O27+X27+Y27+GK27,2),0) -> 0 | GP27: =IF(BI27=4,ROUND(O27+X27+Y27+GK27,2)+GX27,0) -> 0 | GR27: 0 | GS27: 3 | GT27: 0 | GV27: =ROUND(GT27,2) -> 0 | GW27: 1 | GX27: =ROUND(GV27*GW27*I27,2) -> 0 | HA27: 0 | HB27: 0 | IK27: 0
A28: 17 | B28: 1 | C28: =ROW(SmtRes!A26) -> 26 | D28: =ROW(EtalonRes!A33) -> 33 | E28: 5 | F28: 57-2-2 | G28: Разборка покрытий полов из плиток поливинилхлоридных | H28: 100 м2 | I28: 1.89 | J28: 0 | O28: =ROUND(CP28,2) -> 3179.87 | P28: =ROUND(CQ28*I28,2) -> 0 | Q28: =ROUND(CR28*I28,2) -> 45.96 | R28: =ROUND(CS28*I28,2) -> 19.93 | S28: =ROUND(CT28*I28,2) -> 3133.91 | T28: =ROUND(CU28*I28,2) -> 0 | U28: =CV28*I28 -> 67.0761 | V28: =CW28*I28 -> 0.2457 | W28: =ROUND(CX28*I28,2) -> 0 | X28: =ROUND(CY28,2) -> 2523.07 | Y28: =ROUND(CZ28,2) -> 2144.61 | AA28: 39076825 | AB28: =ROUND((AC28+AD28+AF28),2) -> 280.88 | AC28: =ROUND((ES28),2) -> 0 | AD28: =ROUND((((ET28)-(EU28))+AE28),2) -> 4.06 | AE28: =ROUND((EU28),2) -> 1.76 | AF28: =ROUND((EV28),2) -> 276.82 | AG28: =ROUND((AP28),2) -> 0 | AH28: =(EW28) -> 35.49 | AI28: =(EX28) -> 0.13 | AJ28: =ROUND((AS28),2) -> 0 | AK28: 280.88 | AL28: 0 | AM28: 4.06 | AN28: 1.76 | AO28: 276.82 | AP28: 0 | AQ28: 35.49 | AR28: 0.13 | AS28: 0 | AT28: 80 | AU28: 68 | AV28: 1 | AW28: 1 | AZ28: 5.99 | BA28: 5.99 | BB28: 5.99 | BC28: 5.99 | BH28: 0 | BI28: 1 | BJ28: ФЕР-2001, 57-2-2, приказ Минстроя России №1039/пр от 30.12.2016г. | BM28: 57001 | BN28: 0 | BP28: 0 | BQ28: 6 | BR28: 0 | BS28: 5.99 | BT28: 1 | BU28: 1 | BV28: 1 | BW28: 1 | BX28: 1 | BZ28: 80 | CA28: 68 | CF28: 0 | CG28: 0 | CM28: 0 | CO28: 0 | CP28: =(P28+Q28+S28) -> 3179.87 | CQ28: =AC28*BC28 -> 0 | CR28: =AD28*BB28 -> 24.3194 | CS28: =AE28*BS28 -> 10.5424 | CT28: =AF28*BA28 -> 1658.1518 | CU28: =AG28 -> 0 | CV28: =AH28 -> 35.49 | CW28: =AI28 -> 0.13 | CX28: =AJ28 -> 0 | CY28: =(((S28+R28)*AT28)/100) -> 2523.072 | CZ28: =(((S28+R28)*AU28)/100) -> 2144.6112 | DN28: 0 | DO28: 0 | DP28: 1 | DQ28: 1 | DU28: 1005 | DV28: 100 м2 | DW28: 100 м2 | DX28: 100 | EE28: 39174582 | EF28: 6 | EG28: Ремонтно-строительные работы | EH28: 0 | EJ28: 1 | EK28: 57001 | EL28: Полы | EM28: рФЕР-57 | EQ28: 0 | ER28: 280.88 | ES28: 0 | ET28: 4.06 | EU28: 1.76 | EV28: 276.82 | EW28: 35.49 | EX28: 0.13 | EY28: 0 | FQ28: 0 | FR28: =ROUND(IF(AND(BH28=3,BI28=3),P28,0),2) -> 0 | FS28: 0 | FX28: 80 | FY28: 68 | GD28: 0 | GF28: 970371603 | GG28: 1 | GH28: 1 | GI28: 4 | GJ28: 0 | GK28: =ROUND(R28*(R12)/100,2) -> 0 | GL28: =ROUND(IF(AND(BH28=3,BI28=3,FS28<>0),P28,0),2) -> 0 | GM28: =ROUND(O28+X28+Y28+GK28,2)+GX28 -> 7847.55 | GN28: =IF(OR(BI28=0,BI28=1),ROUND(O28+X28+Y28+GK28,2),0) -> 7847.55 | GO28: =IF(BI28=2,ROUND(O28+X28+Y28+GK28,2),0) -> 0 | GP28: =IF(BI28=4,ROUND(O28+X28+Y28+GK28,2)+GX28,0) -> 0 | GR28: 0 | GS28: 3 | GT28: 0 | GV28: =ROUND(GT28,2) -> 0 | GW28: 1 | GX28: =ROUND(GV28*GW28*I28,2) -> 0 | HA28: 0 | HB28: 0 | IK28: 0
A29: 17 | B29: 1 | C29: =ROW(SmtRes!A29) -> 29 | D29: =ROW(EtalonRes!A37) -> 37 | E29: 6 | F29: 57-2-1 | G29: Разборка покрытий полов из линолеума и релина | H29: 100 м2 | I29: 1.1078 | J29: 0 | O29: =ROUND(CP29,2) -> 616.46 | P29: =ROUND(CQ29*I29,2) -> 0 | Q29: =ROUND(CR29*I29,2) -> 26.94 | R29: =ROUND(CS29*I29,2) -> 11.68 | S29: =ROUND(CT29*I29,2) -> 589.52 | T29: =ROUND(CU29*I29,2) -> 0 | U29: =CV29*I29 -> 12.617842 | V29: =CW29*I29 -> 0.144014 | W29: =ROUND(CX29*I29,2) -> 0 | X29: =ROUND(CY29,2) -> 480.96 | Y29: =ROUND(CZ29,2) -> 408.82 | AA29: 39076825 | AB29: =ROUND((AC29+AD29+AF29),2) -> 92.9 | AC29: =ROUND((ES29),2) -> 0 | AD29: =ROUND((((ET29)-(EU29))+AE29),2) -> 4.06 | AE29: =ROUND((EU29),2) -> 1.76 | AF29: =ROUND((EV29),2) -> 88.84 | AG29: =ROUND((AP29),2) -> 0 | AH29: =(EW29) -> 11.39 | AI29: =(EX29) -> 0.13 | AJ29: =ROUND((AS29),2) -> 0 | AK29: 92.9 | AL29: 0 | AM29: 4.06 | AN29: 1.76 | AO29: 88.84 | AP29: 0 | AQ29: 11.39 | AR29: 0.13 | AS29: 0 | AT29: 80 | AU29: 68 | AV29: 1 | AW29: 1 | AZ29: 5.99 | BA29: 5.99 | BB29: 5.99 | BC29: 5.99 | BH29: 0 | BI29: 1 | BJ29: ФЕРр-2001, 57-2-1, приказ Минстроя России №1039/пр от 30.12.2016г. | BM29: 57001 | BN29: 0 | BP29: 0 | BQ29: 6 | BR29: 0 | BS29: 5.99 | BT29: 1 | BU29: 1 | BV29: 1 | BW29: 1 | BX29: 1 | BZ29: 80 | CA29: 68 | CF29: 0 | CG29: 0 | CM29: 0 | CO29: 0 | CP29: =(P29+Q29+S29) -> 616.46 | CQ29: =AC29*BC29 -> 0 | CR29: =AD29*BB29 -> 24.3194 | CS29: =AE29*BS29 -> 10.5424 | CT29: =AF29*BA29 -> 532.1516 | CU29: =AG29 -> 0 | CV29: =AH29 -> 11.39 | CW29: =AI29 -> 0.13 | CX29: =AJ29 -> 0 | CY29: =(((S29+R29)*AT29)/100) -> 480.96 | CZ29: =(((S29+R29)*AU29)/100) -> 408.816 | DN29: 0 | DO29: 0 | DP29: 1 | DQ29: 1 | DU29: 1005 | DV29: 100 м2 | DW29: 100 м2 | DX29: 100 | EE29: 39174582 | EF29: 6 | EG29: Ремонтно-строительные работы | EH29: 0 | EJ29: 1 | EK29: 57001 | EL29: Полы | EM29: рФЕР-57 | EQ29: 0 | ER29: 92.9 | ES29: 0 | ET29: 4.06 | EU29: 1.76 | EV29: 88.84 | EW29: 11.39 | EX29: 0.13 | EY29: 0 | FQ29: 0 | FR29: =ROUND(IF(AND(BH29=3,BI29=3),P29,0),2) -> 0 | FS29: 0 | FX29: 80 | FY29: 68 | GD29: 0 | GF29: 537707280 | GG29: 1 | GH29: 1 | GI29: 4 | GJ29: 0 | GK29: =ROUND(R29*(R12)/100,2) -> 0 | GL29: =ROUND(IF(AND(BH29=3,BI29=3,FS29<>0),P29,0),2) -> 0 | GM29: =ROUND(O29+X29+Y29+GK29,2)+GX29 -> 1506.24 | GN29: =IF(OR(BI29=0,BI29=1),ROUND(O29+X29+Y29+GK29,2),0) -> 1506.24 | GO29: =IF(BI29=2,ROUND(O29+X29+Y29+GK29,2),0) -> 0 | GP29: =IF(BI29=4,ROUND(O29+X29+Y29+GK29,2)+GX29,0) -> 0 | GR29: 0 | GS29: 3 | GT29: 0 | GV29: =ROUND(GT29,2) -> 0 | GW29: 1 | GX29: =ROUND(GV29*GW29*I29,2) -> 0 | HA29: 0 | HB29: 0 | IK29: 0
A30: 17 | B30: 1 | C30: =ROW(SmtRes!A30) -> 30 | D30: =ROW(EtalonRes!A39) -> 39 | E30: 7 | F30: 57-3-1 | G30: Разборка плинтусов деревянных и из пластмассовых материалов | H30: 100 м | I30: 1.4905 | J30: 0 | O30: =ROUND(CP30,2) -> 262.58 | P30: =ROUND(CQ30*I30,2) -> 0 | Q30: =ROUND(CR30*I30,2) -> 0 | R30: =ROUND(CS30*I30,2) -> 0 | S30: =ROUND(CT30*I30,2) -> 262.58 | T30: =ROUND(CU30*I30,2) -> 0 | U30: =CV30*I30 -> 5.619185 | V30: =CW30*I30 -> 0 | W30: =ROUND(CX30*I30,2) -> 0 | X30: =ROUND(CY30,2) -> 210.06 | Y30: =ROUND(CZ30,2) -> 178.55 | AA30: 39076825 | AB30: =ROUND((AC30+AD30+AF30),2) -> 29.41 | AC30: =ROUND((ES30),2) -> 0 | AD30: =ROUND((((ET30)-(EU30))+AE30),2) -> 0 | AE30: =ROUND((EU30),2) -> 0 | AF30: =ROUND((EV30),2) -> 29.41 | AG30: =ROUND((AP30),2) -> 0 | AH30: =(EW30) -> 3.77 | AI30: =(EX30) -> 0 | AJ30: =ROUND((AS30),2) -> 0 | AK30: 29.41 | AL30: 0 | AM30: 0 | AN30: 0 | AO30: 29.41 | AP30: 0 | AQ30: 3.77 | AR30: 0 | AS30: 0 | AT30: 80 | AU30: 68 | AV30: 1 | AW30: 1 | AZ30: 5.99 | BA30: 5.99 | BB30: 5.99 | BC30: 5.99 | BH30: 0 | BI30: 1 | BJ30: ФЕР-2001, 57-3-1, приказ Минстроя России №1039/пр от 30.12.2016г. | BM30: 57001 | BN30: 0 | BP30: 0 | BQ30: 6 | BR30: 0 | BS30: 5.99 | BT30: 1 | BU30: 1 | BV30: 1 | BW30: 1 | BX30: 1 | BZ30: 80 | CA30: 68 | CF30: 0 | CG30: 0 | CM30: 0 | CO30: 0 | CP30: =(P30+Q30+S30) -> 262.58 | CQ30: =AC30*BC30 -> 0 | CR30: =AD30*BB30 -> 0 | CS30: =AE30*BS30 -> 0 | CT30: =AF30*BA30 -> 176.1659 | CU30: =AG30 -> 0 | CV30: =AH30 -> 3.77 | CW30: =AI30 -> 0 | CX30: =AJ30 -> 0 | CY30: =(((S30+R30)*AT30)/100) -> 210.064 | CZ30: =(((S30+R30)*AU30)/100) -> 178.5544 | DN30: 0 | DO30: 0 | DP30: 1 | DQ30: 1 | DU30: 1003 | DV30: 100 м | DW30: 100 м | DX30: 100 | EE30: 39174582 | EF30: 6 | EG30: Ремонтно-строительные работы | EH30: 0 | EJ30: 1 | EK30: 57001 | EL30: Полы | EM30: рФЕР-57 | EQ30: 0 | ER30: 29.41 | ES30: 0 | ET30: 0 | EU30: 0 | EV30: 29.41 | EW30: 3.77 | EX30: 0 | EY30: 0 | FQ30: 0 | FR30: =ROUND(IF(AND(BH30=3,BI30=3),P30,0),2) -> 0 | FS30: 0 | FX30: 80 | FY30: 68 | GD30: 0 | GF30: -1431764135 | GG30: 1 | GH30: 1 | GI30: 4 | GJ30: 0 | GK30: =ROUND(R30*(R12)/100,2) -> 0 | GL30: =ROUND(IF(AND(BH30=3,BI30=3,FS30<>0),P30,0),2) -> 0 | GM30: =ROUND(O30+X30+Y30+GK30,2)+GX30 -> 651.19 | GN30: =IF(OR(BI30=0,BI30=1),ROUND(O30+X30+Y30+GK30,2),0) -> 651.19 | GO30: =IF(BI30=2,ROUND(O30+X30+Y30+GK30,2),0) -> 0 | GP30: =IF(BI30=4,ROUND(O30+X30+Y30+GK30,2)+GX30,0) -> 0 | GR30: 0 | GS30: 3 | GT30: 0 | GV30: =ROUND(GT30,2) -> 0 | GW30: 1 | GX30: =ROUND(GV30*GW30*I30,2) -> 0 | HA30: 0 | HB30: 0 | IK30: 0
A31: 17 | B31: 1 | C31: =ROW(SmtRes!A37) -> 37 | D31: =ROW(EtalonRes!A45) -> 45 | E31: 8 | F31: 11-01-011-01 | G31: Устройство стяжек цементных толщиной 20 мм | H31: 100 м2 | I31: 2.9978 | J31: 0 | O31: =ROUND(CP31,2) -> 7624.64 | P31: =ROUND(CQ31*I31,2) -> 153.35 | Q31: =ROUND(CR31*I31,2) -> 993.01 | R31: =ROUND(CS31*I31,2) -> 384.99 | S31: =ROUND(CT31*I31,2) -> 6478.28 | T31: =ROUND(CU31*I31,2) -> 0 | U31: =CV31*I31 -> 136.20954 | V31: =CW31*I31 -> 4.7590075 | W31: =ROUND(CX31*I31,2) -> 0 | X31: =ROUND(CY31,2) -> 7618.23 | Y31: =ROUND(CZ31,2) -> 4392.49 | AA31: 39076825 | AB31: =ROUND((AC31+AD31+AF31),2) -> 424.61 | AC31: =ROUND((ES31),2) -> 8.54 | AD31: =ROUND(((((ET31*1.25))-((EU31*1.25)))+AE31),2) -> 55.3 | AE31: =ROUND(((EU31*1.25)),2) -> 21.44 | AF31: =ROUND(((EV31*1.15)),2) -> 360.77 | AG31: =ROUND((AP31),2) -> 0 | AH31: =((EW31*1.15)) -> 45.4365 | AI31: =((EX31*1.25)) -> 1.5875 | AJ31: =ROUND((AS31),2) -> 0 | AK31: 366.49 | AL31: 8.54 | AM31: 44.24 | AN31: 17.15 | AO31: 313.71 | AP31: 0 | AQ31: 39.51 | AR31: 1.27 | AS31: 0 | AT31: 111 | AU31: 64 | AV31: 1 | AW31: 1 | AZ31: 5.99 | BA31: 5.99 | BB31: 5.99 | BC31: 5.99 | BH31: 0 | BI31: 1 | BJ31: ФЕР-2001, 11-01-011-01, приказ Минстроя России №1039/пр от 30.12.2016г. | BM31: 11001 | BN31: 0 | BP31: 0 | BQ31: 2 | BR31: 0 | BS31: 5.99 | BT31: 1 | BU31: 1 | BV31: 1 | BW31: 1 | BX31: 1 | BZ31: 123 | CA31: 75 | CF31: 0 | CG31: 0 | CM31: 0 | CN31: Поправка: МДС 81-35.2004, п.4.7 Наименование: Работы, выполняемые при реконструкции зданий и сооружений работы, аналогичные технологическим процессам в новом строительстве (в том числе возведение новых конструктивных элементов) стоимость которых определена по соответствующим сборникам ФЕР, кроме сборника № 46 «Работы при реконструкции зданий и сооружений» | CO31: 0 | CP31: =(P31+Q31+S31) -> 7624.64 | CQ31: =AC31*BC31 -> 51.1546 | CR31: =AD31*BB31 -> 331.247 | CS31: =AE31*BS31 -> 128.4256 | CT31: =AF31*BA31 -> 2161.0123 | CU31: =AG31 -> 0 | CV31: =AH31 -> 45.4365 | CW31: =AI31 -> 1.5875 | CX31: =AJ31 -> 0 | CY31: =(((S31+R31)*AT31)/100) -> 7618.2297 | CZ31: =(((S31+R31)*AU31)/100) -> 4392.4928 | DE31: )*1,25 | DF31: )*1,25 | DG31: )*1,15 | DI31: )*1,15 | DJ31: )*1,25 | DN31: 0 | DO31: 0 | DP31: 1 | DQ31: 1 | DU31: 1005 | DV31: 100 м2 | DW31: 100 м2 | DX31: 100 | EE31: 39174504 | EF31: 2 | EG31: Общестроительные работы | EH31: 0 | EJ31: 1 | EK31: 11001 | EL31: Полы | EM31: ФЕР-11 | EO31: Поправка: МДС 81-35.2004, п.4.7 | EQ31: 0 | ER31: 366.49 | ES31: 8.54 | ET31: 44.24 | EU31: 17.15 | EV31: 313.71 | EW31: 39.51 | EX31: 1.27 | EY31: 0 | FQ31: 0 | FR31: =ROUND(IF(AND(BH31=3,BI31=3),P31,0),2) -> 0 | FS31: 0 | FT31: *0,9 | FU31: *0,85 | FX31: 110.7 | FY31: 63.75 | GD31: 0 | GF31: 192743499 | GG31: 1 | GH31: 1 | GI31: 4 | GJ31: 0 | GK31: =ROUND(R31*(R12)/100,2) -> 0 | GL31: =ROUND(IF(AND(BH31=3,BI31=3,FS31<>0),P31,0),2) -> 0 | GM31: =ROUND(O31+X31+Y31+GK31,2)+GX31 -> 19635.36 | GN31: =IF(OR(BI31=0,BI31=1),ROUND(O31+X31+Y31+GK31,2),0) -> 19635.36 | GO31: =IF(BI31=2,ROUND(O31+X31+Y31+GK31,2),0) -> 0 | GP31: =IF(BI31=4,ROUND(O31+X31+Y31+GK31,2)+GX31,0) -> 0 | GR31: 0 | GS31: 3 | GT31: 0 | GV31: =ROUND(GT31,2) -> 0 | GW31: 1 | GX31: =ROUND(GV31*GW31*I31,2) -> 0 | HA31: 0 | HB31: 0 | IK31: 0
A32: 18 | B32: 1 | C32: 37 | E32: 8,1 | F32: 04.3.01.09-0016 | G32: Раствор готовый кладочный цементный марки 200 | H32: м3 | I32: =I31*J32 -> 6.115512 | J32: 2.04 | O32: =ROUND(CP32,2) -> 21979.15 | P32: =ROUND(CQ32*I32,2) -> 21979.15 | Q32: =ROUND(CR32*I32,2) -> 0 | R32: =ROUND(CS32*I32,2) -> 0 | S32: =ROUND(CT32*I32,2) -> 0 | T32: =ROUND(CU32*I32,2) -> 0 | U32: =CV32*I32 -> 0 | V32: =CW32*I32 -> 0 | W32: =ROUND(CX32*I32,2) -> 0 | X32: =ROUND(CY32,2) -> 0 | Y32: =ROUND(CZ32,2) -> 0 | AA32: 39076825 | AB32: =ROUND((AC32+AD32+AF32),2) -> 600 | AC32: =ROUND((ES32),2) -> 600 | AD32: =ROUND((((ET32)-(EU32))+AE32),2) -> 0 | AE32: =ROUND((EU32),2) -> 0 | AF32: =ROUND((EV32),2) -> 0 | AG32: =ROUND((AP32),2) -> 0 | AH32: =(EW32) -> 0 | AI32: =(EX32) -> 0 | AJ32: =ROUND((AS32),2) -> 0 | AK32: 600 | AL32: 600 | AM32: 0 | AN32: 0 | AO32: 0 | AP32: 0 | AQ32: 0 | AR32: 0 | AS32: 0 | AT32: 111 | AU32: 64 | AV32: 1 | AW32: 1 | AZ32: 5.99 | BA32: 1 | BB32: 1 | BC32: 5.99 | BH32: 3 | BI32: 1 | BJ32: ФССЦ-2001, 04.3.01.09-0016, приказ Минстроя России №1039/пр от 30.12.2016г. | BM32: 11001 | BN32: 0 | BP32: 0 | BQ32: 2 | BR32: 0 | BS32: 1 | BT32: 1 | BU32: 1 | BV32: 1 | BW32: 1 | BX32: 1 | BZ32: 123 | CA32: 75 | CF32: 0 | CG32: 0 | CM32: 0 | CO32: 0 | CP32: =(P32+Q32+S32) -> 21979.15 | CQ32: =AC32*BC32 -> 3594 | CR32: =AD32*BB32 -> 0 | CS32: =AE32*BS32 -> 0 | CT32: =AF32*BA32 -> 0 | CU32: =AG32 -> 0 | CV32: =AH32 -> 0 | CW32: =AI32 -> 0 | CX32: =AJ32 -> 0 | CY32: =(((S32+R32)*AT32)/100) -> 0 | CZ32: =(((S32+R32)*AU32)/100) -> 0 | DN32: 0 | DO32: 0 | DP32: 1 | DQ32: 1 | DU32: 1007 | DV32: м3 | DW32: м3 | DX32: 1 | EE32: 39174504 | EF32: 2 | EG32: Общестроительные работы | EH32: 0 | EJ32: 1 | EK32: 11001 | EL32: Полы | EM32: ФЕР-11 | EQ32: 0 | ER32: 600 | ES32: 600 | ET32: 0 | EU32: 0 | EV32: 0 | EW32: 0 | EX32: 0 | FQ32: 0 | FR32: =ROUND(IF(AND(BH32=3,BI32=3),P32,0),2) -> 0 | FS32: 0 | FT32: *0,9 | FU32: *0,85 | FX32: 110.7 | FY32: 63.75 | GD32: 0 | GF32: 536744769 | GG32: 1 | GH32: 1 | GI32: 4 | GJ32: 0 | GK32: =ROUND(R32*(R12)/100,2) -> 0 | GL32: =ROUND(IF(AND(BH32=3,BI32=3,FS32<>0),P32,0),2) -> 0 | GM32: =ROUND(O32+X32+Y32+GK32,2)+GX32 -> 21979.15 | GN32: =IF(OR(BI32=0,BI32=1),ROUND(O32+X32+Y32+GK32,2),0) -> 21979.15 | GO32: =IF(BI32=2,ROUND(O32+X32+Y32+GK32,2),0) -> 0 | GP32: =IF(BI32=4,ROUND(O32+X32+Y32+GK32,2)+GX32,0) -> 0 | GR32: 0 | GS32: 3 | GT32: 0 | GV32: =ROUND(GT32,2) -> 0 | GW32: 1 | GX32: =ROUND(GV32*GW32*I32,2) -> 0 | HA32: 0 | HB32: 0 | IK32: 0
A33: 18 | B33: 1 | C33: 36 | E33: 8,2 | F33: 04.3.01.09 | G33: Раствор готовый кладочный тяжелый цементный | H33: м3 | I33: =I31*J33 -> 6.115512 | J33: 2.04 | O33: =ROUND(CP33,2) -> 0 | P33: =ROUND(CQ33*I33,2) -> 0 | Q33: =ROUND(CR33*I33,2) -> 0 | R33: =ROUND(CS33*I33,2) -> 0 | S33: =ROUND(CT33*I33,2) -> 0 | T33: =ROUND(CU33*I33,2) -> 0 | U33: =CV33*I33 -> 0 | V33: =CW33*I33 -> 0 | W33: =ROUND(CX33*I33,2) -> 0 | X33: =ROUND(CY33,2) -> 0 | Y33: =ROUND(CZ33,2) -> 0 | AA33: 39076825 | AB33: =ROUND((AC33+AD33+AF33),2) -> 0 | AC33: =ROUND((ES33),2) -> 0 | AD33: =ROUND((((ET33)-(EU33))+AE33),2) -> 0 | AE33: =ROUND((EU33),2) -> 0 | AF33: =ROUND((EV33),2) -> 0 | AG33: =ROUND((AP33),2) -> 0 | AH33: =(EW33) -> 0 | AI33: =(EX33) -> 0 | AJ33: =ROUND((AS33),2) -> 0 | AK33: 0 | AL33: 0 | AM33: 0 | AN33: 0 | AO33: 0 | AP33: 0 | AQ33: 0 | AR33: 0 | AS33: 0 | AT33: 111 | AU33: 64 | AV33: 1 | AW33: 1 | AZ33: 5.99 | BA33: 1 | BB33: 1 | BC33: 5.99 | BH33: 3 | BI33: 1 | BM33: 11001 | BN33: 0 | BP33: 0 | BQ33: 2 | BR33: 0 | BS33: 1 | BT33: 1 | BU33: 1 | BV33: 1 | BW33: 1 | BX33: 1 | BZ33: 123 | CA33: 75 | CF33: 0 | CG33: 0 | CM33: 0 | CO33: 0 | CP33: =(P33+Q33+S33) -> 0 | CQ33: =AC33*BC33 -> 0 | CR33: =AD33*BB33 -> 0 | CS33: =AE33*BS33 -> 0 | CT33: =AF33*BA33 -> 0 | CU33: =AG33 -> 0 | CV33: =AH33 -> 0 | CW33: =AI33 -> 0 | CX33: =AJ33 -> 0 | CY33: =(((S33+R33)*AT33)/100) -> 0 | CZ33: =(((S33+R33)*AU33)/100) -> 0 | DN33: 0 | DO33: 0 | DP33: 1 | DQ33: 1 | DU33: 1007 | DV33: м3 | DW33: м3 | DX33: 1 | EE33: 39174504 | EF33: 2 | EG33: Общестроительные работы | EH33: 0 | EJ33: 1 | EK33: 11001 | EL33: Полы | EM33: ФЕР-11 | EQ33: 0 | ER33: 0 | ES33: 0 | ET33: 0 | EU33: 0 | EV33: 0 | EW33: 0 | EX33: 0 | FQ33: 0 | FR33: =ROUND(IF(AND(BH33=3,BI33=3),P33,0),2) -> 0 | FS33: 0 | FT33: *0,9 | FU33: *0,85 | FX33: 110.7 | FY33: 63.75 | GA33: занесена вручную | GD33: 0 | GF33: -2113302258 | GG33: 1 | GH33: 1 | GI33: 4 | GJ33: 0 | GK33: =ROUND(R33*(R12)/100,2) -> 0 | GL33: =ROUND(IF(AND(BH33=3,BI33=3,FS33<>0),P33,0),2) -> 0 | GM33: =ROUND(O33+X33+Y33+GK33,2)+GX33 -> 0 | GN33: =IF(OR(BI33=0,BI33=1),ROUND(O33+X33+Y33+GK33,2),0) -> 0 | GO33: =IF(BI33=2,ROUND(O33+X33+Y33+GK33,2),0) -> 0 | GP33: =IF(BI33=4,ROUND(O33+X33+Y33+GK33,2)+GX33,0) -> 0 | GR33: 0 | GS33: 4 | GT33: 0 | GV33: =ROUND(GT33,2) -> 0 | GW33: 1 | GX33: =ROUND(GV33*GW33*I33,2) -> 0 | HA33: 0 | HB33: 0 | IK33: 0
A34: 17 | B34: 1 | C34: =ROW(SmtRes!A46) -> 46 | D34: =ROW(EtalonRes!A52) -> 52 | E34: 9 | F34: 11-01-036-01 | G34: Устройство покрытий из линолеума на клее | H34: 100 м2 | I34: 2.9978 | J34: 0 | O34: =ROUND(CP34,2) -> 8275.4 | P34: =ROUND(CQ34*I34,2) -> 16.34 | Q34: =ROUND(CR34*I34,2) -> 983.14 | R34: =ROUND(CS34*I34,2) -> 236.31 | S34: =ROUND(CT34*I34,2) -> 7275.92 | T34: =ROUND(CU34*I34,2) -> 0 | U34: =CV34*I34 -> 146.17273 | V34: =CW34*I34 -> 3.1851625 | W34: =ROUND(CX34*I34,2) -> 0 | X34: =ROUND(CY34,2) -> 8338.58 | Y34: =ROUND(CZ34,2) -> 4807.83 | AA34: 39076825 | AB34: =ROUND((AC34+AD34+AF34),2) -> 460.85 | AC34: =ROUND((ES34),2) -> 0.91 | AD34: =ROUND(((((ET34*1.25))-((EU34*1.25)))+AE34),2) -> 54.75 | AE34: =ROUND(((EU34*1.25)),2) -> 13.16 | AF34: =ROUND(((EV34*1.15)),2) -> 405.19 | AG34: =ROUND((AP34),2) -> 0 | AH34: =((EW34*1.15)) -> 48.76 | AI34: =((EX34*1.25)) -> 1.0625 | AJ34: =ROUND((AS34),2) -> 0 | AK34: 397.05 | AL34: 0.91 | AM34: 43.8 | AN34: 10.53 | AO34: 352.34 | AP34: 0 | AQ34: 42.4 | AR34: 0.85 | AS34: 0 | AT34: 111 | AU34: 64 | AV34: 1 | AW34: 1 | AZ34: 5.99 | BA34: 5.99 | BB34: 5.99 | BC34: 5.99 | BH34: 0 | BI34: 1 | BJ34: ФЕР-2001, 11-01-036-01, приказ Минстроя России №1039/пр от 30.12.2016г. | BM34: 11001 | BN34: 0 | BP34: 0 | BQ34: 2 | BR34: 0 | BS34: 5.99 | BT34: 1 | BU34: 1 | BV34: 1 | BW34: 1 | BX34: 1 | BZ34: 123 | CA34: 75 | CF34: 0 | CG34: 0 | CM34: 0 | CN34: Поправка: МДС 81-35.2004, п.4.7 Наименование: Работы, выполняемые при реконструкции зданий и сооружений работы, аналогичные технологическим процессам в новом строительстве (в том числе возведение новых конструктивных элементов) стоимость которых определена по соответствующим сборникам ФЕР, кроме сборника № 46 «Работы при реконструкции зданий и сооружений» | CO34: 0 | CP34: =(P34+Q34+S34) -> 8275.4 | CQ34: =AC34*BC34 -> 5.4509 | CR34: =AD34*BB34 -> 327.9525 | CS34: =AE34*BS34 -> 78.8284 | CT34: =AF34*BA34 -> 2427.0881 | CU34: =AG34 -> 0 | CV34: =AH34 -> 48.76 | CW34: =AI34 -> 1.0625 | CX34: =AJ34 -> 0 | CY34: =(((S34+R34)*AT34)/100) -> 8338.5753 | CZ34: =(((S34+R34)*AU34)/100) -> 4807.8272 | DE34: )*1,25 | DF34: )*1,25 | DG34: )*1,15 | DI34: )*1,15 | DJ34: )*1,25 | DN34: 0 | DO34: 0 | DP34: 1 | DQ34: 1 | DU34: 1005 | DV34: 100 м2 | DW34: 100 м2 | DX34: 100 | EE34: 39174504 | EF34: 2 | EG34: Общестроительные работы | EH34: 0 | EJ34: 1 | EK34: 11001 | EL34: Полы | EM34: ФЕР-11 | EO34: Поправка: МДС 81-35.2004, п.4.7 | EQ34: 0 | ER34: 397.05 | ES34: 0.91 | ET34: 43.8 | EU34: 10.53 | EV34: 352.34 | EW34: 42.4 | EX34: 0.85 | EY34: 0 | FQ34: 0 | FR34: =ROUND(IF(AND(BH34=3,BI34=3),P34,0),2) -> 0 | FS34: 0 | FT34: *0,9 | FU34: *0,85 | FX34: 110.7 | FY34: 63.75 | GD34: 0 | GF34: 35623097 | GG34: 1 | GH34: 1 | GI34: 4 | GJ34: 0 | GK34: =ROUND(R34*(R12)/100,2) -> 0 | GL34: =ROUND(IF(AND(BH34=3,BI34=3,FS34<>0),P34,0),2) -> 0 | GM34: =ROUND(O34+X34+Y34+GK34,2)+GX34 -> 21421.81 | GN34: =IF(OR(BI34=0,BI34=1),ROUND(O34+X34+Y34+GK34,2),0) -> 21421.81 | GO34: =IF(BI34=2,ROUND(O34+X34+Y34+GK34,2),0) -> 0 | GP34: =IF(BI34=4,ROUND(O34+X34+Y34+GK34,2)+GX34,0) -> 0 | GR34: 0 | GS34: 3 | GT34: 0 | GV34: =ROUND(GT34,2) -> 0 | GW34: 1 | GX34: =ROUND(GV34*GW34*I34,2) -> 0 | HA34: 0 | HB34: 0 | IK34: 0
A35: 18 | B35: 1 | C35: 43 | E35: 9,1 | F35: 01.6.03.04-0118 | G35: Линолеум коммерческий гомогенный "ТАРКЕТТ iQ GRANIT" (толщина 2 мм, класс 34/43, пож. безопасность Г4, В3, РП1, Д2, Т2) | H35: м2 | I35: =I34*J35 -> 305.7756 | J35: 102 | O35: =ROUND(CP35,2) -> 386833.04 | P35: =ROUND(CQ35*I35,2) -> 386833.04 | Q35: =ROUND(CR35*I35,2) -> 0 | R35: =ROUND(CS35*I35,2) -> 0 | S35: =ROUND(CT35*I35,2) -> 0 | T35: =ROUND(CU35*I35,2) -> 0 | U35: =CV35*I35 -> 0 | V35: =CW35*I35 -> 0 | W35: =ROUND(CX35*I35,2) -> 0 | X35: =ROUND(CY35,2) -> 0 | Y35: =ROUND(CZ35,2) -> 0 | AA35: 39076825 | AB35: =ROUND((AC35+AD35+AF35),2) -> 211.2 | AC35: =ROUND((ES35),2) -> 211.2 | AD35: =ROUND((((ET35)-(EU35))+AE35),2) -> 0 | AE35: =ROUND((EU35),2) -> 0 | AF35: =ROUND((EV35),2) -> 0 | AG35: =ROUND((AP35),2) -> 0 | AH35: =(EW35) -> 0 | AI35: =(EX35) -> 0 | AJ35: =ROUND((AS35),2) -> 0 | AK35: 211.2 | AL35: 211.2 | AM35: 0 | AN35: 0 | AO35: 0 | AP35: 0 | AQ35: 0 | AR35: 0 | AS35: 0 | AT35: 111 | AU35: 64 | AV35: 1 | AW35: 1 | AZ35: 5.99 | BA35: 1 | BB35: 1 | BC35: 5.99 | BH35: 3 | BI35: 1 | BJ35: ФССЦ-2001, 01.6.03.04-0118, приказ Минстроя России №1039/пр от 30.12.2016г. | BM35: 11001 | BN35: 0 | BP35: 0 | BQ35: 2 | BR35: 0 | BS35: 1 | BT35: 1 | BU35: 1 | BV35: 1 | BW35: 1 | BX35: 1 | BZ35: 123 | CA35: 75 | CF35: 0 | CG35: 0 | CM35: 0 | CO35: 0 | CP35: =(P35+Q35+S35) -> 386833.04 | CQ35: =AC35*BC35 -> 1265.088 | CR35: =AD35*BB35 -> 0 | CS35: =AE35*BS35 -> 0 | CT35: =AF35*BA35 -> 0 | CU35: =AG35 -> 0 | CV35: =AH35 -> 0 | CW35: =AI35 -> 0 | CX35: =AJ35 -> 0 | CY35: =(((S35+R35)*AT35)/100) -> 0 | CZ35: =(((S35+R35)*AU35)/100) -> 0 | DN35: 0 | DO35: 0 | DP35: 1 | DQ35: 1 | DU35: 1005 | DV35: м2 | DW35: м2 | DX35: 1 | EE35: 39174504 | EF35: 2 | EG35: Общестроительные работы | EH35: 0 | EJ35: 1 | EK35: 11001 | EL35: Полы | EM35: ФЕР-11 | EQ35: 0 | ER35: 211.2 | ES35: 211.2 | ET35: 0 | EU35: 0 | EV35: 0 | EW35: 0 | EX35: 0 | FQ35: 0 | FR35: =ROUND(IF(AND(BH35=3,BI35=3),P35,0),2) -> 0 | FS35: 0 | FT35: *0,9 | FU35: *0,85 | FX35: 110.7 | FY35: 63.75 | GD35: 0 | GF35: -1256487638 | GG35: 1 | GH35: 1 | GI35: 4 | GJ35: 0 | GK35: =ROUND(R35*(R12)/100,2) -> 0 | GL35: =ROUND(IF(AND(BH35=3,BI35=3,FS35<>0),P35,0),2) -> 0 | GM35: =ROUND(O35+X35+Y35+GK35,2)+GX35 -> 386833.04 | GN35: =IF(OR(BI35=0,BI35=1),ROUND(O35+X35+Y35+GK35,2),0) -> 386833.04 | GO35: =IF(BI35=2,ROUND(O35+X35+Y35+GK35,2),0) -> 0 | GP35: =IF(BI35=4,ROUND(O35+X35+Y35+GK35,2)+GX35,0) -> 0 | GR35: 0 | GS35: 3 | GT35: 0 | GV35: =ROUND(GT35,2) -> 0 | GW35: 1 | GX35: =ROUND(GV35*GW35*I35,2) -> 0 | HA35: 0 | HB35: 0 | IK35: 0
A36: 18 | B36: 1 | C36: 42 | E36: 9,2 | F36: 01.6.03.04 | G36: Линолеум на теплозвукоизолирующей подоснове | H36: м2 | I36: =I34*J36 -> 305.7756 | J36: 102 | O36: =ROUND(CP36,2) -> 0 | P36: =ROUND(CQ36*I36,2) -> 0 | Q36: =ROUND(CR36*I36,2) -> 0 | R36: =ROUND(CS36*I36,2) -> 0 | S36: =ROUND(CT36*I36,2) -> 0 | T36: =ROUND(CU36*I36,2) -> 0 | U36: =CV36*I36 -> 0 | V36: =CW36*I36 -> 0 | W36: =ROUND(CX36*I36,2) -> 0 | X36: =ROUND(CY36,2) -> 0 | Y36: =ROUND(CZ36,2) -> 0 | AA36: 39076825 | AB36: =ROUND((AC36+AD36+AF36),2) -> 0 | AC36: =ROUND((ES36),2) -> 0 | AD36: =ROUND((((ET36)-(EU36))+AE36),2) -> 0 | AE36: =ROUND((EU36),2) -> 0 | AF36: =ROUND((EV36),2) -> 0 | AG36: =ROUND((AP36),2) -> 0 | AH36: =(EW36) -> 0 | AI36: =(EX36) -> 0 | AJ36: =ROUND((AS36),2) -> 0 | AK36: 0 | AL36: 0 | AM36: 0 | AN36: 0 | AO36: 0 | AP36: 0 | AQ36: 0 | AR36: 0 | AS36: 0 | AT36: 111 | AU36: 64 | AV36: 1 | AW36: 1 | AZ36: 5.99 | BA36: 1 | BB36: 1 | BC36: 5.99 | BH36: 3 | BI36: 1 | BM36: 11001 | BN36: 0 | BP36: 0 | BQ36: 2 | BR36: 0 | BS36: 1 | BT36: 1 | BU36: 1 | BV36: 1 | BW36: 1 | BX36: 1 | BZ36: 123 | CA36: 75 | CF36: 0 | CG36: 0 | CM36: 0 | CO36: 0 | CP36: =(P36+Q36+S36) -> 0 | CQ36: =AC36*BC36 -> 0 | CR36: =AD36*BB36 -> 0 | CS36: =AE36*BS36 -> 0 | CT36: =AF36*BA36 -> 0 | CU36: =AG36 -> 0 | CV36: =AH36 -> 0 | CW36: =AI36 -> 0 | CX36: =AJ36 -> 0 | CY36: =(((S36+R36)*AT36)/100) -> 0 | CZ36: =(((S36+R36)*AU36)/100) -> 0 | DN36: 0 | DO36: 0 | DP36: 1 | DQ36: 1 | DU36: 1005 | DV36: м2 | DW36: м2 | DX36: 1 | EE36: 39174504 | EF36: 2 | EG36: Общестроительные работы | EH36: 0 | EJ36: 1 | EK36: 11001 | EL36: Полы | EM36: ФЕР-11 | EQ36: 0 | ER36: 0 | ES36: 0 | ET36: 0 | EU36: 0 | EV36: 0 | EW36: 0 | EX36: 0 | FQ36: 0 | FR36: =ROUND(IF(AND(BH36=3,BI36=3),P36,0),2) -> 0 | FS36: 0 | FT36: *0,9 | FU36: *0,85 | FX36: 110.7 | FY36: 63.75 | GA36: занесена вручную | GD36: 0 | GF36: -919469713 | GG36: 1 | GH36: 1 | GI36: 4 | GJ36: 0 | GK36: =ROUND(R36*(R12)/100,2) -> 0 | GL36: =ROUND(IF(AND(BH36=3,BI36=3,FS36<>0),P36,0),2) -> 0 | GM36: =ROUND(O36+X36+Y36+GK36,2)+GX36 -> 0 | GN36: =IF(OR(BI36=0,BI36=1),ROUND(O36+X36+Y36+GK36,2),0) -> 0 | GO36: =IF(BI36=2,ROUND(O36+X36+Y36+GK36,2),0) -> 0 | GP36: =IF(BI36=4,ROUND(O36+X36+Y36+GK36,2)+GX36,0) -> 0 | GR36: 0 | GS36: 4 | GT36: 0 | GV36: =ROUND(GT36,2) -> 0 | GW36: 1 | GX36: =ROUND(GV36*GW36*I36,2) -> 0 | HA36: 0 | HB36: 0 | IK36: 0
A37: 18 | B37: 1 | C37: 45 | E37: 9,3 | F37: 14.1.02.04-0101 | G37: Клей «Бустилат» | H37: т | I37: =I34*J37 -> 0.14989 | J37: 0.05 | O37: =ROUND(CP37,2) -> 10145.6 | P37: =ROUND(CQ37*I37,2) -> 10145.6 | Q37: =ROUND(CR37*I37,2) -> 0 | R37: =ROUND(CS37*I37,2) -> 0 | S37: =ROUND(CT37*I37,2) -> 0 | T37: =ROUND(CU37*I37,2) -> 0 | U37: =CV37*I37 -> 0 | V37: =CW37*I37 -> 0 | W37: =ROUND(CX37*I37,2) -> 0 | X37: =ROUND(CY37,2) -> 0 | Y37: =ROUND(CZ37,2) -> 0 | AA37: 39076825 | AB37: =ROUND((AC37+AD37+AF37),2) -> 11300 | AC37: =ROUND((ES37),2) -> 11300 | AD37: =ROUND((((ET37)-(EU37))+AE37),2) -> 0 | AE37: =ROUND((EU37),2) -> 0 | AF37: =ROUND((EV37),2) -> 0 | AG37: =ROUND((AP37),2) -> 0 | AH37: =(EW37) -> 0 | AI37: =(EX37) -> 0 | AJ37: =ROUND((AS37),2) -> 0 | AK37: 11300 | AL37: 11300 | AM37: 0 | AN37: 0 | AO37: 0 | AP37: 0 | AQ37: 0 | AR37: 0 | AS37: 0 | AT37: 111 | AU37: 64 | AV37: 1 | AW37: 1 | AZ37: 5.99 | BA37: 1 | BB37: 1 | BC37: 5.99 | BH37: 3 | BI37: 1 | BJ37: ФССЦ-2001, 14.1.02.04-0101, приказ Минстроя России №1039/пр от 30.12.2016г. | BM37: 11001 | BN37: 0 | BP37: 0 | BQ37: 2 | BR37: 0 | BS37: 1 | BT37: 1 | BU37: 1 | BV37: 1 | BW37: 1 | BX37: 1 | BZ37: 123 | CA37: 75 | CF37: 0 | CG37: 0 | CM37: 0 | CO37: 0 | CP37: =(P37+Q37+S37) -> 10145.6 | CQ37: =AC37*BC37 -> 67687 | CR37: =AD37*BB37 -> 0 | CS37: =AE37*BS37 -> 0 | CT37: =AF37*BA37 -> 0 | CU37: =AG37 -> 0 | CV37: =AH37 -> 0 | CW37: =AI37 -> 0 | CX37: =AJ37 -> 0 | CY37: =(((S37+R37)*AT37)/100) -> 0 | CZ37: =(((S37+R37)*AU37)/100) -> 0 | DN37: 0 | DO37: 0 | DP37: 1 | DQ37: 1 | DU37: 1009 | DV37: т | DW37: т | DX37: 1000 | EE37: 39174504 | EF37: 2 | EG37: Общестроительные работы | EH37: 0 | EJ37: 1 | EK37: 11001 | EL37: Полы | EM37: ФЕР-11 | EQ37: 0 | ER37: 11300 | ES37: 11300 | ET37: 0 | EU37: 0 | EV37: 0 | EW37: 0 | EX37: 0 | FQ37: 0 | FR37: =ROUND(IF(AND(BH37=3,BI37=3),P37,0),2) -> 0 | FS37: 0 | FT37: *0,9 | FU37: *0,85 | FX37: 110.7 | FY37: 63.75 | GD37: 0 | GF37: 486476101 | GG37: 1 | GH37: 1 | GI37: 4 | GJ37: 0 | GK37: =ROUND(R37*(R12)/100,2) -> 0 | GL37: =ROUND(IF(AND(BH37=3,BI37=3,FS37<>0),P37,0),2) -> 0 | GM37: =ROUND(O37+X37+Y37+GK37,2)+GX37 -> 10145.6 | GN37: =IF(OR(BI37=0,BI37=1),ROUND(O37+X37+Y37+GK37,2),0) -> 10145.6 | GO37: =IF(BI37=2,ROUND(O37+X37+Y37+GK37,2),0) -> 0 | GP37: =IF(BI37=4,ROUND(O37+X37+Y37+GK37,2)+GX37,0) -> 0 | GR37: 0 | GS37: 3 | GT37: 0 | GV37: =ROUND(GT37,2) -> 0 | GW37: 1 | GX37: =ROUND(GV37*GW37*I37,2) -> 0 | HA37: 0 | HB37: 0 | IK37: 0
A38: 18 | B38: 1 | C38: 46 | E38: 9,4 | F38: 14.1.06.05 | G38: Состав клеящий | H38: кг | I38: =I34*J38 -> 149.89 | J38: 50 | O38: =ROUND(CP38,2) -> 0 | P38: =ROUND(CQ38*I38,2) -> 0 | Q38: =ROUND(CR38*I38,2) -> 0 | R38: =ROUND(CS38*I38,2) -> 0 | S38: =ROUND(CT38*I38,2) -> 0 | T38: =ROUND(CU38*I38,2) -> 0 | U38: =CV38*I38 -> 0 | V38: =CW38*I38 -> 0 | W38: =ROUND(CX38*I38,2) -> 0 | X38: =ROUND(CY38,2) -> 0 | Y38: =ROUND(CZ38,2) -> 0 | AA38: 39076825 | AB38: =ROUND((AC38+AD38+AF38),2) -> 0 | AC38: =ROUND((ES38),2) -> 0 | AD38: =ROUND((((ET38)-(EU38))+AE38),2) -> 0 | AE38: =ROUND((EU38),2) -> 0 | AF38: =ROUND((EV38),2) -> 0 | AG38: =ROUND((AP38),2) -> 0 | AH38: =(EW38) -> 0 | AI38: =(EX38) -> 0 | AJ38: =ROUND((AS38),2) -> 0 | AK38: 0 | AL38: 0 | AM38: 0 | AN38: 0 | AO38: 0 | AP38: 0 | AQ38: 0 | AR38: 0 | AS38: 0 | AT38: 111 | AU38: 64 | AV38: 1 | AW38: 1 | AZ38: 5.99 | BA38: 1 | BB38: 1 | BC38: 5.99 | BH38: 3 | BI38: 1 | BM38: 11001 | BN38: 0 | BP38: 0 | BQ38: 2 | BR38: 0 | BS38: 1 | BT38: 1 | BU38: 1 | BV38: 1 | BW38: 1 | BX38: 1 | BZ38: 123 | CA38: 75 | CF38: 0 | CG38: 0 | CM38: 0 | CO38: 0 | CP38: =(P38+Q38+S38) -> 0 | CQ38: =AC38*BC38 -> 0 | CR38: =AD38*BB38 -> 0 | CS38: =AE38*BS38 -> 0 | CT38: =AF38*BA38 -> 0 | CU38: =AG38 -> 0 | CV38: =AH38 -> 0 | CW38: =AI38 -> 0 | CX38: =AJ38 -> 0 | CY38: =(((S38+R38)*AT38)/100) -> 0 | CZ38: =(((S38+R38)*AU38)/100) -> 0 | DN38: 0 | DO38: 0 | DP38: 1 | DQ38: 1 | DU38: 1009 | DV38: кг | DW38: кг | DX38: 1 | EE38: 39174504 | EF38: 2 | EG38: Общестроительные работы | EH38: 0 | EJ38: 1 | EK38: 11001 | EL38: Полы | EM38: ФЕР-11 | EQ38: 0 | ER38: 0 | ES38: 0 | ET38: 0 | EU38: 0 | EV38: 0 | EW38: 0 | EX38: 0 | FQ38: 0 | FR38: =ROUND(IF(AND(BH38=3,BI38=3),P38,0),2) -> 0 | FS38: 0 | FT38: *0,9 | FU38: *0,85 | FX38: 110.7 | FY38: 63.75 | GA38: занесена вручную | GD38: 0 | GF38: 290394019 | GG38: 1 | GH38: 1 | GI38: 4 | GJ38: 0 | GK38: =ROUND(R38*(R12)/100,2) -> 0 | GL38: =ROUND(IF(AND(BH38=3,BI38=3,FS38<>0),P38,0),2) -> 0 | GM38: =ROUND(O38+X38+Y38+GK38,2)+GX38 -> 0 | GN38: =IF(OR(BI38=0,BI38=1),ROUND(O38+X38+Y38+GK38,2),0) -> 0 | GO38: =IF(BI38=2,ROUND(O38+X38+Y38+GK38,2),0) -> 0 | GP38: =IF(BI38=4,ROUND(O38+X38+Y38+GK38,2)+GX38,0) -> 0 | GR38: 0 | GS38: 4 | GT38: 0 | GV38: =ROUND(GT38,2) -> 0 | GW38: 1 | GX38: =ROUND(GV38*GW38*I38,2) -> 0 | HA38: 0 | HB38: 0 | IK38: 0
A39: 17 | B39: 1 | C39: =ROW(SmtRes!A64) -> 64 | D39: =ROW(EtalonRes!A64) -> 64 | E39: 10 | F39: 11-01-040-03 | G39: Устройство плинтусов поливинилхлоридных на винтах самонарезающих | H39: 100 м | I39: 1.4905 | J39: 0 | O39: =ROUND(CP39,2) -> 1310.91 | P39: =ROUND(CQ39*I39,2) -> 657.46 | Q39: =ROUND(CR39*I39,2) -> 23.84 | R39: =ROUND(CS39*I39,2) -> 4.73 | S39: =ROUND(CT39*I39,2) -> 629.61 | T39: =ROUND(CU39*I39,2) -> 0 | U39: =CV39*I39 -> 11.450021 | V39: =CW39*I39 -> 0.074525 | W39: =ROUND(CX39*I39,2) -> 0 | X39: =ROUND(CY39,2) -> 704.12 | Y39: =ROUND(CZ39,2) -> 405.98 | AA39: 39076825 | AB39: =ROUND((AC39+AD39+AF39),2) -> 146.83 | AC39: =ROUND((ES39),2) -> 73.64 | AD39: =ROUND(((((ET39*1.25))-((EU39*1.25)))+AE39),2) -> 2.67 | AE39: =ROUND(((EU39*1.25)),2) -> 0.53 | AF39: =ROUND(((EV39*1.15)),2) -> 70.52 | AG39: =ROUND((AP39),2) -> 0 | AH39: =((EW39*1.15)) -> 7.682 | AI39: =((EX39*1.25)) -> 0.05 | AJ39: =ROUND((AS39),2) -> 0 | AK39: 137.09 | AL39: 73.64 | AM39: 2.13 | AN39: 0.42 | AO39: 61.32 | AP39: 0 | AQ39: 6.68 | AR39: 0.04 | AS39: 0 | AT39: 111 | AU39: 64 | AV39: 1 | AW39: 1 | AZ39: 5.99 | BA39: 5.99 | BB39: 5.99 | BC39: 5.99 | BH39: 0 | BI39: 1 | BJ39: ФЕР-2001, 11-01-040-03, приказ Минстроя России №1039/пр от 30.12.2016г. | BM39: 11001 | BN39: 0 | BP39: 0 | BQ39: 2 | BR39: 0 | BS39: 5.99 | BT39: 1 | BU39: 1 | BV39: 1 | BW39: 1 | BX39: 1 | BZ39: 123 | CA39: 75 | CF39: 0 | CG39: 0 | CM39: 0 | CN39: Поправка: МДС 81-35.2004, п.4.7 Наименование: Работы, выполняемые при реконструкции зданий и сооружений работы, аналогичные технологическим процессам в новом строительстве (в том числе возведение новых конструктивных элементов) стоимость которых определена по соответствующим сборникам ФЕР, кроме сборника № 46 «Работы при реконструкции зданий и сооружений» | CO39: 0 | CP39: =(P39+Q39+S39) -> 1310.91 | CQ39: =AC39*BC39 -> 441.1036 | CR39: =AD39*BB39 -> 15.9933 | CS39: =AE39*BS39 -> 3.1747 | CT39: =AF39*BA39 -> 422.4148 | CU39: =AG39 -> 0 | CV39: =AH39 -> 7.682 | CW39: =AI39 -> 0.05 | CX39: =AJ39 -> 0 | CY39: =(((S39+R39)*AT39)/100) -> 704.1174 | CZ39: =(((S39+R39)*AU39)/100) -> 405.9776 | DE39: )*1,25 | DF39: )*1,25 | DG39: )*1,15 | DI39: )*1,15 | DJ39: )*1,25 | DN39: 0 | DO39: 0 | DP39: 1 | DQ39: 1 | DU39: 1003 | DV39: 100 м | DW39: 100 м | DX39: 100 | EE39: 39174504 | EF39: 2 | EG39: Общестроительные работы | EH39: 0 | EJ39: 1 | EK39: 11001 | EL39: Полы | EM39: ФЕР-11 | EO39: Поправка: МДС 81-35.2004, п.4.7 | EQ39: 0 | ER39: 137.09 | ES39: 73.64 | ET39: 2.13 | EU39: 0.42 | EV39: 61.32 | EW39: 6.68 | EX39: 0.04 | EY39: 0 | FQ39: 0 | FR39: =ROUND(IF(AND(BH39=3,BI39=3),P39,0),2) -> 0 | FS39: 0 | FT39: *0,9 | FU39: *0,85 | FX39: 110.7 | FY39: 63.75 | GD39: 0 | GF39: -1404287246 | GG39: 1 | GH39: 1 | GI39: 4 | GJ39: 0 | GK39: =ROUND(R39*(R12)/100,2) -> 0 | GL39: =ROUND(IF(AND(BH39=3,BI39=3,FS39<>0),P39,0),2) -> 0 | GM39: =ROUND(O39+X39+Y39+GK39,2)+GX39 -> 2421.01 | GN39: =IF(OR(BI39=0,BI39=1),ROUND(O39+X39+Y39+GK39,2),0) -> 2421.01 | GO39: =IF(BI39=2,ROUND(O39+X39+Y39+GK39,2),0) -> 0 | GP39: =IF(BI39=4,ROUND(O39+X39+Y39+GK39,2)+GX39,0) -> 0 | GR39: 0 | GS39: 3 | GT39: 0 | GV39: =ROUND(GT39,2) -> 0 | GW39: 1 | GX39: =ROUND(GV39*GW39*I39,2) -> 0 | HA39: 0 | HB39: 0 | IK39: 0
A40: 18 | B40: 1 | C40: 63 | E40: 10,1 | F40: 11.3.03.14-0032 | G40: Уголок внутренний для пластикового плинтуса, высота 49 мм | H40: 100 шт. | I40: =I39*J40 -> 0.1 | J40: 0.06709158 | O40: =ROUND(CP40,2) -> 76.67 | P40: =ROUND(CQ40*I40,2) -> 76.67 | Q40: =ROUND(CR40*I40,2) -> 0 | R40: =ROUND(CS40*I40,2) -> 0 | S40: =ROUND(CT40*I40,2) -> 0 | T40: =ROUND(CU40*I40,2) -> 0 | U40: =CV40*I40 -> 0 | V40: =CW40*I40 -> 0 | W40: =ROUND(CX40*I40,2) -> 0 | X40: =ROUND(CY40,2) -> 0 | Y40: =ROUND(CZ40,2) -> 0 | AA40: 39076825 | AB40: =ROUND((AC40+AD40+AF40),2) -> 128 | AC40: =ROUND((ES40),2) -> 128 | AD40: =ROUND((((ET40)-(EU40))+AE40),2) -> 0 | AE40: =ROUND((EU40),2) -> 0 | AF40: =ROUND((EV40),2) -> 0 | AG40: =ROUND((AP40),2) -> 0 | AH40: =(EW40) -> 0 | AI40: =(EX40) -> 0 | AJ40: =ROUND((AS40),2) -> 0 | AK40: 128 | AL40: 128 | AM40: 0 | AN40: 0 | AO40: 0 | AP40: 0 | AQ40: 0 | AR40: 0 | AS40: 0 | AT40: 111 | AU40: 64 | AV40: 1 | AW40: 1 | AZ40: 5.99 | BA40: 1 | BB40: 1 | BC40: 5.99 | BH40: 3 | BI40: 1 | BJ40: ФССЦ-2001, 11.3.03.14-0032, приказ Минстроя России №1039/пр от 30.12.2016г. | BM40: 11001 | BN40: 0 | BP40: 0 | BQ40: 2 | BR40: 0 | BS40: 1 | BT40: 1 | BU40: 1 | BV40: 1 | BW40: 1 | BX40: 1 | BZ40: 123 | CA40: 75 | CF40: 0 | CG40: 0 | CM40: 0 | CO40: 0 | CP40: =(P40+Q40+S40) -> 76.67 | CQ40: =AC40*BC40 -> 766.72 | CR40: =AD40*BB40 -> 0 | CS40: =AE40*BS40 -> 0 | CT40: =AF40*BA40 -> 0 | CU40: =AG40 -> 0 | CV40: =AH40 -> 0 | CW40: =AI40 -> 0 | CX40: =AJ40 -> 0 | CY40: =(((S40+R40)*AT40)/100) -> 0 | CZ40: =(((S40+R40)*AU40)/100) -> 0 | DN40: 0 | DO40: 0 | DP40: 1 | DQ40: 1 | DU40: 1010 | DV40: 100 шт. | DW40: 100 шт. | DX40: 100 | EE40: 39174504 | EF40: 2 | EG40: Общестроительные работы | EH40: 0 | EJ40: 1 | EK40: 11001 | EL40: Полы | EM40: ФЕР-11 | EQ40: 0 | ER40: 128 | ES40: 128 | ET40: 0 | EU40: 0 | EV40: 0 | EW40: 0 | EX40: 0 | FQ40: 0 | FR40: =ROUND(IF(AND(BH40=3,BI40=3),P40,0),2) -> 0 | FS40: 0 | FT40: *0,9 | FU40: *0,85 | FX40: 110.7 | FY40: 63.75 | GD40: 0 | GF40: 1800897042 | GG40: 1 | GH40: 1 | GI40: 4 | GJ40: 0 | GK40: =ROUND(R40*(R12)/100,2) -> 0 | GL40: =ROUND(IF(AND(BH40=3,BI40=3,FS40<>0),P40,0),2) -> 0 | GM40: =ROUND(O40+X40+Y40+GK40,2)+GX40 -> 76.67 | GN40: =IF(OR(BI40=0,BI40=1),ROUND(O40+X40+Y40+GK40,2),0) -> 76.67 | GO40: =IF(BI40=2,ROUND(O40+X40+Y40+GK40,2),0) -> 0 | GP40: =IF(BI40=4,ROUND(O40+X40+Y40+GK40,2)+GX40,0) -> 0 | GR40: 0 | GS40: 3 | GT40: 0 | GV40: =ROUND(GT40,2) -> 0 | GW40: 1 | GX40: =ROUND(GV40*GW40*I40,2) -> 0 | HA40: 0 | HB40: 0 | IK40: 0
A41: 18 | B41: 1 | C41: 64 | E41: 10,2 | F41: 11.3.03.14-0034 | G41: Уголок наружный для пластикового плинтуса, высота 49 мм | H41: 100 шт. | I41: =I39*J41 -> 0.1 | J41: 0.06709158 | O41: =ROUND(CP41,2) -> 76.67 | P41: =ROUND(CQ41*I41,2) -> 76.67 | Q41: =ROUND(CR41*I41,2) -> 0 | R41: =ROUND(CS41*I41,2) -> 0 | S41: =ROUND(CT41*I41,2) -> 0 | T41: =ROUND(CU41*I41,2) -> 0 | U41: =CV41*I41 -> 0 | V41: =CW41*I41 -> 0 | W41: =ROUND(CX41*I41,2) -> 0 | X41: =ROUND(CY41,2) -> 0 | Y41: =ROUND(CZ41,2) -> 0 | AA41: 39076825 | AB41: =ROUND((AC41+AD41+AF41),2) -> 128 | AC41: =ROUND((ES41),2) -> 128 | AD41: =ROUND((((ET41)-(EU41))+AE41),2) -> 0 | AE41: =ROUND((EU41),2) -> 0 | AF41: =ROUND((EV41),2) -> 0 | AG41: =ROUND((AP41),2) -> 0 | AH41: =(EW41) -> 0 | AI41: =(EX41) -> 0 | AJ41: =ROUND((AS41),2) -> 0 | AK41: 128 | AL41: 128 | AM41: 0 | AN41: 0 | AO41: 0 | AP41: 0 | AQ41: 0 | AR41: 0 | AS41: 0 | AT41: 111 | AU41: 64 | AV41: 1 | AW41: 1 | AZ41: 5.99 | BA41: 1 | BB41: 1 | BC41: 5.99 | BH41: 3 | BI41: 1 | BJ41: ФССЦ-2001, 11.3.03.14-0034, приказ Минстроя России №1039/пр от 30.12.2016г. | BM41: 11001 | BN41: 0 | BP41: 0 | BQ41: 2 | BR41: 0 | BS41: 1 | BT41: 1 | BU41: 1 | BV41: 1 | BW41: 1 | BX41: 1 | BZ41: 123 | CA41: 75 | CF41: 0 | CG41: 0 | CM41: 0 | CO41: 0 | CP41: =(P41+Q41+S41) -> 76.67 | CQ41: =AC41*BC41 -> 766.72 | CR41: =AD41*BB41 -> 0 | CS41: =AE41*BS41 -> 0 | CT41: =AF41*BA41 -> 0 | CU41: =AG41 -> 0 | CV41: =AH41 -> 0 | CW41: =AI41 -> 0 | CX41: =AJ41 -> 0 | CY41: =(((S41+R41)*AT41)/100) -> 0 | CZ41: =(((S41+R41)*AU41)/100) -> 0 | DN41: 0 | DO41: 0 | DP41: 1 | DQ41: 1 | DU41: 1010 | DV41: 100 шт. | DW41: 100 шт. | DX41: 100 | EE41: 39174504 | EF41: 2 | EG41: Общестроительные работы | EH41: 0 | EJ41: 1 | EK41: 11001 | EL41: Полы | EM41: ФЕР-11 | EQ41: 0 | ER41: 128 | ES41: 128 | ET41: 0 | EU41: 0 | EV41: 0 | EW41: 0 | EX41: 0 | FQ41: 0 | FR41: =ROUND(IF(AND(BH41=3,BI41=3),P41,0),2) -> 0 | FS41: 0 | FT41: *0,9 | FU41: *0,85 | FX41: 110.7 | FY41: 63.75 | GD41: 0 | GF41: 952646044 | GG41: 1 | GH41: 1 | GI41: 4 | GJ41: 0 | GK41: =ROUND(R41*(R12)/100,2) -> 0 | GL41: =ROUND(IF(AND(BH41=3,BI41=3,FS41<>0),P41,0),2) -> 0 | GM41: =ROUND(O41+X41+Y41+GK41,2)+GX41 -> 76.67 | GN41: =IF(OR(BI41=0,BI41=1),ROUND(O41+X41+Y41+GK41,2),0) -> 76.67 | GO41: =IF(BI41=2,ROUND(O41+X41+Y41+GK41,2),0) -> 0 | GP41: =IF(BI41=4,ROUND(O41+X41+Y41+GK41,2)+GX41,0) -> 0 | GR41: 0 | GS41: 3 | GT41: 0 | GV41: =ROUND(GT41,2) -> 0 | GW41: 1 | GX41: =ROUND(GV41*GW41*I41,2) -> 0 | HA41: 0 | HB41: 0 | IK41: 0
