Workbook
Name Constr: '24821'!$A$1
Name FOT: '24821'!$D$17
Name Ind: '24821'!#REF!
Name Obj: '24821'!$D$9
Name Obosn: '24821'!$D$12
Name SmPr: '24821'!$D$13
Name аааааппппппрррппппппп: #REF!
Name аааааппппппрррппппппп: #REF!
Name аараооооооооооооо: #REF!
Name аараооооооооооооо: #REF!
Name автом: #REF!
Name автом: #REF!
Name алшрльоплварл: #REF!
Name алшрльоплварл: #REF!
Name аолвлддддддддддддддддввввввввв: #REF!
Name аолвлддддддддддддддддввввввввв: #REF!
Name апарв: #REF!
Name апарв: #REF!
Name апрлдджаоырыфрпопрлпрлпрлп: #REF!
Name апрлдджаоырыфрпопрлпрлпрлп: #REF!
Name арлггаджаш: #REF!
Name арлггаджаш: #REF!
Name ароррбллтблпроорапииас: #REF!
Name ароррбллтблпроорапииас: #REF!
Name арррррблллпдрлдддддддддд: #REF!
Name арррррблллпдрлдддддддддд: #REF!
Name варпаааааааааа: #REF!
Name варпаааааааааа: #REF!
Name ввпьььььлднд: #REF!
Name ввпьььььлднд: #REF!
Name вед: #REF!
Name вед: #REF!
Name вертикальная: #REF!
Name вертикальная: #REF!
Name вертикплан: #REF!
Name вертикплан: #REF!
Name волен: #REF!
Name волен: #REF!
Name вп: #REF!
Name вп: #REF!
Name впырпфдыпл: #REF!
Name впырпфдыпл: #REF!
Name впьглорьтитттттттттт: #REF!
Name впьглорьтитттттттттт: #REF!
Name всввввввввввввввввввввввввв: #REF!
Name всввввввввввввввввввввввввв: #REF!
Name выб: #REF!
Name выб: #REF!
Name выпуск: #REF!
Name выпуск: #REF!
Name выьлепвввввпмп: #REF!
Name выьлепвввввпмп: #REF!
Name еваопродолжэрщэрзшщщх: #REF!
Name еваопродолжэрщэрзшщщх: #REF!
Name измен: #REF!
Name измен: #REF!
Name итого: #REF!
Name итого: #REF!
Name итого: #REF!
Name итого_сантех: #REF!

Sheet 24821
A1: СОГЛАСОВАНО: | E1: ФГУП "Комбинат "Электрохимприбор" | M1: УТВЕРЖДАЮ:
G2: (наименование стройки) | M2: Зам. генерального директора
M3: Е.В.Гордеев
A4: _________________ | M4: _________________
A5: " _____ " ________________ 2013 г. | M5: "______ " __________2013 г.
G6: ЛОКАЛЬНЫЙ СМЕТНЫЙ РАСЧЕТ № 24821
G7: (локальная смета)
C9: на | D9: наружное освещение. Площадка XIV.
G10: (наименование работ и затрат, наименование объекта)
D12: Основание: проект № 24478-12-ЭН
D13: Сметная стоимость _______________________________________________________________________________________________ | J13: ___________________________314,463 | L13: тыс. руб.
D14: строительных работ _______________________________________________________________________________________________ | J14: _______________________________________________________________________________________________78,679 | L14: тыс. руб.
D15: монтажных работ _______________________________________________________________________________________________ | J15: _______________________________________________________________________________________________229,614 | L15: тыс. руб.
D16: оборудования _______________________________________________________________________________________________ | J16: _______________________________________________________________________________________________6,170 | L16: тыс. руб.
D17: Средства на оплату труда _______________________________________________________________________________________________ | J17: ___________________________28,107 | L17: тыс. руб.
D18: Сметная трудоемкость _______________________________________________________________________________________________ | J18: _______________________________________________________________________________________________1676,93 | L18: чел.час
D19: Материалы ______________________________________ | K19: =K136/1000 -> 194.496 | L19: тыс.руб.
D20: Составлен(а) в базовых ценах 2001г. в редакции 2009г.
A22: № пп | B22: Обоснова-ние | C22: Наименование | D22: Ед. изм. | E22: Кол. | F22: Стоимость единицы, руб. | J22: Общая стоимость, руб. | O22: Т/з осн. раб.на ед. | P22: Т/з осн. раб. Всего | Q22: Общая масса обору-дования, т
F23: Всего | G23: В том числе | J23: Обору-дование | K23: Всего | L23: В том числе
G24: Осн.З/п | H24: Эк.Маш | I24: З/пМех | L24: Осн.З/п | M24: Эк.Маш | N24: З/пМех
A25: 1 | B25: 2 | C25: 3 | D25: 4 | E25: 5 | F25: 6 | G25: 7 | H25: 8 | I25: 9 | J25: 10 | K25: 11 | L25: 12 | M25: 13 | N25: 14 | O25: 15 | P25: 16 | Q25: 17
A26: Раздел 1. Наружное освещение
A27: 1 | B27: ТЕРм08-02-369-03 | C27: Демонтаж: светильник, устанавливаемый вне зданий КОЭФ. К ПОЗИЦИИ: Демонтаж оборудования, которое не подлежит дальнейшему использованию (предназначено в лом) без разборки и резки ОЗП=0,3; ЭМ=0,3 к расх.; ЗПМ=0,3; МАТ=0 к расх.; ТЗ=0,3; ТЗМ=0,3 | D27: 1 шт. | E27: 1 | F27: 26.7 | G27: 8.12 | H27: 18.58 | I27: 2.08 | K27: 27 | L27: 8 | M27: 19 | N27: 2 | O27: 0.55 | P27: 0.55
A28: 2 | B28: ТЕР33-04-003-01 | C28: Установка железобетонных опор одностоечных | D28: 1 опора | E28: 18 | F28: 194.49 | G28: 47.42 | H28: 131.69 | I28: 15.14 | K28: 3501 | L28: 854 | M28: 2370 | N28: 273 | O28: 3.8 | P28: 68.4
A29: 3 | B29: ТЕР06-01-001-13 прим. | C29: Обетонивание опор | D29: 100 м3 | E29: 0.054 | F29: 60193.42 | G29: 7185.1 | H29: 2167.03 | I29: 354.86 | K29: 3250 | L29: 388 | M29: 117 | N29: 19 | O29: 598.26 | P29: 32.31
A30: 4 | B30: ТСЦ-403-1173 | C30: Стойка железобетонная СЦс-0,8-10 /бетон В22,5 (М300), объем 0,271 м3, расход ар-ры 49,33 кг/ (серия 3.320-1) | D30: шт. | E30: 18 | F30: 1024.18 | K30: 18435
A31: 5 | B31: ТЕРм08-02-363-01 | C31: Кронштейны специальные на опорах для светильников сварные металлические, количество рожков 1 | D31: 1 шт. | E31: 8 | F31: 283.71 | G31: 46.92 | H31: 213.1 | I31: 24.57 | K31: 2270 | L31: 375 | M31: 1705 | N31: 197 | O31: 3.41 | P31: 27.28
A32: 6 | B32: ТЕРм08-02-363-02 | C32: Кронштейны специальные на опорах для светильников сварные металлические, количество рожков 2 | D32: 1 шт. | E32: 10 | F32: 344.42 | G32: 62.61 | H32: 251.86 | I32: 28.94 | K32: 3444 | L32: 626 | M32: 2519 | N32: 289 | O32: 4.55 | P32: 45.5
A33: 7 | B33: Цена поставщика | C33: Кронштейн для светильника К1К 2,5-2,5 (Ц:3100руб:1,18:5,56) | D33: шт | E33: 8 | F33: 472.5 | K33: 3780
A34: 8 | B34: Цена поставщика | C34: Кронштейн для светильника К2К 2,5-2,5-180 (Ц:4900руб:1,18:5,56) | D34: шт | E34: 4 | F34: 746.86 | K34: 2987
A35: 9 | B35: Цена поставщика | C35: Кронштейн для светильника К2К 2,5-2,5-90 (Ц:4350руб:1,18:5,56) | D35: шт | E35: 6 | F35: 663.03 | K35: 3978
A36: 10 | B36: ТЕРм08-02-364-02 | C36: Кронштейн «Переход» на стене | D36: 1 шт. | E36: 12 | F36: 29.48 | G36: 14.67 | H36: 11.69 | I36: 0.73 | K36: 354 | L36: 176 | M36: 140 | N36: 9 | O36: 1.05 | P36: 12.6
A37: 11 | B37: Цена поставщика | C37: Кронштейн настенный (Ц:144руб:1,18:5,56) | D37: шт | E37: 12 | F37: 21.95 | K37: 263
A38: 12 | B38: ТЕРм08-02-369-03 | C38: Светильник, устанавливаемый вне зданий с лампами ртутными | D38: 1 шт. | E38: 40 | F38: 140.13 | G38: 27.07 | H38: 61.94 | I38: 6.92 | K38: 5605 | L38: 1083 | M38: 2478 | N38: 277 | O38: 1.83 | P38: 73.2
A39: 13 | B39: ТСЦ-509-1345 прим. | C39: Светильник ЖКУ 11-250, с выпуклым стеклом | D39: шт | E39: 40 | F39: 856.94 | K39: 34278
A40: 14 | B40: ТСЦ-509-0678 | C40: Лампы газоразрядные высокого давления типа ДНаТ 250-5 | D40: 10 шт. | E40: 4 | F40: 952 | K40: 3808
A41: 15 | B41: ТЕРм08-03-545-01 | C41: Коробка (ящик) с зажимами для кабелей и проводов сечением до 6 мм2, устанавливаемая на конструкции на стене или колонне, количество зажимов до 10 | D41: 1 шт. | E41: 19 | F41: 160.78 | G41: 43.86 | H41: 2.36 | K41: 3055 | L41: 833 | M41: 45 | O41: 3.31 | P41: 62.89
A42: 16 | B42: Цена поставщика | C42: Соединительная коробка EKM 2035-2D (Ц:1500руб:1,18:5,56) | D42: шт | E42: 19 | F42: 228.63 | K42: 4344
A43: 17 | B43: ТЕРм08-03-572-07 | C43: Блок управления шкафного исполнения или распределительный пункт (шкаф), устанавливаемый на полу, высота и ширина до 1700х1100 мм | D43: 1 шт. | E43: 1 | F43: 685.88 | G43: 65.1 | H43: 129.15 | I43: 7.46 | K43: 686 | L43: 65 | M43: 129 | N43: 7 | O43: 4.66 | P43: 4.66
...

Sheet НМЦ
A1: г. Лесной ФГУП "Комбинат "Электрохимприбор"
A3: Расчет начальной (максимальной) цены
A5: Выполнение строительно-монтажных работ по наружному освещению площадки XIV
A8: Составлен в ценах по состоянию на 01.01.2000 г. с переводом в текущие | D8: руб.
A9: Наименование глав ССР, объектных сметных расчетов, локальных сметных расчетов, видов работ | B9: Сметная стоимость в базисных ценах на 01.01.2000 | C9: Текущая стоимость на момент определения начальной (максимальной) цены | D9: № обосновывающего расчета
A13: 1 | B13: 2 | C13: 3 | D13: 4
A14: Наружное освещение. Площадка XIV. | B14: ='Сводка затрат'!H14 -> 314463 | C14: =ROUND('Сводка затрат'!D14*5.56,0)+ROUND('Сводка затрат'!E14*5.56,0)+ROUND('Сводка затрат'!F14*4.19,0)+ROUND('Сводка затрат'!G14*9.32,0) -> 1739961 | D14: 24821
A15: Итого | B15: =SUM(B14:B14) -> 314463 | C15: =SUM(C14:C14) -> 1739961
A17: НДС 18% | C17: =ROUND(C15*18%,2) -> 313192.98
A19: Всего | C19: =SUM(C15:C18) -> 2053154
A22: Начальник отдела
A23: капитального строительства | C23: В.В. Моляков
A25: Инженер по проектно-сметной работе | C25: Т.Ш. Ковязина
A28: Согласовано | C28: отдел 028

Sheet Сводка затрат
A1: Приложение №__ к договору от "__"______2013 №_______
A3: г. Лесной. ФГУП "Комбинат "Электрохимприбор"
A5: Сводка затрат
A7: Выполнение строительно-монтажных работ по наружному освещению площадки XIV
A10: Составлен в ценах по состоянию на 01.01.2000 г.
A11: № п/п | B11: Номера сметных расчетов и смет | C11: Наименование работ и затрат | D11: Сметная стоимость | H11: Общая сметная стоимость, руб.
D12: строительных работ | E12: монтажных работ | F12: оборудования, мебели, инвентаря | G12: прочих затрат
A13: 1 | B13: 2 | C13: 3 | D13: 4 | E13: 5 | F13: 6 | G13: 7 | H13: 8
A14: 1 | B14: 24821 | C14: Наружное освещение. Площадка XIV. | D14: ='24821'!K131 -> 78679 | E14: ='24821'!K132 -> 229614 | F14: ='24821'!K133 -> 6170 | G14: 0 | H14: =SUM(D14:G14) -> 314463
C15: Итого в базисных ценах 2000 г. | D15: =SUM(D14:D14) -> 78679 | E15: =SUM(E14:E14) -> 229614 | F15: =SUM(F14:F14) -> 6170 | G15: =SUM(G14:G14) -> 0 | H15: =SUM(D15:G15) -> 314463
C16: Всего в ценах 2013 (Ксмр=5,56, Коб.=4,19, Кпнр=9,32) | D16: =ROUND(D15*5.56,0) -> 437455 | E16: =ROUND(E15*5.56,0) -> 1276654 | F16: =ROUND(F15*4.19,0) -> 25852 | G16: =ROUND(G15*9.32,0) -> 0 | H16: =SUM(D16:G16) -> 1739961
C17: НДС 18% | D17: =ROUND(D16*18%,2) -> 78741.9 | E17: =ROUND(E16*18%,2) -> 229797.72 | F17: =ROUND(F16*18%,2) -> 4653.36 | G17: =ROUND(G16*18%,2) -> 0 | H17: =SUM(D17:G17) -> 313192.98
C18: Всего в ценах 2013 с НДС | D18: =SUM(D16:D17) -> 516196.9 | E18: =SUM(E16:E17) -> 1506451.7 | F18: =SUM(F16:F17) -> 30505.36 | G18: =SUM(G16:G17) -> 0 | H18: =SUM(D18:G18) -> 2053154
C22: ЗАКАЗЧИК: | H22: ПОДРЯДЧИК:
C23: Генеральный директор
C24: ФГУП "Комбинат "Электрохимприбор"
C26: __________________ А.В. Новиков
