Workbook

Sheet Смета 12 гр. по ФЕР
A1: =Source!B1 -> Smeta.RU (495) 974-1589 | I1: Приложение 1 к форме 7
B5: СМЕТА
B6: =IF(Source!G20<>"Новая локальная смета", Source!G20, "")
B8: на ремонт систем отопления и холодного водоснабжения с заменой задвижек в колодцах и тепловых узлах главного корпуса, лабораторных корпусах "А", "Б", "Д", "Э","В" НИЯУ МИФИ по адресу: г. Москва, Каширское шоссе, д.31 | AD8: =IF(Source!G12<>"Новый объект", Source!G12, "") -> на капитальный ремонт внутренней системы отопления и холодного водоснабжения в корпусах В,А,Б,Д,Э и Главном корпусе, наружной системы отопления и холодного водоснабжения с заменой задвижек в колодцах и тепловых пунктах НИЯУ МИФИ по адресу: г.Москва,Каширское шоссе,д.31
G11: базовая цена | I11: текущая цена
C12: Сметная стоимость | G12: =SUM(O23:O186)/1000 -> 278.10597 | I12: =(Source!F85/1000) -> 2126.6891 | K12: тыс. руб.
C13: Строительные работы | G13: =SUM(W23:W186)/1000 -> 278.10597 | I13: =(Source!F72)/1000 -> 1802.2789 | K13: тыс. руб.
C14: Монтажные работы | G14: =SUM(X23:X186)/1000 -> 0 | I14: =(Source!F73)/1000 -> 0 | K14: тыс. руб.
C15: Оборудование | G15: =SUM(Y23:Y186)/1000 -> 0 | I15: =(Source!F64)/1000 -> 0 | K15: тыс. руб.
C16: Прочие работы | G16: =SUM(Z23:Z186)/1000 -> 0 | I16: =(Source!F74+Source!F75)/1000 -> 0 | K16: тыс. руб.
C17: Нормативная трудоемкость | G17: =I17 -> 1297.2552 | I17: =(Source!F77+Source!F78) -> 1297.2552 | K17: чел. -ч.
C18: Средства на оплату труда | G18: =SUM(R23:R186)/1000 -> 11.87281 | I18: =(Source!F70+ Source!F69)/1000 -> 76.93584 | K18: тыс. руб.
A20: Составлена в ценах IV квартал 2017 года
A21: № п/п | B21: Шифр расценки и коды ресурсов | C21: Наименование работ и затрат | D21: Ед. изм. | E21: Кол-во единиц | F21: Цена на ед. изм. | G21: Попра-вочные коэфф. | H21: Стоимость в ценах 2001г. | I21: Пункт коэфф. пересчета | J21: Коэфф. пересчета | K21: Стоимость в текущих ценах | L21: ЗТР всего чел.-час
A22: 1 | B22: 2 | C22: 3 | D22: 4 | E22: 5 | F22: 6 | G22: 7 | H22: 8 | I22: 9 | J22: 10 | K22: 11 | L22: 12
A23: =Source!E24 -> 1 | B23: =Source!F24 -> 65-23-2 | C23: =Source!G24 -> Слив и наполнение водой системы отопления с осмотром системы | D23: =Source!H24 -> 1000 м3 | E23: =Source!I24 -> 0.105 | F23: =Source!AL24+Source!AM24+Source!AO24 -> 10.83 | I23: =Source!BO24 | S23: =ROUND((Source!FX24/100)*((ROUND(Source!AF24*Source!I24, 2)+ROUND(Source!AE24*Source!I24, 2))), 2) -> 0.84 | T23: =Source!X24 -> 5.45 | U23: =ROUND((Source!FY24/100)*((ROUND(Source!AF24*Source!I24, 2)+ROUND(Source!AE24*Source!I24, 2))), 2) -> 0.57 | V23: =Source!Y24 -> 3.69
C24: Зарплата | F24: =Source!AO24 -> 10.83 | G24: =Source!DG24 | H24: =ROUND(Source!AF24*Source!I24, 2) -> 1.14 | J24: =IF(Source!BA24<> 0, Source!BA24, 1) -> 6.48 | K24: =Source!S24 -> 7.37 | R24: =H24 -> 1.14
C25: НР от ФОТ | D25: % | E25: =Source!BZ24 -> 74 | H25: =SUM(S23:S27) -> 0.84 | J25: =Source!AT24 -> 74 | K25: =SUM(T23:T27) -> 5.45
C26: СП от ФОТ | D26: % | E26: =Source!CA24 -> 50 | H26: =SUM(U23:U27) -> 0.57 | J26: =Source!AU24 -> 50 | K26: =SUM(V23:V27) -> 3.69
C27: Затраты труда | D27: чел-ч | E27: =Source!AQ24 -> 1.27 | G27: =Source!DI24 | L27: =Source!U24 -> 0.13335
G28: =H24+H25+H26 -> 2.55 | J28: =K24+K25+K26 -> 16.51 | L28: =Source!U24 -> 0.13335 | O28: =G28 -> 2.55 | P28: =J28 -> 16.51 | Q28: =L28 -> 0.13335 | W28: =IF(Source!BI24<=1,H24+H25+H26, 0) -> 2.55 | X28: =IF(Source!BI24=2,H24+H25+H26, 0) -> 0 | Y28: =IF(Source!BI24=3,H24+H25+H26, 0) -> 0 | Z28: =IF(Source!BI24=4,H24+H25+H26, 0) -> 0
A29: =Source!E25 -> 2 | B29: =Source!F25 -> 66-8-1 | C29: =Source!G25 -> Демонтаж чугунных люков | D29: =Source!H25 -> ШТ | E29: =Source!I25 -> 13 | F29: =Source!AL25+Source!AM25+Source!AO25 -> 17.86 | I29: =Source!BO25 | S29: =ROUND((Source!FX25/100)*((ROUND(Source!AF25*Source!I25, 2)+ROUND(Source!AE25*Source!I25, 2))), 2) -> 171.81 | T29: =Source!X25 -> 1113.35 | U29: =ROUND((Source!FY25/100)*((ROUND(Source!AF25*Source!I25, 2)+ROUND(Source!AE25*Source!I25, 2))), 2) -> 116.09 | V29: =Source!Y25 -> 752.27
C30: Зарплата | F30: =Source!AO25 -> 17.86 | G30: =Source!DG25 | H30: =ROUND(Source!AF25*Source!I25, 2) -> 232.18 | J30: =IF(Source!BA25<> 0, Source!BA25, 1) -> 6.48 | K30: =Source!S25 -> 1504.53 | R30: =H30 -> 232.18
C31: НР от ФОТ | D31: % | E31: =Source!BZ25 -> 74 | H31: =SUM(S29:S33) -> 171.81 | J31: =Source!AT25 -> 74 | K31: =SUM(T29:T33) -> 1113.35
C32: СП от ФОТ | D32: % | E32: =Source!CA25 -> 50 | H32: =SUM(U29:U33) -> 116.09 | J32: =Source!AU25 -> 50 | K32: =SUM(V29:V33) -> 752.27
C33: Затраты труда | D33: чел-ч | E33: =Source!AQ25 -> 2.27 | G33: =Source!DI25 | L33: =Source!U25 -> 29.51
G34: =H30+H31+H32 -> 520.08 | J34: =K30+K31+K32 -> 3370.15 | L34: =Source!U25 -> 29.51 | O34: =G34 -> 520.08 | P34: =J34 -> 3370.15 | Q34: =L34 -> 29.51 | W34: =IF(Source!BI25<=1,H30+H31+H32, 0) -> 520.08 | X34: =IF(Source!BI25=2,H30+H31+H32, 0) -> 0 | Y34: =IF(Source!BI25=3,H30+H31+H32, 0) -> 0 | Z34: =IF(Source!BI25=4,H30+H31+H32, 0) -> 0
A35: =Source!E26 -> 3 | B35: =Source!F26 -> 23-04-011-01 | C35: =Source!G26 -> Установка люка (без стоимости материала) | D35: =Source!H26 -> ШТ | E35: =Source!I26 -> 13 | F35: =Source!AL26+Source!AM26+Source!AO26 -> 16.45 | I35: =Source!BO26 | S35: =ROUND((Source!FX26/100)*((ROUND(Source!AF26*Source!I26, 2)+ROUND(Source!AE26*Source!I26, 2))), 2) -> 213.4 | T35: =Source!X26 -> 1382.8 | U35: =ROUND((Source!FY26/100)*((ROUND(Source!AF26*Source!I26, 2)+ROUND(Source!AE26*Source!I26, 2))), 2) -> 137.98 | V35: =Source!Y26 -> 898.23
C36: Зарплата | F36: =Source!AO26 -> 11.32 | G36: =Source!DG26 -> )*1,15 | H36: =ROUND(Source!AF26*Source!I26, 2) -> 169.26 | J36: =IF(Source!BA26<> 0, Source!BA26, 1) -> 6.48 | K36: =Source!S26 -> 1096.8 | R36: =H36 -> 169.26
C37: Эксплуатация машин | F37: =Source!AM26 -> 4.6 | G37: =Source!DE26 -> )*1,25 | H37: =ROUND(Source!AD26*Source!I26, 2) -> 74.75 | J37: =IF(Source!BB26<> 0, Source!BB26, 1) -> 6.48 | K37: =Source!Q26 -> 484.38
C38: в т.ч. зарплата машинистов | F38: =Source!AN26 -> 0.81 | G38: =Source!DF26 -> )*1,25 | H38: =ROUND(Source!AE26*Source!I26, 2) -> 13.13 | J38: =IF(Source!BS26<> 0, Source!BS26, 1) -> 6.48 | K38: =Source!R26 -> 85.08 | R38: =H38 -> 13.13
C39: Материальные ресурсы | F39: =Source!AL26 -> 0.53 | G39: =Source!DD26 | H39: =ROUND(Source!AC26*Source!I26, 2) -> 6.89 | J39: =IF(Source!BC26<> 0, Source!BC26, 1) -> 6.48 | K39: =Source!P26 -> 44.65
C40: НР от ФОТ | D40: % | E40: =Source!BZ26 -> 130 | F40: =CONCATENATE(" )", Source!DL26, Source!FT26, "=", Source!FX26) -> )*0,9=117 | H40: =SUM(S35:S42) -> 213.4 | J40: =Source!AT26 -> 117 | K40: =SUM(T35:T42) -> 1382.8
C41: СП от ФОТ | D41: % | E41: =Source!CA26 -> 89 | F41: =CONCATENATE(" )", Source!DM26, Source!FU26, "=", Source!FY26) -> )*0,85=75,65 | H41: =SUM(U35:U42) -> 137.98 | J41: =Source!AU26 -> 76 | K41: =SUM(V35:V42) -> 898.23
C42: Затраты труда | D42: чел-ч | E42: =Source!AQ26 -> 1.31 | G42: =Source!DI26 -> )*1,15 | L42: =Source!U26 -> 19.5845
G43: =H36+H37+H39+H40+H41 -> 602.28 | J43: =K36+K37+K39+K40+K41 -> 3906.86 | L43: =Source!U26 -> 19.5845 | O43: =G43 -> 602.28 | P43: =J43 -> 3906.86 | Q43: =L43 -> 19.5845 | W43: =IF(Source!BI26<=1,H36+H37+H39+H40+H41, 0) -> 602.28 | X43: =IF(Source!BI26=2,H36+H37+H39+H40+H41, 0) -> 0 | Y43: =IF(Source!BI26=3,H36+H37+H39+H40+H41, 0) -> 0 | Z43: =IF(Source!BI26=4,H36+H37+H39+H40+H41, 0) -> 0
A44: =Source!E27 -> 4 | B44: =Source!F27 -> 65-5-8 | C44: =Source!G27 -> Смена задвижек диаметром 50 мм | D44: =Source!H27 -> 100 ШТ | E44: =Source!I27 -> 0.04 | F44: =Source!AL27+Source!AM27+Source!AO27 -> 5080.3 | I44: =Source!BO27 | S44: =ROUND((Source!FX27/100)*((ROUND(Source!AF27*Source!I27, 2)+ROUND(Source!AE27*Source!I27, 2))), 2) -> 115.85 | T44: =Source!X27 -> 750.77 | U44: =ROUND((Source!FY27/100)*((ROUND(Source!AF27*Source!I27, 2)+ROUND(Source!AE27*Source!I27, 2))), 2) -> 67.49 | V44: =Source!Y27 -> 437.34
C45: Зарплата | F45: =Source!AO27 -> 2793.56 | G45: =Source!DG27 | H45: =ROUND(Source!AF27*Source!I27, 2) -> 111.74 | J45: =IF(Source!BA27<> 0, Source!BA27, 1) -> 6.48 | K45: =Source!S27 -> 724.09 | R45: =H45 -> 111.74
C46: Эксплуатация машин | F46: =Source!AM27 -> 105.14 | G46: =Source!DE27 | H46: =ROUND(Source!AD27*Source!I27, 2) -> 4.21 | J46: =IF(Source!BB27<> 0, Source!BB27, 1) -> 6.48 | K46: =Source!Q27 -> 27.25
C47: в т.ч. зарплата машинистов | F47: =Source!AN27 -> 18.56 | G47: =Source!DF27 | H47: =ROUND(Source!AE27*Source!I27, 2) -> 0.74 | J47: =IF(Source!BS27<> 0, Source!BS27, 1) -> 6.48 | K47: =Source!R27 -> 4.81 | R47: =H47 -> 0.74
...

Sheet Акт КС-2 c НР и СП
A1: =Source!B1 -> Smeta.RU (495) 974-1589
E2: Унифицированная форма № КС-2
E3: Утверждена постановлением Госкомстата России
E4: от 11.11.99. № 100
G6: Код
F7: Форма по ОКУД | G7: 0322005
G8: =IF(Source!AT15 <> "", Source!AT15, "")
A9: Инвестор | C9: =IF(Source!BA15 <> "", Source!BA15, IF(Source!AU15 <> "", Source!AU15, "")) | F9: по ОКПО
C10: организация, адрес, телефон, факс | G10: =IF(Source!AK15 <> "", Source!AK15, "")
A11: Заказчик | C11: =IF(Source!AX12<> "", Source!AX12, IF(Source!AJ12 <> "", Source!AJ12, "")) | F11: по ОКПО
C12: организация, адрес, телефон, факс | G12: =IF(Source!AO15 <> "", Source!AO15, "")
A13: Подрядчик | C13: =IF(Source!AY12<> "", Source!AY12, IF(Source!AN12 <> "", Source!AN12, "")) | F13: по ОКПО
C14: организация, адрес, телефон, факс | G14: =IF(Source!CO15 <> "", Source!CO15, "")
A15: Стройка | C15: на капитальный ремонт внутренней системы отопления и холодного водоснабжения в корпусах В,А,Б,Д,Э и Главном корпусе, наружной системы отопления и холодного водоснабжения с заменой pfgjhyjq fhvfnehs НИЯУ МИФИ по адресу: г.Москва,Каширское шоссе,д.31 | AE15: на капитальный ремонт внутренней системы отопления и холодного водоснабжения в корпусах В,А,Б,Д,Э и Главном корпусе, наружной системы отопления и холодного водоснабжения с заменой pfgjhyjq fhvfnehs НИЯУ МИФИ по адресу: г.Москва,Каширское шоссе,д.31
C16: наименование, адрес | G16: =IF(Source!CP15 <> "", Source!CP15, "")
A17: Объект | C17: =IF(Source!G12<>"Новый объект", Source!G12, "") -> на капитальный ремонт внутренней системы отопления и холодного водоснабжения в корпусах В,А,Б,Д,Э и Главном корпусе, наружной системы отопления и холодного водоснабжения с заменой задвижек в колодцах и тепловых пунктах НИЯУ МИФИ по адресу: г.Москва,Каширское шоссе,д.31 | AE17: =IF(Source!G12<>"Новый объект", Source!G12, "") -> на капитальный ремонт внутренней системы отопления и холодного водоснабжения в корпусах В,А,Б,Д,Э и Главном корпусе, наружной системы отопления и холодного водоснабжения с заменой задвижек в колодцах и тепловых пунктах НИЯУ МИФИ по адресу: г.Москва,Каширское шоссе,д.31
C18: наименование
D19: Вид деятельности по ОКДП | G19: =IF(Source!CQ15 <> "", Source!CQ15, "")
D20: Договор подряда | F20: номер | G20: =IF(Source!CR15 <> "", Source!CR15, "")
F21: дата | G21: =IF(Source!CS15 <> 0, Source!CS15, "")
F22: Вид операции | G22: =IF(Source!CT15 <> "", Source!CT15, "")
D24: Номер документа | E24: Дата составления | F24: Отчетный период
F25: с | G25: по
D26: =IF(Source!CN15 <> "", Source!CN15, "") | E26: 43164.703
A28: AKT
A29: О ПРИЕМКЕ ВЫПОЛНЕННЫХ РАБОТ
A31: Сметная (договорная) стоимость в соответствии с договором подряда (субподряда) | F31: =(Source!F85/1000) -> 2126.6891 | H31: тыс.руб
A33: Номер | C33: Наименование работ | D33: Номер единичной расценки | E33: Единица измерения | F33: Выполнено работ
A34: по порядку | B34: поз. по смете | F34: Количество | G34: цена за единицу, руб | H34: стоимость, руб
A35: 1 | B35: 2 | C35: 3 | D35: 4 | E35: 5 | F35: 6 | G35: 7 | H35: 8
A36: 1 | B36: =Source!E24 -> 1 | C36: =Source!G24 -> Слив и наполнение водой системы отопления с осмотром системы | D36: =Source!F24 -> 65-23-2 | E36: =Source!H24 -> 1000 м3 | F36: =Source!I24 -> 0.105 | G36: =Source!AB24 -> 10.83 | H36: =Source!O24 -> 7.37 | T36: =Source!O24+Source!X24+Source!Y24 -> 16.51 | U36: =Source!P24 -> 0 | V36: =Source!S24 -> 7.37 | W36: =Source!Q24 -> 0 | X36: =Source!R24 -> 0 | Y36: =Source!U24 -> 0.13335 | Z36: =Source!V24 -> 0 | AA36: =Source!X24 -> 5.45 | AB36: =Source!Y24 -> 3.69
C37: Коэфф. к ОЗП | D37: =Source!BA24 -> 6.48
C38: Коэфф. к эксплуатации машин | D38: =Source!BB24 -> 6.48
C39: Коэфф. к материалам | D39: =Source!BC24 -> 6.48
C40: Коэфф. к ЗПМ | D40: =Source!BS24 -> 6.48
C41: % НР | F41: =Source!BZ24 -> 74 | G41: =(Source!AF24+Source!AE24)*Source!FX24/100 -> 8.0142 | H41: =Source!X24 -> 5.45
C42: % СП | F42: =Source!CA24 -> 50 | G42: =(Source!AF24+Source!AE24)*Source!FY24/100 -> 5.415 | H42: =Source!Y24 -> 3.69
C43: Итого с НР и СП | G43: =((Source!AF24+Source!AE24)*Source!FX24/100)+((Source!AF24+Source!AE24)*Source!FY24/100)+Source!AB24 -> 24.2592 | H43: =Source!O24+Source!X24+Source!Y24 -> 16.51
A44: 2 | B44: =Source!E25 -> 2 | C44: =Source!G25 -> Демонтаж чугунных люков | D44: =Source!F25 -> 66-8-1 | E44: =Source!H25 -> ШТ | F44: =Source!I25 -> 13 | G44: =Source!AB25 -> 17.86 | H44: =Source!O25 -> 1504.53 | T44: =Source!O25+Source!X25+Source!Y25 -> 3370.15 | U44: =Source!P25 -> 0 | V44: =Source!S25 -> 1504.53 | W44: =Source!Q25 -> 0 | X44: =Source!R25 -> 0 | Y44: =Source!U25 -> 29.51 | Z44: =Source!V25 -> 0 | AA44: =Source!X25 -> 1113.35 | AB44: =Source!Y25 -> 752.27
C45: Коэфф. к ОЗП | D45: =Source!BA25 -> 6.48
...

Sheet Макет форма-3
A1: =Source!B1 -> Smeta.RU (495) 974-1589 | H1: Унифицированная форма № КС-3
H2: Утверждена постановлением Госкомстата России
H3: от 11.11.99. № 100
K4: Коды
I5: Форма по ОКУД | K5: 322001
A6: Инвестор | J6: по ОКПО
C7: организация, адрес, телефон, факс
A8: Заказчик (генподрядчик) | J8: по ОКПО
C9: организация, адрес, телефон, факс
A10: Подрядчик (субподрядчик) | J10: по ОКПО
C11: организация, адрес, телефон, факс
A12: Стройка | J12: по ОКПО
C13: наименование, адрес | H13: Вид деятельности по ОКДП
E14: Договор подряда (контракт) | I14: номер
I15: дата
I16: Вид операции
C19: Номер документа | E19: Дата составления | I19: Отчетный период
I20: с | K20: по
A24: СПРАВКА
A25: СТОИМОСТИ ВЫПОЛНЕННЫХ РАБОТ И ЗАТРАТ
A28: № п/п | B28: Наименование пусковых комплексов, объектов, видов работ, оборудования, затрат | F28: Код | G28: Стоимость выполненных работ и затрат
G29: с начала проведения работ | I29: с начала года по отчетный период включительно | K29: в том числе за отчетный месяц
A33: 1 | B33: 2 | F33: 3 | G33: 4 | I33: 5 | K33: 6
B34: Всего работ и затрат, включаемых в стоимость
B35: В том числе:
A36: Итого
A37: Сумма НДС
A38: Всего с учетом НДС
A42: Заказчик (генподрядчик)
C43: должность | G43: подпись | J43: расшифровка подпись
A45: МП
A49: Подрядчик (субподрядчик)
C50: должность | G50: подпись | J50: расшифровка подпись
A52: МП

Sheet Source
A1: 0 | B1: Smeta.RU (495) 974-1589 | D1: _PS_ | F1: 0 | G1: 0 | H1: 0 | I1: Smeta.RU | K1: 0 | L1: 13277 | M1: 10
A12: 1 | B12: 145 | C12: 0 | D12: =ROW(A87) -> 87 | E12: 0 | F12: Новый объект | G12: на капитальный ремонт внутренней системы отопления и холодного водоснабжения в корпусах В,А,Б,Д,Э и Главном корпусе, наружной системы отопления и холодного водоснабжения с заменой задвижек в колодцах и тепловых пунктах НИЯУ МИФИ по адресу: г.Москва,Каширское шоссе,д.31 | I12: 0 | K12: 0 | O12: 0 | P12: 0 | Q12: 0 | R12: 0 | V12: 0 | BH12: Сметные нормы списания | BI12: Коды ценников | BJ12: 1 | BK12: 1 | BL12: 0 | BM12: 0 | BN12: 1 | BO12: 0 | BP12: 2 | BQ12: 2 | BR12: 1 | BS12: 1 | BT12: 0 | BU12: 0 | BV12: 0 | BW12: 0 | BX12: 0 | BY12: ФЕР-2017 | BZ12: ТР для Версии 10: Центральные регионы (с учетом п-ма 2536-ИП/12/ГС от 22.03.2017 г | CA12: ФЕР-2017 | CB12: ФЕР-2017 | CC12: ФЕР-2017 | CD12: ФЕР-2017 | CE12: Поправки для ГСН 2017 от 31.03.2017 г | CF12: 0 | CG12: 0 | CH12: 8 | CK12: 4 | EC12: 0
A15: 15 | B15: 1
A18: 52 | B18: =B87 -> 145 | C18: =C87 -> 1 | D18: =D87 -> 12 | E18: =E87 -> 0 | F18: =F87 -> Новый объект | G18: =G87 -> на капитальный ремонт внутренней системы отопления и холодного водоснабжения в корпусах В,А,Б,Д,Э и Главном корпусе, наружной системы отопления и холодного водоснабжения с заменой задвижек в колодцах и тепловых пунктах НИЯУ МИФИ по адресу: г.Москва,Каширское шоссе,д.31 | O18: =O87 -> 1669289.7 | P18: =P87 -> 1562028.7 | Q18: =Q87 -> 33278.79 | R18: =R87 -> 2953.65 | S18: =S87 -> 73982.19 | T18: =T87 -> 0 | U18: =U87 -> 1262.3332 | V18: =V87 -> 34.922 | ... GX18: =GX87 -> 0
A20: 3 | B20: 1 | D20: =ROW(A55) -> 55 | F20: Новая локальная смета | G20: Новая локальная смета | I20: 0 | K20: 0 | V20: 0 | BX20: 0 | CF20: 0 | CG20: 0
A22: 52 | B22: =B55 -> 1 | C22: =C55 -> 3 | D22: =D55 -> 20 | E22: =E55 -> 0 | F22: =F55 -> Новая локальная смета | G22: =G55 -> Новая локальная смета | O22: =O55 -> 1669289.7 | P22: =P55 -> 1562028.7 | Q22: =Q55 -> 33278.79 | R22: =R55 -> 2953.65 | S22: =S55 -> 73982.19 | T22: =T55 -> 0 | U22: =U55 -> 1262.3332 | V22: =V55 -> 34.922 | ... GX22: =GX55 -> 0
A24: 17 | B24: 1 | C24: =ROW(SmtRes!A1) -> 1 | D24: =ROW(EtalonRes!A1) -> 1 | E24: 1 | F24: 65-23-2 | G24: Слив и наполнение водой системы отопления с осмотром системы | H24: 1000 м3 | I24: 0.105 | J24: 0 | O24: =ROUND(CP24,2) -> 7.37 | P24: =ROUND(CQ24*I24,2) -> 0 | Q24: =ROUND(CR24*I24,2) -> 0 | R24: =ROUND(CS24*I24,2) -> 0 | S24: =ROUND(CT24*I24,2) -> 7.37 | T24: =ROUND(CU24*I24,2) -> 0 | U24: =CV24*I24 -> 0.13335 | V24: =CW24*I24 -> 0 | W24: =ROUND(CX24*I24,2) -> 0 | X24: =ROUND(CY24,2) -> 5.45 | Y24: =ROUND(CZ24,2) -> 3.69 | AA24: 39088907 | AB24: =ROUND((AC24+AD24+AF24),2) -> 10.83 | AC24: =ROUND((ES24),2) -> 0 | AD24: =ROUND((((ET24)-(EU24))+AE24),2) -> 0 | AE24: =ROUND((EU24),2) -> 0 | AF24: =ROUND((EV24),2) -> 10.83 | AG24: =ROUND((AP24),2) -> 0 | AH24: =(EW24) -> 1.27 | AI24: =(EX24) -> 0 | AJ24: =ROUND((AS24),2) -> 0 | AK24: 10.83 | AL24: 0 | AM24: 0 | AN24: 0 | AO24: 10.83 | AP24: 0 | AQ24: 1.27 | AR24: 0 | AS24: 0 | AT24: 74 | AU24: 50 | AV24: 1 | AW24: 1 | AZ24: 6.48 | BA24: 6.48 | BB24: 6.48 | BC24: 6.48 | BH24: 0 | BI24: 1 | BJ24: ФЕР-2001, 65-23-2, приказ Минстроя России №1039/пр от 30.12.2016г. | BM24: 65004 | BN24: 0 | BP24: 0 | BQ24: 6 | BR24: 0 | BS24: 6.48 | BT24: 1 | BU24: 1 | BV24: 1 | BW24: 1 | BX24: 1 | BZ24: 74 | CA24: 50 | CF24: 0 | CG24: 0 | CM24: 0 | CO24: 0 | CP24: =(P24+Q24+S24) -> 7.37 | CQ24: =AC24*BC24 -> 0 | CR24: =AD24*BB24 -> 0 | CS24: =AE24*BS24 -> 0 | CT24: =AF24*BA24 -> 70.1784 | CU24: =AG24 -> 0 | CV24: =AH24 -> 1.27 | CW24: =AI24 -> 0 | CX24: =AJ24 -> 0 | CY24: =(((S24+R24)*AT24)/100) -> 5.4538 | CZ24: =(((S24+R24)*AU24)/100) -> 3.685 | DN24: 0 | DO24: 0 | DP24: 1 | DQ24: 1 | DU24: 1007 | DV24: 1000 м3 | DW24: 1000 м3 | DX24: 1000 | EE24: 39174595 | EF24: 6 | EG24: Ремонтно-строительные работы | EH24: 0 | EJ24: 1 | EK24: 65004 | EL24: Внтуренниие с/техработы: демонтаж, разборка, промывка | EM24: рФЕР-65 | EQ24: 0 | ER24: 10.83 | ES24: 0 | ET24: 0 | EU24: 0 | EV24: 10.83 | EW24: 1.27 | EX24: 0 | EY24: 0 | FQ24: 0 | FR24: =ROUND(IF(AND(BH24=3,BI24=3),P24,0),2) -> 0 | FS24: 0 | FX24: 74 | FY24: 50 | GD24: 0 | GF24: 922374533 | GG24: 1 | GH24: 1 | GI24: 4 | GJ24: 0 | GK24: =ROUND(R24*(R12)/100,2) -> 0 | GL24: =ROUND(IF(AND(BH24=3,BI24=3,FS24<>0),P24,0),2) -> 0 | GM24: =ROUND(O24+X24+Y24+GK24,2)+GX24 -> 16.51 | GN24: =IF(OR(BI24=0,BI24=1),ROUND(O24+X24+Y24+GK24,2),0) -> 16.51 | GO24: =IF(BI24=2,ROUND(O24+X24+Y24+GK24,2),0) -> 0 | GP24: =IF(BI24=4,ROUND(O24+X24+Y24+GK24,2)+GX24,0) -> 0 | GR24: 0 | GS24: 3 | GT24: 0 | GV24: =ROUND(GT24,2) -> 0 | GW24: 1 | GX24: =ROUND(GV24*GW24*I24,2) -> 0 | HA24: 0 | HB24: 0 | IK24: 0
A25: 17 | B25: 1 | C25: =ROW(SmtRes!A2) -> 2 | D25: =ROW(EtalonRes!A2) -> 2 | E25: 2 | F25: 66-8-1 | G25: Демонтаж чугунных люков | H25: ШТ | I25: 13 | J25: 0 | O25: =ROUND(CP25,2) -> 1504.53 | P25: =ROUND(CQ25*I25,2) -> 0 | Q25: =ROUND(CR25*I25,2) -> 0 | R25: =ROUND(CS25*I25,2) -> 0 | S25: =ROUND(CT25*I25,2) -> 1504.53 | T25: =ROUND(CU25*I25,2) -> 0 | U25: =CV25*I25 -> 29.51 | V25: =CW25*I25 -> 0 | W25: =ROUND(CX25*I25,2) -> 0 | X25: =ROUND(CY25,2) -> 1113.35 | Y25: =ROUND(CZ25,2) -> 752.27 | AA25: 39088907 | AB25: =ROUND((AC25+AD25+AF25),2) -> 17.86 | AC25: =ROUND((ES25),2) -> 0 | AD25: =ROUND((((ET25)-(EU25))+AE25),2) -> 0 | AE25: =ROUND((EU25),2) -> 0 | AF25: =ROUND((EV25),2) -> 17.86 | AG25: =ROUND((AP25),2) -> 0 | AH25: =(EW25) -> 2.27 | AI25: =(EX25) -> 0 | AJ25: =ROUND((AS25),2) -> 0 | AK25: 17.86 | AL25: 0 | AM25: 0 | AN25: 0 | AO25: 17.86 | AP25: 0 | AQ25: 2.27 | AR25: 0 | AS25: 0 | AT25: 74 | AU25: 50 | AV25: 1 | AW25: 1 | AZ25: 6.48 | BA25: 6.48 | BB25: 6.48 | BC25: 6.48 | BH25: 0 | BI25: 1 | BJ25: ФЕР-2001, 66-8-1, приказ Минстроя России №1039/пр от 30.12.2016г. | BM25: 66002 | BN25: 0 | BP25: 0 | BQ25: 6 | BR25: 0 | BS25: 6.48 | BT25: 1 | BU25: 1 | BV25: 1 | BW25: 1 | BX25: 1 | BZ25: 74 | CA25: 50 | CF25: 0 | CG25: 0 | CM25: 0 | CO25: 0 | CP25: =(P25+Q25+S25) -> 1504.53 | CQ25: =AC25*BC25 -> 0 | CR25: =AD25*BB25 -> 0 | CS25: =AE25*BS25 -> 0 | CT25: =AF25*BA25 -> 115.7328 | CU25: =AG25 -> 0 | CV25: =AH25 -> 2.27 | CW25: =AI25 -> 0 | CX25: =AJ25 -> 0 | CY25: =(((S25+R25)*AT25)/100) -> 1113.3522 | CZ25: =(((S25+R25)*AU25)/100) -> 752.265 | DN25: 0 | DO25: 0 | DP25: 1 | DQ25: 1 | DU25: 1013 | DV25: ШТ | DW25: ШТ | DX25: 1 | EE25: 39174608 | EF25: 6 | EG25: Ремонтно-строительные работы | EH25: 0 | EJ25: 1 | EK25: 66002 | EL25: Наружные с/техработы : разборка, очистка... | EM25: рФЕР-66 | EQ25: 0 | ER25: 17.86 | ES25: 0 | ET25: 0 | EU25: 0 | EV25: 17.86 | EW25: 2.27 | EX25: 0 | EY25: 0 | FQ25: 0 | FR25: =ROUND(IF(AND(BH25=3,BI25=3),P25,0),2) -> 0 | FS25: 0 | FX25: 74 | FY25: 50 | GD25: 0 | GF25: 529205035 | GG25: 1 | GH25: 1 | GI25: 4 | GJ25: 0 | GK25: =ROUND(R25*(R12)/100,2) -> 0 | GL25: =ROUND(IF(AND(BH25=3,BI25=3,FS25<>0),P25,0),2) -> 0 | GM25: =ROUND(O25+X25+Y25+GK25,2)+GX25 -> 3370.15 | GN25: =IF(OR(BI25=0,BI25=1),ROUND(O25+X25+Y25+GK25,2),0) -> 3370.15 | GO25: =IF(BI25=2,ROUND(O25+X25+Y25+GK25,2),0) -> 0 | GP25: =IF(BI25=4,ROUND(O25+X25+Y25+GK25,2)+GX25,0) -> 0 | GR25: 0 | GS25: 3 | GT25: 0 | GV25: =ROUND(GT25,2) -> 0 | GW25: 1 | GX25: =ROUND(GV25*GW25*I25,2) -> 0 | HA25: 0 | HB25: 0 | IK25: 0
A26: 17 | B26: 1 | C26: =ROW(SmtRes!A6) -> 6 | D26: =ROW(EtalonRes!A7) -> 7 | E26: 3 | F26: 23-04-011-01 | G26: Установка люка (без стоимости материала) | H26: ШТ | I26: 13 | J26: 0 | O26: =ROUND(CP26,2) -> 1625.83 | P26: =ROUND(CQ26*I26,2) -> 44.65 | Q26: =ROUND(CR26*I26,2) -> 484.38 | R26: =ROUND(CS26*I26,2) -> 85.08 | S26: =ROUND(CT26*I26,2) -> 1096.8 | T26: =ROUND(CU26*I26,2) -> 0 | U26: =CV26*I26 -> 19.5845 | V26: =CW26*I26 -> 1.1375 | W26: =ROUND(CX26*I26,2) -> 0 | X26: =ROUND(CY26,2) -> 1382.8 | Y26: =ROUND(CZ26,2) -> 898.23 | AA26: 39088907 | AB26: =ROUND((AC26+AD26+AF26),2) -> 19.3 | AC26: =ROUND((ES26),2) -> 0.53 | AD26: =ROUND(((((ET26*1.25))-((EU26*1.25)))+AE26),2) -> 5.75 | AE26: =ROUND(((EU26*1.25)),2) -> 1.01 | AF26: =ROUND(((EV26*1.15)),2) -> 13.02 | AG26: =ROUND((AP26),2) -> 0 | AH26: =((EW26*1.15)) -> 1.5065 | AI26: =((EX26*1.25)) -> 0.0875 | AJ26: =ROUND((AS26),2) -> 0 | AK26: 16.45 | AL26: 0.53 | AM26: 4.6 | AN26: 0.81 | AO26: 11.32 | AP26: 0 | AQ26: 1.31 | AR26: 0.07 | AS26: 0 | AT26: 117 | AU26: 76 | AV26: 1 | AW26: 1 | AZ26: 6.48 | BA26: 6.48 | BB26: 6.48 | BC26: 6.48 | BH26: 0 | BI26: 1 | BJ26: ФЕР-2001, 23-04-011-01, приказ Минстроя России №1039/пр от 30.12.2016г. | BM26: 23001 | BN26: 0 | BP26: 0 | BQ26: 2 | BR26: 0 | BS26: 6.48 | BT26: 1 | BU26: 1 | BV26: 1 | BW26: 1 | BX26: 1 | BZ26: 130 | CA26: 89 | CF26: 0 | CG26: 0 | CM26: 0 | CN26: Поправка: МДС 81-35.2004, п.4.7 Наименование: Работы, выполняемые при реконструкции зданий и сооружений работы, аналогичные технологическим процессам в новом строительстве (в том числе возведение новых конструктивных элементов) стоимость которых определена по соответствующим сборникам ФЕР, кроме сборника № 46 «Работы при реконструкции зданий и сооружений» | CO26: 0 | CP26: =(P26+Q26+S26) -> 1625.83 | CQ26: =AC26*BC26 -> 3.4344 | CR26: =AD26*BB26 -> 37.26 | CS26: =AE26*BS26 -> 6.5448 | CT26: =AF26*BA26 -> 84.3696 | CU26: =AG26 -> 0 | CV26: =AH26 -> 1.5065 | CW26: =AI26 -> 0.0875 | CX26: =AJ26 -> 0 | CY26: =(((S26+R26)*AT26)/100) -> 1382.7996 | CZ26: =(((S26+R26)*AU26)/100) -> 898.2288 | DE26: )*1,25 | DF26: )*1,25 | DG26: )*1,15 | DI26: )*1,15 | DJ26: )*1,25 | DN26: 0 | DO26: 0 | DP26: 1 | DQ26: 1 | DU26: 1013 | DV26: ШТ | DW26: ШТ | DX26: 1 | EE26: 39174537 | EF26: 2 | EG26: Общестроительные работы | EH26: 0 | EJ26: 1 | EK26: 23001 | EL26: Канализация - наружные сети | EM26: ФЕР-23 | EO26: Поправка: МДС 81-35.2004, п.4.7 | EQ26: 0 | ER26: 16.45 | ES26: 0.53 | ET26: 4.6 | EU26: 0.81 | EV26: 11.32 | EW26: 1.31 | EX26: 0.07 | EY26: 0 | FQ26: 0 | FR26: =ROUND(IF(AND(BH26=3,BI26=3),P26,0),2) -> 0 | FS26: 0 | FT26: *0,9 | FU26: *0,85 | FX26: 117 | FY26: 75.65 | GD26: 0 | GF26: 1464710543 | GG26: 1 | GH26: 1 | GI26: 4 | GJ26: 0 | GK26: =ROUND(R26*(R12)/100,2) -> 0 | GL26: =ROUND(IF(AND(BH26=3,BI26=3,FS26<>0),P26,0),2) -> 0 | GM26: =ROUND(O26+X26+Y26+GK26,2)+GX26 -> 3906.86 | GN26: =IF(OR(BI26=0,BI26=1),ROUND(O26+X26+Y26+GK26,2),0) -> 3906.86 | GO26: =IF(BI26=2,ROUND(O26+X26+Y26+GK26,2),0) -> 0 | GP26: =IF(BI26=4,ROUND(O26+X26+Y26+GK26,2)+GX26,0) -> 0 | GR26: 0 | GS26: 3 | GT26: 0 | GV26: =ROUND(GT26,2) -> 0 | GW26: 1 | GX26: =ROUND(GV26*GW26*I26,2) -> 0 | HA26: 0 | HB26: 0 | IK26: 0
A27: 17 | B27: 1 | C27: =ROW(SmtRes!A12) -> 12 | D27: =ROW(EtalonRes!A14) -> 14 | E27: 4 | F27: 65-5-8 | G27: Смена задвижек диаметром 50 мм | H27: 100 ШТ | I27: 0.04 | J27: 0 | O27: =ROUND(CP27,2) -> 1316.81 | P27: =ROUND(CQ27*I27,2) -> 565.47 | Q27: =ROUND(CR27*I27,2) -> 27.25 | R27: =ROUND(CS27*I27,2) -> 4.81 | S27: =ROUND(CT27*I27,2) -> 724.09 | T27: =ROUND(CU27*I27,2) -> 0 | U27: =CV27*I27 -> 12.32 | V27: =CW27*I27 -> 0.064 | W27: =ROUND(CX27*I27,2) -> 0 | X27: =ROUND(CY27,2) -> 750.77 | Y27: =ROUND(CZ27,2) -> 437.34 | AA27: 39088907 | AB27: =ROUND((AC27+AD27+AF27),2) -> 5080.3 | AC27: =ROUND((ES27),2) -> 2181.6 | AD27: =ROUND((((ET27)-(EU27))+AE27),2) -> 105.14 | AE27: =ROUND((EU27),2) -> 18.56 | AF27: =ROUND((EV27),2) -> 2793.56 | AG27: =ROUND((AP27),2) -> 0 | AH27: =(EW27) -> 308 | AI27: =(EX27) -> 1.6 | AJ27: =ROUND((AS27),2) -> 0 | AK27: 5080.3 | AL27: 2181.6 | AM27: 105.14 | AN27: 18.56 | AO27: 2793.56 | AP27: 0 | AQ27: 308 | AR27: 1.6 | AS27: 0 | AT27: 103 | AU27: 60 | AV27: 1 | AW27: 1 | AZ27: 6.48 | BA27: 6.48 | BB27: 6.48 | BC27: 6.48 | BH27: 0 | BI27: 1 | BJ27: ФЕР-2001, 65-5-8, приказ Минстроя России №1039/пр от 30.12.2016г. | BM27: 65007 | BN27: 0 | BP27: 0 | BQ27: 6 | BR27: 0 | BS27: 6.48 | BT27: 1 | BU27: 1 | BV27: 1 | BW27: 1 | BX27: 1 | BZ27: 103 | CA27: 60 | CF27: 0 | CG27: 0 | CM27: 0 | CO27: 0 | CP27: =(P27+Q27+S27) -> 1316.81 | CQ27: =AC27*BC27 -> 14136.768 | CR27: =AD27*BB27 -> 681.3072 | CS27: =AE27*BS27 -> 120.2688 | CT27: =AF27*BA27 -> 18102.269 | CU27: =AG27 -> 0 | CV27: =AH27 -> 308 | CW27: =AI27 -> 1.6 | CX27: =AJ27 -> 0 | CY27: =(((S27+R27)*AT27)/100) -> 750.767 | CZ27: =(((S27+R27)*AU27)/100) -> 437.34 | DN27: 0 | DO27: 0 | DP27: 1 | DQ27: 1 | DU27: 1013 | DV27: 100 ШТ | DW27: 100 ШТ | DX27: 1 | EE27: 39174602 | EF27: 6 | EG27: Ремонтно-строительные работы | EH27: 0 | EJ27: 1 | EK27: 65007 | EL27: Внтуренниие с/техработы: смена труб | EM27: рФЕР-65 | EQ27: 0 | ER27: 5080.3 | ES27: 2181.6 | ET27: 105.14 | EU27: 18.56 | EV27: 2793.56 | EW27: 308 | EX27: 1.6 | EY27: 0 | FQ27: 0 | FR27: =ROUND(IF(AND(BH27=3,BI27=3),P27,0),2) -> 0 | FS27: 0 | FX27: 103 | FY27: 60 | GD27: 0 | GF27: 311815651 | GG27: 1 | GH27: 1 | GI27: 4 | GJ27: 0 | GK27: =ROUND(R27*(R12)/100,2) -> 0 | GL27: =ROUND(IF(AND(BH27=3,BI27=3,FS27<>0),P27,0),2) -> 0 | GM27: =ROUND(O27+X27+Y27+GK27,2)+GX27 -> 2504.92 | GN27: =IF(OR(BI27=0,BI27=1),ROUND(O27+X27+Y27+GK27,2),0) -> 2504.92 | GO27: =IF(BI27=2,ROUND(O27+X27+Y27+GK27,2),0) -> 0 | GP27: =IF(BI27=4,ROUND(O27+X27+Y27+GK27,2)+GX27,0) -> 0 | GR27: 0 | GS27: 3 | GT27: 0 | GV27: =ROUND(GT27,2) -> 0 | GW27: 1 | GX27: =ROUND(GV27*GW27*I27,2) -> 0 | HA27: 0 | HB27: 0 | IK27: 0
A28: 18 | B28: 1 | C28: 12 | E28: 4,1 | F28: 18.1.02.01-0051 | G28: Задвижки клиновые с выдвижным шпинделем фланцевые для воды, пара и неагрессивных нефтепродуктов (жидких и газообразных) давлением 1 МПа (10 кгс/см2) 30с42нж диаметром 50 мм | H28: шт. | I28: =I27*J28 -> 4 | J28: 100 | O28: =ROUND(CP28,2) -> 15405.29 | P28: =ROUND(CQ28*I28,2) -> 15405.29 | Q28: =ROUND(CR28*I28,2) -> 0 | R28: =ROUND(CS28*I28,2) -> 0 | S28: =ROUND(CT28*I28,2) -> 0 | T28: =ROUND(CU28*I28,2) -> 0 | U28: =CV28*I28 -> 0 | V28: =CW28*I28 -> 0 | W28: =ROUND(CX28*I28,2) -> 0 | X28: =ROUND(CY28,2) -> 0 | Y28: =ROUND(CZ28,2) -> 0 | AA28: 39088907 | AB28: =ROUND((AC28+AD28+AF28),2) -> 594.34 | AC28: =ROUND((ES28),2) -> 594.34 | AD28: =ROUND((((ET28)-(EU28))+AE28),2) -> 0 | AE28: =ROUND((EU28),2) -> 0 | AF28: =ROUND((EV28),2) -> 0 | AG28: =ROUND((AP28),2) -> 0 | AH28: =(EW28) -> 0 | AI28: =(EX28) -> 0 | AJ28: =ROUND((AS28),2) -> 0 | AK28: 594.34 | AL28: 594.34 | AM28: 0 | AN28: 0 | AO28: 0 | AP28: 0 | AQ28: 0 | AR28: 0 | AS28: 0 | AT28: 115 | AU28: 71 | AV28: 1 | AW28: 1 | AZ28: 6.48 | BA28: 1 | BB28: 1 | BC28: 6.48 | BH28: 3 | BI28: 1 | BJ28: ФССЦ-2001, 18.1.02.01-0051, приказ Минстроя России №1039/пр от 30.12.2016г. | BM28: 16001 | BN28: 0 | BP28: 0 | BQ28: 2 | BR28: 0 | BS28: 1 | BT28: 1 | BU28: 1 | BV28: 1 | BW28: 1 | BX28: 1 | BZ28: 128 | CA28: 83 | CF28: 0 | CG28: 0 | CM28: 0 | CO28: 0 | CP28: =(P28+Q28+S28) -> 15405.29 | CQ28: =AC28*BC28 -> 3851.3232 | CR28: =AD28*BB28 -> 0 | CS28: =AE28*BS28 -> 0 | CT28: =AF28*BA28 -> 0 | CU28: =AG28 -> 0 | CV28: =AH28 -> 0 | CW28: =AI28 -> 0 | CX28: =AJ28 -> 0 | CY28: =(((S28+R28)*AT28)/100) -> 0 | CZ28: =(((S28+R28)*AU28)/100) -> 0 | DN28: 0 | DO28: 0 | DP28: 1 | DQ28: 1 | DU28: 1010 | DV28: шт. | DW28: шт. | DX28: 1 | EE28: 39174530 | EF28: 2 | EG28: Общестроительные работы | EH28: 0 | EJ28: 1 | EK28: 16001 | EL28: Трубопроводы внутренние | EM28: ФЕР-16 | EQ28: 0 | ER28: 594.34 | ES28: 594.34 | ET28: 0 | EU28: 0 | EV28: 0 | EW28: 0 | EX28: 0 | FQ28: 0 | FR28: =ROUND(IF(AND(BH28=3,BI28=3),P28,0),2) -> 0 | FS28: 0 | FT28: *0,9 | FU28: *0,85 | FX28: 115.2 | FY28: 70.55 | GD28: 0 | GF28: -661447167 | GG28: 1 | GH28: 1 | GI28: 4 | GJ28: 0 | GK28: =ROUND(R28*(R12)/100,2) -> 0 | GL28: =ROUND(IF(AND(BH28=3,BI28=3,FS28<>0),P28,0),2) -> 0 | GM28: =ROUND(O28+X28+Y28+GK28,2)+GX28 -> 15405.29 | GN28: =IF(OR(BI28=0,BI28=1),ROUND(O28+X28+Y28+GK28,2),0) -> 15405.29 | GO28: =IF(BI28=2,ROUND(O28+X28+Y28+GK28,2),0) -> 0 | GP28: =IF(BI28=4,ROUND(O28+X28+Y28+GK28,2)+GX28,0) -> 0 | GR28: 0 | GS28: 3 | GT28: 0 | GV28: =ROUND(GT28,2) -> 0 | GW28: 1 | GX28: =ROUND(GV28*GW28*I28,2) -> 0 | HA28: 0 | HB28: 0 | IK28: 0
A29: 17 | B29: 1 | C29: =ROW(SmtRes!A18) -> 18 | D29: =ROW(EtalonRes!A21) -> 21 | E29: 5 | F29: 65-5-9 | G29: Смена задвижек диаметром 100 мм | H29: 100 ШТ | I29: 0.11 | J29: 0 | O29: =ROUND(CP29,2) -> 5760.22 | P29: =ROUND(CQ29*I29,2) -> 2835.23 | Q29: =ROUND(CR29*I29,2) -> 196.72 | R29: =ROUND(CS29*I29,2) -> 34.73 | S29: =ROUND(CT29*I29,2) -> 2728.27 | T29: =ROUND(CU29*I29,2) -> 0 | U29: =CV29*I29 -> 46.42 | V29: =CW29*I29 -> 0.462 | W29: =ROUND(CX29*I29,2) -> 0 | X29: =ROUND(CY29,2) -> 2845.89 | Y29: =ROUND(CZ29,2) -> 1657.8 | AA29: 39088907 | AB29: =ROUND((AC29+AD29+AF29),2) -> 8081.12 | AC29: =ROUND((ES29),2) -> 3977.6 | AD29: =ROUND((((ET29)-(EU29))+AE29),2) -> 275.98 | AE29: =ROUND((EU29),2) -> 48.72 | AF29: =ROUND((EV29),2) -> 3827.54 | AG29: =ROUND((AP29),2) -> 0 | AH29: =(EW29) -> 422 | AI29: =(EX29) -> 4.2 | AJ29: =ROUND((AS29),2) -> 0 | AK29: 8081.12 | AL29: 3977.6 | AM29: 275.98 | AN29: 48.72 | AO29: 3827.54 | AP29: 0 | AQ29: 422 | AR29: 4.2 | AS29: 0 | AT29: 103 | AU29: 60 | AV29: 1 | AW29: 1 | AZ29: 6.48 | BA29: 6.48 | BB29: 6.48 | BC29: 6.48 | BH29: 0 | BI29: 1 | BJ29: ФЕР-2001, 65-5-9, приказ Минстроя России №1039/пр от 30.12.2016г. | BM29: 65007 | BN29: 0 | BP29: 0 | BQ29: 6 | BR29: 0 | BS29: 6.48 | BT29: 1 | BU29: 1 | BV29: 1 | BW29: 1 | BX29: 1 | BZ29: 103 | CA29: 60 | CF29: 0 | CG29: 0 | CM29: 0 | CO29: 0 | CP29: =(P29+Q29+S29) -> 5760.22 | CQ29: =AC29*BC29 -> 25774.848 | CR29: =AD29*BB29 -> 1788.3504 | CS29: =AE29*BS29 -> 315.7056 | CT29: =AF29*BA29 -> 24802.459 | CU29: =AG29 -> 0 | CV29: =AH29 -> 422 | CW29: =AI29 -> 4.2 | CX29: =AJ29 -> 0 | CY29: =(((S29+R29)*AT29)/100) -> 2845.89 | CZ29: =(((S29+R29)*AU29)/100) -> 1657.8 | DN29: 0 | DO29: 0 | DP29: 1 | DQ29: 1 | DU29: 1013 | DV29: 100 ШТ | DW29: 100 ШТ | DX29: 1 | EE29: 39174602 | EF29: 6 | EG29: Ремонтно-строительные работы | EH29: 0 | EJ29: 1 | EK29: 65007 | EL29: Внтуренниие с/техработы: смена труб | EM29: рФЕР-65 | EQ29: 0 | ER29: 8081.12 | ES29: 3977.6 | ET29: 275.98 | EU29: 48.72 | EV29: 3827.54 | EW29: 422 | EX29: 4.2 | EY29: 0 | FQ29: 0 | FR29: =ROUND(IF(AND(BH29=3,BI29=3),P29,0),2) -> 0 | FS29: 0 | FX29: 103 | FY29: 60 | GD29: 0 | GF29: 634860623 | GG29: 1 | GH29: 1 | GI29: 4 | GJ29: 0 | GK29: =ROUND(R29*(R12)/100,2) -> 0 | GL29: =ROUND(IF(AND(BH29=3,BI29=3,FS29<>0),P29,0),2) -> 0 | GM29: =ROUND(O29+X29+Y29+GK29,2)+GX29 -> 10263.91 | GN29: =IF(OR(BI29=0,BI29=1),ROUND(O29+X29+Y29+GK29,2),0) -> 10263.91 | GO29: =IF(BI29=2,ROUND(O29+X29+Y29+GK29,2),0) -> 0 | GP29: =IF(BI29=4,ROUND(O29+X29+Y29+GK29,2)+GX29,0) -> 0 | GR29: 0 | GS29: 3 | GT29: 0 | GV29: =ROUND(GT29,2) -> 0 | GW29: 1 | GX29: =ROUND(GV29*GW29*I29,2) -> 0 | HA29: 0 | HB29: 0 | IK29: 0
A30: 18 | B30: 1 | C30: 18 | E30: 5,1 | F30: 18.1.02.01-0053 | G30: Задвижки клиновые с выдвижным шпинделем фланцевые для воды, пара и неагрессивных нефтепродуктов (жидких и газообразных) давлением 1 МПа (10 кгс/см2) 30с42нж диаметром 100 мм | H30: шт. | I30: =I29*J30 -> 11 | J30: 100 | O30: =ROUND(CP30,2) -> 75651.6 | P30: =ROUND(CQ30*I30,2) -> 75651.6 | Q30: =ROUND(CR30*I30,2) -> 0 | R30: =ROUND(CS30*I30,2) -> 0 | S30: =ROUND(CT30*I30,2) -> 0 | T30: =ROUND(CU30*I30,2) -> 0 | U30: =CV30*I30 -> 0 | V30: =CW30*I30 -> 0 | W30: =ROUND(CX30*I30,2) -> 0 | X30: =ROUND(CY30,2) -> 0 | Y30: =ROUND(CZ30,2) -> 0 | AA30: 39088907 | AB30: =ROUND((AC30+AD30+AF30),2) -> 1061.33 | AC30: =ROUND((ES30),2) -> 1061.33 | AD30: =ROUND((((ET30)-(EU30))+AE30),2) -> 0 | AE30: =ROUND((EU30),2) -> 0 | AF30: =ROUND((EV30),2) -> 0 | AG30: =ROUND((AP30),2) -> 0 | AH30: =(EW30) -> 0 | AI30: =(EX30) -> 0 | AJ30: =ROUND((AS30),2) -> 0 | AK30: 1061.33 | AL30: 1061.33 | AM30: 0 | AN30: 0 | AO30: 0 | AP30: 0 | AQ30: 0 | AR30: 0 | AS30: 0 | AT30: 115 | AU30: 71 | AV30: 1 | AW30: 1 | AZ30: 6.48 | BA30: 1 | BB30: 1 | BC30: 6.48 | BH30: 3 | BI30: 1 | BJ30: ФССЦ-2001, 18.1.02.01-0053, приказ Минстроя России №1039/пр от 30.12.2016г. | BM30: 16001 | BN30: 0 | BP30: 0 | BQ30: 2 | BR30: 0 | BS30: 1 | BT30: 1 | BU30: 1 | BV30: 1 | BW30: 1 | BX30: 1 | BZ30: 128 | CA30: 83 | CF30: 0 | CG30: 0 | CM30: 0 | CO30: 0 | CP30: =(P30+Q30+S30) -> 75651.6 | CQ30: =AC30*BC30 -> 6877.4184 | CR30: =AD30*BB30 -> 0 | CS30: =AE30*BS30 -> 0 | CT30: =AF30*BA30 -> 0 | CU30: =AG30 -> 0 | CV30: =AH30 -> 0 | CW30: =AI30 -> 0 | CX30: =AJ30 -> 0 | CY30: =(((S30+R30)*AT30)/100) -> 0 | CZ30: =(((S30+R30)*AU30)/100) -> 0 | DN30: 0 | DO30: 0 | DP30: 1 | DQ30: 1 | DU30: 1010 | DV30: шт. | DW30: шт. | DX30: 1 | EE30: 39174530 | EF30: 2 | EG30: Общестроительные работы | EH30: 0 | EJ30: 1 | EK30: 16001 | EL30: Трубопроводы внутренние | EM30: ФЕР-16 | EQ30: 0 | ER30: 1061.33 | ES30: 1061.33 | ET30: 0 | EU30: 0 | EV30: 0 | EW30: 0 | EX30: 0 | FQ30: 0 | FR30: =ROUND(IF(AND(BH30=3,BI30=3),P30,0),2) -> 0 | FS30: 0 | FT30: *0,9 | FU30: *0,85 | FX30: 115.2 | FY30: 70.55 | GD30: 0 | GF30: -1709495380 | GG30: 1 | GH30: 1 | GI30: 4 | GJ30: 0 | GK30: =ROUND(R30*(R12)/100,2) -> 0 | GL30: =ROUND(IF(AND(BH30=3,BI30=3,FS30<>0),P30,0),2) -> 0 | GM30: =ROUND(O30+X30+Y30+GK30,2)+GX30 -> 75651.6 | GN30: =IF(OR(BI30=0,BI30=1),ROUND(O30+X30+Y30+GK30,2),0) -> 75651.6 | GO30: =IF(BI30=2,ROUND(O30+X30+Y30+GK30,2),0) -> 0 | GP30: =IF(BI30=4,ROUND(O30+X30+Y30+GK30,2)+GX30,0) -> 0 | GR30: 0 | GS30: 3 | GT30: 0 | GV30: =ROUND(GT30,2) -> 0 | GW30: 1 | GX30: =ROUND(GV30*GW30*I30,2) -> 0 | HA30: 0 | HB30: 0 | IK30: 0
A31: 17 | B31: 1 | C31: =ROW(SmtRes!A24) -> 24 | D31: =ROW(EtalonRes!A28) -> 28 | E31: 6 | F31: 65-5-10 | G31: Смена задвижек диаметром 150 мм | H31: 100 ШТ | I31: 0.08 | J31: 0 | O31: =ROUND(CP31,2) -> 7419.93 | P31: =ROUND(CQ31*I31,2) -> 4412.41 | Q31: =ROUND(CR31*I31,2) -> 214.6 | R31: =ROUND(CS31*I31,2) -> 37.88 | S31: =ROUND(CT31*I31,2) -> 2792.92 | T31: =ROUND(CU31*I31,2) -> 0 | U31: =CV31*I31 -> 47.52 | V31: =CW31*I31 -> 0.504 | W31: =ROUND(CX31*I31,2) -> 0 | X31: =ROUND(CY31,2) -> 2915.72 | Y31: =ROUND(CZ31,2) -> 1698.48 | AA31: 39088907 | AB31: =ROUND((AC31+AD31+AF31),2) -> 14313.15 | AC31: =ROUND((ES31),2) -> 8511.6 | AD31: =ROUND((((ET31)-(EU31))+AE31),2) -> 413.97 | AE31: =ROUND((EU31),2) -> 73.08 | AF31: =ROUND((EV31),2) -> 5387.58 | AG31: =ROUND((AP31),2) -> 0 | AH31: =(EW31) -> 594 | AI31: =(EX31) -> 6.3 | AJ31: =ROUND((AS31),2) -> 0 | AK31: 14313.15 | AL31: 8511.6 | AM31: 413.97 | AN31: 73.08 | AO31: 5387.58 | AP31: 0 | AQ31: 594 | AR31: 6.3 | AS31: 0 | AT31: 103 | AU31: 60 | AV31: 1 | AW31: 1 | AZ31: 6.48 | BA31: 6.48 | BB31: 6.48 | BC31: 6.48 | BH31: 0 | BI31: 1 | BJ31: ФЕР-2001, 65-5-10, приказ Минстроя России №1039/пр от 30.12.2016г. | BM31: 65007 | BN31: 0 | BP31: 0 | BQ31: 6 | BR31: 0 | BS31: 6.48 | BT31: 1 | BU31: 1 | BV31: 1 | BW31: 1 | BX31: 1 | BZ31: 103 | CA31: 60 | CF31: 0 | CG31: 0 | CM31: 0 | CO31: 0 | CP31: =(P31+Q31+S31) -> 7419.93 | CQ31: =AC31*BC31 -> 55155.168 | CR31: =AD31*BB31 -> 2682.5256 | CS31: =AE31*BS31 -> 473.5584 | CT31: =AF31*BA31 -> 34911.518 | CU31: =AG31 -> 0 | CV31: =AH31 -> 594 | CW31: =AI31 -> 6.3 | CX31: =AJ31 -> 0 | CY31: =(((S31+R31)*AT31)/100) -> 2915.724 | CZ31: =(((S31+R31)*AU31)/100) -> 1698.48 | DN31: 0 | DO31: 0 | DP31: 1 | DQ31: 1 | DU31: 1013 | DV31: 100 ШТ | DW31: 100 ШТ | DX31: 1 | EE31: 39174602 | EF31: 6 | EG31: Ремонтно-строительные работы | EH31: 0 | EJ31: 1 | EK31: 65007 | EL31: Внтуренниие с/техработы: смена труб | EM31: рФЕР-65 | EQ31: 0 | ER31: 14313.15 | ES31: 8511.6 | ET31: 413.97 | EU31: 73.08 | EV31: 5387.58 | EW31: 594 | EX31: 6.3 | EY31: 0 | FQ31: 0 | FR31: =ROUND(IF(AND(BH31=3,BI31=3),P31,0),2) -> 0 | FS31: 0 | FX31: 103 | FY31: 60 | GD31: 0 | GF31: 1216967737 | GG31: 1 | GH31: 1 | GI31: 4 | GJ31: 0 | GK31: =ROUND(R31*(R12)/100,2) -> 0 | GL31: =ROUND(IF(AND(BH31=3,BI31=3,FS31<>0),P31,0),2) -> 0 | GM31: =ROUND(O31+X31+Y31+GK31,2)+GX31 -> 12034.13 | GN31: =IF(OR(BI31=0,BI31=1),ROUND(O31+X31+Y31+GK31,2),0) -> 12034.13 | GO31: =IF(BI31=2,ROUND(O31+X31+Y31+GK31,2),0) -> 0 | GP31: =IF(BI31=4,ROUND(O31+X31+Y31+GK31,2)+GX31,0) -> 0 | GR31: 0 | GS31: 3 | GT31: 0 | GV31: =ROUND(GT31,2) -> 0 | GW31: 1 | GX31: =ROUND(GV31*GW31*I31,2) -> 0 | HA31: 0 | HB31: 0 | IK31: 0
A32: 18 | B32: 1 | C32: 24 | E32: 6,1 | F32: 18.1.02.01-0104 | G32: Задвижки клиновые с выдвижным шпинделем фланцевые для воды, пара и нефтепродуктов давлением 1,6 МПа (16 кгс/см2) 30с941нж диаметром 150 мм | H32: шт. | I32: =I31*J32 -> 8 | J32: 100 | O32: =ROUND(CP32,2) -> 160326.09 | P32: =ROUND(CQ32*I32,2) -> 160326.09 | Q32: =ROUND(CR32*I32,2) -> 0 | R32: =ROUND(CS32*I32,2) -> 0 | S32: =ROUND(CT32*I32,2) -> 0 | T32: =ROUND(CU32*I32,2) -> 0 | U32: =CV32*I32 -> 0 | V32: =CW32*I32 -> 0 | W32: =ROUND(CX32*I32,2) -> 0 | X32: =ROUND(CY32,2) -> 0 | Y32: =ROUND(CZ32,2) -> 0 | AA32: 39088907 | AB32: =ROUND((AC32+AD32+AF32),2) -> 3092.71 | AC32: =ROUND((ES32),2) -> 3092.71 | AD32: =ROUND((((ET32)-(EU32))+AE32),2) -> 0 | AE32: =ROUND((EU32),2) -> 0 | AF32: =ROUND((EV32),2) -> 0 | AG32: =ROUND((AP32),2) -> 0 | AH32: =(EW32) -> 0 | AI32: =(EX32) -> 0 | AJ32: =ROUND((AS32),2) -> 0 | AK32: 3092.71 | AL32: 3092.71 | AM32: 0 | AN32: 0 | AO32: 0 | AP32: 0 | AQ32: 0 | AR32: 0 | AS32: 0 | AT32: 117 | AU32: 76 | AV32: 1 | AW32: 1 | AZ32: 6.48 | BA32: 1 | BB32: 1 | BC32: 6.48 | BH32: 3 | BI32: 1 | BJ32: ФССЦ-2001, 18.1.02.01-0104, приказ Минстроя России №1039/пр от 30.12.2016г. | BM32: 24001 | BN32: 0 | BP32: 0 | BQ32: 2 | BR32: 0 | BS32: 1 | BT32: 1 | BU32: 1 | BV32: 1 | BW32: 1 | BX32: 1 | BZ32: 130 | CA32: 89 | CF32: 0 | CG32: 0 | CM32: 0 | CO32: 0 | CP32: =(P32+Q32+S32) -> 160326.09 | CQ32: =AC32*BC32 -> 20040.761 | CR32: =AD32*BB32 -> 0 | CS32: =AE32*BS32 -> 0 | CT32: =AF32*BA32 -> 0 | CU32: =AG32 -> 0 | CV32: =AH32 -> 0 | CW32: =AI32 -> 0 | CX32: =AJ32 -> 0 | CY32: =(((S32+R32)*AT32)/100) -> 0 | CZ32: =(((S32+R32)*AU32)/100) -> 0 | DN32: 0 | DO32: 0 | DP32: 1 | DQ32: 1 | DU32: 1010 | DV32: шт. | DW32: шт. | DX32: 1 | EE32: 39174538 | EF32: 2 | EG32: Общестроительные работы | EH32: 0 | EJ32: 1 | EK32: 24001 | EL32: Тепло/газоснабжение - наружные сети | EM32: ФЕР-24 | EQ32: 0 | ER32: 3092.71 | ES32: 3092.71 | ET32: 0 | EU32: 0 | EV32: 0 | EW32: 0 | EX32: 0 | FQ32: 0 | FR32: =ROUND(IF(AND(BH32=3,BI32=3),P32,0),2) -> 0 | FS32: 0 | FT32: *0,9 | FU32: *0,85 | FX32: 117 | FY32: 75.65 | GD32: 0 | GF32: 942371770 | GG32: 1 | GH32: 1 | GI32: 4 | GJ32: 0 | GK32: =ROUND(R32*(R12)/100,2) -> 0 | GL32: =ROUND(IF(AND(BH32=3,BI32=3,FS32<>0),P32,0),2) -> 0 | GM32: =ROUND(O32+X32+Y32+GK32,2)+GX32 -> 160326.09 | GN32: =IF(OR(BI32=0,BI32=1),ROUND(O32+X32+Y32+GK32,2),0) -> 160326.09 | GO32: =IF(BI32=2,ROUND(O32+X32+Y32+GK32,2),0) -> 0 | GP32: =IF(BI32=4,ROUND(O32+X32+Y32+GK32,2)+GX32,0) -> 0 | GR32: 0 | GS32: 3 | GT32: 0 | GV32: =ROUND(GT32,2) -> 0 | GW32: 1 | GX32: =ROUND(GV32*GW32*I32,2) -> 0 | HA32: 0 | HB32: 0 | IK32: 0
A33: 17 | B33: 1 | C33: =ROW(SmtRes!A27) -> 27 | D33: =ROW(EtalonRes!A32) -> 32 | E33: 7 | F33: 65-3-14 | G33: Снятие задвижек диаметром до 200 мм (тепловой узел диам.200мм) | H33: 100 ШТ | I33: 0.05 | J33: 0 | O33: =ROUND(CP33,2) -> 435.15 | P33: =ROUND(CQ33*I33,2) -> 0 | Q33: =ROUND(CR33*I33,2) -> 7.6 | R33: =ROUND(CS33*I33,2) -> 3.28 | S33: =ROUND(CT33*I33,2) -> 427.55 | T33: =ROUND(CU33*I33,2) -> 0 | U33: =CV33*I33 -> 7.735 | V33: =CW33*I33 -> 0.0375 | W33: =ROUND(CX33*I33,2) -> 0 | X33: =ROUND(CY33,2) -> 318.81 | Y33: =ROUND(CZ33,2) -> 215.42 | AA33: 39088907 | AB33: =ROUND((AC33+AD33+AF33),2) -> 1343.04 | AC33: =ROUND((ES33),2) -> 0 | AD33: =ROUND((((ET33)-(EU33))+AE33),2) -> 23.45 | AE33: =ROUND((EU33),2) -> 10.13 | AF33: =ROUND((EV33),2) -> 1319.59 | AG33: =ROUND((AP33),2) -> 0 | AH33: =(EW33) -> 154.7 | AI33: =(EX33) -> 0.75 | AJ33: =ROUND((AS33),2) -> 0 | AK33: 1343.04 | AL33: 0 | AM33: 23.45 | AN33: 10.13 | AO33: 1319.59 | AP33: 0 | AQ33: 154.7 | AR33: 0.75 | AS33: 0 | AT33: 74 | AU33: 50 | AV33: 1 | AW33: 1 | AZ33: 6.48 | BA33: 6.48 | BB33: 6.48 | BC33: 6.48 | BH33: 0 | BI33: 1 | BJ33: ФЕР-2001, 65-3-14, приказ Минстроя России №1039/пр от 30.12.2016г. | BM33: 65001 | BN33: 0 | BP33: 0 | BQ33: 6 | BR33: 0 | BS33: 6.48 | BT33: 1 | BU33: 1 | BV33: 1 | BW33: 1 | BX33: 1 | BZ33: 74 | CA33: 50 | CF33: 0 | CG33: 0 | CM33: 0 | CO33: 0 | CP33: =(P33+Q33+S33) -> 435.15 | CQ33: =AC33*BC33 -> 0 | CR33: =AD33*BB33 -> 151.956 | CS33: =AE33*BS33 -> 65.6424 | CT33: =AF33*BA33 -> 8550.9432 | CU33: =AG33 -> 0 | CV33: =AH33 -> 154.7 | CW33: =AI33 -> 0.75 | CX33: =AJ33 -> 0 | CY33: =(((S33+R33)*AT33)/100) -> 318.8142 | CZ33: =(((S33+R33)*AU33)/100) -> 215.415 | DN33: 0 | DO33: 0 | DP33: 1 | DQ33: 1 | DU33: 1013 | DV33: 100 ШТ | DW33: 100 ШТ | DX33: 1 | EE33: 39174590 | EF33: 6 | EG33: Ремонтно-строительные работы | EH33: 0 | EJ33: 1 | EK33: 65001 | EL33: Внтуренниие с/техработы: демонтаж, разборка, промывка | EM33: рФЕР-65 | EQ33: 0 | ER33: 1343.04 | ES33: 0 | ET33: 23.45 | EU33: 10.13 | EV33: 1319.59 | EW33: 154.7 | EX33: 0.75 | EY33: 0 | FQ33: 0 | FR33: =ROUND(IF(AND(BH33=3,BI33=3),P33,0),2) -> 0 | FS33: 0 | FX33: 74 | FY33: 50 | GD33: 0 | GF33: -1757122234 | GG33: 1 | GH33: 1 | GI33: 4 | GJ33: 0 | GK33: =ROUND(R33*(R12)/100,2) -> 0 | GL33: =ROUND(IF(AND(BH33=3,BI33=3,FS33<>0),P33,0),2) -> 0 | GM33: =ROUND(O33+X33+Y33+GK33,2)+GX33 -> 969.38 | GN33: =IF(OR(BI33=0,BI33=1),ROUND(O33+X33+Y33+GK33,2),0) -> 969.38 | GO33: =IF(BI33=2,ROUND(O33+X33+Y33+GK33,2),0) -> 0 | GP33: =IF(BI33=4,ROUND(O33+X33+Y33+GK33,2)+GX33,0) -> 0 | GR33: 0 | GS33: 3 | GT33: 0 | GV33: =ROUND(GT33,2) -> 0 | GW33: 1 | GX33: =ROUND(GV33*GW33*I33,2) -> 0 | HA33: 0 | HB33: 0 | IK33: 0
A34: 17 | B34: 1 | C34: =ROW(SmtRes!A30) -> 30 | D34: =ROW(EtalonRes!A36) -> 36 | E34: 8 | F34: 65-3-13 | G34: Снятие задвижек диаметром до 100 мм (диам.80мм Тепловой узел) | H34: 100 ШТ | I34: 0.45 | J34: 0 | O34: =ROUND(CP34,2) -> 2393.25 | P34: =ROUND(CQ34*I34,2) -> 0 | Q34: =ROUND(CR34*I34,2) -> 22.8 | R34: =ROUND(CS34*I34,2) -> 9.86 | S34: =ROUND(CT34*I34,2) -> 2370.45 | T34: =ROUND(CU34*I34,2) -> 0 | U34: =CV34*I34 -> 42.885 | V34: =CW34*I34 -> 0.1125 | W34: =ROUND(CX34*I34,2) -> 0 | X34: =ROUND(CY34,2) -> 1761.43 | Y34: =ROUND(CZ34,2) -> 1190.16 | AA34: 39088907 | AB34: =ROUND((AC34+AD34+AF34),2) -> 820.73 | AC34: =ROUND((ES34),2) -> 0 | AD34: =ROUND((((ET34)-(EU34))+AE34),2) -> 7.82 | AE34: =ROUND((EU34),2) -> 3.38 | AF34: =ROUND((EV34),2) -> 812.91 | AG34: =ROUND((AP34),2) -> 0 | AH34: =(EW34) -> 95.3 | AI34: =(EX34) -> 0.25 | AJ34: =ROUND((AS34),2) -> 0 | AK34: 820.73 | AL34: 0 | AM34: 7.82 | AN34: 3.38 | AO34: 812.91 | AP34: 0 | AQ34: 95.3 | AR34: 0.25 | AS34: 0 | AT34: 74 | AU34: 50 | AV34: 1 | AW34: 1 | AZ34: 6.48 | BA34: 6.48 | BB34: 6.48 | BC34: 6.48 | BH34: 0 | BI34: 1 | BJ34: ФЕР-2001, 65-3-13, приказ Минстроя России №1039/пр от 30.12.2016г. | BM34: 65001 | BN34: 0 | BP34: 0 | BQ34: 6 | BR34: 0 | BS34: 6.48 | BT34: 1 | BU34: 1 | BV34: 1 | BW34: 1 | BX34: 1 | BZ34: 74 | CA34: 50 | CF34: 0 | CG34: 0 | CM34: 0 | CO34: 0 | CP34: =(P34+Q34+S34) -> 2393.25 | CQ34: =AC34*BC34 -> 0 | CR34: =AD34*BB34 -> 50.6736 | CS34: =AE34*BS34 -> 21.9024 | CT34: =AF34*BA34 -> 5267.6568 | CU34: =AG34 -> 0 | CV34: =AH34 -> 95.3 | CW34: =AI34 -> 0.25 | CX34: =AJ34 -> 0 | CY34: =(((S34+R34)*AT34)/100) -> 1761.4294 | CZ34: =(((S34+R34)*AU34)/100) -> 1190.155 | DN34: 0 | DO34: 0 | DP34: 1 | DQ34: 1 | DU34: 1013 | DV34: 100 ШТ | DW34: 100 ШТ | DX34: 1 | EE34: 39174590 | EF34: 6 | EG34: Ремонтно-строительные работы | EH34: 0 | EJ34: 1 | EK34: 65001 | EL34: Внтуренниие с/техработы: демонтаж, разборка, промывка | EM34: рФЕР-65 | EQ34: 0 | ER34: 820.73 | ES34: 0 | ET34: 7.82 | EU34: 3.38 | EV34: 812.91 | EW34: 95.3 | EX34: 0.25 | EY34: 0 | FQ34: 0 | FR34: =ROUND(IF(AND(BH34=3,BI34=3),P34,0),2) -> 0 | FS34: 0 | FX34: 74 | FY34: 50 | GD34: 0 | GF34: -503942145 | GG34: 1 | GH34: 1 | GI34: 4 | GJ34: 0 | GK34: =ROUND(R34*(R12)/100,2) -> 0 | GL34: =ROUND(IF(AND(BH34=3,BI34=3,FS34<>0),P34,0),2) -> 0 | GM34: =ROUND(O34+X34+Y34+GK34,2)+GX34 -> 5344.84 | GN34: =IF(OR(BI34=0,BI34=1),ROUND(O34+X34+Y34+GK34,2),0) -> 5344.84 | GO34: =IF(BI34=2,ROUND(O34+X34+Y34+GK34,2),0) -> 0 | GP34: =IF(BI34=4,ROUND(O34+X34+Y34+GK34,2)+GX34,0) -> 0 | GR34: 0 | GS34: 3 | GT34: 0 | GV34: =ROUND(GT34,2) -> 0 | GW34: 1 | GX34: =ROUND(GV34*GW34*I34,2) -> 0 | HA34: 0 | HB34: 0 | IK34: 0
A35: 17 | B35: 1 | C35: =ROW(SmtRes!A39) -> 39 | D35: =ROW(EtalonRes!A47) -> 47 | E35: 9 | F35: 16-05-001-07 | G35: Демонтаж задвижек на трубопроводах из стальных труб диаметром до 250 мм (диам.250мм Тепловой узел) | H35: ШТ | I35: 1 | J35: 0 | O35: =ROUND(CP35,2) -> 341.69 | P35: =ROUND(CQ35*I35,2) -> 0 | Q35: =ROUND(CR35*I35,2) -> 83.07 | R35: =ROUND(CS35*I35,2) -> 7.13 | S35: =ROUND(CT35*I35,2) -> 258.62 | T35: =ROUND(CU35*I35,2) -> 0 | U35: =CV35*I35 -> 4.296 | V35: =CW35*I35 -> 0.088 | W35: =ROUND(CX35*I35,2) -> 0 | X35: =ROUND(CY35,2) -> 305.61 | Y35: =ROUND(CZ35,2) -> 188.68 | AA35: 39088907 | AB35: =ROUND((AC35+AD35+AF35),2) -> 52.73 | AC35: =ROUND(((ES35*0)),2) -> 0 | AD35: =ROUND(((((ET35*0.4))-((EU35*0.4)))+AE35),2) -> 12.82 | AE35: =ROUND(((EU35*0.4)),2) -> 1.1 | AF35: =ROUND(((EV35*0.4)),2) -> 39.91 | AG35: =ROUND((AP35),2) -> 0 | AH35: =((EW35*0.4)) -> 4.296 | AI35: =((EX35*0.4)) -> 0.088 | AJ35: =ROUND((AS35),2) -> 0 | AK35: 283.45 | AL35: 151.63 | AM35: 32.05 | AN35: 2.74 | AO35: 99.77 | AP35: 0 | AQ35: 10.74 | AR35: 0.22 | AS35: 0 | AT35: 115 | AU35: 71 | AV35: 1 | AW35: 1 | AZ35: 6.48 | BA35: 6.48 | BB35: 6.48 | BC35: 6.48 | BH35: 0 | BI35: 1 | BJ35: ФЕР-2001, 16-05-001-07, приказ Минстроя России №1039/пр от 30.12.2016г. | BM35: 16001 | BN35: 0 | BP35: 0 | BQ35: 2 | BR35: 0 | BS35: 6.48 | BT35: 1 | BU35: 1 | BV35: 1 | BW35: 1 | BX35: 1 | BZ35: 128 | CA35: 83 | CF35: 0 | CG35: 0 | CM35: 0 | CN35: Поправка: МДС 81-36.2004, п.3.3.1.в Наименование: При демонтаже внутренних санитарно-технических устройств (водопровода, газопровода, канализации, водостоков, отопления, вентиляции) | CO35: 0 | CP35: =(P35+Q35+S35) -> 341.69 | CQ35: =AC35*BC35 -> 0 | CR35: =AD35*BB35 -> 83.0736 | CS35: =AE35*BS35 -> 7.128 | CT35: =AF35*BA35 -> 258.6168 | CU35: =AG35 -> 0 | CV35: =AH35 -> 4.296 | CW35: =AI35 -> 0.088 | CX35: =AJ35 -> 0 | CY35: =(((S35+R35)*AT35)/100) -> 305.6125 | CZ35: =(((S35+R35)*AU35)/100) -> 188.6825 | DD35: )*0 | DE35: )*0,4 | DF35: )*0,4 | DG35: )*0,4 | DI35: )*0,4 | DJ35: )*0,4 | DN35: 0 | DO35: 0 | DP35: 1 | DQ35: 1 | DU35: 1013 | DV35: ШТ | DW35: ШТ | DX35: 1 | EE35: 39174530 | EF35: 2 | EG35: Общестроительные работы | EH35: 0 | EJ35: 1 | EK35: 16001 | EL35: Трубопроводы внутренние | EM35: ФЕР-16 | EO35: Поправка: МДС 81-36.2004, п.3.3.1.в | EQ35: 0 | ER35: 283.45 | ES35: 151.63 | ET35: 32.05 | EU35: 2.74 | EV35: 99.77 | EW35: 10.74 | EX35: 0.22 | EY35: 0 | FQ35: 0 | FR35: =ROUND(IF(AND(BH35=3,BI35=3),P35,0),2) -> 0 | FS35: 0 | FT35: *0,9 | FU35: *0,85 | FX35: 115.2 | FY35: 70.55 | GD35: 0 | GF35: 1319736101 | GG35: 1 | GH35: 1 | GI35: 4 | GJ35: 0 | GK35: =ROUND(R35*(R12)/100,2) -> 0 | GL35: =ROUND(IF(AND(BH35=3,BI35=3,FS35<>0),P35,0),2) -> 0 | GM35: =ROUND(O35+X35+Y35+GK35,2)+GX35 -> 835.98 | GN35: =IF(OR(BI35=0,BI35=1),ROUND(O35+X35+Y35+GK35,2),0) -> 835.98 | GO35: =IF(BI35=2,ROUND(O35+X35+Y35+GK35,2),0) -> 0 | GP35: =IF(BI35=4,ROUND(O35+X35+Y35+GK35,2)+GX35,0) -> 0 | GR35: 0 | GS35: 3 | GT35: 0 | GV35: =ROUND(GT35,2) -> 0 | GW35: 1 | GX35: =ROUND(GV35*GW35*I35,2) -> 0 | HA35: 0 | HB35: 0 | IK35: 0
A36: 17 | B36: 1 | C36: =ROW(SmtRes!A43) -> 43 | D36: =ROW(EtalonRes!A51) -> 51 | E36: 10 | F36: 66-26-5 | G36: Демонтаж задвижек диаметром до 300 мм (диам.250мм) (колодец) | H36: ШТ | I36: 13 | J36: 0 | O36: =ROUND(CP36,2) -> 12367.27 | P36: =ROUND(CQ36*I36,2) -> 0 | Q36: =ROUND(CR36*I36,2) -> 9987.49 | R36: =ROUND(CS36*I36,2) -> 1234.96 | S36: =ROUND(CT36*I36,2) -> 2379.78 | T36: =ROUND(CU36*I36,2) -> 0 | U36: =CV36*I36 -> 42.51 | V36: =CW36*I36 -> 14.3 | W36: =ROUND(CX36*I36,2) -> 0 | X36: =ROUND(CY36,2) -> 2674.91 | Y36: =ROUND(CZ36,2) -> 1807.37 | AA36: 39088907 | AB36: =ROUND((AC36+AD36+AF36),2) -> 146.81 | AC36: =ROUND((ES36),2) -> 0 | AD36: =ROUND((((ET36)-(EU36))+AE36),2) -> 118.56 | AE36: =ROUND((EU36),2) -> 14.66 | AF36: =ROUND((EV36),2) -> 28.25 | AG36: =ROUND((AP36),2) -> 0 | AH36: =(EW36) -> 3.27 | AI36: =(EX36) -> 1.1 | AJ36: =ROUND((AS36),2) -> 0 | AK36: 146.81 | AL36: 0 | AM36: 118.56 | AN36: 14.66 | AO36: 28.25 | AP36: 0 | AQ36: 3.27 | AR36: 1.1 | AS36: 0 | AT36: 74 | AU36: 50 | AV36: 1 | AW36: 1 | AZ36: 6.48 | BA36: 6.48 | BB36: 6.48 | BC36: 6.48 | BH36: 0 | BI36: 1 | BJ36: ФЕР-2001, 66-26-5, приказ Минстроя России №1039/пр от 30.12.2016г. | BM36: 66004 | BN36: 0 | BP36: 0 | BQ36: 6 | BR36: 0 | BS36: 6.48 | BT36: 1 | BU36: 1 | BV36: 1 | BW36: 1 | BX36: 1 | BZ36: 74 | CA36: 50 | CF36: 0 | CG36: 0 | CM36: 0 | CO36: 0 | CP36: =(P36+Q36+S36) -> 12367.27 | CQ36: =AC36*BC36 -> 0 | CR36: =AD36*BB36 -> 768.2688 | CS36: =AE36*BS36 -> 94.9968 | CT36: =AF36*BA36 -> 183.06 | CU36: =AG36 -> 0 | CV36: =AH36 -> 3.27 | CW36: =AI36 -> 1.1 | CX36: =AJ36 -> 0 | CY36: =(((S36+R36)*AT36)/100) -> 2674.9076 | CZ36: =(((S36+R36)*AU36)/100) -> 1807.37 | DN36: 0 | DO36: 0 | DP36: 1 | DQ36: 1 | DU36: 1013 | DV36: ШТ | DW36: ШТ | DX36: 1 | EE36: 39174610 | EF36: 6 | EG36: Ремонтно-строительные работы | EH36: 0 | EJ36: 1 | EK36: 66004 | EL36: Наружные с/техработы : разборка, очистка... | EM36: рФЕР-66 | EQ36: 0 | ER36: 146.81 | ES36: 0 | ET36: 118.56 | EU36: 14.66 | EV36: 28.25 | EW36: 3.27 | EX36: 1.1 | EY36: 0 | FQ36: 0 | FR36: =ROUND(IF(AND(BH36=3,BI36=3),P36,0),2) -> 0 | FS36: 0 | FX36: 74 | FY36: 50 | GD36: 0 | GF36: 542176606 | GG36: 1 | GH36: 1 | GI36: 4 | GJ36: 0 | GK36: =ROUND(R36*(R12)/100,2) -> 0 | GL36: =ROUND(IF(AND(BH36=3,BI36=3,FS36<>0),P36,0),2) -> 0 | GM36: =ROUND(O36+X36+Y36+GK36,2)+GX36 -> 16849.55 | GN36: =IF(OR(BI36=0,BI36=1),ROUND(O36+X36+Y36+GK36,2),0) -> 16849.55 | GO36: =IF(BI36=2,ROUND(O36+X36+Y36+GK36,2),0) -> 0 | GP36: =IF(BI36=4,ROUND(O36+X36+Y36+GK36,2)+GX36,0) -> 0 | GR36: 0 | GS36: 3 | GT36: 0 | GV36: =ROUND(GT36,2) -> 0 | GW36: 1 | GX36: =ROUND(GV36*GW36*I36,2) -> 0 | HA36: 0 | HB36: 0 | IK36: 0
A37: 17 | B37: 1 | C37: =ROW(SmtRes!A50) -> 50 | D37: =ROW(EtalonRes!A60) -> 60 | E37: 11 | F37: 16-05-001-01 | G37: Демонтаж кранов проходных на трубопроводах из стальных труб диаметром до 25 мм (стояки) | H37: ШТ | I37: 252 | J37: 0 | O37: =ROUND(CP37,2) -> 10989.82 | P37: =ROUND(CQ37*I37,2) -> 0 | Q37: =ROUND(CR37*I37,2) -> 2286.14 | R37: =ROUND(CS37*I37,2) -> 81.65 | S37: =ROUND(CT37*I37,2) -> 8703.68 | T37: =ROUND(CU37*I37,2) -> 0 | U37: =CV37*I37 -> 148.176 | V37: =CW37*I37 -> 1.008 | W37: =ROUND(CX37*I37,2) -> 0 | X37: =ROUND(CY37,2) -> 10103.13 | Y37: =ROUND(CZ37,2) -> 6237.58 | AA37: 39088907 | AB37: =ROUND((AC37+AD37+AF37),2) -> 6.73 | AC37: =ROUND(((ES37*0)),2) -> 0 | AD37: =ROUND(((((ET37*0.4))-((EU37*0.4)))+AE37),2) -> 1.4 | AE37: =ROUND(((EU37*0.4)),2) -> 0.05 | AF37: =ROUND(((EV37*0.4)),2) -> 5.33 | AG37: =ROUND((AP37),2) -> 0 | AH37: =((EW37*0.4)) -> 0.588 | AI37: =((EX37*0.4)) -> 0.004 | AJ37: =ROUND((AS37),2) -> 0 | AK37: 42.04 | AL37: 25.21 | AM37: 3.5 | AN37: 0.12 | AO37: 13.33 | AP37: 0 | AQ37: 1.47 | AR37: 0.01 | AS37: 0 | AT37: 115 | AU37: 71 | AV37: 1 | AW37: 1 | AZ37: 6.48 | BA37: 6.48 | BB37: 6.48 | BC37: 6.48 | BH37: 0 | BI37: 1 | BJ37: ФЕР-2001, 16-05-001-01, приказ Минстроя России №1039/пр от 30.12.2016г. | BM37: 16001 | BN37: 0 | BP37: 0 | BQ37: 2 | BR37: 0 | BS37: 6.48 | BT37: 1 | BU37: 1 | BV37: 1 | BW37: 1 | BX37: 1 | BZ37: 128 | CA37: 83 | CF37: 0 | CG37: 0 | CM37: 0 | CN37: Поправка: МДС 81-36.2004, п.3.3.1.в Наименование: При демонтаже внутренних санитарно-технических устройств (водопровода, газопровода, канализации, водостоков, отопления, вентиляции) | CO37: 0 | CP37: =(P37+Q37+S37) -> 10989.82 | CQ37: =AC37*BC37 -> 0 | CR37: =AD37*BB37 -> 9.072 | CS37: =AE37*BS37 -> 0.324 | CT37: =AF37*BA37 -> 34.5384 | CU37: =AG37 -> 0 | CV37: =AH37 -> 0.588 | CW37: =AI37 -> 0.004 | CX37: =AJ37 -> 0 | CY37: =(((S37+R37)*AT37)/100) -> 10103.129 | CZ37: =(((S37+R37)*AU37)/100) -> 6237.5843 | DD37: )*0 | DE37: )*0,4 | DF37: )*0,4 | DG37: )*0,4 | DI37: )*0,4 | DJ37: )*0,4 | DN37: 0 | DO37: 0 | DP37: 1 | DQ37: 1 | DU37: 1013 | DV37: ШТ | DW37: ШТ | DX37: 1 | EE37: 39174530 | EF37: 2 | EG37: Общестроительные работы | EH37: 0 | EJ37: 1 | EK37: 16001 | EL37: Трубопроводы внутренние | EM37: ФЕР-16 | EO37: Поправка: МДС 81-36.2004, п.3.3.1.в | EQ37: 0 | ER37: 42.04 | ES37: 25.21 | ET37: 3.5 | EU37: 0.12 | EV37: 13.33 | EW37: 1.47 | EX37: 0.01 | EY37: 0 | FQ37: 0 | FR37: =ROUND(IF(AND(BH37=3,BI37=3),P37,0),2) -> 0 | FS37: 0 | FT37: *0,9 | FU37: *0,85 | FX37: 115.2 | FY37: 70.55 | GD37: 0 | GF37: -263082775 | GG37: 1 | GH37: 1 | GI37: 4 | GJ37: 0 | GK37: =ROUND(R37*(R12)/100,2) -> 0 | GL37: =ROUND(IF(AND(BH37=3,BI37=3,FS37<>0),P37,0),2) -> 0 | GM37: =ROUND(O37+X37+Y37+GK37,2)+GX37 -> 27330.53 | GN37: =IF(OR(BI37=0,BI37=1),ROUND(O37+X37+Y37+GK37,2),0) -> 27330.53 | GO37: =IF(BI37=2,ROUND(O37+X37+Y37+GK37,2),0) -> 0 | GP37: =IF(BI37=4,ROUND(O37+X37+Y37+GK37,2)+GX37,0) -> 0 | GR37: 0 | GS37: 3 | GT37: 0 | GV37: =ROUND(GT37,2) -> 0 | GW37: 1 | GX37: =ROUND(GV37*GW37*I37,2) -> 0 | HA37: 0 | HB37: 0 | IK37: 0
A38: 17 | B38: 1 | C38: =ROW(SmtRes!A60) -> 60 | D38: =ROW(EtalonRes!A71) -> 71 | E38: 12 | F38: 16-05-001-03 | G38: Установка задвижек на трубопроводах из стальных труб диаметром до 100 мм (диам.80мм) | H38: ШТ | I38: 45 | J38: 0 | O38: =ROUND(CP38,2) -> 25153.41 | P38: =ROUND(CQ38*I38,2) -> 13244.47 | Q38: =ROUND(CR38*I38,2) -> 3058.88 | R38: =ROUND(CS38*I38,2) -> 186.62 | S38: =ROUND(CT38*I38,2) -> 8850.06 | T38: =ROUND(CU38*I38,2) -> 0 | U38: =CV38*I38 -> 150.5925 | V38: =CW38*I38 -> 2.25 | W38: =ROUND(CX38*I38,2) -> 0 | X38: =ROUND(CY38,2) -> 10392.18 | Y38: =ROUND(CZ38,2) -> 6416.04 | AA38: 39088907 | AB38: =ROUND((AC38+AD38+AF38),2) -> 86.26 | AC38: =ROUND((ES38),2) -> 45.42 | AD38: =ROUND(((((ET38*1.25))-((EU38*1.25)))+AE38),2) -> 10.49 | AE38: =ROUND(((EU38*1.25)),2) -> 0.64 | AF38: =ROUND(((EV38*1.15)),2) -> 30.35 | AG38: =ROUND((AP38),2) -> 0 | AH38: =((EW38*1.15)) -> 3.3465 | AI38: =((EX38*1.25)) -> 0.05 | AJ38: =ROUND((AS38),2) -> 0 | AK38: 80.2 | AL38: 45.42 | AM38: 8.39 | AN38: 0.51 | AO38: 26.39 | AP38: 0 | AQ38: 2.91 | AR38: 0.04 | AS38: 0 | AT38: 115 | AU38: 71 | AV38: 1 | AW38: 1 | AZ38: 6.48 | BA38: 6.48 | BB38: 6.48 | BC38: 6.48 | BH38: 0 | BI38: 1 | BJ38: ФЕР-2001, 16-05-001-03, приказ Минстроя России №1039/пр от 30.12.2016г. | BM38: 16001 | BN38: 0 | BP38: 0 | BQ38: 2 | BR38: 0 | BS38: 6.48 | BT38: 1 | BU38: 1 | BV38: 1 | BW38: 1 | BX38: 1 | BZ38: 128 | CA38: 83 | CF38: 0 | CG38: 0 | CM38: 0 | CN38: Поправка: МДС 81-35.2004, п.4.7 Наименование: Работы, выполняемые при реконструкции зданий и сооружений работы, аналогичные технологическим процессам в новом строительстве (в том числе возведение новых конструктивных элементов) стоимость которых определена по соответствующим сборникам ФЕР, кроме сборника № 46 «Работы при реконструкции зданий и сооружений» | CO38: 0 | CP38: =(P38+Q38+S38) -> 25153.41 | CQ38: =AC38*BC38 -> 294.3216 | CR38: =AD38*BB38 -> 67.9752 | CS38: =AE38*BS38 -> 4.1472 | CT38: =AF38*BA38 -> 196.668 | CU38: =AG38 -> 0 | CV38: =AH38 -> 3.3465 | CW38: =AI38 -> 0.05 | CX38: =AJ38 -> 0 | CY38: =(((S38+R38)*AT38)/100) -> 10392.182 | CZ38: =(((S38+R38)*AU38)/100) -> 6416.0428 | DE38: )*1,25 | DF38: )*1,25 | DG38: )*1,15 | DI38: )*1,15 | DJ38: )*1,25 | DN38: 0 | DO38: 0 | DP38: 1 | DQ38: 1 | DU38: 1013 | DV38: ШТ | DW38: ШТ | DX38: 1 | EE38: 39174530 | EF38: 2 | EG38: Общестроительные работы | EH38: 0 | EJ38: 1 | EK38: 16001 | EL38: Трубопроводы внутренние | EM38: ФЕР-16 | EO38: Поправка: МДС 81-35.2004, п.4.7 | EQ38: 0 | ER38: 80.2 | ES38: 45.42 | ET38: 8.39 | EU38: 0.51 | EV38: 26.39 | EW38: 2.91 | EX38: 0.04 | EY38: 0 | FQ38: 0 | FR38: =ROUND(IF(AND(BH38=3,BI38=3),P38,0),2) -> 0 | FS38: 0 | FT38: *0,9 | FU38: *0,85 | FX38: 115.2 | FY38: 70.55 | GD38: 0 | GF38: -460489109 | GG38: 1 | GH38: 1 | GI38: 4 | GJ38: 0 | GK38: =ROUND(R38*(R12)/100,2) -> 0 | GL38: =ROUND(IF(AND(BH38=3,BI38=3,FS38<>0),P38,0),2) -> 0 | GM38: =ROUND(O38+X38+Y38+GK38,2)+GX38 -> 41961.63 | GN38: =IF(OR(BI38=0,BI38=1),ROUND(O38+X38+Y38+GK38,2),0) -> 41961.63 | GO38: =IF(BI38=2,ROUND(O38+X38+Y38+GK38,2),0) -> 0 | GP38: =IF(BI38=4,ROUND(O38+X38+Y38+GK38,2)+GX38,0) -> 0 | GR38: 0 | GS38: 3 | GT38: 0 | GV38: =ROUND(GT38,2) -> 0 | GW38: 1 | GX38: =ROUND(GV38*GW38*I38,2) -> 0 | HA38: 0 | HB38: 0 | IK38: 0
