Workbook

Sheet Смета 12 гр. по ФЕР
A1: =Source!B1 -> Smeta.RU (495) 974-1589 | H1: ПРИЛОЖЕНИЕ 1 к ФОРМЕ 7
I2: Форма № 1
B4: СМЕТА
C7: по капитальному ремонту оконных проемов с заменой деревянных оконных блоков на оконные блоки из ПВХ в спортивном зале второго этажа, библиотеке, читальном зале, кабинетах № 27,№ 34, № 37, аудиториях № 21, № 33, № 23, № 25, № 36,№ 39, препараторских № 24,№ 26 третьего этажа, аудитории № 2 четвертого этажа здания учебного корпуса Нововоронежского политехнического колледжа - филиала НИЯУ МИФИ (НВПК НИЯУ МИФИ) по адреcу: Воронежская обл., г. Нововоронеж, ул. Октябрьская, д.1
C8: по капитальному ремонту оконных проемов с заменой деревянных оконных блоков на оконные блоки из ПВХ в спортивном зале второго этажа, библиотеке, читальном зале, кабинетах № 27,№ 34, № 37, аудиториях № 21, № 33, № 23, № 25, № 36,№ 39, препараторских № 24,№ 26 третьего этажа, аудитории № 2 четвертого этажа здания учебного корпуса Нововоронежского политехнического колледжа - филиала НИЯУ МИФИ (НВПК НИЯУ МИФИ) по адреcу: Воронежская обл., г. Нововоронеж, ул. Октябрьская, д.1
G10: базовая цена | I10: текущая цена
C11: Сметная стоимость | G11: =SUM(O1:O95)/1000 -> 0 | I11: =([1]Source!P119/1000) -> 1903.4328 | K11: тыс. руб.
C12: Строительные работы | G12: =SUM(W1:W95)/1000 -> 138.51539 | I12: =([1]Source!P106)/1000 -> 1613.0786 | K12: тыс. руб.
C13: Монтажные работы | G13: =SUM(X1:X95)/1000 -> 0 | I13: =([1]Source!P107)/1000 -> 0 | K13: тыс. руб.
C14: Оборудование | G14: =SUM(Y1:Y95)/1000 -> 0 | I14: =([1]Source!P98)/1000 -> 0 | K14: тыс. руб.
C15: Прочие работы | G15: =SUM(Z1:Z95)/1000 -> 0 | I15: =([1]Source!P108+[1]Source!P109)/1000 -> 0 | K15: тыс. руб.
C16: Нормативная трудоемкость | G16: =I16 -> 1395.7997 | I16: =([1]Source!P111+[1]Source!P112) -> 1395.7997 | K16: чел. -ч.
C17: Средства на оплату труда | G17: =SUM(R1:R95)/1000 -> 6.97786 | I17: =(([1]Source!P104 + [1]Source!P103)/1000) -> 77.54667 | K17: тыс. руб.
A19: Составлена в ценах IV квартал 2017 года
A20: № п/п | B20: Шифр расценки и коды ресурсов | C20: Наименование работ и затрат | D20: Ед. изм. | E20: Кол-во единиц | F20: Цена на ед. изм. | G20: Попра-вочные коэфф. | H20: Стоимость в ценах 2001г. | I20: Пункт коэфф. пересчета | J20: Коэфф. пересчета | K20: Стоимость в текущих ценах | L20: ЗТР всего чел.-час
A21: 1 | B21: 2 | C21: 3 | D21: 4 | E21: 5 | F21: 6 | G21: 7 | H21: 8 | I21: 9 | J21: 10 | K21: 11 | L21: 12
A22: =[1]Source!E25 -> 1 | B22: =[1]Source!F25 -> 46-04-012-01 | C22: =[1]Source!G25 -> Разборка деревянных заполнений проемов оконных с подоконными досками | D22: =[1]Source!H25 -> 100 м2 | E22: =[1]Source!I25 -> 2.607 | F22: =[1]Source!AL25+[1]Source!AM25+[1]Source!AO25 -> 1767.24 | I22: =[1]Source!BO25
C23: ="Объем: "&[1]Source!I25&"=260,7/"&"100" -> Объем: 2,607=260,7/100
C24: Зарплата | F24: =[1]Source!AO25 -> 1525.29 | G24: =[1]Source!DG25 | H24: =ROUND([1]Source!AF25*[1]Source!I25, 2) -> 3976.43 | J24: =IF([1]Source!BA25<> 0, [1]Source!BA25, 1) -> 6.38 | K24: =[1]Source!S25 -> 25369.63
C25: Эксплуатация машин | F25: =[1]Source!AM25 -> 241.95 | G25: =[1]Source!DE25 | H25: =ROUND([1]Source!AD25*[1]Source!I25, 2) -> 630.76 | J25: =IF([1]Source!BB25<> 0, [1]Source!BB25, 1) -> 6.38 | K25: =[1]Source!Q25 -> 4024.27
C26: в т.ч. зарплата машинистов | F26: =[1]Source!AN25 -> 104.49 | G26: =[1]Source!DF25 | H26: =ROUND([1]Source!AE25*[1]Source!I25, 2) -> 272.41 | J26: =IF([1]Source!BS25<> 0, [1]Source!BS25, 1) -> 6.38 | K26: =[1]Source!R25 -> 1737.95 | S26: =ROUND((Source!FX28/100)*((ROUND(Source!AF28*Source!I28, 2)+ROUND(Source!AE28*Source!I28, 2))), 2) -> 420.8 | T26: =Source!X28 -> 2962.41 | U26: =ROUND((Source!FY28/100)*((ROUND(Source!AF28*Source!I28, 2)+ROUND(Source!AE28*Source!I28, 2))), 2) -> 252.9 | V26: =Source!Y28 -> 1795.4
C27: НР от ФОТ | D27: % | E27: =[1]Source!BZ25 -> 110 | F27: =CONCATENATE(" )", [1]Source!DL25, [1]Source!FT25, "=", [1]Source!FX25) -> )*0,9=99 | H27: =SUM(S22:S29) -> 420.8 | J27: =[1]Source!AT25 -> 99 | K27: =SUM(T22:T29) -> 2962.41
C28: СП от ФОТ | D28: % | E28: =[1]Source!CA25 -> 70 | F28: =CONCATENATE(" )", [1]Source!DM25, [1]Source!FU25, "=", [1]Source!FY25) -> )*0,85=59,5 | H28: =SUM(U22:U29) -> 252.9 | J28: =[1]Source!AU25 -> 60 | K28: =SUM(V22:V29) -> 1795.4 | R28: =H28 -> 252.9
C29: Затраты труда | D29: чел-ч | E29: =[1]Source!AQ25 -> 188.54 | G29: =[1]Source!DI25 | L29: =[1]Source!U25 -> 491.52378
G30: =H24+H25+H27+H28 -> 5280.89 | J30: =K24+K25+K27+K28 -> 34151.71 | L30: =[1]Source!U25 -> 491.52378 | R30: =H30 -> 0
A31: =[1]Source!E27 -> 2 | B31: =[1]Source!F27 -> 10-01-034-08 | C31: =[1]Source!G27 -> Установка в жилых и общественных зданиях оконных блоков из ПВХ профилей поворотных (откидных, поворотно-откидных) с площадью проема более 2 м2 трехстворчатых, в том числе при наличии створок глухого остекления | D31: =[1]Source!H27 -> 100 м2 | E31: =[1]Source!I27 -> 2.607 | F31: =[1]Source!AL27+[1]Source!AM27+[1]Source!AO27 -> 10107.89 | I31: =[1]Source!BO27
C32: ="Объем: "&[1]Source!I27&"=260,7/"&"100" -> Объем: 2,607=260,7/100
C33: Зарплата | F33: =[1]Source!AO27 -> 1303.66 | G33: =[1]Source!DG27 -> )*1,15 | H33: =ROUND([1]Source!AF27*[1]Source!I27, 2) -> 3908.44 | J33: =IF([1]Source!BA27<> 0, [1]Source!BA27, 1) -> 6.38 | K33: =[1]Source!S27 -> 24935.85
C34: Эксплуатация машин | F34: =[1]Source!AM27 -> 255.21 | G34: =[1]Source!DE27 -> )*1,25 | H34: =ROUND([1]Source!AD27*[1]Source!I27, 2) -> 831.66 | J34: =IF([1]Source!BB27<> 0, [1]Source!BB27, 1) -> 6.38 | K34: =[1]Source!Q27 -> 5305.98 | O34: =G34 -> )*1,25 | P34: =J34 -> 6.38 | Q34: =L34 -> 0 | W34: =IF(Source!BI28<=1,H28+H29+H31+H32, 0) -> 252.9 | X34: =IF(Source!BI28=2,H28+H29+H31+H32, 0) -> 0 | Y34: =IF(Source!BI28=3,H28+H29+H31+H32, 0) -> 0 | Z34: =IF(Source!BI28=4,H28+H29+H31+H32, 0) -> 0
C35: в т.ч. зарплата машинистов | F35: =[1]Source!AN27 -> 50.32 | G35: =[1]Source!DF27 -> )*1,25 | H35: =ROUND([1]Source!AE27*[1]Source!I27, 2) -> 163.98 | J35: =IF([1]Source!BS27<> 0, [1]Source!BS27, 1) -> 6.38 | K35: =[1]Source!R27 -> 1046.19 | S35: =ROUND((Source!FX29/100)*((ROUND(Source!AF29*Source!I29, 2)+ROUND(Source!AE29*Source!I29, 2))), 2) -> 17.63 | T35: =Source!X29 -> 124.09 | U35: =ROUND((Source!FY29/100)*((ROUND(Source!AF29*Source!I29, 2)+ROUND(Source!AE29*Source!I29, 2))), 2) -> 13.81 | V35: =Source!Y29 -> 97.18
C36: Материальные ресурсы | F36: =[1]Source!AL27 -> 8549.02 | G36: =[1]Source!DD27 | H36: =ROUND([1]Source!AC27*[1]Source!I27, 2) -> 22287.3 | J36: =IF([1]Source!BC27<> 0, [1]Source!BC27, 1) -> 6.38 | K36: =[1]Source!P27 -> 142192.94
C37: НР от ФОТ | D37: % | E37: =[1]Source!BZ27 -> 118 | F37: =CONCATENATE(" )", [1]Source!DL27, [1]Source!FT27, "=", [1]Source!FX27) -> )*0,9=106,2 | H37: =SUM(S31:S40) -> 17.63 | J37: =[1]Source!AT27 -> 106 | K37: =SUM(T31:T40) -> 124.09 | R37: =H37 -> 17.63
C38: СП от ФОТ | D38: % | E38: =[1]Source!CA27 -> 63 | F38: =CONCATENATE(" )", [1]Source!DM27, [1]Source!FU27, "=", [1]Source!FY27) -> )*0,85=53,55 | H38: =SUM(U31:U40) -> 13.81 | J38: =[1]Source!AU27 -> 54 | K38: =SUM(V31:V40) -> 97.18
C39: Затраты труда | D39: чел-ч | E39: =[1]Source!AQ27 -> 149.16 | G39: =[1]Source!DI27 -> )*1,15 | L39: =[1]Source!U27 -> 447.18914
A40: =[1]Source!E29 -> 2,1 | B40: =[1]Source!F29 -> Среднее цена комерческих предложений | C40: Оконный блок из ПВХ Базисная стоимость: 519,77 = [3 913 / 1,18 / 6,38] | D40: =[1]Source!H29 -> м2 | E40: =[1]Source!I29 -> 260.7 | F40: =[1]Source!AL29+[1]Source!AM29+[1]Source!AO29 -> 519.77 | H40: =ROUND([1]Source!AC29*[1]Source!I29, 2)+ROUND([1]Source!AD29*[1]Source!I29, 2)+ROUND([1]Source!AF29*[1]Source!I29, 2) -> 135504.04 | J40: =IF([1]Source!BC29<> 0, [1]Source!BC29, 1) -> 6.38 | K40: =[1]Source!O29 -> 864515.77
G41: =H33+H34+H36+H37+H38+SUM(H40:H40) -> 162562.88 | J41: =K33+K34+K36+K37+K38+SUM(K40:K40) -> 1037171.8 | L41: =[1]Source!U27 -> 447.18914
A42: =[1]Source!E31 -> 3 | B42: =[1]Source!F31 -> 10-01-035-01 | C42: =[1]Source!G31 -> Установка подоконных досок из ПВХ в каменных стенах толщиной до 0,51 м | D42: =[1]Source!H31 -> 100 м | E42: =[1]Source!I31 -> 1.008 | F42: =[1]Source!AL31+[1]Source!AM31+[1]Source!AO31 -> 4184.06 | I42: =[1]Source!BO31 | O42: =G42 -> 0 | P42: =J42 -> 0 | Q42: =L42 -> 0 | W42: =IF(Source!BI29<=1,H37+H38+H39+H40, 0) -> 135535.48 | X42: =IF(Source!BI29=2,H37+H38+H39+H40, 0) -> 0 | Y42: =IF(Source!BI29=3,H37+H38+H39+H40, 0) -> 0 | Z42: =IF(Source!BI29=4,H37+H38+H39+H40, 0) -> 0
C43: ="Объем: "&[1]Source!I31&"=100,8/"&"100" -> Объем: 1,008=100,8/100 | S43: =ROUND((Source!FX30/100)*((ROUND(Source!AF30*Source!I30, 2)+ROUND(Source!AE30*Source!I30, 2))), 2) -> 1119.43 | T43: =Source!X30 -> 7880.82 | U43: =ROUND((Source!FY30/100)*((ROUND(Source!AF30*Source!I30, 2)+ROUND(Source!AE30*Source!I30, 2))), 2) -> 672.79 | V43: =Source!Y30 -> 4776.25
C44: Зарплата | F44: =[1]Source!AO31 -> 180.75 | G44: =[1]Source!DG31 -> )*1,15 | H44: =ROUND([1]Source!AF31*[1]Source!I31, 2) -> 209.52 | J44: =IF([1]Source!BA31<> 0, [1]Source!BA31, 1) -> 6.38 | K44: =[1]Source!S31 -> 1336.76
C45: Эксплуатация машин | F45: =[1]Source!AM31 -> 11.11 | G45: =[1]Source!DE31 -> )*1,25 | H45: =ROUND([1]Source!AD31*[1]Source!I31, 2) -> 14 | J45: =IF([1]Source!BB31<> 0, [1]Source!BB31, 1) -> 6.38 | K45: =[1]Source!Q31 -> 89.33 | R45: =H45 -> 14
...

Sheet Акт КС-2 c НР и СП
A1: =Source!B1 -> Smeta.RU (495) 974-1589
E2: Унифицированная форма № КС-2
E3: Утверждена постановлением Госкомстата России
E4: от 11.11.99. № 100
G6: Код
F7: Форма по ОКУД | G7: 0322005
G8: =IF(Source!AT15 <> "", Source!AT15, "")
A9: Инвестор | C9: =IF(Source!BA15 <> "", Source!BA15, IF(Source!AU15 <> "", Source!AU15, "")) | F9: по ОКПО
C10: организация, адрес, телефон, факс | G10: =IF(Source!AK15 <> "", Source!AK15, "")
A11: Заказчик | C11: =IF(Source!AX12<> "", Source!AX12, IF(Source!AJ12 <> "", Source!AJ12, "")) | F11: по ОКПО
C12: организация, адрес, телефон, факс | G12: =IF(Source!AO15 <> "", Source!AO15, "")
A13: Подрядчик | C13: =IF(Source!AY12<> "", Source!AY12, IF(Source!AN12 <> "", Source!AN12, "")) | F13: по ОКПО
C14: организация, адрес, телефон, факс | G14: =IF(Source!CO15 <> "", Source!CO15, "")
A15: Стройка | C15: Капитальный ремонт общежития №2 НВПК НИЯУ МИФИ | AE15: Капитальный ремонт общежития №2 НВПК НИЯУ МИФИ
C16: наименование, адрес | G16: =IF(Source!CP15 <> "", Source!CP15, "")
A17: Объект | C17: =IF(Source!G12<>"Новый объект", Source!G12, "") -> Капитальный ремонт общежития №2 НВПК НИЯУ МИФИ | AE17: =IF(Source!G12<>"Новый объект", Source!G12, "") -> Капитальный ремонт общежития №2 НВПК НИЯУ МИФИ
C18: наименование
D19: Вид деятельности по ОКДП | G19: =IF(Source!CQ15 <> "", Source!CQ15, "")
D20: Договор подряда | F20: номер | G20: =IF(Source!CR15 <> "", Source!CR15, "")
F21: дата | G21: =IF(Source!CS15 <> 0, Source!CS15, "")
F22: Вид операции | G22: =IF(Source!CT15 <> "", Source!CT15, "")
D24: Номер документа | E24: Дата составления | F24: Отчетный период
F25: с | G25: по
D26: =IF(Source!CN15 <> "", Source!CN15, "") | E26: 43160.616
A28: AKT
A29: О ПРИЕМКЕ ВЫПОЛНЕННЫХ РАБОТ
A31: Сметная (договорная) стоимость в соответствии с договором подряда (субподряда) | F31: =(Source!F530/1000) -> 5410.3515 | H31: тыс.руб
A33: Номер | C33: Наименование работ | D33: Номер единичной расценки | E33: Единица измерения | F33: Выполнено работ
A34: по порядку | B34: поз. по смете | F34: Количество | G34: цена за единицу, руб | H34: стоимость, руб
A35: 1 | B35: 2 | C35: 3 | D35: 4 | E35: 5 | F35: 6 | G35: 7 | H35: 8
A37: =CONCATENATE("Локальная смета: ",IF(Source!G20<>"Новая локальная смета", Source!G20, "")) -> Локальная смета:
A39: =CONCATENATE("Раздел: ",IF(Source!G24<>"Новый раздел", Source!G24, "")) -> Раздел: Общестроительные работы
A40: 1 | B40: =Source!E28 -> 1 | C40: =Source!G28 -> Разборка деревянных заполнений проемов оконных с подоконными досками | D40: =Source!F28 -> 46-04-012-01 | E40: =Source!H28 -> 100 м2 | F40: =Source!I28 -> 0.2608 | G40: =Source!AB28 -> 1767.24 | H40: =Source!O28 -> 3244.71 | T40: =Source!O28+Source!X28+Source!Y28 -> 8002.52 | U40: =Source!P28 -> 0 | V40: =Source!S28 -> 2800.48 | W40: =Source!Q28 -> 444.23 | X40: =Source!R28 -> 191.85 | Y40: =Source!U28 -> 49.171232 | Z40: =Source!V28 -> 2.018592 | AA40: =Source!X28 -> 2962.41 | AB40: =Source!Y28 -> 1795.4
C41: ="Объем: "&Source!I28&"=26,08/"&"100" -> Объем: 0,2608=26,08/100
C42: Коэфф. к ОЗП | D42: =Source!BA28 -> 7.04
C43: Коэфф. к эксплуатации машин | D43: =Source!BB28 -> 7.04
C44: Коэфф. к материалам | D44: =Source!BC28 -> 7.04
C45: Коэфф. к ЗПМ | D45: =Source!BS28 -> 7.04
C46: % НР | F46: =Source!BZ28 -> 110 | G46: =(Source!AF28+Source!AE28)*Source!FX28/100 -> 1613.4822 | H46: =Source!X28 -> 2962.41
C47: % НР с поправкой | G47: =CONCATENATE(Source!DL28,Source!FT28, "=", Source!FX28, "%") -> *0,9=99% | H47: =CONCATENATE(Source!AT28) -> 99
...

Sheet Source
A1: 0 | B1: Smeta.RU (495) 974-1589 | D1: _PS_ | F1: 0 | G1: 0 | H1: 0 | I1: Smeta.RU | J1: НИЯУ МИФИ Доп. раб. место MCCS-0027251 | K1: 0 | L1: 27251 | M1: 10
A12: 1 | B12: 562 | C12: 0 | D12: =ROW(A500) -> 500 | E12: 0 | F12: Новый объект_(Копия) | G12: Капитальный ремонт общежития №2 НВПК НИЯУ МИФИ | I12: 0 | K12: 0 | O12: 0 | P12: 0 | Q12: 0 | R12: 0 | V12: 0 | BH12: Сметные нормы списания | BI12: Коды ценников | BJ12: 1 | BK12: 1 | BL12: 0 | BM12: 0 | BN12: 1 | BO12: 0 | BP12: 2 | BQ12: 2 | BR12: 1 | BS12: 1 | BT12: 0 | BU12: 0 | BV12: 0 | BW12: 0 | BX12: 0 | BY12: ФЕР-2017 | BZ12: ТР для Версии 10: Центральные регионы (с учетом п-ма 2536-ИП/12/ГС от 22.03.2017 г [ОРЛОВА С,В 20181] | CA12: ФЕР-2017 | CB12: ФЕР-2017 | CC12: ФЕР-2017 | CD12: ФЕР-2017 | CE12: Поправки для ГСН 2017 от 31.03.2017 г | CF12: 0 | CG12: 0 | CH12: 524296 | CK12: 4 | EC12: 0
A15: 15 | B15: 1
A18: 52 | B18: =B500 -> 562 | C18: =C500 -> 1 | D18: =D500 -> 12 | E18: =E500 -> 0 | F18: =F500 -> Новый объект_(Копия) | G18: =G500 -> Капитальный ремонт общежития №2 НВПК НИЯУ МИФИ | O18: =O500 -> 4029884.7 | P18: =P500 -> 3637032.6 | Q18: =Q500 -> 48889.08 | R18: =R500 -> 8608.25 | S18: =S500 -> 343963 | T18: =T500 -> 0 | U18: =U500 -> 5362.6676 | V18: =V500 -> 100.43238 | ... GX18: =GX500 -> 0
A20: 3 | B20: 1 | D20: =ROW(A468) -> 468 | F20: Новая локальная смета | G20: Новая локальная смета | I20: 0 | K20: 0 | V20: 0 | BX20: 0 | CF20: 0 | CG20: 0
A22: 52 | B22: =B468 -> 1 | C22: =C468 -> 3 | D22: =D468 -> 20 | E22: =E468 -> 0 | F22: =F468 -> Новая локальная смета | G22: =G468 -> Новая локальная смета | O22: =O468 -> 4029884.7 | P22: =P468 -> 3637032.6 | Q22: =Q468 -> 48889.08 | R22: =R468 -> 8608.25 | S22: =S468 -> 343963 | T22: =T468 -> 0 | U22: =U468 -> 5362.6676 | V22: =V468 -> 100.43238 | ... GX22: =GX468 -> 0
A24: 4 | B24: 1 | D24: =ROW(A143) -> 143 | F24: Новый раздел | G24: Общестроительные работы | I24: 0 | K24: 0 | V24: 0 | BX24: 0 | CJ24: 0
A26: 52 | B26: =B143 -> 1 | C26: =C143 -> 4 | D26: =D143 -> 24 | E26: =E143 -> 0 | F26: =F143 -> Новый раздел | G26: =G143 -> Общестроительные работы | O26: =O143 -> 2779291.2 | P26: =P143 -> 2546949.4 | Q26: =Q143 -> 23200.97 | R26: =R143 -> 5832.35 | S26: =S143 -> 209140.78 | T26: =T143 -> 0 | U26: =U143 -> 3393.3403 | V26: =V143 -> 69.912608 | ... GX26: =GX143 -> 0
A28: 17 | B28: 1 | C28: =ROW(SmtRes!A3) -> 3 | D28: =ROW(EtalonRes!A3) -> 3 | E28: 1 | F28: 46-04-012-01 | G28: Разборка деревянных заполнений проемов оконных с подоконными досками | H28: 100 м2 | I28: =ROUND(26.08/100,9) -> 0.2608 | J28: 0 | O28: =ROUND(CP28,2) -> 3244.71 | P28: =ROUND(CQ28*I28,2) -> 0 | Q28: =ROUND(CR28*I28,2) -> 444.23 | R28: =ROUND(CS28*I28,2) -> 191.85 | S28: =ROUND(CT28*I28,2) -> 2800.48 | T28: =ROUND(CU28*I28,2) -> 0 | U28: =CV28*I28 -> 49.171232 | V28: =CW28*I28 -> 2.018592 | W28: =ROUND(CX28*I28,2) -> 0 | X28: =ROUND(CY28,2) -> 2962.41 | Y28: =ROUND(CZ28,2) -> 1795.4 | AA28: 16612262 | AB28: =ROUND((AC28+AD28+AF28),2) -> 1767.24 | AC28: =ROUND((ES28),2) -> 0 | AD28: =ROUND((((ET28)-(EU28))+AE28),2) -> 241.95 | AE28: =ROUND((EU28),2) -> 104.49 | AF28: =ROUND((EV28),2) -> 1525.29 | AG28: =ROUND((AP28),2) -> 0 | AH28: =(EW28) -> 188.54 | AI28: =(EX28) -> 7.74 | AJ28: =ROUND((AS28),2) -> 0 | AK28: 1767.24 | AL28: 0 | AM28: 241.95 | AN28: 104.49 | AO28: 1525.29 | AP28: 0 | AQ28: 188.54 | AR28: 7.74 | AS28: 0 | AT28: 99 | AU28: 60 | AV28: 1 | AW28: 1 | AZ28: 7.04 | BA28: 7.04 | BB28: 7.04 | BC28: 7.04 | BH28: 0 | BI28: 1 | BJ28: ФЕР-2001, 46-04-012-01, приказ Минстроя России №1039/пр от 30.12.2016г. | BM28: 46001 | BN28: 0 | BP28: 0 | BQ28: 2 | BR28: 0 | BS28: 7.04 | BT28: 1 | BU28: 1 | BV28: 1 | BW28: 1 | BX28: 1 | BZ28: 110 | CA28: 70 | CF28: 0 | CG28: 0 | CM28: 0 | CO28: 0 | CP28: =(P28+Q28+S28) -> 3244.71 | CQ28: =AC28*BC28 -> 0 | CR28: =AD28*BB28 -> 1703.328 | CS28: =AE28*BS28 -> 735.6096 | CT28: =AF28*BA28 -> 10738.042 | CU28: =AG28 -> 0 | CV28: =AH28 -> 188.54 | CW28: =AI28 -> 7.74 | CX28: =AJ28 -> 0 | CY28: =(((S28+R28)*AT28)/100) -> 2962.4067 | CZ28: =(((S28+R28)*AU28)/100) -> 1795.398 | DN28: 0 | DO28: 0 | DP28: 1 | DQ28: 1 | DU28: 1005 | DV28: 100 м2 | DW28: 100 м2 | DX28: 100 | EE28: 16609168 | EF28: 2 | EG28: Общестроительные работы | EH28: 0 | EJ28: 1 | EK28: 46001 | EL28: Реконструкция зданий и сооружений | EM28: ФЕР-46 | EQ28: 131072 | ER28: 1767.24 | ES28: 0 | ET28: 241.95 | EU28: 104.49 | EV28: 1525.29 | EW28: 188.54 | EX28: 7.74 | EY28: 0 | FQ28: 0 | FR28: =ROUND(IF(AND(BH28=3,BI28=3),P28,0),2) -> 0 | FS28: 0 | FT28: *0,9 | FU28: *0,85 | FX28: 99 | FY28: 59.5 | GD28: 0 | GF28: 1630687704 | GG28: 1 | GH28: 1 | GI28: 4 | GJ28: 0 | GK28: =ROUND(R28*(R12)/100,2) -> 0 | GL28: =ROUND(IF(AND(BH28=3,BI28=3,FS28<>0),P28,0),2) -> 0 | GM28: =ROUND(O28+X28+Y28+GK28,2)+GX28 -> 8002.52 | GN28: =IF(OR(BI28=0,BI28=1),ROUND(O28+X28+Y28+GK28,2),0) -> 8002.52 | GO28: =IF(BI28=2,ROUND(O28+X28+Y28+GK28,2),0) -> 0 | GP28: =IF(BI28=4,ROUND(O28+X28+Y28+GK28,2)+GX28,0) -> 0 | GR28: 0 | GS28: 3 | GT28: 0 | GV28: =ROUND(GT28,2) -> 0 | GW28: 1 | GX28: =ROUND(GV28*GW28*I28,2) -> 0 | HA28: 0 | HB28: 0 | IK28: 0
A29: 17 | B29: 1 | C29: =ROW(SmtRes!A5) -> 5 | D29: =ROW(EtalonRes!A6) -> 6 | E29: 2 | F29: 58-3-1 | G29: Разборка мелких покрытий и обделок из листовой стали поясков, сандриков, желобов, отливов, свесов и т.п. | H29: 100 м | I29: =ROUND(29.92/100,9) -> 0.2992 | J29: 0 | O29: =ROUND(CP29,2) -> 149.93 | P29: =ROUND(CQ29*I29,2) -> 0 | Q29: =ROUND(CR29*I29,2) -> 0.42 | R29: =ROUND(CS29*I29,2) -> 0 | S29: =ROUND(CT29*I29,2) -> 149.51 | T29: =ROUND(CU29*I29,2) -> 0 | U29: =CV29*I29 -> 2.72272 | V29: =CW29*I29 -> 0 | W29: =ROUND(CX29*I29,2) -> 0 | X29: =ROUND(CY29,2) -> 124.09 | Y29: =ROUND(CZ29,2) -> 97.18 | AA29: 16612262 | AB29: =ROUND((AC29+AD29+AF29),2) -> 71.18 | AC29: =ROUND((ES29),2) -> 0 | AD29: =ROUND((((ET29)-(EU29))+AE29),2) -> 0.2 | AE29: =ROUND((EU29),2) -> 0 | AF29: =ROUND((EV29),2) -> 70.98 | AG29: =ROUND((AP29),2) -> 0 | AH29: =(EW29) -> 9.1 | AI29: =(EX29) -> 0 | AJ29: =ROUND((AS29),2) -> 0 | AK29: 71.18 | AL29: 0 | AM29: 0.2 | AN29: 0 | AO29: 70.98 | AP29: 0 | AQ29: 9.1 | AR29: 0 | AS29: 0 | AT29: 83 | AU29: 65 | AV29: 1 | AW29: 1 | AZ29: 7.04 | BA29: 7.04 | BB29: 7.04 | BC29: 7.04 | BH29: 0 | BI29: 1 | BJ29: ФЕР-2001, 58-3-1, приказ Минстроя России №1039/пр от 30.12.2016г. | BM29: 58001 | BN29: 0 | BP29: 0 | BQ29: 6 | BR29: 0 | BS29: 7.04 | BT29: 1 | BU29: 1 | BV29: 1 | BW29: 1 | BX29: 1 | BZ29: 83 | CA29: 65 | CF29: 0 | CG29: 0 | CM29: 0 | CO29: 0 | CP29: =(P29+Q29+S29) -> 149.93 | CQ29: =AC29*BC29 -> 0 | CR29: =AD29*BB29 -> 1.408 | CS29: =AE29*BS29 -> 0 | CT29: =AF29*BA29 -> 499.6992 | CU29: =AG29 -> 0 | CV29: =AH29 -> 9.1 | CW29: =AI29 -> 0 | CX29: =AJ29 -> 0 | CY29: =(((S29+R29)*AT29)/100) -> 124.0933 | CZ29: =(((S29+R29)*AU29)/100) -> 97.1815 | DN29: 0 | DO29: 0 | DP29: 1 | DQ29: 1 | DU29: 1003 | DV29: 100 м | DW29: 100 м | DX29: 100 | EE29: 16609183 | EF29: 6 | EG29: Ремонтно-строительные работы | EH29: 0 | EJ29: 1 | EK29: 58001 | EL29: Крыши, кровля | EM29: рФЕР-58 | EQ29: 131072 | ER29: 71.18 | ES29: 0 | ET29: 0.2 | EU29: 0 | EV29: 70.98 | EW29: 9.1 | EX29: 0 | EY29: 0 | FQ29: 0 | FR29: =ROUND(IF(AND(BH29=3,BI29=3),P29,0),2) -> 0 | FS29: 0 | FX29: 83 | FY29: 65 | GD29: 0 | GF29: -1944869968 | GG29: 1 | GH29: 1 | GI29: 4 | GJ29: 0 | GK29: =ROUND(R29*(R12)/100,2) -> 0 | GL29: =ROUND(IF(AND(BH29=3,BI29=3,FS29<>0),P29,0),2) -> 0 | GM29: =ROUND(O29+X29+Y29+GK29,2)+GX29 -> 371.2 | GN29: =IF(OR(BI29=0,BI29=1),ROUND(O29+X29+Y29+GK29,2),0) -> 371.2 | GO29: =IF(BI29=2,ROUND(O29+X29+Y29+GK29,2),0) -> 0 | GP29: =IF(BI29=4,ROUND(O29+X29+Y29+GK29,2)+GX29,0) -> 0 | GR29: 0 | GS29: 3 | GT29: 0 | GV29: =ROUND(GT29,2) -> 0 | GW29: 1 | GX29: =ROUND(GV29*GW29*I29,2) -> 0 | HA29: 0 | HB29: 0 | IK29: 0
A30: 17 | B30: 1 | C30: =ROW(SmtRes!A8) -> 8 | D30: =ROW(EtalonRes!A9) -> 9 | E30: 3 | F30: 46-04-012-03 | G30: Разборка деревянных заполнений проемов дверных и воротных | H30: 100 м2 | I30: =ROUND(119.64/100,9) -> 1.1964 | J30: 0 | O30: =ROUND(CP30,2) -> 9118.2 | P30: =ROUND(CQ30*I30,2) -> 0 | Q30: =ROUND(CR30*I30,2) -> 2037.86 | R30: =ROUND(CS30*I30,2) -> 880.08 | S30: =ROUND(CT30*I30,2) -> 7080.34 | T30: =ROUND(CU30*I30,2) -> 0 | U30: =CV30*I30 -> 124.31792 | V30: =CW30*I30 -> 9.260136 | W30: =ROUND(CX30*I30,2) -> 0 | X30: =ROUND(CY30,2) -> 7880.82 | Y30: =ROUND(CZ30,2) -> 4776.25 | AA30: 16612262 | AB30: =ROUND((AC30+AD30+AF30),2) -> 1082.58 | AC30: =ROUND((ES30),2) -> 0 | AD30: =ROUND((((ET30)-(EU30))+AE30),2) -> 241.95 | AE30: =ROUND((EU30),2) -> 104.49 | AF30: =ROUND((EV30),2) -> 840.63 | AG30: =ROUND((AP30),2) -> 0 | AH30: =(EW30) -> 103.91 | AI30: =(EX30) -> 7.74 | AJ30: =ROUND((AS30),2) -> 0 | AK30: 1082.58 | AL30: 0 | AM30: 241.95 | AN30: 104.49 | AO30: 840.63 | AP30: 0 | AQ30: 103.91 | AR30: 7.74 | AS30: 0 | AT30: 99 | AU30: 60 | AV30: 1 | AW30: 1 | AZ30: 7.04 | BA30: 7.04 | BB30: 7.04 | BC30: 7.04 | BH30: 0 | BI30: 1 | BJ30: ФЕР-2001, 46-04-012-03, приказ Минстроя России №1039/пр от 30.12.2016г. | BM30: 46001 | BN30: 0 | BP30: 0 | BQ30: 2 | BR30: 0 | BS30: 7.04 | BT30: 1 | BU30: 1 | BV30: 1 | BW30: 1 | BX30: 1 | BZ30: 110 | CA30: 70 | CF30: 0 | CG30: 0 | CM30: 0 | CO30: 0 | CP30: =(P30+Q30+S30) -> 9118.2 | CQ30: =AC30*BC30 -> 0 | CR30: =AD30*BB30 -> 1703.328 | CS30: =AE30*BS30 -> 735.6096 | CT30: =AF30*BA30 -> 5918.0352 | CU30: =AG30 -> 0 | CV30: =AH30 -> 103.91 | CW30: =AI30 -> 7.74 | CX30: =AJ30 -> 0 | CY30: =(((S30+R30)*AT30)/100) -> 7880.8158 | CZ30: =(((S30+R30)*AU30)/100) -> 4776.252 | DN30: 0 | DO30: 0 | DP30: 1 | DQ30: 1 | DU30: 1005 | DV30: 100 м2 | DW30: 100 м2 | DX30: 100 | EE30: 16609168 | EF30: 2 | EG30: Общестроительные работы | EH30: 0 | EJ30: 1 | EK30: 46001 | EL30: Реконструкция зданий и сооружений | EM30: ФЕР-46 | EQ30: 131072 | ER30: 1082.58 | ES30: 0 | ET30: 241.95 | EU30: 104.49 | EV30: 840.63 | EW30: 103.91 | EX30: 7.74 | EY30: 0 | FQ30: 0 | FR30: =ROUND(IF(AND(BH30=3,BI30=3),P30,0),2) -> 0 | FS30: 0 | FT30: *0,9 | FU30: *0,85 | FX30: 99 | FY30: 59.5 | GD30: 0 | GF30: 309229644 | GG30: 1 | GH30: 1 | GI30: 4 | GJ30: 0 | GK30: =ROUND(R30*(R12)/100,2) -> 0 | GL30: =ROUND(IF(AND(BH30=3,BI30=3,FS30<>0),P30,0),2) -> 0 | GM30: =ROUND(O30+X30+Y30+GK30,2)+GX30 -> 21775.27 | GN30: =IF(OR(BI30=0,BI30=1),ROUND(O30+X30+Y30+GK30,2),0) -> 21775.27 | GO30: =IF(BI30=2,ROUND(O30+X30+Y30+GK30,2),0) -> 0 | GP30: =IF(BI30=4,ROUND(O30+X30+Y30+GK30,2)+GX30,0) -> 0 | GR30: 0 | GS30: 3 | GT30: 0 | GV30: =ROUND(GT30,2) -> 0 | GW30: 1 | GX30: =ROUND(GV30*GW30*I30,2) -> 0 | HA30: 0 | HB30: 0 | IK30: 0
A31: 17 | B31: 1 | C31: =ROW(SmtRes!A15) -> 15 | D31: =ROW(EtalonRes!A17) -> 17 | E31: 4 | F31: 10-01-059-01 | G31: Разборка деревянных встроенных шкафов | H31: 100 ШТ | I31: =ROUND(4/100,9) -> 0.04 | J31: 0 | O31: =ROUND(CP31,2) -> 184.53 | P31: =ROUND(CQ31*I31,2) -> 0 | Q31: =ROUND(CR31*I31,2) -> 48.75 | R31: =ROUND(CS31*I31,2) -> 11.72 | S31: =ROUND(CT31*I31,2) -> 135.78 | T31: =ROUND(CU31*I31,2) -> 0 | U31: =CV31*I31 -> 2.4048 | V31: =CW31*I31 -> 0.1344 | W31: =ROUND(CX31*I31,2) -> 0 | X31: =ROUND(CY31,2) -> 156.35 | Y31: =ROUND(CZ31,2) -> 79.65 | AA31: 16612262 | AB31: =ROUND((AC31+AD31+AF31),2) -> 655.27 | AC31: =ROUND(((ES31*0)),2) -> 0 | AD31: =ROUND(((((ET31*0.8))-((EU31*0.8)))+AE31),2) -> 173.11 | AE31: =ROUND(((EU31*0.8)),2) -> 41.61 | AF31: =ROUND(((EV31*0.8)),2) -> 482.16 | AG31: =ROUND((AP31),2) -> 0 | AH31: =((EW31*0.8)) -> 60.12 | AI31: =((EX31*0.8)) -> 3.36 | AJ31: =ROUND((AS31),2) -> 0 | AK31: 2452.44 | AL31: 1633.36 | AM31: 216.38 | AN31: 52.01 | AO31: 602.7 | AP31: 0 | AQ31: 75.15 | AR31: 4.2 | AS31: 0 | AT31: 106 | AU31: 54 | AV31: 1 | AW31: 1 | AZ31: 7.04 | BA31: 7.04 | BB31: 7.04 | BC31: 7.04 | BH31: 0 | BI31: 1 | BJ31: ФЕР-2001, 10-01-059-01, приказ Минстроя России №1039/пр от 30.12.2016г. | BM31: 10001 | BN31: 0 | BP31: 0 | BQ31: 2 | BR31: 0 | BS31: 7.04 | BT31: 1 | BU31: 1 | BV31: 1 | BW31: 1 | BX31: 1 | BZ31: 118 | CA31: 63 | CF31: 0 | CG31: 0 | CM31: 0 | CN31: Поправка: Табл.2, п.2 Наименование: При демонтаже (разборке) сборных деревянных конструкций | CO31: 0 | CP31: =(P31+Q31+S31) -> 184.53 | CQ31: =AC31*BC31 -> 0 | CR31: =AD31*BB31 -> 1218.6944 | CS31: =AE31*BS31 -> 292.9344 | CT31: =AF31*BA31 -> 3394.4064 | CU31: =AG31 -> 0 | CV31: =AH31 -> 60.12 | CW31: =AI31 -> 3.36 | CX31: =AJ31 -> 0 | CY31: =(((S31+R31)*AT31)/100) -> 156.35 | CZ31: =(((S31+R31)*AU31)/100) -> 79.65 | DD31: )*0 | DE31: )*0,8 | DF31: )*0,8 | DG31: )*0,8 | DI31: )*0,8 | DJ31: )*0,8 | DN31: 0 | DO31: 0 | DP31: 1 | DQ31: 1 | DU31: 1013 | DV31: 100 ШТ | DW31: 100 ШТ | DX31: 1 | EE31: 16609107 | EF31: 2 | EG31: Общестроительные работы | EH31: 0 | EJ31: 1 | EK31: 10001 | EL31: Деревянные конструкции | EM31: ФЕР-10 | EO31: Поправка: Табл.2, п.2 | EQ31: 131072 | ER31: 2452.44 | ES31: 1633.36 | ET31: 216.38 | EU31: 52.01 | EV31: 602.7 | EW31: 75.15 | EX31: 4.2 | EY31: 0 | FQ31: 0 | FR31: =ROUND(IF(AND(BH31=3,BI31=3),P31,0),2) -> 0 | FS31: 0 | FT31: *0,9 | FU31: *0,85 | FX31: 106.2 | FY31: 53.55 | GD31: 0 | GF31: -742076266 | GG31: 1 | GH31: 1 | GI31: 4 | GJ31: 0 | GK31: =ROUND(R31*(R12)/100,2) -> 0 | GL31: =ROUND(IF(AND(BH31=3,BI31=3,FS31<>0),P31,0),2) -> 0 | GM31: =ROUND(O31+X31+Y31+GK31,2)+GX31 -> 420.53 | GN31: =IF(OR(BI31=0,BI31=1),ROUND(O31+X31+Y31+GK31,2),0) -> 420.53 | GO31: =IF(BI31=2,ROUND(O31+X31+Y31+GK31,2),0) -> 0 | GP31: =IF(BI31=4,ROUND(O31+X31+Y31+GK31,2)+GX31,0) -> 0 | GR31: 0 | GS31: 3 | GT31: 0 | GV31: =ROUND(GT31,2) -> 0 | GW31: 1 | GX31: =ROUND(GV31*GW31*I31,2) -> 0 | HA31: 0 | HB31: 0 | IK31: 0
A32: 17 | B32: 1 | C32: =ROW(SmtRes!A16) -> 16 | D32: =ROW(EtalonRes!A19) -> 19 | E32: 5 | F32: 57-1-2 | G32: Разборка оснований покрытия полов лаг из досок и брусков | H32: 100 м2 | I32: =ROUND(11.9/100,9) -> 0.119 | J32: 0 | O32: =ROUND(CP32,2) -> 50.12 | P32: =ROUND(CQ32*I32,2) -> 0 | Q32: =ROUND(CR32*I32,2) -> 0 | R32: =ROUND(CS32*I32,2) -> 0 | S32: =ROUND(CT32*I32,2) -> 50.12 | T32: =ROUND(CU32*I32,2) -> 0 | U32: =CV32*I32 -> 0.91273 | V32: =CW32*I32 -> 0 | W32: =ROUND(CX32*I32,2) -> 0 | X32: =ROUND(CY32,2) -> 40.1 | Y32: =ROUND(CZ32,2) -> 34.08 | AA32: 16612262 | AB32: =ROUND((AC32+AD32+AF32),2) -> 59.83 | AC32: =ROUND((ES32),2) -> 0 | AD32: =ROUND((((ET32)-(EU32))+AE32),2) -> 0 | AE32: =ROUND((EU32),2) -> 0 | AF32: =ROUND((EV32),2) -> 59.83 | AG32: =ROUND((AP32),2) -> 0 | AH32: =(EW32) -> 7.67 | AI32: =(EX32) -> 0 | AJ32: =ROUND((AS32),2) -> 0 | AK32: 59.83 | AL32: 0 | AM32: 0 | AN32: 0 | AO32: 59.83 | AP32: 0 | AQ32: 7.67 | AR32: 0 | AS32: 0 | AT32: 80 | AU32: 68 | AV32: 1 | AW32: 1 | AZ32: 7.04 | BA32: 7.04 | BB32: 7.04 | BC32: 7.04 | BH32: 0 | BI32: 1 | BJ32: ФЕР-2001, 57-1-2, приказ Минстроя России №1039/пр от 30.12.2016г. | BM32: 57001 | BN32: 0 | BP32: 0 | BQ32: 6 | BR32: 0 | BS32: 7.04 | BT32: 1 | BU32: 1 | BV32: 1 | BW32: 1 | BX32: 1 | BZ32: 80 | CA32: 68 | CF32: 0 | CG32: 0 | CM32: 0 | CO32: 0 | CP32: =(P32+Q32+S32) -> 50.12 | CQ32: =AC32*BC32 -> 0 | CR32: =AD32*BB32 -> 0 | CS32: =AE32*BS32 -> 0 | CT32: =AF32*BA32 -> 421.2032 | CU32: =AG32 -> 0 | CV32: =AH32 -> 7.67 | CW32: =AI32 -> 0 | CX32: =AJ32 -> 0 | CY32: =(((S32+R32)*AT32)/100) -> 40.096 | CZ32: =(((S32+R32)*AU32)/100) -> 34.0816 | DN32: 0 | DO32: 0 | DP32: 1 | DQ32: 1 | DU32: 1005 | DV32: 100 м2 | DW32: 100 м2 | DX32: 100 | EE32: 16609182 | EF32: 6 | EG32: Ремонтно-строительные работы | EH32: 0 | EJ32: 1 | EK32: 57001 | EL32: Полы | EM32: рФЕР-57 | EQ32: 131072 | ER32: 59.83 | ES32: 0 | ET32: 0 | EU32: 0 | EV32: 59.83 | EW32: 7.67 | EX32: 0 | EY32: 0 | FQ32: 0 | FR32: =ROUND(IF(AND(BH32=3,BI32=3),P32,0),2) -> 0 | FS32: 0 | FX32: 80 | FY32: 68 | GD32: 0 | GF32: 540249539 | GG32: 1 | GH32: 1 | GI32: 4 | GJ32: 0 | GK32: =ROUND(R32*(R12)/100,2) -> 0 | GL32: =ROUND(IF(AND(BH32=3,BI32=3,FS32<>0),P32,0),2) -> 0 | GM32: =ROUND(O32+X32+Y32+GK32,2)+GX32 -> 124.3 | GN32: =IF(OR(BI32=0,BI32=1),ROUND(O32+X32+Y32+GK32,2),0) -> 124.3 | GO32: =IF(BI32=2,ROUND(O32+X32+Y32+GK32,2),0) -> 0 | GP32: =IF(BI32=4,ROUND(O32+X32+Y32+GK32,2)+GX32,0) -> 0 | GR32: 0 | GS32: 3 | GT32: 0 | GV32: =ROUND(GT32,2) -> 0 | GW32: 1 | GX32: =ROUND(GV32*GW32*I32,2) -> 0 | HA32: 0 | HB32: 0 | IK32: 0
A33: 17 | B33: 1 | C33: =ROW(SmtRes!A19) -> 19 | D33: =ROW(EtalonRes!A23) -> 23 | E33: 6 | F33: 57-2-1 | G33: Разборка покрытий полов из линолеума и релина | H33: 100 м2 | I33: =ROUND(376.4/100,9) -> 3.764 | J33: 0 | O33: =ROUND(CP33,2) -> 2461.71 | P33: =ROUND(CQ33*I33,2) -> 0 | Q33: =ROUND(CR33*I33,2) -> 107.58 | R33: =ROUND(CS33*I33,2) -> 46.64 | S33: =ROUND(CT33*I33,2) -> 2354.13 | T33: =ROUND(CU33*I33,2) -> 0 | U33: =CV33*I33 -> 42.87196 | V33: =CW33*I33 -> 0.48932 | W33: =ROUND(CX33*I33,2) -> 0 | X33: =ROUND(CY33,2) -> 1920.62 | Y33: =ROUND(CZ33,2) -> 1632.52 | AA33: 16612262 | AB33: =ROUND((AC33+AD33+AF33),2) -> 92.9 | AC33: =ROUND((ES33),2) -> 0 | AD33: =ROUND((((ET33)-(EU33))+AE33),2) -> 4.06 | AE33: =ROUND((EU33),2) -> 1.76 | AF33: =ROUND((EV33),2) -> 88.84 | AG33: =ROUND((AP33),2) -> 0 | AH33: =(EW33) -> 11.39 | AI33: =(EX33) -> 0.13 | AJ33: =ROUND((AS33),2) -> 0 | AK33: 92.9 | AL33: 0 | AM33: 4.06 | AN33: 1.76 | AO33: 88.84 | AP33: 0 | AQ33: 11.39 | AR33: 0.13 | AS33: 0 | AT33: 80 | AU33: 68 | AV33: 1 | AW33: 1 | AZ33: 7.04 | BA33: 7.04 | BB33: 7.04 | BC33: 7.04 | BH33: 0 | BI33: 1 | BJ33: ФЕР-2001, 57-2-1, приказ Минстроя России №1039/пр от 30.12.2016г. | BM33: 57001 | BN33: 0 | BP33: 0 | BQ33: 6 | BR33: 0 | BS33: 7.04 | BT33: 1 | BU33: 1 | BV33: 1 | BW33: 1 | BX33: 1 | BZ33: 80 | CA33: 68 | CF33: 0 | CG33: 0 | CM33: 0 | CO33: 0 | CP33: =(P33+Q33+S33) -> 2461.71 | CQ33: =AC33*BC33 -> 0 | CR33: =AD33*BB33 -> 28.5824 | CS33: =AE33*BS33 -> 12.3904 | CT33: =AF33*BA33 -> 625.4336 | CU33: =AG33 -> 0 | CV33: =AH33 -> 11.39 | CW33: =AI33 -> 0.13 | CX33: =AJ33 -> 0 | CY33: =(((S33+R33)*AT33)/100) -> 1920.616 | CZ33: =(((S33+R33)*AU33)/100) -> 1632.5236 | DN33: 0 | DO33: 0 | DP33: 1 | DQ33: 1 | DU33: 1005 | DV33: 100 м2 | DW33: 100 м2 | DX33: 100 | EE33: 16609182 | EF33: 6 | EG33: Ремонтно-строительные работы | EH33: 0 | EJ33: 1 | EK33: 57001 | EL33: Полы | EM33: рФЕР-57 | EQ33: 131072 | ER33: 92.9 | ES33: 0 | ET33: 4.06 | EU33: 1.76 | EV33: 88.84 | EW33: 11.39 | EX33: 0.13 | EY33: 0 | FQ33: 0 | FR33: =ROUND(IF(AND(BH33=3,BI33=3),P33,0),2) -> 0 | FS33: 0 | FX33: 80 | FY33: 68 | GD33: 0 | GF33: -1228944231 | GG33: 1 | GH33: 1 | GI33: 4 | GJ33: 0 | GK33: =ROUND(R33*(R12)/100,2) -> 0 | GL33: =ROUND(IF(AND(BH33=3,BI33=3,FS33<>0),P33,0),2) -> 0 | GM33: =ROUND(O33+X33+Y33+GK33,2)+GX33 -> 6014.85 | GN33: =IF(OR(BI33=0,BI33=1),ROUND(O33+X33+Y33+GK33,2),0) -> 6014.85 | GO33: =IF(BI33=2,ROUND(O33+X33+Y33+GK33,2),0) -> 0 | GP33: =IF(BI33=4,ROUND(O33+X33+Y33+GK33,2)+GX33,0) -> 0 | GR33: 0 | GS33: 3 | GT33: 0 | GV33: =ROUND(GT33,2) -> 0 | GW33: 1 | GX33: =ROUND(GV33*GW33*I33,2) -> 0 | HA33: 0 | HB33: 0 | IK33: 0
A34: 17 | B34: 1 | C34: =ROW(SmtRes!A22) -> 22 | D34: =ROW(EtalonRes!A27) -> 27 | E34: 7 | F34: 57-2-3 | G34: Разборка покрытий полов из керамических плиток | H34: 100 м2 | I34: =ROUND(49.7/100,9) -> 0.497 | J34: 0 | O34: =ROUND(CP34,2) -> 2242.78 | P34: =ROUND(CQ34*I34,2) -> 0 | Q34: =ROUND(CR34*I34,2) -> 157.48 | R34: =ROUND(CS34*I34,2) -> 68.02 | S34: =ROUND(CT34*I34,2) -> 2085.3 | T34: =ROUND(CU34*I34,2) -> 0 | U34: =CV34*I34 -> 34.72539 | V34: =CW34*I34 -> 0.71568 | W34: =ROUND(CX34*I34,2) -> 0 | X34: =ROUND(CY34,2) -> 1722.66 | Y34: =ROUND(CZ34,2) -> 1464.26 | AA34: 16612262 | AB34: =ROUND((AC34+AD34+AF34),2) -> 641 | AC34: =ROUND((ES34),2) -> 0 | AD34: =ROUND((((ET34)-(EU34))+AE34),2) -> 45.01 | AE34: =ROUND((EU34),2) -> 19.44 | AF34: =ROUND((EV34),2) -> 595.99 | AG34: =ROUND((AP34),2) -> 0 | AH34: =(EW34) -> 69.87 | AI34: =(EX34) -> 1.44 | AJ34: =ROUND((AS34),2) -> 0 | AK34: 641 | AL34: 0 | AM34: 45.01 | AN34: 19.44 | AO34: 595.99 | AP34: 0 | AQ34: 69.87 | AR34: 1.44 | AS34: 0 | AT34: 80 | AU34: 68 | AV34: 1 | AW34: 1 | AZ34: 7.04 | BA34: 7.04 | BB34: 7.04 | BC34: 7.04 | BH34: 0 | BI34: 1 | BJ34: ФЕР-2001, 57-2-3, приказ Минстроя России №1039/пр от 30.12.2016г. | BM34: 57001 | BN34: 0 | BP34: 0 | BQ34: 6 | BR34: 0 | BS34: 7.04 | BT34: 1 | BU34: 1 | BV34: 1 | BW34: 1 | BX34: 1 | BZ34: 80 | CA34: 68 | CF34: 0 | CG34: 0 | CM34: 0 | CO34: 0 | CP34: =(P34+Q34+S34) -> 2242.78 | CQ34: =AC34*BC34 -> 0 | CR34: =AD34*BB34 -> 316.8704 | CS34: =AE34*BS34 -> 136.8576 | CT34: =AF34*BA34 -> 4195.7696 | CU34: =AG34 -> 0 | CV34: =AH34 -> 69.87 | CW34: =AI34 -> 1.44 | CX34: =AJ34 -> 0 | CY34: =(((S34+R34)*AT34)/100) -> 1722.656 | CZ34: =(((S34+R34)*AU34)/100) -> 1464.2576 | DN34: 0 | DO34: 0 | DP34: 1 | DQ34: 1 | DU34: 1005 | DV34: 100 м2 | DW34: 100 м2 | DX34: 100 | EE34: 16609182 | EF34: 6 | EG34: Ремонтно-строительные работы | EH34: 0 | EJ34: 1 | EK34: 57001 | EL34: Полы | EM34: рФЕР-57 | EQ34: 131072 | ER34: 641 | ES34: 0 | ET34: 45.01 | EU34: 19.44 | EV34: 595.99 | EW34: 69.87 | EX34: 1.44 | EY34: 0 | FQ34: 0 | FR34: =ROUND(IF(AND(BH34=3,BI34=3),P34,0),2) -> 0 | FS34: 0 | FX34: 80 | FY34: 68 | GD34: 0 | GF34: 1406297217 | GG34: 1 | GH34: 1 | GI34: 4 | GJ34: 0 | GK34: =ROUND(R34*(R12)/100,2) -> 0 | GL34: =ROUND(IF(AND(BH34=3,BI34=3,FS34<>0),P34,0),2) -> 0 | GM34: =ROUND(O34+X34+Y34+GK34,2)+GX34 -> 5429.7 | GN34: =IF(OR(BI34=0,BI34=1),ROUND(O34+X34+Y34+GK34,2),0) -> 5429.7 | GO34: =IF(BI34=2,ROUND(O34+X34+Y34+GK34,2),0) -> 0 | GP34: =IF(BI34=4,ROUND(O34+X34+Y34+GK34,2)+GX34,0) -> 0 | GR34: 0 | GS34: 3 | GT34: 0 | GV34: =ROUND(GT34,2) -> 0 | GW34: 1 | GX34: =ROUND(GV34*GW34*I34,2) -> 0 | HA34: 0 | HB34: 0 | IK34: 0
A35: 17 | B35: 1 | C35: =ROW(SmtRes!A27) -> 27 | D35: =ROW(EtalonRes!A33) -> 33 | E35: 8 | F35: 57-2-4 | G35: Разборка покрытий полов цементных толщиной 45 мм | H35: 100 м2 | I35: =ROUND(49.7/100,9) -> 0.497 | J35: 0 | O35: =ROUND(CP35,2) -> 5904.57 | P35: =ROUND(CQ35*I35,2) -> 0 | Q35: =ROUND(CR35*I35,2) -> 2585.74 | R35: =ROUND(CS35*I35,2) -> 85.02 | S35: =ROUND(CT35*I35,2) -> 3318.83 | T35: =ROUND(CU35*I35,2) -> 0 | U35: =CV35*I35 -> 55.2664 | V35: =CW35*I35 -> 0.8946 | W35: =ROUND(CX35*I35,2) -> 0 | X35: =ROUND(CY35,2) -> 2723.08 | Y35: =ROUND(CZ35,2) -> 2314.62 | AA35: 16612262 | AB35: =ROUND((AC35+AD35+AF35),2) -> 1687.56 | AC35: =ROUND((ES35),2) -> 0 | AD35: =ROUND((((ET35)-(EU35))+AE35),2) -> 739.02 | AE35: =ROUND((EU35),2) -> 24.3 | AF35: =ROUND((EV35),2) -> 948.54 | AG35: =ROUND((AP35),2) -> 0 | AH35: =(EW35) -> 111.2 | AI35: =(EX35) -> 1.8 | AJ35: =ROUND((AS35),2) -> 0 | AK35: 1687.56 | AL35: 0 | AM35: 739.02 | AN35: 24.3 | AO35: 948.54 | AP35: 0 | AQ35: 111.2 | AR35: 1.8 | AS35: 0 | AT35: 80 | AU35: 68 | AV35: 1 | AW35: 1 | AZ35: 7.04 | BA35: 7.04 | BB35: 7.04 | BC35: 7.04 | BH35: 0 | BI35: 1 | BJ35: ФЕР-2001, 57-2-4, приказ Минстроя России №1039/пр от 30.12.2016г. | BM35: 57001 | BN35: 0 | BP35: 0 | BQ35: 6 | BR35: 0 | BS35: 7.04 | BT35: 1 | BU35: 1 | BV35: 1 | BW35: 1 | BX35: 1 | BZ35: 80 | CA35: 68 | CF35: 0 | CG35: 0 | CM35: 0 | CO35: 0 | CP35: =(P35+Q35+S35) -> 5904.57 | CQ35: =AC35*BC35 -> 0 | CR35: =AD35*BB35 -> 5202.7008 | CS35: =AE35*BS35 -> 171.072 | CT35: =AF35*BA35 -> 6677.7216 | CU35: =AG35 -> 0 | CV35: =AH35 -> 111.2 | CW35: =AI35 -> 1.8 | CX35: =AJ35 -> 0 | CY35: =(((S35+R35)*AT35)/100) -> 2723.08 | CZ35: =(((S35+R35)*AU35)/100) -> 2314.618 | DN35: 0 | DO35: 0 | DP35: 1 | DQ35: 1 | DU35: 1005 | DV35: 100 м2 | DW35: 100 м2 | DX35: 100 | EE35: 16609182 | EF35: 6 | EG35: Ремонтно-строительные работы | EH35: 0 | EJ35: 1 | EK35: 57001 | EL35: Полы | EM35: рФЕР-57 | EQ35: 131072 | ER35: 1687.56 | ES35: 0 | ET35: 739.02 | EU35: 24.3 | EV35: 948.54 | EW35: 111.2 | EX35: 1.8 | EY35: 0 | FQ35: 0 | FR35: =ROUND(IF(AND(BH35=3,BI35=3),P35,0),2) -> 0 | FS35: 0 | FX35: 80 | FY35: 68 | GD35: 0 | GF35: 212126470 | GG35: 1 | GH35: 1 | GI35: 4 | GJ35: 0 | GK35: =ROUND(R35*(R12)/100,2) -> 0 | GL35: =ROUND(IF(AND(BH35=3,BI35=3,FS35<>0),P35,0),2) -> 0 | GM35: =ROUND(O35+X35+Y35+GK35,2)+GX35 -> 10942.27 | GN35: =IF(OR(BI35=0,BI35=1),ROUND(O35+X35+Y35+GK35,2),0) -> 10942.27 | GO35: =IF(BI35=2,ROUND(O35+X35+Y35+GK35,2),0) -> 0 | GP35: =IF(BI35=4,ROUND(O35+X35+Y35+GK35,2)+GX35,0) -> 0 | GR35: 0 | GS35: 3 | GT35: 0 | GV35: =ROUND(GT35,2) -> 0 | GW35: 1 | GX35: =ROUND(GV35*GW35*I35,2) -> 0 | HA35: 0 | HB35: 0 | IK35: 0
A36: 17 | B36: 1 | C36: =ROW(SmtRes!A28) -> 28 | D36: =ROW(EtalonRes!A35) -> 35 | E36: 9 | F36: 57-3-2 | G36: Разборка плинтусов цементных и из керамической плитки | H36: 100 м | I36: =ROUND(87.09/100,9) -> 0.8709 | J36: 0 | O36: =ROUND(CP36,2) -> 682.89 | P36: =ROUND(CQ36*I36,2) -> 0 | Q36: =ROUND(CR36*I36,2) -> 0 | R36: =ROUND(CS36*I36,2) -> 0 | S36: =ROUND(CT36*I36,2) -> 682.89 | T36: =ROUND(CU36*I36,2) -> 0 | U36: =CV36*I36 -> 12.436452 | V36: =CW36*I36 -> 0 | W36: =ROUND(CX36*I36,2) -> 0 | X36: =ROUND(CY36,2) -> 546.31 | Y36: =ROUND(CZ36,2) -> 464.37 | AA36: 16612262 | AB36: =ROUND((AC36+AD36+AF36),2) -> 111.38 | AC36: =ROUND((ES36),2) -> 0 | AD36: =ROUND((((ET36)-(EU36))+AE36),2) -> 0 | AE36: =ROUND((EU36),2) -> 0 | AF36: =ROUND((EV36),2) -> 111.38 | AG36: =ROUND((AP36),2) -> 0 | AH36: =(EW36) -> 14.28 | AI36: =(EX36) -> 0 | AJ36: =ROUND((AS36),2) -> 0 | AK36: 111.38 | AL36: 0 | AM36: 0 | AN36: 0 | AO36: 111.38 | AP36: 0 | AQ36: 14.28 | AR36: 0 | AS36: 0 | AT36: 80 | AU36: 68 | AV36: 1 | AW36: 1 | AZ36: 7.04 | BA36: 7.04 | BB36: 7.04 | BC36: 7.04 | BH36: 0 | BI36: 1 | BJ36: ФЕР-2001, 57-3-2, приказ Минстроя России №1039/пр от 30.12.2016г. | BM36: 57001 | BN36: 0 | BP36: 0 | BQ36: 6 | BR36: 0 | BS36: 7.04 | BT36: 1 | BU36: 1 | BV36: 1 | BW36: 1 | BX36: 1 | BZ36: 80 | CA36: 68 | CF36: 0 | CG36: 0 | CM36: 0 | CO36: 0 | CP36: =(P36+Q36+S36) -> 682.89 | CQ36: =AC36*BC36 -> 0 | CR36: =AD36*BB36 -> 0 | CS36: =AE36*BS36 -> 0 | CT36: =AF36*BA36 -> 784.1152 | CU36: =AG36 -> 0 | CV36: =AH36 -> 14.28 | CW36: =AI36 -> 0 | CX36: =AJ36 -> 0 | CY36: =(((S36+R36)*AT36)/100) -> 546.312 | CZ36: =(((S36+R36)*AU36)/100) -> 464.3652 | DN36: 0 | DO36: 0 | DP36: 1 | DQ36: 1 | DU36: 1003 | DV36: 100 м | DW36: 100 м | DX36: 100 | EE36: 16609182 | EF36: 6 | EG36: Ремонтно-строительные работы | EH36: 0 | EJ36: 1 | EK36: 57001 | EL36: Полы | EM36: рФЕР-57 | EQ36: 131072 | ER36: 111.38 | ES36: 0 | ET36: 0 | EU36: 0 | EV36: 111.38 | EW36: 14.28 | EX36: 0 | EY36: 0 | FQ36: 0 | FR36: =ROUND(IF(AND(BH36=3,BI36=3),P36,0),2) -> 0 | FS36: 0 | FX36: 80 | FY36: 68 | GD36: 0 | GF36: -1480636884 | GG36: 1 | GH36: 1 | GI36: 4 | GJ36: 0 | GK36: =ROUND(R36*(R12)/100,2) -> 0 | GL36: =ROUND(IF(AND(BH36=3,BI36=3,FS36<>0),P36,0),2) -> 0 | GM36: =ROUND(O36+X36+Y36+GK36,2)+GX36 -> 1693.57 | GN36: =IF(OR(BI36=0,BI36=1),ROUND(O36+X36+Y36+GK36,2),0) -> 1693.57 | GO36: =IF(BI36=2,ROUND(O36+X36+Y36+GK36,2),0) -> 0 | GP36: =IF(BI36=4,ROUND(O36+X36+Y36+GK36,2)+GX36,0) -> 0 | GR36: 0 | GS36: 3 | GT36: 0 | GV36: =ROUND(GT36,2) -> 0 | GW36: 1 | GX36: =ROUND(GV36*GW36*I36,2) -> 0 | HA36: 0 | HB36: 0 | IK36: 0
A37: 17 | B37: 1 | C37: =ROW(SmtRes!A29) -> 29 | D37: =ROW(EtalonRes!A37) -> 37 | E37: 10 | F37: 57-3-1 | G37: Разборка плинтусов деревянных и из пластмассовых материалов | H37: 100 м | I37: =ROUND(336.74/100,9) -> 3.3674 | J37: 0 | O37: =ROUND(CP37,2) -> 697.21 | P37: =ROUND(CQ37*I37,2) -> 0 | Q37: =ROUND(CR37*I37,2) -> 0 | R37: =ROUND(CS37*I37,2) -> 0 | S37: =ROUND(CT37*I37,2) -> 697.21 | T37: =ROUND(CU37*I37,2) -> 0 | U37: =CV37*I37 -> 12.695098 | V37: =CW37*I37 -> 0 | W37: =ROUND(CX37*I37,2) -> 0 | X37: =ROUND(CY37,2) -> 557.77 | Y37: =ROUND(CZ37,2) -> 474.1 | AA37: 16612262 | AB37: =ROUND((AC37+AD37+AF37),2) -> 29.41 | AC37: =ROUND((ES37),2) -> 0 | AD37: =ROUND((((ET37)-(EU37))+AE37),2) -> 0 | AE37: =ROUND((EU37),2) -> 0 | AF37: =ROUND((EV37),2) -> 29.41 | AG37: =ROUND((AP37),2) -> 0 | AH37: =(EW37) -> 3.77 | AI37: =(EX37) -> 0 | AJ37: =ROUND((AS37),2) -> 0 | AK37: 29.41 | AL37: 0 | AM37: 0 | AN37: 0 | AO37: 29.41 | AP37: 0 | AQ37: 3.77 | AR37: 0 | AS37: 0 | AT37: 80 | AU37: 68 | AV37: 1 | AW37: 1 | AZ37: 7.04 | BA37: 7.04 | BB37: 7.04 | BC37: 7.04 | BH37: 0 | BI37: 1 | BJ37: ФЕР-2001, 57-3-1, приказ Минстроя России №1039/пр от 30.12.2016г. | BM37: 57001 | BN37: 0 | BP37: 0 | BQ37: 6 | BR37: 0 | BS37: 7.04 | BT37: 1 | BU37: 1 | BV37: 1 | BW37: 1 | BX37: 1 | BZ37: 80 | CA37: 68 | CF37: 0 | CG37: 0 | CM37: 0 | CO37: 0 | CP37: =(P37+Q37+S37) -> 697.21 | CQ37: =AC37*BC37 -> 0 | CR37: =AD37*BB37 -> 0 | CS37: =AE37*BS37 -> 0 | CT37: =AF37*BA37 -> 207.0464 | CU37: =AG37 -> 0 | CV37: =AH37 -> 3.77 | CW37: =AI37 -> 0 | CX37: =AJ37 -> 0 | CY37: =(((S37+R37)*AT37)/100) -> 557.768 | CZ37: =(((S37+R37)*AU37)/100) -> 474.1028 | DN37: 0 | DO37: 0 | DP37: 1 | DQ37: 1 | DU37: 1003 | DV37: 100 м | DW37: 100 м | DX37: 100 | EE37: 16609182 | EF37: 6 | EG37: Ремонтно-строительные работы | EH37: 0 | EJ37: 1 | EK37: 57001 | EL37: Полы | EM37: рФЕР-57 | EQ37: 131072 | ER37: 29.41 | ES37: 0 | ET37: 0 | EU37: 0 | EV37: 29.41 | EW37: 3.77 | EX37: 0 | EY37: 0 | FQ37: 0 | FR37: =ROUND(IF(AND(BH37=3,BI37=3),P37,0),2) -> 0 | FS37: 0 | FX37: 80 | FY37: 68 | GD37: 0 | GF37: -1431764135 | GG37: 1 | GH37: 1 | GI37: 4 | GJ37: 0 | GK37: =ROUND(R37*(R12)/100,2) -> 0 | GL37: =ROUND(IF(AND(BH37=3,BI37=3,FS37<>0),P37,0),2) -> 0 | GM37: =ROUND(O37+X37+Y37+GK37,2)+GX37 -> 1729.08 | GN37: =IF(OR(BI37=0,BI37=1),ROUND(O37+X37+Y37+GK37,2),0) -> 1729.08 | GO37: =IF(BI37=2,ROUND(O37+X37+Y37+GK37,2),0) -> 0 | GP37: =IF(BI37=4,ROUND(O37+X37+Y37+GK37,2)+GX37,0) -> 0 | GR37: 0 | GS37: 3 | GT37: 0 | GV37: =ROUND(GT37,2) -> 0 | GW37: 1 | GX37: =ROUND(GV37*GW37*I37,2) -> 0 | HA37: 0 | HB37: 0 | IK37: 0
A38: 17 | B38: 1 | C38: =ROW(SmtRes!A34) -> 34 | D38: =ROW(EtalonRes!A42) -> 42 | E38: 11 | F38: 63-7-5 | G38: Разборка облицовки стен из керамических глазурованных плиток | H38: 100 м2 | I38: =ROUND(116.69/100,9) -> 1.1669 | J38: 0 | O38: =ROUND(CP38,2) -> 5372.6 | P38: =ROUND(CQ38*I38,2) -> 0 | Q38: =ROUND(CR38*I38,2) -> 568.97 | R38: =ROUND(CS38*I38,2) -> 38.86 | S38: =ROUND(CT38*I38,2) -> 4803.63 | T38: =ROUND(CU38*I38,2) -> 0 | U38: =CV38*I38 -> 86.70067 | V38: =CW38*I38 -> 0.408415 | W38: =ROUND(CX38*I38,2) -> 0 | X38: =ROUND(CY38,2) -> 3728.72 | Y38: =ROUND(CZ38,2) -> 2421.25 | AA38: 16612262 | AB38: =ROUND((AC38+AD38+AF38),2) -> 654 | AC38: =ROUND((ES38),2) -> 0 | AD38: =ROUND((((ET38)-(EU38))+AE38),2) -> 69.26 | AE38: =ROUND((EU38),2) -> 4.73 | AF38: =ROUND((EV38),2) -> 584.74 | AG38: =ROUND((AP38),2) -> 0 | AH38: =(EW38) -> 74.3 | AI38: =(EX38) -> 0.35 | AJ38: =ROUND((AS38),2) -> 0 | AK38: 654 | AL38: 0 | AM38: 69.26 | AN38: 4.73 | AO38: 584.74 | AP38: 0 | AQ38: 74.3 | AR38: 0.35 | AS38: 0 | AT38: 77 | AU38: 50 | AV38: 1 | AW38: 1 | AZ38: 7.04 | BA38: 7.04 | BB38: 7.04 | BC38: 7.04 | BH38: 0 | BI38: 1 | BJ38: ФЕР-2001, 63-7-5, приказ Минстроя России №1039/пр от 30.12.2016г. | BM38: 63001 | BN38: 0 | BP38: 0 | BQ38: 6 | BR38: 0 | BS38: 7.04 | BT38: 1 | BU38: 1 | BV38: 1 | BW38: 1 | BX38: 1 | BZ38: 77 | CA38: 50 | CF38: 0 | CG38: 0 | CM38: 0 | CO38: 0 | CP38: =(P38+Q38+S38) -> 5372.6 | CQ38: =AC38*BC38 -> 0 | CR38: =AD38*BB38 -> 487.5904 | CS38: =AE38*BS38 -> 33.2992 | CT38: =AF38*BA38 -> 4116.5696 | CU38: =AG38 -> 0 | CV38: =AH38 -> 74.3 | CW38: =AI38 -> 0.35 | CX38: =AJ38 -> 0 | CY38: =(((S38+R38)*AT38)/100) -> 3728.7173 | CZ38: =(((S38+R38)*AU38)/100) -> 2421.245 | DN38: 0 | DO38: 0 | DP38: 1 | DQ38: 1 | DU38: 1005 | DV38: 100 м2 | DW38: 100 м2 | DX38: 100 | EE38: 16609188 | EF38: 6 | EG38: Ремонтно-строительные работы | EH38: 0 | EJ38: 1 | EK38: 63001 | EL38: Стекольные, обойные, облицовочные работы | EM38: рФЕР-63 | EQ38: 131072 | ER38: 654 | ES38: 0 | ET38: 69.26 | EU38: 4.73 | EV38: 584.74 | EW38: 74.3 | EX38: 0.35 | EY38: 0 | FQ38: 0 | FR38: =ROUND(IF(AND(BH38=3,BI38=3),P38,0),2) -> 0 | FS38: 0 | FX38: 77 | FY38: 50 | GD38: 0 | GF38: -1765919460 | GG38: 1 | GH38: 1 | GI38: 4 | GJ38: 0 | GK38: =ROUND(R38*(R12)/100,2) -> 0 | GL38: =ROUND(IF(AND(BH38=3,BI38=3,FS38<>0),P38,0),2) -> 0 | GM38: =ROUND(O38+X38+Y38+GK38,2)+GX38 -> 11522.57 | GN38: =IF(OR(BI38=0,BI38=1),ROUND(O38+X38+Y38+GK38,2),0) -> 11522.57 | GO38: =IF(BI38=2,ROUND(O38+X38+Y38+GK38,2),0) -> 0 | GP38: =IF(BI38=4,ROUND(O38+X38+Y38+GK38,2)+GX38,0) -> 0 | GR38: 0 | GS38: 3 | GT38: 0 | GV38: =ROUND(GT38,2) -> 0 | GW38: 1 | GX38: =ROUND(GV38*GW38*I38,2) -> 0 | HA38: 0 | HB38: 0 | IK38: 0
A39: 17 | B39: 1 | C39: =ROW(SmtRes!A35) -> 35 | D39: =ROW(EtalonRes!A44) -> 44 | E39: 12 | F39: 63-5-1 | G39: Снятие обоев простых и улучшенных | H39: 100 м2 | I39: =ROUND(752.3/100,9) -> 7.523 | J39: 0 | O39: =ROUND(CP39,2) -> 4296.27 | P39: =ROUND(CQ39*I39,2) -> 0 | Q39: =ROUND(CR39*I39,2) -> 0 | R39: =ROUND(CS39*I39,2) -> 0 | S39: =ROUND(CT39*I39,2) -> 4296.27 | T39: =ROUND(CU39*I39,2) -> 0 | U39: =CV39*I39 -> 78.2392 | V39: =CW39*I39 -> 0 | W39: =ROUND(CX39*I39,2) -> 0 | X39: =ROUND(CY39,2) -> 3308.13 | Y39: =ROUND(CZ39,2) -> 2148.14 | AA39: 16612262 | AB39: =ROUND((AC39+AD39+AF39),2) -> 81.12 | AC39: =ROUND((ES39),2) -> 0 | AD39: =ROUND((((ET39)-(EU39))+AE39),2) -> 0 | AE39: =ROUND((EU39),2) -> 0 | AF39: =ROUND((EV39),2) -> 81.12 | AG39: =ROUND((AP39),2) -> 0 | AH39: =(EW39) -> 10.4 | AI39: =(EX39) -> 0 | AJ39: =ROUND((AS39),2) -> 0 | AK39: 81.12 | AL39: 0 | AM39: 0 | AN39: 0 | AO39: 81.12 | AP39: 0 | AQ39: 10.4 | AR39: 0 | AS39: 0 | AT39: 77 | AU39: 50 | AV39: 1 | AW39: 1 | AZ39: 7.04 | BA39: 7.04 | BB39: 7.04 | BC39: 7.04 | BH39: 0 | BI39: 1 | BJ39: ФЕРр-2001, 63-5-1, приказ Минстроя России №1039/пр от 30.12.2016г. | BM39: 63001 | BN39: 0 | BP39: 0 | BQ39: 6 | BR39: 0 | BS39: 7.04 | BT39: 1 | BU39: 1 | BV39: 1 | BW39: 1 | BX39: 1 | BZ39: 77 | CA39: 50 | CF39: 0 | CG39: 0 | CM39: 0 | CO39: 0 | CP39: =(P39+Q39+S39) -> 4296.27 | CQ39: =AC39*BC39 -> 0 | CR39: =AD39*BB39 -> 0 | CS39: =AE39*BS39 -> 0 | CT39: =AF39*BA39 -> 571.0848 | CU39: =AG39 -> 0 | CV39: =AH39 -> 10.4 | CW39: =AI39 -> 0 | CX39: =AJ39 -> 0 | CY39: =(((S39+R39)*AT39)/100) -> 3308.1279 | CZ39: =(((S39+R39)*AU39)/100) -> 2148.135 | DN39: 0 | DO39: 0 | DP39: 1 | DQ39: 1 | DU39: 1005 | DV39: 100 м2 | DW39: 100 м2 | DX39: 100 | EE39: 16609188 | EF39: 6 | EG39: Ремонтно-строительные работы | EH39: 0 | EJ39: 1 | EK39: 63001 | EL39: Стекольные, обойные, облицовочные работы | EM39: рФЕР-63 | EQ39: 0 | ER39: 81.12 | ES39: 0 | ET39: 0 | EU39: 0 | EV39: 81.12 | EW39: 10.4 | EX39: 0 | EY39: 0 | FQ39: 0 | FR39: =ROUND(IF(AND(BH39=3,BI39=3),P39,0),2) -> 0 | FS39: 0 | FX39: 77 | FY39: 50 | GD39: 0 | GF39: 857715586 | GG39: 1 | GH39: 1 | GI39: 4 | GJ39: 0 | GK39: =ROUND(R39*(R12)/100,2) -> 0 | GL39: =ROUND(IF(AND(BH39=3,BI39=3,FS39<>0),P39,0),2) -> 0 | GM39: =ROUND(O39+X39+Y39+GK39,2)+GX39 -> 9752.54 | GN39: =IF(OR(BI39=0,BI39=1),ROUND(O39+X39+Y39+GK39,2),0) -> 9752.54 | GO39: =IF(BI39=2,ROUND(O39+X39+Y39+GK39,2),0) -> 0 | GP39: =IF(BI39=4,ROUND(O39+X39+Y39+GK39,2)+GX39,0) -> 0 | GR39: 0 | GS39: 3 | GT39: 0 | GV39: =ROUND(GT39,2) -> 0 | GW39: 1 | GX39: =ROUND(GV39*GW39*I39,2) -> 0 | HA39: 0 | HB39: 0 | IK39: 0
A40: 17 | B40: 1 | C40: =ROW(SmtRes!A36) -> 36 | D40: =ROW(EtalonRes!A45) -> 45 | E40: 13 | F40: 46-02-009-02 | G40: Отбивка штукатурки с поверхностей стен и потолков кирпичных | H40: 100 м2 | I40: =ROUND(202.92/100,9) -> 2.0292 | J40: 0 | O40: =ROUND(CP40,2) -> 2542.83 | P40: =ROUND(CQ40*I40,2) -> 0 | Q40: =ROUND(CR40*I40,2) -> 0 | R40: =ROUND(CS40*I40,2) -> 0 | S40: =ROUND(CT40*I40,2) -> 2542.83 | T40: =ROUND(CU40*I40,2) -> 0 | U40: =CV40*I40 -> 46.306344 | V40: =CW40*I40 -> 0 | W40: =ROUND(CX40*I40,2) -> 0 | X40: =ROUND(CY40,2) -> 2517.4 | Y40: =ROUND(CZ40,2) -> 1525.7 | AA40: 16612262 | AB40: =ROUND((AC40+AD40+AF40),2) -> 178 | AC40: =ROUND((ES40),2) -> 0 | AD40: =ROUND((((ET40)-(EU40))+AE40),2) -> 0 | AE40: =ROUND((EU40),2) -> 0 | AF40: =ROUND((EV40),2) -> 178 | AG40: =ROUND((AP40),2) -> 0 | AH40: =(EW40) -> 22.82 | AI40: =(EX40) -> 0 | AJ40: =ROUND((AS40),2) -> 0 | AK40: 178 | AL40: 0 | AM40: 0 | AN40: 0 | AO40: 178 | AP40: 0 | AQ40: 22.82 | AR40: 0 | AS40: 0 | AT40: 99 | AU40: 60 | AV40: 1 | AW40: 1 | AZ40: 7.04 | BA40: 7.04 | BB40: 7.04 | BC40: 7.04 | BH40: 0 | BI40: 1 | BJ40: ФЕР-2001, 46-02-009-02, приказ Минстроя России №1039/пр от 30.12.2016г. | BM40: 46001 | BN40: 0 | BP40: 0 | BQ40: 2 | BR40: 0 | BS40: 7.04 | BT40: 1 | BU40: 1 | BV40: 1 | BW40: 1 | BX40: 1 | BZ40: 110 | CA40: 70 | CF40: 0 | CG40: 0 | CM40: 0 | CO40: 0 | CP40: =(P40+Q40+S40) -> 2542.83 | CQ40: =AC40*BC40 -> 0 | CR40: =AD40*BB40 -> 0 | CS40: =AE40*BS40 -> 0 | CT40: =AF40*BA40 -> 1253.12 | CU40: =AG40 -> 0 | CV40: =AH40 -> 22.82 | CW40: =AI40 -> 0 | CX40: =AJ40 -> 0 | CY40: =(((S40+R40)*AT40)/100) -> 2517.4017 | CZ40: =(((S40+R40)*AU40)/100) -> 1525.698 | DN40: 0 | DO40: 0 | DP40: 1 | DQ40: 1 | DU40: 1005 | DV40: 100 м2 | DW40: 100 м2 | DX40: 100 | EE40: 16609168 | EF40: 2 | EG40: Общестроительные работы | EH40: 0 | EJ40: 1 | EK40: 46001 | EL40: Реконструкция зданий и сооружений | EM40: ФЕР-46 | EQ40: 131072 | ER40: 178 | ES40: 0 | ET40: 0 | EU40: 0 | EV40: 178 | EW40: 22.82 | EX40: 0 | EY40: 0 | FQ40: 0 | FR40: =ROUND(IF(AND(BH40=3,BI40=3),P40,0),2) -> 0 | FS40: 0 | FT40: *0,9 | FU40: *0,85 | FX40: 99 | FY40: 59.5 | GD40: 0 | GF40: 1716417608 | GG40: 1 | GH40: 1 | GI40: 4 | GJ40: 0 | GK40: =ROUND(R40*(R12)/100,2) -> 0 | GL40: =ROUND(IF(AND(BH40=3,BI40=3,FS40<>0),P40,0),2) -> 0 | GM40: =ROUND(O40+X40+Y40+GK40,2)+GX40 -> 6585.93 | GN40: =IF(OR(BI40=0,BI40=1),ROUND(O40+X40+Y40+GK40,2),0) -> 6585.93 | GO40: =IF(BI40=2,ROUND(O40+X40+Y40+GK40,2),0) -> 0 | GP40: =IF(BI40=4,ROUND(O40+X40+Y40+GK40,2)+GX40,0) -> 0 | GR40: 0 | GS40: 3 | GT40: 0 | GV40: =ROUND(GT40,2) -> 0 | GW40: 1 | GX40: =ROUND(GV40*GW40*I40,2) -> 0 | HA40: 0 | HB40: 0 | IK40: 0
A41: 17 | B41: 1 | C41: =ROW(SmtRes!A47) -> 47 | D41: =ROW(EtalonRes!A56) -> 56 | E41: 14 | F41: 10-01-047-02 | G41: Установка блоков из ПВХ в наружных и внутренних дверных проемах в каменных стенах площадью проема более 3 м2 | H41: 100 м2 | I41: =ROUND(6.5/100,9) -> 0.065 | J41: 0 | O41: =ROUND(CP41,2) -> 4381.29 | P41: =ROUND(CQ41*I41,2) -> 3663.31 | Q41: =ROUND(CR41*I41,2) -> 143.48 | R41: =ROUND(CS41*I41,2) -> 27.7 | S41: =ROUND(CT41*I41,2) -> 574.5 | T41: =ROUND(CU41*I41,2) -> 0 | U41: =CV41*I41 -> 9.3370225 | V41: =CW41*I41 -> 0.3323125 | W41: =ROUND(CX41*I41,2) -> 0 | X41: =ROUND(CY41,2) -> 638.33 | Y41: =ROUND(CZ41,2) -> 325.19 | AA41: 16612262 | AB41: =ROUND((AC41+AD41+AF41),2) -> 9574.5 | AC41: =ROUND((ES41),2) -> 8005.48 | AD41: =ROUND(((((ET41*1.25))-((EU41*1.25)))+AE41),2) -> 313.55 | AE41: =ROUND(((EU41*1.25)),2) -> 60.54 | AF41: =ROUND(((EV41*1.15)),2) -> 1255.47 | AG41: =ROUND((AP41),2) -> 0 | AH41: =((EW41*1.15)) -> 143.6465 | AI41: =((EX41*1.25)) -> 5.1125 | AJ41: =ROUND((AS41),2) -> 0 | AK41: 9348.03 | AL41: 8005.48 | AM41: 250.84 | AN41: 48.43 | AO41: 1091.71 | AP41: 0 | AQ41: 124.91 | AR41: 4.09 | AS41: 0 | AT41: 106 | AU41: 54 | AV41: 1 | AW41: 1 | AZ41: 7.04 | BA41: 7.04 | BB41: 7.04 | BC41: 7.04 | BH41: 0 | BI41: 1 | BJ41: ФЕР-2001, 10-01-047-02, приказ Минстроя России №1039/пр от 30.12.2016г. | BM41: 10001 | BN41: 0 | BP41: 0 | BQ41: 2 | BR41: 0 | BS41: 7.04 | BT41: 1 | BU41: 1 | BV41: 1 | BW41: 1 | BX41: 1 | BZ41: 118 | CA41: 63 | CF41: 0 | CG41: 0 | CM41: 0 | CN41: Поправка: МДС 81-35.2004, п.4.7 Наименование: Работы, выполняемые при реконструкции зданий и сооружений работы, аналогичные технологическим процессам в новом строительстве (в том числе возведение новых конструктивных элементов) стоимость которых определена по соответствующим сборникам ФЕР, кроме сборника № 46 «Работы при реконструкции зданий и сооружений» | CO41: 0 | CP41: =(P41+Q41+S41) -> 4381.29 | CQ41: =AC41*BC41 -> 56358.579 | CR41: =AD41*BB41 -> 2207.392 | CS41: =AE41*BS41 -> 426.2016 | CT41: =AF41*BA41 -> 8838.5088 | CU41: =AG41 -> 0 | CV41: =AH41 -> 143.6465 | CW41: =AI41 -> 5.1125 | CX41: =AJ41 -> 0 | CY41: =(((S41+R41)*AT41)/100) -> 638.332 | CZ41: =(((S41+R41)*AU41)/100) -> 325.188 | DE41: )*1,25 | DF41: )*1,25 | DG41: )*1,15 | DI41: )*1,15 | DJ41: )*1,25 | DN41: 0 | DO41: 0 | DP41: 1 | DQ41: 1 | DU41: 1005 | DV41: 100 м2 | DW41: 100 м2 | DX41: 100 | EE41: 16609107 | EF41: 2 | EG41: Общестроительные работы | EH41: 0 | EJ41: 1 | EK41: 10001 | EL41: Деревянные конструкции | EM41: ФЕР-10 | EO41: Поправка: МДС 81-35.2004, п.4.7 | EQ41: 131072 | ER41: 9348.03 | ES41: 8005.48 | ET41: 250.84 | EU41: 48.43 | EV41: 1091.71 | EW41: 124.91 | EX41: 4.09 | EY41: 0 | FQ41: 0 | FR41: =ROUND(IF(AND(BH41=3,BI41=3),P41,0),2) -> 0 | FS41: 0 | FT41: *0,9 | FU41: *0,85 | FX41: 106.2 | FY41: 53.55 | GD41: 0 | GF41: 617100110 | GG41: 1 | GH41: 1 | GI41: 4 | GJ41: 0 | GK41: =ROUND(R41*(R12)/100,2) -> 0 | GL41: =ROUND(IF(AND(BH41=3,BI41=3,FS41<>0),P41,0),2) -> 0 | GM41: =ROUND(O41+X41+Y41+GK41,2)+GX41 -> 5344.81 | GN41: =IF(OR(BI41=0,BI41=1),ROUND(O41+X41+Y41+GK41,2),0) -> 5344.81 | GO41: =IF(BI41=2,ROUND(O41+X41+Y41+GK41,2),0) -> 0 | GP41: =IF(BI41=4,ROUND(O41+X41+Y41+GK41,2)+GX41,0) -> 0 | GR41: 0 | GS41: 3 | GT41: 0 | GV41: =ROUND(GT41,2) -> 0 | GW41: 1 | GX41: =ROUND(GV41*GW41*I41,2) -> 0 | HA41: 0 | HB41: 0 | IK41: 0
A42: 18 | B42: 1 | C42: 45 | E42: 14,1 | F42: 11.3.01.05-0003 | G42: Блоки дверные внутренние светлые (со светопрозрачным заполнением верхней части и глухим заполнением нижней части полотна) (ГОСТ 30970-2002), распашные , размером 2600х2500 мм в комплекте | H42: м2 | I42: =I41*J42 -> 6.5 | J42: 100 | O42: =ROUND(CP42,2) -> 65361.3 | P42: =ROUND(CQ42*I42,2) -> 65361.3 | Q42: =ROUND(CR42*I42,2) -> 0 | R42: =ROUND(CS42*I42,2) -> 0 | S42: =ROUND(CT42*I42,2) -> 0 | T42: =ROUND(CU42*I42,2) -> 0 | U42: =CV42*I42 -> 0 | V42: =CW42*I42 -> 0 | W42: =ROUND(CX42*I42,2) -> 0 | X42: =ROUND(CY42,2) -> 0 | Y42: =ROUND(CZ42,2) -> 0 | AA42: 16612262 | AB42: =ROUND((AC42+AD42+AF42),2) -> 1428.35 | AC42: =ROUND((ES42),2) -> 1428.35 | AD42: =ROUND((((ET42)-(EU42))+AE42),2) -> 0 | AE42: =ROUND((EU42),2) -> 0 | AF42: =ROUND((EV42),2) -> 0 | AG42: =ROUND((AP42),2) -> 0 | AH42: =(EW42) -> 0 | AI42: =(EX42) -> 0 | AJ42: =ROUND((AS42),2) -> 0 | AK42: 1428.35 | AL42: 1428.35 | AM42: 0 | AN42: 0 | AO42: 0 | AP42: 0 | AQ42: 0 | AR42: 0 | AS42: 0 | AT42: 106 | AU42: 54 | AV42: 1 | AW42: 1 | AZ42: 7.04 | BA42: 1 | BB42: 1 | BC42: 7.04 | BH42: 3 | BI42: 1 | BJ42: ФССЦ-2001, 11.3.01.05-0003, приказ Минстроя России №1039/пр от 30.12.2016г. | BM42: 10001 | BN42: 0 | BP42: 0 | BQ42: 2 | BR42: 0 | BS42: 1 | BT42: 1 | BU42: 1 | BV42: 1 | BW42: 1 | BX42: 1 | BZ42: 118 | CA42: 63 | CF42: 0 | CG42: 0 | CM42: 0 | CO42: 0 | CP42: =(P42+Q42+S42) -> 65361.3 | CQ42: =AC42*BC42 -> 10055.584 | CR42: =AD42*BB42 -> 0 | CS42: =AE42*BS42 -> 0 | CT42: =AF42*BA42 -> 0 | CU42: =AG42 -> 0 | CV42: =AH42 -> 0 | CW42: =AI42 -> 0 | CX42: =AJ42 -> 0 | CY42: =(((S42+R42)*AT42)/100) -> 0 | CZ42: =(((S42+R42)*AU42)/100) -> 0 | DN42: 0 | DO42: 0 | DP42: 1 | DQ42: 1 | DU42: 1005 | DV42: м2 | DW42: м2 | DX42: 1 | EE42: 16609107 | EF42: 2 | EG42: Общестроительные работы | EH42: 0 | EJ42: 1 | EK42: 10001 | EL42: Деревянные конструкции | EM42: ФЕР-10 | EQ42: 0 | ER42: 1428.35 | ES42: 1428.35 | ET42: 0 | EU42: 0 | EV42: 0 | EW42: 0 | EX42: 0 | FQ42: 0 | FR42: =ROUND(IF(AND(BH42=3,BI42=3),P42,0),2) -> 0 | FS42: 0 | FT42: *0,9 | FU42: *0,85 | FX42: 106.2 | FY42: 53.55 | GD42: 0 | GF42: -887076693 | GG42: 1 | GH42: 1 | GI42: 4 | GJ42: 0 | GK42: =ROUND(R42*(R12)/100,2) -> 0 | GL42: =ROUND(IF(AND(BH42=3,BI42=3,FS42<>0),P42,0),2) -> 0 | GM42: =ROUND(O42+X42+Y42+GK42,2)+GX42 -> 65361.3 | GN42: =IF(OR(BI42=0,BI42=1),ROUND(O42+X42+Y42+GK42,2),0) -> 65361.3 | GO42: =IF(BI42=2,ROUND(O42+X42+Y42+GK42,2),0) -> 0 | GP42: =IF(BI42=4,ROUND(O42+X42+Y42+GK42,2)+GX42,0) -> 0 | GR42: 0 | GS42: 3 | GT42: 0 | GV42: =ROUND(GT42,2) -> 0 | GW42: 1 | GX42: =ROUND(GV42*GW42*I42,2) -> 0 | HA42: 0 | HB42: 0 | IK42: 0
A43: 17 | B43: 1 | C43: =ROW(SmtRes!A59) -> 59 | D43: =ROW(EtalonRes!A67) -> 67 | E43: 15 | F43: 10-01-047-03 | G43: Установка блоков из ПВХ в наружных и внутренних дверных проемах балконных в каменных стенах | H43: 100 м2 | I43: =ROUND(42.16/100,9) -> 0.4216 | J43: 0 | O43: =ROUND(CP43,2) -> 47866.62 | P43: =ROUND(CQ43*I43,2) -> 41308.33 | Q43: =ROUND(CR43*I43,2) -> 850.26 | R43: =ROUND(CS43*I43,2) -> 189.42 | S43: =ROUND(CT43*I43,2) -> 5708.03 | T43: =ROUND(CU43*I43,2) -> 0 | U43: =CV43*I43 -> 92.768864 | V43: =CW43*I43 -> 2.204968 | W43: =ROUND(CX43*I43,2) -> 0 | X43: =ROUND(CY43,2) -> 6251.3 | Y43: =ROUND(CZ43,2) -> 3184.62 | AA43: 16612262 | AB43: =ROUND((AC43+AD43+AF43),2) -> 16127.22 | AC43: =ROUND((ES43),2) -> 13917.6 | AD43: =ROUND((((ET43)-(EU43))+AE43),2) -> 286.47 | AE43: =ROUND((EU43),2) -> 63.82 | AF43: =ROUND((EV43),2) -> 1923.15 | AG43: =ROUND((AP43),2) -> 0 | AH43: =(EW43) -> 220.04 | AI43: =(EX43) -> 5.23 | AJ43: =ROUND((AS43),2) -> 0 | AK43: 16127.22 | AL43: 13917.6 | AM43: 286.47 | AN43: 63.82 | AO43: 1923.15 | AP43: 0 | AQ43: 220.04 | AR43: 5.23 | AS43: 0 | AT43: 106 | AU43: 54 | AV43: 1 | AW43: 1 | AZ43: 7.04 | BA43: 7.04 | BB43: 7.04 | BC43: 7.04 | BH43: 0 | BI43: 1 | BJ43: ФЕР-2001, 10-01-047-03, приказ Минстроя России №1039/пр от 30.12.2016г. | BM43: 10001 | BN43: 0 | BP43: 0 | BQ43: 2 | BR43: 0 | BS43: 7.04 | BT43: 1 | BU43: 1 | BV43: 1 | BW43: 1 | BX43: 1 | BZ43: 118 | CA43: 63 | CF43: 0 | CG43: 0 | CM43: 0 | CO43: 0 | CP43: =(P43+Q43+S43) -> 47866.62 | CQ43: =AC43*BC43 -> 97979.904 | CR43: =AD43*BB43 -> 2016.7488 | CS43: =AE43*BS43 -> 449.2928 | CT43: =AF43*BA43 -> 13538.976 | CU43: =AG43 -> 0 | CV43: =AH43 -> 220.04 | CW43: =AI43 -> 5.23 | CX43: =AJ43 -> 0 | CY43: =(((S43+R43)*AT43)/100) -> 6251.297 | CZ43: =(((S43+R43)*AU43)/100) -> 3184.623 | DN43: 0 | DO43: 0 | DP43: 1 | DQ43: 1 | DU43: 1005 | DV43: 100 м2 | DW43: 100 м2 | DX43: 100 | EE43: 16609107 | EF43: 2 | EG43: Общестроительные работы | EH43: 0 | EJ43: 1 | EK43: 10001 | EL43: Деревянные конструкции | EM43: ФЕР-10 | EQ43: 131072 | ER43: 16127.22 | ES43: 13917.6 | ET43: 286.47 | EU43: 63.82 | EV43: 1923.15 | EW43: 220.04 | EX43: 5.23 | EY43: 0 | FQ43: 0 | FR43: =ROUND(IF(AND(BH43=3,BI43=3),P43,0),2) -> 0 | FS43: 0 | FT43: *0,9 | FU43: *0,85 | FX43: 106.2 | FY43: 53.55 | GD43: 0 | GF43: -958107770 | GG43: 1 | GH43: 1 | GI43: 4 | GJ43: 0 | GK43: =ROUND(R43*(R12)/100,2) -> 0 | GL43: =ROUND(IF(AND(BH43=3,BI43=3,FS43<>0),P43,0),2) -> 0 | GM43: =ROUND(O43+X43+Y43+GK43,2)+GX43 -> 57302.54 | GN43: =IF(OR(BI43=0,BI43=1),ROUND(O43+X43+Y43+GK43,2),0) -> 57302.54 | GO43: =IF(BI43=2,ROUND(O43+X43+Y43+GK43,2),0) -> 0 | GP43: =IF(BI43=4,ROUND(O43+X43+Y43+GK43,2)+GX43,0) -> 0 | GR43: 0 | GS43: 3 | GT43: 0 | GV43: =ROUND(GT43,2) -> 0 | GW43: 1 | GX43: =ROUND(GV43*GW43*I43,2) -> 0 | HA43: 0 | HB43: 0 | IK43: 0
