Workbook

Sheet Смета 12 гр. по ФЕР
A1: =Source!B1 -> Smeta.RU (495) 974-1589 | I1: Приложение 1 к форме 6
B4: =CONCATENATE( "ЛОКАЛЬНАЯ СМЕТА ",IF(Source!F20<>"Новая локальная смета", Source!F20, "")) -> ЛОКАЛЬНАЯ СМЕТА
B6: =IF(Source!G20<>"Новая локальная смета", Source!G20, "")
B8: =IF(Source!G12<>"Новый объект", Source!G12, "") -> Монтаж насосных установок системы пожарного водопровода согласно проекту № 136-06/2018 ВПВ в здании учебного корпуса "К" НИЯУ МИФИ по адресу: г. Москва, Каширское шоссе, д. 31, стр. 46 | AD8: =IF(Source!G12<>"Новый объект", Source!G12, "") -> Монтаж насосных установок системы пожарного водопровода согласно проекту № 136-06/2018 ВПВ в здании учебного корпуса "К" НИЯУ МИФИ по адресу: г. Москва, Каширское шоссе, д. 31, стр. 46
B9: (наименование работ и затрат, наименование объекта)
G11: базовая цена | I11: текущая цена
C12: Сметная стоимость | G12: =SUM(O21:O295)/1000 -> 300.36512 | I12: =(Source!P201/1000) -> 2378.4144 | K12: тыс. руб.
C13: Строительные работы | G13: =SUM(W21:W295)/1000 -> 48.27291 | I13: =(Source!P188)/1000 -> 324.06689 | K13: тыс. руб.
C14: Монтажные работы | G14: =SUM(X21:X295)/1000 -> 252.09221 | I14: =(Source!P189)/1000 -> 1691.5385 | K14: тыс. руб.
C15: Нормативная трудоемкость | G15: =I15 -> 951.32863 | I15: =(Source!P193+Source!P194) -> 951.32863 | K15: чел. -ч.
C16: Средства на оплату труда | G16: =SUM(R21:R295)/1000 -> 10.45376 | I16: =((Source!P186 + Source!P185)/1000) -> 70.1447 | K16: тыс. руб.
A18: Составлена в ценах III квартал 2018 года
A19: № п/п | B19: Шифр расценки и коды ресурсов | C19: Наименование работ и затрат | D19: Ед. изм. | E19: Кол-во единиц | F19: Цена на ед. изм. | G19: Попра-вочные коэфф. | H19: Стоимость в ценах 2001г. | I19: Пункт коэфф. пересчета | J19: Коэфф. пересчета | K19: Стоимость в текущих ценах | L19: ЗТР всего чел.-час
A20: 1 | B20: 2 | C20: 3 | D20: 4 | E20: 5 | F20: 6 | G20: 7 | H20: 8 | I20: 9 | J20: 10 | K20: 11 | L20: 12
A21: =Source!E25 -> 1 | B21: =Source!F25 -> 56-9-1 | C21: =Source!G25 -> Демонтаж дверных коробок в каменных стенах с отбивкой штукатурки в откосах | D21: =Source!H25 -> 100 ШТ | E21: =Source!I25 -> 0.02 | F21: =Source!AL25+Source!AM25+Source!AO25 -> 1579.15 | I21: =Source!BO25 | S21: =ROUND((Source!FX25/100)*((ROUND(Source!AF25*Source!I25, 2)+ROUND(Source!AE25*Source!I25, 2))), 2) -> 23.58 | T21: =Source!X25 -> 158.24 | U21: =ROUND((Source!FY25/100)*((ROUND(Source!AF25*Source!I25, 2)+ROUND(Source!AE25*Source!I25, 2))), 2) -> 17.83 | V21: =Source!Y25 -> 119.65
C22: ="Объем: "&Source!I25&"=2/"&"100" -> Объем: 0,02=2/100
C23: Зарплата | F23: =Source!AO25 -> 1437.99 | G23: =Source!DG25 | H23: =ROUND(Source!AF25*Source!I25, 2) -> 28.76 | J23: =IF(Source!BA25<> 0, Source!BA25, 1) -> 6.71 | K23: =Source!S25 -> 192.98 | R23: =H23 -> 28.76
C24: Эксплуатация машин | F24: =Source!AM25 -> 141.16 | G24: =Source!DE25 | H24: =ROUND(Source!AD25*Source!I25, 2) -> 2.82 | J24: =IF(Source!BB25<> 0, Source!BB25, 1) -> 6.71 | K24: =Source!Q25 -> 18.94
C25: НР от ФОТ | D25: % | E25: =Source!BZ25 -> 82 | H25: =SUM(S21:S28) -> 23.58 | J25: =Source!AT25 -> 82 | K25: =SUM(T21:T28) -> 158.24
C26: СП от ФОТ | D26: % | E26: =Source!CA25 -> 62 | H26: =SUM(U21:U28) -> 17.83 | J26: =Source!AU25 -> 62 | K26: =SUM(V21:V28) -> 119.65
C27: Затраты труда | D27: чел-ч | E27: =Source!AQ25 -> 179.3 | G27: =Source!DI25 | L27: =Source!U25 -> 3.586
A28: =Source!E27 -> 1,1 | B28: =Source!F27 -> 01.7.07.07 | C28: =Source!G27 -> Строительный мусор | D28: =Source!H27 -> т | E28: =Source!I27 -> 0.21 | F28: =Source!AL27+Source!AM27+Source!AO27 -> 0 | H28: =ROUND(Source!AC27*Source!I27, 2)+ROUND(Source!AD27*Source!I27, 2)+ROUND(Source!AF27*Source!I27, 2) -> 0 | J28: =IF(Source!BC27<> 0, Source!BC27, 1) -> 6.71 | K28: =Source!O27 -> 0 | S28: =ROUND((Source!FX27/100)*((ROUND(Source!AF27*Source!I27, 2)+ROUND(Source!AE27*Source!I27, 2))), 2) -> 0 | T28: =Source!X27 -> 0 | U28: =ROUND((Source!FY27/100)*((ROUND(Source!AF27*Source!I27, 2)+ROUND(Source!AE27*Source!I27, 2))), 2) -> 0 | V28: =Source!Y27 -> 0 | W28: =IF(Source!BI27<=1,H28, 0) -> 0 | X28: =IF(Source!BI27=2,H28, 0) -> 0 | Y28: =IF(Source!BI27=3,H28, 0) -> 0 | Z28: =IF(Source!BI27=4,H28, 0) -> 0
G29: =H23+H24+H25+H26+SUM(H28:H28) -> 72.99 | J29: =K23+K24+K25+K26+SUM(K28:K28) -> 489.81 | L29: =Source!U25 -> 3.586 | O29: =G29 -> 72.99 | P29: =J29 -> 489.81 | Q29: =L29 -> 3.586 | W29: =IF(Source!BI25<=1,H23+H24+H25+H26, 0) -> 72.99 | X29: =IF(Source!BI25=2,H23+H24+H25+H26, 0) -> 0 | Y29: =IF(Source!BI25=3,H23+H24+H25+H26, 0) -> 0 | Z29: =IF(Source!BI25=4,H23+H24+H25+H26, 0) -> 0
A30: =Source!E29 -> 2 | B30: =Source!F29 -> 46-04-003-02 | C30: =Source!G29 -> Разборка бетонных конструкций объемом более 1 м3 при помощи отбойных молотков из бетона марки 150 | D30: =Source!H29 -> м3 | E30: =Source!I29 -> 3 | F30: =Source!AL29+Source!AM29+Source!AO29 -> 552.24 | I30: =Source!BO29 | S30: =ROUND((Source!FX29/100)*((ROUND(Source!AF29*Source!I29, 2)+ROUND(Source!AE29*Source!I29, 2))), 2) -> 544.94 | T30: =Source!X29 -> 3656.52 | U30: =ROUND((Source!FY29/100)*((ROUND(Source!AF29*Source!I29, 2)+ROUND(Source!AE29*Source!I29, 2))), 2) -> 327.51 | V30: =Source!Y29 -> 2216.07
C31: Зарплата | F31: =Source!AO29 -> 183.48 | G31: =Source!DG29 | H31: =ROUND(Source!AF29*Source!I29, 2) -> 550.44 | J31: =IF(Source!BA29<> 0, Source!BA29, 1) -> 6.71 | K31: =Source!S29 -> 3693.45 | R31: =H31 -> 550.44
C32: Эксплуатация машин | F32: =Source!AM29 -> 368.76 | G32: =Source!DE29 | H32: =ROUND(Source!AD29*Source!I29, 2) -> 1106.28 | J32: =IF(Source!BB29<> 0, Source!BB29, 1) -> 6.71 | K32: =Source!Q29 -> 7423.14
C33: НР от ФОТ | D33: % | E33: =Source!BZ29 -> 110 | F33: =CONCATENATE(" )", Source!DL29, Source!FT29, "=", Source!FX29) -> )*0,9=99 | H33: =SUM(S30:S35) -> 544.94 | J33: =Source!AT29 -> 99 | K33: =SUM(T30:T35) -> 3656.52
C34: СП от ФОТ | D34: % | E34: =Source!CA29 -> 70 | F34: =CONCATENATE(" )", Source!DM29, Source!FU29, "=", Source!FY29) -> )*0,85=59,5 | H34: =SUM(U30:U35) -> 327.51 | J34: =Source!AU29 -> 60 | K34: =SUM(V30:V35) -> 2216.07
C35: Затраты труда | D35: чел-ч | E35: =Source!AQ29 -> 21.51 | G35: =Source!DI29 | L35: =Source!U29 -> 64.53
G36: =H31+H32+H33+H34 -> 2529.17 | J36: =K31+K32+K33+K34 -> 16989.18 | L36: =Source!U29 -> 64.53 | O36: =G36 -> 2529.17 | P36: =J36 -> 16989.18 | Q36: =L36 -> 64.53 | W36: =IF(Source!BI29<=1,H31+H32+H33+H34, 0) -> 2529.17 | X36: =IF(Source!BI29=2,H31+H32+H33+H34, 0) -> 0 | Y36: =IF(Source!BI29=3,H31+H32+H33+H34, 0) -> 0 | Z36: =IF(Source!BI29=4,H31+H32+H33+H34, 0) -> 0
A37: =Source!E31 -> 3 | B37: =Source!F31 -> т01-01-01-041 | C37: =Source!G31 -> Погрузочные работы при автомобильных перевозках мусора строительного с погрузкой вручную | D37: =Source!H31 -> 1 Т ГРУЗА | E37: =Source!I31 -> 1.5 | F37: =Source!AK31 -> 42.98 | G37: =Source!DC31 | H37: =ROUND(Source!AB31*Source!I31, 2) -> 64.47 | I37: =Source!BO31 | J37: =Source!AZ31 -> 6.71 | K37: =Source!GM31 -> 432.59 | S37: =ROUND((Source!FX31/100)*((ROUND(0*Source!I31, 2)+ROUND(0*Source!I31, 2))), 2) -> 0 | T37: =Source!X31 -> 0 | U37: =ROUND((Source!FY31/100)*((ROUND(0*Source!I31, 2)+ROUND(0*Source!I31, 2))), 2) -> 0 | V37: =Source!Y31 -> 0
G38: =H37 -> 64.47 | J38: =K37 -> 432.59 | L38: =Source!U31 -> 0 | O38: =G38 -> 64.47 | P38: =J38 -> 432.59 | Q38: =L38 -> 0 | W38: =IF(Source!BI31<=1,H37, 0) -> 64.47 | X38: =IF(Source!BI31=2,H37, 0) -> 0 | Y38: =IF(Source!BI31=3,H37, 0) -> 0 | Z38: =IF(Source!BI31=4,H37, 0) -> 0
A39: =Source!E33 -> 4 | B39: =Source!F33 -> т03-21-01-025 | C39: =Source!G33 -> Перевозка грузов I класса автомобилями-самосвалами грузоподъемностью 10 т работающих вне карьера на расстояние до 25 км | D39: =Source!H33 -> 1 Т ГРУЗА | E39: =Source!I33 -> 1.49998 | F39: =Source!AK33 -> 17.32 | G39: =Source!DC33 | H39: =ROUND(Source!AB33*Source!I33, 2) -> 25.98 | I39: =Source!BO33 | J39: =Source!AZ33 -> 6.71 | K39: =Source!GM33 -> 174.32 | S39: =ROUND((Source!FX33/100)*((ROUND(0*Source!I33, 2)+ROUND(0*Source!I33, 2))), 2) -> 0 | T39: =Source!X33 -> 0 | U39: =ROUND((Source!FY33/100)*((ROUND(0*Source!I33, 2)+ROUND(0*Source!I33, 2))), 2) -> 0 | V39: =Source!Y33 -> 0
G40: =H39 -> 25.98 | J40: =K39 -> 174.32 | L40: =Source!U33 -> 0 | O40: =G40 -> 25.98 | P40: =J40 -> 174.32 | Q40: =L40 -> 0 | W40: =IF(Source!BI33<=1,H39, 0) -> 25.98 | X40: =IF(Source!BI33=2,H39, 0) -> 0 | Y40: =IF(Source!BI33=3,H39, 0) -> 0 | Z40: =IF(Source!BI33=4,H39, 0) -> 0
A41: =Source!E35 -> 5 | B41: =Source!F35 -> м07-04-001-02 | C41: =Source!G35 -> Агрегат насосный лопастный центробежный одноступенчатый, многоступенчатый объемный, вихревой, поршневой, приводной, роторный на общей фундаментной плите или моноблочный, масса 0,17 т | D41: =Source!H35 -> ШТ | E41: =Source!I35 -> 2 | F41: =Source!AL35+Source!AM35+Source!AO35 -> 594.78 | I41: =Source!BO35 | S41: =ROUND((Source!FX35/100)*((ROUND(Source!AF35*Source!I35, 2)+ROUND(Source!AE35*Source!I35, 2))), 2) -> 476.27 | T41: =Source!X35 -> 3195.78 | U41: =ROUND((Source!FY35/100)*((ROUND(Source!AF35*Source!I35, 2)+ROUND(Source!AE35*Source!I35, 2))), 2) -> 357.2 | V41: =Source!Y35 -> 2396.84
C42: Зарплата | F42: =Source!AO35 -> 295.16 | G42: =Source!DG35 | H42: =ROUND(Source!AF35*Source!I35, 2) -> 590.32 | J42: =IF(Source!BA35<> 0, Source!BA35, 1) -> 6.71 | K42: =Source!S35 -> 3961.05 | R42: =H42 -> 590.32
C43: Эксплуатация машин | F43: =Source!AM35 -> 47.9 | G43: =Source!DE35 | H43: =ROUND(Source!AD35*Source!I35, 2) -> 95.8 | J43: =IF(Source!BB35<> 0, Source!BB35, 1) -> 6.71 | K43: =Source!Q35 -> 642.82
C44: в т.ч. зарплата машинистов | F44: =Source!AN35 -> 2.51 | G44: =Source!DF35 | H44: =ROUND(Source!AE35*Source!I35, 2) -> 5.02 | J44: =IF(Source!BS35<> 0, Source!BS35, 1) -> 6.71 | K44: =Source!R35 -> 33.68 | R44: =H44 -> 5.02
C45: Материальные ресурсы | F45: =Source!AL35 -> 251.72 | G45: =Source!DD35 | H45: =ROUND(Source!AC35*Source!I35, 2) -> 503.44 | J45: =IF(Source!BC35<> 0, Source!BC35, 1) -> 6.71 | K45: =Source!P35 -> 3378.08
C46: НР от ФОТ | D46: % | E46: =Source!BZ35 -> 80 | H46: =SUM(S41:S50) -> 476.27 | J46: =Source!AT35 -> 80 | K46: =SUM(T41:T50) -> 3195.78
...

Sheet Акт КС-2 8 граф
A1: =Source!B1 -> Smeta.RU (495) 974-1589
E2: Унифицированная форма № КС-2
E3: Утверждена постановлением Госкомстата России
E4: от 11.11.99. № 100
G6: Код
F7: Форма по ОКУД | G7: 0322005
G8: =IF(Source!AT15 <> "", Source!AT15, "")
A9: Инвестор | C9: =IF(Source!BA15 <> "", Source!BA15, IF(Source!AU15 <> "", Source!AU15, "")) | F9: по ОКПО
C10: организация, адрес, телефон, факс | G10: =IF(Source!AK15 <> "", Source!AK15, "")
A11: Заказчик | C11: =IF(Source!AX12<> "", Source!AX12, IF(Source!AJ12 <> "", Source!AJ12, "")) | F11: по ОКПО
C12: организация, адрес, телефон, факс | G12: =IF(Source!AO15 <> "", Source!AO15, "")
A13: Подрядчик | C13: =IF(Source!AY12<> "", Source!AY12, IF(Source!AN12 <> "", Source!AN12, "")) | F13: по ОКПО
C14: организация, адрес, телефон, факс | G14: =IF(Source!CO15 <> "", Source!CO15, "")
A15: Стройка | C15: Монтаж насосных установок системы пожарного водопровода согласно проекту № 136-06/2018 ВПВ в здании учебного корпуса "К" НИЯУ МИФИ по адресу: г. Москва, Каширское шоссе, д. 31, стр. 46 | AE15: Монтаж насосных установок системы пожарного водопровода согласно проекту № 136-06/2018 ВПВ в здании учебного корпуса "К" НИЯУ МИФИ по адресу: г. Москва, Каширское шоссе, д. 31, стр. 46
C16: наименование, адрес | G16: =IF(Source!CP15 <> "", Source!CP15, "")
A17: Объект | C17: =IF(Source!G12<>"Новый объект", Source!G12, "") -> Монтаж насосных установок системы пожарного водопровода согласно проекту № 136-06/2018 ВПВ в здании учебного корпуса "К" НИЯУ МИФИ по адресу: г. Москва, Каширское шоссе, д. 31, стр. 46 | AE17: =IF(Source!G12<>"Новый объект", Source!G12, "") -> Монтаж насосных установок системы пожарного водопровода согласно проекту № 136-06/2018 ВПВ в здании учебного корпуса "К" НИЯУ МИФИ по адресу: г. Москва, Каширское шоссе, д. 31, стр. 46
C18: наименование
D19: Вид деятельности по ОКДП | G19: =IF(Source!CQ15 <> "", Source!CQ15, "")
D20: Договор подряда | F20: номер | G20: =IF(Source!CR15 <> "", Source!CR15, "")
F21: дата | G21: =IF(Source!CS15 <> 0, Source!CS15, "")
F22: Вид операции | G22: =IF(Source!CT15 <> "", Source!CT15, "")
D24: Номер документа | E24: Дата составления | F24: Отчетный период
F25: с | G25: по
D26: =IF(Source!CN15 <> "", Source!CN15, "") | E26: 43398.55
A28: AKT
A29: О ПРИЕМКЕ ВЫПОЛНЕННЫХ РАБОТ
A31: Сметная (договорная) стоимость в соответствии с договором подряда (субподряда) | F31: =(Source!P233/1000) -> 2378.4144 | H31: тыс.руб
A33: Номер | C33: Наименование работ | D33: Номер единичной расценки | E33: Единица измерения | F33: Выполнено работ
A34: по порядку | B34: поз. по смете | F34: Количество | G34: цена за единицу, руб | H34: стоимость, руб
A35: 1 | B35: 2 | C35: 3 | D35: 4 | E35: 5 | F35: 6 | G35: 7 | H35: 8
A37: =CONCATENATE("Локальная смета: ",IF(Source!G20<>"Новая локальная смета", Source!G20, "")) -> Локальная смета:
A38: 1 | B38: =Source!E25 -> 1 | C38: =Source!G25 -> Демонтаж дверных коробок в каменных стенах с отбивкой штукатурки в откосах | D38: =Source!F25 -> 56-9-1 | E38: =Source!H25 -> 100 ШТ | F38: =Source!I25 -> 0.02 | G38: =Source!AB25 -> 1579.15 | H38: =Source!O25 -> 211.92 | T38: =Source!O25 -> 211.92 | U38: =Source!P25 -> 0 | V38: =Source!S25 -> 192.98 | W38: =Source!Q25 -> 18.94 | X38: =Source!R25 -> 0 | Y38: =Source!U25 -> 3.586 | Z38: =Source!V25 -> 0 | AA38: =Source!X25 -> 158.24 | AB38: =Source!Y25 -> 119.65
C39: ="Объем: "&Source!I25&"=2/"&"100" -> Объем: 0,02=2/100
C40: Коэфф. к ОЗП | D40: =Source!BA25 -> 6.71
C41: Коэфф. к эксплуатации машин | D41: =Source!BB25 -> 6.71
C42: Коэфф. к материалам | D42: =Source!BC25 -> 6.71
C43: Коэфф. к ЗПМ | D43: =Source!BS25 -> 6.71
A44: 2 | B44: =Source!E27 -> 1,1 | C44: =Source!G27 -> Строительный мусор | D44: =Source!F27 -> 01.7.07.07 | E44: =Source!H27 -> т | F44: =Source!I27 -> 0.21 | G44: =Source!AB27 -> 0 | H44: =Source!O27 -> 0 | T44: =Source!O27 -> 0 | U44: =Source!P27 -> 0 | V44: =Source!S27 -> 0 | W44: =Source!Q27 -> 0 | X44: =Source!R27 -> 0 | Y44: =Source!U27 -> 0 | Z44: =Source!V27 -> 0 | AA44: =Source!X27 -> 0 | AB44: =Source!Y27 -> 0
C45: Коэфф. к материалам | D45: =Source!BC27 -> 6.71
A46: 3 | B46: =Source!E29 -> 2 | C46: =Source!G29 -> Разборка бетонных конструкций объемом более 1 м3 при помощи отбойных молотков из бетона марки 150 | D46: =Source!F29 -> 46-04-003-02 | E46: =Source!H29 -> м3 | F46: =Source!I29 -> 3 | G46: =Source!AB29 -> 552.24 | H46: =Source!O29 -> 11116.59 | T46: =Source!O29 -> 11116.59 | U46: =Source!P29 -> 0 | V46: =Source!S29 -> 3693.45 | W46: =Source!Q29 -> 7423.14 | X46: =Source!R29 -> 0 | Y46: =Source!U29 -> 64.53 | Z46: =Source!V29 -> 0 | AA46: =Source!X29 -> 3656.52 | AB46: =Source!Y29 -> 2216.07
...

Sheet Макет форма-3
A1: =Source!B1 -> Smeta.RU (495) 974-1589 | H1: Унифицированная форма № КС-3
H2: Утверждена постановлением Госкомстата России
H3: от 11.11.99. № 100
K4: Коды
I5: Форма по ОКУД | K5: 322001
A6: Инвестор | J6: по ОКПО
C7: организация, адрес, телефон, факс
A8: Заказчик (генподрядчик) | J8: по ОКПО
C9: организация, адрес, телефон, факс
A10: Подрядчик (субподрядчик) | J10: по ОКПО
C11: организация, адрес, телефон, факс
A12: Стройка | J12: по ОКПО
C13: наименование, адрес | H13: Вид деятельности по ОКДП
E14: Договор подряда (контракт) | I14: номер
I15: дата
I16: Вид операции
C19: Номер документа | E19: Дата составления | I19: Отчетный период
I20: с | K20: по
A24: СПРАВКА
A25: СТОИМОСТИ ВЫПОЛНЕННЫХ РАБОТ И ЗАТРАТ
A28: № п/п | B28: Наименование пусковых комплексов, объектов, видов работ, оборудования, затрат | F28: Код | G28: Стоимость выполненных работ и затрат
G29: с начала проведения работ | I29: с начала года по отчетный период включительно | K29: в том числе за отчетный месяц
A33: 1 | B33: 2 | F33: 3 | G33: 4 | I33: 5 | K33: 6
B34: Всего работ и затрат, включаемых в стоимость
B35: В том числе:
A36: Итого
A37: Сумма НДС
A38: Всего с учетом НДС
A42: Заказчик (генподрядчик)
C43: должность | G43: подпись | J43: расшифровка подпись
A45: МП
A49: Подрядчик (субподрядчик)
C50: должность | G50: подпись | J50: расшифровка подпись
A52: МП

Sheet Source
A1: 0 | B1: Smeta.RU (495) 974-1589 | D1: _PS_ | F1: 0 | G1: 0 | H1: 0 | I1: Smeta.RU | J1: НИЯУ МИФИ Доп. раб. место MCCS-0016187 | K1: 0 | L1: 16187 | M1: 10
A12: 1 | B12: 264 | C12: 0 | D12: =ROW(A203) -> 203 | E12: 0 | F12: Новый объект | G12: Монтаж насосных установок системы пожарного водопровода согласно проекту № 136-06/2018 ВПВ в здании учебного корпуса "К" НИЯУ МИФИ по адресу: г. Москва, Каширское шоссе, д. 31, стр. 46 | I12: 0 | K12: 0 | O12: 0 | P12: 0 | Q12: 0 | R12: 0 | S12: 0 | V12: 0 | BH12: Сметные нормы списания | BI12: Коды ценников | BJ12: 1 | BK12: 1 | BL12: 0 | BM12: 0 | BN12: 1 | BO12: 0 | BP12: 2 | BQ12: 2 | BR12: 1 | BS12: 1 | BT12: 0 | BU12: 0 | BV12: 0 | BW12: 0 | BX12: 0 | BY12: ФЕР-2017 | BZ12: ТР для Версии 10: Центральные регионы (с учетом п-ма 2536-ИП/12/ГС от 22.03.2017 г | CA12: ФЕР-2017 | CB12: ФЕР-2017 | CC12: ФЕР-2017 | CD12: ФЕР-2017 | CE12: Поправки для ГСН 2017 от 31.03.2017 г | CF12: 0 | CG12: 0 | CH12: 524288 | CK12: 4 | EC12: 0
A15: 15 | B15: 1
A18: 52 | B18: =B203 -> 264 | C18: =C203 -> 1 | D18: =D203 -> 12 | E18: =E203 -> 0 | F18: =F203 -> Новый объект | G18: =G203 -> Монтаж насосных установок системы пожарного водопровода согласно проекту № 136-06/2018 ВПВ в здании учебного корпуса "К" НИЯУ МИФИ по адресу: г. Москва, Каширское шоссе, д. 31, стр. 46 | O18: =O203 -> 284671.05 | P18: =P203 -> 267721.75 | Q18: =Q203 -> 7143.59 | R18: =R203 -> 648.05 | S18: =S203 -> 9805.71 | T18: =T203 -> 0 | U18: =U203 -> 895.68838 | V18: =V203 -> 55.64025 | ... GX18: =GX203 -> 0
A20: 3 | B20: 1 | D20: =ROW(A171) -> 171 | F20: Новая локальная смета | G20: Новая локальная смета | I20: 0 | K20: 0 | V20: 0 | BX20: 0 | CF20: 0 | CG20: 0
A22: 52 | B22: =B171 -> 1 | C22: =C171 -> 3 | D22: =D171 -> 20 | E22: =E171 -> 0 | F22: =F171 -> Новая локальная смета | G22: =G171 -> Новая локальная смета | O22: =O171 -> 284671.05 | P22: =P171 -> 267721.75 | Q22: =Q171 -> 7143.59 | R22: =R171 -> 648.05 | S22: =S171 -> 9805.71 | T22: =T171 -> 0 | U22: =U171 -> 895.68838 | V22: =V171 -> 55.64025 | ... GX22: =GX171 -> 0
A24: 17 | B24: 1 | C24: =ROW(SmtRes!A4) -> 4 | D24: =ROW(EtalonRes!A4) -> 4 | E24: 1 | F24: 56-9-1 | G24: Демонтаж дверных коробок в каменных стенах с отбивкой штукатурки в откосах | H24: 100 ШТ | I24: =ROUND(2/100,9) -> 0.02 | J24: 0 | O24: =ROUND(CP24,2) -> 31.58 | P24: =ROUND(CQ24*I24,2) -> 0 | Q24: =ROUND(CR24*I24,2) -> 2.82 | R24: =ROUND(CS24*I24,2) -> 0 | S24: =ROUND(CT24*I24,2) -> 28.76 | T24: =ROUND(CU24*I24,2) -> 0 | U24: =CV24*I24 -> 3.586 | V24: =CW24*I24 -> 0 | W24: =ROUND(CX24*I24,2) -> 0 | X24: =ROUND(CY24,2) -> 23.58 | Y24: =ROUND(CZ24,2) -> 17.83 | AA24: 28045047 | AB24: =ROUND((AC24+AD24+AF24),2) -> 1579.15 | AC24: =ROUND((ES24),2) -> 0 | AD24: =ROUND((((ET24)-(EU24))+AE24),2) -> 141.16 | AE24: =ROUND((EU24),2) -> 0 | AF24: =ROUND((EV24),2) -> 1437.99 | AG24: =ROUND((AP24),2) -> 0 | AH24: =(EW24) -> 179.3 | AI24: =(EX24) -> 0 | AJ24: =(AS24) -> 0 | AK24: 1579.15 | AL24: 0 | AM24: 141.16 | AN24: 0 | AO24: 1437.99 | AP24: 0 | AQ24: 179.3 | AR24: 0 | AS24: 0 | AT24: 82 | AU24: 62 | AV24: 1 | AW24: 1 | AZ24: 1 | BA24: 1 | BB24: 1 | BC24: 1 | BH24: 0 | BI24: 1 | BJ24: ФЕРр-2001, 56-9-1, приказ Минстроя России №1039/пр от 30.12.2016г. | BM24: 56001 | BN24: 0 | BP24: 0 | BQ24: 6 | BR24: 0 | BS24: 1 | BT24: 1 | BU24: 1 | BV24: 1 | BW24: 1 | BX24: 1 | BZ24: 82 | CA24: 62 | CE24: 0 | CF24: 0 | CG24: 0 | CM24: 0 | CO24: 0 | CP24: =(P24+Q24+S24) -> 31.58 | CQ24: =AC24*BC24 -> 0 | CR24: =AD24*BB24 -> 141.16 | CS24: =AE24*BS24 -> 0 | CT24: =AF24*BA24 -> 1437.99 | CU24: =AG24 -> 0 | CV24: =AH24 -> 179.3 | CW24: =AI24 -> 0 | CX24: =AJ24 -> 0 | CY24: =(((S24+R24)*AT24)/100) -> 23.5832 | CZ24: =(((S24+R24)*AU24)/100) -> 17.8312 | DN24: 0 | DO24: 0 | DP24: 1 | DQ24: 1 | DU24: 1013 | DV24: 100 ШТ | DW24: 100 ШТ | DX24: 1 | EE24: 27029101 | EF24: 6 | EG24: Ремонтно-строительные работы | EH24: 0 | EJ24: 1 | EK24: 56001 | EL24: Проемы | EM24: рФЕР-56 | EQ24: 0 | ER24: 1579.15 | ES24: 0 | ET24: 141.16 | EU24: 0 | EV24: 1437.99 | EW24: 179.3 | EX24: 0 | EY24: 0 | FQ24: 0 | FR24: =ROUND(IF(AND(BH24=3,BI24=3),P24,0),2) -> 0 | FS24: 0 | FX24: 82 | FY24: 62 | GD24: 0 | GF24: -1455871663 | GG24: 2 | GH24: 1 | GI24: -2 | GJ24: 0 | GK24: =ROUND(R24*(R12)/100,2) -> 0 | GL24: =ROUND(IF(AND(BH24=3,BI24=3,FS24<>0),P24,0),2) -> 0 | GM24: =ROUND(O24+X24+Y24+GK24,2)+GX24 -> 72.99 | GN24: =IF(OR(BI24=0,BI24=1),ROUND(O24+X24+Y24+GK24,2),0) -> 72.99 | GO24: =IF(BI24=2,ROUND(O24+X24+Y24+GK24,2),0) -> 0 | GP24: =IF(BI24=4,ROUND(O24+X24+Y24+GK24,2)+GX24,0) -> 0 | GR24: 0 | GS24: 3 | GT24: 0 | GV24: =ROUND((GT24),2) -> 0 | GW24: 1 | GX24: =ROUND(HC24*I24,2) -> 0 | HA24: 0 | HB24: 0 | HC24: =GV24*GW24 -> 0 | IK24: 0
A25: 17 | B25: 1 | C25: =ROW(SmtRes!A8) -> 8 | D25: =ROW(EtalonRes!A8) -> 8 | E25: 1 | F25: 56-9-1 | G25: Демонтаж дверных коробок в каменных стенах с отбивкой штукатурки в откосах | H25: 100 ШТ | I25: =ROUND(2/100,9) -> 0.02 | J25: 0 | O25: =ROUND(CP25,2) -> 211.92 | P25: =ROUND(CQ25*I25,2) -> 0 | Q25: =ROUND(CR25*I25,2) -> 18.94 | R25: =ROUND(CS25*I25,2) -> 0 | S25: =ROUND(CT25*I25,2) -> 192.98 | T25: =ROUND(CU25*I25,2) -> 0 | U25: =CV25*I25 -> 3.586 | V25: =CW25*I25 -> 0 | W25: =ROUND(CX25*I25,2) -> 0 | X25: =ROUND(CY25,2) -> 158.24 | Y25: =ROUND(CZ25,2) -> 119.65 | AA25: 28045061 | AB25: =ROUND((AC25+AD25+AF25),2) -> 1579.15 | AC25: =ROUND((ES25),2) -> 0 | AD25: =ROUND((((ET25)-(EU25))+AE25),2) -> 141.16 | AE25: =ROUND((EU25),2) -> 0 | AF25: =ROUND((EV25),2) -> 1437.99 | AG25: =ROUND((AP25),2) -> 0 | AH25: =(EW25) -> 179.3 | AI25: =(EX25) -> 0 | AJ25: =(AS25) -> 0 | AK25: 1579.15 | AL25: 0 | AM25: 141.16 | AN25: 0 | AO25: 1437.99 | AP25: 0 | AQ25: 179.3 | AR25: 0 | AS25: 0 | AT25: 82 | AU25: 62 | AV25: 1 | AW25: 1 | AZ25: 6.71 | BA25: 6.71 | BB25: 6.71 | BC25: 6.71 | BH25: 0 | BI25: 1 | BJ25: ФЕРр-2001, 56-9-1, приказ Минстроя России №1039/пр от 30.12.2016г. | BM25: 56001 | BN25: 0 | BP25: 0 | BQ25: 6 | BR25: 0 | BS25: 6.71 | BT25: 1 | BU25: 1 | BV25: 1 | BW25: 1 | BX25: 1 | BZ25: 82 | CA25: 62 | CE25: 0 | CF25: 0 | CG25: 0 | CM25: 0 | CO25: 0 | CP25: =(P25+Q25+S25) -> 211.92 | CQ25: =AC25*BC25 -> 0 | CR25: =AD25*BB25 -> 947.1836 | CS25: =AE25*BS25 -> 0 | CT25: =AF25*BA25 -> 9648.9129 | CU25: =AG25 -> 0 | CV25: =AH25 -> 179.3 | CW25: =AI25 -> 0 | CX25: =AJ25 -> 0 | CY25: =(((S25+R25)*AT25)/100) -> 158.2436 | CZ25: =(((S25+R25)*AU25)/100) -> 119.6476 | DN25: 0 | DO25: 0 | DP25: 1 | DQ25: 1 | DU25: 1013 | DV25: 100 ШТ | DW25: 100 ШТ | DX25: 1 | EE25: 27029101 | EF25: 6 | EG25: Ремонтно-строительные работы | EH25: 0 | EJ25: 1 | EK25: 56001 | EL25: Проемы | EM25: рФЕР-56 | EQ25: 0 | ER25: 1579.15 | ES25: 0 | ET25: 141.16 | EU25: 0 | EV25: 1437.99 | EW25: 179.3 | EX25: 0 | EY25: 0 | FQ25: 0 | FR25: =ROUND(IF(AND(BH25=3,BI25=3),P25,0),2) -> 0 | FS25: 0 | FX25: 82 | FY25: 62 | GD25: 0 | GF25: -1455871663 | GG25: 1 | GH25: 1 | GI25: 4 | GJ25: 0 | GK25: =ROUND(R25*(S12)/100,2) -> 0 | GL25: =ROUND(IF(AND(BH25=3,BI25=3,FS25<>0),P25,0),2) -> 0 | GM25: =ROUND(O25+X25+Y25+GK25,2)+GX25 -> 489.81 | GN25: =IF(OR(BI25=0,BI25=1),ROUND(O25+X25+Y25+GK25,2),0) -> 489.81 | GO25: =IF(BI25=2,ROUND(O25+X25+Y25+GK25,2),0) -> 0 | GP25: =IF(BI25=4,ROUND(O25+X25+Y25+GK25,2)+GX25,0) -> 0 | GR25: 0 | GS25: 3 | GT25: 0 | GV25: =ROUND((GT25),2) -> 0 | GW25: 1 | GX25: =ROUND(HC25*I25,2) -> 0 | HA25: 0 | HB25: 0 | HC25: =GV25*GW25 -> 0 | IK25: 0
A26: 18 | B26: 1 | C26: 4 | E26: 1,1 | F26: 01.7.07.07 | G26: Строительный мусор | H26: т | I26: =I24*J26 -> 0.21 | J26: 10.5 | O26: =ROUND(CP26,2) -> 0 | P26: =ROUND(CQ26*I26,2) -> 0 | Q26: =ROUND(CR26*I26,2) -> 0 | R26: =ROUND(CS26*I26,2) -> 0 | S26: =ROUND(CT26*I26,2) -> 0 | T26: =ROUND(CU26*I26,2) -> 0 | U26: =CV26*I26 -> 0 | V26: =CW26*I26 -> 0 | W26: =ROUND(CX26*I26,2) -> 0 | X26: =ROUND(CY26,2) -> 0 | Y26: =ROUND(CZ26,2) -> 0 | AA26: 28045047 | AB26: =ROUND((AC26+AD26+AF26),2) -> 0 | AC26: =ROUND((ES26),2) -> 0 | AD26: =ROUND((((ET26)-(EU26))+AE26),2) -> 0 | AE26: =ROUND((EU26),2) -> 0 | AF26: =ROUND((EV26),2) -> 0 | AG26: =ROUND((AP26),2) -> 0 | AH26: =(EW26) -> 0 | AI26: =(EX26) -> 0 | AJ26: =(AS26) -> 0 | AK26: 0 | AL26: 0 | AM26: 0 | AN26: 0 | AO26: 0 | AP26: 0 | AQ26: 0 | AR26: 0 | AS26: 0 | AT26: 82 | AU26: 62 | AV26: 1 | AW26: 1 | AZ26: 1 | BA26: 1 | BB26: 1 | BC26: 1 | BH26: 3 | BI26: 1 | BM26: 56001 | BN26: 0 | BP26: 0 | BQ26: 6 | BR26: 0 | BS26: 1 | BT26: 1 | BU26: 1 | BV26: 1 | BW26: 1 | BX26: 1 | BZ26: 82 | CA26: 62 | CE26: 0 | CF26: 0 | CG26: 0 | CM26: 0 | CO26: 0 | CP26: =(P26+Q26+S26) -> 0 | CQ26: =AC26*BC26 -> 0 | CR26: =AD26*BB26 -> 0 | CS26: =AE26*BS26 -> 0 | CT26: =AF26*BA26 -> 0 | CU26: =AG26 -> 0 | CV26: =AH26 -> 0 | CW26: =AI26 -> 0 | CX26: =AJ26 -> 0 | CY26: =(((S26+R26)*AT26)/100) -> 0 | CZ26: =(((S26+R26)*AU26)/100) -> 0 | DN26: 0 | DO26: 0 | DP26: 1 | DQ26: 1 | DU26: 1009 | DV26: т | DW26: т | DX26: 1000 | EE26: 27029101 | EF26: 6 | EG26: Ремонтно-строительные работы | EH26: 0 | EJ26: 1 | EK26: 56001 | EL26: Проемы | EM26: рФЕР-56 | EQ26: 0 | ER26: 0 | ES26: 0 | ET26: 0 | EU26: 0 | EV26: 0 | EW26: 0 | EX26: 0 | FQ26: 0 | FR26: =ROUND(IF(AND(BH26=3,BI26=3),P26,0),2) -> 0 | FS26: 0 | FX26: 82 | FY26: 62 | GD26: 0 | GF26: -179832266 | GG26: 2 | GH26: 1 | GI26: -2 | GJ26: 0 | GK26: =ROUND(R26*(R12)/100,2) -> 0 | GL26: =ROUND(IF(AND(BH26=3,BI26=3,FS26<>0),P26,0),2) -> 0 | GM26: =ROUND(O26+X26+Y26+GK26,2)+GX26 -> 0 | GN26: =IF(OR(BI26=0,BI26=1),ROUND(O26+X26+Y26+GK26,2),0) -> 0 | GO26: =IF(BI26=2,ROUND(O26+X26+Y26+GK26,2),0) -> 0 | GP26: =IF(BI26=4,ROUND(O26+X26+Y26+GK26,2)+GX26,0) -> 0 | GR26: 0 | GS26: 3 | GT26: 0 | GV26: =ROUND((GT26),2) -> 0 | GW26: 1 | GX26: =ROUND(HC26*I26,2) -> 0 | HA26: 0 | HB26: 0 | HC26: =GV26*GW26 -> 0 | IK26: 0
A27: 18 | B27: 1 | C27: 8 | E27: 1,1 | F27: 01.7.07.07 | G27: Строительный мусор | H27: т | I27: =I25*J27 -> 0.21 | J27: 10.5 | O27: =ROUND(CP27,2) -> 0 | P27: =ROUND(CQ27*I27,2) -> 0 | Q27: =ROUND(CR27*I27,2) -> 0 | R27: =ROUND(CS27*I27,2) -> 0 | S27: =ROUND(CT27*I27,2) -> 0 | T27: =ROUND(CU27*I27,2) -> 0 | U27: =CV27*I27 -> 0 | V27: =CW27*I27 -> 0 | W27: =ROUND(CX27*I27,2) -> 0 | X27: =ROUND(CY27,2) -> 0 | Y27: =ROUND(CZ27,2) -> 0 | AA27: 28045061 | AB27: =ROUND((AC27+AD27+AF27),2) -> 0 | AC27: =ROUND((ES27),2) -> 0 | AD27: =ROUND((((ET27)-(EU27))+AE27),2) -> 0 | AE27: =ROUND((EU27),2) -> 0 | AF27: =ROUND((EV27),2) -> 0 | AG27: =ROUND((AP27),2) -> 0 | AH27: =(EW27) -> 0 | AI27: =(EX27) -> 0 | AJ27: =(AS27) -> 0 | AK27: 0 | AL27: 0 | AM27: 0 | AN27: 0 | AO27: 0 | AP27: 0 | AQ27: 0 | AR27: 0 | AS27: 0 | AT27: 82 | AU27: 62 | AV27: 1 | AW27: 1 | AZ27: 6.71 | BA27: 1 | BB27: 1 | BC27: 6.71 | BH27: 3 | BI27: 1 | BM27: 56001 | BN27: 0 | BP27: 0 | BQ27: 6 | BR27: 0 | BS27: 1 | BT27: 1 | BU27: 1 | BV27: 1 | BW27: 1 | BX27: 1 | BZ27: 82 | CA27: 62 | CE27: 0 | CF27: 0 | CG27: 0 | CM27: 0 | CO27: 0 | CP27: =(P27+Q27+S27) -> 0 | CQ27: =AC27*BC27 -> 0 | CR27: =AD27*BB27 -> 0 | CS27: =AE27*BS27 -> 0 | CT27: =AF27*BA27 -> 0 | CU27: =AG27 -> 0 | CV27: =AH27 -> 0 | CW27: =AI27 -> 0 | CX27: =AJ27 -> 0 | CY27: =(((S27+R27)*AT27)/100) -> 0 | CZ27: =(((S27+R27)*AU27)/100) -> 0 | DN27: 0 | DO27: 0 | DP27: 1 | DQ27: 1 | DU27: 1009 | DV27: т | DW27: т | DX27: 1000 | EE27: 27029101 | EF27: 6 | EG27: Ремонтно-строительные работы | EH27: 0 | EJ27: 1 | EK27: 56001 | EL27: Проемы | EM27: рФЕР-56 | EQ27: 0 | ER27: 0 | ES27: 0 | ET27: 0 | EU27: 0 | EV27: 0 | EW27: 0 | EX27: 0 | FQ27: 0 | FR27: =ROUND(IF(AND(BH27=3,BI27=3),P27,0),2) -> 0 | FS27: 0 | FX27: 82 | FY27: 62 | GD27: 0 | GF27: -179832266 | GG27: 1 | GH27: 1 | GI27: 4 | GJ27: 0 | GK27: =ROUND(R27*(S12)/100,2) -> 0 | GL27: =ROUND(IF(AND(BH27=3,BI27=3,FS27<>0),P27,0),2) -> 0 | GM27: =ROUND(O27+X27+Y27+GK27,2)+GX27 -> 0 | GN27: =IF(OR(BI27=0,BI27=1),ROUND(O27+X27+Y27+GK27,2),0) -> 0 | GO27: =IF(BI27=2,ROUND(O27+X27+Y27+GK27,2),0) -> 0 | GP27: =IF(BI27=4,ROUND(O27+X27+Y27+GK27,2)+GX27,0) -> 0 | GR27: 0 | GS27: 3 | GT27: 0 | GV27: =ROUND((GT27),2) -> 0 | GW27: 1 | GX27: =ROUND(HC27*I27,2) -> 0 | HA27: 0 | HB27: 0 | HC27: =GV27*GW27 -> 0 | IK27: 0
A28: 17 | B28: 1 | C28: =ROW(SmtRes!A11) -> 11 | D28: =ROW(EtalonRes!A11) -> 11 | E28: 2 | F28: 46-04-003-02 | G28: Разборка бетонных конструкций объемом более 1 м3 при помощи отбойных молотков из бетона марки 150 | H28: м3 | I28: 3 | J28: 0 | O28: =ROUND(CP28,2) -> 1656.72 | P28: =ROUND(CQ28*I28,2) -> 0 | Q28: =ROUND(CR28*I28,2) -> 1106.28 | R28: =ROUND(CS28*I28,2) -> 0 | S28: =ROUND(CT28*I28,2) -> 550.44 | T28: =ROUND(CU28*I28,2) -> 0 | U28: =CV28*I28 -> 64.53 | V28: =CW28*I28 -> 0 | W28: =ROUND(CX28*I28,2) -> 0 | X28: =ROUND(CY28,2) -> 544.94 | Y28: =ROUND(CZ28,2) -> 330.26 | AA28: 28045047 | AB28: =ROUND((AC28+AD28+AF28),2) -> 552.24 | AC28: =ROUND((ES28),2) -> 0 | AD28: =ROUND((((ET28)-(EU28))+AE28),2) -> 368.76 | AE28: =ROUND((EU28),2) -> 0 | AF28: =ROUND((EV28),2) -> 183.48 | AG28: =ROUND((AP28),2) -> 0 | AH28: =(EW28) -> 21.51 | AI28: =(EX28) -> 0 | AJ28: =(AS28) -> 0 | AK28: 552.24 | AL28: 0 | AM28: 368.76 | AN28: 0 | AO28: 183.48 | AP28: 0 | AQ28: 21.51 | AR28: 0 | AS28: 0 | AT28: 99 | AU28: 60 | AV28: 1 | AW28: 1 | AZ28: 1 | BA28: 1 | BB28: 1 | BC28: 1 | BH28: 0 | BI28: 1 | BJ28: ФЕР-2001, 46-04-003-02, приказ Минстроя России №1039/пр от 30.12.2016г. | BM28: 46001 | BN28: 0 | BP28: 0 | BQ28: 2 | BR28: 0 | BS28: 1 | BT28: 1 | BU28: 1 | BV28: 1 | BW28: 1 | BX28: 1 | BZ28: 110 | CA28: 70 | CE28: 0 | CF28: 0 | CG28: 0 | CM28: 0 | CO28: 0 | CP28: =(P28+Q28+S28) -> 1656.72 | CQ28: =AC28*BC28 -> 0 | CR28: =AD28*BB28 -> 368.76 | CS28: =AE28*BS28 -> 0 | CT28: =AF28*BA28 -> 183.48 | CU28: =AG28 -> 0 | CV28: =AH28 -> 21.51 | CW28: =AI28 -> 0 | CX28: =AJ28 -> 0 | CY28: =(((S28+R28)*AT28)/100) -> 544.9356 | CZ28: =(((S28+R28)*AU28)/100) -> 330.264 | DN28: 0 | DO28: 0 | DP28: 1 | DQ28: 1 | DU28: 1007 | DV28: м3 | DW28: м3 | DX28: 1 | EE28: 27029091 | EF28: 2 | EG28: Общестроительные работы | EH28: 0 | EJ28: 1 | EK28: 46001 | EL28: Реконструкция зданий и сооружений | EM28: ФЕР-46 | EQ28: 0 | ER28: 552.24 | ES28: 0 | ET28: 368.76 | EU28: 0 | EV28: 183.48 | EW28: 21.51 | EX28: 0 | EY28: 0 | FQ28: 0 | FR28: =ROUND(IF(AND(BH28=3,BI28=3),P28,0),2) -> 0 | FS28: 0 | FT28: *0,9 | FU28: *0,85 | FX28: 99 | FY28: 59.5 | GD28: 0 | GF28: 1632374558 | GG28: 2 | GH28: 1 | GI28: -2 | GJ28: 0 | GK28: =ROUND(R28*(R12)/100,2) -> 0 | GL28: =ROUND(IF(AND(BH28=3,BI28=3,FS28<>0),P28,0),2) -> 0 | GM28: =ROUND(O28+X28+Y28+GK28,2)+GX28 -> 2531.92 | GN28: =IF(OR(BI28=0,BI28=1),ROUND(O28+X28+Y28+GK28,2),0) -> 2531.92 | GO28: =IF(BI28=2,ROUND(O28+X28+Y28+GK28,2),0) -> 0 | GP28: =IF(BI28=4,ROUND(O28+X28+Y28+GK28,2)+GX28,0) -> 0 | GR28: 0 | GS28: 3 | GT28: 0 | GV28: =ROUND((GT28),2) -> 0 | GW28: 1 | GX28: =ROUND(HC28*I28,2) -> 0 | HA28: 0 | HB28: 0 | HC28: =GV28*GW28 -> 0 | IK28: 0
A29: 17 | B29: 1 | C29: =ROW(SmtRes!A14) -> 14 | D29: =ROW(EtalonRes!A14) -> 14 | E29: 2 | F29: 46-04-003-02 | G29: Разборка бетонных конструкций объемом более 1 м3 при помощи отбойных молотков из бетона марки 150 | H29: м3 | I29: 3 | J29: 0 | O29: =ROUND(CP29,2) -> 11116.59 | P29: =ROUND(CQ29*I29,2) -> 0 | Q29: =ROUND(CR29*I29,2) -> 7423.14 | R29: =ROUND(CS29*I29,2) -> 0 | S29: =ROUND(CT29*I29,2) -> 3693.45 | T29: =ROUND(CU29*I29,2) -> 0 | U29: =CV29*I29 -> 64.53 | V29: =CW29*I29 -> 0 | W29: =ROUND(CX29*I29,2) -> 0 | X29: =ROUND(CY29,2) -> 3656.52 | Y29: =ROUND(CZ29,2) -> 2216.07 | AA29: 28045061 | AB29: =ROUND((AC29+AD29+AF29),2) -> 552.24 | AC29: =ROUND((ES29),2) -> 0 | AD29: =ROUND((((ET29)-(EU29))+AE29),2) -> 368.76 | AE29: =ROUND((EU29),2) -> 0 | AF29: =ROUND((EV29),2) -> 183.48 | AG29: =ROUND((AP29),2) -> 0 | AH29: =(EW29) -> 21.51 | AI29: =(EX29) -> 0 | AJ29: =(AS29) -> 0 | AK29: 552.24 | AL29: 0 | AM29: 368.76 | AN29: 0 | AO29: 183.48 | AP29: 0 | AQ29: 21.51 | AR29: 0 | AS29: 0 | AT29: 99 | AU29: 60 | AV29: 1 | AW29: 1 | AZ29: 6.71 | BA29: 6.71 | BB29: 6.71 | BC29: 6.71 | BH29: 0 | BI29: 1 | BJ29: ФЕР-2001, 46-04-003-02, приказ Минстроя России №1039/пр от 30.12.2016г. | BM29: 46001 | BN29: 0 | BP29: 0 | BQ29: 2 | BR29: 0 | BS29: 6.71 | BT29: 1 | BU29: 1 | BV29: 1 | BW29: 1 | BX29: 1 | BZ29: 110 | CA29: 70 | CE29: 0 | CF29: 0 | CG29: 0 | CM29: 0 | CO29: 0 | CP29: =(P29+Q29+S29) -> 11116.59 | CQ29: =AC29*BC29 -> 0 | CR29: =AD29*BB29 -> 2474.3796 | CS29: =AE29*BS29 -> 0 | CT29: =AF29*BA29 -> 1231.1508 | CU29: =AG29 -> 0 | CV29: =AH29 -> 21.51 | CW29: =AI29 -> 0 | CX29: =AJ29 -> 0 | CY29: =(((S29+R29)*AT29)/100) -> 3656.5155 | CZ29: =(((S29+R29)*AU29)/100) -> 2216.07 | DN29: 0 | DO29: 0 | DP29: 1 | DQ29: 1 | DU29: 1007 | DV29: м3 | DW29: м3 | DX29: 1 | EE29: 27029091 | EF29: 2 | EG29: Общестроительные работы | EH29: 0 | EJ29: 1 | EK29: 46001 | EL29: Реконструкция зданий и сооружений | EM29: ФЕР-46 | EQ29: 0 | ER29: 552.24 | ES29: 0 | ET29: 368.76 | EU29: 0 | EV29: 183.48 | EW29: 21.51 | EX29: 0 | EY29: 0 | FQ29: 0 | FR29: =ROUND(IF(AND(BH29=3,BI29=3),P29,0),2) -> 0 | FS29: 0 | FT29: *0,9 | FU29: *0,85 | FX29: 99 | FY29: 59.5 | GD29: 0 | GF29: 1632374558 | GG29: 1 | GH29: 1 | GI29: 4 | GJ29: 0 | GK29: =ROUND(R29*(S12)/100,2) -> 0 | GL29: =ROUND(IF(AND(BH29=3,BI29=3,FS29<>0),P29,0),2) -> 0 | GM29: =ROUND(O29+X29+Y29+GK29,2)+GX29 -> 16989.18 | GN29: =IF(OR(BI29=0,BI29=1),ROUND(O29+X29+Y29+GK29,2),0) -> 16989.18 | GO29: =IF(BI29=2,ROUND(O29+X29+Y29+GK29,2),0) -> 0 | GP29: =IF(BI29=4,ROUND(O29+X29+Y29+GK29,2)+GX29,0) -> 0 | GR29: 0 | GS29: 3 | GT29: 0 | GV29: =ROUND((GT29),2) -> 0 | GW29: 1 | GX29: =ROUND(HC29*I29,2) -> 0 | HA29: 0 | HB29: 0 | HC29: =GV29*GW29 -> 0 | IK29: 0
A30: 17 | B30: 1 | E30: 3 | F30: т01-01-01-041 | G30: Погрузочные работы при автомобильных перевозках мусора строительного с погрузкой вручную | H30: 1 Т ГРУЗА | I30: =ROUND(1.5,9) -> 1.5 | J30: 0 | O30: =0 -> 0 | P30: =0 -> 0 | Q30: =0 -> 0 | R30: =0 -> 0 | S30: =0 -> 0 | T30: =0 -> 0 | U30: =0 -> 0 | V30: =0 -> 0 | ... Y30: =0 -> 0 | AA30: 28045047 | AB30: =ROUND((AK30),2) -> 42.98 | AC30: =0 -> 0 | AD30: =0 -> 0 | AE30: =0 -> 0 | AF30: =0 -> 0 | AG30: =0 -> 0 | AH30: =0 -> 0 | AI30: =0 -> 0 | AJ30: =0 -> 0 | AK30: 42.98 | AL30: 0 | AM30: 0 | AN30: 0 | AO30: 0 | AP30: 0 | AQ30: 0 | AR30: 0 | AS30: 0 | AT30: 0 | AU30: 0 | AV30: 1 | AW30: 1 | AZ30: 1 | BA30: 1 | BB30: 1 | BC30: 1 | BH30: 0 | BI30: 1 | BJ30: ФССЦпг-2001, т01-01-01-041, приказ Минстроя России №1039/пр от 30.12.2016г. | BM30: 700004 | BN30: 0 | BP30: 0 | BQ30: 19 | BR30: 0 | BS30: 1 | BT30: 1 | BU30: 1 | BV30: 1 | BW30: 1 | BX30: 1 | BZ30: 0 | CA30: 0 | CE30: 0 | CF30: 0 | CG30: 0 | CM30: 0 | CO30: 0 | CP30: =AB30*AZ30 -> 42.98 | CQ30: 0 | CR30: 0 | CS30: 0 | CT30: 0 | CU30: 0 | CV30: 0 | CW30: 0 | CX30: 0 | CY30: 0 | CZ30: 0 | DN30: 0 | DO30: 0 | DP30: 1 | DQ30: 1 | DU30: 1013 | DV30: 1 Т ГРУЗА | DW30: 1 Т ГРУЗА | DX30: 1 | EE30: 27029211 | EF30: 19 | EG30: Погрузочно-разгрузочные работы | EH30: 0 | EJ30: 1 | EK30: 700004 | EL30: Перевозка грузов , (ФССЦпр 2011-изм. № 4-6, раздел 1): погрузочно-разгрузочные работы (НР и СП в прям. затратах ) | EM30: ФССЦпр пог. а/п (2011,изм. 4-6) | EQ30: 0 | ER30: 0 | ES30: 0 | ET30: 0 | EU30: 0 | EV30: 0 | EW30: 0 | EX30: 0 | EY30: 0 | FQ30: 0 | FR30: =ROUND(IF(AND(BH30=3,BI30=3),P30,0),2) -> 0 | FS30: 0 | FX30: 0 | FY30: 0 | GD30: 0 | GF30: 68385352 | GG30: 2 | GH30: 1 | GI30: -2 | GJ30: 2 | GK30: =ROUND(R30*(R12)/100,2) -> 0 | GL30: =ROUND(IF(AND(BH30=3,BI30=3,FS30<>0),P30,0),2) -> 0 | GM30: =ROUND(CP30*I30,2) -> 64.47 | GN30: =IF(OR(BI30=0,BI30=1),ROUND(CP30*I30,2),0) -> 64.47 | GO30: =IF(BI30=2,ROUND(CP30*I30,2),0) -> 0 | GP30: =IF(BI30=4,ROUND(CP30*I30,2)+GX30,0) -> 0 | GR30: 0 | GS30: 3 | GT30: 0 | GV30: =0 -> 0 | GW30: 1 | GX30: =0 -> 0 | HA30: 0 | HB30: 0 | HC30: 0 | IK30: 0
A31: 17 | B31: 1 | E31: 3 | F31: т01-01-01-041 | G31: Погрузочные работы при автомобильных перевозках мусора строительного с погрузкой вручную | H31: 1 Т ГРУЗА | I31: =ROUND(1.5,9) -> 1.5 | J31: 0 | O31: =0 -> 0 | P31: =0 -> 0 | Q31: =0 -> 0 | R31: =0 -> 0 | S31: =0 -> 0 | T31: =0 -> 0 | U31: =0 -> 0 | V31: =0 -> 0 | ... Y31: =0 -> 0 | AA31: 28045061 | AB31: =ROUND((AK31),2) -> 42.98 | AC31: =0 -> 0 | AD31: =0 -> 0 | AE31: =0 -> 0 | AF31: =0 -> 0 | AG31: =0 -> 0 | AH31: =0 -> 0 | AI31: =0 -> 0 | AJ31: =0 -> 0 | AK31: 42.98 | AL31: 0 | AM31: 0 | AN31: 0 | AO31: 0 | AP31: 0 | AQ31: 0 | AR31: 0 | AS31: 0 | AT31: 0 | AU31: 0 | AV31: 1 | AW31: 1 | AZ31: 6.71 | BA31: 1 | BB31: 1 | BC31: 1 | BH31: 0 | BI31: 1 | BJ31: ФССЦпг-2001, т01-01-01-041, приказ Минстроя России №1039/пр от 30.12.2016г. | BM31: 700004 | BN31: 0 | BP31: 0 | BQ31: 19 | BR31: 0 | BS31: 1 | BT31: 1 | BU31: 1 | BV31: 1 | BW31: 1 | BX31: 1 | BZ31: 0 | CA31: 0 | CE31: 0 | CF31: 0 | CG31: 0 | CM31: 0 | CO31: 0 | CP31: =AB31*AZ31 -> 288.3958 | CQ31: 0 | CR31: 0 | CS31: 0 | CT31: 0 | CU31: 0 | CV31: 0 | CW31: 0 | CX31: 0 | CY31: 0 | CZ31: 0 | DN31: 0 | DO31: 0 | DP31: 1 | DQ31: 1 | DU31: 1013 | DV31: 1 Т ГРУЗА | DW31: 1 Т ГРУЗА | DX31: 1 | EE31: 27029211 | EF31: 19 | EG31: Погрузочно-разгрузочные работы | EH31: 0 | EJ31: 1 | EK31: 700004 | EL31: Перевозка грузов , (ФССЦпр 2011-изм. № 4-6, раздел 1): погрузочно-разгрузочные работы (НР и СП в прям. затратах ) | EM31: ФССЦпр пог. а/п (2011,изм. 4-6) | EQ31: 0 | ER31: 0 | ES31: 0 | ET31: 0 | EU31: 0 | EV31: 0 | EW31: 0 | EX31: 0 | EY31: 0 | FQ31: 0 | FR31: =ROUND(IF(AND(BH31=3,BI31=3),P31,0),2) -> 0 | FS31: 0 | FX31: 0 | FY31: 0 | GD31: 0 | GF31: 68385352 | GG31: 1 | GH31: 1 | GI31: 4 | GJ31: 2 | GK31: =ROUND(R31*(S12)/100,2) -> 0 | GL31: =ROUND(IF(AND(BH31=3,BI31=3,FS31<>0),P31,0),2) -> 0 | GM31: =ROUND(CP31*I31,2) -> 432.59 | GN31: =IF(OR(BI31=0,BI31=1),ROUND(CP31*I31,2),0) -> 432.59 | GO31: =IF(BI31=2,ROUND(CP31*I31,2),0) -> 0 | GP31: =IF(BI31=4,ROUND(CP31*I31,2)+GX31,0) -> 0 | GR31: 0 | GS31: 3 | GT31: 0 | GV31: =0 -> 0 | GW31: 1 | GX31: =0 -> 0 | HA31: 0 | HB31: 0 | HC31: 0 | IK31: 0
A32: 17 | B32: 1 | E32: 4 | F32: т03-21-01-025 | G32: Перевозка грузов I класса автомобилями-самосвалами грузоподъемностью 10 т работающих вне карьера на расстояние до 25 км | H32: 1 Т ГРУЗА | I32: =ROUND(1.49998,9) -> 1.49998 | J32: 0 | O32: =0 -> 0 | P32: =0 -> 0 | Q32: =0 -> 0 | R32: =0 -> 0 | S32: =0 -> 0 | T32: =0 -> 0 | U32: =0 -> 0 | V32: =0 -> 0 | ... Y32: =0 -> 0 | AA32: 28045047 | AB32: =ROUND((AK32),2) -> 17.32 | AC32: =0 -> 0 | AD32: =0 -> 0 | AE32: =0 -> 0 | AF32: =0 -> 0 | AG32: =0 -> 0 | AH32: =0 -> 0 | AI32: =0 -> 0 | AJ32: =0 -> 0 | AK32: 17.32 | AL32: 0 | AM32: 0 | AN32: 0 | AO32: 0 | AP32: 0 | AQ32: 0 | AR32: 0 | AS32: 0 | AT32: 0 | AU32: 0 | AV32: 1 | AW32: 1 | AZ32: 1 | BA32: 1 | BB32: 1 | BC32: 1 | BH32: 0 | BI32: 1 | BJ32: ФССЦпг-2001, т03-21-01-025, приказ Минстроя России №1039/пр от 30.12.2016г. | BM32: 700005 | BN32: 0 | BP32: 0 | BQ32: 10 | BR32: 0 | BS32: 1 | BT32: 1 | BU32: 1 | BV32: 1 | BW32: 1 | BX32: 1 | BZ32: 0 | CA32: 0 | CE32: 0 | CF32: 0 | CG32: 0 | CM32: 0 | CO32: 0 | CP32: =AB32*AZ32 -> 17.32 | CQ32: 0 | CR32: 0 | CS32: 0 | CT32: 0 | CU32: 0 | CV32: 0 | CW32: 0 | CX32: 0 | CY32: 0 | CZ32: 0 | DN32: 0 | DO32: 0 | DP32: 1 | DQ32: 1 | DU32: 1013 | DV32: 1 Т ГРУЗА | DW32: 1 Т ГРУЗА | DX32: 1 | EE32: 27029215 | EF32: 10 | EG32: Перевозка грузов авто/транспортом | EH32: 0 | EJ32: 1 | EK32: 700005 | EL32: Перевозкуа грузов (ФССЦпр-2011 - изм. 7, разделы 1-4) - по сметной стоимости | EM32: ФССЦпр , изм. 7 | EQ32: 0 | ER32: 0 | ES32: 0 | ET32: 0 | EU32: 0 | EV32: 0 | EW32: 0 | EX32: 0 | EY32: 0 | FQ32: 0 | FR32: =ROUND(IF(AND(BH32=3,BI32=3),P32,0),2) -> 0 | FS32: 0 | FX32: 0 | FY32: 0 | GD32: 0 | GF32: 1719553039 | GG32: 2 | GH32: 1 | GI32: -2 | GJ32: 2 | GK32: =ROUND(R32*(R12)/100,2) -> 0 | GL32: =ROUND(IF(AND(BH32=3,BI32=3,FS32<>0),P32,0),2) -> 0 | GM32: =ROUND(CP32*I32,2) -> 25.98 | GN32: =IF(OR(BI32=0,BI32=1),ROUND(CP32*I32,2),0) -> 25.98 | GO32: =IF(BI32=2,ROUND(CP32*I32,2),0) -> 0 | GP32: =IF(BI32=4,ROUND(CP32*I32,2)+GX32,0) -> 0 | GR32: 0 | GS32: 3 | GT32: 0 | GV32: =0 -> 0 | GW32: 1 | GX32: =0 -> 0 | HA32: 0 | HB32: 0 | HC32: 0 | IK32: 0
A33: 17 | B33: 1 | E33: 4 | F33: т03-21-01-025 | G33: Перевозка грузов I класса автомобилями-самосвалами грузоподъемностью 10 т работающих вне карьера на расстояние до 25 км | H33: 1 Т ГРУЗА | I33: =ROUND(1.49998,9) -> 1.49998 | J33: 0 | O33: =0 -> 0 | P33: =0 -> 0 | Q33: =0 -> 0 | R33: =0 -> 0 | S33: =0 -> 0 | T33: =0 -> 0 | U33: =0 -> 0 | V33: =0 -> 0 | ... Y33: =0 -> 0 | AA33: 28045061 | AB33: =ROUND((AK33),2) -> 17.32 | AC33: =0 -> 0 | AD33: =0 -> 0 | AE33: =0 -> 0 | AF33: =0 -> 0 | AG33: =0 -> 0 | AH33: =0 -> 0 | AI33: =0 -> 0 | AJ33: =0 -> 0 | AK33: 17.32 | AL33: 0 | AM33: 0 | AN33: 0 | AO33: 0 | AP33: 0 | AQ33: 0 | AR33: 0 | AS33: 0 | AT33: 0 | AU33: 0 | AV33: 1 | AW33: 1 | AZ33: 6.71 | BA33: 1 | BB33: 1 | BC33: 1 | BH33: 0 | BI33: 1 | BJ33: ФССЦпг-2001, т03-21-01-025, приказ Минстроя России №1039/пр от 30.12.2016г. | BM33: 700005 | BN33: 0 | BP33: 0 | BQ33: 10 | BR33: 0 | BS33: 1 | BT33: 1 | BU33: 1 | BV33: 1 | BW33: 1 | BX33: 1 | BZ33: 0 | CA33: 0 | CE33: 0 | CF33: 0 | CG33: 0 | CM33: 0 | CO33: 0 | CP33: =AB33*AZ33 -> 116.2172 | CQ33: 0 | CR33: 0 | CS33: 0 | CT33: 0 | CU33: 0 | CV33: 0 | CW33: 0 | CX33: 0 | CY33: 0 | CZ33: 0 | DN33: 0 | DO33: 0 | DP33: 1 | DQ33: 1 | DU33: 1013 | DV33: 1 Т ГРУЗА | DW33: 1 Т ГРУЗА | DX33: 1 | EE33: 27029215 | EF33: 10 | EG33: Перевозка грузов авто/транспортом | EH33: 0 | EJ33: 1 | EK33: 700005 | EL33: Перевозкуа грузов (ФССЦпр-2011 - изм. 7, разделы 1-4) - по сметной стоимости | EM33: ФССЦпр , изм. 7 | EQ33: 0 | ER33: 0 | ES33: 0 | ET33: 0 | EU33: 0 | EV33: 0 | EW33: 0 | EX33: 0 | EY33: 0 | FQ33: 0 | FR33: =ROUND(IF(AND(BH33=3,BI33=3),P33,0),2) -> 0 | FS33: 0 | FX33: 0 | FY33: 0 | GD33: 0 | GF33: 1719553039 | GG33: 1 | GH33: 1 | GI33: 4 | GJ33: 2 | GK33: =ROUND(R33*(S12)/100,2) -> 0 | GL33: =ROUND(IF(AND(BH33=3,BI33=3,FS33<>0),P33,0),2) -> 0 | GM33: =ROUND(CP33*I33,2) -> 174.32 | GN33: =IF(OR(BI33=0,BI33=1),ROUND(CP33*I33,2),0) -> 174.32 | GO33: =IF(BI33=2,ROUND(CP33*I33,2),0) -> 0 | GP33: =IF(BI33=4,ROUND(CP33*I33,2)+GX33,0) -> 0 | GR33: 0 | GS33: 3 | GT33: 0 | GV33: =0 -> 0 | GW33: 1 | GX33: =0 -> 0 | HA33: 0 | HB33: 0 | HC33: 0 | IK33: 0
A34: 17 | B34: 1 | C34: =ROW(SmtRes!A29) -> 29 | D34: =ROW(EtalonRes!A27) -> 27 | E34: 5 | F34: м07-04-001-02 | G34: Агрегат насосный лопастный центробежный одноступенчатый, многоступенчатый объемный, вихревой, поршневой, приводной, роторный на общей фундаментной плите или моноблочный, масса 0,17 т | H34: ШТ | I34: 2 | J34: 0 | O34: =ROUND(CP34,2) -> 1189.56 | P34: =ROUND(CQ34*I34,2) -> 503.44 | Q34: =ROUND(CR34*I34,2) -> 95.8 | R34: =ROUND(CS34*I34,2) -> 5.02 | S34: =ROUND(CT34*I34,2) -> 590.32 | T34: =ROUND(CU34*I34,2) -> 0 | U34: =CV34*I34 -> 62.8 | V34: =CW34*I34 -> 0.4 | W34: =ROUND(CX34*I34,2) -> 0 | X34: =ROUND(CY34,2) -> 476.27 | Y34: =ROUND(CZ34,2) -> 357.2 | AA34: 28045047 | AB34: =ROUND((AC34+AD34+AF34),2) -> 594.78 | AC34: =ROUND((ES34),2) -> 251.72 | AD34: =ROUND((((ET34)-(EU34))+AE34),2) -> 47.9 | AE34: =ROUND((EU34),2) -> 2.51 | AF34: =ROUND((EV34),2) -> 295.16 | AG34: =ROUND((AP34),2) -> 0 | AH34: =(EW34) -> 31.4 | AI34: =(EX34) -> 0.2 | AJ34: =(AS34) -> 0 | AK34: 594.78 | AL34: 251.72 | AM34: 47.9 | AN34: 2.51 | AO34: 295.16 | AP34: 0 | AQ34: 31.4 | AR34: 0.2 | AS34: 0 | AT34: 80 | AU34: 60 | AV34: 1 | AW34: 1 | AZ34: 1 | BA34: 1 | BB34: 1 | BC34: 1 | BH34: 0 | BI34: 2 | BJ34: ФЕРм-2001, м07-04-001-02, приказ Минстроя России №1039/пр от 30.12.2016г. | BM34: 107001 | BN34: 0 | BP34: 0 | BQ34: 3 | BR34: 0 | BS34: 1 | BT34: 1 | BU34: 1 | BV34: 1 | BW34: 1 | BX34: 1 | BZ34: 80 | CA34: 60 | CE34: 0 | CF34: 0 | CG34: 0 | CM34: 0 | CO34: 0 | CP34: =(P34+Q34+S34) -> 1189.56 | CQ34: =AC34*BC34 -> 251.72 | CR34: =AD34*BB34 -> 47.9 | CS34: =AE34*BS34 -> 2.51 | CT34: =AF34*BA34 -> 295.16 | CU34: =AG34 -> 0 | CV34: =AH34 -> 31.4 | CW34: =AI34 -> 0.2 | CX34: =AJ34 -> 0 | CY34: =(((S34+R34)*AT34)/100) -> 476.272 | CZ34: =(((S34+R34)*AU34)/100) -> 357.204 | DN34: 0 | DO34: 0 | DP34: 1 | DQ34: 1 | DU34: 1013 | DV34: ШТ | DW34: ШТ | DX34: 1 | EE34: 27028905 | EF34: 3 | EG34: Монтажные работы | EH34: 0 | EJ34: 2 | EK34: 107001 | EL34: Компрессорное оборудование | EM34: мФЕР-07 | EQ34: 0 | ER34: 594.78 | ES34: 251.72 | ET34: 47.9 | EU34: 2.51 | EV34: 295.16 | EW34: 31.4 | EX34: 0.2 | EY34: 0 | FQ34: 0 | FR34: =ROUND(IF(AND(BH34=3,BI34=3),P34,0),2) -> 0 | FS34: 0 | FX34: 80 | FY34: 60 | GD34: 0 | GF34: -376680968 | GG34: 2 | GH34: 1 | GI34: -2 | GJ34: 0 | GK34: =ROUND(R34*(R12)/100,2) -> 0 | GL34: =ROUND(IF(AND(BH34=3,BI34=3,FS34<>0),P34,0),2) -> 0 | GM34: =ROUND(O34+X34+Y34+GK34,2)+GX34 -> 2023.03 | GN34: =IF(OR(BI34=0,BI34=1),ROUND(O34+X34+Y34+GK34,2),0) -> 0 | GO34: =IF(BI34=2,ROUND(O34+X34+Y34+GK34,2),0) -> 2023.03 | GP34: =IF(BI34=4,ROUND(O34+X34+Y34+GK34,2)+GX34,0) -> 0 | GR34: 0 | GS34: 3 | GT34: 0 | GV34: =ROUND((GT34),2) -> 0 | GW34: 1 | GX34: =ROUND(HC34*I34,2) -> 0 | HA34: 0 | HB34: 0 | HC34: =GV34*GW34 -> 0 | IK34: 0
A35: 17 | B35: 1 | C35: =ROW(SmtRes!A44) -> 44 | D35: =ROW(EtalonRes!A40) -> 40 | E35: 5 | F35: м07-04-001-02 | G35: Агрегат насосный лопастный центробежный одноступенчатый, многоступенчатый объемный, вихревой, поршневой, приводной, роторный на общей фундаментной плите или моноблочный, масса 0,17 т | H35: ШТ | I35: 2 | J35: 0 | O35: =ROUND(CP35,2) -> 7981.95 | P35: =ROUND(CQ35*I35,2) -> 3378.08 | Q35: =ROUND(CR35*I35,2) -> 642.82 | R35: =ROUND(CS35*I35,2) -> 33.68 | S35: =ROUND(CT35*I35,2) -> 3961.05 | T35: =ROUND(CU35*I35,2) -> 0 | U35: =CV35*I35 -> 62.8 | V35: =CW35*I35 -> 0.4 | W35: =ROUND(CX35*I35,2) -> 0 | X35: =ROUND(CY35,2) -> 3195.78 | Y35: =ROUND(CZ35,2) -> 2396.84 | AA35: 28045061 | AB35: =ROUND((AC35+AD35+AF35),2) -> 594.78 | AC35: =ROUND((ES35),2) -> 251.72 | AD35: =ROUND((((ET35)-(EU35))+AE35),2) -> 47.9 | AE35: =ROUND((EU35),2) -> 2.51 | AF35: =ROUND((EV35),2) -> 295.16 | AG35: =ROUND((AP35),2) -> 0 | AH35: =(EW35) -> 31.4 | AI35: =(EX35) -> 0.2 | AJ35: =(AS35) -> 0 | AK35: 594.78 | AL35: 251.72 | AM35: 47.9 | AN35: 2.51 | AO35: 295.16 | AP35: 0 | AQ35: 31.4 | AR35: 0.2 | AS35: 0 | AT35: 80 | AU35: 60 | AV35: 1 | AW35: 1 | AZ35: 6.71 | BA35: 6.71 | BB35: 6.71 | BC35: 6.71 | BH35: 0 | BI35: 2 | BJ35: ФЕРм-2001, м07-04-001-02, приказ Минстроя России №1039/пр от 30.12.2016г. | BM35: 107001 | BN35: 0 | BP35: 0 | BQ35: 3 | BR35: 0 | BS35: 6.71 | BT35: 1 | BU35: 1 | BV35: 1 | BW35: 1 | BX35: 1 | BZ35: 80 | CA35: 60 | CE35: 0 | CF35: 0 | CG35: 0 | CM35: 0 | CO35: 0 | CP35: =(P35+Q35+S35) -> 7981.95 | CQ35: =AC35*BC35 -> 1689.0412 | CR35: =AD35*BB35 -> 321.409 | CS35: =AE35*BS35 -> 16.8421 | CT35: =AF35*BA35 -> 1980.5236 | CU35: =AG35 -> 0 | CV35: =AH35 -> 31.4 | CW35: =AI35 -> 0.2 | CX35: =AJ35 -> 0 | CY35: =(((S35+R35)*AT35)/100) -> 3195.784 | CZ35: =(((S35+R35)*AU35)/100) -> 2396.838 | DN35: 0 | DO35: 0 | DP35: 1 | DQ35: 1 | DU35: 1013 | DV35: ШТ | DW35: ШТ | DX35: 1 | EE35: 27028905 | EF35: 3 | EG35: Монтажные работы | EH35: 0 | EJ35: 2 | EK35: 107001 | EL35: Компрессорное оборудование | EM35: мФЕР-07 | EQ35: 0 | ER35: 594.78 | ES35: 251.72 | ET35: 47.9 | EU35: 2.51 | EV35: 295.16 | EW35: 31.4 | EX35: 0.2 | EY35: 0 | FQ35: 0 | FR35: =ROUND(IF(AND(BH35=3,BI35=3),P35,0),2) -> 0 | FS35: 0 | FX35: 80 | FY35: 60 | GD35: 0 | GF35: -376680968 | GG35: 1 | GH35: 1 | GI35: 4 | GJ35: 0 | GK35: =ROUND(R35*(S12)/100,2) -> 0 | GL35: =ROUND(IF(AND(BH35=3,BI35=3,FS35<>0),P35,0),2) -> 0 | GM35: =ROUND(O35+X35+Y35+GK35,2)+GX35 -> 13574.57 | GN35: =IF(OR(BI35=0,BI35=1),ROUND(O35+X35+Y35+GK35,2),0) -> 0 | GO35: =IF(BI35=2,ROUND(O35+X35+Y35+GK35,2),0) -> 13574.57 | GP35: =IF(BI35=4,ROUND(O35+X35+Y35+GK35,2)+GX35,0) -> 0 | GR35: 0 | GS35: 3 | GT35: 0 | GV35: =ROUND((GT35),2) -> 0 | GW35: 1 | GX35: =ROUND(HC35*I35,2) -> 0 | HA35: 0 | HB35: 0 | HC35: =GV35*GW35 -> 0 | IK35: 0
A36: 18 | B36: 1 | C36: 28 | E36: 5,1 | F36: Цена поставщика | G36: Установка повышения давления COR-2MVIS806/SKw-EB-R | H36: шт. | I36: =I34*J36 -> 1 | J36: 0.5 | O36: =ROUND(CP36,2) -> 51852.48 | P36: =ROUND(CQ36*I36,2) -> 51852.48 | Q36: =ROUND(CR36*I36,2) -> 0 | R36: =ROUND(CS36*I36,2) -> 0 | S36: =ROUND(CT36*I36,2) -> 0 | T36: =ROUND(CU36*I36,2) -> 0 | U36: =CV36*I36 -> 0 | V36: =CW36*I36 -> 0 | W36: =ROUND(CX36*I36,2) -> 0 | X36: =ROUND(CY36,2) -> 0 | Y36: =ROUND(CZ36,2) -> 0 | AA36: 28045047 | AB36: =ROUND((AC36+AD36+AF36),2) -> 51852.48 | AC36: =ROUND((ES36),2) -> 51852.48 | AD36: =ROUND((((ET36)-(EU36))+AE36),2) -> 0 | AE36: =ROUND((EU36),2) -> 0 | AF36: =ROUND((EV36),2) -> 0 | AG36: =ROUND((AP36),2) -> 0 | AH36: =(EW36) -> 0 | AI36: =(EX36) -> 0 | AJ36: =(AS36) -> 0 | AK36: 51852.48 | AL36: 51852.48 | AM36: 0 | AN36: 0 | AO36: 0 | AP36: 0 | AQ36: 0 | AR36: 0 | AS36: 0 | AT36: 80 | AU36: 60 | AV36: 1 | AW36: 1 | AZ36: 1 | BA36: 1 | BB36: 1 | BC36: 1 | BH36: 3 | BI36: 2 | BM36: 107001 | BN36: 0 | BP36: 0 | BQ36: 3 | BR36: 0 | BS36: 1 | BT36: 1 | BU36: 1 | BV36: 1 | BW36: 1 | BX36: 1 | BZ36: 80 | CA36: 60 | CE36: 0 | CF36: 0 | CG36: 0 | CM36: 0 | CO36: 0 | CP36: =(P36+Q36+S36) -> 51852.48 | CQ36: =AC36*BC36 -> 51852.48 | CR36: =AD36*BB36 -> 0 | CS36: =AE36*BS36 -> 0 | CT36: =AF36*BA36 -> 0 | CU36: =AG36 -> 0 | CV36: =AH36 -> 0 | CW36: =AI36 -> 0 | CX36: =AJ36 -> 0 | CY36: =(((S36+R36)*AT36)/100) -> 0 | CZ36: =(((S36+R36)*AU36)/100) -> 0 | DN36: 0 | DO36: 0 | DP36: 1 | DQ36: 1 | DU36: 1010 | DV36: шт. | DW36: шт. | DX36: 1 | EE36: 27028905 | EF36: 3 | EG36: Монтажные работы | EH36: 0 | EJ36: 2 | EK36: 107001 | EL36: Компрессорное оборудование | EM36: мФЕР-07 | EQ36: 0 | ER36: 51852.48 | ES36: 51852.48 | ET36: 0 | EU36: 0 | EV36: 0 | EW36: 0 | EX36: 0 | FQ36: 0 | FR36: =ROUND(IF(AND(BH36=3,BI36=3),P36,0),2) -> 0 | FS36: 0 | FX36: 80 | FY36: 60 | GA36: занесена вручную | GD36: 0 | GF36: -1076961694 | GG36: 2 | GH36: 0 | GI36: -2 | GJ36: 0 | GK36: =ROUND(R36*(R12)/100,2) -> 0 | GL36: =ROUND(IF(AND(BH36=3,BI36=3,FS36<>0),P36,0),2) -> 0 | GM36: =ROUND(O36+X36+Y36+GK36,2)+GX36 -> 51852.48 | GN36: =IF(OR(BI36=0,BI36=1),ROUND(O36+X36+Y36+GK36,2),0) -> 0 | GO36: =IF(BI36=2,ROUND(O36+X36+Y36+GK36,2),0) -> 51852.48 | GP36: =IF(BI36=4,ROUND(O36+X36+Y36+GK36,2)+GX36,0) -> 0 | GR36: 0 | GS36: 4 | GT36: 0 | GV36: =ROUND((GT36),2) -> 0 | GW36: 1 | GX36: =ROUND(HC36*I36,2) -> 0 | HA36: 0 | HB36: 0 | HC36: =GV36*GW36 -> 0 | IK36: 0
A37: 18 | B37: 1 | C37: 43 | E37: 5,1 | F37: Цена поставщика | G37: Установка повышения давления COR-2MVIS806/SKw-EB-R | H37: шт. | I37: =I35*J37 -> 1 | J37: 0.5 | O37: =ROUND(CP37,2) -> 347930.14 | P37: =ROUND(CQ37*I37,2) -> 347930.14 | Q37: =ROUND(CR37*I37,2) -> 0 | R37: =ROUND(CS37*I37,2) -> 0 | S37: =ROUND(CT37*I37,2) -> 0 | T37: =ROUND(CU37*I37,2) -> 0 | U37: =CV37*I37 -> 0 | V37: =CW37*I37 -> 0 | W37: =ROUND(CX37*I37,2) -> 0 | X37: =ROUND(CY37,2) -> 0 | Y37: =ROUND(CZ37,2) -> 0 | AA37: 28045061 | AB37: =ROUND((AC37+AD37+AF37),2) -> 51852.48 | AC37: =ROUND((ES37),2) -> 51852.48 | AD37: =ROUND((((ET37)-(EU37))+AE37),2) -> 0 | AE37: =ROUND((EU37),2) -> 0 | AF37: =ROUND((EV37),2) -> 0 | AG37: =ROUND((AP37),2) -> 0 | AH37: =(EW37) -> 0 | AI37: =(EX37) -> 0 | AJ37: =(AS37) -> 0 | AK37: 51852.48 | AL37: 51852.48 | AM37: 0 | AN37: 0 | AO37: 0 | AP37: 0 | AQ37: 0 | AR37: 0 | AS37: 0 | AT37: 80 | AU37: 60 | AV37: 1 | AW37: 1 | AZ37: 6.71 | BA37: 1 | BB37: 1 | BC37: 6.71 | BH37: 3 | BI37: 2 | BM37: 107001 | BN37: 0 | BP37: 0 | BQ37: 3 | BR37: 0 | BS37: 1 | BT37: 1 | BU37: 1 | BV37: 1 | BW37: 1 | BX37: 1 | BZ37: 80 | CA37: 60 | CE37: 0 | CF37: 0 | CG37: 0 | CM37: 0 | CO37: 0 | CP37: =(P37+Q37+S37) -> 347930.14 | CQ37: =AC37*BC37 -> 347930.14 | CR37: =AD37*BB37 -> 0 | CS37: =AE37*BS37 -> 0 | CT37: =AF37*BA37 -> 0 | CU37: =AG37 -> 0 | CV37: =AH37 -> 0 | CW37: =AI37 -> 0 | CX37: =AJ37 -> 0 | CY37: =(((S37+R37)*AT37)/100) -> 0 | CZ37: =(((S37+R37)*AU37)/100) -> 0 | DN37: 0 | DO37: 0 | DP37: 1 | DQ37: 1 | DU37: 1010 | DV37: шт. | DW37: шт. | DX37: 1 | EE37: 27028905 | EF37: 3 | EG37: Монтажные работы | EH37: 0 | EJ37: 2 | EK37: 107001 | EL37: Компрессорное оборудование | EM37: мФЕР-07 | EQ37: 0 | ER37: 51852.48 | ES37: 51852.48 | ET37: 0 | EU37: 0 | EV37: 0 | EW37: 0 | EX37: 0 | EZ37: 5 | FC37: 0 | FD37: 18 | FF37: 347930.15 | FQ37: 0 | FR37: =ROUND(IF(AND(BH37=3,BI37=3),P37,0),2) -> 0 | FS37: 0 | FX37: 80 | FY37: 60 | GA37: [347 930,15 / 6,71] | GD37: 0 | GF37: -1076961694 | GG37: 1 | GH37: 3 | GI37: 4 | GJ37: 0 | GK37: =ROUND(R37*(S12)/100,2) -> 0 | GL37: =ROUND(IF(AND(BH37=3,BI37=3,FS37<>0),P37,0),2) -> 0 | GM37: =ROUND(O37+X37+Y37+GK37,2)+GX37 -> 347930.14 | GN37: =IF(OR(BI37=0,BI37=1),ROUND(O37+X37+Y37+GK37,2),0) -> 0 | GO37: =IF(BI37=2,ROUND(O37+X37+Y37+GK37,2),0) -> 347930.14 | GP37: =IF(BI37=4,ROUND(O37+X37+Y37+GK37,2)+GX37,0) -> 0 | GR37: 1 | GS37: 1 | GT37: 0 | GV37: =ROUND((GT37),2) -> 0 | GW37: 1 | GX37: =ROUND(HC37*I37,2) -> 0 | HA37: 0 | HB37: 0 | HC37: =GV37*GW37 -> 0 | IK37: 0
A38: 18 | B38: 1 | C38: 29 | E38: 5,2 | F38: Цена поставщика | G38: Установка водяного пожаротушения СО-2 Helix V 5204-2-SK-FFS-R | H38: шт. | I38: =I34*J38 -> 1 | J38: 0.5 | O38: =ROUND(CP38,2) -> 136642.2 | P38: =ROUND(CQ38*I38,2) -> 136642.2 | Q38: =ROUND(CR38*I38,2) -> 0 | R38: =ROUND(CS38*I38,2) -> 0 | S38: =ROUND(CT38*I38,2) -> 0 | T38: =ROUND(CU38*I38,2) -> 0 | U38: =CV38*I38 -> 0 | V38: =CW38*I38 -> 0 | W38: =ROUND(CX38*I38,2) -> 0 | X38: =ROUND(CY38,2) -> 0 | Y38: =ROUND(CZ38,2) -> 0 | AA38: 28045047 | AB38: =ROUND((AC38+AD38+AF38),2) -> 136642.2 | AC38: =ROUND((ES38),2) -> 136642.2 | AD38: =ROUND((((ET38)-(EU38))+AE38),2) -> 0 | AE38: =ROUND((EU38),2) -> 0 | AF38: =ROUND((EV38),2) -> 0 | AG38: =ROUND((AP38),2) -> 0 | AH38: =(EW38) -> 0 | AI38: =(EX38) -> 0 | AJ38: =(AS38) -> 0 | AK38: 136642.2 | AL38: 136642.2 | AM38: 0 | AN38: 0 | AO38: 0 | AP38: 0 | AQ38: 0 | AR38: 0 | AS38: 0 | AT38: 80 | AU38: 60 | AV38: 1 | AW38: 1 | AZ38: 1 | BA38: 1 | BB38: 1 | BC38: 1 | BH38: 3 | BI38: 2 | BM38: 107001 | BN38: 0 | BP38: 0 | BQ38: 3 | BR38: 0 | BS38: 1 | BT38: 1 | BU38: 1 | BV38: 1 | BW38: 1 | BX38: 1 | BZ38: 80 | CA38: 60 | CE38: 0 | CF38: 0 | CG38: 0 | CM38: 0 | CO38: 0 | CP38: =(P38+Q38+S38) -> 136642.2 | CQ38: =AC38*BC38 -> 136642.2 | CR38: =AD38*BB38 -> 0 | CS38: =AE38*BS38 -> 0 | CT38: =AF38*BA38 -> 0 | CU38: =AG38 -> 0 | CV38: =AH38 -> 0 | CW38: =AI38 -> 0 | CX38: =AJ38 -> 0 | CY38: =(((S38+R38)*AT38)/100) -> 0 | CZ38: =(((S38+R38)*AU38)/100) -> 0 | DN38: 0 | DO38: 0 | DP38: 1 | DQ38: 1 | DU38: 1010 | DV38: шт. | DW38: шт. | DX38: 1 | EE38: 27028905 | EF38: 3 | EG38: Монтажные работы | EH38: 0 | EJ38: 2 | EK38: 107001 | EL38: Компрессорное оборудование | EM38: мФЕР-07 | EQ38: 0 | ER38: 136642.2 | ES38: 136642.2 | ET38: 0 | EU38: 0 | EV38: 0 | EW38: 0 | EX38: 0 | FQ38: 0 | FR38: =ROUND(IF(AND(BH38=3,BI38=3),P38,0),2) -> 0 | FS38: 0 | FX38: 80 | FY38: 60 | GA38: занесена вручную | GD38: 0 | GF38: -1355966971 | GG38: 2 | GH38: 0 | GI38: -2 | GJ38: 0 | GK38: =ROUND(R38*(R12)/100,2) -> 0 | GL38: =ROUND(IF(AND(BH38=3,BI38=3,FS38<>0),P38,0),2) -> 0 | GM38: =ROUND(O38+X38+Y38+GK38,2)+GX38 -> 136642.2 | GN38: =IF(OR(BI38=0,BI38=1),ROUND(O38+X38+Y38+GK38,2),0) -> 0 | GO38: =IF(BI38=2,ROUND(O38+X38+Y38+GK38,2),0) -> 136642.2 | GP38: =IF(BI38=4,ROUND(O38+X38+Y38+GK38,2)+GX38,0) -> 0 | GR38: 0 | GS38: 4 | GT38: 0 | GV38: =ROUND((GT38),2) -> 0 | GW38: 1 | GX38: =ROUND(HC38*I38,2) -> 0 | HA38: 0 | HB38: 0 | HC38: =GV38*GW38 -> 0 | IK38: 0
A39: 18 | B39: 1 | C39: 44 | E39: 5,2 | F39: Цена поставщика | G39: Установка водяного пожаротушения СО-2 Helix V 5204-2-SK-FFS-R | H39: шт. | I39: =I35*J39 -> 1 | J39: 0.5 | O39: =ROUND(CP39,2) -> 916869.16 | P39: =ROUND(CQ39*I39,2) -> 916869.16 | Q39: =ROUND(CR39*I39,2) -> 0 | R39: =ROUND(CS39*I39,2) -> 0 | S39: =ROUND(CT39*I39,2) -> 0 | T39: =ROUND(CU39*I39,2) -> 0 | U39: =CV39*I39 -> 0 | V39: =CW39*I39 -> 0 | W39: =ROUND(CX39*I39,2) -> 0 | X39: =ROUND(CY39,2) -> 0 | Y39: =ROUND(CZ39,2) -> 0 | AA39: 28045061 | AB39: =ROUND((AC39+AD39+AF39),2) -> 136642.2 | AC39: =ROUND((ES39),2) -> 136642.2 | AD39: =ROUND((((ET39)-(EU39))+AE39),2) -> 0 | AE39: =ROUND((EU39),2) -> 0 | AF39: =ROUND((EV39),2) -> 0 | AG39: =ROUND((AP39),2) -> 0 | AH39: =(EW39) -> 0 | AI39: =(EX39) -> 0 | AJ39: =(AS39) -> 0 | AK39: 136642.2 | AL39: 136642.2 | AM39: 0 | AN39: 0 | AO39: 0 | AP39: 0 | AQ39: 0 | AR39: 0 | AS39: 0 | AT39: 80 | AU39: 60 | AV39: 1 | AW39: 1 | AZ39: 6.71 | BA39: 1 | BB39: 1 | BC39: 6.71 | BH39: 3 | BI39: 2 | BM39: 107001 | BN39: 0 | BP39: 0 | BQ39: 3 | BR39: 0 | BS39: 1 | BT39: 1 | BU39: 1 | BV39: 1 | BW39: 1 | BX39: 1 | BZ39: 80 | CA39: 60 | CE39: 0 | CF39: 0 | CG39: 0 | CM39: 0 | CO39: 0 | CP39: =(P39+Q39+S39) -> 916869.16 | CQ39: =AC39*BC39 -> 916869.16 | CR39: =AD39*BB39 -> 0 | CS39: =AE39*BS39 -> 0 | CT39: =AF39*BA39 -> 0 | CU39: =AG39 -> 0 | CV39: =AH39 -> 0 | CW39: =AI39 -> 0 | CX39: =AJ39 -> 0 | CY39: =(((S39+R39)*AT39)/100) -> 0 | CZ39: =(((S39+R39)*AU39)/100) -> 0 | DN39: 0 | DO39: 0 | DP39: 1 | DQ39: 1 | DU39: 1010 | DV39: шт. | DW39: шт. | DX39: 1 | EE39: 27028905 | EF39: 3 | EG39: Монтажные работы | EH39: 0 | EJ39: 2 | EK39: 107001 | EL39: Компрессорное оборудование | EM39: мФЕР-07 | EQ39: 0 | ER39: 136642.2 | ES39: 136642.2 | ET39: 0 | EU39: 0 | EV39: 0 | EW39: 0 | EX39: 0 | EZ39: 5 | FC39: 0 | FD39: 18 | FF39: 916869.15 | FQ39: 0 | FR39: =ROUND(IF(AND(BH39=3,BI39=3),P39,0),2) -> 0 | FS39: 0 | FX39: 80 | FY39: 60 | GA39: [916 869,15 / 6,71] | GD39: 0 | GF39: -1355966971 | GG39: 1 | GH39: 3 | GI39: 4 | GJ39: 0 | GK39: =ROUND(R39*(S12)/100,2) -> 0 | GL39: =ROUND(IF(AND(BH39=3,BI39=3,FS39<>0),P39,0),2) -> 0 | GM39: =ROUND(O39+X39+Y39+GK39,2)+GX39 -> 916869.16 | GN39: =IF(OR(BI39=0,BI39=1),ROUND(O39+X39+Y39+GK39,2),0) -> 0 | GO39: =IF(BI39=2,ROUND(O39+X39+Y39+GK39,2),0) -> 916869.16 | GP39: =IF(BI39=4,ROUND(O39+X39+Y39+GK39,2)+GX39,0) -> 0 | GR39: 1 | GS39: 1 | GT39: 0 | GV39: =ROUND((GT39),2) -> 0 | GW39: 1 | GX39: =ROUND(HC39*I39,2) -> 0 | HA39: 0 | HB39: 0 | HC39: =GV39*GW39 -> 0 | IK39: 0
