Workbook
Name аааааппппппрррппппппп: #REF!
Name аараооооооооооооо: #REF!
Name автом: #REF!
Name алшрльоплварл: #REF!
Name аолвлддддддддддддддддввввввввв: #REF!
Name апарв: #REF!
Name апрлдджаоырыфрпопрлпрлпрлп: #REF!
Name арлггаджаш: #REF!
Name ароррбллтблпроорапииас: #REF!
Name арррррблллпдрлдддддддддд: #REF!
Name варпаааааааааа: #REF!
Name ввпьььььлднд: #REF!
Name вед: #REF!
Name вертикальная: #REF!
Name вертикплан: #REF!
Name волен: #REF!
Name вп: #REF!
Name впырпфдыпл: #REF!
Name впьглорьтитттттттттт: #REF!
Name всввввввввввввввввввввввввв: #REF!
Name выб: #REF!
Name выпуск: #REF!
Name выьлепвввввпмп: #REF!
Name еваопродолжэрщэрзшщщх: #REF!
Name измен: #REF!
Name итого: #REF!
Name итого_сантех: #REF!
Name итого_стр: #REF!
Name итого_строит: #REF!
Name итого_технол: #REF!
Name итого_электр: #REF!
Name квота: #REF!
Name кккккккккк: #REF!
Name корек: #REF!
Name корект: #REF!
Name корректир: #REF!
Name лен: #REF!
Name лот: #REF!
Name мамиааааааааааааааааааааааааааааа: #REF!
Name ммпоослччччччччччрччапппппппппр: #REF!
Name мрол: #REF!
Name оз: #REF!
Name озелен: #REF!
Name озеленение: #REF!
Name озеленение2: #REF!
Name ОСР: #REF!
Name ОСР110: #REF!
Name ОСР111: #REF!
Name план: #REF!
Name планировка: #REF!
Name плдщхэж.юрббдлююбо: #REF!
Name площадки: #REF!
Name пос: #REF!
Name прав: #REF!
Name прлппппппппппппппрррррррр: #REF!
Name провбп: #REF!
Name проект: #REF!
Name пропппп: #REF!
Name рпоолллллбрюююююююююююю: #REF!
Name сааповвыыыыыеееееггггггггг: #REF!

Sheet СМР
A1: Расчет начальной (максимальной) цены на
A2: выполнение строительно-монтажных работ по реконструкции здания 377 (инв.№7905562). Электроосвещение термического участка.
A4: Наименование глав ССР, объектный сметных расчетов, локальных сметных расчетов, видов прочих работ | B4: Сметная стоимость строительства в базисном уровне цен на 01.01.2000г. по ССР | F4: Остаток сметной стоимости в базисном уровне цен на 01.01.2000 | J4: Сметная стоимость строительства в базисном уровне цен на 01.01.2000г., выставленная на конкурс | N4: Текущая стоимость на момент определения начальной (максимальной) цены | O4: № обосновывающего расчета | P4: 2015 год
B5: Всего | C5: СМР | D5: Оборудование | E5: Прочие | F5: Всего | G5: СМР | H5: Оборудование | I5: Прочие | J5: Всего | K5: СМР | L5: Оборудование | M5: Прочие | P5: СМР | Q5: Оборудование | R5: Прочие
A6: 1 | B6: 2 | C6: 3 | D6: 4 | E6: 5 | F6: 6 | G6: 7 | H6: 8 | I6: 9 | J6: 10 | K6: 11 | L6: 12 | M6: 13 | N6: 14 | O6: 15 | P6: 19 | Q6: 20 | R6: 21
A7: Реконструкция здания 377 (инв. №,7905562. Электроосвещение термического участка. | B7: =SUM(C7:E7) -> 532141 | C7: =339+526870 -> 527209 | D7: 4932 | F7: =SUM(G7:I7) -> 532141 | G7: =C7 -> 527209 | H7: =D7 -> 4932 | J7: =SUM(K7:M7) -> 532141 | K7: =G7 -> 527209 | L7: =H7 -> 4932 | N7: =SUM(P7:R7) -> 3028809 | O7: 25635 (178см167) | P7: =ROUND(K7*5.71,0) -> 3010363 | Q7: =ROUND(L7*3.74,0) -> 18446
A8: Реконструкция здания 377 (инв. №7905562). Пусконаладочные работы (элетроосвещение термического участка) | B8: =SUM(C8:E8) -> 60015 | E8: 60015 | F8: =SUM(G8:I8) -> 60015 | G8: =C8 -> 0 | H8: =D8 -> 0 | I8: =E8 -> 60015 | J8: =SUM(K8:M8) -> 60015 | K8: =G8 -> 0 | L8: =H8 -> 0 | M8: =I8 -> 60015 | N8: =SUM(P8:R8) -> 600150 | O8: 25636 (178см168) | P8: =ROUND(K8*5.71,0) -> 0 | Q8: =ROUND(L8*3.74,0) -> 0 | R8: =ROUND(M8*10,0) -> 600150
A9: Итого в ценах 2000 года: | B9: =SUM(B7:B8) -> 592156 | C9: =SUM(C7:C8) -> 527209 | D9: =SUM(D7:D8) -> 4932 | E9: =SUM(E8:E8) -> 60015 | F9: =SUM(F7:F8) -> 592156 | G9: =SUM(G7:G8) -> 527209 | H9: =SUM(H7:H8) -> 4932 | I9: =SUM(I7:I8) -> 60015 | J9: =SUM(J7:J8) -> 592156 | K9: =SUM(K7:K8) -> 527209 | L9: =SUM(L7:L8) -> 4932 | M9: =SUM(M7:M8) -> 60015 | N9: =SUM(P9:R9) -> 3628959 | O9: =SUM(O7:O8) -> 0 | P9: =SUM(P7:P8) -> 3010363 | Q9: =SUM(Q7:Q8) -> 18446 | R9: =SUM(R7:R8) -> 600150
A10: Итого с индексом инфляции**: | N10: =SUM(P10:R10) -> 3814037 | P10: =ROUND(P9*1.051,0) -> 3163892 | Q10: =ROUND(Q9*1.051,0) -> 19387 | R10: =ROUND(R9*1.051,0) -> 630758
A11: НДС 18% | N11: =SUM(P11:R11) -> 686526.66 | P11: =ROUND(P10*18%,2) -> 569500.56 | Q11: =ROUND(Q10*18%,2) -> 3489.66 | R11: =ROUND(R10*18%,2) -> 113536.44
A12: Всего: | N12: =SUM(P12:R12) -> 4500563.7 | P12: =SUM(P10:P11) -> 3733392.6 | Q12: =SUM(Q10:Q11) -> 22876.66 | R12: =SUM(R10:R11) -> 744294.44
A13: * В расчете использованы индексы:
A14: - 5,71 индекс изменения сметной стоимости СМР к ТЕР 2001 (письмо Минстроя России от 13.11.2014 года № 25374-ЮР/08 приложение 1, прочие объекты)
A15: - 3,74 индекс изменения сметной стоимости оборудования к ТЕР 2001 (письмо Минстроя России от от 13.11.2014 года № 25374-ЮР/08 приложение 5, экономика в целом)
A16: -10,00 индекс изменения сметной стоимости прочих затрат к ТЕР 2001 (письмо Минстроя России от от 13.11.2014 года № 25374-ЮР/08 приложение 1, пусконаладочные работы)
A17: ** В расчете использован индекс-дефлятор по инвестициям в основной капитал 2015/2014 - 1,051 по письмам: Минэкономразвития России от 25.09.2013 № 20402-АК/ДОЗи, Госкорпорации "Росатом" от 10.02.2014 № 1-12.8/4385
A19: Начальник отдела капитального строительства
A20: ФГУП "Комбинат "Электрохимприбор" | H20: В.В. Моляков
A22: Инженер по проектно-сметной работе | H22: Н.А. Басова
A24: Согласовано | H24: отд. 028

Sheet НМЦ договора
A5: Определение начальной (максимальной) цены договора генерального подряда
A6: на выполнение строительно-монтажных работ по реконструкции здания 377 (инв.№7905562). Электроосвещение термического участка.
A7: на 2015 год
A9: Способ закупки: открытый запрос предложений
F10: ц.2000г./текущие цены, руб.
A11: Наименование услуг и работ (затрат) | C11: Сметная стоимость строительства в базисном уровне цен на 01.01.2000 г. | D11: Сметная стоимость строительства в текущем уровне цен, пресчитанная на момент проведения процедуры закупки | F11: Начальная (максимальная) цена | G11: в том числе по годам строительства
G14: 2015г.
A18: 1 | C18: 2 | D18: 3 | F18: 4 | G18: 6
A19: СМР | C19: =СМР!K9 -> 527209 | D19: =G19 -> 3163892 | F19: =SUM(G19:H19) -> 3163892 | G19: =СМР!P10 -> 3163892
A20: Оборудование | C20: =СМР!L9 -> 4932 | D20: =СМР!Q10 -> 19387 | F20: =SUM(G20:H20) -> 19387 | G20: =СМР!Q10 -> 19387
A21: Прочие затраты | C21: =СМР!M9 -> 60015 | D21: =СМР!R10 -> 630758 | F21: =SUM(D21) -> 630758 | G21: =D21 -> 630758
A22: Всего: | C22: =SUM(C19:C21) -> 592156 | D22: =СМР!N10 -> 3814037 | F22: =D22 -> 3814037 | G22: =F22 -> 3814037
A23: НДС | D23: =СМР!N11 -> 686526.66 | F23: =ROUND(F22*18%,2) -> 686526.66 | G23: =ROUND(G22*18%,2) -> 686526.66
A24: Итого с НДС | D24: =СМР!N12 -> 4500563.7 | F24: =SUM(F22:F23) -> 4500563.7 | G24: =SUM(G22:H23) -> 4500563.7
A26: В расчете использованы индексы:
A28: - 5,71 индекс изменения сметной стоимости СМР к ТЕР 2001 (письмо Минстроя России от 13.11.2014 года № 25374-ЮР/08 приложение 1, прочие объекты)
A29: - 3,74 индекс изменения сметной стоимости оборудования к ТЕР 2001 (письмо Минстроя России от от 13.11.2014 года № 25374-ЮР/08 приложение 5, экономика в целом)
A30: - 10,00 индекс изменения сметной стоимости прочих затрат к ТЕР 2001 (письмо Минстроя России от от 13.11.2014 года № 25374-ЮР/08 приложение 1, пусконаладочные работы)
A31: ** В расчете использован индекс-дефлятор по инвестициям в основной капитал 2015/2014 - 1,051 по письмам: Минэкономразвития России от 25.09.2013 № 20402-АК/ДОЗи, Госкорпорации "Росатом" от 10.02.2014 № 1-12.8/4385
A33: Начальник отдела капитального строительства
A34: ФГУП "Комбинат "Электрохимприбор" | G34: В.В. Моляков
A36: Инженер по проектно-сметной работе | G36: Н.А. Басова
A38: Согласовано | G38: отд. 028

Sheet 25635
A1: СОГЛАСОВАНО: | E1: ФГУП "Комбинат "Электрохимприбор" | M1: УТВЕРЖДАЮ:
G2: (наименование стройки) | M2: Зам. генерального директора
M3: Е.В.Гордеев
A4: _________________ | M4: _________________
A5: " _____ " ________________ 2014 г. | M5: "______ " __________2014 г.
G6: ЛОКАЛЬНЫЙ СМЕТНЫЙ РАСЧЕТ № 25635
G7: (локальная смета)
D9: на реконструкцию здания 377. Инв. № 7905562
E10: Раздел: Электроосвещение термического участка
H11: (наименование работ и затрат, наименование объекта)
D13: Основание: проект № ЭАИ.13-087-377-ЭО | N13: Справочно, в тыс.руб. :
D14: Сметная стоимость _______________________________________________________________________________________________ | J14: ___________________________532,141 | L14: тыс. руб. | N14: ВСЕГО: | P14: =P15+P16+P17 -> 3173.4735
D15: строительных работ _______________________________________________________________________________________________ | J15: _______________________________________________________________________________________________0,339 | L15: тыс. руб. | N15: с К=5,98 | P15: =5.98*0.339 -> 2.02722
D16: монтажных работ _______________________________________________________________________________________________ | J16: _______________________________________________________________________________________________526,870 | L16: тыс. руб. | N16: с К=5,98 | P16: =526.87*5.98 -> 3150.6826
D17: оборудования _______________________________________________________________________________________________ | J17: _______________________________________________________________________________________________4,932 | L17: тыс. руб. | N17: с К=4,21 | P17: =4.21*4.932 -> 20.76372
D18: Средства на оплату труда _______________________________________________________________________________________________ | J18: ___________________________16,795 | L18: тыс. руб. | N18: с К=5,98 | P18: =16.795*5.98 -> 100.4341
D19: Сметная трудоемкость _______________________________________________________________________________________________ | J19: _______________________________________________________________________________________________734,89 | L19: чел.час
D20: Материалы ______________________________________ | K20: =K98/1000 -> 452.041 | L20: тыс.руб. | N20: с К=5,98 | P20: =K20*5.98 -> 2703.2052
D21: Составлен(а) в базовых ценах 2001г. в редакции 2009г.
A23: № пп | B23: Обоснова-ние | C23: Наименование | D23: Ед. изм. | E23: Кол. | F23: Стоимость единицы, руб. | J23: Общая стоимость, руб. | O23: Т/з осн. раб.на ед. | P23: Т/з осн. раб. Всего | Q23: Общая масса обору-дования, т
F24: Всего | G24: В том числе | J24: Обору-дование | K24: Всего | L24: В том числе
G25: Осн.З/п | H25: Эк.Маш | I25: З/пМех | L25: Осн.З/п | M25: Эк.Маш | N25: З/пМех
A26: 1 | B26: 2 | C26: 3 | D26: 4 | E26: 5 | F26: 6 | G26: 7 | H26: 8 | I26: 9 | J26: 10 | K26: 11 | L26: 12 | M26: 13 | N26: 14 | O26: 15 | P26: 16 | Q26: 17
A27: Раздел 1. Демонтажные работы
A28: 1 | B28: ТЕРм08-03-595-02 | C28: Демонтаж светильник РСП 05-700 на кронштейнах на стенах, колоннах и фермах КОЭФ. К ПОЗИЦИИ: 1.8.3.ОП При производстве работ на высоте свыше расстояний, указанных в вводных указаниях к разделам сборника: при высоте свыше 8 до 15 м ОЗП=1,1; ТЗ=1,1; Демонтаж оборудования, которое не подлежит дальнейшему использованию (предназначено в лом) без разборки и резки ОЗП=0,3; ЭМ=0,3 к расх.; ЗПМ=0,3; МАТ=0 к расх.; ТЗ=0,3; ТЗМ=0,3 | D28: 100 шт. | E28: 0.96 | F28: 2483.92 | G28: 1341.54 | H28: 1142.38 | I28: 463.66 | K28: 2385 | L28: 1288 | M28: 1097 | N28: 445 | O28: 96.03 | P28: 92.19
A29: 2 | B29: ТЕРм08-02-149-01 | C29: Демонтаж: кабель до 35 кВ, подвешива-емый на тросе, масса 1 м кабеля до 1 кг КОЭФ. К ПОЗИЦИИ: 1.8.3.ОП При производстве работ на высоте свыше расстояний, указанных в вводных указаниях к разделам сборника: при высоте свыше 8 до 15 м ОЗП=1,1; ТЗ=1,1; Демонтаж оборудования, которое не подлежит дальнейшему использованию (предназначено в лом) без разборки и резки ОЗП=0,3; ЭМ=0,3 к расх.; ЗПМ=0,3; МАТ=0 к расх.; ТЗ=0,3; ТЗМ=0,3 | D29: 100 м кабеля | E29: 6.95 | F29: 850.9 | G29: 76.46 | H29: 774.44 | I29: 88.73 | K29: 5914 | L29: 531 | M29: 5383 | N29: 617 | O29: 5.64 | P29: 39.2
A30: Итого по разделу 1 Демонтажные работы | K30: 13231 | P30: 131.39
A31: Раздел 2. Оборудование
A32: ЩО1.3 в составе:
A33: 3 | B33: Цена поставщика | C33: Корпус металлический ЩРн-36з-074 IP54 | D33: шт. | E33: 1 | F33: 3072,72/1,18/4,21 | J33: 619 | K33: 619
A34: 4 | B34: Цена поставщика | C34: Рубильник ВН-32 3Р 32А ИЭК | D34: шт. | E34: 1 | F34: 168/1,18/4,21 | J34: 34 | K34: 34
A35: 5 | B35: Цена поставщика | C35: Автоматический выключатель ВА47-29С 1Р 16А | D35: шт. | E35: 10 | F35: 54,78/1,18/4,21 | J35: 110 | K35: 110
A36: 6 | B36: Цена поставщика | C36: Контактор ESB 20-20/230, GHE3211102R0006 | D36: шт. | E36: 6 | F36: 1550/1,18/4,21 | J36: 1872 | K36: 1872
A37: ЩАО1.3 в составе:
A38: 7 | B38: Цена поставщика | C38: Корпус металлический ЩРн-24з-0 74 У2 IP54 | D38: шт. | E38: 1 | F38: 1792,42/1,18/4,21 | J38: 361 | K38: 361
A39: 8 | B39: Цена поставщика | C39: Рубильник ВН-32 3Р 20А ИЭК | D39: шт. | E39: 1 | F39: 168/1,18/4,21 | J39: 34 | K39: 34
A40: 9 | B40: Цена поставщика | C40: Автоматический выключатель ВА47-29С 1Р 16А | D40: шт. | E40: 4 | F40: 54,78/1,18/4,21 | J40: 44 | K40: 44
A41: 10 | B41: Цена поставщика | C41: Автоматический выключатель ВА47-29С 1Р 10А | D41: шт. | E41: 1 | F41: 54,78/1,18/4,21 | J41: 11 | K41: 11
A42: 11 | B42: Цена поставщика | C42: Контактор ESB 20-20/230, GHE3211102R0006 | D42: шт. | E42: 3 | F42: 1550/1,18/4,21 | J42: 936 | K42: 936
A43: 12 | B43: Цена поставщика | C43: Выключатель сумеречный (реле) TWS-1M (фотоэлемент в комплекте) | D43: шт. | E43: 1 | F43: 3530/1,18/4,21 | J43: 711 | K43: 711
...

Sheet 25636
A1: СОГЛАСОВАНО: | E1: ФГУП "Комбинат "Электрохимприбор" | M1: УТВЕРЖДАЮ:
G2: (наименование стройки) | M2: Зам. генерального директора
M3: Е.В.Гордеев
A4: _________________ | M4: _________________
A5: " _____ " ________________ 2014 г. | M5: "______ " __________2014 г.
G6: ЛОКАЛЬНЫЙ СМЕТНЫЙ РАСЧЕТ № 25636
G7: (локальная смета)
D9: на реконструкцию здания 377. Инв. № 7905562
D10: Раздел: Пусконаладочные работы (электроосвещение термического участка)
H11: (наименование работ и затрат, наименование объекта)
D13: Основание: проект № ЭАИ.13-087-377-ЭО; ВПТС п.8.34 | N13: Справочно, в тыс.руб. :
D14: Сметная стоимость прочих _______________________________________________________________________________________________ | J14: ___________________________60,015 | L14: тыс. руб. | N14: ВСЕГО: | P14: =10.48*60.015 -> 628.9572
D15: Средства на оплату труда _______________________________________________________________________________________________ | J15: ___________________________29,276 | L15: тыс. руб. | N15: с К=10,48 | P15: =29.276*10.48 -> 306.81248
D16: Сметная трудоемкость _______________________________________________________________________________________________ | J16: _______________________________________________________________________________________________1566,34 | L16: чел.час
D17: Составлен(а) в базовых ценах 2001г. в редакции 2009г.
A19: № пп | B19: Обоснование | C19: Наименование | D19: Ед. изм. | E19: Кол. | F19: Стоимость единицы, руб. | J19: Общая стоимость, руб. | N19: Т/з осн. раб.на ед. | O19: Т/з осн. раб. Всего | P19: Т/з мех. на ед. | Q19: Т/з мех. Всего
F20: Всего | G20: В том числе | J20: Всего | K20: В том числе
G21: Осн.З/п | H21: Эк.Маш | I21: З/пМех | K21: Осн.З/п | L21: Эк.Маш | M21: З/пМех
A22: 1 | B22: 2 | C22: 3 | D22: 4 | E22: 5 | F22: 6 | G22: 7 | H22: 8 | I22: 9 | J22: 10 | K22: 11 | L22: 12 | M22: 13 | N22: 14 | O22: 15 | P22: 16 | Q22: 17
A23: Раздел 1. Пусконаладочные работы ("вхолостую" 80%)
A24: 1 | B24: ТЕРп01-06-021-01 | C24: Схема разводки трехпроводной системы с количеством панелей (шкафов, ячеек): до 2 | D24: 1 схема | E24: 2 | F24: 57.95 | G24: 57.95 | J24: 116 | K24: 116 | N24: 4 | O24: 8
A25: 2 | B25: ТЕРп01-03-001-01 | C25: Выключатель однополюсный напряжением до 1 кВ: с электромагнитным, тепловым или комбинированным расцепителем | D25: 1 шт. | E25: 15 | F25: 17.81 | G25: 17.81 | J25: 267 | K25: 267 | N25: 1.5 | O25: 22.5
A26: 3 | B26: ТЕРп01-03-002-04 | C26: Рубильник трехполюсный напряжением до 1 кВ: номинальный ток до 50 А | D26: 1 шт. | E26: 2 | F26: 23.75 | G26: 23.75 | J26: 48 | K26: 48 | N26: 2 | O26: 4
A27: 4 | B27: ТЕРп01-11-013-01 | C27: Замер полного сопротивления цепи «фаза-нуль» | D27: 1 токоприемник | E27: 89 | F27: 27.06 | G27: 27.06 | J27: 2408 | K27: 2408 | N27: 1.5 | O27: 133.5
A28: 5 | B28: ТЕРп01-11-011-01 | C28: Проверка наличия цепи между заземлителями и заземленными элементами | D28: 100 точек | E28: 89 | F28: 288.64 | G28: 288.64 | J28: 25689 | K28: 25689 | N28: 16 | O28: 1424
A29: 6 | B29: ТЕРп01-02-005-03 | C29: Трансформатор силовой сухой трехфазный напряжением до 1 кВ | D29: 1 шт. | E29: 1 | F29: 68.31 | G29: 68.31 | J29: 68 | K29: 68 | N29: 4 | O29: 4
A30: 7 | B30: ТЕРп01-11-028-01 | C30: Измерение сопротивления изоляции мегаомметром кабельных и других линий напряжением до 1 кВ, предназначенных для передачи электроэнергии к распределительным устройствам, щитам, шкафам, коммутационным аппаратам и электропотребителям | D30: 1 линия | E30: 89 | F30: 7.22 | G30: 7.22 | J30: 643 | K30: 643 | N30: 0.4 | O30: 35.6
A31: Итого по разделу 1 Пусконаладочные работы ("вхолостую" 80%) | J31: 60015 | O31: 1566.34
A32: ИТОГИ ПО СМЕТЕ:
A33: Итого прямые затраты по смете в ценах 2001г. | J33: 29239 | K33: 29239 | O33: 1631.6
A34: Итого прямые затраты по смете с учетом коэффициентов к итогам | J34: 29276 | K34: 29276 | O34: 1566.34
A35: В том числе, справочно:
A36: Районный к-т 4,3% (Поз. 1-7) | J36: 1257 | K36: 1257
A37: 1. На действующих предприятиях (в цехах, корпусах, на производственных площадках) при наличии в зоне производства работ действующего технологического оборудования, что непосредственно влияет на выполнение пусконаладочных работ. ОЗП=1,2; ТЗ=1,2 (Поз. 1-7) | J37: 6099 | K37: 6099 | O37: 326.32
A38: Пусконаладочные работы (вхолостую 80%) ПЗ=0,8 (ОЗП=0,8; ЭМ=0,8; ЗПМ=0,8; МАТ=0,8; ТЗ=0,8; ТЗМ=0,8) (Поз. 1-7) | J38: -7319 | K38: -7319 | O38: -391.584
A39: Накладные расходы | J39: 19029
A40: В том числе, справочно:
A41: 65% ФОТ (от 29276) (Поз. 1-7) | J41: 19029
A42: Сметная прибыль | J42: 11710
A43: В том числе, справочно:
...
