Workbook

Sheet Смета 12 гр. по ФЕР
A1: =Source!B1 -> Smeta.RU (495) 974-1589 | I1: Приложение 1 к форме 6
B4: СМЕТА
B6: =IF(Source!G20<>"Новая локальная смета", Source!G20, "")
B8: =IF(Source!G12<>"Новый объект", Source!G12, "") -> на ремонт помещений учебных аудиторий №3, №8, №11, №12, №13 3-го этажа корпуса "К" НИЯУ МИФИ по адресу: г. Москва, Каширское шоссе, д.31, стр.46 | AD8: =IF(Source!G12<>"Новый объект", Source!G12, "") -> на ремонт помещений учебных аудиторий №3, №8, №11, №12, №13 3-го этажа корпуса "К" НИЯУ МИФИ по адресу: г. Москва, Каширское шоссе, д.31, стр.46
A10: =CONCATENATE("Основание: ", Source!J20) -> Основание:
G13: базовая цена | I13: текущая цена
C14: Сметная стоимость | G14: =SUM(O25:O595)/1000 -> 266.72236 | I14: =(Source!F345/1000) -> 2153.7521 | K14: тыс. руб.
C15: Строительные работы | G15: =SUM(W25:W595)/1000 -> 175.75459 | I15: =(Source!F332)/1000 -> 1179.6632 | K15: тыс. руб.
C16: Монтажные работы | G16: =SUM(X25:X595)/1000 -> 88.19514 | I16: =(Source!F333)/1000 -> 591.78932 | K16: тыс. руб.
C17: Оборудование | G17: =SUM(Y25:Y595)/1000 -> 0 | I17: =(Source!F324)/1000 -> 0 | K17: тыс. руб.
C18: Прочие работы | G18: =SUM(Z25:Z595)/1000 -> 2.77263 | I18: =(Source!F334+Source!F335)/1000 -> 53.76112 | K18: тыс. руб.
C19: Нормативная трудоемкость | G19: =I19 -> 1776.3495 | I19: =(Source!F337+Source!F338) -> 1776.3495 | K19: чел. -ч.
C20: Средства на оплату труда | G20: =SUM(R25:R595)/1000 -> 16.50658 | I20: =(Source!F330+ Source!F329)/1000 -> 127.90888 | K20: тыс. руб.
A22: Составлена в ценах III квартал 2018 года
A23: № п/п | B23: Шифр расценки и коды ресурсов | C23: Наименование работ и затрат | D23: Ед. изм. | E23: Кол-во единиц | F23: Цена на ед. изм. | G23: Попра-вочные коэфф. | H23: Стоимость в ценах 2001г. | I23: Пункт коэфф. пересчета | J23: Коэфф. пересчета | K23: Стоимость в текущих ценах | L23: ЗТР всего чел.-час
A24: 1 | B24: 2 | C24: 3 | D24: 4 | E24: 5 | F24: 6 | G24: 7 | H24: 8 | I24: 9 | J24: 10 | K24: 11 | L24: 12
A26: =CONCATENATE("Раздел: ",IF(Source!G24<>"Новый раздел", Source!G24, "")) -> Раздел: 1 Общестроительные работы
A27: =Source!E28 -> 1 | B27: =Source!F28 -> 57-3-1 | C27: =Source!G28 -> Разборка плинтусов деревянных и из пластмассовых материалов | D27: =Source!H28 -> 100 м | E27: =Source!I28 -> 1.2546 | F27: =Source!AL28+Source!AM28+Source!AO28 -> 29.41 | I27: =Source!BO28 | S27: =ROUND((Source!FX28/100)*((ROUND(Source!AF28*Source!I28, 2)+ROUND(Source!AE28*Source!I28, 2))), 2) -> 29.52 | T27: =Source!X28 -> 198.06 | U27: =ROUND((Source!FY28/100)*((ROUND(Source!AF28*Source!I28, 2)+ROUND(Source!AE28*Source!I28, 2))), 2) -> 25.09 | V27: =Source!Y28 -> 168.35
C28: ="Объем: "&Source!I28&"=125,46/"&"100" -> Объем: 1,2546=125,46/100
C29: Зарплата | F29: =Source!AO28 -> 29.41 | G29: =Source!DG28 | H29: =ROUND(Source!AF28*Source!I28, 2) -> 36.9 | J29: =IF(Source!BA28<> 0, Source!BA28, 1) -> 6.71 | K29: =Source!S28 -> 247.58 | R29: =H29 -> 36.9
C30: НР от ФОТ | D30: % | E30: =Source!BZ28 -> 80 | H30: =SUM(S27:S32) -> 29.52 | J30: =Source!AT28 -> 80 | K30: =SUM(T27:T32) -> 198.06
C31: СП от ФОТ | D31: % | E31: =Source!CA28 -> 68 | H31: =SUM(U27:U32) -> 25.09 | J31: =Source!AU28 -> 68 | K31: =SUM(V27:V32) -> 168.35
C32: Затраты труда | D32: чел-ч | E32: =Source!AQ28 -> 3.77 | G32: =Source!DI28 | L32: =Source!U28 -> 4.729842
G33: =H29+H30+H31 -> 91.51 | J33: =K29+K30+K31 -> 613.99 | L33: =Source!U28 -> 4.729842 | O33: =G33 -> 91.51 | P33: =J33 -> 613.99 | Q33: =L33 -> 4.729842 | W33: =IF(Source!BI28<=1,H29+H30+H31, 0) -> 91.51 | X33: =IF(Source!BI28=2,H29+H30+H31, 0) -> 0 | Y33: =IF(Source!BI28=3,H29+H30+H31, 0) -> 0 | Z33: =IF(Source!BI28=4,H29+H30+H31, 0) -> 0
A34: =Source!E29 -> 2 | B34: =Source!F29 -> 57-2-1 | C34: =Source!G29 -> Разборка покрытий полов из линолеума и релина | D34: =Source!H29 -> 100 м2 | E34: =Source!I29 -> 2.098 | F34: =Source!AL29+Source!AM29+Source!AO29 -> 92.9 | I34: =Source!BO29 | S34: =ROUND((Source!FX29/100)*((ROUND(Source!AF29*Source!I29, 2)+ROUND(Source!AE29*Source!I29, 2))), 2) -> 152.06 | T34: =Source!X29 -> 1020.34 | U34: =ROUND((Source!FY29/100)*((ROUND(Source!AF29*Source!I29, 2)+ROUND(Source!AE29*Source!I29, 2))), 2) -> 129.25 | V34: =Source!Y29 -> 867.29
C35: ="Объем: "&Source!I29&"=209,8/"&"100" -> Объем: 2,098=209,8/100
C36: Зарплата | F36: =Source!AO29 -> 88.84 | G36: =Source!DG29 | H36: =ROUND(Source!AF29*Source!I29, 2) -> 186.39 | J36: =IF(Source!BA29<> 0, Source!BA29, 1) -> 6.71 | K36: =Source!S29 -> 1250.65 | R36: =H36 -> 186.39
C37: Эксплуатация машин | F37: =Source!AM29 -> 4.06 | G37: =Source!DE29 | H37: =ROUND(Source!AD29*Source!I29, 2) -> 8.52 | J37: =IF(Source!BB29<> 0, Source!BB29, 1) -> 6.71 | K37: =Source!Q29 -> 57.15
C38: в т.ч. зарплата машинистов | F38: =Source!AN29 -> 1.76 | G38: =Source!DF29 | H38: =ROUND(Source!AE29*Source!I29, 2) -> 3.69 | J38: =IF(Source!BS29<> 0, Source!BS29, 1) -> 6.71 | K38: =Source!R29 -> 24.78 | R38: =H38 -> 3.69
C39: НР от ФОТ | D39: % | E39: =Source!BZ29 -> 80 | H39: =SUM(S34:S41) -> 152.06 | J39: =Source!AT29 -> 80 | K39: =SUM(T34:T41) -> 1020.34
C40: СП от ФОТ | D40: % | E40: =Source!CA29 -> 68 | H40: =SUM(U34:U41) -> 129.25 | J40: =Source!AU29 -> 68 | K40: =SUM(V34:V41) -> 867.29
C41: Затраты труда | D41: чел-ч | E41: =Source!AQ29 -> 11.39 | G41: =Source!DI29 | L41: =Source!U29 -> 23.89622
G42: =H36+H37+H39+H40 -> 476.22 | J42: =K36+K37+K39+K40 -> 3195.43 | L42: =Source!U29 -> 23.89622 | O42: =G42 -> 476.22 | P42: =J42 -> 3195.43 | Q42: =L42 -> 23.89622 | W42: =IF(Source!BI29<=1,H36+H37+H39+H40, 0) -> 476.22 | X42: =IF(Source!BI29=2,H36+H37+H39+H40, 0) -> 0 | Y42: =IF(Source!BI29=3,H36+H37+H39+H40, 0) -> 0 | Z42: =IF(Source!BI29=4,H36+H37+H39+H40, 0) -> 0
A43: =Source!E30 -> 3 | B43: =Source!F30 -> 57-1-3 прим. | C43: =Source!G30 -> Разборка оснований покрытия полов простильных полов (фальшпол деревянный) | D43: =Source!H30 -> 100 м2 | E43: =Source!I30 -> 0.5 | F43: =Source!AL30+Source!AM30+Source!AO30 -> 136.03 | I43: =Source!BO30 | S43: =ROUND((Source!FX30/100)*((ROUND(Source!AF30*Source!I30, 2)+ROUND(Source!AE30*Source!I30, 2))), 2) -> 54.42 | T43: =Source!X30 -> 365.1 | U43: =ROUND((Source!FY30/100)*((ROUND(Source!AF30*Source!I30, 2)+ROUND(Source!AE30*Source!I30, 2))), 2) -> 46.25 | V43: =Source!Y30 -> 310.34
C44: ="Объем: "&Source!I30&"=50/"&"100" -> Объем: 0,5=50/100
C45: Зарплата | F45: =Source!AO30 -> 136.03 | G45: =Source!DG30 | H45: =ROUND(Source!AF30*Source!I30, 2) -> 68.02 | J45: =IF(Source!BA30<> 0, Source!BA30, 1) -> 6.71 | K45: =Source!S30 -> 456.38 | R45: =H45 -> 68.02
C46: НР от ФОТ | D46: % | E46: =Source!BZ30 -> 80 | H46: =SUM(S43:S48) -> 54.42 | J46: =Source!AT30 -> 80 | K46: =SUM(T43:T48) -> 365.1
C47: СП от ФОТ | D47: % | E47: =Source!CA30 -> 68 | H47: =SUM(U43:U48) -> 46.25 | J47: =Source!AU30 -> 68 | K47: =SUM(V43:V48) -> 310.34
C48: Затраты труда | D48: чел-ч | E48: =Source!AQ30 -> 17.44 | G48: =Source!DI30 | L48: =Source!U30 -> 8.72
G49: =H45+H46+H47 -> 168.69 | J49: =K45+K46+K47 -> 1131.82 | L49: =Source!U30 -> 8.72 | O49: =G49 -> 168.69 | P49: =J49 -> 1131.82 | Q49: =L49 -> 8.72 | W49: =IF(Source!BI30<=1,H45+H46+H47, 0) -> 168.69 | X49: =IF(Source!BI30=2,H45+H46+H47, 0) -> 0 | Y49: =IF(Source!BI30=3,H45+H46+H47, 0) -> 0 | Z49: =IF(Source!BI30=4,H45+H46+H47, 0) -> 0
...

Sheet Source
A1: 0 | B1: Smeta.RU (495) 974-1589 | D1: _PS_ | F1: 0 | G1: 0 | H1: 0 | I1: Smeta.RU | J1: НИЯУ МИФИ Доп. раб. место MCCS-0027251 | K1: 0 | L1: 27251 | M1: 10 | N1: 10 | O1: 1 | P1: 0 | Q1: 8
A12: 1 | B12: 405 | C12: 0 | D12: =ROW(A347) -> 347 | E12: 0 | F12: Новый объект_(Копия)_(Копия)_(Копия) | G12: на ремонт помещений учебных аудиторий №3, №8, №11, №12, №13 3-го этажа корпуса "К" НИЯУ МИФИ по адресу: г. Москва, Каширское шоссе, д.31, стр.46 | I12: 0 | K12: 0 | O12: 0 | P12: 0 | Q12: 0 | R12: 0 | V12: 0 | BH12: Сметные нормы списания | BI12: Коды ценников | BJ12: 1 | BK12: 1 | BL12: 0 | BM12: 0 | BN12: 1 | BO12: 0 | BP12: 2 | BQ12: 2 | BR12: 1 | BS12: 1 | BT12: 0 | BU12: 0 | BV12: 0 | BW12: 0 | BX12: 0 | BY12: ФЕР-2017 | BZ12: ТР для Версии 10: Центральные регионы (с учетом п-ма 2536-ИП/12/ГС от 22.03.2017 г | CA12: ФЕР-2017 | CB12: ФЕР-2017 | CC12: ФЕР-2017 | CD12: ФЕР-2017 | CE12: Поправки для ГСН 2017 от 31.03.2017 г | CF12: 0 | CG12: 0 | CH12: 524296 | CK12: 4 | EC12: 0
A15: 15 | B15: 1
A18: 52 | B18: =B347 -> 405 | C18: =C347 -> 1 | D18: =D347 -> 12 | E18: =E347 -> 0 | F18: =F347 -> Новый объект_(Копия)_(Копия)_(Копия) | G18: =G347 -> на ремонт помещений учебных аудиторий №3, №8, №11, №12, №13 3-го этажа корпуса "К" НИЯУ МИФИ по адресу: г. Москва, Каширское шоссе, д.31, стр.46 | O18: =O347 -> 1633479.4 | P18: =P347 -> 1496233.9 | Q18: =Q347 -> 11496.05 | R18: =R347 -> 2159.36 | S18: =S347 -> 125749.52 | T18: =T347 -> 0 | U18: =U347 -> 1749.5782 | V18: =V347 -> 26.771322 | ... GX18: =GX347 -> 0
A20: 3 | B20: 1 | D20: =ROW(A315) -> 315 | F20: Новая локальная смета | G20: Новая локальная смета | I20: 0 | K20: 0 | V20: 0 | BX20: 0 | CF20: 0 | CG20: 0
A22: 52 | B22: =B315 -> 1 | C22: =C315 -> 3 | D22: =D315 -> 20 | E22: =E315 -> 0 | F22: =F315 -> Новая локальная смета | G22: =G315 -> Новая локальная смета | O22: =O315 -> 1633479.4 | P22: =P315 -> 1496233.9 | Q22: =Q315 -> 11496.05 | R22: =R315 -> 2159.36 | S22: =S315 -> 125749.52 | T22: =T315 -> 0 | U22: =U315 -> 1749.5782 | V22: =V315 -> 26.771322 | ... GX22: =GX315 -> 0
A24: 4 | B24: 1 | D24: =ROW(A89) -> 89 | F24: Новый раздел | G24: 1 Общестроительные работы | I24: 0 | K24: 0 | V24: 0 | BX24: 0 | CJ24: 0
A26: 52 | B26: =B89 -> 1 | C26: =C89 -> 4 | D26: =D89 -> 24 | E26: =E89 -> 0 | F26: =F89 -> Новый раздел | G26: =G89 -> 1 Общестроительные работы | O26: =O89 -> 877709.7 | P26: =P89 -> 807203.22 | Q26: =Q89 -> 8227.81 | R26: =R89 -> 1776.73 | S26: =S89 -> 62278.67 | T26: =T89 -> 0 | U26: =U89 -> 1058.9987 | V26: =V89 -> 22.235388 | ... GX26: =GX89 -> 0
A28: 17 | B28: 1 | C28: =ROW(SmtRes!A1) -> 1 | D28: =ROW(EtalonRes!A2) -> 2 | E28: 1 | F28: 57-3-1 | G28: Разборка плинтусов деревянных и из пластмассовых материалов | H28: 100 м | I28: =ROUND(125.46/100,9) -> 1.2546 | J28: 0 | O28: =ROUND(CP28,2) -> 247.58 | P28: =ROUND(CQ28*I28,2) -> 0 | Q28: =ROUND(CR28*I28,2) -> 0 | R28: =ROUND(CS28*I28,2) -> 0 | S28: =ROUND(CT28*I28,2) -> 247.58 | T28: =ROUND(CU28*I28,2) -> 0 | U28: =CV28*I28 -> 4.729842 | V28: =CW28*I28 -> 0 | W28: =ROUND(CX28*I28,2) -> 0 | X28: =ROUND(CY28,2) -> 198.06 | Y28: =ROUND(CZ28,2) -> 168.35 | AA28: 16802145 | AB28: =ROUND((AC28+AD28+AF28),2) -> 29.41 | AC28: =ROUND((ES28),2) -> 0 | AD28: =ROUND((((ET28)-(EU28))+AE28),2) -> 0 | AE28: =ROUND((EU28),2) -> 0 | AF28: =ROUND((EV28),2) -> 29.41 | AG28: =ROUND((AP28),2) -> 0 | AH28: =(EW28) -> 3.77 | AI28: =(EX28) -> 0 | AJ28: =(AS28) -> 0 | AK28: 29.41 | AL28: 0 | AM28: 0 | AN28: 0 | AO28: 29.41 | AP28: 0 | AQ28: 3.77 | AR28: 0 | AS28: 0 | AT28: 80 | AU28: 68 | AV28: 1 | AW28: 1 | AZ28: 6.71 | BA28: 6.71 | BB28: 6.71 | BC28: 6.71 | BH28: 0 | BI28: 1 | BJ28: ФЕРр-2001, 57-3-1, приказ Минстроя России №1039/пр от 30.12.2016г. | BM28: 57001 | BN28: 0 | BP28: 0 | BQ28: 6 | BR28: 0 | BS28: 6.71 | BT28: 1 | BU28: 1 | BV28: 1 | BW28: 1 | BX28: 1 | BZ28: 80 | CA28: 68 | CE28: 0 | CF28: 0 | CG28: 0 | CM28: 0 | CO28: 0 | CP28: =(P28+Q28+S28) -> 247.58 | CQ28: =AC28*BC28 -> 0 | CR28: =AD28*BB28 -> 0 | CS28: =AE28*BS28 -> 0 | CT28: =AF28*BA28 -> 197.3411 | CU28: =AG28 -> 0 | CV28: =AH28 -> 3.77 | CW28: =AI28 -> 0 | CX28: =AJ28 -> 0 | CY28: =(((S28+R28)*AT28)/100) -> 198.064 | CZ28: =(((S28+R28)*AU28)/100) -> 168.3544 | DN28: 0 | DO28: 0 | DP28: 1 | DQ28: 1 | DU28: 1003 | DV28: 100 м | DW28: 100 м | DX28: 100 | EE28: 16510566 | EF28: 6 | EG28: Ремонтно-строительные работы | EH28: 0 | EJ28: 1 | EK28: 57001 | EL28: Полы | EM28: рФЕР-57 | EQ28: 131072 | ER28: 29.41 | ES28: 0 | ET28: 0 | EU28: 0 | EV28: 29.41 | EW28: 3.77 | EX28: 0 | EY28: 0 | FQ28: 0 | FR28: =ROUND(IF(AND(BH28=3,BI28=3),P28,0),2) -> 0 | FS28: 0 | FX28: 80 | FY28: 68 | GD28: 0 | GF28: -1389370821 | GG28: 1 | GH28: 1 | GI28: 4 | GJ28: 0 | GK28: =ROUND(R28*(R12)/100,2) -> 0 | GL28: =ROUND(IF(AND(BH28=3,BI28=3,FS28<>0),P28,0),2) -> 0 | GM28: =ROUND(O28+X28+Y28+GK28,2)+GX28 -> 613.99 | GN28: =IF(OR(BI28=0,BI28=1),ROUND(O28+X28+Y28+GK28,2),0) -> 613.99 | GO28: =IF(BI28=2,ROUND(O28+X28+Y28+GK28,2),0) -> 0 | GP28: =IF(BI28=4,ROUND(O28+X28+Y28+GK28,2)+GX28,0) -> 0 | GR28: 0 | GS28: 3 | GT28: 0 | GV28: =ROUND((GT28),2) -> 0 | GW28: 1 | GX28: =ROUND(HC28*I28,2) -> 0 | HA28: 0 | HB28: 0 | HC28: =GV28*GW28 -> 0 | IK28: 0
A29: 17 | B29: 1 | C29: =ROW(SmtRes!A4) -> 4 | D29: =ROW(EtalonRes!A6) -> 6 | E29: 2 | F29: 57-2-1 | G29: Разборка покрытий полов из линолеума и релина | H29: 100 м2 | I29: =ROUND(209.8/100,9) -> 2.098 | J29: 0 | O29: =ROUND(CP29,2) -> 1307.8 | P29: =ROUND(CQ29*I29,2) -> 0 | Q29: =ROUND(CR29*I29,2) -> 57.15 | R29: =ROUND(CS29*I29,2) -> 24.78 | S29: =ROUND(CT29*I29,2) -> 1250.65 | T29: =ROUND(CU29*I29,2) -> 0 | U29: =CV29*I29 -> 23.89622 | V29: =CW29*I29 -> 0.27274 | W29: =ROUND(CX29*I29,2) -> 0 | X29: =ROUND(CY29,2) -> 1020.34 | Y29: =ROUND(CZ29,2) -> 867.29 | AA29: 16802145 | AB29: =ROUND((AC29+AD29+AF29),2) -> 92.9 | AC29: =ROUND((ES29),2) -> 0 | AD29: =ROUND((((ET29)-(EU29))+AE29),2) -> 4.06 | AE29: =ROUND((EU29),2) -> 1.76 | AF29: =ROUND((EV29),2) -> 88.84 | AG29: =ROUND((AP29),2) -> 0 | AH29: =(EW29) -> 11.39 | AI29: =(EX29) -> 0.13 | AJ29: =(AS29) -> 0 | AK29: 92.9 | AL29: 0 | AM29: 4.06 | AN29: 1.76 | AO29: 88.84 | AP29: 0 | AQ29: 11.39 | AR29: 0.13 | AS29: 0 | AT29: 80 | AU29: 68 | AV29: 1 | AW29: 1 | AZ29: 6.71 | BA29: 6.71 | BB29: 6.71 | BC29: 6.71 | BH29: 0 | BI29: 1 | BJ29: ФЕРр-2001, 57-2-1, приказ Минстроя России №1039/пр от 30.12.2016г. | BM29: 57001 | BN29: 0 | BP29: 0 | BQ29: 6 | BR29: 0 | BS29: 6.71 | BT29: 1 | BU29: 1 | BV29: 1 | BW29: 1 | BX29: 1 | BZ29: 80 | CA29: 68 | CE29: 0 | CF29: 0 | CG29: 0 | CM29: 0 | CO29: 0 | CP29: =(P29+Q29+S29) -> 1307.8 | CQ29: =AC29*BC29 -> 0 | CR29: =AD29*BB29 -> 27.2426 | CS29: =AE29*BS29 -> 11.8096 | CT29: =AF29*BA29 -> 596.1164 | CU29: =AG29 -> 0 | CV29: =AH29 -> 11.39 | CW29: =AI29 -> 0.13 | CX29: =AJ29 -> 0 | CY29: =(((S29+R29)*AT29)/100) -> 1020.344 | CZ29: =(((S29+R29)*AU29)/100) -> 867.2924 | DN29: 0 | DO29: 0 | DP29: 1 | DQ29: 1 | DU29: 1005 | DV29: 100 м2 | DW29: 100 м2 | DX29: 100 | EE29: 16510566 | EF29: 6 | EG29: Ремонтно-строительные работы | EH29: 0 | EJ29: 1 | EK29: 57001 | EL29: Полы | EM29: рФЕР-57 | EQ29: 131072 | ER29: 92.9 | ES29: 0 | ET29: 4.06 | EU29: 1.76 | EV29: 88.84 | EW29: 11.39 | EX29: 0.13 | EY29: 0 | FQ29: 0 | FR29: =ROUND(IF(AND(BH29=3,BI29=3),P29,0),2) -> 0 | FS29: 0 | FX29: 80 | FY29: 68 | GD29: 0 | GF29: 537707280 | GG29: 1 | GH29: 1 | GI29: 4 | GJ29: 0 | GK29: =ROUND(R29*(R12)/100,2) -> 0 | GL29: =ROUND(IF(AND(BH29=3,BI29=3,FS29<>0),P29,0),2) -> 0 | GM29: =ROUND(O29+X29+Y29+GK29,2)+GX29 -> 3195.43 | GN29: =IF(OR(BI29=0,BI29=1),ROUND(O29+X29+Y29+GK29,2),0) -> 3195.43 | GO29: =IF(BI29=2,ROUND(O29+X29+Y29+GK29,2),0) -> 0 | GP29: =IF(BI29=4,ROUND(O29+X29+Y29+GK29,2)+GX29,0) -> 0 | GR29: 0 | GS29: 3 | GT29: 0 | GV29: =ROUND((GT29),2) -> 0 | GW29: 1 | GX29: =ROUND(HC29*I29,2) -> 0 | HA29: 0 | HB29: 0 | HC29: =GV29*GW29 -> 0 | IK29: 0
A30: 17 | B30: 1 | C30: =ROW(SmtRes!A5) -> 5 | D30: =ROW(EtalonRes!A8) -> 8 | E30: 3 | F30: 57-1-3 прим. | G30: Разборка оснований покрытия полов простильных полов (фальшпол деревянный) | H30: 100 м2 | I30: =ROUND(50/100,9) -> 0.5 | J30: 0 | O30: =ROUND(CP30,2) -> 456.38 | P30: =ROUND(CQ30*I30,2) -> 0 | Q30: =ROUND(CR30*I30,2) -> 0 | R30: =ROUND(CS30*I30,2) -> 0 | S30: =ROUND(CT30*I30,2) -> 456.38 | T30: =ROUND(CU30*I30,2) -> 0 | U30: =CV30*I30 -> 8.72 | V30: =CW30*I30 -> 0 | W30: =ROUND(CX30*I30,2) -> 0 | X30: =ROUND(CY30,2) -> 365.1 | Y30: =ROUND(CZ30,2) -> 310.34 | AA30: 16802145 | AB30: =ROUND((AC30+AD30+AF30),2) -> 136.03 | AC30: =ROUND((ES30),2) -> 0 | AD30: =ROUND((((ET30)-(EU30))+AE30),2) -> 0 | AE30: =ROUND((EU30),2) -> 0 | AF30: =ROUND((EV30),2) -> 136.03 | AG30: =ROUND((AP30),2) -> 0 | AH30: =(EW30) -> 17.44 | AI30: =(EX30) -> 0 | AJ30: =(AS30) -> 0 | AK30: 136.03 | AL30: 0 | AM30: 0 | AN30: 0 | AO30: 136.03 | AP30: 0 | AQ30: 17.44 | AR30: 0 | AS30: 0 | AT30: 80 | AU30: 68 | AV30: 1 | AW30: 1 | AZ30: 6.71 | BA30: 6.71 | BB30: 6.71 | BC30: 6.71 | BH30: 0 | BI30: 1 | BJ30: ФЕРр-2001, 57-1-3, приказ Минстроя России №1039/пр от 30.12.2016г. | BM30: 57001 | BN30: 0 | BP30: 0 | BQ30: 6 | BR30: 0 | BS30: 6.71 | BT30: 1 | BU30: 1 | BV30: 1 | BW30: 1 | BX30: 1 | BZ30: 80 | CA30: 68 | CE30: 0 | CF30: 0 | CG30: 0 | CM30: 0 | CO30: 0 | CP30: =(P30+Q30+S30) -> 456.38 | CQ30: =AC30*BC30 -> 0 | CR30: =AD30*BB30 -> 0 | CS30: =AE30*BS30 -> 0 | CT30: =AF30*BA30 -> 912.7613 | CU30: =AG30 -> 0 | CV30: =AH30 -> 17.44 | CW30: =AI30 -> 0 | CX30: =AJ30 -> 0 | CY30: =(((S30+R30)*AT30)/100) -> 365.104 | CZ30: =(((S30+R30)*AU30)/100) -> 310.3384 | DN30: 0 | DO30: 0 | DP30: 1 | DQ30: 1 | DU30: 1005 | DV30: 100 м2 | DW30: 100 м2 | DX30: 100 | EE30: 16510566 | EF30: 6 | EG30: Ремонтно-строительные работы | EH30: 0 | EJ30: 1 | EK30: 57001 | EL30: Полы | EM30: рФЕР-57 | EQ30: 131072 | ER30: 136.03 | ES30: 0 | ET30: 0 | EU30: 0 | EV30: 136.03 | EW30: 17.44 | EX30: 0 | EY30: 0 | FQ30: 0 | FR30: =ROUND(IF(AND(BH30=3,BI30=3),P30,0),2) -> 0 | FS30: 0 | FX30: 80 | FY30: 68 | GD30: 0 | GF30: 99861082 | GG30: 1 | GH30: 1 | GI30: 4 | GJ30: 0 | GK30: =ROUND(R30*(R12)/100,2) -> 0 | GL30: =ROUND(IF(AND(BH30=3,BI30=3,FS30<>0),P30,0),2) -> 0 | GM30: =ROUND(O30+X30+Y30+GK30,2)+GX30 -> 1131.82 | GN30: =IF(OR(BI30=0,BI30=1),ROUND(O30+X30+Y30+GK30,2),0) -> 1131.82 | GO30: =IF(BI30=2,ROUND(O30+X30+Y30+GK30,2),0) -> 0 | GP30: =IF(BI30=4,ROUND(O30+X30+Y30+GK30,2)+GX30,0) -> 0 | GR30: 0 | GS30: 3 | GT30: 0 | GV30: =ROUND((GT30),2) -> 0 | GW30: 1 | GX30: =ROUND(HC30*I30,2) -> 0 | HA30: 0 | HB30: 0 | HC30: =GV30*GW30 -> 0 | IK30: 0
A31: 17 | B31: 1 | C31: =ROW(SmtRes!A11) -> 11 | D31: =ROW(EtalonRes!A15) -> 15 | E31: 4 | F31: 65-33-1 | G31: Смена жалюзийных решеток | H31: 100 ШТ | I31: =ROUND(9/100,9) -> 0.09 | J31: 0 | O31: =ROUND(CP31,2) -> 260.2 | P31: =ROUND(CQ31*I31,2) -> 22.07 | Q31: =ROUND(CR31*I31,2) -> 0.19 | R31: =ROUND(CS31*I31,2) -> 0.08 | S31: =ROUND(CT31*I31,2) -> 237.94 | T31: =ROUND(CU31*I31,2) -> 0 | U31: =CV31*I31 -> 4.1571 | V31: =CW31*I31 -> 0.0009 | W31: =ROUND(CX31*I31,2) -> 0 | X31: =ROUND(CY31,2) -> 245.16 | Y31: =ROUND(CZ31,2) -> 142.81 | AA31: 16802145 | AB31: =ROUND((AC31+AD31+AF31),2) -> 430.86 | AC31: =ROUND((ES31),2) -> 36.55 | AD31: =ROUND((((ET31)-(EU31))+AE31),2) -> 0.31 | AE31: =ROUND((EU31),2) -> 0.14 | AF31: =ROUND((EV31),2) -> 394 | AG31: =ROUND((AP31),2) -> 0 | AH31: =(EW31) -> 46.19 | AI31: =(EX31) -> 0.01 | AJ31: =(AS31) -> 0 | AK31: 430.86 | AL31: 36.55 | AM31: 0.31 | AN31: 0.14 | AO31: 394 | AP31: 0 | AQ31: 46.19 | AR31: 0.01 | AS31: 0 | AT31: 103 | AU31: 60 | AV31: 1 | AW31: 1 | AZ31: 6.71 | BA31: 6.71 | BB31: 6.71 | BC31: 6.71 | BH31: 0 | BI31: 1 | BJ31: ФЕР-2001, 65-33-1, приказ Минстроя России №1039/пр от 30.12.2016г. | BM31: 65010 | BN31: 0 | BP31: 0 | BQ31: 6 | BR31: 0 | BS31: 6.71 | BT31: 1 | BU31: 1 | BV31: 1 | BW31: 1 | BX31: 1 | BZ31: 103 | CA31: 60 | CE31: 0 | CF31: 0 | CG31: 0 | CM31: 0 | CO31: 0 | CP31: =(P31+Q31+S31) -> 260.2 | CQ31: =AC31*BC31 -> 245.2505 | CR31: =AD31*BB31 -> 2.0801 | CS31: =AE31*BS31 -> 0.9394 | CT31: =AF31*BA31 -> 2643.74 | CU31: =AG31 -> 0 | CV31: =AH31 -> 46.19 | CW31: =AI31 -> 0.01 | CX31: =AJ31 -> 0 | CY31: =(((S31+R31)*AT31)/100) -> 245.1606 | CZ31: =(((S31+R31)*AU31)/100) -> 142.812 | DN31: 0 | DO31: 0 | DP31: 1 | DQ31: 1 | DU31: 1013 | DV31: 100 ШТ | DW31: 100 ШТ | DX31: 1 | EE31: 16510589 | EF31: 6 | EG31: Ремонтно-строительные работы | EH31: 0 | EJ31: 1 | EK31: 65010 | EL31: Внтуренниие с/техработы: смена труб | EM31: рФЕР-65 | EQ31: 131072 | ER31: 430.86 | ES31: 36.55 | ET31: 0.31 | EU31: 0.14 | EV31: 394 | EW31: 46.19 | EX31: 0.01 | EY31: 0 | FQ31: 0 | FR31: =ROUND(IF(AND(BH31=3,BI31=3),P31,0),2) -> 0 | FS31: 0 | FX31: 103 | FY31: 60 | GD31: 0 | GF31: -2051527918 | GG31: 1 | GH31: 1 | GI31: 4 | GJ31: 0 | GK31: =ROUND(R31*(R12)/100,2) -> 0 | GL31: =ROUND(IF(AND(BH31=3,BI31=3,FS31<>0),P31,0),2) -> 0 | GM31: =ROUND(O31+X31+Y31+GK31,2)+GX31 -> 648.17 | GN31: =IF(OR(BI31=0,BI31=1),ROUND(O31+X31+Y31+GK31,2),0) -> 648.17 | GO31: =IF(BI31=2,ROUND(O31+X31+Y31+GK31,2),0) -> 0 | GP31: =IF(BI31=4,ROUND(O31+X31+Y31+GK31,2)+GX31,0) -> 0 | GR31: 0 | GS31: 0 | GT31: 0 | GV31: =ROUND((GT31),2) -> 0 | GW31: 1 | GX31: =ROUND(HC31*I31,2) -> 0 | HA31: 0 | HB31: 0 | HC31: =GV31*GW31 -> 0 | IK31: 0
A32: 18 | B32: 1 | C32: 11 | E32: 4,1 | F32: 19.2.03.07-0028 | G32: Решетки пластиковые вентиляционные прим. (согласно тех.заданию) | H32: шт. | I32: =I31*J32 -> 9 | J32: 100 | O32: =ROUND(CP32,2) -> 57750.35 | P32: =ROUND(CQ32*I32,2) -> 57750.35 | Q32: =ROUND(CR32*I32,2) -> 0 | R32: =ROUND(CS32*I32,2) -> 0 | S32: =ROUND(CT32*I32,2) -> 0 | T32: =ROUND(CU32*I32,2) -> 0 | U32: =CV32*I32 -> 0 | V32: =CW32*I32 -> 0 | W32: =ROUND(CX32*I32,2) -> 0 | X32: =ROUND(CY32,2) -> 0 | Y32: =ROUND(CZ32,2) -> 0 | AA32: 16802145 | AB32: =ROUND((AC32+AD32+AF32),2) -> 956.29 | AC32: =ROUND((ES32),2) -> 956.29 | AD32: =ROUND((((ET32)-(EU32))+AE32),2) -> 0 | AE32: =ROUND((EU32),2) -> 0 | AF32: =ROUND((EV32),2) -> 0 | AG32: =ROUND((AP32),2) -> 0 | AH32: =(EW32) -> 0 | AI32: =(EX32) -> 0 | AJ32: =(AS32) -> 0 | AK32: 956.29 | AL32: 956.29 | AM32: 0 | AN32: 0 | AO32: 0 | AP32: 0 | AQ32: 0 | AR32: 0 | AS32: 0 | AT32: 103 | AU32: 60 | AV32: 1 | AW32: 1 | AZ32: 6.71 | BA32: 1 | BB32: 1 | BC32: 6.71 | BH32: 3 | BI32: 1 | BJ32: ФССЦ-2001, 19.2.03.07-0028, приказ Минстроя России №1039/пр от 30.12.2016г. | BM32: 65010 | BN32: 0 | BP32: 0 | BQ32: 6 | BR32: 0 | BS32: 1 | BT32: 1 | BU32: 1 | BV32: 1 | BW32: 1 | BX32: 1 | BZ32: 103 | CA32: 60 | CE32: 0 | CF32: 0 | CG32: 0 | CM32: 0 | CO32: 0 | CP32: =(P32+Q32+S32) -> 57750.35 | CQ32: =AC32*BC32 -> 6416.7059 | CR32: =AD32*BB32 -> 0 | CS32: =AE32*BS32 -> 0 | CT32: =AF32*BA32 -> 0 | CU32: =AG32 -> 0 | CV32: =AH32 -> 0 | CW32: =AI32 -> 0 | CX32: =AJ32 -> 0 | CY32: =(((S32+R32)*AT32)/100) -> 0 | CZ32: =(((S32+R32)*AU32)/100) -> 0 | DN32: 0 | DO32: 0 | DP32: 1 | DQ32: 1 | DU32: 1010 | DV32: шт. | DW32: шт. | DX32: 1 | EE32: 16510589 | EF32: 6 | EG32: Ремонтно-строительные работы | EH32: 0 | EJ32: 1 | EK32: 65010 | EL32: Внтуренниие с/техработы: смена труб | EM32: рФЕР-65 | EQ32: 0 | ER32: 956.29 | ES32: 956.29 | ET32: 0 | EU32: 0 | EV32: 0 | EW32: 0 | EX32: 0 | FQ32: 0 | FR32: =ROUND(IF(AND(BH32=3,BI32=3),P32,0),2) -> 0 | FS32: 0 | FX32: 103 | FY32: 60 | GD32: 0 | GF32: -1882068334 | GG32: 1 | GH32: 1 | GI32: 4 | GJ32: 0 | GK32: =ROUND(R32*(R12)/100,2) -> 0 | GL32: =ROUND(IF(AND(BH32=3,BI32=3,FS32<>0),P32,0),2) -> 0 | GM32: =ROUND(O32+X32+Y32+GK32,2)+GX32 -> 57750.35 | GN32: =IF(OR(BI32=0,BI32=1),ROUND(O32+X32+Y32+GK32,2),0) -> 57750.35 | GO32: =IF(BI32=2,ROUND(O32+X32+Y32+GK32,2),0) -> 0 | GP32: =IF(BI32=4,ROUND(O32+X32+Y32+GK32,2)+GX32,0) -> 0 | GR32: 0 | GS32: 3 | GT32: 0 | GV32: =ROUND((GT32),2) -> 0 | GW32: 1 | GX32: =ROUND(HC32*I32,2) -> 0 | HA32: 0 | HB32: 0 | HC32: =GV32*GW32 -> 0 | IK32: 0
A33: 17 | B33: 1 | C33: =ROW(SmtRes!A12) -> 12 | D33: =ROW(EtalonRes!A16) -> 16 | E33: 5 | F33: 46-02-009-02 | G33: Отбивка штукатурки с поверхностей стен | H33: 100 м2 | I33: =ROUND(111.1/100,9) -> 1.111 | J33: 0 | O33: =ROUND(CP33,2) -> 1326.96 | P33: =ROUND(CQ33*I33,2) -> 0 | Q33: =ROUND(CR33*I33,2) -> 0 | R33: =ROUND(CS33*I33,2) -> 0 | S33: =ROUND(CT33*I33,2) -> 1326.96 | T33: =ROUND(CU33*I33,2) -> 0 | U33: =CV33*I33 -> 25.35302 | V33: =CW33*I33 -> 0 | W33: =ROUND(CX33*I33,2) -> 0 | X33: =ROUND(CY33,2) -> 1313.69 | Y33: =ROUND(CZ33,2) -> 796.18 | AA33: 16802145 | AB33: =ROUND((AC33+AD33+AF33),2) -> 178 | AC33: =ROUND((ES33),2) -> 0 | AD33: =ROUND((((ET33)-(EU33))+AE33),2) -> 0 | AE33: =ROUND((EU33),2) -> 0 | AF33: =ROUND((EV33),2) -> 178 | AG33: =ROUND((AP33),2) -> 0 | AH33: =(EW33) -> 22.82 | AI33: =(EX33) -> 0 | AJ33: =(AS33) -> 0 | AK33: 178 | AL33: 0 | AM33: 0 | AN33: 0 | AO33: 178 | AP33: 0 | AQ33: 22.82 | AR33: 0 | AS33: 0 | AT33: 99 | AU33: 60 | AV33: 1 | AW33: 1 | AZ33: 6.71 | BA33: 6.71 | BB33: 6.71 | BC33: 6.71 | BH33: 0 | BI33: 1 | BJ33: ФЕР-2001, 46-02-009-02, приказ Минстроя России №1039/пр от 30.12.2016г. | BM33: 46001 | BN33: 0 | BP33: 0 | BQ33: 2 | BR33: 0 | BS33: 6.71 | BT33: 1 | BU33: 1 | BV33: 1 | BW33: 1 | BX33: 1 | BZ33: 110 | CA33: 70 | CE33: 0 | CF33: 0 | CG33: 0 | CM33: 0 | CO33: 0 | CP33: =(P33+Q33+S33) -> 1326.96 | CQ33: =AC33*BC33 -> 0 | CR33: =AD33*BB33 -> 0 | CS33: =AE33*BS33 -> 0 | CT33: =AF33*BA33 -> 1194.38 | CU33: =AG33 -> 0 | CV33: =AH33 -> 22.82 | CW33: =AI33 -> 0 | CX33: =AJ33 -> 0 | CY33: =(((S33+R33)*AT33)/100) -> 1313.6904 | CZ33: =(((S33+R33)*AU33)/100) -> 796.176 | DN33: 0 | DO33: 0 | DP33: 1 | DQ33: 1 | DU33: 1005 | DV33: 100 м2 | DW33: 100 м2 | DX33: 100 | EE33: 16510555 | EF33: 2 | EG33: Общестроительные работы | EH33: 0 | EJ33: 1 | EK33: 46001 | EL33: Реконструкция зданий и сооружений | EM33: ФЕР-46 | EQ33: 131072 | ER33: 178 | ES33: 0 | ET33: 0 | EU33: 0 | EV33: 178 | EW33: 22.82 | EX33: 0 | EY33: 0 | FQ33: 0 | FR33: =ROUND(IF(AND(BH33=3,BI33=3),P33,0),2) -> 0 | FS33: 0 | FT33: *0,9 | FU33: *0,85 | FX33: 99 | FY33: 59.5 | GD33: 0 | GF33: 232532105 | GG33: 1 | GH33: 1 | GI33: 4 | GJ33: 0 | GK33: =ROUND(R33*(R12)/100,2) -> 0 | GL33: =ROUND(IF(AND(BH33=3,BI33=3,FS33<>0),P33,0),2) -> 0 | GM33: =ROUND(O33+X33+Y33+GK33,2)+GX33 -> 3436.83 | GN33: =IF(OR(BI33=0,BI33=1),ROUND(O33+X33+Y33+GK33,2),0) -> 3436.83 | GO33: =IF(BI33=2,ROUND(O33+X33+Y33+GK33,2),0) -> 0 | GP33: =IF(BI33=4,ROUND(O33+X33+Y33+GK33,2)+GX33,0) -> 0 | GR33: 0 | GS33: 0 | GT33: 0 | GV33: =ROUND((GT33),2) -> 0 | GW33: 1 | GX33: =ROUND(HC33*I33,2) -> 0 | HA33: 0 | HB33: 0 | HC33: =GV33*GW33 -> 0 | IK33: 0
A34: 17 | B34: 1 | C34: =ROW(SmtRes!A18) -> 18 | D34: =ROW(EtalonRes!A23) -> 23 | E34: 6 | F34: 57-10-3 | G34: Заделка выбоин в полах цементных площадью до 1,0 м2 | H34: 100 мест | I34: =ROUND(30/100,9) -> 0.3 | J34: 0 | O34: =ROUND(CP34,2) -> 2228.15 | P34: =ROUND(CQ34*I34,2) -> 0.48 | Q34: =ROUND(CR34*I34,2) -> 94.53 | R34: =ROUND(CS34*I34,2) -> 0 | S34: =ROUND(CT34*I34,2) -> 2133.14 | T34: =ROUND(CU34*I34,2) -> 0 | U34: =CV34*I34 -> 37.269 | V34: =CW34*I34 -> 0 | W34: =ROUND(CX34*I34,2) -> 0 | X34: =ROUND(CY34,2) -> 1706.51 | Y34: =ROUND(CZ34,2) -> 1450.54 | AA34: 16802145 | AB34: =ROUND((AC34+AD34+AF34),2) -> 1106.88 | AC34: =ROUND((ES34),2) -> 0.24 | AD34: =ROUND((((ET34)-(EU34))+AE34),2) -> 46.96 | AE34: =ROUND((EU34),2) -> 0 | AF34: =ROUND((EV34),2) -> 1059.68 | AG34: =ROUND((AP34),2) -> 0 | AH34: =(EW34) -> 124.23 | AI34: =(EX34) -> 0 | AJ34: =(AS34) -> 0 | AK34: 1106.88 | AL34: 0.24 | AM34: 46.96 | AN34: 0 | AO34: 1059.68 | AP34: 0 | AQ34: 124.23 | AR34: 0 | AS34: 0 | AT34: 80 | AU34: 68 | AV34: 1 | AW34: 1 | AZ34: 6.71 | BA34: 6.71 | BB34: 6.71 | BC34: 6.71 | BH34: 0 | BI34: 1 | BJ34: ФЕР-2001, 57-10-3, приказ Минстроя России №1039/пр от 30.12.2016г. | BM34: 57001 | BN34: 0 | BP34: 0 | BQ34: 6 | BR34: 0 | BS34: 6.71 | BT34: 1 | BU34: 1 | BV34: 1 | BW34: 1 | BX34: 1 | BZ34: 80 | CA34: 68 | CE34: 0 | CF34: 0 | CG34: 0 | CM34: 0 | CO34: 0 | CP34: =(P34+Q34+S34) -> 2228.15 | CQ34: =AC34*BC34 -> 1.6104 | CR34: =AD34*BB34 -> 315.1016 | CS34: =AE34*BS34 -> 0 | CT34: =AF34*BA34 -> 7110.4528 | CU34: =AG34 -> 0 | CV34: =AH34 -> 124.23 | CW34: =AI34 -> 0 | CX34: =AJ34 -> 0 | CY34: =(((S34+R34)*AT34)/100) -> 1706.512 | CZ34: =(((S34+R34)*AU34)/100) -> 1450.5352 | DN34: 0 | DO34: 0 | DP34: 1 | DQ34: 1 | DU34: 1013 | DV34: 100 мест | DW34: 100 мест | DX34: 1 | EE34: 16510566 | EF34: 6 | EG34: Ремонтно-строительные работы | EH34: 0 | EJ34: 1 | EK34: 57001 | EL34: Полы | EM34: рФЕР-57 | EQ34: 131072 | ER34: 1106.88 | ES34: 0.24 | ET34: 46.96 | EU34: 0 | EV34: 1059.68 | EW34: 124.23 | EX34: 0 | EY34: 0 | FQ34: 0 | FR34: =ROUND(IF(AND(BH34=3,BI34=3),P34,0),2) -> 0 | FS34: 0 | FX34: 80 | FY34: 68 | GD34: 0 | GF34: 424324215 | GG34: 1 | GH34: 1 | GI34: 4 | GJ34: 0 | GK34: =ROUND(R34*(R12)/100,2) -> 0 | GL34: =ROUND(IF(AND(BH34=3,BI34=3,FS34<>0),P34,0),2) -> 0 | GM34: =ROUND(O34+X34+Y34+GK34,2)+GX34 -> 5385.2 | GN34: =IF(OR(BI34=0,BI34=1),ROUND(O34+X34+Y34+GK34,2),0) -> 5385.2 | GO34: =IF(BI34=2,ROUND(O34+X34+Y34+GK34,2),0) -> 0 | GP34: =IF(BI34=4,ROUND(O34+X34+Y34+GK34,2)+GX34,0) -> 0 | GR34: 0 | GS34: 0 | GT34: 0 | GV34: =ROUND((GT34),2) -> 0 | GW34: 1 | GX34: =ROUND(HC34*I34,2) -> 0 | HA34: 0 | HB34: 0 | HC34: =GV34*GW34 -> 0 | IK34: 0
A35: 18 | B35: 1 | C35: 17 | E35: 6,1 | F35: 04.3.01.09 | G35: Раствор готовый кладочный тяжелый цементный | H35: м3 | I35: =I34*J35 -> 0.642 | J35: 2.14 | O35: =ROUND(CP35,2) -> 0 | P35: =ROUND(CQ35*I35,2) -> 0 | Q35: =ROUND(CR35*I35,2) -> 0 | R35: =ROUND(CS35*I35,2) -> 0 | S35: =ROUND(CT35*I35,2) -> 0 | T35: =ROUND(CU35*I35,2) -> 0 | U35: =CV35*I35 -> 0 | V35: =CW35*I35 -> 0 | W35: =ROUND(CX35*I35,2) -> 0 | X35: =ROUND(CY35,2) -> 0 | Y35: =ROUND(CZ35,2) -> 0 | AA35: 16802145 | AB35: =ROUND((AC35+AD35+AF35),2) -> 0 | AC35: =ROUND((ES35),2) -> 0 | AD35: =ROUND((((ET35)-(EU35))+AE35),2) -> 0 | AE35: =ROUND((EU35),2) -> 0 | AF35: =ROUND((EV35),2) -> 0 | AG35: =ROUND((AP35),2) -> 0 | AH35: =(EW35) -> 0 | AI35: =(EX35) -> 0 | AJ35: =(AS35) -> 0 | AK35: 0 | AL35: 0 | AM35: 0 | AN35: 0 | AO35: 0 | AP35: 0 | AQ35: 0 | AR35: 0 | AS35: 0 | AT35: 80 | AU35: 68 | AV35: 1 | AW35: 1 | AZ35: 6.71 | BA35: 1 | BB35: 1 | BC35: 6.71 | BH35: 3 | BI35: 1 | BM35: 57001 | BN35: 0 | BP35: 0 | BQ35: 6 | BR35: 0 | BS35: 1 | BT35: 1 | BU35: 1 | BV35: 1 | BW35: 1 | BX35: 1 | BZ35: 80 | CA35: 68 | CE35: 0 | CF35: 0 | CG35: 0 | CM35: 0 | CO35: 0 | CP35: =(P35+Q35+S35) -> 0 | CQ35: =AC35*BC35 -> 0 | CR35: =AD35*BB35 -> 0 | CS35: =AE35*BS35 -> 0 | CT35: =AF35*BA35 -> 0 | CU35: =AG35 -> 0 | CV35: =AH35 -> 0 | CW35: =AI35 -> 0 | CX35: =AJ35 -> 0 | CY35: =(((S35+R35)*AT35)/100) -> 0 | CZ35: =(((S35+R35)*AU35)/100) -> 0 | DN35: 0 | DO35: 0 | DP35: 1 | DQ35: 1 | DU35: 1007 | DV35: м3 | DW35: м3 | DX35: 1 | EE35: 16510566 | EF35: 6 | EG35: Ремонтно-строительные работы | EH35: 0 | EJ35: 1 | EK35: 57001 | EL35: Полы | EM35: рФЕР-57 | EQ35: 0 | ER35: 0 | ES35: 0 | ET35: 0 | EU35: 0 | EV35: 0 | EW35: 0 | EX35: 0 | FQ35: 0 | FR35: =ROUND(IF(AND(BH35=3,BI35=3),P35,0),2) -> 0 | FS35: 0 | FX35: 80 | FY35: 68 | GD35: 0 | GF35: -2113302258 | GG35: 1 | GH35: 1 | GI35: 4 | GJ35: 0 | GK35: =ROUND(R35*(R12)/100,2) -> 0 | GL35: =ROUND(IF(AND(BH35=3,BI35=3,FS35<>0),P35,0),2) -> 0 | GM35: =ROUND(O35+X35+Y35+GK35,2)+GX35 -> 0 | GN35: =IF(OR(BI35=0,BI35=1),ROUND(O35+X35+Y35+GK35,2),0) -> 0 | GO35: =IF(BI35=2,ROUND(O35+X35+Y35+GK35,2),0) -> 0 | GP35: =IF(BI35=4,ROUND(O35+X35+Y35+GK35,2)+GX35,0) -> 0 | GR35: 0 | GS35: 3 | GT35: 0 | GV35: =ROUND((GT35),2) -> 0 | GW35: 1 | GX35: =ROUND(HC35*I35,2) -> 0 | HA35: 0 | HB35: 0 | HC35: =GV35*GW35 -> 0 | IK35: 0
A36: 18 | B36: 1 | C36: 18 | E36: 6,2 | F36: 04.3.02.13-0103 | G36: Смесь сухая цементно-песчаная "БИРСС 11" (марка М150), бездобавочная | H36: т | I36: =I34*J36 -> 1.392935 | J36: 4.6431167 | O36: =ROUND(CP36,2) -> 6805.63 | P36: =ROUND(CQ36*I36,2) -> 6805.63 | Q36: =ROUND(CR36*I36,2) -> 0 | R36: =ROUND(CS36*I36,2) -> 0 | S36: =ROUND(CT36*I36,2) -> 0 | T36: =ROUND(CU36*I36,2) -> 0 | U36: =CV36*I36 -> 0 | V36: =CW36*I36 -> 0 | W36: =ROUND(CX36*I36,2) -> 0 | X36: =ROUND(CY36,2) -> 0 | Y36: =ROUND(CZ36,2) -> 0 | AA36: 16802145 | AB36: =ROUND((AC36+AD36+AF36),2) -> 728.14 | AC36: =ROUND((ES36),2) -> 728.14 | AD36: =ROUND((((ET36)-(EU36))+AE36),2) -> 0 | AE36: =ROUND((EU36),2) -> 0 | AF36: =ROUND((EV36),2) -> 0 | AG36: =ROUND((AP36),2) -> 0 | AH36: =(EW36) -> 0 | AI36: =(EX36) -> 0 | AJ36: =(AS36) -> 0 | AK36: 728.14 | AL36: 728.14 | AM36: 0 | AN36: 0 | AO36: 0 | AP36: 0 | AQ36: 0 | AR36: 0 | AS36: 0 | AT36: 80 | AU36: 68 | AV36: 1 | AW36: 1 | AZ36: 6.71 | BA36: 1 | BB36: 1 | BC36: 6.71 | BH36: 3 | BI36: 1 | BJ36: ФССЦ-2001, 04.3.02.13-0103, приказ Минстроя России №1039/пр от 30.12.2016г. | BM36: 57001 | BN36: 0 | BP36: 0 | BQ36: 6 | BR36: 0 | BS36: 1 | BT36: 1 | BU36: 1 | BV36: 1 | BW36: 1 | BX36: 1 | BZ36: 80 | CA36: 68 | CE36: 0 | CF36: 0 | CG36: 0 | CM36: 0 | CO36: 0 | CP36: =(P36+Q36+S36) -> 6805.63 | CQ36: =AC36*BC36 -> 4885.8194 | CR36: =AD36*BB36 -> 0 | CS36: =AE36*BS36 -> 0 | CT36: =AF36*BA36 -> 0 | CU36: =AG36 -> 0 | CV36: =AH36 -> 0 | CW36: =AI36 -> 0 | CX36: =AJ36 -> 0 | CY36: =(((S36+R36)*AT36)/100) -> 0 | CZ36: =(((S36+R36)*AU36)/100) -> 0 | DN36: 0 | DO36: 0 | DP36: 1 | DQ36: 1 | DU36: 1009 | DV36: т | DW36: т | DX36: 1000 | EE36: 16510566 | EF36: 6 | EG36: Ремонтно-строительные работы | EH36: 0 | EJ36: 1 | EK36: 57001 | EL36: Полы | EM36: рФЕР-57 | EQ36: 0 | ER36: 728.14 | ES36: 728.14 | ET36: 0 | EU36: 0 | EV36: 0 | EW36: 0 | EX36: 0 | FQ36: 0 | FR36: =ROUND(IF(AND(BH36=3,BI36=3),P36,0),2) -> 0 | FS36: 0 | FX36: 80 | FY36: 68 | GD36: 0 | GF36: 50694098 | GG36: 1 | GH36: 1 | GI36: 4 | GJ36: 0 | GK36: =ROUND(R36*(R12)/100,2) -> 0 | GL36: =ROUND(IF(AND(BH36=3,BI36=3,FS36<>0),P36,0),2) -> 0 | GM36: =ROUND(O36+X36+Y36+GK36,2)+GX36 -> 6805.63 | GN36: =IF(OR(BI36=0,BI36=1),ROUND(O36+X36+Y36+GK36,2),0) -> 6805.63 | GO36: =IF(BI36=2,ROUND(O36+X36+Y36+GK36,2),0) -> 0 | GP36: =IF(BI36=4,ROUND(O36+X36+Y36+GK36,2)+GX36,0) -> 0 | GR36: 0 | GS36: 0 | GT36: 0 | GV36: =ROUND((GT36),2) -> 0 | GW36: 1 | GX36: =ROUND(HC36*I36,2) -> 0 | HA36: 0 | HB36: 0 | HC36: =GV36*GW36 -> 0 | IK36: 0
A37: 17 | B37: 1 | C37: =ROW(SmtRes!A25) -> 25 | D37: =ROW(EtalonRes!A30) -> 30 | E37: 7 | F37: 11-01-011-08 | G37: Устройство стяжек из выравнивающей смеси типа "Ветонит" 5000, толщиной 5 мм | H37: 100 м2 | I37: =ROUND(209.8/100,9) -> 2.098 | J37: 0 | O37: =ROUND(CP37,2) -> 155960.58 | P37: =ROUND(CQ37*I37,2) -> 150648.83 | Q37: =ROUND(CR37*I37,2) -> 109.66 | R37: =ROUND(CS37*I37,2) -> 34.63 | S37: =ROUND(CT37*I37,2) -> 5202.09 | T37: =ROUND(CU37*I37,2) -> 0 | U37: =CV37*I37 -> 90.886409 | V37: =CW37*I37 -> 0.445825 | W37: =ROUND(CX37*I37,2) -> 0 | X37: =ROUND(CY37,2) -> 5812.76 | Y37: =ROUND(CZ37,2) -> 3351.5 | AA37: 16802145 | AB37: =ROUND((AC37+AD37+AF37),2) -> 11078.65 | AC37: =ROUND((ES37),2) -> 10701.33 | AD37: =ROUND(((((ET37*1.25))-((EU37*1.25)))+AE37),2) -> 7.79 | AE37: =ROUND(((EU37*1.25)),2) -> 2.46 | AF37: =ROUND(((EV37*1.15)),2) -> 369.53 | AG37: =ROUND((AP37),2) -> 0 | AH37: =((EW37*1.15)) -> 43.3205 | AI37: =((EX37*1.25)) -> 0.2125 | AJ37: =(AS37) -> 0 | AK37: 11028.89 | AL37: 10701.33 | AM37: 6.23 | AN37: 1.97 | AO37: 321.33 | AP37: 0 | AQ37: 37.67 | AR37: 0.17 | AS37: 0 | AT37: 111 | AU37: 64 | AV37: 1 | AW37: 1 | AZ37: 6.71 | BA37: 6.71 | BB37: 6.71 | BC37: 6.71 | BH37: 0 | BI37: 1 | BJ37: ФЕР-2001, 11-01-011-08, приказ Минстроя России №1039/пр от 30.12.2016г. | BM37: 11001 | BN37: 0 | BP37: 0 | BQ37: 2 | BR37: 0 | BS37: 6.71 | BT37: 1 | BU37: 1 | BV37: 1 | BW37: 1 | BX37: 1 | BZ37: 123 | CA37: 75 | CE37: 0 | CF37: 0 | CG37: 0 | CM37: 0 | CN37: Поправка: МДС 81-35.2004, п.4.7 Наименование: Работы, выполняемые при реконструкции зданий и сооружений работы, аналогичные технологическим процессам в новом строительстве (в том числе возведение новых конструктивных элементов) стоимость которых определена по соответствующим сборникам ФЕР, кроме сборника № 46 «Работы при реконструкции зданий и сооружений» | CO37: 0 | CP37: =(P37+Q37+S37) -> 155960.58 | CQ37: =AC37*BC37 -> 71805.924 | CR37: =AD37*BB37 -> 52.2709 | CS37: =AE37*BS37 -> 16.5066 | CT37: =AF37*BA37 -> 2479.5463 | CU37: =AG37 -> 0 | CV37: =AH37 -> 43.3205 | CW37: =AI37 -> 0.2125 | CX37: =AJ37 -> 0 | CY37: =(((S37+R37)*AT37)/100) -> 5812.7592 | CZ37: =(((S37+R37)*AU37)/100) -> 3351.5008 | DE37: )*1,25 | DF37: )*1,25 | DG37: )*1,15 | DI37: )*1,15 | DJ37: )*1,25 | DN37: 0 | DO37: 0 | DP37: 1 | DQ37: 1 | DU37: 1005 | DV37: 100 м2 | DW37: 100 м2 | DX37: 100 | EE37: 16510488 | EF37: 2 | EG37: Общестроительные работы | EH37: 0 | EJ37: 1 | EK37: 11001 | EL37: Полы | EM37: ФЕР-11 | EO37: Поправка: МДС 81-35.2004, п.4.7 | EQ37: 131072 | ER37: 11028.89 | ES37: 10701.33 | ET37: 6.23 | EU37: 1.97 | EV37: 321.33 | EW37: 37.67 | EX37: 0.17 | EY37: 0 | FQ37: 0 | FR37: =ROUND(IF(AND(BH37=3,BI37=3),P37,0),2) -> 0 | FS37: 0 | FT37: *0,9 | FU37: *0,85 | FX37: 110.7 | FY37: 63.75 | GD37: 0 | GF37: 1715562049 | GG37: 1 | GH37: 1 | GI37: 4 | GJ37: 0 | GK37: =ROUND(R37*(R12)/100,2) -> 0 | GL37: =ROUND(IF(AND(BH37=3,BI37=3,FS37<>0),P37,0),2) -> 0 | GM37: =ROUND(O37+X37+Y37+GK37,2)+GX37 -> 165124.84 | GN37: =IF(OR(BI37=0,BI37=1),ROUND(O37+X37+Y37+GK37,2),0) -> 165124.84 | GO37: =IF(BI37=2,ROUND(O37+X37+Y37+GK37,2),0) -> 0 | GP37: =IF(BI37=4,ROUND(O37+X37+Y37+GK37,2)+GX37,0) -> 0 | GR37: 0 | GS37: 0 | GT37: 0 | GV37: =ROUND((GT37),2) -> 0 | GW37: 1 | GX37: =ROUND(HC37*I37,2) -> 0 | HA37: 0 | HB37: 0 | HC37: =GV37*GW37 -> 0 | IK37: 0
A38: 17 | B38: 1 | C38: =ROW(SmtRes!A31) -> 31 | D38: =ROW(EtalonRes!A36) -> 36 | E38: 8 | F38: 11-01-011-10 | G38: Устройство стяжек на каждый последующий слой толщиной 1 мм добавлять к расценке 11-01-011-08 | H38: 100 м2 | I38: =ROUND(209.8/100,9) -> 2.098 | J38: 0 | O38: =ROUND(CP38,2) -> 145984.51 | P38: =ROUND(CQ38*I38,2) -> 144207.21 | Q38: =ROUND(CR38*I38,2) -> 106.57 | R38: =ROUND(CS38*I38,2) -> 30.83 | S38: =ROUND(CT38*I38,2) -> 1670.73 | T38: =ROUND(CU38*I38,2) -> 0 | U38: =CV38*I38 -> 29.19367 | V38: =CW38*I38 -> 0.393375 | W38: =ROUND(CX38*I38,2) -> 0 | X38: =ROUND(CY38,2) -> 1888.73 | Y38: =ROUND(CZ38,2) -> 1089 | AA38: 16802145 | AB38: =ROUND((AC38+AD38+AF38),2) -> 10370 | AC38: =ROUND(((ES38*5)),2) -> 10243.75 | AD38: =ROUND(((((ET38*1.25*5))-((EU38*1.25*5)))+AE38),2) -> 7.57 | AE38: =ROUND(((EU38*1.25*5)),2) -> 2.19 | AF38: =ROUND(((EV38*1.15*5)),2) -> 118.68 | AG38: =ROUND((AP38),2) -> 0 | AH38: =((EW38*1.15*5)) -> 13.915 | AI38: =((EX38*1.25*5)) -> 0.1875 | AJ38: =(AS38) -> 0 | AK38: 2070.6 | AL38: 2048.75 | AM38: 1.21 | AN38: 0.35 | AO38: 20.64 | AP38: 0 | AQ38: 2.42 | AR38: 0.03 | AS38: 0 | AT38: 111 | AU38: 64 | AV38: 1 | AW38: 1 | AZ38: 6.71 | BA38: 6.71 | BB38: 6.71 | BC38: 6.71 | BH38: 0 | BI38: 1 | BJ38: ФЕР-2001, 11-01-011-10, приказ Минстроя России №1039/пр от 30.12.2016г. | BM38: 11001 | BN38: 0 | BP38: 0 | BQ38: 2 | BR38: 0 | BS38: 6.71 | BT38: 1 | BU38: 1 | BV38: 1 | BW38: 1 | BX38: 1 | BZ38: 123 | CA38: 75 | CE38: 0 | CF38: 0 | CG38: 0 | CM38: 0 | CN38: Поправка: МДС 81-35.2004, п.4.7 Наименование: Работы, выполняемые при реконструкции зданий и сооружений работы, аналогичные технологическим процессам в новом строительстве (в том числе возведение новых конструктивных элементов) стоимость которых определена по соответствующим сборникам ФЕР, кроме сборника № 46 «Работы при реконструкции зданий и сооружений» | CO38: 0 | CP38: =(P38+Q38+S38) -> 145984.51 | CQ38: =AC38*BC38 -> 68735.562 | CR38: =AD38*BB38 -> 50.7947 | CS38: =AE38*BS38 -> 14.6949 | CT38: =AF38*BA38 -> 796.3428 | CU38: =AG38 -> 0 | CV38: =AH38 -> 13.915 | CW38: =AI38 -> 0.1875 | CX38: =AJ38 -> 0 | CY38: =(((S38+R38)*AT38)/100) -> 1888.7316 | CZ38: =(((S38+R38)*AU38)/100) -> 1088.9984 | DD38: *5 | DE38: )*1,25*5 | DF38: )*1,25*5 | DG38: )*1,15*5 | DI38: )*1,15*5 | DJ38: )*1,25*5 | DN38: 0 | DO38: 0 | DP38: 1 | DQ38: 1 | DU38: 1005 | DV38: 100 м2 | DW38: 100 м2 | DX38: 100 | EE38: 16510488 | EF38: 2 | EG38: Общестроительные работы | EH38: 0 | EJ38: 1 | EK38: 11001 | EL38: Полы | EM38: ФЕР-11 | EO38: Поправка: МДС 81-35.2004, п.4.7 | EQ38: 131072 | ER38: 2070.6 | ES38: 2048.75 | ET38: 1.21 | EU38: 0.35 | EV38: 20.64 | EW38: 2.42 | EX38: 0.03 | EY38: 0 | FQ38: 0 | FR38: =ROUND(IF(AND(BH38=3,BI38=3),P38,0),2) -> 0 | FS38: 0 | FT38: *0,9 | FU38: *0,85 | FX38: 110.7 | FY38: 63.75 | GD38: 0 | GF38: 337317905 | GG38: 1 | GH38: 1 | GI38: 4 | GJ38: 0 | GK38: =ROUND(R38*(R12)/100,2) -> 0 | GL38: =ROUND(IF(AND(BH38=3,BI38=3,FS38<>0),P38,0),2) -> 0 | GM38: =ROUND(O38+X38+Y38+GK38,2)+GX38 -> 148962.24 | GN38: =IF(OR(BI38=0,BI38=1),ROUND(O38+X38+Y38+GK38,2),0) -> 148962.24 | GO38: =IF(BI38=2,ROUND(O38+X38+Y38+GK38,2),0) -> 0 | GP38: =IF(BI38=4,ROUND(O38+X38+Y38+GK38,2)+GX38,0) -> 0 | GR38: 0 | GS38: 3 | GT38: 0 | GV38: =ROUND((GT38),2) -> 0 | GW38: 1 | GX38: =ROUND(HC38*I38,2) -> 0 | HA38: 0 | HB38: 0 | HC38: =GV38*GW38 -> 0 | IK38: 0
A39: 17 | B39: 1 | C39: =ROW(SmtRes!A39) -> 39 | D39: =ROW(EtalonRes!A44) -> 44 | E39: 9 | F39: 15-07-003-02 | G39: Грунтование водно-дисперсионной грунтовкой поверхностей пористых (камень, кирпич, бетон и т д) | H39: 100 м2 | I39: =ROUND(209.8/100,9) -> 2.098 | J39: 0 | O39: =ROUND(CP39,2) -> 3926.52 | P39: =ROUND(CQ39*I39,2) -> 2988.53 | Q39: =ROUND(CR39*I39,2) -> 389.67 | R39: =ROUND(CS39*I39,2) -> 10.28 | S39: =ROUND(CT39*I39,2) -> 548.32 | T39: =ROUND(CU39*I39,2) -> 0 | U39: =CV39*I39 -> 8.902863 | V39: =CW39*I39 -> 0.131125 | W39: =ROUND(CX39*I39,2) -> 0 | X39: =ROUND(CY39,2) -> 530.67 | Y39: =ROUND(CZ39,2) -> 262.54 | AA39: 16802145 | AB39: =ROUND((AC39+AD39+AF39),2) -> 278.92 | AC39: =ROUND((ES39),2) -> 212.29 | AD39: =ROUND(((((ET39*1.25))-((EU39*1.25)))+AE39),2) -> 27.68 | AE39: =ROUND(((EU39*1.25)),2) -> 0.73 | AF39: =ROUND(((EV39*1.15)),2) -> 38.95 | AG39: =ROUND((AP39),2) -> 0 | AH39: =((EW39*1.15)) -> 4.2435 | AI39: =((EX39*1.25)) -> 0.0625 | AJ39: =(AS39) -> 0 | AK39: 268.3 | AL39: 212.29 | AM39: 22.14 | AN39: 0.58 | AO39: 33.87 | AP39: 0 | AQ39: 3.69 | AR39: 0.05 | AS39: 0 | AT39: 95 | AU39: 47 | AV39: 1 | AW39: 1 | AZ39: 6.71 | BA39: 6.71 | BB39: 6.71 | BC39: 6.71 | BH39: 0 | BI39: 1 | BJ39: ФЕР-2001, 15-07-003-02, приказ Минстроя России №1039/пр от 30.12.2016г. | BM39: 15001 | BN39: 0 | BP39: 0 | BQ39: 2 | BR39: 0 | BS39: 6.71 | BT39: 1 | BU39: 1 | BV39: 1 | BW39: 1 | BX39: 1 | BZ39: 105 | CA39: 55 | CE39: 0 | CF39: 0 | CG39: 0 | CM39: 0 | CN39: Поправка: МДС 81-35.2004, п.4.7 Наименование: Работы, выполняемые при реконструкции зданий и сооружений работы, аналогичные технологическим процессам в новом строительстве (в том числе возведение новых конструктивных элементов) стоимость которых определена по соответствующим сборникам ФЕР, кроме сборника № 46 «Работы при реконструкции зданий и сооружений» | CO39: 0 | CP39: =(P39+Q39+S39) -> 3926.52 | CQ39: =AC39*BC39 -> 1424.4659 | CR39: =AD39*BB39 -> 185.7328 | CS39: =AE39*BS39 -> 4.8983 | CT39: =AF39*BA39 -> 261.3545 | CU39: =AG39 -> 0 | CV39: =AH39 -> 4.2435 | CW39: =AI39 -> 0.0625 | CX39: =AJ39 -> 0 | CY39: =(((S39+R39)*AT39)/100) -> 530.67 | CZ39: =(((S39+R39)*AU39)/100) -> 262.542 | DE39: )*1,25 | DF39: )*1,25 | DG39: )*1,15 | DI39: )*1,15 | DJ39: )*1,25 | DN39: 0 | DO39: 0 | DP39: 1 | DQ39: 1 | DU39: 1005 | DV39: 100 м2 | DW39: 100 м2 | DX39: 100 | EE39: 16510513 | EF39: 2 | EG39: Общестроительные работы | EH39: 0 | EJ39: 1 | EK39: 15001 | EL39: Отделочные работы | EM39: ФЕР-15 | EO39: Поправка: МДС 81-35.2004, п.4.7 | EQ39: 131072 | ER39: 268.3 | ES39: 212.29 | ET39: 22.14 | EU39: 0.58 | EV39: 33.87 | EW39: 3.69 | EX39: 0.05 | EY39: 0 | FQ39: 0 | FR39: =ROUND(IF(AND(BH39=3,BI39=3),P39,0),2) -> 0 | FS39: 0 | FT39: *0,9 | FU39: *0,85 | FX39: 94.5 | FY39: 46.75 | GD39: 0 | GF39: 686490124 | GG39: 1 | GH39: 1 | GI39: 4 | GJ39: 0 | GK39: =ROUND(R39*(R12)/100,2) -> 0 | GL39: =ROUND(IF(AND(BH39=3,BI39=3,FS39<>0),P39,0),2) -> 0 | GM39: =ROUND(O39+X39+Y39+GK39,2)+GX39 -> 4719.73 | GN39: =IF(OR(BI39=0,BI39=1),ROUND(O39+X39+Y39+GK39,2),0) -> 4719.73 | GO39: =IF(BI39=2,ROUND(O39+X39+Y39+GK39,2),0) -> 0 | GP39: =IF(BI39=4,ROUND(O39+X39+Y39+GK39,2)+GX39,0) -> 0 | GR39: 0 | GS39: 0 | GT39: 0 | GV39: =ROUND((GT39),2) -> 0 | GW39: 1 | GX39: =ROUND(HC39*I39,2) -> 0 | HA39: 0 | HB39: 0 | HC39: =GV39*GW39 -> 0 | IK39: 0
A40: 17 | B40: 1 | C40: =ROW(SmtRes!A48) -> 48 | D40: =ROW(EtalonRes!A51) -> 51 | E40: 10 | F40: 11-01-036-01 | G40: Устройство покрытий из линолеума на клее | H40: 100 м2 | I40: =ROUND(209.8/100,9) -> 2.098 | J40: 0 | O40: =ROUND(CP40,2) -> 5589.5 | P40: =ROUND(CQ40*I40,2) -> 12.81 | Q40: =ROUND(CR40*I40,2) -> 616.6 | R40: =ROUND(CS40*I40,2) -> 148.24 | S40: =ROUND(CT40*I40,2) -> 4960.09 | T40: =ROUND(CU40*I40,2) -> 0 | U40: =CV40*I40 -> 88.9552 | V40: =CW40*I40 -> 1.7833 | W40: =ROUND(CX40*I40,2) -> 0 | X40: =ROUND(CY40,2) -> 5670.25 | Y40: =ROUND(CZ40,2) -> 3269.33 | AA40: 16802145 | AB40: =ROUND((AC40+AD40+AF40),2) -> 397.05 | AC40: =ROUND((ES40),2) -> 0.91 | AD40: =ROUND((((ET40)-(EU40))+AE40),2) -> 43.8 | AE40: =ROUND((EU40),2) -> 10.53 | AF40: =ROUND((EV40),2) -> 352.34 | AG40: =ROUND((AP40),2) -> 0 | AH40: =(EW40) -> 42.4 | AI40: =(EX40) -> 0.85 | AJ40: =(AS40) -> 0 | AK40: 397.05 | AL40: 0.91 | AM40: 43.8 | AN40: 10.53 | AO40: 352.34 | AP40: 0 | AQ40: 42.4 | AR40: 0.85 | AS40: 0 | AT40: 111 | AU40: 64 | AV40: 1 | AW40: 1 | AZ40: 6.71 | BA40: 6.71 | BB40: 6.71 | BC40: 6.71 | BH40: 0 | BI40: 1 | BJ40: ФЕР-2001, 11-01-036-01, приказ Минстроя России №1039/пр от 30.12.2016г. | BM40: 11001 | BN40: 0 | BP40: 0 | BQ40: 2 | BR40: 0 | BS40: 6.71 | BT40: 1 | BU40: 1 | BV40: 1 | BW40: 1 | BX40: 1 | BZ40: 123 | CA40: 75 | CE40: 0 | CF40: 0 | CG40: 0 | CM40: 0 | CO40: 0 | CP40: =(P40+Q40+S40) -> 5589.5 | CQ40: =AC40*BC40 -> 6.1061 | CR40: =AD40*BB40 -> 293.898 | CS40: =AE40*BS40 -> 70.6563 | CT40: =AF40*BA40 -> 2364.2014 | CU40: =AG40 -> 0 | CV40: =AH40 -> 42.4 | CW40: =AI40 -> 0.85 | CX40: =AJ40 -> 0 | CY40: =(((S40+R40)*AT40)/100) -> 5670.2463 | CZ40: =(((S40+R40)*AU40)/100) -> 3269.3312 | DN40: 0 | DO40: 0 | DP40: 1 | DQ40: 1 | DU40: 1005 | DV40: 100 м2 | DW40: 100 м2 | DX40: 100 | EE40: 16510488 | EF40: 2 | EG40: Общестроительные работы | EH40: 0 | EJ40: 1 | EK40: 11001 | EL40: Полы | EM40: ФЕР-11 | EQ40: 131072 | ER40: 397.05 | ES40: 0.91 | ET40: 43.8 | EU40: 10.53 | EV40: 352.34 | EW40: 42.4 | EX40: 0.85 | EY40: 0 | FQ40: 0 | FR40: =ROUND(IF(AND(BH40=3,BI40=3),P40,0),2) -> 0 | FS40: 0 | FT40: *0,9 | FU40: *0,85 | FX40: 110.7 | FY40: 63.75 | GD40: 0 | GF40: 35623097 | GG40: 1 | GH40: 1 | GI40: 4 | GJ40: 0 | GK40: =ROUND(R40*(R12)/100,2) -> 0 | GL40: =ROUND(IF(AND(BH40=3,BI40=3,FS40<>0),P40,0),2) -> 0 | GM40: =ROUND(O40+X40+Y40+GK40,2)+GX40 -> 14529.08 | GN40: =IF(OR(BI40=0,BI40=1),ROUND(O40+X40+Y40+GK40,2),0) -> 14529.08 | GO40: =IF(BI40=2,ROUND(O40+X40+Y40+GK40,2),0) -> 0 | GP40: =IF(BI40=4,ROUND(O40+X40+Y40+GK40,2)+GX40,0) -> 0 | GR40: 0 | GS40: 0 | GT40: 0 | GV40: =ROUND((GT40),2) -> 0 | GW40: 1 | GX40: =ROUND(HC40*I40,2) -> 0 | HA40: 0 | HB40: 0 | HC40: =GV40*GW40 -> 0 | IK40: 0
A41: 18 | B41: 1 | C41: 44 | E41: 10,1 | F41: 01.6.03.04 | G41: Линолеум на теплозвукоизолирующей подоснове | H41: м2 | I41: =I40*J41 -> 213.996 | J41: 102 | O41: =ROUND(CP41,2) -> 0 | P41: =ROUND(CQ41*I41,2) -> 0 | Q41: =ROUND(CR41*I41,2) -> 0 | R41: =ROUND(CS41*I41,2) -> 0 | S41: =ROUND(CT41*I41,2) -> 0 | T41: =ROUND(CU41*I41,2) -> 0 | U41: =CV41*I41 -> 0 | V41: =CW41*I41 -> 0 | W41: =ROUND(CX41*I41,2) -> 0 | X41: =ROUND(CY41,2) -> 0 | Y41: =ROUND(CZ41,2) -> 0 | AA41: 16802145 | AB41: =ROUND((AC41+AD41+AF41),2) -> 0 | AC41: =ROUND((ES41),2) -> 0 | AD41: =ROUND((((ET41)-(EU41))+AE41),2) -> 0 | AE41: =ROUND((EU41),2) -> 0 | AF41: =ROUND((EV41),2) -> 0 | AG41: =ROUND((AP41),2) -> 0 | AH41: =(EW41) -> 0 | AI41: =(EX41) -> 0 | AJ41: =(AS41) -> 0 | AK41: 0 | AL41: 0 | AM41: 0 | AN41: 0 | AO41: 0 | AP41: 0 | AQ41: 0 | AR41: 0 | AS41: 0 | AT41: 111 | AU41: 64 | AV41: 1 | AW41: 1 | AZ41: 6.71 | BA41: 1 | BB41: 1 | BC41: 6.71 | BH41: 3 | BI41: 1 | BM41: 11001 | BN41: 0 | BP41: 0 | BQ41: 2 | BR41: 0 | BS41: 1 | BT41: 1 | BU41: 1 | BV41: 1 | BW41: 1 | BX41: 1 | BZ41: 123 | CA41: 75 | CE41: 0 | CF41: 0 | CG41: 0 | CM41: 0 | CO41: 0 | CP41: =(P41+Q41+S41) -> 0 | CQ41: =AC41*BC41 -> 0 | CR41: =AD41*BB41 -> 0 | CS41: =AE41*BS41 -> 0 | CT41: =AF41*BA41 -> 0 | CU41: =AG41 -> 0 | CV41: =AH41 -> 0 | CW41: =AI41 -> 0 | CX41: =AJ41 -> 0 | CY41: =(((S41+R41)*AT41)/100) -> 0 | CZ41: =(((S41+R41)*AU41)/100) -> 0 | DN41: 0 | DO41: 0 | DP41: 1 | DQ41: 1 | DU41: 1005 | DV41: м2 | DW41: м2 | DX41: 1 | EE41: 16510488 | EF41: 2 | EG41: Общестроительные работы | EH41: 0 | EJ41: 1 | EK41: 11001 | EL41: Полы | EM41: ФЕР-11 | EQ41: 0 | ER41: 0 | ES41: 0 | ET41: 0 | EU41: 0 | EV41: 0 | EW41: 0 | EX41: 0 | FQ41: 0 | FR41: =ROUND(IF(AND(BH41=3,BI41=3),P41,0),2) -> 0 | FS41: 0 | FT41: *0,9 | FU41: *0,85 | FX41: 110.7 | FY41: 63.75 | GD41: 0 | GF41: -919469713 | GG41: 1 | GH41: 1 | GI41: 4 | GJ41: 0 | GK41: =ROUND(R41*(R12)/100,2) -> 0 | GL41: =ROUND(IF(AND(BH41=3,BI41=3,FS41<>0),P41,0),2) -> 0 | GM41: =ROUND(O41+X41+Y41+GK41,2)+GX41 -> 0 | GN41: =IF(OR(BI41=0,BI41=1),ROUND(O41+X41+Y41+GK41,2),0) -> 0 | GO41: =IF(BI41=2,ROUND(O41+X41+Y41+GK41,2),0) -> 0 | GP41: =IF(BI41=4,ROUND(O41+X41+Y41+GK41,2)+GX41,0) -> 0 | GR41: 0 | GS41: 3 | GT41: 0 | GV41: =ROUND((GT41),2) -> 0 | GW41: 1 | GX41: =ROUND(HC41*I41,2) -> 0 | HA41: 0 | HB41: 0 | HC41: =GV41*GW41 -> 0 | IK41: 0
A42: 18 | B42: 1 | C42: 45 | E42: 10,2 | F42: 01.6.03.04-0101 | G42: Линолеум коммерческий гетерогенный "ТАРКЕТТ TRAVERTINE" (толщина 2 мм, толщина защитного слоя 0,5 мм, класс 33/41, пож. безопасность Г1, В2, РП1, Д2, Т2) | H42: м2 | I42: =I40*J42 -> 213.996 | J42: 102 | O42: =ROUND(CP42,2) -> 111283.27 | P42: =ROUND(CQ42*I42,2) -> 111283.27 | Q42: =ROUND(CR42*I42,2) -> 0 | R42: =ROUND(CS42*I42,2) -> 0 | S42: =ROUND(CT42*I42,2) -> 0 | T42: =ROUND(CU42*I42,2) -> 0 | U42: =CV42*I42 -> 0 | V42: =CW42*I42 -> 0 | W42: =ROUND(CX42*I42,2) -> 0 | X42: =ROUND(CY42,2) -> 0 | Y42: =ROUND(CZ42,2) -> 0 | AA42: 16802145 | AB42: =ROUND((AC42+AD42+AF42),2) -> 77.5 | AC42: =ROUND((ES42),2) -> 77.5 | AD42: =ROUND((((ET42)-(EU42))+AE42),2) -> 0 | AE42: =ROUND((EU42),2) -> 0 | AF42: =ROUND((EV42),2) -> 0 | AG42: =ROUND((AP42),2) -> 0 | AH42: =(EW42) -> 0 | AI42: =(EX42) -> 0 | AJ42: =(AS42) -> 0 | AK42: 77.5 | AL42: 77.5 | AM42: 0 | AN42: 0 | AO42: 0 | AP42: 0 | AQ42: 0 | AR42: 0 | AS42: 0 | AT42: 111 | AU42: 64 | AV42: 1 | AW42: 1 | AZ42: 6.71 | BA42: 1 | BB42: 1 | BC42: 6.71 | BH42: 3 | BI42: 1 | BJ42: ФССЦ-2001, 01.6.03.04-0101, приказ Минстроя России №1039/пр от 30.12.2016г. | BM42: 11001 | BN42: 0 | BP42: 0 | BQ42: 2 | BR42: 0 | BS42: 1 | BT42: 1 | BU42: 1 | BV42: 1 | BW42: 1 | BX42: 1 | BZ42: 123 | CA42: 75 | CE42: 0 | CF42: 0 | CG42: 0 | CM42: 0 | CO42: 0 | CP42: =(P42+Q42+S42) -> 111283.27 | CQ42: =AC42*BC42 -> 520.025 | CR42: =AD42*BB42 -> 0 | CS42: =AE42*BS42 -> 0 | CT42: =AF42*BA42 -> 0 | CU42: =AG42 -> 0 | CV42: =AH42 -> 0 | CW42: =AI42 -> 0 | CX42: =AJ42 -> 0 | CY42: =(((S42+R42)*AT42)/100) -> 0 | CZ42: =(((S42+R42)*AU42)/100) -> 0 | DN42: 0 | DO42: 0 | DP42: 1 | DQ42: 1 | DU42: 1005 | DV42: м2 | DW42: м2 | DX42: 1 | EE42: 16510488 | EF42: 2 | EG42: Общестроительные работы | EH42: 0 | EJ42: 1 | EK42: 11001 | EL42: Полы | EM42: ФЕР-11 | EQ42: 0 | ER42: 77.5 | ES42: 77.5 | ET42: 0 | EU42: 0 | EV42: 0 | EW42: 0 | EX42: 0 | FQ42: 0 | FR42: =ROUND(IF(AND(BH42=3,BI42=3),P42,0),2) -> 0 | FS42: 0 | FT42: *0,9 | FU42: *0,85 | FX42: 110.7 | FY42: 63.75 | GD42: 0 | GF42: 1392042579 | GG42: 1 | GH42: 1 | GI42: 4 | GJ42: 0 | GK42: =ROUND(R42*(R12)/100,2) -> 0 | GL42: =ROUND(IF(AND(BH42=3,BI42=3,FS42<>0),P42,0),2) -> 0 | GM42: =ROUND(O42+X42+Y42+GK42,2)+GX42 -> 111283.27 | GN42: =IF(OR(BI42=0,BI42=1),ROUND(O42+X42+Y42+GK42,2),0) -> 111283.27 | GO42: =IF(BI42=2,ROUND(O42+X42+Y42+GK42,2),0) -> 0 | GP42: =IF(BI42=4,ROUND(O42+X42+Y42+GK42,2)+GX42,0) -> 0 | GR42: 0 | GS42: 0 | GT42: 0 | GV42: =ROUND((GT42),2) -> 0 | GW42: 1 | GX42: =ROUND(HC42*I42,2) -> 0 | HA42: 0 | HB42: 0 | HC42: =GV42*GW42 -> 0 | IK42: 0
A43: 18 | B43: 1 | C43: 48 | E43: 10,3 | F43: 14.1.06.05 | G43: Состав клеящий | H43: кг | I43: =I40*J43 -> 104.9 | J43: 50 | O43: =ROUND(CP43,2) -> 0 | P43: =ROUND(CQ43*I43,2) -> 0 | Q43: =ROUND(CR43*I43,2) -> 0 | R43: =ROUND(CS43*I43,2) -> 0 | S43: =ROUND(CT43*I43,2) -> 0 | T43: =ROUND(CU43*I43,2) -> 0 | U43: =CV43*I43 -> 0 | V43: =CW43*I43 -> 0 | W43: =ROUND(CX43*I43,2) -> 0 | X43: =ROUND(CY43,2) -> 0 | Y43: =ROUND(CZ43,2) -> 0 | AA43: 16802145 | AB43: =ROUND((AC43+AD43+AF43),2) -> 0 | AC43: =ROUND((ES43),2) -> 0 | AD43: =ROUND((((ET43)-(EU43))+AE43),2) -> 0 | AE43: =ROUND((EU43),2) -> 0 | AF43: =ROUND((EV43),2) -> 0 | AG43: =ROUND((AP43),2) -> 0 | AH43: =(EW43) -> 0 | AI43: =(EX43) -> 0 | AJ43: =(AS43) -> 0 | AK43: 0 | AL43: 0 | AM43: 0 | AN43: 0 | AO43: 0 | AP43: 0 | AQ43: 0 | AR43: 0 | AS43: 0 | AT43: 111 | AU43: 64 | AV43: 1 | AW43: 1 | AZ43: 6.71 | BA43: 1 | BB43: 1 | BC43: 6.71 | BH43: 3 | BI43: 1 | BM43: 11001 | BN43: 0 | BP43: 0 | BQ43: 2 | BR43: 0 | BS43: 1 | BT43: 1 | BU43: 1 | BV43: 1 | BW43: 1 | BX43: 1 | BZ43: 123 | CA43: 75 | CE43: 0 | CF43: 0 | CG43: 0 | CM43: 0 | CO43: 0 | CP43: =(P43+Q43+S43) -> 0 | CQ43: =AC43*BC43 -> 0 | CR43: =AD43*BB43 -> 0 | CS43: =AE43*BS43 -> 0 | CT43: =AF43*BA43 -> 0 | CU43: =AG43 -> 0 | CV43: =AH43 -> 0 | CW43: =AI43 -> 0 | CX43: =AJ43 -> 0 | CY43: =(((S43+R43)*AT43)/100) -> 0 | CZ43: =(((S43+R43)*AU43)/100) -> 0 | DN43: 0 | DO43: 0 | DP43: 1 | DQ43: 1 | DU43: 1009 | DV43: кг | DW43: кг | DX43: 1 | EE43: 16510488 | EF43: 2 | EG43: Общестроительные работы | EH43: 0 | EJ43: 1 | EK43: 11001 | EL43: Полы | EM43: ФЕР-11 | EQ43: 0 | ER43: 0 | ES43: 0 | ET43: 0 | EU43: 0 | EV43: 0 | EW43: 0 | EX43: 0 | FQ43: 0 | FR43: =ROUND(IF(AND(BH43=3,BI43=3),P43,0),2) -> 0 | FS43: 0 | FT43: *0,9 | FU43: *0,85 | FX43: 110.7 | FY43: 63.75 | GD43: 0 | GF43: 290394019 | GG43: 1 | GH43: 1 | GI43: 4 | GJ43: 0 | GK43: =ROUND(R43*(R12)/100,2) -> 0 | GL43: =ROUND(IF(AND(BH43=3,BI43=3,FS43<>0),P43,0),2) -> 0 | GM43: =ROUND(O43+X43+Y43+GK43,2)+GX43 -> 0 | GN43: =IF(OR(BI43=0,BI43=1),ROUND(O43+X43+Y43+GK43,2),0) -> 0 | GO43: =IF(BI43=2,ROUND(O43+X43+Y43+GK43,2),0) -> 0 | GP43: =IF(BI43=4,ROUND(O43+X43+Y43+GK43,2)+GX43,0) -> 0 | GR43: 0 | GS43: 3 | GT43: 0 | GV43: =ROUND((GT43),2) -> 0 | GW43: 1 | GX43: =ROUND(HC43*I43,2) -> 0 | HA43: 0 | HB43: 0 | HC43: =GV43*GW43 -> 0 | IK43: 0
A44: 18 | B44: 1 | C44: 47 | E44: 10,4 | F44: 14.1.02.03-0002 | G44: Клей ПВА | H44: кг | I44: =I40*J44 -> 104.9 | J44: 50 | O44: =ROUND(CP44,2) -> 11191.68 | P44: =ROUND(CQ44*I44,2) -> 11191.68 | Q44: =ROUND(CR44*I44,2) -> 0 | R44: =ROUND(CS44*I44,2) -> 0 | S44: =ROUND(CT44*I44,2) -> 0 | T44: =ROUND(CU44*I44,2) -> 0 | U44: =CV44*I44 -> 0 | V44: =CW44*I44 -> 0 | W44: =ROUND(CX44*I44,2) -> 0 | X44: =ROUND(CY44,2) -> 0 | Y44: =ROUND(CZ44,2) -> 0 | AA44: 16802145 | AB44: =ROUND((AC44+AD44+AF44),2) -> 15.9 | AC44: =ROUND((ES44),2) -> 15.9 | AD44: =ROUND((((ET44)-(EU44))+AE44),2) -> 0 | AE44: =ROUND((EU44),2) -> 0 | AF44: =ROUND((EV44),2) -> 0 | AG44: =ROUND((AP44),2) -> 0 | AH44: =(EW44) -> 0 | AI44: =(EX44) -> 0 | AJ44: =(AS44) -> 0 | AK44: 15.9 | AL44: 15.9 | AM44: 0 | AN44: 0 | AO44: 0 | AP44: 0 | AQ44: 0 | AR44: 0 | AS44: 0 | AT44: 111 | AU44: 64 | AV44: 1 | AW44: 1 | AZ44: 6.71 | BA44: 1 | BB44: 1 | BC44: 6.71 | BH44: 3 | BI44: 1 | BJ44: ФССЦ-2001, 14.1.02.03-0002, приказ Минстроя России №1039/пр от 30.12.2016г. | BM44: 11001 | BN44: 0 | BP44: 0 | BQ44: 2 | BR44: 0 | BS44: 1 | BT44: 1 | BU44: 1 | BV44: 1 | BW44: 1 | BX44: 1 | BZ44: 123 | CA44: 75 | CE44: 0 | CF44: 0 | CG44: 0 | CM44: 0 | CO44: 0 | CP44: =(P44+Q44+S44) -> 11191.68 | CQ44: =AC44*BC44 -> 106.689 | CR44: =AD44*BB44 -> 0 | CS44: =AE44*BS44 -> 0 | CT44: =AF44*BA44 -> 0 | CU44: =AG44 -> 0 | CV44: =AH44 -> 0 | CW44: =AI44 -> 0 | CX44: =AJ44 -> 0 | CY44: =(((S44+R44)*AT44)/100) -> 0 | CZ44: =(((S44+R44)*AU44)/100) -> 0 | DN44: 0 | DO44: 0 | DP44: 1 | DQ44: 1 | DU44: 1009 | DV44: кг | DW44: кг | DX44: 1 | EE44: 16510488 | EF44: 2 | EG44: Общестроительные работы | EH44: 0 | EJ44: 1 | EK44: 11001 | EL44: Полы | EM44: ФЕР-11 | EQ44: 0 | ER44: 15.9 | ES44: 15.9 | ET44: 0 | EU44: 0 | EV44: 0 | EW44: 0 | EX44: 0 | FQ44: 0 | FR44: =ROUND(IF(AND(BH44=3,BI44=3),P44,0),2) -> 0 | FS44: 0 | FT44: *0,9 | FU44: *0,85 | FX44: 110.7 | FY44: 63.75 | GD44: 0 | GF44: 1104462431 | GG44: 1 | GH44: 1 | GI44: 4 | GJ44: 0 | GK44: =ROUND(R44*(R12)/100,2) -> 0 | GL44: =ROUND(IF(AND(BH44=3,BI44=3,FS44<>0),P44,0),2) -> 0 | GM44: =ROUND(O44+X44+Y44+GK44,2)+GX44 -> 11191.68 | GN44: =IF(OR(BI44=0,BI44=1),ROUND(O44+X44+Y44+GK44,2),0) -> 11191.68 | GO44: =IF(BI44=2,ROUND(O44+X44+Y44+GK44,2),0) -> 0 | GP44: =IF(BI44=4,ROUND(O44+X44+Y44+GK44,2)+GX44,0) -> 0 | GR44: 0 | GS44: 0 | GT44: 0 | GV44: =ROUND((GT44),2) -> 0 | GW44: 1 | GX44: =ROUND(HC44*I44,2) -> 0 | HA44: 0 | HB44: 0 | HC44: =GV44*GW44 -> 0 | IK44: 0
A45: 17 | B45: 1 | C45: =ROW(SmtRes!A66) -> 66 | D45: =ROW(EtalonRes!A63) -> 63 | E45: 11 | F45: 11-01-040-03 | G45: Устройство плинтусов поливинилхлоридных на винтах самонарезающих | H45: 100 м | I45: =ROUND(125.46/100,9) -> 1.2546 | J45: 0 | O45: =ROUND(CP45,2) -> 1236.07 | P45: =ROUND(CQ45*I45,2) -> 619.93 | Q45: =ROUND(CR45*I45,2) -> 22.48 | R45: =ROUND(CS45*I45,2) -> 4.46 | S45: =ROUND(CT45*I45,2) -> 593.66 | T45: =ROUND(CU45*I45,2) -> 0 | U45: =CV45*I45 -> 9.6378372 | V45: =CW45*I45 -> 0.06273 | W45: =ROUND(CX45*I45,2) -> 0 | X45: =ROUND(CY45,2) -> 663.91 | Y45: =ROUND(CZ45,2) -> 382.8 | AA45: 16802145 | AB45: =ROUND((AC45+AD45+AF45),2) -> 146.83 | AC45: =ROUND((ES45),2) -> 73.64 | AD45: =ROUND(((((ET45*1.25))-((EU45*1.25)))+AE45),2) -> 2.67 | AE45: =ROUND(((EU45*1.25)),2) -> 0.53 | AF45: =ROUND(((EV45*1.15)),2) -> 70.52 | AG45: =ROUND((AP45),2) -> 0 | AH45: =((EW45*1.15)) -> 7.682 | AI45: =((EX45*1.25)) -> 0.05 | AJ45: =(AS45) -> 0 | AK45: 137.09 | AL45: 73.64 | AM45: 2.13 | AN45: 0.42 | AO45: 61.32 | AP45: 0 | AQ45: 6.68 | AR45: 0.04 | AS45: 0 | AT45: 111 | AU45: 64 | AV45: 1 | AW45: 1 | AZ45: 6.71 | BA45: 6.71 | BB45: 6.71 | BC45: 6.71 | BH45: 0 | BI45: 1 | BJ45: ФЕР-2001, 11-01-040-03, приказ Минстроя России №1039/пр от 30.12.2016г. | BM45: 11001 | BN45: 0 | BP45: 0 | BQ45: 2 | BR45: 0 | BS45: 6.71 | BT45: 1 | BU45: 1 | BV45: 1 | BW45: 1 | BX45: 1 | BZ45: 123 | CA45: 75 | CE45: 0 | CF45: 0 | CG45: 0 | CM45: 0 | CN45: Поправка: МДС 81-35.2004, п.4.7 Наименование: Работы, выполняемые при реконструкции зданий и сооружений работы, аналогичные технологическим процессам в новом строительстве (в том числе возведение новых конструктивных элементов) стоимость которых определена по соответствующим сборникам ФЕР, кроме сборника № 46 «Работы при реконструкции зданий и сооружений» | CO45: 0 | CP45: =(P45+Q45+S45) -> 1236.07 | CQ45: =AC45*BC45 -> 494.1244 | CR45: =AD45*BB45 -> 17.9157 | CS45: =AE45*BS45 -> 3.5563 | CT45: =AF45*BA45 -> 473.1892 | CU45: =AG45 -> 0 | CV45: =AH45 -> 7.682 | CW45: =AI45 -> 0.05 | CX45: =AJ45 -> 0 | CY45: =(((S45+R45)*AT45)/100) -> 663.9132 | CZ45: =(((S45+R45)*AU45)/100) -> 382.7968 | DE45: )*1,25 | DF45: )*1,25 | DG45: )*1,15 | DI45: )*1,15 | DJ45: )*1,25 | DN45: 0 | DO45: 0 | DP45: 1 | DQ45: 1 | DU45: 1003 | DV45: 100 м | DW45: 100 м | DX45: 100 | EE45: 16510488 | EF45: 2 | EG45: Общестроительные работы | EH45: 0 | EJ45: 1 | EK45: 11001 | EL45: Полы | EM45: ФЕР-11 | EO45: Поправка: МДС 81-35.2004, п.4.7 | EQ45: 131072 | ER45: 137.09 | ES45: 73.64 | ET45: 2.13 | EU45: 0.42 | EV45: 61.32 | EW45: 6.68 | EX45: 0.04 | EY45: 0 | FQ45: 0 | FR45: =ROUND(IF(AND(BH45=3,BI45=3),P45,0),2) -> 0 | FS45: 0 | FT45: *0,9 | FU45: *0,85 | FX45: 110.7 | FY45: 63.75 | GD45: 0 | GF45: -1404287246 | GG45: 1 | GH45: 1 | GI45: 4 | GJ45: 0 | GK45: =ROUND(R45*(R12)/100,2) -> 0 | GL45: =ROUND(IF(AND(BH45=3,BI45=3,FS45<>0),P45,0),2) -> 0 | GM45: =ROUND(O45+X45+Y45+GK45,2)+GX45 -> 2282.78 | GN45: =IF(OR(BI45=0,BI45=1),ROUND(O45+X45+Y45+GK45,2),0) -> 2282.78 | GO45: =IF(BI45=2,ROUND(O45+X45+Y45+GK45,2),0) -> 0 | GP45: =IF(BI45=4,ROUND(O45+X45+Y45+GK45,2)+GX45,0) -> 0 | GR45: 0 | GS45: 0 | GT45: 0 | GV45: =ROUND((GT45),2) -> 0 | GW45: 1 | GX45: =ROUND(HC45*I45,2) -> 0 | HA45: 0 | HB45: 0 | HC45: =GV45*GW45 -> 0 | IK45: 0
