Workbook

Sheet Смета 12 гр. по ФЕР
A1: =Source!B1 -> Smeta.RU (495) 974-1589 | I1: Приложение 1 к форме 7
B5: СМЕТА
B9: Капитальный ремонт учебных аудиторий №25 (В-115), № 26 (В-117), № 27 (В-119), № 28 (В-121) 1-го этажа лабораторного корпуса "В" НИЯУ МИФИ по адресу: г. Москва, Каширское шоссе д. 31, стр. 16 | AD9: =IF(Source!G12<>"Новый объект", Source!G12, "") -> Капитальный ремонт помещений первого этажа лабораторного корпуса В НИЯУ МИФИ
G14: базовая цена | I14: текущая цена
C15: Сметная стоимость | G15: =SUM(O1:O676)/1000 -> 263.62789 | I15: =(Source!P608/1000) -> 2074.7925 | K15: тыс. руб.
C16: Строительные работы | G16: =SUM(W1:W676)/1000 -> 177.26115 | I16: =(Source!P590)/1000 -> 1157.8912 | K16: тыс. руб.
G17: =SUM(X1:X676)/1000 -> 83.40951 | I17: =(Source!P591)/1000 -> 544.6638 | K17: тыс. руб.
C18: Оборудование | G18: =SUM(Y1:Y676)/1000 -> 0 | I18: =(Source!P582)/1000 -> 0 | K18: тыс. руб.
C19: Прочие работы | G19: =SUM(Z1:Z676)/1000 -> 2.95723 | I19: =(Source!P592+Source!P593)/1000 -> 55.74371 | K19: тыс. руб.
C20: Нормативная трудоемкость | G20: =I20 -> 2988.2792 | I20: =(Source!P595+Source!P596) -> 2988.2792 | K20: чел. -ч.
C21: Средства на оплату труда | G21: =SUM(R1:R676)/1000 -> 26.58291 | I21: =((Source!P588 + Source!P587)/1000) -> 191.35864 | K21: тыс. руб.
A23: Составлена в ценах 1 квартал 2018 года
A24: № п/п | B24: Шифр расценки и коды ресурсов | C24: Наименование работ и затрат | D24: Ед. изм. | E24: Кол-во единиц | F24: Цена на ед. изм. | G24: Попра-вочные коэфф. | H24: Стоимость в ценах 2001г. | I24: Пункт коэфф. пересчета | J24: Коэфф. пересчета | K24: Стоимость в текущих ценах | L24: ЗТР всего чел.-час
A25: 1 | B25: 2 | C25: 3 | D25: 4 | E25: 5 | F25: 6 | G25: 7 | H25: 8 | I25: 9 | J25: 10 | K25: 11 | L25: 12
A26: =CONCATENATE("Раздел: ",IF(Source!G24<>"Новый раздел", Source!G24, "")) -> Раздел: Раздел Общестроительные работы
A27: =Source!E29 -> 1 | B27: =Source!F29 -> 09-04-012-01 | C27: =Source!G29 -> Демонтаж : Установка металлических дверных блоков в готовые проемы | D27: =Source!H29 -> м2 | E27: =Source!I29 -> 13.8 | F27: =Source!AL29+Source!AM29+Source!AO29 -> 63.94 | I27: =Source!BO29 | S27: =ROUND((Source!FX29/100)*((ROUND(Source!AF29*Source!I29, 2)+ROUND(Source!AE29*Source!I29, 2))), 2) -> 201.71 | T27: =Source!X29 -> 1317.22 | U27: =ROUND((Source!FY29/100)*((ROUND(Source!AF29*Source!I29, 2)+ROUND(Source!AE29*Source!I29, 2))), 2) -> 179.92 | V27: =Source!Y29 -> 1170.86
C28: Зарплата | F28: =Source!AO29 -> 23.81 | G28: =Source!DG29 -> )*0,7 | H28: =ROUND(Source!AF29*Source!I29, 2) -> 230 | J28: =IF(Source!BA29<> 0, Source!BA29, 1) -> 6.53 | K28: =Source!S29 -> 1501.93 | R28: =H28 -> 230
C29: Эксплуатация машин | F29: =Source!AM29 -> 14.41 | G29: =Source!DE29 -> )*0,7 | H29: =ROUND(Source!AD29*Source!I29, 2) -> 139.2 | J29: =IF(Source!BB29<> 0, Source!BB29, 1) -> 6.53 | K29: =Source!Q29 -> 908.98
C30: в т.ч. зарплата машинистов | F30: =Source!AN29 -> 1.97 | G30: =Source!DF29 -> )*0,7 | H30: =ROUND(Source!AE29*Source!I29, 2) -> 19.03 | J30: =IF(Source!BS29<> 0, Source!BS29, 1) -> 6.53 | K30: =Source!R29 -> 124.27 | R30: =H30 -> 19.03
C31: НР от ФОТ | D31: % | E31: =Source!BZ29 -> 90 | F31: =CONCATENATE(" )", Source!DL29, Source!FT29, "=", Source!FX29) -> )*0,9=81 | H31: =SUM(S27:S33) -> 201.71 | J31: =Source!AT29 -> 81 | K31: =SUM(T27:T33) -> 1317.22
C32: СП от ФОТ | D32: % | E32: =Source!CA29 -> 85 | F32: =CONCATENATE(" )", Source!DM29, Source!FU29, "=", Source!FY29) -> )*0,85=72,25 | H32: =SUM(U27:U33) -> 179.92 | J32: =Source!AU29 -> 72 | K32: =SUM(V27:V33) -> 1170.86
C33: Затраты труда | D33: чел-ч | E33: =Source!AQ29 -> 2.4 | G33: =Source!DI29 -> )*0,7 | L33: =Source!U29 -> 23.184
G34: =H28+H29+H31+H32 -> 750.83 | J34: =K28+K29+K31+K32 -> 4898.99 | L34: =Source!U29 -> 23.184 | O34: =G34 -> 750.83 | P34: =J34 -> 4898.99 | Q34: =L34 -> 23.184 | W34: =IF(Source!BI29<=1,H28+H29+H31+H32, 0) -> 750.83 | X34: =IF(Source!BI29=2,H28+H29+H31+H32, 0) -> 0 | Y34: =IF(Source!BI29=3,H28+H29+H31+H32, 0) -> 0 | Z34: =IF(Source!BI29=4,H28+H29+H31+H32, 0) -> 0
A35: =Source!E31 -> 2 | B35: =Source!F31 -> 46-04-012-03 | C35: =Source!G31 -> Разборка деревянных заполнений проемов дверных и воротных | D35: =Source!H31 -> 100 м2 | E35: =Source!I31 -> 0.276 | F35: =Source!AL31+Source!AM31+Source!AO31 -> 1082.58 | I35: =Source!BO31 | S35: =ROUND((Source!FX31/100)*((ROUND(Source!AF31*Source!I31, 2)+ROUND(Source!AE31*Source!I31, 2))), 2) -> 258.24 | T35: =Source!X31 -> 1686.34 | U35: =ROUND((Source!FY31/100)*((ROUND(Source!AF31*Source!I31, 2)+ROUND(Source!AE31*Source!I31, 2))), 2) -> 155.21 | V35: =Source!Y31 -> 1022.02
C36: ="Объем: "&Source!I31&"=27,6/"&"100" -> Объем: 0,276=27,6/100
C37: Зарплата | F37: =Source!AO31 -> 840.63 | G37: =Source!DG31 | H37: =ROUND(Source!AF31*Source!I31, 2) -> 232.01 | J37: =IF(Source!BA31<> 0, Source!BA31, 1) -> 6.53 | K37: =Source!S31 -> 1515.05 | R37: =H37 -> 232.01
C38: Эксплуатация машин | F38: =Source!AM31 -> 241.95 | G38: =Source!DE31 | H38: =ROUND(Source!AD31*Source!I31, 2) -> 66.78 | J38: =IF(Source!BB31<> 0, Source!BB31, 1) -> 6.53 | K38: =Source!Q31 -> 436.06
C39: в т.ч. зарплата машинистов | F39: =Source!AN31 -> 104.49 | G39: =Source!DF31 | H39: =ROUND(Source!AE31*Source!I31, 2) -> 28.84 | J39: =IF(Source!BS31<> 0, Source!BS31, 1) -> 6.53 | K39: =Source!R31 -> 188.32 | R39: =H39 -> 28.84
C40: НР от ФОТ | D40: % | E40: =Source!BZ31 -> 110 | F40: =CONCATENATE(" )", Source!DL31, Source!FT31, "=", Source!FX31) -> )*0,9=99 | H40: =SUM(S35:S42) -> 258.24 | J40: =Source!AT31 -> 99 | K40: =SUM(T35:T42) -> 1686.34
C41: СП от ФОТ | D41: % | E41: =Source!CA31 -> 70 | F41: =CONCATENATE(" )", Source!DM31, Source!FU31, "=", Source!FY31) -> )*0,85=59,5 | H41: =SUM(U35:U42) -> 155.21 | J41: =Source!AU31 -> 60 | K41: =SUM(V35:V42) -> 1022.02
C42: Затраты труда | D42: чел-ч | E42: =Source!AQ31 -> 103.91 | G42: =Source!DI31 | L42: =Source!U31 -> 28.67916
G43: =H37+H38+H40+H41 -> 712.24 | J43: =K37+K38+K40+K41 -> 4659.47 | L43: =Source!U31 -> 28.67916 | O43: =G43 -> 712.24 | P43: =J43 -> 4659.47 | Q43: =L43 -> 28.67916 | W43: =IF(Source!BI31<=1,H37+H38+H40+H41, 0) -> 712.24 | X43: =IF(Source!BI31=2,H37+H38+H40+H41, 0) -> 0 | Y43: =IF(Source!BI31=3,H37+H38+H40+H41, 0) -> 0 | Z43: =IF(Source!BI31=4,H37+H38+H40+H41, 0) -> 0
A44: =Source!E33 -> 3 | B44: =Source!F33 -> 10-01-036-01 | C44: =Source!G33 -> Демонтаж: Установка уголков ПВХ на клее | D44: =Source!H33 -> 100 м | E44: =Source!I33 -> 0.5696 | F44: =Source!AL33+Source!AM33+Source!AO33 -> 93.15 | I44: =Source!BO33 | S44: =ROUND((Source!FX33/100)*((ROUND(Source!AF33*Source!I33, 2)+ROUND(Source!AE33*Source!I33, 2))), 2) -> 27.65 | T44: =Source!X33 -> 180.25 | U44: =ROUND((Source!FY33/100)*((ROUND(Source!AF33*Source!I33, 2)+ROUND(Source!AE33*Source!I33, 2))), 2) -> 13.94 | V44: =Source!Y33 -> 91.83
C45: ="Объем: "&Source!I33&"=56,96/"&"100" -> Объем: 0,5696=56,96/100
C46: Зарплата | F46: =Source!AO33 -> 57.15 | G46: =Source!DG33 -> )*0,8 | H46: =ROUND(Source!AF33*Source!I33, 2) -> 26.04 | J46: =IF(Source!BA33<> 0, Source!BA33, 1) -> 6.53 | K46: =Source!S33 -> 170.05 | R46: =H46 -> 26.04
C47: НР от ФОТ | D47: % | E47: =Source!BZ33 -> 118 | F47: =CONCATENATE(" )", Source!DL33, Source!FT33, "=", Source!FX33) -> )*0,9=106,2 | H47: =SUM(S44:S49) -> 27.65 | J47: =Source!AT33 -> 106 | K47: =SUM(T44:T49) -> 180.25
C48: СП от ФОТ | D48: % | E48: =Source!CA33 -> 63 | F48: =CONCATENATE(" )", Source!DM33, Source!FU33, "=", Source!FY33) -> )*0,85=53,55 | H48: =SUM(U44:U49) -> 13.94 | J48: =Source!AU33 -> 54 | K48: =SUM(V44:V49) -> 91.83
C49: Затраты труда | D49: чел-ч | E49: =Source!AQ33 -> 6.7 | G49: =Source!DI33 -> )*0,8 | L49: =Source!U33 -> 3.053056
G50: =H46+H47+H48 -> 67.63 | J50: =K46+K47+K48 -> 442.13 | L50: =Source!U33 -> 3.053056 | O50: =G50 -> 67.63 | P50: =J50 -> 442.13 | Q50: =L50 -> 3.053056 | W50: =IF(Source!BI33<=1,H46+H47+H48, 0) -> 67.63 | X50: =IF(Source!BI33=2,H46+H47+H48, 0) -> 0 | Y50: =IF(Source!BI33=3,H46+H47+H48, 0) -> 0 | Z50: =IF(Source!BI33=4,H46+H47+H48, 0) -> 0
A51: =Source!E35 -> 4 | B51: =Source!F35 -> 09-03-046-01 | C51: =Source!G35 -> Демонтаж : Монтаж перегородок из алюминиевых сплавов сборно-разборных с остеклением | D51: =Source!H35 -> 100 м2 | E51: =Source!I35 -> 0.5361 | F51: =Source!AL35+Source!AM35+Source!AO35 -> 4111.26 | I51: =Source!BO35 | S51: =ROUND((Source!FX35/100)*((ROUND(Source!AF35*Source!I35, 2)+ROUND(Source!AE35*Source!I35, 2))), 2) -> 1003.3 | T51: =Source!X35 -> 6551.49 | U51: =ROUND((Source!FY35/100)*((ROUND(Source!AF35*Source!I35, 2)+ROUND(Source!AE35*Source!I35, 2))), 2) -> 894.92 | V51: =Source!Y35 -> 5823.55
...

Sheet Акт КС-2 c НР и СП
A1: =Source!B1 -> Smeta.RU (495) 974-1589
E2: Унифицированная форма № КС-2
E3: Утверждена постановлением Госкомстата России
E4: от 11.11.99. № 100
G6: Код
F7: Форма по ОКУД | G7: 0322005
G8: =IF(Source!AT15 <> "", Source!AT15, "")
A9: Инвестор | C9: =IF(Source!BA15 <> "", Source!BA15, IF(Source!AU15 <> "", Source!AU15, "")) | F9: по ОКПО
C10: организация, адрес, телефон, факс | G10: =IF(Source!AK15 <> "", Source!AK15, "")
A11: Заказчик | C11: =IF(Source!AX12<> "", Source!AX12, IF(Source!AJ12 <> "", Source!AJ12, "")) | F11: по ОКПО
C12: организация, адрес, телефон, факс | G12: =IF(Source!AO15 <> "", Source!AO15, "")
A13: Подрядчик | C13: =IF(Source!AY12<> "", Source!AY12, IF(Source!AN12 <> "", Source!AN12, "")) | F13: по ОКПО
C14: организация, адрес, телефон, факс | G14: =IF(Source!CO15 <> "", Source!CO15, "")
A15: Стройка | C15: Капитальный ремонт помещений первого этажа лабораторного корпуса В НИЯУ МИФИ | AE15: Капитальный ремонт помещений первого этажа лабораторного корпуса В НИЯУ МИФИ
C16: наименование, адрес | G16: =IF(Source!CP15 <> "", Source!CP15, "")
A17: Объект | C17: =IF(Source!G12<>"Новый объект", Source!G12, "") -> Капитальный ремонт помещений первого этажа лабораторного корпуса В НИЯУ МИФИ | AE17: =IF(Source!G12<>"Новый объект", Source!G12, "") -> Капитальный ремонт помещений первого этажа лабораторного корпуса В НИЯУ МИФИ
C18: наименование
D19: Вид деятельности по ОКДП | G19: =IF(Source!CQ15 <> "", Source!CQ15, "")
D20: Договор подряда | F20: номер | G20: =IF(Source!CR15 <> "", Source!CR15, "")
F21: дата | G21: =IF(Source!CS15 <> 0, Source!CS15, "")
F22: Вид операции | G22: =IF(Source!CT15 <> "", Source!CT15, "")
D24: Номер документа | E24: Дата составления | F24: Отчетный период
F25: с | G25: по
D26: =IF(Source!CN15 <> "", Source!CN15, "") | E26: 43252.461
A28: AKT
A29: О ПРИЕМКЕ ВЫПОЛНЕННЫХ РАБОТ
A31: Сметная (договорная) стоимость в соответствии с договором подряда (субподряда) | F31: =(Source!P608/1000) -> 2074.7925 | H31: тыс.руб
A33: Номер | C33: Наименование работ | D33: Номер единичной расценки | E33: Единица измерения | F33: Выполнено работ
A34: по порядку | B34: поз. по смете | F34: Количество | G34: цена за единицу, руб | H34: стоимость, руб
A35: 1 | B35: 2 | C35: 3 | D35: 4 | E35: 5 | F35: 6 | G35: 7 | H35: 8
A37: =CONCATENATE("Локальная смета: ",IF(Source!G20<>"Новая локальная смета", Source!G20, "")) -> Локальная смета:
A39: =CONCATENATE("Раздел: ",IF(Source!G24<>"Новый раздел", Source!G24, "")) -> Раздел: Раздел Общестроительные работы
A40: 1 | B40: =Source!E29 -> 1 | C40: =Source!G29 -> Демонтаж : Установка металлических дверных блоков в готовые проемы | D40: =Source!F29 -> 09-04-012-01 | E40: =Source!H29 -> м2 | F40: =Source!I29 -> 13.8 | G40: =Source!AB29 -> 26.754 | H40: =Source!O29 -> 2410.91 | T40: =Source!O29+Source!X29+Source!Y29 -> 4898.99 | U40: =Source!P29 -> 0 | V40: =Source!S29 -> 1501.93 | W40: =Source!Q29 -> 908.98 | X40: =Source!R29 -> 124.27 | Y40: =Source!U29 -> 23.184 | Z40: =Source!V29 -> 1.6422 | AA40: =Source!X29 -> 1317.22 | AB40: =Source!Y29 -> 1170.86
C41: Коэфф. к ОЗП | D41: =Source!BA29 -> 6.53
C42: Коэфф. к эксплуатации машин | D42: =Source!BB29 -> 6.53
C43: Коэфф. к материалам | D43: =Source!BC29 -> 6.53
C44: Коэфф. к ЗПМ | D44: =Source!BS29 -> 6.53
C45: Стоимость материалов | D45: )*0
C46: Эксплуатация машин | D46: )*0,7
C47: Оплата труда машинистов | D47: )*0,7
...

Sheet Source
A1: 0 | B1: Smeta.RU (495) 974-1589 | D1: _PS_ | F1: 0 | G1: 0 | H1: 0 | I1: Smeta.RU | J1: НИЯУ МИФИ Доп. раб. место MCCS-0027251 | K1: 0 | L1: 27251 | M1: 10
A12: 1 | B12: 639 | C12: 0 | D12: =ROW(A573) -> 573 | E12: 0 | G12: Капитальный ремонт помещений первого этажа лабораторного корпуса В НИЯУ МИФИ | I12: 0 | K12: 0 | O12: 0 | P12: 0 | Q12: 0 | R12: 0 | S12: 0 | V12: 0 | BH12: Сметные нормы списания | BI12: Коды ценников | BJ12: 1 | BK12: 1 | BL12: 0 | BM12: 0 | BN12: 1 | BO12: 0 | BP12: 6 | BQ12: 2 | BR12: 1 | BS12: 1 | BT12: 0 | BU12: 0 | BV12: 0 | BW12: 0 | BX12: 0 | BY12: ФЕР-2017 | BZ12: ТР для Версии 10: Центральные регионы (с учетом п-ма 2536-ИП/12/ГС от 22.03.2017 г | CA12: ФЕР-2017 | CB12: ФЕР-2017 | CC12: ФЕР-2017 | CD12: ФЕР-2017 | CE12: Поправки для ГСН 2017 от 31.03.2017 г | CF12: 0 | CG12: 0 | CH12: 524296 | CK12: 4 | EC12: 0
A15: 15 | B15: 1
A18: 52 | B18: =B573 -> 639 | C18: =C573 -> 1 | D18: =D573 -> 12 | E18: =E573 -> 0 | F18: =F573 | G18: =G573 -> Капитальный ремонт помещений первого этажа лабораторного корпуса В НИЯУ МИФИ | O18: =O573 -> 225058.71 | P18: =P573 -> 194749.31 | Q18: =Q573 -> 4406.46 | R18: =R573 -> 679.97 | S18: =S573 -> 25902.94 | T18: =T573 -> 0 | U18: =U573 -> 2927.0809 | V18: =V573 -> 61.198355 | ... GX18: =GX573 -> 0
A20: 3 | B20: 1 | D20: =ROW(A536) -> 536 | F20: Новая локальная смета | G20: Новая локальная смета | I20: 0 | K20: 0 | V20: 0 | BX20: 0 | CF20: 0 | CG20: 0
A22: 52 | B22: =B536 -> 1 | C22: =C536 -> 3 | D22: =D536 -> 20 | E22: =E536 -> 0 | F22: =F536 -> Новая локальная смета | G22: =G536 -> Новая локальная смета | O22: =O536 -> 225058.71 | P22: =P536 -> 194749.31 | Q22: =Q536 -> 4406.46 | R22: =R536 -> 679.97 | S22: =S536 -> 25902.94 | T22: =T536 -> 0 | U22: =U536 -> 2927.0809 | V22: =V536 -> 61.198355 | ... GX22: =GX536 -> 0
A24: 4 | B24: 1 | D24: =ROW(A165) -> 165 | F24: Новый раздел | G24: Раздел Общестроительные работы | I24: 0 | K24: 0 | V24: 0 | BX24: 0 | CJ24: 0
A26: 52 | B26: =B165 -> 1 | C26: =C165 -> 4 | D26: =D165 -> 24 | E26: =E165 -> 0 | F26: =F165 -> Новый раздел | G26: =G165 -> Раздел Общестроительные работы | O26: =O165 -> 143435.03 | P26: =P165 -> 121594.05 | Q26: =Q165 -> 3835.22 | R26: =R165 -> 612.55 | S26: =S165 -> 18005.76 | T26: =T165 -> 0 | U26: =U165 -> 2102.4735 | V26: =V165 -> 55.890315 | ... GX26: =GX165 -> 0
A28: 17 | B28: 1 | C28: =ROW(SmtRes!A7) -> 7 | D28: =ROW(EtalonRes!A9) -> 9 | E28: 1 | F28: 09-04-012-01 | G28: Демонтаж : Установка металлических дверных блоков в готовые проемы | H28: м2 | I28: 13.8 | J28: 0 | O28: =ROUND(CP28,2) -> 369.2 | P28: =ROUND(CQ28*I28,2) -> 0 | Q28: =ROUND(CR28*I28,2) -> 139.2 | R28: =ROUND(CS28*I28,2) -> 19.03 | S28: =ROUND(CT28*I28,2) -> 230 | T28: =ROUND(CU28*I28,2) -> 0 | U28: =CV28*I28 -> 23.184 | V28: =CW28*I28 -> 1.6422 | W28: =ROUND(CX28*I28,2) -> 0 | X28: =ROUND(CY28,2) -> 201.71 | Y28: =ROUND(CZ28,2) -> 179.3 | AA28: 16483241 | AB28: =ROUND((AC28+AD28+AF28),6) -> 26.754 | AC28: =ROUND(((ES28*0)),6) -> 0 | AD28: =ROUND(((((ET28*0.7))-((EU28*0.7)))+AE28),6) -> 10.087 | AE28: =ROUND(((EU28*0.7)),6) -> 1.379 | AF28: =ROUND(((EV28*0.7)),6) -> 16.667 | AG28: =ROUND((AP28),6) -> 0 | AH28: =((EW28*0.7)) -> 1.68 | AI28: =((EX28*0.7)) -> 0.119 | AJ28: =ROUND((AS28),6) -> 0 | AK28: 63.94 | AL28: 25.72 | AM28: 14.41 | AN28: 1.97 | AO28: 23.81 | AP28: 0 | AQ28: 2.4 | AR28: 0.17 | AS28: 0 | AT28: 81 | AU28: 72 | AV28: 1 | AW28: 1 | AZ28: 1 | BA28: 1 | BB28: 1 | BC28: 1 | BH28: 0 | BI28: 1 | BJ28: ФЕР-2001, 09-04-012-01, приказ Минстроя России №1039/пр от 30.12.2016г. | BM28: 9001 | BN28: 0 | BP28: 0 | BQ28: 2 | BR28: 0 | BS28: 1 | BT28: 1 | BU28: 1 | BV28: 1 | BW28: 1 | BX28: 1 | BZ28: 90 | CA28: 85 | CF28: 0 | CG28: 0 | CM28: 0 | CN28: Поправка: Прил. 9.3, п.5 Наименование: Разборка (демонтаж) металлических конструкций | CO28: 0 | CP28: =(P28+Q28+S28) -> 369.2 | CQ28: =AC28*BC28 -> 0 | CR28: =AD28*BB28 -> 10.087 | CS28: =AE28*BS28 -> 1.379 | CT28: =AF28*BA28 -> 16.667 | CU28: =AG28 -> 0 | CV28: =AH28 -> 1.68 | CW28: =AI28 -> 0.119 | CX28: =AJ28 -> 0 | CY28: =(((S28+R28)*AT28)/100) -> 201.7143 | CZ28: =(((S28+R28)*AU28)/100) -> 179.3016 | DD28: )*0 | DE28: )*0,7 | DF28: )*0,7 | DG28: )*0,7 | DI28: )*0,7 | DJ28: )*0,7 | DN28: 0 | DO28: 0 | DP28: 1 | DQ28: 1 | DU28: 1005 | DV28: м2 | DW28: м2 | DX28: 1 | EE28: 16510486 | EF28: 2 | EG28: Общестроительные работы | EH28: 0 | EJ28: 1 | EK28: 9001 | EL28: Металлические конструкции | EM28: ФЕР-09 | EO28: Поправка: Прил. 9.3, п.5 | EQ28: 0 | ER28: 63.94 | ES28: 25.72 | ET28: 14.41 | EU28: 1.97 | EV28: 23.81 | EW28: 2.4 | EX28: 0.17 | EY28: 0 | FQ28: 0 | FR28: =ROUND(IF(AND(BH28=3,BI28=3),P28,0),2) -> 0 | FS28: 0 | FT28: *0,9 | FU28: *0,85 | FX28: 81 | FY28: 72.25 | GD28: 0 | GF28: 617592136 | GG28: 2 | GH28: 1 | GI28: -2 | GJ28: 0 | GK28: =ROUND(R28*(R12)/100,2) -> 0 | GL28: =ROUND(IF(AND(BH28=3,BI28=3,FS28<>0),P28,0),2) -> 0 | GM28: =ROUND(O28+X28+Y28+GK28,2)+GX28 -> 750.21 | GN28: =IF(OR(BI28=0,BI28=1),ROUND(O28+X28+Y28+GK28,2),0) -> 750.21 | GO28: =IF(BI28=2,ROUND(O28+X28+Y28+GK28,2),0) -> 0 | GP28: =IF(BI28=4,ROUND(O28+X28+Y28+GK28,2)+GX28,0) -> 0 | GR28: 0 | GS28: 3 | GT28: 0 | GV28: =ROUND(GT28,6) -> 0 | GW28: 1 | GX28: =ROUND(GV28*GW28*I28,2) -> 0 | HA28: 0 | HB28: 0 | IK28: 0
A29: 17 | B29: 1 | C29: =ROW(SmtRes!A14) -> 14 | D29: =ROW(EtalonRes!A18) -> 18 | E29: 1 | F29: 09-04-012-01 | G29: Демонтаж : Установка металлических дверных блоков в готовые проемы | H29: м2 | I29: 13.8 | J29: 0 | O29: =ROUND(CP29,2) -> 2410.91 | P29: =ROUND(CQ29*I29,2) -> 0 | Q29: =ROUND(CR29*I29,2) -> 908.98 | R29: =ROUND(CS29*I29,2) -> 124.27 | S29: =ROUND(CT29*I29,2) -> 1501.93 | T29: =ROUND(CU29*I29,2) -> 0 | U29: =CV29*I29 -> 23.184 | V29: =CW29*I29 -> 1.6422 | W29: =ROUND(CX29*I29,2) -> 0 | X29: =ROUND(CY29,2) -> 1317.22 | Y29: =ROUND(CZ29,2) -> 1170.86 | AA29: 16483255 | AB29: =ROUND((AC29+AD29+AF29),6) -> 26.754 | AC29: =ROUND(((ES29*0)),6) -> 0 | AD29: =ROUND(((((ET29*0.7))-((EU29*0.7)))+AE29),6) -> 10.087 | AE29: =ROUND(((EU29*0.7)),6) -> 1.379 | AF29: =ROUND(((EV29*0.7)),6) -> 16.667 | AG29: =ROUND((AP29),6) -> 0 | AH29: =((EW29*0.7)) -> 1.68 | AI29: =((EX29*0.7)) -> 0.119 | AJ29: =ROUND((AS29),6) -> 0 | AK29: 63.94 | AL29: 25.72 | AM29: 14.41 | AN29: 1.97 | AO29: 23.81 | AP29: 0 | AQ29: 2.4 | AR29: 0.17 | AS29: 0 | AT29: 81 | AU29: 72 | AV29: 1 | AW29: 1 | AZ29: 6.53 | BA29: 6.53 | BB29: 6.53 | BC29: 6.53 | BH29: 0 | BI29: 1 | BJ29: ФЕР-2001, 09-04-012-01, приказ Минстроя России №1039/пр от 30.12.2016г. | BM29: 9001 | BN29: 0 | BP29: 0 | BQ29: 2 | BR29: 0 | BS29: 6.53 | BT29: 1 | BU29: 1 | BV29: 1 | BW29: 1 | BX29: 1 | BZ29: 90 | CA29: 85 | CF29: 0 | CG29: 0 | CM29: 0 | CN29: Поправка: Прил. 9.3, п.5 Наименование: Разборка (демонтаж) металлических конструкций | CO29: 0 | CP29: =(P29+Q29+S29) -> 2410.91 | CQ29: =AC29*BC29 -> 0 | CR29: =AD29*BB29 -> 65.86811 | CS29: =AE29*BS29 -> 9.00487 | CT29: =AF29*BA29 -> 108.83551 | CU29: =AG29 -> 0 | CV29: =AH29 -> 1.68 | CW29: =AI29 -> 0.119 | CX29: =AJ29 -> 0 | CY29: =(((S29+R29)*AT29)/100) -> 1317.222 | CZ29: =(((S29+R29)*AU29)/100) -> 1170.864 | DD29: )*0 | DE29: )*0,7 | DF29: )*0,7 | DG29: )*0,7 | DI29: )*0,7 | DJ29: )*0,7 | DN29: 0 | DO29: 0 | DP29: 1 | DQ29: 1 | DU29: 1005 | DV29: м2 | DW29: м2 | DX29: 1 | EE29: 16510486 | EF29: 2 | EG29: Общестроительные работы | EH29: 0 | EJ29: 1 | EK29: 9001 | EL29: Металлические конструкции | EM29: ФЕР-09 | EO29: Поправка: Прил. 9.3, п.5 | EQ29: 0 | ER29: 63.94 | ES29: 25.72 | ET29: 14.41 | EU29: 1.97 | EV29: 23.81 | EW29: 2.4 | EX29: 0.17 | EY29: 0 | FQ29: 0 | FR29: =ROUND(IF(AND(BH29=3,BI29=3),P29,0),2) -> 0 | FS29: 0 | FT29: *0,9 | FU29: *0,85 | FX29: 81 | FY29: 72.25 | GD29: 0 | GF29: 617592136 | GG29: 1 | GH29: 1 | GI29: 4 | GJ29: 0 | GK29: =ROUND(R29*(S12)/100,2) -> 0 | GL29: =ROUND(IF(AND(BH29=3,BI29=3,FS29<>0),P29,0),2) -> 0 | GM29: =ROUND(O29+X29+Y29+GK29,2)+GX29 -> 4898.99 | GN29: =IF(OR(BI29=0,BI29=1),ROUND(O29+X29+Y29+GK29,2),0) -> 4898.99 | GO29: =IF(BI29=2,ROUND(O29+X29+Y29+GK29,2),0) -> 0 | GP29: =IF(BI29=4,ROUND(O29+X29+Y29+GK29,2)+GX29,0) -> 0 | GR29: 0 | GS29: 3 | GT29: 0 | GV29: =ROUND(GT29,6) -> 0 | GW29: 1 | GX29: =ROUND(GV29*GW29*I29,2) -> 0 | HA29: 0 | HB29: 0 | IK29: 0
A30: 17 | B30: 1 | C30: =ROW(SmtRes!A17) -> 17 | D30: =ROW(EtalonRes!A21) -> 21 | E30: 2 | F30: 46-04-012-03 | G30: Разборка деревянных заполнений проемов дверных и воротных | H30: 100 м2 | I30: =ROUND(27.6/100,9) -> 0.276 | J30: 0 | O30: =ROUND(CP30,2) -> 298.79 | P30: =ROUND(CQ30*I30,2) -> 0 | Q30: =ROUND(CR30*I30,2) -> 66.78 | R30: =ROUND(CS30*I30,2) -> 28.84 | S30: =ROUND(CT30*I30,2) -> 232.01 | T30: =ROUND(CU30*I30,2) -> 0 | U30: =CV30*I30 -> 28.67916 | V30: =CW30*I30 -> 2.13624 | W30: =ROUND(CX30*I30,2) -> 0 | X30: =ROUND(CY30,2) -> 258.24 | Y30: =ROUND(CZ30,2) -> 156.51 | AA30: 16483241 | AB30: =ROUND((AC30+AD30+AF30),6) -> 1082.58 | AC30: =ROUND((ES30),6) -> 0 | AD30: =ROUND((((ET30)-(EU30))+AE30),6) -> 241.95 | AE30: =ROUND((EU30),6) -> 104.49 | AF30: =ROUND((EV30),6) -> 840.63 | AG30: =ROUND((AP30),6) -> 0 | AH30: =(EW30) -> 103.91 | AI30: =(EX30) -> 7.74 | AJ30: =ROUND((AS30),6) -> 0 | AK30: 1082.58 | AL30: 0 | AM30: 241.95 | AN30: 104.49 | AO30: 840.63 | AP30: 0 | AQ30: 103.91 | AR30: 7.74 | AS30: 0 | AT30: 99 | AU30: 60 | AV30: 1 | AW30: 1 | AZ30: 1 | BA30: 1 | BB30: 1 | BC30: 1 | BH30: 0 | BI30: 1 | BJ30: ФЕР-2001, 46-04-012-03, приказ Минстроя России №1039/пр от 30.12.2016г. | BM30: 46001 | BN30: 0 | BP30: 0 | BQ30: 2 | BR30: 0 | BS30: 1 | BT30: 1 | BU30: 1 | BV30: 1 | BW30: 1 | BX30: 1 | BZ30: 110 | CA30: 70 | CF30: 0 | CG30: 0 | CM30: 0 | CO30: 0 | CP30: =(P30+Q30+S30) -> 298.79 | CQ30: =AC30*BC30 -> 0 | CR30: =AD30*BB30 -> 241.95 | CS30: =AE30*BS30 -> 104.49 | CT30: =AF30*BA30 -> 840.63 | CU30: =AG30 -> 0 | CV30: =AH30 -> 103.91 | CW30: =AI30 -> 7.74 | CX30: =AJ30 -> 0 | CY30: =(((S30+R30)*AT30)/100) -> 258.2415 | CZ30: =(((S30+R30)*AU30)/100) -> 156.51 | DN30: 0 | DO30: 0 | DP30: 1 | DQ30: 1 | DU30: 1005 | DV30: 100 м2 | DW30: 100 м2 | DX30: 100 | EE30: 16510555 | EF30: 2 | EG30: Общестроительные работы | EH30: 0 | EJ30: 1 | EK30: 46001 | EL30: Реконструкция зданий и сооружений | EM30: ФЕР-46 | EQ30: 0 | ER30: 1082.58 | ES30: 0 | ET30: 241.95 | EU30: 104.49 | EV30: 840.63 | EW30: 103.91 | EX30: 7.74 | EY30: 0 | FQ30: 0 | FR30: =ROUND(IF(AND(BH30=3,BI30=3),P30,0),2) -> 0 | FS30: 0 | FT30: *0,9 | FU30: *0,85 | FX30: 99 | FY30: 59.5 | GD30: 0 | GF30: 309229644 | GG30: 2 | GH30: 1 | GI30: -2 | GJ30: 0 | GK30: =ROUND(R30*(R12)/100,2) -> 0 | GL30: =ROUND(IF(AND(BH30=3,BI30=3,FS30<>0),P30,0),2) -> 0 | GM30: =ROUND(O30+X30+Y30+GK30,2)+GX30 -> 713.54 | GN30: =IF(OR(BI30=0,BI30=1),ROUND(O30+X30+Y30+GK30,2),0) -> 713.54 | GO30: =IF(BI30=2,ROUND(O30+X30+Y30+GK30,2),0) -> 0 | GP30: =IF(BI30=4,ROUND(O30+X30+Y30+GK30,2)+GX30,0) -> 0 | GR30: 0 | GS30: 3 | GT30: 0 | GV30: =ROUND(GT30,6) -> 0 | GW30: 1 | GX30: =ROUND(GV30*GW30*I30,2) -> 0 | HA30: 0 | HB30: 0 | IK30: 0
A31: 17 | B31: 1 | C31: =ROW(SmtRes!A20) -> 20 | D31: =ROW(EtalonRes!A24) -> 24 | E31: 2 | F31: 46-04-012-03 | G31: Разборка деревянных заполнений проемов дверных и воротных | H31: 100 м2 | I31: =ROUND(27.6/100,9) -> 0.276 | J31: 0 | O31: =ROUND(CP31,2) -> 1951.11 | P31: =ROUND(CQ31*I31,2) -> 0 | Q31: =ROUND(CR31*I31,2) -> 436.06 | R31: =ROUND(CS31*I31,2) -> 188.32 | S31: =ROUND(CT31*I31,2) -> 1515.05 | T31: =ROUND(CU31*I31,2) -> 0 | U31: =CV31*I31 -> 28.67916 | V31: =CW31*I31 -> 2.13624 | W31: =ROUND(CX31*I31,2) -> 0 | X31: =ROUND(CY31,2) -> 1686.34 | Y31: =ROUND(CZ31,2) -> 1022.02 | AA31: 16483255 | AB31: =ROUND((AC31+AD31+AF31),6) -> 1082.58 | AC31: =ROUND((ES31),6) -> 0 | AD31: =ROUND((((ET31)-(EU31))+AE31),6) -> 241.95 | AE31: =ROUND((EU31),6) -> 104.49 | AF31: =ROUND((EV31),6) -> 840.63 | AG31: =ROUND((AP31),6) -> 0 | AH31: =(EW31) -> 103.91 | AI31: =(EX31) -> 7.74 | AJ31: =ROUND((AS31),6) -> 0 | AK31: 1082.58 | AL31: 0 | AM31: 241.95 | AN31: 104.49 | AO31: 840.63 | AP31: 0 | AQ31: 103.91 | AR31: 7.74 | AS31: 0 | AT31: 99 | AU31: 60 | AV31: 1 | AW31: 1 | AZ31: 6.53 | BA31: 6.53 | BB31: 6.53 | BC31: 6.53 | BH31: 0 | BI31: 1 | BJ31: ФЕР-2001, 46-04-012-03, приказ Минстроя России №1039/пр от 30.12.2016г. | BM31: 46001 | BN31: 0 | BP31: 0 | BQ31: 2 | BR31: 0 | BS31: 6.53 | BT31: 1 | BU31: 1 | BV31: 1 | BW31: 1 | BX31: 1 | BZ31: 110 | CA31: 70 | CF31: 0 | CG31: 0 | CM31: 0 | CO31: 0 | CP31: =(P31+Q31+S31) -> 1951.11 | CQ31: =AC31*BC31 -> 0 | CR31: =AD31*BB31 -> 1579.9335 | CS31: =AE31*BS31 -> 682.3197 | CT31: =AF31*BA31 -> 5489.3139 | CU31: =AG31 -> 0 | CV31: =AH31 -> 103.91 | CW31: =AI31 -> 7.74 | CX31: =AJ31 -> 0 | CY31: =(((S31+R31)*AT31)/100) -> 1686.3363 | CZ31: =(((S31+R31)*AU31)/100) -> 1022.022 | DN31: 0 | DO31: 0 | DP31: 1 | DQ31: 1 | DU31: 1005 | DV31: 100 м2 | DW31: 100 м2 | DX31: 100 | EE31: 16510555 | EF31: 2 | EG31: Общестроительные работы | EH31: 0 | EJ31: 1 | EK31: 46001 | EL31: Реконструкция зданий и сооружений | EM31: ФЕР-46 | EQ31: 0 | ER31: 1082.58 | ES31: 0 | ET31: 241.95 | EU31: 104.49 | EV31: 840.63 | EW31: 103.91 | EX31: 7.74 | EY31: 0 | FQ31: 0 | FR31: =ROUND(IF(AND(BH31=3,BI31=3),P31,0),2) -> 0 | FS31: 0 | FT31: *0,9 | FU31: *0,85 | FX31: 99 | FY31: 59.5 | GD31: 0 | GF31: 309229644 | GG31: 1 | GH31: 1 | GI31: 4 | GJ31: 0 | GK31: =ROUND(R31*(S12)/100,2) -> 0 | GL31: =ROUND(IF(AND(BH31=3,BI31=3,FS31<>0),P31,0),2) -> 0 | GM31: =ROUND(O31+X31+Y31+GK31,2)+GX31 -> 4659.47 | GN31: =IF(OR(BI31=0,BI31=1),ROUND(O31+X31+Y31+GK31,2),0) -> 4659.47 | GO31: =IF(BI31=2,ROUND(O31+X31+Y31+GK31,2),0) -> 0 | GP31: =IF(BI31=4,ROUND(O31+X31+Y31+GK31,2)+GX31,0) -> 0 | GR31: 0 | GS31: 3 | GT31: 0 | GV31: =ROUND(GT31,6) -> 0 | GW31: 1 | GX31: =ROUND(GV31*GW31*I31,2) -> 0 | HA31: 0 | HB31: 0 | IK31: 0
A32: 17 | B32: 1 | C32: =ROW(SmtRes!A22) -> 22 | D32: =ROW(EtalonRes!A27) -> 27 | E32: 3 | F32: 10-01-036-01 | G32: Демонтаж: Установка уголков ПВХ на клее | H32: 100 м | I32: =ROUND(56.96/100,9) -> 0.5696 | J32: 0 | O32: =ROUND(CP32,2) -> 26.04 | P32: =ROUND(CQ32*I32,2) -> 0 | Q32: =ROUND(CR32*I32,2) -> 0 | R32: =ROUND(CS32*I32,2) -> 0 | S32: =ROUND(CT32*I32,2) -> 26.04 | T32: =ROUND(CU32*I32,2) -> 0 | U32: =CV32*I32 -> 3.053056 | V32: =CW32*I32 -> 0 | W32: =ROUND(CX32*I32,2) -> 0 | X32: =ROUND(CY32,2) -> 27.6 | Y32: =ROUND(CZ32,2) -> 14.06 | AA32: 16483241 | AB32: =ROUND((AC32+AD32+AF32),6) -> 45.72 | AC32: =ROUND(((ES32*0)),6) -> 0 | AD32: =ROUND(((((ET32*0.8))-((EU32*0.8)))+AE32),6) -> 0 | AE32: =ROUND(((EU32*0.8)),6) -> 0 | AF32: =ROUND(((EV32*0.8)),6) -> 45.72 | AG32: =ROUND((AP32),6) -> 0 | AH32: =((EW32*0.8)) -> 5.36 | AI32: =((EX32*0.8)) -> 0 | AJ32: =ROUND((AS32),6) -> 0 | AK32: 93.15 | AL32: 36 | AM32: 0 | AN32: 0 | AO32: 57.15 | AP32: 0 | AQ32: 6.7 | AR32: 0 | AS32: 0 | AT32: 106 | AU32: 54 | AV32: 1 | AW32: 1 | AZ32: 1 | BA32: 1 | BB32: 1 | BC32: 1 | BH32: 0 | BI32: 1 | BJ32: ФЕР-2001, 10-01-036-01, приказ Минстроя России №1039/пр от 30.12.2016г. | BM32: 10001 | BN32: 0 | BP32: 0 | BQ32: 2 | BR32: 0 | BS32: 1 | BT32: 1 | BU32: 1 | BV32: 1 | BW32: 1 | BX32: 1 | BZ32: 118 | CA32: 63 | CF32: 0 | CG32: 0 | CM32: 0 | CN32: Поправка: Табл.2, п.2 Наименование: При демонтаже (разборке) сборных деревянных конструкций | CO32: 0 | CP32: =(P32+Q32+S32) -> 26.04 | CQ32: =AC32*BC32 -> 0 | CR32: =AD32*BB32 -> 0 | CS32: =AE32*BS32 -> 0 | CT32: =AF32*BA32 -> 45.72 | CU32: =AG32 -> 0 | CV32: =AH32 -> 5.36 | CW32: =AI32 -> 0 | CX32: =AJ32 -> 0 | CY32: =(((S32+R32)*AT32)/100) -> 27.6024 | CZ32: =(((S32+R32)*AU32)/100) -> 14.0616 | DD32: )*0 | DE32: )*0,8 | DF32: )*0,8 | DG32: )*0,8 | DI32: )*0,8 | DJ32: )*0,8 | DN32: 0 | DO32: 0 | DP32: 1 | DQ32: 1 | DU32: 1003 | DV32: 100 м | DW32: 100 м | DX32: 100 | EE32: 16510487 | EF32: 2 | EG32: Общестроительные работы | EH32: 0 | EJ32: 1 | EK32: 10001 | EL32: Деревянные конструкции | EM32: ФЕР-10 | EO32: Поправка: Табл.2, п.2 | EQ32: 0 | ER32: 93.15 | ES32: 36 | ET32: 0 | EU32: 0 | EV32: 57.15 | EW32: 6.7 | EX32: 0 | EY32: 0 | FQ32: 0 | FR32: =ROUND(IF(AND(BH32=3,BI32=3),P32,0),2) -> 0 | FS32: 0 | FT32: *0,9 | FU32: *0,85 | FX32: 106.2 | FY32: 53.55 | GD32: 0 | GF32: -732961495 | GG32: 2 | GH32: 1 | GI32: -2 | GJ32: 0 | GK32: =ROUND(R32*(R12)/100,2) -> 0 | GL32: =ROUND(IF(AND(BH32=3,BI32=3,FS32<>0),P32,0),2) -> 0 | GM32: =ROUND(O32+X32+Y32+GK32,2)+GX32 -> 67.7 | GN32: =IF(OR(BI32=0,BI32=1),ROUND(O32+X32+Y32+GK32,2),0) -> 67.7 | GO32: =IF(BI32=2,ROUND(O32+X32+Y32+GK32,2),0) -> 0 | GP32: =IF(BI32=4,ROUND(O32+X32+Y32+GK32,2)+GX32,0) -> 0 | GR32: 0 | GS32: 3 | GT32: 0 | GV32: =ROUND(GT32,6) -> 0 | GW32: 1 | GX32: =ROUND(GV32*GW32*I32,2) -> 0 | HA32: 0 | HB32: 0 | IK32: 0
A33: 17 | B33: 1 | C33: =ROW(SmtRes!A24) -> 24 | D33: =ROW(EtalonRes!A30) -> 30 | E33: 3 | F33: 10-01-036-01 | G33: Демонтаж: Установка уголков ПВХ на клее | H33: 100 м | I33: =ROUND(56.96/100,9) -> 0.5696 | J33: 0 | O33: =ROUND(CP33,2) -> 170.05 | P33: =ROUND(CQ33*I33,2) -> 0 | Q33: =ROUND(CR33*I33,2) -> 0 | R33: =ROUND(CS33*I33,2) -> 0 | S33: =ROUND(CT33*I33,2) -> 170.05 | T33: =ROUND(CU33*I33,2) -> 0 | U33: =CV33*I33 -> 3.053056 | V33: =CW33*I33 -> 0 | W33: =ROUND(CX33*I33,2) -> 0 | X33: =ROUND(CY33,2) -> 180.25 | Y33: =ROUND(CZ33,2) -> 91.83 | AA33: 16483255 | AB33: =ROUND((AC33+AD33+AF33),6) -> 45.72 | AC33: =ROUND(((ES33*0)),6) -> 0 | AD33: =ROUND(((((ET33*0.8))-((EU33*0.8)))+AE33),6) -> 0 | AE33: =ROUND(((EU33*0.8)),6) -> 0 | AF33: =ROUND(((EV33*0.8)),6) -> 45.72 | AG33: =ROUND((AP33),6) -> 0 | AH33: =((EW33*0.8)) -> 5.36 | AI33: =((EX33*0.8)) -> 0 | AJ33: =ROUND((AS33),6) -> 0 | AK33: 93.15 | AL33: 36 | AM33: 0 | AN33: 0 | AO33: 57.15 | AP33: 0 | AQ33: 6.7 | AR33: 0 | AS33: 0 | AT33: 106 | AU33: 54 | AV33: 1 | AW33: 1 | AZ33: 6.53 | BA33: 6.53 | BB33: 6.53 | BC33: 6.53 | BH33: 0 | BI33: 1 | BJ33: ФЕР-2001, 10-01-036-01, приказ Минстроя России №1039/пр от 30.12.2016г. | BM33: 10001 | BN33: 0 | BP33: 0 | BQ33: 2 | BR33: 0 | BS33: 6.53 | BT33: 1 | BU33: 1 | BV33: 1 | BW33: 1 | BX33: 1 | BZ33: 118 | CA33: 63 | CF33: 0 | CG33: 0 | CM33: 0 | CN33: Поправка: Табл.2, п.2 Наименование: При демонтаже (разборке) сборных деревянных конструкций | CO33: 0 | CP33: =(P33+Q33+S33) -> 170.05 | CQ33: =AC33*BC33 -> 0 | CR33: =AD33*BB33 -> 0 | CS33: =AE33*BS33 -> 0 | CT33: =AF33*BA33 -> 298.5516 | CU33: =AG33 -> 0 | CV33: =AH33 -> 5.36 | CW33: =AI33 -> 0 | CX33: =AJ33 -> 0 | CY33: =(((S33+R33)*AT33)/100) -> 180.253 | CZ33: =(((S33+R33)*AU33)/100) -> 91.827 | DD33: )*0 | DE33: )*0,8 | DF33: )*0,8 | DG33: )*0,8 | DI33: )*0,8 | DJ33: )*0,8 | DN33: 0 | DO33: 0 | DP33: 1 | DQ33: 1 | DU33: 1003 | DV33: 100 м | DW33: 100 м | DX33: 100 | EE33: 16510487 | EF33: 2 | EG33: Общестроительные работы | EH33: 0 | EJ33: 1 | EK33: 10001 | EL33: Деревянные конструкции | EM33: ФЕР-10 | EO33: Поправка: Табл.2, п.2 | EQ33: 0 | ER33: 93.15 | ES33: 36 | ET33: 0 | EU33: 0 | EV33: 57.15 | EW33: 6.7 | EX33: 0 | EY33: 0 | FQ33: 0 | FR33: =ROUND(IF(AND(BH33=3,BI33=3),P33,0),2) -> 0 | FS33: 0 | FT33: *0,9 | FU33: *0,85 | FX33: 106.2 | FY33: 53.55 | GD33: 0 | GF33: -732961495 | GG33: 1 | GH33: 1 | GI33: 4 | GJ33: 0 | GK33: =ROUND(R33*(S12)/100,2) -> 0 | GL33: =ROUND(IF(AND(BH33=3,BI33=3,FS33<>0),P33,0),2) -> 0 | GM33: =ROUND(O33+X33+Y33+GK33,2)+GX33 -> 442.13 | GN33: =IF(OR(BI33=0,BI33=1),ROUND(O33+X33+Y33+GK33,2),0) -> 442.13 | GO33: =IF(BI33=2,ROUND(O33+X33+Y33+GK33,2),0) -> 0 | GP33: =IF(BI33=4,ROUND(O33+X33+Y33+GK33,2)+GX33,0) -> 0 | GR33: 0 | GS33: 3 | GT33: 0 | GV33: =ROUND(GT33,6) -> 0 | GW33: 1 | GX33: =ROUND(GV33*GW33*I33,2) -> 0 | HA33: 0 | HB33: 0 | IK33: 0
A34: 17 | B34: 1 | C34: =ROW(SmtRes!A33) -> 33 | D34: =ROW(EtalonRes!A43) -> 43 | E34: 4 | F34: 09-03-046-01 | G34: Демонтаж : Монтаж перегородок из алюминиевых сплавов сборно-разборных с остеклением | H34: 100 м2 | I34: =ROUND(53.61/100,9) -> 0.5361 | J34: 0 | O34: =ROUND(CP34,2) -> 1439.31 | P34: =ROUND(CQ34*I34,2) -> 0 | Q34: =ROUND(CR34*I34,2) -> 213.04 | R34: =ROUND(CS34*I34,2) -> 12.37 | S34: =ROUND(CT34*I34,2) -> 1226.27 | T34: =ROUND(CU34*I34,2) -> 0 | U34: =CV34*I34 -> 121.8952 | V34: =CW34*I34 -> 0.9306696 | W34: =ROUND(CX34*I34,2) -> 0 | X34: =ROUND(CY34,2) -> 1003.3 | Y34: =ROUND(CZ34,2) -> 891.82 | AA34: 16483241 | AB34: =ROUND((AC34+AD34+AF34),6) -> 2684.766 | AC34: =ROUND(((ES34*0)),6) -> 0 | AD34: =ROUND(((((ET34*0.7))-((EU34*0.7)))+AE34),6) -> 397.383 | AE34: =ROUND(((EU34*0.7)),6) -> 23.065 | AF34: =ROUND(((EV34*0.7)),6) -> 2287.383 | AG34: =ROUND((AP34),6) -> 0 | AH34: =((EW34*0.7)) -> 227.374 | AI34: =((EX34*0.7)) -> 1.736 | AJ34: =ROUND((AS34),6) -> 0 | AK34: 4111.26 | AL34: 275.88 | AM34: 567.69 | AN34: 32.95 | AO34: 3267.69 | AP34: 0 | AQ34: 324.82 | AR34: 2.48 | AS34: 0 | AT34: 81 | AU34: 72 | AV34: 1 | AW34: 1 | AZ34: 1 | BA34: 1 | BB34: 1 | BC34: 1 | BH34: 0 | BI34: 1 | BJ34: ФЕР-2001, 09-03-046-01, приказ Минстроя России №1039/пр от 30.12.2016г. | BM34: 9001 | BN34: 0 | BP34: 0 | BQ34: 2 | BR34: 0 | BS34: 1 | BT34: 1 | BU34: 1 | BV34: 1 | BW34: 1 | BX34: 1 | BZ34: 90 | CA34: 85 | CF34: 0 | CG34: 0 | CM34: 0 | CN34: Поправка: Прил. 9.3, п.5 Наименование: Разборка (демонтаж) металлических конструкций | CO34: 0 | CP34: =(P34+Q34+S34) -> 1439.31 | CQ34: =AC34*BC34 -> 0 | CR34: =AD34*BB34 -> 397.383 | CS34: =AE34*BS34 -> 23.065 | CT34: =AF34*BA34 -> 2287.383 | CU34: =AG34 -> 0 | CV34: =AH34 -> 227.374 | CW34: =AI34 -> 1.736 | CX34: =AJ34 -> 0 | CY34: =(((S34+R34)*AT34)/100) -> 1003.2984 | CZ34: =(((S34+R34)*AU34)/100) -> 891.8208 | DD34: )*0 | DE34: )*0,7 | DF34: )*0,7 | DG34: )*0,7 | DI34: )*0,7 | DJ34: )*0,7 | DN34: 0 | DO34: 0 | DP34: 1 | DQ34: 1 | DU34: 1005 | DV34: 100 м2 | DW34: 100 м2 | DX34: 100 | EE34: 16510486 | EF34: 2 | EG34: Общестроительные работы | EH34: 0 | EJ34: 1 | EK34: 9001 | EL34: Металлические конструкции | EM34: ФЕР-09 | EO34: Поправка: Прил. 9.3, п.5 | EQ34: 0 | ER34: 4111.26 | ES34: 275.88 | ET34: 567.69 | EU34: 32.95 | EV34: 3267.69 | EW34: 324.82 | EX34: 2.48 | EY34: 0 | FQ34: 0 | FR34: =ROUND(IF(AND(BH34=3,BI34=3),P34,0),2) -> 0 | FS34: 0 | FT34: *0,9 | FU34: *0,85 | FX34: 81 | FY34: 72.25 | GD34: 0 | GF34: 95181522 | GG34: 2 | GH34: 1 | GI34: -2 | GJ34: 0 | GK34: =ROUND(R34*(R12)/100,2) -> 0 | GL34: =ROUND(IF(AND(BH34=3,BI34=3,FS34<>0),P34,0),2) -> 0 | GM34: =ROUND(O34+X34+Y34+GK34,2)+GX34 -> 3334.43 | GN34: =IF(OR(BI34=0,BI34=1),ROUND(O34+X34+Y34+GK34,2),0) -> 3334.43 | GO34: =IF(BI34=2,ROUND(O34+X34+Y34+GK34,2),0) -> 0 | GP34: =IF(BI34=4,ROUND(O34+X34+Y34+GK34,2)+GX34,0) -> 0 | GR34: 0 | GS34: 3 | GT34: 0 | GV34: =ROUND(GT34,6) -> 0 | GW34: 1 | GX34: =ROUND(GV34*GW34*I34,2) -> 0 | HA34: 0 | HB34: 0 | IK34: 0
A35: 17 | B35: 1 | C35: =ROW(SmtRes!A42) -> 42 | D35: =ROW(EtalonRes!A56) -> 56 | E35: 4 | F35: 09-03-046-01 | G35: Демонтаж : Монтаж перегородок из алюминиевых сплавов сборно-разборных с остеклением | H35: 100 м2 | I35: =ROUND(53.61/100,9) -> 0.5361 | J35: 0 | O35: =ROUND(CP35,2) -> 9398.65 | P35: =ROUND(CQ35*I35,2) -> 0 | Q35: =ROUND(CR35*I35,2) -> 1391.13 | R35: =ROUND(CS35*I35,2) -> 80.74 | S35: =ROUND(CT35*I35,2) -> 8007.52 | T35: =ROUND(CU35*I35,2) -> 0 | U35: =CV35*I35 -> 121.8952 | V35: =CW35*I35 -> 0.9306696 | W35: =ROUND(CX35*I35,2) -> 0 | X35: =ROUND(CY35,2) -> 6551.49 | Y35: =ROUND(CZ35,2) -> 5823.55 | AA35: 16483255 | AB35: =ROUND((AC35+AD35+AF35),6) -> 2684.766 | AC35: =ROUND(((ES35*0)),6) -> 0 | AD35: =ROUND(((((ET35*0.7))-((EU35*0.7)))+AE35),6) -> 397.383 | AE35: =ROUND(((EU35*0.7)),6) -> 23.065 | AF35: =ROUND(((EV35*0.7)),6) -> 2287.383 | AG35: =ROUND((AP35),6) -> 0 | AH35: =((EW35*0.7)) -> 227.374 | AI35: =((EX35*0.7)) -> 1.736 | AJ35: =ROUND((AS35),6) -> 0 | AK35: 4111.26 | AL35: 275.88 | AM35: 567.69 | AN35: 32.95 | AO35: 3267.69 | AP35: 0 | AQ35: 324.82 | AR35: 2.48 | AS35: 0 | AT35: 81 | AU35: 72 | AV35: 1 | AW35: 1 | AZ35: 6.53 | BA35: 6.53 | BB35: 6.53 | BC35: 6.53 | BH35: 0 | BI35: 1 | BJ35: ФЕР-2001, 09-03-046-01, приказ Минстроя России №1039/пр от 30.12.2016г. | BM35: 9001 | BN35: 0 | BP35: 0 | BQ35: 2 | BR35: 0 | BS35: 6.53 | BT35: 1 | BU35: 1 | BV35: 1 | BW35: 1 | BX35: 1 | BZ35: 90 | CA35: 85 | CF35: 0 | CG35: 0 | CM35: 0 | CN35: Поправка: Прил. 9.3, п.5 Наименование: Разборка (демонтаж) металлических конструкций | CO35: 0 | CP35: =(P35+Q35+S35) -> 9398.65 | CQ35: =AC35*BC35 -> 0 | CR35: =AD35*BB35 -> 2594.911 | CS35: =AE35*BS35 -> 150.61445 | CT35: =AF35*BA35 -> 14936.611 | CU35: =AG35 -> 0 | CV35: =AH35 -> 227.374 | CW35: =AI35 -> 1.736 | CX35: =AJ35 -> 0 | CY35: =(((S35+R35)*AT35)/100) -> 6551.4906 | CZ35: =(((S35+R35)*AU35)/100) -> 5823.5472 | DD35: )*0 | DE35: )*0,7 | DF35: )*0,7 | DG35: )*0,7 | DI35: )*0,7 | DJ35: )*0,7 | DN35: 0 | DO35: 0 | DP35: 1 | DQ35: 1 | DU35: 1005 | DV35: 100 м2 | DW35: 100 м2 | DX35: 100 | EE35: 16510486 | EF35: 2 | EG35: Общестроительные работы | EH35: 0 | EJ35: 1 | EK35: 9001 | EL35: Металлические конструкции | EM35: ФЕР-09 | EO35: Поправка: Прил. 9.3, п.5 | EQ35: 0 | ER35: 4111.26 | ES35: 275.88 | ET35: 567.69 | EU35: 32.95 | EV35: 3267.69 | EW35: 324.82 | EX35: 2.48 | EY35: 0 | FQ35: 0 | FR35: =ROUND(IF(AND(BH35=3,BI35=3),P35,0),2) -> 0 | FS35: 0 | FT35: *0,9 | FU35: *0,85 | FX35: 81 | FY35: 72.25 | GD35: 0 | GF35: 95181522 | GG35: 1 | GH35: 1 | GI35: 4 | GJ35: 0 | GK35: =ROUND(R35*(S12)/100,2) -> 0 | GL35: =ROUND(IF(AND(BH35=3,BI35=3,FS35<>0),P35,0),2) -> 0 | GM35: =ROUND(O35+X35+Y35+GK35,2)+GX35 -> 21773.69 | GN35: =IF(OR(BI35=0,BI35=1),ROUND(O35+X35+Y35+GK35,2),0) -> 21773.69 | GO35: =IF(BI35=2,ROUND(O35+X35+Y35+GK35,2),0) -> 0 | GP35: =IF(BI35=4,ROUND(O35+X35+Y35+GK35,2)+GX35,0) -> 0 | GR35: 0 | GS35: 3 | GT35: 0 | GV35: =ROUND(GT35,6) -> 0 | GW35: 1 | GX35: =ROUND(GV35*GW35*I35,2) -> 0 | HA35: 0 | HB35: 0 | IK35: 0
A36: 17 | B36: 1 | C36: =ROW(SmtRes!A47) -> 47 | D36: =ROW(EtalonRes!A61) -> 61 | E36: 5 | F36: 63-7-3 | G36: Разборка облицовки стен из известковых плит | H36: 100 м2 | I36: =ROUND(138.82/100,9) -> 1.3882 | J36: 0 | O36: =ROUND(CP36,2) -> 6332.48 | P36: =ROUND(CQ36*I36,2) -> 0 | Q36: =ROUND(CR36*I36,2) -> 353.16 | R36: =ROUND(CS36*I36,2) -> 24.18 | S36: =ROUND(CT36*I36,2) -> 5979.32 | T36: =ROUND(CU36*I36,2) -> 0 | U36: =CV36*I36 -> 759.76186 | V36: =CW36*I36 -> 1.790778 | W36: =ROUND(CX36*I36,2) -> 0 | X36: =ROUND(CY36,2) -> 4622.7 | Y36: =ROUND(CZ36,2) -> 3001.75 | AA36: 16483241 | AB36: =ROUND((AC36+AD36+AF36),6) -> 4561.65 | AC36: =ROUND((ES36),6) -> 0 | AD36: =ROUND((((ET36)-(EU36))+AE36),6) -> 254.4 | AE36: =ROUND((EU36),6) -> 17.42 | AF36: =ROUND((EV36),6) -> 4307.25 | AG36: =ROUND((AP36),6) -> 0 | AH36: =(EW36) -> 547.3 | AI36: =(EX36) -> 1.29 | AJ36: =ROUND((AS36),6) -> 0 | AK36: 4561.65 | AL36: 0 | AM36: 254.4 | AN36: 17.42 | AO36: 4307.25 | AP36: 0 | AQ36: 547.3 | AR36: 1.29 | AS36: 0 | AT36: 77 | AU36: 50 | AV36: 1 | AW36: 1 | AZ36: 1 | BA36: 1 | BB36: 1 | BC36: 1 | BH36: 0 | BI36: 1 | BJ36: ФЕР-2001, 63-7-3, приказ Минстроя России №1039/пр от 30.12.2016г. | BM36: 63001 | BN36: 0 | BP36: 0 | BQ36: 6 | BR36: 0 | BS36: 1 | BT36: 1 | BU36: 1 | BV36: 1 | BW36: 1 | BX36: 1 | BZ36: 77 | CA36: 50 | CF36: 0 | CG36: 0 | CM36: 0 | CO36: 0 | CP36: =(P36+Q36+S36) -> 6332.48 | CQ36: =AC36*BC36 -> 0 | CR36: =AD36*BB36 -> 254.4 | CS36: =AE36*BS36 -> 17.42 | CT36: =AF36*BA36 -> 4307.25 | CU36: =AG36 -> 0 | CV36: =AH36 -> 547.3 | CW36: =AI36 -> 1.29 | CX36: =AJ36 -> 0 | CY36: =(((S36+R36)*AT36)/100) -> 4622.695 | CZ36: =(((S36+R36)*AU36)/100) -> 3001.75 | DN36: 0 | DO36: 0 | DP36: 1 | DQ36: 1 | DU36: 1005 | DV36: 100 м2 | DW36: 100 м2 | DX36: 100 | EE36: 16510572 | EF36: 6 | EG36: Ремонтно-строительные работы | EH36: 0 | EJ36: 1 | EK36: 63001 | EL36: Стекольные, обойные, облицовочные работы | EM36: рФЕР-63 | EQ36: 0 | ER36: 4561.65 | ES36: 0 | ET36: 254.4 | EU36: 17.42 | EV36: 4307.25 | EW36: 547.3 | EX36: 1.29 | EY36: 0 | FQ36: 0 | FR36: =ROUND(IF(AND(BH36=3,BI36=3),P36,0),2) -> 0 | FS36: 0 | FX36: 77 | FY36: 50 | GD36: 0 | GF36: -1591007834 | GG36: 2 | GH36: 1 | GI36: -2 | GJ36: 0 | GK36: =ROUND(R36*(R12)/100,2) -> 0 | GL36: =ROUND(IF(AND(BH36=3,BI36=3,FS36<>0),P36,0),2) -> 0 | GM36: =ROUND(O36+X36+Y36+GK36,2)+GX36 -> 13956.93 | GN36: =IF(OR(BI36=0,BI36=1),ROUND(O36+X36+Y36+GK36,2),0) -> 13956.93 | GO36: =IF(BI36=2,ROUND(O36+X36+Y36+GK36,2),0) -> 0 | GP36: =IF(BI36=4,ROUND(O36+X36+Y36+GK36,2)+GX36,0) -> 0 | GR36: 0 | GS36: 3 | GT36: 0 | GV36: =ROUND(GT36,6) -> 0 | GW36: 1 | GX36: =ROUND(GV36*GW36*I36,2) -> 0 | HA36: 0 | HB36: 0 | IK36: 0
A37: 17 | B37: 1 | C37: =ROW(SmtRes!A52) -> 52 | D37: =ROW(EtalonRes!A66) -> 66 | E37: 5 | F37: 63-7-3 | G37: Разборка облицовки стен из известковых плит | H37: 100 м2 | I37: =ROUND(138.82/100,9) -> 1.3882 | J37: 0 | O37: =ROUND(CP37,2) -> 41351.11 | P37: =ROUND(CQ37*I37,2) -> 0 | Q37: =ROUND(CR37*I37,2) -> 2306.12 | R37: =ROUND(CS37*I37,2) -> 157.91 | S37: =ROUND(CT37*I37,2) -> 39044.99 | T37: =ROUND(CU37*I37,2) -> 0 | U37: =CV37*I37 -> 759.76186 | V37: =CW37*I37 -> 1.790778 | W37: =ROUND(CX37*I37,2) -> 0 | X37: =ROUND(CY37,2) -> 30186.23 | Y37: =ROUND(CZ37,2) -> 19601.45 | AA37: 16483255 | AB37: =ROUND((AC37+AD37+AF37),6) -> 4561.65 | AC37: =ROUND((ES37),6) -> 0 | AD37: =ROUND((((ET37)-(EU37))+AE37),6) -> 254.4 | AE37: =ROUND((EU37),6) -> 17.42 | AF37: =ROUND((EV37),6) -> 4307.25 | AG37: =ROUND((AP37),6) -> 0 | AH37: =(EW37) -> 547.3 | AI37: =(EX37) -> 1.29 | AJ37: =ROUND((AS37),6) -> 0 | AK37: 4561.65 | AL37: 0 | AM37: 254.4 | AN37: 17.42 | AO37: 4307.25 | AP37: 0 | AQ37: 547.3 | AR37: 1.29 | AS37: 0 | AT37: 77 | AU37: 50 | AV37: 1 | AW37: 1 | AZ37: 6.53 | BA37: 6.53 | BB37: 6.53 | BC37: 6.53 | BH37: 0 | BI37: 1 | BJ37: ФЕР-2001, 63-7-3, приказ Минстроя России №1039/пр от 30.12.2016г. | BM37: 63001 | BN37: 0 | BP37: 0 | BQ37: 6 | BR37: 0 | BS37: 6.53 | BT37: 1 | BU37: 1 | BV37: 1 | BW37: 1 | BX37: 1 | BZ37: 77 | CA37: 50 | CF37: 0 | CG37: 0 | CM37: 0 | CO37: 0 | CP37: =(P37+Q37+S37) -> 41351.11 | CQ37: =AC37*BC37 -> 0 | CR37: =AD37*BB37 -> 1661.232 | CS37: =AE37*BS37 -> 113.7526 | CT37: =AF37*BA37 -> 28126.343 | CU37: =AG37 -> 0 | CV37: =AH37 -> 547.3 | CW37: =AI37 -> 1.29 | CX37: =AJ37 -> 0 | CY37: =(((S37+R37)*AT37)/100) -> 30186.233 | CZ37: =(((S37+R37)*AU37)/100) -> 19601.45 | DN37: 0 | DO37: 0 | DP37: 1 | DQ37: 1 | DU37: 1005 | DV37: 100 м2 | DW37: 100 м2 | DX37: 100 | EE37: 16510572 | EF37: 6 | EG37: Ремонтно-строительные работы | EH37: 0 | EJ37: 1 | EK37: 63001 | EL37: Стекольные, обойные, облицовочные работы | EM37: рФЕР-63 | EQ37: 0 | ER37: 4561.65 | ES37: 0 | ET37: 254.4 | EU37: 17.42 | EV37: 4307.25 | EW37: 547.3 | EX37: 1.29 | EY37: 0 | FQ37: 0 | FR37: =ROUND(IF(AND(BH37=3,BI37=3),P37,0),2) -> 0 | FS37: 0 | FX37: 77 | FY37: 50 | GD37: 0 | GF37: -1591007834 | GG37: 1 | GH37: 1 | GI37: 4 | GJ37: 0 | GK37: =ROUND(R37*(S12)/100,2) -> 0 | GL37: =ROUND(IF(AND(BH37=3,BI37=3,FS37<>0),P37,0),2) -> 0 | GM37: =ROUND(O37+X37+Y37+GK37,2)+GX37 -> 91138.79 | GN37: =IF(OR(BI37=0,BI37=1),ROUND(O37+X37+Y37+GK37,2),0) -> 91138.79 | GO37: =IF(BI37=2,ROUND(O37+X37+Y37+GK37,2),0) -> 0 | GP37: =IF(BI37=4,ROUND(O37+X37+Y37+GK37,2)+GX37,0) -> 0 | GR37: 0 | GS37: 3 | GT37: 0 | GV37: =ROUND(GT37,6) -> 0 | GW37: 1 | GX37: =ROUND(GV37*GW37*I37,2) -> 0 | HA37: 0 | HB37: 0 | IK37: 0
A38: 17 | B38: 1 | C38: =ROW(SmtRes!A53) -> 53 | D38: =ROW(EtalonRes!A67) -> 67 | E38: 6 | F38: 46-02-009-02 | G38: Отбивка штукатурки с поверхностей стен и потолков кирпичных | H38: 100 м2 | I38: =ROUND(165.52/100,9) -> 1.6552 | J38: 0 | O38: =ROUND(CP38,2) -> 294.63 | P38: =ROUND(CQ38*I38,2) -> 0 | Q38: =ROUND(CR38*I38,2) -> 0 | R38: =ROUND(CS38*I38,2) -> 0 | S38: =ROUND(CT38*I38,2) -> 294.63 | T38: =ROUND(CU38*I38,2) -> 0 | U38: =CV38*I38 -> 37.771664 | V38: =CW38*I38 -> 0 | W38: =ROUND(CX38*I38,2) -> 0 | X38: =ROUND(CY38,2) -> 291.68 | Y38: =ROUND(CZ38,2) -> 176.78 | AA38: 16483241 | AB38: =ROUND((AC38+AD38+AF38),6) -> 178 | AC38: =ROUND((ES38),6) -> 0 | AD38: =ROUND((((ET38)-(EU38))+AE38),6) -> 0 | AE38: =ROUND((EU38),6) -> 0 | AF38: =ROUND((EV38),6) -> 178 | AG38: =ROUND((AP38),6) -> 0 | AH38: =(EW38) -> 22.82 | AI38: =(EX38) -> 0 | AJ38: =ROUND((AS38),6) -> 0 | AK38: 178 | AL38: 0 | AM38: 0 | AN38: 0 | AO38: 178 | AP38: 0 | AQ38: 22.82 | AR38: 0 | AS38: 0 | AT38: 99 | AU38: 60 | AV38: 1 | AW38: 1 | AZ38: 1 | BA38: 1 | BB38: 1 | BC38: 1 | BH38: 0 | BI38: 1 | BJ38: ФЕР-2001, 46-02-009-02, приказ Минстроя России №1039/пр от 30.12.2016г. | BM38: 46001 | BN38: 0 | BP38: 0 | BQ38: 2 | BR38: 0 | BS38: 1 | BT38: 1 | BU38: 1 | BV38: 1 | BW38: 1 | BX38: 1 | BZ38: 110 | CA38: 70 | CF38: 0 | CG38: 0 | CM38: 0 | CO38: 0 | CP38: =(P38+Q38+S38) -> 294.63 | CQ38: =AC38*BC38 -> 0 | CR38: =AD38*BB38 -> 0 | CS38: =AE38*BS38 -> 0 | CT38: =AF38*BA38 -> 178 | CU38: =AG38 -> 0 | CV38: =AH38 -> 22.82 | CW38: =AI38 -> 0 | CX38: =AJ38 -> 0 | CY38: =(((S38+R38)*AT38)/100) -> 291.6837 | CZ38: =(((S38+R38)*AU38)/100) -> 176.778 | DN38: 0 | DO38: 0 | DP38: 1 | DQ38: 1 | DU38: 1005 | DV38: 100 м2 | DW38: 100 м2 | DX38: 100 | EE38: 16510555 | EF38: 2 | EG38: Общестроительные работы | EH38: 0 | EJ38: 1 | EK38: 46001 | EL38: Реконструкция зданий и сооружений | EM38: ФЕР-46 | EQ38: 0 | ER38: 178 | ES38: 0 | ET38: 0 | EU38: 0 | EV38: 178 | EW38: 22.82 | EX38: 0 | EY38: 0 | FQ38: 0 | FR38: =ROUND(IF(AND(BH38=3,BI38=3),P38,0),2) -> 0 | FS38: 0 | FT38: *0,9 | FU38: *0,85 | FX38: 99 | FY38: 59.5 | GD38: 0 | GF38: 1716417608 | GG38: 2 | GH38: 1 | GI38: -2 | GJ38: 0 | GK38: =ROUND(R38*(R12)/100,2) -> 0 | GL38: =ROUND(IF(AND(BH38=3,BI38=3,FS38<>0),P38,0),2) -> 0 | GM38: =ROUND(O38+X38+Y38+GK38,2)+GX38 -> 763.09 | GN38: =IF(OR(BI38=0,BI38=1),ROUND(O38+X38+Y38+GK38,2),0) -> 763.09 | GO38: =IF(BI38=2,ROUND(O38+X38+Y38+GK38,2),0) -> 0 | GP38: =IF(BI38=4,ROUND(O38+X38+Y38+GK38,2)+GX38,0) -> 0 | GR38: 0 | GS38: 3 | GT38: 0 | GV38: =ROUND(GT38,6) -> 0 | GW38: 1 | GX38: =ROUND(GV38*GW38*I38,2) -> 0 | HA38: 0 | HB38: 0 | IK38: 0
A39: 17 | B39: 1 | C39: =ROW(SmtRes!A54) -> 54 | D39: =ROW(EtalonRes!A68) -> 68 | E39: 6 | F39: 46-02-009-02 | G39: Отбивка штукатурки с поверхностей стен и потолков кирпичных | H39: 100 м2 | I39: =ROUND(165.52/100,9) -> 1.6552 | J39: 0 | O39: =ROUND(CP39,2) -> 1923.91 | P39: =ROUND(CQ39*I39,2) -> 0 | Q39: =ROUND(CR39*I39,2) -> 0 | R39: =ROUND(CS39*I39,2) -> 0 | S39: =ROUND(CT39*I39,2) -> 1923.91 | T39: =ROUND(CU39*I39,2) -> 0 | U39: =CV39*I39 -> 37.771664 | V39: =CW39*I39 -> 0 | W39: =ROUND(CX39*I39,2) -> 0 | X39: =ROUND(CY39,2) -> 1904.67 | Y39: =ROUND(CZ39,2) -> 1154.35 | AA39: 16483255 | AB39: =ROUND((AC39+AD39+AF39),6) -> 178 | AC39: =ROUND((ES39),6) -> 0 | AD39: =ROUND((((ET39)-(EU39))+AE39),6) -> 0 | AE39: =ROUND((EU39),6) -> 0 | AF39: =ROUND((EV39),6) -> 178 | AG39: =ROUND((AP39),6) -> 0 | AH39: =(EW39) -> 22.82 | AI39: =(EX39) -> 0 | AJ39: =ROUND((AS39),6) -> 0 | AK39: 178 | AL39: 0 | AM39: 0 | AN39: 0 | AO39: 178 | AP39: 0 | AQ39: 22.82 | AR39: 0 | AS39: 0 | AT39: 99 | AU39: 60 | AV39: 1 | AW39: 1 | AZ39: 6.53 | BA39: 6.53 | BB39: 6.53 | BC39: 6.53 | BH39: 0 | BI39: 1 | BJ39: ФЕР-2001, 46-02-009-02, приказ Минстроя России №1039/пр от 30.12.2016г. | BM39: 46001 | BN39: 0 | BP39: 0 | BQ39: 2 | BR39: 0 | BS39: 6.53 | BT39: 1 | BU39: 1 | BV39: 1 | BW39: 1 | BX39: 1 | BZ39: 110 | CA39: 70 | CF39: 0 | CG39: 0 | CM39: 0 | CO39: 0 | CP39: =(P39+Q39+S39) -> 1923.91 | CQ39: =AC39*BC39 -> 0 | CR39: =AD39*BB39 -> 0 | CS39: =AE39*BS39 -> 0 | CT39: =AF39*BA39 -> 1162.34 | CU39: =AG39 -> 0 | CV39: =AH39 -> 22.82 | CW39: =AI39 -> 0 | CX39: =AJ39 -> 0 | CY39: =(((S39+R39)*AT39)/100) -> 1904.6709 | CZ39: =(((S39+R39)*AU39)/100) -> 1154.346 | DN39: 0 | DO39: 0 | DP39: 1 | DQ39: 1 | DU39: 1005 | DV39: 100 м2 | DW39: 100 м2 | DX39: 100 | EE39: 16510555 | EF39: 2 | EG39: Общестроительные работы | EH39: 0 | EJ39: 1 | EK39: 46001 | EL39: Реконструкция зданий и сооружений | EM39: ФЕР-46 | EQ39: 0 | ER39: 178 | ES39: 0 | ET39: 0 | EU39: 0 | EV39: 178 | EW39: 22.82 | EX39: 0 | EY39: 0 | FQ39: 0 | FR39: =ROUND(IF(AND(BH39=3,BI39=3),P39,0),2) -> 0 | FS39: 0 | FT39: *0,9 | FU39: *0,85 | FX39: 99 | FY39: 59.5 | GD39: 0 | GF39: 1716417608 | GG39: 1 | GH39: 1 | GI39: 4 | GJ39: 0 | GK39: =ROUND(R39*(S12)/100,2) -> 0 | GL39: =ROUND(IF(AND(BH39=3,BI39=3,FS39<>0),P39,0),2) -> 0 | GM39: =ROUND(O39+X39+Y39+GK39,2)+GX39 -> 4982.93 | GN39: =IF(OR(BI39=0,BI39=1),ROUND(O39+X39+Y39+GK39,2),0) -> 4982.93 | GO39: =IF(BI39=2,ROUND(O39+X39+Y39+GK39,2),0) -> 0 | GP39: =IF(BI39=4,ROUND(O39+X39+Y39+GK39,2)+GX39,0) -> 0 | GR39: 0 | GS39: 3 | GT39: 0 | GV39: =ROUND(GT39,6) -> 0 | GW39: 1 | GX39: =ROUND(GV39*GW39*I39,2) -> 0 | HA39: 0 | HB39: 0 | IK39: 0
A40: 17 | B40: 1 | C40: =ROW(SmtRes!A57) -> 57 | D40: =ROW(EtalonRes!A71) -> 71 | E40: 7 | F40: 46-04-010-06 | G40: Разборка покрытий полов из металлических плит со стороной квадрата 300 мм | H40: 100 м2 | I40: =ROUND(184.4/100,9) -> 1.844 | J40: 0 | O40: =ROUND(CP40,2) -> 2506.01 | P40: =ROUND(CQ40*I40,2) -> 0 | Q40: =ROUND(CR40*I40,2) -> 1599.67 | R40: =ROUND(CS40*I40,2) -> 178.83 | S40: =ROUND(CT40*I40,2) -> 906.34 | T40: =ROUND(CU40*I40,2) -> 0 | U40: =CV40*I40 -> 122.8104 | V40: =CW40*I40 -> 17.77616 | W40: =ROUND(CX40*I40,2) -> 0 | X40: =ROUND(CY40,2) -> 1074.32 | Y40: =ROUND(CZ40,2) -> 651.1 | AA40: 16483241 | AB40: =ROUND((AC40+AD40+AF40),6) -> 1359.01 | AC40: =ROUND((ES40),6) -> 0 | AD40: =ROUND((((ET40)-(EU40))+AE40),6) -> 867.5 | AE40: =ROUND((EU40),6) -> 96.98 | AF40: =ROUND((EV40),6) -> 491.51 | AG40: =ROUND((AP40),6) -> 0 | AH40: =(EW40) -> 66.6 | AI40: =(EX40) -> 9.64 | AJ40: =ROUND((AS40),6) -> 0 | AK40: 1359.01 | AL40: 0 | AM40: 867.5 | AN40: 96.98 | AO40: 491.51 | AP40: 0 | AQ40: 66.6 | AR40: 9.64 | AS40: 0 | AT40: 99 | AU40: 60 | AV40: 1 | AW40: 1 | AZ40: 1 | BA40: 1 | BB40: 1 | BC40: 1 | BH40: 0 | BI40: 1 | BJ40: ФЕР-2001, 46-04-010-06, приказ Минстроя России №1039/пр от 30.12.2016г. | BM40: 46001 | BN40: 0 | BP40: 0 | BQ40: 2 | BR40: 0 | BS40: 1 | BT40: 1 | BU40: 1 | BV40: 1 | BW40: 1 | BX40: 1 | BZ40: 110 | CA40: 70 | CF40: 0 | CG40: 0 | CM40: 0 | CO40: 0 | CP40: =(P40+Q40+S40) -> 2506.01 | CQ40: =AC40*BC40 -> 0 | CR40: =AD40*BB40 -> 867.5 | CS40: =AE40*BS40 -> 96.98 | CT40: =AF40*BA40 -> 491.51 | CU40: =AG40 -> 0 | CV40: =AH40 -> 66.6 | CW40: =AI40 -> 9.64 | CX40: =AJ40 -> 0 | CY40: =(((S40+R40)*AT40)/100) -> 1074.3183 | CZ40: =(((S40+R40)*AU40)/100) -> 651.102 | DN40: 0 | DO40: 0 | DP40: 1 | DQ40: 1 | DU40: 1005 | DV40: 100 м2 | DW40: 100 м2 | DX40: 100 | EE40: 16510555 | EF40: 2 | EG40: Общестроительные работы | EH40: 0 | EJ40: 1 | EK40: 46001 | EL40: Реконструкция зданий и сооружений | EM40: ФЕР-46 | EQ40: 0 | ER40: 1359.01 | ES40: 0 | ET40: 867.5 | EU40: 96.98 | EV40: 491.51 | EW40: 66.6 | EX40: 9.64 | EY40: 0 | FQ40: 0 | FR40: =ROUND(IF(AND(BH40=3,BI40=3),P40,0),2) -> 0 | FS40: 0 | FT40: *0,9 | FU40: *0,85 | FX40: 99 | FY40: 59.5 | GD40: 0 | GF40: -199279800 | GG40: 2 | GH40: 1 | GI40: -2 | GJ40: 0 | GK40: =ROUND(R40*(R12)/100,2) -> 0 | GL40: =ROUND(IF(AND(BH40=3,BI40=3,FS40<>0),P40,0),2) -> 0 | GM40: =ROUND(O40+X40+Y40+GK40,2)+GX40 -> 4231.43 | GN40: =IF(OR(BI40=0,BI40=1),ROUND(O40+X40+Y40+GK40,2),0) -> 4231.43 | GO40: =IF(BI40=2,ROUND(O40+X40+Y40+GK40,2),0) -> 0 | GP40: =IF(BI40=4,ROUND(O40+X40+Y40+GK40,2)+GX40,0) -> 0 | GR40: 0 | GS40: 3 | GT40: 0 | GV40: =ROUND(GT40,6) -> 0 | GW40: 1 | GX40: =ROUND(GV40*GW40*I40,2) -> 0 | HA40: 0 | HB40: 0 | IK40: 0
A41: 17 | B41: 1 | C41: =ROW(SmtRes!A60) -> 60 | D41: =ROW(EtalonRes!A74) -> 74 | E41: 7 | F41: 46-04-010-06 | G41: Разборка покрытий полов из металлических плит со стороной квадрата 300 мм | H41: 100 м2 | I41: =ROUND(184.4/100,9) -> 1.844 | J41: 0 | O41: =ROUND(CP41,2) -> 16364.28 | P41: =ROUND(CQ41*I41,2) -> 0 | Q41: =ROUND(CR41*I41,2) -> 10445.85 | R41: =ROUND(CS41*I41,2) -> 1167.77 | S41: =ROUND(CT41*I41,2) -> 5918.43 | T41: =ROUND(CU41*I41,2) -> 0 | U41: =CV41*I41 -> 122.8104 | V41: =CW41*I41 -> 17.77616 | W41: =ROUND(CX41*I41,2) -> 0 | X41: =ROUND(CY41,2) -> 7015.34 | Y41: =ROUND(CZ41,2) -> 4251.72 | AA41: 16483255 | AB41: =ROUND((AC41+AD41+AF41),6) -> 1359.01 | AC41: =ROUND((ES41),6) -> 0 | AD41: =ROUND((((ET41)-(EU41))+AE41),6) -> 867.5 | AE41: =ROUND((EU41),6) -> 96.98 | AF41: =ROUND((EV41),6) -> 491.51 | AG41: =ROUND((AP41),6) -> 0 | AH41: =(EW41) -> 66.6 | AI41: =(EX41) -> 9.64 | AJ41: =ROUND((AS41),6) -> 0 | AK41: 1359.01 | AL41: 0 | AM41: 867.5 | AN41: 96.98 | AO41: 491.51 | AP41: 0 | AQ41: 66.6 | AR41: 9.64 | AS41: 0 | AT41: 99 | AU41: 60 | AV41: 1 | AW41: 1 | AZ41: 6.53 | BA41: 6.53 | BB41: 6.53 | BC41: 6.53 | BH41: 0 | BI41: 1 | BJ41: ФЕР-2001, 46-04-010-06, приказ Минстроя России №1039/пр от 30.12.2016г. | BM41: 46001 | BN41: 0 | BP41: 0 | BQ41: 2 | BR41: 0 | BS41: 6.53 | BT41: 1 | BU41: 1 | BV41: 1 | BW41: 1 | BX41: 1 | BZ41: 110 | CA41: 70 | CF41: 0 | CG41: 0 | CM41: 0 | CO41: 0 | CP41: =(P41+Q41+S41) -> 16364.28 | CQ41: =AC41*BC41 -> 0 | CR41: =AD41*BB41 -> 5664.775 | CS41: =AE41*BS41 -> 633.2794 | CT41: =AF41*BA41 -> 3209.5603 | CU41: =AG41 -> 0 | CV41: =AH41 -> 66.6 | CW41: =AI41 -> 9.64 | CX41: =AJ41 -> 0 | CY41: =(((S41+R41)*AT41)/100) -> 7015.338 | CZ41: =(((S41+R41)*AU41)/100) -> 4251.72 | DN41: 0 | DO41: 0 | DP41: 1 | DQ41: 1 | DU41: 1005 | DV41: 100 м2 | DW41: 100 м2 | DX41: 100 | EE41: 16510555 | EF41: 2 | EG41: Общестроительные работы | EH41: 0 | EJ41: 1 | EK41: 46001 | EL41: Реконструкция зданий и сооружений | EM41: ФЕР-46 | EQ41: 0 | ER41: 1359.01 | ES41: 0 | ET41: 867.5 | EU41: 96.98 | EV41: 491.51 | EW41: 66.6 | EX41: 9.64 | EY41: 0 | FQ41: 0 | FR41: =ROUND(IF(AND(BH41=3,BI41=3),P41,0),2) -> 0 | FS41: 0 | FT41: *0,9 | FU41: *0,85 | FX41: 99 | FY41: 59.5 | GD41: 0 | GF41: -199279800 | GG41: 1 | GH41: 1 | GI41: 4 | GJ41: 0 | GK41: =ROUND(R41*(S12)/100,2) -> 0 | GL41: =ROUND(IF(AND(BH41=3,BI41=3,FS41<>0),P41,0),2) -> 0 | GM41: =ROUND(O41+X41+Y41+GK41,2)+GX41 -> 27631.34 | GN41: =IF(OR(BI41=0,BI41=1),ROUND(O41+X41+Y41+GK41,2),0) -> 27631.34 | GO41: =IF(BI41=2,ROUND(O41+X41+Y41+GK41,2),0) -> 0 | GP41: =IF(BI41=4,ROUND(O41+X41+Y41+GK41,2)+GX41,0) -> 0 | GR41: 0 | GS41: 3 | GT41: 0 | GV41: =ROUND(GT41,6) -> 0 | GW41: 1 | GX41: =ROUND(GV41*GW41*I41,2) -> 0 | HA41: 0 | HB41: 0 | IK41: 0
A42: 17 | B42: 1 | C42: =ROW(SmtRes!A63) -> 63 | D42: =ROW(EtalonRes!A78) -> 78 | E42: 8 | F42: 57-2-1 | G42: Разборка покрытий полов из линолеума и релина | H42: 100 м2 | I42: =ROUND(184.4/100,9) -> 1.844 | J42: 0 | O42: =ROUND(CP42,2) -> 171.31 | P42: =ROUND(CQ42*I42,2) -> 0 | Q42: =ROUND(CR42*I42,2) -> 7.49 | R42: =ROUND(CS42*I42,2) -> 3.25 | S42: =ROUND(CT42*I42,2) -> 163.82 | T42: =ROUND(CU42*I42,2) -> 0 | U42: =CV42*I42 -> 21.00316 | V42: =CW42*I42 -> 0.23972 | W42: =ROUND(CX42*I42,2) -> 0 | X42: =ROUND(CY42,2) -> 133.66 | Y42: =ROUND(CZ42,2) -> 113.61 | AA42: 16483241 | AB42: =ROUND((AC42+AD42+AF42),6) -> 92.9 | AC42: =ROUND((ES42),6) -> 0 | AD42: =ROUND((((ET42)-(EU42))+AE42),6) -> 4.06 | AE42: =ROUND((EU42),6) -> 1.76 | AF42: =ROUND((EV42),6) -> 88.84 | AG42: =ROUND((AP42),6) -> 0 | AH42: =(EW42) -> 11.39 | AI42: =(EX42) -> 0.13 | AJ42: =ROUND((AS42),6) -> 0 | AK42: 92.9 | AL42: 0 | AM42: 4.06 | AN42: 1.76 | AO42: 88.84 | AP42: 0 | AQ42: 11.39 | AR42: 0.13 | AS42: 0 | AT42: 80 | AU42: 68 | AV42: 1 | AW42: 1 | AZ42: 1 | BA42: 1 | BB42: 1 | BC42: 1 | BH42: 0 | BI42: 1 | BJ42: ФЕР-2001, 57-2-1, приказ Минстроя России №1039/пр от 30.12.2016г. | BM42: 57001 | BN42: 0 | BP42: 0 | BQ42: 6 | BR42: 0 | BS42: 1 | BT42: 1 | BU42: 1 | BV42: 1 | BW42: 1 | BX42: 1 | BZ42: 80 | CA42: 68 | CF42: 0 | CG42: 0 | CM42: 0 | CO42: 0 | CP42: =(P42+Q42+S42) -> 171.31 | CQ42: =AC42*BC42 -> 0 | CR42: =AD42*BB42 -> 4.06 | CS42: =AE42*BS42 -> 1.76 | CT42: =AF42*BA42 -> 88.84 | CU42: =AG42 -> 0 | CV42: =AH42 -> 11.39 | CW42: =AI42 -> 0.13 | CX42: =AJ42 -> 0 | CY42: =(((S42+R42)*AT42)/100) -> 133.656 | CZ42: =(((S42+R42)*AU42)/100) -> 113.6076 | DN42: 0 | DO42: 0 | DP42: 1 | DQ42: 1 | DU42: 1005 | DV42: 100 м2 | DW42: 100 м2 | DX42: 100 | EE42: 16510566 | EF42: 6 | EG42: Ремонтно-строительные работы | EH42: 0 | EJ42: 1 | EK42: 57001 | EL42: Полы | EM42: рФЕР-57 | EQ42: 0 | ER42: 92.9 | ES42: 0 | ET42: 4.06 | EU42: 1.76 | EV42: 88.84 | EW42: 11.39 | EX42: 0.13 | EY42: 0 | FQ42: 0 | FR42: =ROUND(IF(AND(BH42=3,BI42=3),P42,0),2) -> 0 | FS42: 0 | FX42: 80 | FY42: 68 | GD42: 0 | GF42: -1228944231 | GG42: 2 | GH42: 1 | GI42: -2 | GJ42: 0 | GK42: =ROUND(R42*(R12)/100,2) -> 0 | GL42: =ROUND(IF(AND(BH42=3,BI42=3,FS42<>0),P42,0),2) -> 0 | GM42: =ROUND(O42+X42+Y42+GK42,2)+GX42 -> 418.58 | GN42: =IF(OR(BI42=0,BI42=1),ROUND(O42+X42+Y42+GK42,2),0) -> 418.58 | GO42: =IF(BI42=2,ROUND(O42+X42+Y42+GK42,2),0) -> 0 | GP42: =IF(BI42=4,ROUND(O42+X42+Y42+GK42,2)+GX42,0) -> 0 | GR42: 0 | GS42: 3 | GT42: 0 | GV42: =ROUND(GT42,6) -> 0 | GW42: 1 | GX42: =ROUND(GV42*GW42*I42,2) -> 0 | HA42: 0 | HB42: 0 | IK42: 0
A43: 17 | B43: 1 | C43: =ROW(SmtRes!A66) -> 66 | D43: =ROW(EtalonRes!A82) -> 82 | E43: 8 | F43: 57-2-1 | G43: Разборка покрытий полов из линолеума и релина | H43: 100 м2 | I43: =ROUND(184.4/100,9) -> 1.844 | J43: 0 | O43: =ROUND(CP43,2) -> 1118.64 | P43: =ROUND(CQ43*I43,2) -> 0 | Q43: =ROUND(CR43*I43,2) -> 48.89 | R43: =ROUND(CS43*I43,2) -> 21.19 | S43: =ROUND(CT43*I43,2) -> 1069.75 | T43: =ROUND(CU43*I43,2) -> 0 | U43: =CV43*I43 -> 21.00316 | V43: =CW43*I43 -> 0.23972 | W43: =ROUND(CX43*I43,2) -> 0 | X43: =ROUND(CY43,2) -> 872.75 | Y43: =ROUND(CZ43,2) -> 741.84 | AA43: 16483255 | AB43: =ROUND((AC43+AD43+AF43),6) -> 92.9 | AC43: =ROUND((ES43),6) -> 0 | AD43: =ROUND((((ET43)-(EU43))+AE43),6) -> 4.06 | AE43: =ROUND((EU43),6) -> 1.76 | AF43: =ROUND((EV43),6) -> 88.84 | AG43: =ROUND((AP43),6) -> 0 | AH43: =(EW43) -> 11.39 | AI43: =(EX43) -> 0.13 | AJ43: =ROUND((AS43),6) -> 0 | AK43: 92.9 | AL43: 0 | AM43: 4.06 | AN43: 1.76 | AO43: 88.84 | AP43: 0 | AQ43: 11.39 | AR43: 0.13 | AS43: 0 | AT43: 80 | AU43: 68 | AV43: 1 | AW43: 1 | AZ43: 6.53 | BA43: 6.53 | BB43: 6.53 | BC43: 6.53 | BH43: 0 | BI43: 1 | BJ43: ФЕР-2001, 57-2-1, приказ Минстроя России №1039/пр от 30.12.2016г. | BM43: 57001 | BN43: 0 | BP43: 0 | BQ43: 6 | BR43: 0 | BS43: 6.53 | BT43: 1 | BU43: 1 | BV43: 1 | BW43: 1 | BX43: 1 | BZ43: 80 | CA43: 68 | CF43: 0 | CG43: 0 | CM43: 0 | CO43: 0 | CP43: =(P43+Q43+S43) -> 1118.64 | CQ43: =AC43*BC43 -> 0 | CR43: =AD43*BB43 -> 26.5118 | CS43: =AE43*BS43 -> 11.4928 | CT43: =AF43*BA43 -> 580.1252 | CU43: =AG43 -> 0 | CV43: =AH43 -> 11.39 | CW43: =AI43 -> 0.13 | CX43: =AJ43 -> 0 | CY43: =(((S43+R43)*AT43)/100) -> 872.752 | CZ43: =(((S43+R43)*AU43)/100) -> 741.8392 | DN43: 0 | DO43: 0 | DP43: 1 | DQ43: 1 | DU43: 1005 | DV43: 100 м2 | DW43: 100 м2 | DX43: 100 | EE43: 16510566 | EF43: 6 | EG43: Ремонтно-строительные работы | EH43: 0 | EJ43: 1 | EK43: 57001 | EL43: Полы | EM43: рФЕР-57 | EQ43: 0 | ER43: 92.9 | ES43: 0 | ET43: 4.06 | EU43: 1.76 | EV43: 88.84 | EW43: 11.39 | EX43: 0.13 | EY43: 0 | FQ43: 0 | FR43: =ROUND(IF(AND(BH43=3,BI43=3),P43,0),2) -> 0 | FS43: 0 | FX43: 80 | FY43: 68 | GD43: 0 | GF43: -1228944231 | GG43: 1 | GH43: 1 | GI43: 4 | GJ43: 0 | GK43: =ROUND(R43*(S12)/100,2) -> 0 | GL43: =ROUND(IF(AND(BH43=3,BI43=3,FS43<>0),P43,0),2) -> 0 | GM43: =ROUND(O43+X43+Y43+GK43,2)+GX43 -> 2733.23 | GN43: =IF(OR(BI43=0,BI43=1),ROUND(O43+X43+Y43+GK43,2),0) -> 2733.23 | GO43: =IF(BI43=2,ROUND(O43+X43+Y43+GK43,2),0) -> 0 | GP43: =IF(BI43=4,ROUND(O43+X43+Y43+GK43,2)+GX43,0) -> 0 | GR43: 0 | GS43: 3 | GT43: 0 | GV43: =ROUND(GT43,6) -> 0 | GW43: 1 | GX43: =ROUND(GV43*GW43*I43,2) -> 0 | HA43: 0 | HB43: 0 | IK43: 0
