Workbook

Sheet Смета 12 гр. по ФЕР
A1: =Source!B1 -> Smeta.RU (495) 974-1589
F2: ПРИЛОЖЕНИЕ 1 к ФОРМЕ 7
B4: СМЕТА
B6: =IF(Source!G20<>"Новая локальная смета", Source!G20, "")
B8: =IF(Source!G12<>"Новый объект", Source!G12, "") -> Капитальный ремонт помещений №35, №36 цокольного этажа здания Технологического института -филиала НИЯУ МИФИ(ТИ НИЯУ МИФИ) по адресу: Свердловская обл.,г.Лесной, Коммунистический проспект, д.36 | AD8: =IF(Source!G12<>"Новый объект", Source!G12, "") -> Капитальный ремонт помещений №35, №36 цокольного этажа здания Технологического института -филиала НИЯУ МИФИ(ТИ НИЯУ МИФИ) по адресу: Свердловская обл.,г.Лесной, Коммунистический проспект, д.36
G11: базовая цена | I11: текущая цена
C12: Сметная стоимость | G12: =SUM(O23:O1085)/1000 -> 171.85032 | I12: =(Source!P779/1000) -> 1351.0783 | K12: тыс. руб.
C13: Строительные работы | G13: =SUM(W23:W1085)/1000 -> 150.92102 | I13: =(Source!P766)/1000 -> 1005.5922 | K13: тыс. руб.
C14: Монтажные работы | G14: =SUM(X23:X1085)/1000 -> 20.9293 | I14: =(Source!P767)/1000 -> 139.38933 | K14: тыс. руб.
C15: Оборудование | G15: =SUM(Y23:Y1085)/1000 -> 0 | I15: =(Source!P758)/1000 -> 0 | K15: тыс. руб.
C16: Прочие работы | G16: =SUM(Z23:Z1085)/1000 -> 0 | I16: =(Source!P768+Source!P769)/1000 -> 0 | K16: тыс. руб.
C17: Нормативная трудоемкость | G17: =I17 -> 1876.5212 | I17: =(Source!P771+Source!P772) -> 1876.5212 | K17: чел. -ч.
C18: Средства на оплату труда | G18: =SUM(R23:R1085)/1000 -> 17.00502 | I18: =((Source!P764 + Source!P763)/1000) -> 113.25404 | K18: тыс. руб.
A20: Составлена в ценах I квартал 2018 года
A21: № п/п | B21: Шифр расценки и коды ресурсов | C21: Наименование работ и затрат | D21: Ед. изм. | E21: Кол-во единиц | F21: Цена на ед. изм. | G21: Попра-вочные коэфф. | H21: Стоимость в ценах 2001г. | I21: Пункт коэфф. пересчета | J21: Коэфф. пересчета | K21: Стоимость в текущих ценах | L21: ЗТР всего чел.-час
A22: 1 | B22: 2 | C22: 3 | D22: 4 | E22: 5 | F22: 6 | G22: 7 | H22: 8 | I22: 9 | J22: 10 | K22: 11 | L22: 12
A23: Раздел 1 Общестроительные работы
A24: =Source!E29 -> 1 | B24: =Source!F29 -> 46-04-012-03 | C24: =Source!G29 -> Разборка деревянных заполнений проемов дверных и воротных | D24: =Source!H29 -> 100 м2 | E24: =Source!I29 -> 0.07 | F24: =Source!AL29+Source!AM29+Source!AO29 -> 1082.58 | I24: =Source!BO29 | S24: =ROUND((Source!FX29/100)*((ROUND(Source!AF29*Source!I29, 2)+ROUND(Source!AE29*Source!I29, 2))), 2) -> 65.49 | T24: =Source!X29 -> 436.2 | U24: =ROUND((Source!FY29/100)*((ROUND(Source!AF29*Source!I29, 2)+ROUND(Source!AE29*Source!I29, 2))), 2) -> 39.36 | V24: =Source!Y29 -> 264.37
C25: ="Объем: "&Source!I29&"=7/"&"100" -> Объем: 0,07=7/100
C26: Зарплата | F26: =Source!AO29 -> 840.63 | G26: =Source!DG29 | H26: =ROUND(Source!AF29*Source!I29, 2) -> 58.84 | J26: =IF(Source!BA29<> 0, Source!BA29, 1) -> 6.66 | K26: =Source!S29 -> 391.9 | R26: =H26 -> 58.84
C27: Эксплуатация машин | F27: =Source!AM29 -> 241.95 | G27: =Source!DE29 | H27: =ROUND(Source!AD29*Source!I29, 2) -> 16.94 | J27: =IF(Source!BB29<> 0, Source!BB29, 1) -> 6.66 | K27: =Source!Q29 -> 112.8
C28: в т.ч. зарплата машинистов | F28: =Source!AN29 -> 104.49 | G28: =Source!DF29 | H28: =ROUND(Source!AE29*Source!I29, 2) -> 7.31 | J28: =IF(Source!BS29<> 0, Source!BS29, 1) -> 6.66 | K28: =Source!R29 -> 48.71 | R28: =H28 -> 7.31
C29: НР от ФОТ | D29: % | E29: =Source!BZ29 -> 110 | F29: =CONCATENATE(" )", Source!DL29, Source!FT29, "=", Source!FX29) -> )*0,9=99 | H29: =SUM(S24:S31) -> 65.49 | J29: =Source!AT29 -> 99 | K29: =SUM(T24:T31) -> 436.2
C30: СП от ФОТ | D30: % | E30: =Source!CA29 -> 70 | F30: =CONCATENATE(" )", Source!DM29, Source!FU29, "=", Source!FY29) -> )*0,85=59,5 | H30: =SUM(U24:U31) -> 39.36 | J30: =Source!AU29 -> 60 | K30: =SUM(V24:V31) -> 264.37
C31: Затраты труда | D31: чел-ч | E31: =Source!AQ29 -> 103.91 | G31: =Source!DI29 | L31: =Source!U29 -> 7.2737
G32: =H26+H27+H29+H30 -> 180.63 | J32: =K26+K27+K29+K30 -> 1205.27 | L32: =Source!U29 -> 7.2737 | O32: =G32 -> 180.63 | P32: =J32 -> 1205.27 | Q32: =L32 -> 7.2737 | W32: =IF(Source!BI29<=1,H26+H27+H29+H30, 0) -> 180.63 | X32: =IF(Source!BI29=2,H26+H27+H29+H30, 0) -> 0 | Y32: =IF(Source!BI29=3,H26+H27+H29+H30, 0) -> 0 | Z32: =IF(Source!BI29=4,H26+H27+H29+H30, 0) -> 0
A33: =Source!E31 -> 2 | B33: =Source!F31 -> 46-04-012-01 | C33: =Source!G31 -> Разборка деревянных заполнений проемов оконных с подоконными досками | D33: =Source!H31 -> 100 м2 | E33: =Source!I31 -> 0.1701 | F33: =Source!AL31+Source!AM31+Source!AO31 -> 1767.24 | I33: =Source!BO31 | S33: =ROUND((Source!FX31/100)*((ROUND(Source!AF31*Source!I31, 2)+ROUND(Source!AE31*Source!I31, 2))), 2) -> 274.45 | T33: =Source!X31 -> 1827.86 | U33: =ROUND((Source!FY31/100)*((ROUND(Source!AF31*Source!I31, 2)+ROUND(Source!AE31*Source!I31, 2))), 2) -> 164.95 | V33: =Source!Y31 -> 1107.79
C34: ="Объем: "&Source!I31&"=17,01/"&"100" -> Объем: 0,1701=17,01/100
C35: Зарплата | F35: =Source!AO31 -> 1525.29 | G35: =Source!DG31 | H35: =ROUND(Source!AF31*Source!I31, 2) -> 259.45 | J35: =IF(Source!BA31<> 0, Source!BA31, 1) -> 6.66 | K35: =Source!S31 -> 1727.95 | R35: =H35 -> 259.45
C36: Эксплуатация машин | F36: =Source!AM31 -> 241.95 | G36: =Source!DE31 | H36: =ROUND(Source!AD31*Source!I31, 2) -> 41.16 | J36: =IF(Source!BB31<> 0, Source!BB31, 1) -> 6.66 | K36: =Source!Q31 -> 274.1
C37: в т.ч. зарплата машинистов | F37: =Source!AN31 -> 104.49 | G37: =Source!DF31 | H37: =ROUND(Source!AE31*Source!I31, 2) -> 17.77 | J37: =IF(Source!BS31<> 0, Source!BS31, 1) -> 6.66 | K37: =Source!R31 -> 118.37 | R37: =H37 -> 17.77
C38: НР от ФОТ | D38: % | E38: =Source!BZ31 -> 110 | F38: =CONCATENATE(" )", Source!DL31, Source!FT31, "=", Source!FX31) -> )*0,9=99 | H38: =SUM(S33:S40) -> 274.45 | J38: =Source!AT31 -> 99 | K38: =SUM(T33:T40) -> 1827.86
C39: СП от ФОТ | D39: % | E39: =Source!CA31 -> 70 | F39: =CONCATENATE(" )", Source!DM31, Source!FU31, "=", Source!FY31) -> )*0,85=59,5 | H39: =SUM(U33:U40) -> 164.95 | J39: =Source!AU31 -> 60 | K39: =SUM(V33:V40) -> 1107.79
C40: Затраты труда | D40: чел-ч | E40: =Source!AQ31 -> 188.54 | G40: =Source!DI31 | L40: =Source!U31 -> 32.070654
G41: =H35+H36+H38+H39 -> 740.01 | J41: =K35+K36+K38+K39 -> 4937.7 | L41: =Source!U31 -> 32.070654 | O41: =G41 -> 740.01 | P41: =J41 -> 4937.7 | Q41: =L41 -> 32.070654 | W41: =IF(Source!BI31<=1,H35+H36+H38+H39, 0) -> 740.01 | X41: =IF(Source!BI31=2,H35+H36+H38+H39, 0) -> 0 | Y41: =IF(Source!BI31=3,H35+H36+H38+H39, 0) -> 0 | Z41: =IF(Source!BI31=4,H35+H36+H38+H39, 0) -> 0
A42: =Source!E33 -> 3 | B42: =Source!F33 -> 10-01-034-06 | C42: =Source!G33 -> Установка в жилых и общественных зданиях оконных блоков из ПВХ профилей поворотных (откидных, поворотно-откидных) с площадью проема более 2 м2 двухстворчатых | D42: =Source!H33 -> 100 м2 | E42: =Source!I33 -> 0.1701 | F42: =Source!AL33+Source!AM33+Source!AO33 -> 9827.15 | I42: =Source!BO33 | S42: =ROUND((Source!FX33/100)*((ROUND(Source!AF33*Source!I33, 2)+ROUND(Source!AE33*Source!I33, 2))), 2) -> 275.94 | T42: =Source!X33 -> 1834.32 | U42: =ROUND((Source!FY33/100)*((ROUND(Source!AF33*Source!I33, 2)+ROUND(Source!AE33*Source!I33, 2))), 2) -> 139.14 | V42: =Source!Y33 -> 934.46
C43: ="Объем: "&Source!I33&"=17,01/"&"100" -> Объем: 0,1701=17,01/100
C44: Зарплата | F44: =Source!AO33 -> 1273.59 | G44: =Source!DG33 -> )*1,15 | H44: =ROUND(Source!AF33*Source!I33, 2) -> 249.13 | J44: =IF(Source!BA33<> 0, Source!BA33, 1) -> 6.66 | K44: =Source!S33 -> 1659.23 | R44: =H44 -> 249.13
C45: Эксплуатация машин | F45: =Source!AM33 -> 255.21 | G45: =Source!DE33 -> )*1,25 | H45: =ROUND(Source!AD33*Source!I33, 2) -> 54.26 | J45: =IF(Source!BB33<> 0, Source!BB33, 1) -> 6.66 | K45: =Source!Q33 -> 361.4
C46: в т.ч. зарплата машинистов | F46: =Source!AN33 -> 50.32 | G46: =Source!DF33 -> )*1,25 | H46: =ROUND(Source!AE33*Source!I33, 2) -> 10.7 | J46: =IF(Source!BS33<> 0, Source!BS33, 1) -> 6.66 | K46: =Source!R33 -> 71.26 | R46: =H46 -> 10.7
...

Sheet Source
A1: 0 | B1: Smeta.RU (495) 974-1589 | D1: _PS_ | F1: 0 | G1: 0 | H1: 0 | I1: Smeta.RU | K1: 0 | L1: 13277 | M1: 10
A12: 1 | B12: 842 | C12: 0 | D12: =ROW(A781) -> 781 | E12: 0 | F12: Новый объект_(Копия) | G12: Капитальный ремонт помещений №35, №36 цокольного этажа здания Технологического института -филиала НИЯУ МИФИ(ТИ НИЯУ МИФИ) по адресу: Свердловская обл.,г.Лесной, Коммунистический проспект, д.36 | I12: 0 | K12: 0 | O12: 0 | P12: 0 | Q12: 0 | R12: 0 | S12: 0 | V12: 0 | BH12: Сметные нормы списания | BI12: Коды ценников | BJ12: 1 | BK12: 1 | BL12: 0 | BM12: 0 | BN12: 1 | BO12: 0 | BP12: 2 | BQ12: 2 | BR12: 1 | BS12: 1 | BT12: 0 | BU12: 0 | BV12: 0 | BW12: 0 | BX12: 0 | BY12: ФЕР-2017 | BZ12: ТР для Версии 10: Центральные регионы (с учетом п-ма 2536-ИП/12/ГС от 22.03.2017 г | CA12: ФЕР-2017 | CB12: ФЕР-2017 | CC12: ФЕР-2017 | CD12: ФЕР-2017 | CE12: Поправки для ГСН 2017 от 31.03.2017 г | CF12: 0 | CG12: 0 | CH12: 524296 | CK12: 4 | EC12: 0
A15: 15 | B15: 1
A18: 52 | B18: =B781 -> 842 | C18: =C781 -> 1 | D18: =D781 -> 12 | E18: =E781 -> 0 | F18: =F781 -> Новый объект_(Копия) | G18: =G781 -> Капитальный ремонт помещений №35, №36 цокольного этажа здания Технологического института -филиала НИЯУ МИФИ(ТИ НИЯУ МИФИ) по адресу: Свердловская обл.,г.Лесной, Коммунистический проспект, д.36 | O18: =O781 -> 203217.23 | P18: =P781 -> 183905.58 | Q18: =Q781 -> 2793.08 | R18: =R781 -> 486.45 | S18: =S781 -> 16518.57 | T18: =T781 -> 0 | U18: =U781 -> 1834.1846 | V18: =V781 -> 42.336587 | ... GX18: =GX781 -> 0
A20: 3 | B20: 1 | D20: =ROW(A749) -> 749 | F20: Новая локальная смета | G20: Новая локальная смета | I20: 0 | K20: 0 | V20: 0 | BX20: 0 | CF20: 0 | CG20: 0
A22: 52 | B22: =B749 -> 1 | C22: =C749 -> 3 | D22: =D749 -> 20 | E22: =E749 -> 0 | F22: =F749 -> Новая локальная смета | G22: =G749 -> Новая локальная смета | O22: =O749 -> 203217.23 | P22: =P749 -> 183905.58 | Q22: =Q749 -> 2793.08 | R22: =R749 -> 486.45 | S22: =S749 -> 16518.57 | T22: =T749 -> 0 | U22: =U749 -> 1834.1846 | V22: =V749 -> 42.336587 | ... GX22: =GX749 -> 0
A24: 4 | B24: 1 | D24: =ROW(A223) -> 223 | G24: Раздел 1 Общестроительные работы | I24: 0 | K24: 0 | V24: 0 | BX24: 0 | CJ24: 0
A26: 52 | B26: =B223 -> 1 | C26: =C223 -> 4 | D26: =D223 -> 24 | E26: =E223 -> 0 | F26: =F223 | G26: =G223 -> Раздел 1 Общестроительные работы | O26: =O223 -> 167483.01 | P26: =P223 -> 153610.92 | Q26: =Q223 -> 1423.14 | R26: =R223 -> 381.15 | S26: =S223 -> 12448.95 | T26: =T223 -> 0 | U26: =U223 -> 1394.835 | V26: =V223 -> 33.574061 | ... GX26: =GX223 -> 0
A28: 17 | B28: 1 | C28: =ROW(SmtRes!A3) -> 3 | D28: =ROW(EtalonRes!A3) -> 3 | E28: 1 | F28: 46-04-012-03 | G28: Разборка деревянных заполнений проемов дверных и воротных | H28: 100 м2 | I28: =ROUND(7/100,9) -> 0.07 | J28: 0 | O28: =ROUND(CP28,2) -> 75.78 | P28: =ROUND(CQ28*I28,2) -> 0 | Q28: =ROUND(CR28*I28,2) -> 16.94 | R28: =ROUND(CS28*I28,2) -> 7.31 | S28: =ROUND(CT28*I28,2) -> 58.84 | T28: =ROUND(CU28*I28,2) -> 0 | U28: =CV28*I28 -> 7.2737 | V28: =CW28*I28 -> 0.5418 | W28: =ROUND(CX28*I28,2) -> 0 | X28: =ROUND(CY28,2) -> 65.49 | Y28: =ROUND(CZ28,2) -> 39.69 | AA28: 39500385 | AB28: =ROUND((AC28+AD28+AF28),2) -> 1082.58 | AC28: =ROUND((ES28),2) -> 0 | AD28: =ROUND((((ET28)-(EU28))+AE28),2) -> 241.95 | AE28: =ROUND((EU28),2) -> 104.49 | AF28: =ROUND((EV28),2) -> 840.63 | AG28: =ROUND((AP28),2) -> 0 | AH28: =(EW28) -> 103.91 | AI28: =(EX28) -> 7.74 | AJ28: =ROUND((AS28),2) -> 0 | AK28: 1082.58 | AL28: 0 | AM28: 241.95 | AN28: 104.49 | AO28: 840.63 | AP28: 0 | AQ28: 103.91 | AR28: 7.74 | AS28: 0 | AT28: 99 | AU28: 60 | AV28: 1 | AW28: 1 | AZ28: 1 | BA28: 1 | BB28: 1 | BC28: 1 | BH28: 0 | BI28: 1 | BJ28: ФЕР-2001, 46-04-012-03, приказ Минстроя России №1039/пр от 30.12.2016г. | BM28: 46001 | BN28: 0 | BP28: 0 | BQ28: 2 | BR28: 0 | BS28: 1 | BT28: 1 | BU28: 1 | BV28: 1 | BW28: 1 | BX28: 1 | BZ28: 110 | CA28: 70 | CF28: 0 | CG28: 0 | CM28: 0 | CO28: 0 | CP28: =(P28+Q28+S28) -> 75.78 | CQ28: =AC28*BC28 -> 0 | CR28: =AD28*BB28 -> 241.95 | CS28: =AE28*BS28 -> 104.49 | CT28: =AF28*BA28 -> 840.63 | CU28: =AG28 -> 0 | CV28: =AH28 -> 103.91 | CW28: =AI28 -> 7.74 | CX28: =AJ28 -> 0 | CY28: =(((S28+R28)*AT28)/100) -> 65.4885 | CZ28: =(((S28+R28)*AU28)/100) -> 39.69 | DN28: 0 | DO28: 0 | DP28: 1 | DQ28: 1 | DU28: 1005 | DV28: 100 м2 | DW28: 100 м2 | DX28: 100 | EE28: 39174571 | EF28: 2 | EG28: Общестроительные работы | EH28: 0 | EJ28: 1 | EK28: 46001 | EL28: Реконструкция зданий и сооружений | EM28: ФЕР-46 | EQ28: 131072 | ER28: 1082.58 | ES28: 0 | ET28: 241.95 | EU28: 104.49 | EV28: 840.63 | EW28: 103.91 | EX28: 7.74 | EY28: 0 | FQ28: 0 | FR28: =ROUND(IF(AND(BH28=3,BI28=3),P28,0),2) -> 0 | FS28: 0 | FT28: *0,9 | FU28: *0,85 | FX28: 99 | FY28: 59.5 | GD28: 0 | GF28: 309229644 | GG28: 2 | GH28: 1 | GI28: -2 | GJ28: 0 | GK28: =ROUND(R28*(R12)/100,2) -> 0 | GL28: =ROUND(IF(AND(BH28=3,BI28=3,FS28<>0),P28,0),2) -> 0 | GM28: =ROUND(O28+X28+Y28+GK28,2)+GX28 -> 180.96 | GN28: =IF(OR(BI28=0,BI28=1),ROUND(O28+X28+Y28+GK28,2),0) -> 180.96 | GO28: =IF(BI28=2,ROUND(O28+X28+Y28+GK28,2),0) -> 0 | GP28: =IF(BI28=4,ROUND(O28+X28+Y28+GK28,2)+GX28,0) -> 0 | GR28: 0 | GS28: 3 | GT28: 0 | GV28: =ROUND(GT28,2) -> 0 | GW28: 1 | GX28: =ROUND(GV28*GW28*I28,2) -> 0 | HA28: 0 | HB28: 0 | IK28: 0
A29: 17 | B29: 1 | C29: =ROW(SmtRes!A6) -> 6 | D29: =ROW(EtalonRes!A6) -> 6 | E29: 1 | F29: 46-04-012-03 | G29: Разборка деревянных заполнений проемов дверных и воротных | H29: 100 м2 | I29: =ROUND(7/100,9) -> 0.07 | J29: 0 | O29: =ROUND(CP29,2) -> 504.7 | P29: =ROUND(CQ29*I29,2) -> 0 | Q29: =ROUND(CR29*I29,2) -> 112.8 | R29: =ROUND(CS29*I29,2) -> 48.71 | S29: =ROUND(CT29*I29,2) -> 391.9 | T29: =ROUND(CU29*I29,2) -> 0 | U29: =CV29*I29 -> 7.2737 | V29: =CW29*I29 -> 0.5418 | W29: =ROUND(CX29*I29,2) -> 0 | X29: =ROUND(CY29,2) -> 436.2 | Y29: =ROUND(CZ29,2) -> 264.37 | AA29: 39500386 | AB29: =ROUND((AC29+AD29+AF29),2) -> 1082.58 | AC29: =ROUND((ES29),2) -> 0 | AD29: =ROUND((((ET29)-(EU29))+AE29),2) -> 241.95 | AE29: =ROUND((EU29),2) -> 104.49 | AF29: =ROUND((EV29),2) -> 840.63 | AG29: =ROUND((AP29),2) -> 0 | AH29: =(EW29) -> 103.91 | AI29: =(EX29) -> 7.74 | AJ29: =ROUND((AS29),2) -> 0 | AK29: 1082.58 | AL29: 0 | AM29: 241.95 | AN29: 104.49 | AO29: 840.63 | AP29: 0 | AQ29: 103.91 | AR29: 7.74 | AS29: 0 | AT29: 99 | AU29: 60 | AV29: 1 | AW29: 1 | AZ29: 6.66 | BA29: 6.66 | BB29: 6.66 | BC29: 6.66 | BH29: 0 | BI29: 1 | BJ29: ФЕР-2001, 46-04-012-03, приказ Минстроя России №1039/пр от 30.12.2016г. | BM29: 46001 | BN29: 0 | BP29: 0 | BQ29: 2 | BR29: 0 | BS29: 6.66 | BT29: 1 | BU29: 1 | BV29: 1 | BW29: 1 | BX29: 1 | BZ29: 110 | CA29: 70 | CF29: 0 | CG29: 0 | CM29: 0 | CO29: 0 | CP29: =(P29+Q29+S29) -> 504.7 | CQ29: =AC29*BC29 -> 0 | CR29: =AD29*BB29 -> 1611.387 | CS29: =AE29*BS29 -> 695.9034 | CT29: =AF29*BA29 -> 5598.5958 | CU29: =AG29 -> 0 | CV29: =AH29 -> 103.91 | CW29: =AI29 -> 7.74 | CX29: =AJ29 -> 0 | CY29: =(((S29+R29)*AT29)/100) -> 436.2039 | CZ29: =(((S29+R29)*AU29)/100) -> 264.366 | DN29: 0 | DO29: 0 | DP29: 1 | DQ29: 1 | DU29: 1005 | DV29: 100 м2 | DW29: 100 м2 | DX29: 100 | EE29: 39174571 | EF29: 2 | EG29: Общестроительные работы | EH29: 0 | EJ29: 1 | EK29: 46001 | EL29: Реконструкция зданий и сооружений | EM29: ФЕР-46 | EQ29: 131072 | ER29: 1082.58 | ES29: 0 | ET29: 241.95 | EU29: 104.49 | EV29: 840.63 | EW29: 103.91 | EX29: 7.74 | EY29: 0 | FQ29: 0 | FR29: =ROUND(IF(AND(BH29=3,BI29=3),P29,0),2) -> 0 | FS29: 0 | FT29: *0,9 | FU29: *0,85 | FX29: 99 | FY29: 59.5 | GD29: 0 | GF29: 309229644 | GG29: 1 | GH29: 1 | GI29: 4 | GJ29: 0 | GK29: =ROUND(R29*(S12)/100,2) -> 0 | GL29: =ROUND(IF(AND(BH29=3,BI29=3,FS29<>0),P29,0),2) -> 0 | GM29: =ROUND(O29+X29+Y29+GK29,2)+GX29 -> 1205.27 | GN29: =IF(OR(BI29=0,BI29=1),ROUND(O29+X29+Y29+GK29,2),0) -> 1205.27 | GO29: =IF(BI29=2,ROUND(O29+X29+Y29+GK29,2),0) -> 0 | GP29: =IF(BI29=4,ROUND(O29+X29+Y29+GK29,2)+GX29,0) -> 0 | GR29: 0 | GS29: 3 | GT29: 0 | GV29: =ROUND(GT29,2) -> 0 | GW29: 1 | GX29: =ROUND(GV29*GW29*I29,2) -> 0 | HA29: 0 | HB29: 0 | IK29: 0
A30: 17 | B30: 1 | C30: =ROW(SmtRes!A9) -> 9 | D30: =ROW(EtalonRes!A9) -> 9 | E30: 2 | F30: 46-04-012-01 | G30: Разборка деревянных заполнений проемов оконных с подоконными досками | H30: 100 м2 | I30: =ROUND(17.01/100,9) -> 0.1701 | J30: 0 | O30: =ROUND(CP30,2) -> 300.61 | P30: =ROUND(CQ30*I30,2) -> 0 | Q30: =ROUND(CR30*I30,2) -> 41.16 | R30: =ROUND(CS30*I30,2) -> 17.77 | S30: =ROUND(CT30*I30,2) -> 259.45 | T30: =ROUND(CU30*I30,2) -> 0 | U30: =CV30*I30 -> 32.070654 | V30: =CW30*I30 -> 1.316574 | W30: =ROUND(CX30*I30,2) -> 0 | X30: =ROUND(CY30,2) -> 274.45 | Y30: =ROUND(CZ30,2) -> 166.33 | AA30: 39500385 | AB30: =ROUND((AC30+AD30+AF30),2) -> 1767.24 | AC30: =ROUND((ES30),2) -> 0 | AD30: =ROUND((((ET30)-(EU30))+AE30),2) -> 241.95 | AE30: =ROUND((EU30),2) -> 104.49 | AF30: =ROUND((EV30),2) -> 1525.29 | AG30: =ROUND((AP30),2) -> 0 | AH30: =(EW30) -> 188.54 | AI30: =(EX30) -> 7.74 | AJ30: =ROUND((AS30),2) -> 0 | AK30: 1767.24 | AL30: 0 | AM30: 241.95 | AN30: 104.49 | AO30: 1525.29 | AP30: 0 | AQ30: 188.54 | AR30: 7.74 | AS30: 0 | AT30: 99 | AU30: 60 | AV30: 1 | AW30: 1 | AZ30: 1 | BA30: 1 | BB30: 1 | BC30: 1 | BH30: 0 | BI30: 1 | BJ30: ФЕР-2001, 46-04-012-01, приказ Минстроя России №1039/пр от 30.12.2016г. | BM30: 46001 | BN30: 0 | BP30: 0 | BQ30: 2 | BR30: 0 | BS30: 1 | BT30: 1 | BU30: 1 | BV30: 1 | BW30: 1 | BX30: 1 | BZ30: 110 | CA30: 70 | CF30: 0 | CG30: 0 | CM30: 0 | CO30: 0 | CP30: =(P30+Q30+S30) -> 300.61 | CQ30: =AC30*BC30 -> 0 | CR30: =AD30*BB30 -> 241.95 | CS30: =AE30*BS30 -> 104.49 | CT30: =AF30*BA30 -> 1525.29 | CU30: =AG30 -> 0 | CV30: =AH30 -> 188.54 | CW30: =AI30 -> 7.74 | CX30: =AJ30 -> 0 | CY30: =(((S30+R30)*AT30)/100) -> 274.4478 | CZ30: =(((S30+R30)*AU30)/100) -> 166.332 | DN30: 0 | DO30: 0 | DP30: 1 | DQ30: 1 | DU30: 1005 | DV30: 100 м2 | DW30: 100 м2 | DX30: 100 | EE30: 39174571 | EF30: 2 | EG30: Общестроительные работы | EH30: 0 | EJ30: 1 | EK30: 46001 | EL30: Реконструкция зданий и сооружений | EM30: ФЕР-46 | EQ30: 0 | ER30: 1767.24 | ES30: 0 | ET30: 241.95 | EU30: 104.49 | EV30: 1525.29 | EW30: 188.54 | EX30: 7.74 | EY30: 0 | FQ30: 0 | FR30: =ROUND(IF(AND(BH30=3,BI30=3),P30,0),2) -> 0 | FS30: 0 | FT30: *0,9 | FU30: *0,85 | FX30: 99 | FY30: 59.5 | GD30: 0 | GF30: 1630687704 | GG30: 2 | GH30: 1 | GI30: -2 | GJ30: 0 | GK30: =ROUND(R30*(R12)/100,2) -> 0 | GL30: =ROUND(IF(AND(BH30=3,BI30=3,FS30<>0),P30,0),2) -> 0 | GM30: =ROUND(O30+X30+Y30+GK30,2)+GX30 -> 741.39 | GN30: =IF(OR(BI30=0,BI30=1),ROUND(O30+X30+Y30+GK30,2),0) -> 741.39 | GO30: =IF(BI30=2,ROUND(O30+X30+Y30+GK30,2),0) -> 0 | GP30: =IF(BI30=4,ROUND(O30+X30+Y30+GK30,2)+GX30,0) -> 0 | GR30: 0 | GS30: 3 | GT30: 0 | GV30: =ROUND(GT30,2) -> 0 | GW30: 1 | GX30: =ROUND(GV30*GW30*I30,2) -> 0 | HA30: 0 | HB30: 0 | IK30: 0
A31: 17 | B31: 1 | C31: =ROW(SmtRes!A12) -> 12 | D31: =ROW(EtalonRes!A12) -> 12 | E31: 2 | F31: 46-04-012-01 | G31: Разборка деревянных заполнений проемов оконных с подоконными досками | H31: 100 м2 | I31: =ROUND(17.01/100,9) -> 0.1701 | J31: 0 | O31: =ROUND(CP31,2) -> 2002.05 | P31: =ROUND(CQ31*I31,2) -> 0 | Q31: =ROUND(CR31*I31,2) -> 274.1 | R31: =ROUND(CS31*I31,2) -> 118.37 | S31: =ROUND(CT31*I31,2) -> 1727.95 | T31: =ROUND(CU31*I31,2) -> 0 | U31: =CV31*I31 -> 32.070654 | V31: =CW31*I31 -> 1.316574 | W31: =ROUND(CX31*I31,2) -> 0 | X31: =ROUND(CY31,2) -> 1827.86 | Y31: =ROUND(CZ31,2) -> 1107.79 | AA31: 39500386 | AB31: =ROUND((AC31+AD31+AF31),2) -> 1767.24 | AC31: =ROUND((ES31),2) -> 0 | AD31: =ROUND((((ET31)-(EU31))+AE31),2) -> 241.95 | AE31: =ROUND((EU31),2) -> 104.49 | AF31: =ROUND((EV31),2) -> 1525.29 | AG31: =ROUND((AP31),2) -> 0 | AH31: =(EW31) -> 188.54 | AI31: =(EX31) -> 7.74 | AJ31: =ROUND((AS31),2) -> 0 | AK31: 1767.24 | AL31: 0 | AM31: 241.95 | AN31: 104.49 | AO31: 1525.29 | AP31: 0 | AQ31: 188.54 | AR31: 7.74 | AS31: 0 | AT31: 99 | AU31: 60 | AV31: 1 | AW31: 1 | AZ31: 6.66 | BA31: 6.66 | BB31: 6.66 | BC31: 6.66 | BH31: 0 | BI31: 1 | BJ31: ФЕР-2001, 46-04-012-01, приказ Минстроя России №1039/пр от 30.12.2016г. | BM31: 46001 | BN31: 0 | BP31: 0 | BQ31: 2 | BR31: 0 | BS31: 6.66 | BT31: 1 | BU31: 1 | BV31: 1 | BW31: 1 | BX31: 1 | BZ31: 110 | CA31: 70 | CF31: 0 | CG31: 0 | CM31: 0 | CO31: 0 | CP31: =(P31+Q31+S31) -> 2002.05 | CQ31: =AC31*BC31 -> 0 | CR31: =AD31*BB31 -> 1611.387 | CS31: =AE31*BS31 -> 695.9034 | CT31: =AF31*BA31 -> 10158.431 | CU31: =AG31 -> 0 | CV31: =AH31 -> 188.54 | CW31: =AI31 -> 7.74 | CX31: =AJ31 -> 0 | CY31: =(((S31+R31)*AT31)/100) -> 1827.8568 | CZ31: =(((S31+R31)*AU31)/100) -> 1107.792 | DN31: 0 | DO31: 0 | DP31: 1 | DQ31: 1 | DU31: 1005 | DV31: 100 м2 | DW31: 100 м2 | DX31: 100 | EE31: 39174571 | EF31: 2 | EG31: Общестроительные работы | EH31: 0 | EJ31: 1 | EK31: 46001 | EL31: Реконструкция зданий и сооружений | EM31: ФЕР-46 | EQ31: 0 | ER31: 1767.24 | ES31: 0 | ET31: 241.95 | EU31: 104.49 | EV31: 1525.29 | EW31: 188.54 | EX31: 7.74 | EY31: 0 | FQ31: 0 | FR31: =ROUND(IF(AND(BH31=3,BI31=3),P31,0),2) -> 0 | FS31: 0 | FT31: *0,9 | FU31: *0,85 | FX31: 99 | FY31: 59.5 | GD31: 0 | GF31: 1630687704 | GG31: 1 | GH31: 1 | GI31: 4 | GJ31: 0 | GK31: =ROUND(R31*(S12)/100,2) -> 0 | GL31: =ROUND(IF(AND(BH31=3,BI31=3,FS31<>0),P31,0),2) -> 0 | GM31: =ROUND(O31+X31+Y31+GK31,2)+GX31 -> 4937.7 | GN31: =IF(OR(BI31=0,BI31=1),ROUND(O31+X31+Y31+GK31,2),0) -> 4937.7 | GO31: =IF(BI31=2,ROUND(O31+X31+Y31+GK31,2),0) -> 0 | GP31: =IF(BI31=4,ROUND(O31+X31+Y31+GK31,2)+GX31,0) -> 0 | GR31: 0 | GS31: 3 | GT31: 0 | GV31: =ROUND(GT31,2) -> 0 | GW31: 1 | GX31: =ROUND(GV31*GW31*I31,2) -> 0 | HA31: 0 | HB31: 0 | IK31: 0
A32: 17 | B32: 1 | C32: =ROW(SmtRes!A23) -> 23 | D32: =ROW(EtalonRes!A23) -> 23 | E32: 3 | F32: 10-01-034-06 | G32: Установка в жилых и общественных зданиях оконных блоков из ПВХ профилей поворотных (откидных, поворотно-откидных) с площадью проема более 2 м2 двухстворчатых | H32: 100 м2 | I32: =ROUND(17.01/100,9) -> 0.1701 | J32: 0 | O32: =ROUND(CP32,2) -> 1714.94 | P32: =ROUND(CQ32*I32,2) -> 1411.55 | Q32: =ROUND(CR32*I32,2) -> 54.26 | R32: =ROUND(CS32*I32,2) -> 10.7 | S32: =ROUND(CT32*I32,2) -> 249.13 | T32: =ROUND(CU32*I32,2) -> 0 | U32: =CV32*I32 -> 28.505018 | V32: =CW32*I32 -> 0.89940375 | W32: =ROUND(CX32*I32,2) -> 0 | X32: =ROUND(CY32,2) -> 275.42 | Y32: =ROUND(CZ32,2) -> 140.31 | AA32: 39500385 | AB32: =ROUND((AC32+AD32+AF32),2) -> 10081.99 | AC32: =ROUND((ES32),2) -> 8298.35 | AD32: =ROUND(((((ET32*1.25))-((EU32*1.25)))+AE32),2) -> 319.01 | AE32: =ROUND(((EU32*1.25)),2) -> 62.9 | AF32: =ROUND(((EV32*1.15)),2) -> 1464.63 | AG32: =ROUND((AP32),2) -> 0 | AH32: =((EW32*1.15)) -> 167.578 | AI32: =((EX32*1.25)) -> 5.2875 | AJ32: =ROUND((AS32),2) -> 0 | AK32: 9827.15 | AL32: 8298.35 | AM32: 255.21 | AN32: 50.32 | AO32: 1273.59 | AP32: 0 | AQ32: 145.72 | AR32: 4.23 | AS32: 0 | AT32: 106 | AU32: 54 | AV32: 1 | AW32: 1 | AZ32: 1 | BA32: 1 | BB32: 1 | BC32: 1 | BH32: 0 | BI32: 1 | BJ32: ФЕР-2001, 10-01-034-06, приказ Минстроя России №1039/пр от 30.12.2016г. | BM32: 10001 | BN32: 0 | BP32: 0 | BQ32: 2 | BR32: 0 | BS32: 1 | BT32: 1 | BU32: 1 | BV32: 1 | BW32: 1 | BX32: 1 | BZ32: 118 | CA32: 63 | CF32: 0 | CG32: 0 | CM32: 0 | CN32: Поправка: МДС 81-35.2004, п.4.7 Наименование: Работы, выполняемые при реконструкции зданий и сооружений работы, аналогичные технологическим процессам в новом строительстве (в том числе возведение новых конструктивных элементов) стоимость которых определена по соответствующим сборникам ФЕР, кроме сборника № 46 «Работы при реконструкции зданий и сооружений» | CO32: 0 | CP32: =(P32+Q32+S32) -> 1714.94 | CQ32: =AC32*BC32 -> 8298.35 | CR32: =AD32*BB32 -> 319.01 | CS32: =AE32*BS32 -> 62.9 | CT32: =AF32*BA32 -> 1464.63 | CU32: =AG32 -> 0 | CV32: =AH32 -> 167.578 | CW32: =AI32 -> 5.2875 | CX32: =AJ32 -> 0 | CY32: =(((S32+R32)*AT32)/100) -> 275.4198 | CZ32: =(((S32+R32)*AU32)/100) -> 140.3082 | DE32: )*1,25 | DF32: )*1,25 | DG32: )*1,15 | DI32: )*1,15 | DJ32: )*1,25 | DN32: 0 | DO32: 0 | DP32: 1 | DQ32: 1 | DU32: 1005 | DV32: 100 м2 | DW32: 100 м2 | DX32: 100 | EE32: 39174503 | EF32: 2 | EG32: Общестроительные работы | EH32: 0 | EJ32: 1 | EK32: 10001 | EL32: Деревянные конструкции | EM32: ФЕР-10 | EO32: Поправка: МДС 81-35.2004, п.4.7 | EQ32: 0 | ER32: 9827.15 | ES32: 8298.35 | ET32: 255.21 | EU32: 50.32 | EV32: 1273.59 | EW32: 145.72 | EX32: 4.23 | EY32: 0 | FQ32: 0 | FR32: =ROUND(IF(AND(BH32=3,BI32=3),P32,0),2) -> 0 | FS32: 0 | FT32: *0,9 | FU32: *0,85 | FX32: 106.2 | FY32: 53.55 | GD32: 0 | GF32: 1452579699 | GG32: 2 | GH32: 1 | GI32: -2 | GJ32: 0 | GK32: =ROUND(R32*(R12)/100,2) -> 0 | GL32: =ROUND(IF(AND(BH32=3,BI32=3,FS32<>0),P32,0),2) -> 0 | GM32: =ROUND(O32+X32+Y32+GK32,2)+GX32 -> 2130.67 | GN32: =IF(OR(BI32=0,BI32=1),ROUND(O32+X32+Y32+GK32,2),0) -> 2130.67 | GO32: =IF(BI32=2,ROUND(O32+X32+Y32+GK32,2),0) -> 0 | GP32: =IF(BI32=4,ROUND(O32+X32+Y32+GK32,2)+GX32,0) -> 0 | GR32: 0 | GS32: 3 | GT32: 0 | GV32: =ROUND(GT32,2) -> 0 | GW32: 1 | GX32: =ROUND(GV32*GW32*I32,2) -> 0 | HA32: 0 | HB32: 0 | IK32: 0
A33: 17 | B33: 1 | C33: =ROW(SmtRes!A34) -> 34 | D33: =ROW(EtalonRes!A34) -> 34 | E33: 3 | F33: 10-01-034-06 | G33: Установка в жилых и общественных зданиях оконных блоков из ПВХ профилей поворотных (откидных, поворотно-откидных) с площадью проема более 2 м2 двухстворчатых | H33: 100 м2 | I33: =ROUND(17.01/100,9) -> 0.1701 | J33: 0 | O33: =ROUND(CP33,2) -> 11421.55 | P33: =ROUND(CQ33*I33,2) -> 9400.92 | Q33: =ROUND(CR33*I33,2) -> 361.4 | R33: =ROUND(CS33*I33,2) -> 71.26 | S33: =ROUND(CT33*I33,2) -> 1659.23 | T33: =ROUND(CU33*I33,2) -> 0 | U33: =CV33*I33 -> 28.505018 | V33: =CW33*I33 -> 0.89940375 | W33: =ROUND(CX33*I33,2) -> 0 | X33: =ROUND(CY33,2) -> 1834.32 | Y33: =ROUND(CZ33,2) -> 934.46 | AA33: 39500386 | AB33: =ROUND((AC33+AD33+AF33),2) -> 10081.99 | AC33: =ROUND((ES33),2) -> 8298.35 | AD33: =ROUND(((((ET33*1.25))-((EU33*1.25)))+AE33),2) -> 319.01 | AE33: =ROUND(((EU33*1.25)),2) -> 62.9 | AF33: =ROUND(((EV33*1.15)),2) -> 1464.63 | AG33: =ROUND((AP33),2) -> 0 | AH33: =((EW33*1.15)) -> 167.578 | AI33: =((EX33*1.25)) -> 5.2875 | AJ33: =ROUND((AS33),2) -> 0 | AK33: 9827.15 | AL33: 8298.35 | AM33: 255.21 | AN33: 50.32 | AO33: 1273.59 | AP33: 0 | AQ33: 145.72 | AR33: 4.23 | AS33: 0 | AT33: 106 | AU33: 54 | AV33: 1 | AW33: 1 | AZ33: 6.66 | BA33: 6.66 | BB33: 6.66 | BC33: 6.66 | BH33: 0 | BI33: 1 | BJ33: ФЕР-2001, 10-01-034-06, приказ Минстроя России №1039/пр от 30.12.2016г. | BM33: 10001 | BN33: 0 | BP33: 0 | BQ33: 2 | BR33: 0 | BS33: 6.66 | BT33: 1 | BU33: 1 | BV33: 1 | BW33: 1 | BX33: 1 | BZ33: 118 | CA33: 63 | CF33: 0 | CG33: 0 | CM33: 0 | CN33: Поправка: МДС 81-35.2004, п.4.7 Наименование: Работы, выполняемые при реконструкции зданий и сооружений работы, аналогичные технологическим процессам в новом строительстве (в том числе возведение новых конструктивных элементов) стоимость которых определена по соответствующим сборникам ФЕР, кроме сборника № 46 «Работы при реконструкции зданий и сооружений» | CO33: 0 | CP33: =(P33+Q33+S33) -> 11421.55 | CQ33: =AC33*BC33 -> 55267.011 | CR33: =AD33*BB33 -> 2124.6066 | CS33: =AE33*BS33 -> 418.914 | CT33: =AF33*BA33 -> 9754.4358 | CU33: =AG33 -> 0 | CV33: =AH33 -> 167.578 | CW33: =AI33 -> 5.2875 | CX33: =AJ33 -> 0 | CY33: =(((S33+R33)*AT33)/100) -> 1834.3194 | CZ33: =(((S33+R33)*AU33)/100) -> 934.4646 | DE33: )*1,25 | DF33: )*1,25 | DG33: )*1,15 | DI33: )*1,15 | DJ33: )*1,25 | DN33: 0 | DO33: 0 | DP33: 1 | DQ33: 1 | DU33: 1005 | DV33: 100 м2 | DW33: 100 м2 | DX33: 100 | EE33: 39174503 | EF33: 2 | EG33: Общестроительные работы | EH33: 0 | EJ33: 1 | EK33: 10001 | EL33: Деревянные конструкции | EM33: ФЕР-10 | EO33: Поправка: МДС 81-35.2004, п.4.7 | EQ33: 0 | ER33: 9827.15 | ES33: 8298.35 | ET33: 255.21 | EU33: 50.32 | EV33: 1273.59 | EW33: 145.72 | EX33: 4.23 | EY33: 0 | FQ33: 0 | FR33: =ROUND(IF(AND(BH33=3,BI33=3),P33,0),2) -> 0 | FS33: 0 | FT33: *0,9 | FU33: *0,85 | FX33: 106.2 | FY33: 53.55 | GD33: 0 | GF33: 1452579699 | GG33: 1 | GH33: 1 | GI33: 4 | GJ33: 0 | GK33: =ROUND(R33*(S12)/100,2) -> 0 | GL33: =ROUND(IF(AND(BH33=3,BI33=3,FS33<>0),P33,0),2) -> 0 | GM33: =ROUND(O33+X33+Y33+GK33,2)+GX33 -> 14190.33 | GN33: =IF(OR(BI33=0,BI33=1),ROUND(O33+X33+Y33+GK33,2),0) -> 14190.33 | GO33: =IF(BI33=2,ROUND(O33+X33+Y33+GK33,2),0) -> 0 | GP33: =IF(BI33=4,ROUND(O33+X33+Y33+GK33,2)+GX33,0) -> 0 | GR33: 0 | GS33: 3 | GT33: 0 | GV33: =ROUND(GT33,2) -> 0 | GW33: 1 | GX33: =ROUND(GV33*GW33*I33,2) -> 0 | HA33: 0 | HB33: 0 | IK33: 0
A34: 18 | B34: 1 | C34: 23 | E34: 3,1 | F34: Цена поставщика | G34: Блок оконный из ПВХ | H34: м2 | I34: =I32*J34 -> 17.01 | J34: 100 | O34: =ROUND(CP34,2) -> 83790.24 | P34: =ROUND(CQ34*I34,2) -> 83790.24 | Q34: =ROUND(CR34*I34,2) -> 0 | R34: =ROUND(CS34*I34,2) -> 0 | S34: =ROUND(CT34*I34,2) -> 0 | T34: =ROUND(CU34*I34,2) -> 0 | U34: =CV34*I34 -> 0 | V34: =CW34*I34 -> 0 | W34: =ROUND(CX34*I34,2) -> 0 | X34: =ROUND(CY34,2) -> 0 | Y34: =ROUND(CZ34,2) -> 0 | AA34: 39500385 | AB34: =ROUND((AC34+AD34+AF34),2) -> 4925.94 | AC34: =ROUND((ES34),2) -> 4925.94 | AD34: =ROUND((((ET34)-(EU34))+AE34),2) -> 0 | AE34: =ROUND((EU34),2) -> 0 | AF34: =ROUND((EV34),2) -> 0 | AG34: =ROUND((AP34),2) -> 0 | AH34: =(EW34) -> 0 | AI34: =(EX34) -> 0 | AJ34: =ROUND((AS34),2) -> 0 | AK34: 4925.94 | AL34: 4925.94 | AM34: 0 | AN34: 0 | AO34: 0 | AP34: 0 | AQ34: 0 | AR34: 0 | AS34: 0 | AT34: 106 | AU34: 54 | AV34: 1 | AW34: 1 | AZ34: 1 | BA34: 1 | BB34: 1 | BC34: 1 | BH34: 3 | BI34: 1 | BM34: 10001 | BN34: 0 | BP34: 0 | BQ34: 2 | BR34: 0 | BS34: 1 | BT34: 1 | BU34: 1 | BV34: 1 | BW34: 1 | BX34: 1 | BZ34: 118 | CA34: 63 | CF34: 0 | CG34: 0 | CM34: 0 | CO34: 0 | CP34: =(P34+Q34+S34) -> 83790.24 | CQ34: =AC34*BC34 -> 4925.94 | CR34: =AD34*BB34 -> 0 | CS34: =AE34*BS34 -> 0 | CT34: =AF34*BA34 -> 0 | CU34: =AG34 -> 0 | CV34: =AH34 -> 0 | CW34: =AI34 -> 0 | CX34: =AJ34 -> 0 | CY34: =(((S34+R34)*AT34)/100) -> 0 | CZ34: =(((S34+R34)*AU34)/100) -> 0 | DN34: 0 | DO34: 0 | DP34: 1 | DQ34: 1 | DU34: 1005 | DV34: м2 | DW34: м2 | DX34: 1 | EE34: 39174503 | EF34: 2 | EG34: Общестроительные работы | EH34: 0 | EJ34: 1 | EK34: 10001 | EL34: Деревянные конструкции | EM34: ФЕР-10 | EQ34: 0 | ER34: 4925.94 | ES34: 4925.94 | ET34: 0 | EU34: 0 | EV34: 0 | EW34: 0 | EX34: 0 | EZ34: 5 | FC34: 1 | FD34: 18 | FF34: 5812.61 | FQ34: 0 | FR34: =ROUND(IF(AND(BH34=3,BI34=3),P34,0),2) -> 0 | FS34: 0 | FT34: *0,9 | FU34: *0,85 | FX34: 106.2 | FY34: 53.55 | GA34: [5 812,61 / 1,18] | GD34: 0 | GF34: -1540480485 | GG34: 2 | GH34: 3 | GI34: -2 | GJ34: 0 | GK34: =ROUND(R34*(R12)/100,2) -> 0 | GL34: =ROUND(IF(AND(BH34=3,BI34=3,FS34<>0),P34,0),2) -> 0 | GM34: =ROUND(O34+X34+Y34+GK34,2)+GX34 -> 83790.24 | GN34: =IF(OR(BI34=0,BI34=1),ROUND(O34+X34+Y34+GK34,2),0) -> 83790.24 | GO34: =IF(BI34=2,ROUND(O34+X34+Y34+GK34,2),0) -> 0 | GP34: =IF(BI34=4,ROUND(O34+X34+Y34+GK34,2)+GX34,0) -> 0 | GR34: 1 | GS34: 1 | GT34: 0 | GV34: =ROUND(GT34,2) -> 0 | GW34: 1 | GX34: =ROUND(GV34*GW34*I34,2) -> 0 | HA34: 0 | HB34: 0 | IK34: 0
A35: 18 | B35: 1 | C35: 34 | E35: 3,1 | F35: Цена поставщика | G35: Блок оконный из ПВХ | H35: м2 | I35: =I33*J35 -> 17.01 | J35: 100 | O35: =ROUND(CP35,2) -> 83790.17 | P35: =ROUND(CQ35*I35,2) -> 83790.17 | Q35: =ROUND(CR35*I35,2) -> 0 | R35: =ROUND(CS35*I35,2) -> 0 | S35: =ROUND(CT35*I35,2) -> 0 | T35: =ROUND(CU35*I35,2) -> 0 | U35: =CV35*I35 -> 0 | V35: =CW35*I35 -> 0 | W35: =ROUND(CX35*I35,2) -> 0 | X35: =ROUND(CY35,2) -> 0 | Y35: =ROUND(CZ35,2) -> 0 | AA35: 39500386 | AB35: =ROUND((AC35+AD35+AF35),2) -> 739.63 | AC35: =ROUND((ES35),2) -> 739.63 | AD35: =ROUND((((ET35)-(EU35))+AE35),2) -> 0 | AE35: =ROUND((EU35),2) -> 0 | AF35: =ROUND((EV35),2) -> 0 | AG35: =ROUND((AP35),2) -> 0 | AH35: =(EW35) -> 0 | AI35: =(EX35) -> 0 | AJ35: =ROUND((AS35),2) -> 0 | AK35: 739.63 | AL35: 739.63 | AM35: 0 | AN35: 0 | AO35: 0 | AP35: 0 | AQ35: 0 | AR35: 0 | AS35: 0 | AT35: 106 | AU35: 54 | AV35: 1 | AW35: 1 | AZ35: 6.66 | BA35: 1 | BB35: 1 | BC35: 6.66 | BH35: 3 | BI35: 1 | BM35: 10001 | BN35: 0 | BP35: 0 | BQ35: 2 | BR35: 0 | BS35: 1 | BT35: 1 | BU35: 1 | BV35: 1 | BW35: 1 | BX35: 1 | BZ35: 118 | CA35: 63 | CF35: 0 | CG35: 0 | CM35: 0 | CO35: 0 | CP35: =(P35+Q35+S35) -> 83790.17 | CQ35: =AC35*BC35 -> 4925.9358 | CR35: =AD35*BB35 -> 0 | CS35: =AE35*BS35 -> 0 | CT35: =AF35*BA35 -> 0 | CU35: =AG35 -> 0 | CV35: =AH35 -> 0 | CW35: =AI35 -> 0 | CX35: =AJ35 -> 0 | CY35: =(((S35+R35)*AT35)/100) -> 0 | CZ35: =(((S35+R35)*AU35)/100) -> 0 | DN35: 0 | DO35: 0 | DP35: 1 | DQ35: 1 | DU35: 1005 | DV35: м2 | DW35: м2 | DX35: 1 | EE35: 39174503 | EF35: 2 | EG35: Общестроительные работы | EH35: 0 | EJ35: 1 | EK35: 10001 | EL35: Деревянные конструкции | EM35: ФЕР-10 | EQ35: 0 | ER35: 739.63 | ES35: 739.63 | ET35: 0 | EU35: 0 | EV35: 0 | EW35: 0 | EX35: 0 | EZ35: 5 | FC35: 1 | FD35: 18 | FF35: 5812.61 | FQ35: 0 | FR35: =ROUND(IF(AND(BH35=3,BI35=3),P35,0),2) -> 0 | FS35: 0 | FT35: *0,9 | FU35: *0,85 | FX35: 106.2 | FY35: 53.55 | GA35: [5 812,61 / 1,18 / 6,66] | GD35: 0 | GF35: -1540480485 | GG35: 1 | GH35: 3 | GI35: 4 | GJ35: 0 | GK35: =ROUND(R35*(S12)/100,2) -> 0 | GL35: =ROUND(IF(AND(BH35=3,BI35=3,FS35<>0),P35,0),2) -> 0 | GM35: =ROUND(O35+X35+Y35+GK35,2)+GX35 -> 83790.17 | GN35: =IF(OR(BI35=0,BI35=1),ROUND(O35+X35+Y35+GK35,2),0) -> 83790.17 | GO35: =IF(BI35=2,ROUND(O35+X35+Y35+GK35,2),0) -> 0 | GP35: =IF(BI35=4,ROUND(O35+X35+Y35+GK35,2)+GX35,0) -> 0 | GR35: 1 | GS35: 1 | GT35: 0 | GV35: =ROUND(GT35,2) -> 0 | GW35: 1 | GX35: =ROUND(GV35*GW35*I35,2) -> 0 | HA35: 0 | HB35: 0 | IK35: 0
A36: 17 | B36: 1 | C36: =ROW(SmtRes!A42) -> 42 | D36: =ROW(EtalonRes!A42) -> 42 | E36: 4 | F36: 15-02-019-05 | G36: Сплошное выравнивание внутренних поверхностей (однослойное оштукатуривание) из сухих растворных смесей толщиной до 10 мм оконных и дверных откосов плоских | H36: 100 м2 | I36: =ROUND(5/100,9) -> 0.05 | J36: 0 | O36: =ROUND(CP36,2) -> 42.62 | P36: =ROUND(CQ36*I36,2) -> 0.09 | Q36: =ROUND(CR36*I36,2) -> 1.49 | R36: =ROUND(CS36*I36,2) -> 0.91 | S36: =ROUND(CT36*I36,2) -> 41.04 | T36: =ROUND(CU36*I36,2) -> 0 | U36: =CV36*I36 -> 4.811025 | V36: =CW36*I36 -> 0.08375 | W36: =ROUND(CX36*I36,2) -> 0 | X36: =ROUND(CY36,2) -> 39.85 | Y36: =ROUND(CZ36,2) -> 19.72 | AA36: 39500385 | AB36: =ROUND((AC36+AD36+AF36),2) -> 852.36 | AC36: =ROUND((ES36),2) -> 1.81 | AD36: =ROUND(((((ET36*1.25))-((EU36*1.25)))+AE36),2) -> 29.78 | AE36: =ROUND(((EU36*1.25)),2) -> 18.14 | AF36: =ROUND(((EV36*1.15)),2) -> 820.77 | AG36: =ROUND((AP36),2) -> 0 | AH36: =((EW36*1.15)) -> 96.2205 | AI36: =((EX36*1.25)) -> 1.675 | AJ36: =ROUND((AS36),2) -> 0 | AK36: 739.34 | AL36: 1.81 | AM36: 23.82 | AN36: 14.51 | AO36: 713.71 | AP36: 0 | AQ36: 83.67 | AR36: 1.34 | AS36: 0 | AT36: 95 | AU36: 47 | AV36: 1 | AW36: 1 | AZ36: 1 | BA36: 1 | BB36: 1 | BC36: 1 | BH36: 0 | BI36: 1 | BJ36: ФЕР-2001, 15-02-019-05, приказ Минстроя России №1039/пр от 30.12.2016г. | BM36: 15001 | BN36: 0 | BP36: 0 | BQ36: 2 | BR36: 0 | BS36: 1 | BT36: 1 | BU36: 1 | BV36: 1 | BW36: 1 | BX36: 1 | BZ36: 105 | CA36: 55 | CF36: 0 | CG36: 0 | CM36: 0 | CN36: Поправка: МДС 81-35.2004, п.4.7 Наименование: Работы, выполняемые при реконструкции зданий и сооружений работы, аналогичные технологическим процессам в новом строительстве (в том числе возведение новых конструктивных элементов) стоимость которых определена по соответствующим сборникам ФЕР, кроме сборника № 46 «Работы при реконструкции зданий и сооружений» | CO36: 0 | CP36: =(P36+Q36+S36) -> 42.62 | CQ36: =AC36*BC36 -> 1.81 | CR36: =AD36*BB36 -> 29.78 | CS36: =AE36*BS36 -> 18.14 | CT36: =AF36*BA36 -> 820.77 | CU36: =AG36 -> 0 | CV36: =AH36 -> 96.2205 | CW36: =AI36 -> 1.675 | CX36: =AJ36 -> 0 | CY36: =(((S36+R36)*AT36)/100) -> 39.8525 | CZ36: =(((S36+R36)*AU36)/100) -> 19.7165 | DE36: )*1,25 | DF36: )*1,25 | DG36: )*1,15 | DI36: )*1,15 | DJ36: )*1,25 | DN36: 0 | DO36: 0 | DP36: 1 | DQ36: 1 | DU36: 1005 | DV36: 100 м2 | DW36: 100 м2 | DX36: 100 | EE36: 39174529 | EF36: 2 | EG36: Общестроительные работы | EH36: 0 | EJ36: 1 | EK36: 15001 | EL36: Отделочные работы | EM36: ФЕР-15 | EO36: Поправка: МДС 81-35.2004, п.4.7 | EQ36: 0 | ER36: 739.34 | ES36: 1.81 | ET36: 23.82 | EU36: 14.51 | EV36: 713.71 | EW36: 83.67 | EX36: 1.34 | EY36: 0 | FQ36: 0 | FR36: =ROUND(IF(AND(BH36=3,BI36=3),P36,0),2) -> 0 | FS36: 0 | FT36: *0,9 | FU36: *0,85 | FX36: 94.5 | FY36: 46.75 | GD36: 0 | GF36: -195782614 | GG36: 2 | GH36: 1 | GI36: -2 | GJ36: 0 | GK36: =ROUND(R36*(R12)/100,2) -> 0 | GL36: =ROUND(IF(AND(BH36=3,BI36=3,FS36<>0),P36,0),2) -> 0 | GM36: =ROUND(O36+X36+Y36+GK36,2)+GX36 -> 102.19 | GN36: =IF(OR(BI36=0,BI36=1),ROUND(O36+X36+Y36+GK36,2),0) -> 102.19 | GO36: =IF(BI36=2,ROUND(O36+X36+Y36+GK36,2),0) -> 0 | GP36: =IF(BI36=4,ROUND(O36+X36+Y36+GK36,2)+GX36,0) -> 0 | GR36: 0 | GS36: 3 | GT36: 0 | GV36: =ROUND(GT36,2) -> 0 | GW36: 1 | GX36: =ROUND(GV36*GW36*I36,2) -> 0 | HA36: 0 | HB36: 0 | IK36: 0
A37: 17 | B37: 1 | C37: =ROW(SmtRes!A50) -> 50 | D37: =ROW(EtalonRes!A50) -> 50 | E37: 4 | F37: 15-02-019-05 | G37: Сплошное выравнивание внутренних поверхностей (однослойное оштукатуривание) из сухих растворных смесей толщиной до 10 мм оконных и дверных откосов плоских | H37: 100 м2 | I37: =ROUND(5/100,9) -> 0.05 | J37: 0 | O37: =ROUND(CP37,2) -> 283.84 | P37: =ROUND(CQ37*I37,2) -> 0.6 | Q37: =ROUND(CR37*I37,2) -> 9.92 | R37: =ROUND(CS37*I37,2) -> 6.04 | S37: =ROUND(CT37*I37,2) -> 273.32 | T37: =ROUND(CU37*I37,2) -> 0 | U37: =CV37*I37 -> 4.811025 | V37: =CW37*I37 -> 0.08375 | W37: =ROUND(CX37*I37,2) -> 0 | X37: =ROUND(CY37,2) -> 265.39 | Y37: =ROUND(CZ37,2) -> 131.3 | AA37: 39500386 | AB37: =ROUND((AC37+AD37+AF37),2) -> 852.36 | AC37: =ROUND((ES37),2) -> 1.81 | AD37: =ROUND(((((ET37*1.25))-((EU37*1.25)))+AE37),2) -> 29.78 | AE37: =ROUND(((EU37*1.25)),2) -> 18.14 | AF37: =ROUND(((EV37*1.15)),2) -> 820.77 | AG37: =ROUND((AP37),2) -> 0 | AH37: =((EW37*1.15)) -> 96.2205 | AI37: =((EX37*1.25)) -> 1.675 | AJ37: =ROUND((AS37),2) -> 0 | AK37: 739.34 | AL37: 1.81 | AM37: 23.82 | AN37: 14.51 | AO37: 713.71 | AP37: 0 | AQ37: 83.67 | AR37: 1.34 | AS37: 0 | AT37: 95 | AU37: 47 | AV37: 1 | AW37: 1 | AZ37: 6.66 | BA37: 6.66 | BB37: 6.66 | BC37: 6.66 | BH37: 0 | BI37: 1 | BJ37: ФЕР-2001, 15-02-019-05, приказ Минстроя России №1039/пр от 30.12.2016г. | BM37: 15001 | BN37: 0 | BP37: 0 | BQ37: 2 | BR37: 0 | BS37: 6.66 | BT37: 1 | BU37: 1 | BV37: 1 | BW37: 1 | BX37: 1 | BZ37: 105 | CA37: 55 | CF37: 0 | CG37: 0 | CM37: 0 | CN37: Поправка: МДС 81-35.2004, п.4.7 Наименование: Работы, выполняемые при реконструкции зданий и сооружений работы, аналогичные технологическим процессам в новом строительстве (в том числе возведение новых конструктивных элементов) стоимость которых определена по соответствующим сборникам ФЕР, кроме сборника № 46 «Работы при реконструкции зданий и сооружений» | CO37: 0 | CP37: =(P37+Q37+S37) -> 283.84 | CQ37: =AC37*BC37 -> 12.0546 | CR37: =AD37*BB37 -> 198.3348 | CS37: =AE37*BS37 -> 120.8124 | CT37: =AF37*BA37 -> 5466.3282 | CU37: =AG37 -> 0 | CV37: =AH37 -> 96.2205 | CW37: =AI37 -> 1.675 | CX37: =AJ37 -> 0 | CY37: =(((S37+R37)*AT37)/100) -> 265.392 | CZ37: =(((S37+R37)*AU37)/100) -> 131.2992 | DE37: )*1,25 | DF37: )*1,25 | DG37: )*1,15 | DI37: )*1,15 | DJ37: )*1,25 | DN37: 0 | DO37: 0 | DP37: 1 | DQ37: 1 | DU37: 1005 | DV37: 100 м2 | DW37: 100 м2 | DX37: 100 | EE37: 39174529 | EF37: 2 | EG37: Общестроительные работы | EH37: 0 | EJ37: 1 | EK37: 15001 | EL37: Отделочные работы | EM37: ФЕР-15 | EO37: Поправка: МДС 81-35.2004, п.4.7 | EQ37: 0 | ER37: 739.34 | ES37: 1.81 | ET37: 23.82 | EU37: 14.51 | EV37: 713.71 | EW37: 83.67 | EX37: 1.34 | EY37: 0 | FQ37: 0 | FR37: =ROUND(IF(AND(BH37=3,BI37=3),P37,0),2) -> 0 | FS37: 0 | FT37: *0,9 | FU37: *0,85 | FX37: 94.5 | FY37: 46.75 | GD37: 0 | GF37: -195782614 | GG37: 1 | GH37: 1 | GI37: 4 | GJ37: 0 | GK37: =ROUND(R37*(S12)/100,2) -> 0 | GL37: =ROUND(IF(AND(BH37=3,BI37=3,FS37<>0),P37,0),2) -> 0 | GM37: =ROUND(O37+X37+Y37+GK37,2)+GX37 -> 680.53 | GN37: =IF(OR(BI37=0,BI37=1),ROUND(O37+X37+Y37+GK37,2),0) -> 680.53 | GO37: =IF(BI37=2,ROUND(O37+X37+Y37+GK37,2),0) -> 0 | GP37: =IF(BI37=4,ROUND(O37+X37+Y37+GK37,2)+GX37,0) -> 0 | GR37: 0 | GS37: 3 | GT37: 0 | GV37: =ROUND(GT37,2) -> 0 | GW37: 1 | GX37: =ROUND(GV37*GW37*I37,2) -> 0 | HA37: 0 | HB37: 0 | IK37: 0
A38: 18 | B38: 1 | C38: 41 | E38: 4,1 | F38: 04.3.02.05-0001 | G38: Смесь штукатурная «Гольдбанд», КНАУФ | H38: кг | I38: =I36*J38 -> 61.5 | J38: 1230 | O38: =ROUND(CP38,2) -> 111.93 | P38: =ROUND(CQ38*I38,2) -> 111.93 | Q38: =ROUND(CR38*I38,2) -> 0 | R38: =ROUND(CS38*I38,2) -> 0 | S38: =ROUND(CT38*I38,2) -> 0 | T38: =ROUND(CU38*I38,2) -> 0 | U38: =CV38*I38 -> 0 | V38: =CW38*I38 -> 0 | W38: =ROUND(CX38*I38,2) -> 0 | X38: =ROUND(CY38,2) -> 0 | Y38: =ROUND(CZ38,2) -> 0 | AA38: 39500385 | AB38: =ROUND((AC38+AD38+AF38),2) -> 1.82 | AC38: =ROUND((ES38),2) -> 1.82 | AD38: =ROUND((((ET38)-(EU38))+AE38),2) -> 0 | AE38: =ROUND((EU38),2) -> 0 | AF38: =ROUND((EV38),2) -> 0 | AG38: =ROUND((AP38),2) -> 0 | AH38: =(EW38) -> 0 | AI38: =(EX38) -> 0 | AJ38: =ROUND((AS38),2) -> 0 | AK38: 1.82 | AL38: 1.82 | AM38: 0 | AN38: 0 | AO38: 0 | AP38: 0 | AQ38: 0 | AR38: 0 | AS38: 0 | AT38: 95 | AU38: 47 | AV38: 1 | AW38: 1 | AZ38: 1 | BA38: 1 | BB38: 1 | BC38: 1 | BH38: 3 | BI38: 1 | BJ38: ФССЦ-2001, 04.3.02.05-0001, приказ Минстроя России №1039/пр от 30.12.2016г. | BM38: 15001 | BN38: 0 | BP38: 0 | BQ38: 2 | BR38: 0 | BS38: 1 | BT38: 1 | BU38: 1 | BV38: 1 | BW38: 1 | BX38: 1 | BZ38: 105 | CA38: 55 | CF38: 0 | CG38: 0 | CM38: 0 | CO38: 0 | CP38: =(P38+Q38+S38) -> 111.93 | CQ38: =AC38*BC38 -> 1.82 | CR38: =AD38*BB38 -> 0 | CS38: =AE38*BS38 -> 0 | CT38: =AF38*BA38 -> 0 | CU38: =AG38 -> 0 | CV38: =AH38 -> 0 | CW38: =AI38 -> 0 | CX38: =AJ38 -> 0 | CY38: =(((S38+R38)*AT38)/100) -> 0 | CZ38: =(((S38+R38)*AU38)/100) -> 0 | DN38: 0 | DO38: 0 | DP38: 1 | DQ38: 1 | DU38: 1009 | DV38: кг | DW38: кг | DX38: 1 | EE38: 39174529 | EF38: 2 | EG38: Общестроительные работы | EH38: 0 | EJ38: 1 | EK38: 15001 | EL38: Отделочные работы | EM38: ФЕР-15 | EQ38: 0 | ER38: 1.82 | ES38: 1.82 | ET38: 0 | EU38: 0 | EV38: 0 | EW38: 0 | EX38: 0 | FQ38: 0 | FR38: =ROUND(IF(AND(BH38=3,BI38=3),P38,0),2) -> 0 | FS38: 0 | FT38: *0,9 | FU38: *0,85 | FX38: 94.5 | FY38: 46.75 | GD38: 0 | GF38: 697700617 | GG38: 2 | GH38: 1 | GI38: -2 | GJ38: 0 | GK38: =ROUND(R38*(R12)/100,2) -> 0 | GL38: =ROUND(IF(AND(BH38=3,BI38=3,FS38<>0),P38,0),2) -> 0 | GM38: =ROUND(O38+X38+Y38+GK38,2)+GX38 -> 111.93 | GN38: =IF(OR(BI38=0,BI38=1),ROUND(O38+X38+Y38+GK38,2),0) -> 111.93 | GO38: =IF(BI38=2,ROUND(O38+X38+Y38+GK38,2),0) -> 0 | GP38: =IF(BI38=4,ROUND(O38+X38+Y38+GK38,2)+GX38,0) -> 0 | GR38: 0 | GS38: 3 | GT38: 0 | GV38: =ROUND(GT38,2) -> 0 | GW38: 1 | GX38: =ROUND(GV38*GW38*I38,2) -> 0 | HA38: 0 | HB38: 0 | IK38: 0
A39: 18 | B39: 1 | C39: 49 | E39: 4,1 | F39: 04.3.02.05-0001 | G39: Смесь штукатурная «Гольдбанд», КНАУФ | H39: кг | I39: =I37*J39 -> 61.5 | J39: 1230 | O39: =ROUND(CP39,2) -> 745.45 | P39: =ROUND(CQ39*I39,2) -> 745.45 | Q39: =ROUND(CR39*I39,2) -> 0 | R39: =ROUND(CS39*I39,2) -> 0 | S39: =ROUND(CT39*I39,2) -> 0 | T39: =ROUND(CU39*I39,2) -> 0 | U39: =CV39*I39 -> 0 | V39: =CW39*I39 -> 0 | W39: =ROUND(CX39*I39,2) -> 0 | X39: =ROUND(CY39,2) -> 0 | Y39: =ROUND(CZ39,2) -> 0 | AA39: 39500386 | AB39: =ROUND((AC39+AD39+AF39),2) -> 1.82 | AC39: =ROUND((ES39),2) -> 1.82 | AD39: =ROUND((((ET39)-(EU39))+AE39),2) -> 0 | AE39: =ROUND((EU39),2) -> 0 | AF39: =ROUND((EV39),2) -> 0 | AG39: =ROUND((AP39),2) -> 0 | AH39: =(EW39) -> 0 | AI39: =(EX39) -> 0 | AJ39: =ROUND((AS39),2) -> 0 | AK39: 1.82 | AL39: 1.82 | AM39: 0 | AN39: 0 | AO39: 0 | AP39: 0 | AQ39: 0 | AR39: 0 | AS39: 0 | AT39: 95 | AU39: 47 | AV39: 1 | AW39: 1 | AZ39: 6.66 | BA39: 1 | BB39: 1 | BC39: 6.66 | BH39: 3 | BI39: 1 | BJ39: ФССЦ-2001, 04.3.02.05-0001, приказ Минстроя России №1039/пр от 30.12.2016г. | BM39: 15001 | BN39: 0 | BP39: 0 | BQ39: 2 | BR39: 0 | BS39: 1 | BT39: 1 | BU39: 1 | BV39: 1 | BW39: 1 | BX39: 1 | BZ39: 105 | CA39: 55 | CF39: 0 | CG39: 0 | CM39: 0 | CO39: 0 | CP39: =(P39+Q39+S39) -> 745.45 | CQ39: =AC39*BC39 -> 12.1212 | CR39: =AD39*BB39 -> 0 | CS39: =AE39*BS39 -> 0 | CT39: =AF39*BA39 -> 0 | CU39: =AG39 -> 0 | CV39: =AH39 -> 0 | CW39: =AI39 -> 0 | CX39: =AJ39 -> 0 | CY39: =(((S39+R39)*AT39)/100) -> 0 | CZ39: =(((S39+R39)*AU39)/100) -> 0 | DN39: 0 | DO39: 0 | DP39: 1 | DQ39: 1 | DU39: 1009 | DV39: кг | DW39: кг | DX39: 1 | EE39: 39174529 | EF39: 2 | EG39: Общестроительные работы | EH39: 0 | EJ39: 1 | EK39: 15001 | EL39: Отделочные работы | EM39: ФЕР-15 | EQ39: 0 | ER39: 1.82 | ES39: 1.82 | ET39: 0 | EU39: 0 | EV39: 0 | EW39: 0 | EX39: 0 | FQ39: 0 | FR39: =ROUND(IF(AND(BH39=3,BI39=3),P39,0),2) -> 0 | FS39: 0 | FT39: *0,9 | FU39: *0,85 | FX39: 94.5 | FY39: 46.75 | GD39: 0 | GF39: 697700617 | GG39: 1 | GH39: 1 | GI39: 4 | GJ39: 0 | GK39: =ROUND(R39*(S12)/100,2) -> 0 | GL39: =ROUND(IF(AND(BH39=3,BI39=3,FS39<>0),P39,0),2) -> 0 | GM39: =ROUND(O39+X39+Y39+GK39,2)+GX39 -> 745.45 | GN39: =IF(OR(BI39=0,BI39=1),ROUND(O39+X39+Y39+GK39,2),0) -> 745.45 | GO39: =IF(BI39=2,ROUND(O39+X39+Y39+GK39,2),0) -> 0 | GP39: =IF(BI39=4,ROUND(O39+X39+Y39+GK39,2)+GX39,0) -> 0 | GR39: 0 | GS39: 3 | GT39: 0 | GV39: =ROUND(GT39,2) -> 0 | GW39: 1 | GX39: =ROUND(GV39*GW39*I39,2) -> 0 | HA39: 0 | HB39: 0 | IK39: 0
A40: 18 | B40: 1 | C40: 42 | E40: 4,2 | F40: 04.3.02.09 | G40: Смеси на цементной основе | H40: т | I40: =I36*J40 -> 0.0615 | J40: 1.23 | O40: =ROUND(CP40,2) -> 0 | P40: =ROUND(CQ40*I40,2) -> 0 | Q40: =ROUND(CR40*I40,2) -> 0 | R40: =ROUND(CS40*I40,2) -> 0 | S40: =ROUND(CT40*I40,2) -> 0 | T40: =ROUND(CU40*I40,2) -> 0 | U40: =CV40*I40 -> 0 | V40: =CW40*I40 -> 0 | W40: =ROUND(CX40*I40,2) -> 0 | X40: =ROUND(CY40,2) -> 0 | Y40: =ROUND(CZ40,2) -> 0 | AA40: 39500385 | AB40: =ROUND((AC40+AD40+AF40),2) -> 0 | AC40: =ROUND((ES40),2) -> 0 | AD40: =ROUND((((ET40)-(EU40))+AE40),2) -> 0 | AE40: =ROUND((EU40),2) -> 0 | AF40: =ROUND((EV40),2) -> 0 | AG40: =ROUND((AP40),2) -> 0 | AH40: =(EW40) -> 0 | AI40: =(EX40) -> 0 | AJ40: =ROUND((AS40),2) -> 0 | AK40: 0 | AL40: 0 | AM40: 0 | AN40: 0 | AO40: 0 | AP40: 0 | AQ40: 0 | AR40: 0 | AS40: 0 | AT40: 95 | AU40: 47 | AV40: 1 | AW40: 1 | AZ40: 1 | BA40: 1 | BB40: 1 | BC40: 1 | BH40: 3 | BI40: 1 | BM40: 15001 | BN40: 0 | BP40: 0 | BQ40: 2 | BR40: 0 | BS40: 1 | BT40: 1 | BU40: 1 | BV40: 1 | BW40: 1 | BX40: 1 | BZ40: 105 | CA40: 55 | CF40: 0 | CG40: 0 | CM40: 0 | CO40: 0 | CP40: =(P40+Q40+S40) -> 0 | CQ40: =AC40*BC40 -> 0 | CR40: =AD40*BB40 -> 0 | CS40: =AE40*BS40 -> 0 | CT40: =AF40*BA40 -> 0 | CU40: =AG40 -> 0 | CV40: =AH40 -> 0 | CW40: =AI40 -> 0 | CX40: =AJ40 -> 0 | CY40: =(((S40+R40)*AT40)/100) -> 0 | CZ40: =(((S40+R40)*AU40)/100) -> 0 | DN40: 0 | DO40: 0 | DP40: 1 | DQ40: 1 | DU40: 1009 | DV40: т | DW40: т | DX40: 1000 | EE40: 39174529 | EF40: 2 | EG40: Общестроительные работы | EH40: 0 | EJ40: 1 | EK40: 15001 | EL40: Отделочные работы | EM40: ФЕР-15 | EQ40: 0 | ER40: 0 | ES40: 0 | ET40: 0 | EU40: 0 | EV40: 0 | EW40: 0 | EX40: 0 | FQ40: 0 | FR40: =ROUND(IF(AND(BH40=3,BI40=3),P40,0),2) -> 0 | FS40: 0 | FT40: *0,9 | FU40: *0,85 | FX40: 94.5 | FY40: 46.75 | GD40: 0 | GF40: 1880203204 | GG40: 2 | GH40: 1 | GI40: -2 | GJ40: 0 | GK40: =ROUND(R40*(R12)/100,2) -> 0 | GL40: =ROUND(IF(AND(BH40=3,BI40=3,FS40<>0),P40,0),2) -> 0 | GM40: =ROUND(O40+X40+Y40+GK40,2)+GX40 -> 0 | GN40: =IF(OR(BI40=0,BI40=1),ROUND(O40+X40+Y40+GK40,2),0) -> 0 | GO40: =IF(BI40=2,ROUND(O40+X40+Y40+GK40,2),0) -> 0 | GP40: =IF(BI40=4,ROUND(O40+X40+Y40+GK40,2)+GX40,0) -> 0 | GR40: 0 | GS40: 3 | GT40: 0 | GV40: =ROUND(GT40,2) -> 0 | GW40: 1 | GX40: =ROUND(GV40*GW40*I40,2) -> 0 | HA40: 0 | HB40: 0 | IK40: 0
A41: 18 | B41: 1 | C41: 50 | E41: 4,2 | F41: 04.3.02.09 | G41: Смеси на цементной основе | H41: т | I41: =I37*J41 -> 0.0615 | J41: 1.23 | O41: =ROUND(CP41,2) -> 0 | P41: =ROUND(CQ41*I41,2) -> 0 | Q41: =ROUND(CR41*I41,2) -> 0 | R41: =ROUND(CS41*I41,2) -> 0 | S41: =ROUND(CT41*I41,2) -> 0 | T41: =ROUND(CU41*I41,2) -> 0 | U41: =CV41*I41 -> 0 | V41: =CW41*I41 -> 0 | W41: =ROUND(CX41*I41,2) -> 0 | X41: =ROUND(CY41,2) -> 0 | Y41: =ROUND(CZ41,2) -> 0 | AA41: 39500386 | AB41: =ROUND((AC41+AD41+AF41),2) -> 0 | AC41: =ROUND((ES41),2) -> 0 | AD41: =ROUND((((ET41)-(EU41))+AE41),2) -> 0 | AE41: =ROUND((EU41),2) -> 0 | AF41: =ROUND((EV41),2) -> 0 | AG41: =ROUND((AP41),2) -> 0 | AH41: =(EW41) -> 0 | AI41: =(EX41) -> 0 | AJ41: =ROUND((AS41),2) -> 0 | AK41: 0 | AL41: 0 | AM41: 0 | AN41: 0 | AO41: 0 | AP41: 0 | AQ41: 0 | AR41: 0 | AS41: 0 | AT41: 95 | AU41: 47 | AV41: 1 | AW41: 1 | AZ41: 6.66 | BA41: 1 | BB41: 1 | BC41: 6.66 | BH41: 3 | BI41: 1 | BM41: 15001 | BN41: 0 | BP41: 0 | BQ41: 2 | BR41: 0 | BS41: 1 | BT41: 1 | BU41: 1 | BV41: 1 | BW41: 1 | BX41: 1 | BZ41: 105 | CA41: 55 | CF41: 0 | CG41: 0 | CM41: 0 | CO41: 0 | CP41: =(P41+Q41+S41) -> 0 | CQ41: =AC41*BC41 -> 0 | CR41: =AD41*BB41 -> 0 | CS41: =AE41*BS41 -> 0 | CT41: =AF41*BA41 -> 0 | CU41: =AG41 -> 0 | CV41: =AH41 -> 0 | CW41: =AI41 -> 0 | CX41: =AJ41 -> 0 | CY41: =(((S41+R41)*AT41)/100) -> 0 | CZ41: =(((S41+R41)*AU41)/100) -> 0 | DN41: 0 | DO41: 0 | DP41: 1 | DQ41: 1 | DU41: 1009 | DV41: т | DW41: т | DX41: 1000 | EE41: 39174529 | EF41: 2 | EG41: Общестроительные работы | EH41: 0 | EJ41: 1 | EK41: 15001 | EL41: Отделочные работы | EM41: ФЕР-15 | EQ41: 0 | ER41: 0 | ES41: 0 | ET41: 0 | EU41: 0 | EV41: 0 | EW41: 0 | EX41: 0 | FQ41: 0 | FR41: =ROUND(IF(AND(BH41=3,BI41=3),P41,0),2) -> 0 | FS41: 0 | FT41: *0,9 | FU41: *0,85 | FX41: 94.5 | FY41: 46.75 | GD41: 0 | GF41: 1880203204 | GG41: 1 | GH41: 1 | GI41: 4 | GJ41: 0 | GK41: =ROUND(R41*(S12)/100,2) -> 0 | GL41: =ROUND(IF(AND(BH41=3,BI41=3,FS41<>0),P41,0),2) -> 0 | GM41: =ROUND(O41+X41+Y41+GK41,2)+GX41 -> 0 | GN41: =IF(OR(BI41=0,BI41=1),ROUND(O41+X41+Y41+GK41,2),0) -> 0 | GO41: =IF(BI41=2,ROUND(O41+X41+Y41+GK41,2),0) -> 0 | GP41: =IF(BI41=4,ROUND(O41+X41+Y41+GK41,2)+GX41,0) -> 0 | GR41: 0 | GS41: 3 | GT41: 0 | GV41: =ROUND(GT41,2) -> 0 | GW41: 1 | GX41: =ROUND(GV41*GW41*I41,2) -> 0 | HA41: 0 | HB41: 0 | IK41: 0
A42: 17 | B42: 1 | C42: =ROW(SmtRes!A57) -> 57 | D42: =ROW(EtalonRes!A57) -> 57 | E42: 5 | F42: 10-01-035-03 | G42: Установка подоконных досок из ПВХ в каменных стенах толщиной свыше 0,51 м | H42: 100 м | I42: =ROUND(10.15/100,9) -> 0.1015 | J42: 0 | O42: =ROUND(CP42,2) -> 661.18 | P42: =ROUND(CQ42*I42,2) -> 637.11 | Q42: =ROUND(CR42*I42,2) -> 2.78 | R42: =ROUND(CS42*I42,2) -> 0.56 | S42: =ROUND(CT42*I42,2) -> 21.29 | T42: =ROUND(CU42*I42,2) -> 0 | U42: =CV42*I42 -> 2.4955805 | V42: =CW42*I42 -> 0.04694375 | W42: =ROUND(CX42*I42,2) -> 0 | X42: =ROUND(CY42,2) -> 23.16 | Y42: =ROUND(CZ42,2) -> 11.8 | AA42: 39500385 | AB42: =ROUND((AC42+AD42+AF42),2) -> 6514.01 | AC42: =ROUND((ES42),2) -> 6276.9 | AD42: =ROUND(((((ET42*1.25))-((EU42*1.25)))+AE42),2) -> 27.38 | AE42: =ROUND(((EU42*1.25)),2) -> 5.54 | AF42: =ROUND(((EV42*1.15)),2) -> 209.73 | AG42: =ROUND((AP42),2) -> 0 | AH42: =((EW42*1.15)) -> 24.587 | AI42: =((EX42*1.25)) -> 0.4625 | AJ42: =ROUND((AS42),2) -> 0 | AK42: 6481.17 | AL42: 6276.9 | AM42: 21.9 | AN42: 4.43 | AO42: 182.37 | AP42: 0 | AQ42: 21.38 | AR42: 0.37 | AS42: 0 | AT42: 106 | AU42: 54 | AV42: 1 | AW42: 1 | AZ42: 1 | BA42: 1 | BB42: 1 | BC42: 1 | BH42: 0 | BI42: 1 | BJ42: ФЕР-2001, 10-01-035-03, приказ Минстроя России №1039/пр от 30.12.2016г. | BM42: 10001 | BN42: 0 | BP42: 0 | BQ42: 2 | BR42: 0 | BS42: 1 | BT42: 1 | BU42: 1 | BV42: 1 | BW42: 1 | BX42: 1 | BZ42: 118 | CA42: 63 | CF42: 0 | CG42: 0 | CM42: 0 | CN42: Поправка: МДС 81-35.2004, п.4.7 Наименование: Работы, выполняемые при реконструкции зданий и сооружений работы, аналогичные технологическим процессам в новом строительстве (в том числе возведение новых конструктивных элементов) стоимость которых определена по соответствующим сборникам ФЕР, кроме сборника № 46 «Работы при реконструкции зданий и сооружений» | CO42: 0 | CP42: =(P42+Q42+S42) -> 661.18 | CQ42: =AC42*BC42 -> 6276.9 | CR42: =AD42*BB42 -> 27.38 | CS42: =AE42*BS42 -> 5.54 | CT42: =AF42*BA42 -> 209.73 | CU42: =AG42 -> 0 | CV42: =AH42 -> 24.587 | CW42: =AI42 -> 0.4625 | CX42: =AJ42 -> 0 | CY42: =(((S42+R42)*AT42)/100) -> 23.161 | CZ42: =(((S42+R42)*AU42)/100) -> 11.799 | DE42: )*1,25 | DF42: )*1,25 | DG42: )*1,15 | DI42: )*1,15 | DJ42: )*1,25 | DN42: 0 | DO42: 0 | DP42: 1 | DQ42: 1 | DU42: 1003 | DV42: 100 м | DW42: 100 м | DX42: 100 | EE42: 39174503 | EF42: 2 | EG42: Общестроительные работы | EH42: 0 | EJ42: 1 | EK42: 10001 | EL42: Деревянные конструкции | EM42: ФЕР-10 | EO42: Поправка: МДС 81-35.2004, п.4.7 | EQ42: 0 | ER42: 6481.17 | ES42: 6276.9 | ET42: 21.9 | EU42: 4.43 | EV42: 182.37 | EW42: 21.38 | EX42: 0.37 | EY42: 0 | FQ42: 0 | FR42: =ROUND(IF(AND(BH42=3,BI42=3),P42,0),2) -> 0 | FS42: 0 | FT42: *0,9 | FU42: *0,85 | FX42: 106.2 | FY42: 53.55 | GD42: 0 | GF42: -1968498593 | GG42: 2 | GH42: 1 | GI42: -2 | GJ42: 0 | GK42: =ROUND(R42*(R12)/100,2) -> 0 | GL42: =ROUND(IF(AND(BH42=3,BI42=3,FS42<>0),P42,0),2) -> 0 | GM42: =ROUND(O42+X42+Y42+GK42,2)+GX42 -> 696.14 | GN42: =IF(OR(BI42=0,BI42=1),ROUND(O42+X42+Y42+GK42,2),0) -> 696.14 | GO42: =IF(BI42=2,ROUND(O42+X42+Y42+GK42,2),0) -> 0 | GP42: =IF(BI42=4,ROUND(O42+X42+Y42+GK42,2)+GX42,0) -> 0 | GR42: 0 | GS42: 3 | GT42: 0 | GV42: =ROUND(GT42,2) -> 0 | GW42: 1 | GX42: =ROUND(GV42*GW42*I42,2) -> 0 | HA42: 0 | HB42: 0 | IK42: 0
A43: 17 | B43: 1 | C43: =ROW(SmtRes!A64) -> 64 | D43: =ROW(EtalonRes!A64) -> 64 | E43: 5 | F43: 10-01-035-03 | G43: Установка подоконных досок из ПВХ в каменных стенах толщиной свыше 0,51 м | H43: 100 м | I43: =ROUND(10.15/100,9) -> 0.1015 | J43: 0 | O43: =ROUND(CP43,2) -> 4403.41 | P43: =ROUND(CQ43*I43,2) -> 4243.12 | Q43: =ROUND(CR43*I43,2) -> 18.51 | R43: =ROUND(CS43*I43,2) -> 3.74 | S43: =ROUND(CT43*I43,2) -> 141.78 | T43: =ROUND(CU43*I43,2) -> 0 | U43: =CV43*I43 -> 2.4955805 | V43: =CW43*I43 -> 0.04694375 | W43: =ROUND(CX43*I43,2) -> 0 | X43: =ROUND(CY43,2) -> 154.25 | Y43: =ROUND(CZ43,2) -> 78.58 | AA43: 39500386 | AB43: =ROUND((AC43+AD43+AF43),2) -> 6514.01 | AC43: =ROUND((ES43),2) -> 6276.9 | AD43: =ROUND(((((ET43*1.25))-((EU43*1.25)))+AE43),2) -> 27.38 | AE43: =ROUND(((EU43*1.25)),2) -> 5.54 | AF43: =ROUND(((EV43*1.15)),2) -> 209.73 | AG43: =ROUND((AP43),2) -> 0 | AH43: =((EW43*1.15)) -> 24.587 | AI43: =((EX43*1.25)) -> 0.4625 | AJ43: =ROUND((AS43),2) -> 0 | AK43: 6481.17 | AL43: 6276.9 | AM43: 21.9 | AN43: 4.43 | AO43: 182.37 | AP43: 0 | AQ43: 21.38 | AR43: 0.37 | AS43: 0 | AT43: 106 | AU43: 54 | AV43: 1 | AW43: 1 | AZ43: 6.66 | BA43: 6.66 | BB43: 6.66 | BC43: 6.66 | BH43: 0 | BI43: 1 | BJ43: ФЕР-2001, 10-01-035-03, приказ Минстроя России №1039/пр от 30.12.2016г. | BM43: 10001 | BN43: 0 | BP43: 0 | BQ43: 2 | BR43: 0 | BS43: 6.66 | BT43: 1 | BU43: 1 | BV43: 1 | BW43: 1 | BX43: 1 | BZ43: 118 | CA43: 63 | CF43: 0 | CG43: 0 | CM43: 0 | CN43: Поправка: МДС 81-35.2004, п.4.7 Наименование: Работы, выполняемые при реконструкции зданий и сооружений работы, аналогичные технологическим процессам в новом строительстве (в том числе возведение новых конструктивных элементов) стоимость которых определена по соответствующим сборникам ФЕР, кроме сборника № 46 «Работы при реконструкции зданий и сооружений» | CO43: 0 | CP43: =(P43+Q43+S43) -> 4403.41 | CQ43: =AC43*BC43 -> 41804.154 | CR43: =AD43*BB43 -> 182.3508 | CS43: =AE43*BS43 -> 36.8964 | CT43: =AF43*BA43 -> 1396.8018 | CU43: =AG43 -> 0 | CV43: =AH43 -> 24.587 | CW43: =AI43 -> 0.4625 | CX43: =AJ43 -> 0 | CY43: =(((S43+R43)*AT43)/100) -> 154.2512 | CZ43: =(((S43+R43)*AU43)/100) -> 78.5808 | DE43: )*1,25 | DF43: )*1,25 | DG43: )*1,15 | DI43: )*1,15 | DJ43: )*1,25 | DN43: 0 | DO43: 0 | DP43: 1 | DQ43: 1 | DU43: 1003 | DV43: 100 м | DW43: 100 м | DX43: 100 | EE43: 39174503 | EF43: 2 | EG43: Общестроительные работы | EH43: 0 | EJ43: 1 | EK43: 10001 | EL43: Деревянные конструкции | EM43: ФЕР-10 | EO43: Поправка: МДС 81-35.2004, п.4.7 | EQ43: 0 | ER43: 6481.17 | ES43: 6276.9 | ET43: 21.9 | EU43: 4.43 | EV43: 182.37 | EW43: 21.38 | EX43: 0.37 | EY43: 0 | FQ43: 0 | FR43: =ROUND(IF(AND(BH43=3,BI43=3),P43,0),2) -> 0 | FS43: 0 | FT43: *0,9 | FU43: *0,85 | FX43: 106.2 | FY43: 53.55 | GD43: 0 | GF43: -1968498593 | GG43: 1 | GH43: 1 | GI43: 4 | GJ43: 0 | GK43: =ROUND(R43*(S12)/100,2) -> 0 | GL43: =ROUND(IF(AND(BH43=3,BI43=3,FS43<>0),P43,0),2) -> 0 | GM43: =ROUND(O43+X43+Y43+GK43,2)+GX43 -> 4636.24 | GN43: =IF(OR(BI43=0,BI43=1),ROUND(O43+X43+Y43+GK43,2),0) -> 4636.24 | GO43: =IF(BI43=2,ROUND(O43+X43+Y43+GK43,2),0) -> 0 | GP43: =IF(BI43=4,ROUND(O43+X43+Y43+GK43,2)+GX43,0) -> 0 | GR43: 0 | GS43: 3 | GT43: 0 | GV43: =ROUND(GT43,2) -> 0 | GW43: 1 | GX43: =ROUND(GV43*GW43*I43,2) -> 0 | HA43: 0 | HB43: 0 | IK43: 0
A44: 18 | B44: 1 | C44: 55 | E44: 5,1 | F44: 11.3.03.01-0011 | G44: Доски подоконные ПВХ, шириной 600 мм | H44: м | I44: =I42*J44 -> 10.15 | J44: 100 | O44: =ROUND(CP44,2) -> 760.34 | P44: =ROUND(CQ44*I44,2) -> 760.34 | Q44: =ROUND(CR44*I44,2) -> 0 | R44: =ROUND(CS44*I44,2) -> 0 | S44: =ROUND(CT44*I44,2) -> 0 | T44: =ROUND(CU44*I44,2) -> 0 | U44: =CV44*I44 -> 0 | V44: =CW44*I44 -> 0 | W44: =ROUND(CX44*I44,2) -> 0 | X44: =ROUND(CY44,2) -> 0 | Y44: =ROUND(CZ44,2) -> 0 | AA44: 39500385 | AB44: =ROUND((AC44+AD44+AF44),2) -> 74.91 | AC44: =ROUND((ES44),2) -> 74.91 | AD44: =ROUND((((ET44)-(EU44))+AE44),2) -> 0 | AE44: =ROUND((EU44),2) -> 0 | AF44: =ROUND((EV44),2) -> 0 | AG44: =ROUND((AP44),2) -> 0 | AH44: =(EW44) -> 0 | AI44: =(EX44) -> 0 | AJ44: =ROUND((AS44),2) -> 0 | AK44: 74.91 | AL44: 74.91 | AM44: 0 | AN44: 0 | AO44: 0 | AP44: 0 | AQ44: 0 | AR44: 0 | AS44: 0 | AT44: 106 | AU44: 54 | AV44: 1 | AW44: 1 | AZ44: 1 | BA44: 1 | BB44: 1 | BC44: 1 | BH44: 3 | BI44: 1 | BJ44: ФССЦ-2001, 11.3.03.01-0011, приказ Минстроя России №1039/пр от 30.12.2016г. | BM44: 10001 | BN44: 0 | BP44: 0 | BQ44: 2 | BR44: 0 | BS44: 1 | BT44: 1 | BU44: 1 | BV44: 1 | BW44: 1 | BX44: 1 | BZ44: 118 | CA44: 63 | CF44: 0 | CG44: 0 | CM44: 0 | CO44: 0 | CP44: =(P44+Q44+S44) -> 760.34 | CQ44: =AC44*BC44 -> 74.91 | CR44: =AD44*BB44 -> 0 | CS44: =AE44*BS44 -> 0 | CT44: =AF44*BA44 -> 0 | CU44: =AG44 -> 0 | CV44: =AH44 -> 0 | CW44: =AI44 -> 0 | CX44: =AJ44 -> 0 | CY44: =(((S44+R44)*AT44)/100) -> 0 | CZ44: =(((S44+R44)*AU44)/100) -> 0 | DN44: 0 | DO44: 0 | DP44: 1 | DQ44: 1 | DU44: 1003 | DV44: м | DW44: м | DX44: 1 | EE44: 39174503 | EF44: 2 | EG44: Общестроительные работы | EH44: 0 | EJ44: 1 | EK44: 10001 | EL44: Деревянные конструкции | EM44: ФЕР-10 | EQ44: 0 | ER44: 74.91 | ES44: 74.91 | ET44: 0 | EU44: 0 | EV44: 0 | EW44: 0 | EX44: 0 | FQ44: 0 | FR44: =ROUND(IF(AND(BH44=3,BI44=3),P44,0),2) -> 0 | FS44: 0 | FT44: *0,9 | FU44: *0,85 | FX44: 106.2 | FY44: 53.55 | GD44: 0 | GF44: -1117643773 | GG44: 2 | GH44: 1 | GI44: -2 | GJ44: 0 | GK44: =ROUND(R44*(R12)/100,2) -> 0 | GL44: =ROUND(IF(AND(BH44=3,BI44=3,FS44<>0),P44,0),2) -> 0 | GM44: =ROUND(O44+X44+Y44+GK44,2)+GX44 -> 760.34 | GN44: =IF(OR(BI44=0,BI44=1),ROUND(O44+X44+Y44+GK44,2),0) -> 760.34 | GO44: =IF(BI44=2,ROUND(O44+X44+Y44+GK44,2),0) -> 0 | GP44: =IF(BI44=4,ROUND(O44+X44+Y44+GK44,2)+GX44,0) -> 0 | GR44: 0 | GS44: 3 | GT44: 0 | GV44: =ROUND(GT44,2) -> 0 | GW44: 1 | GX44: =ROUND(GV44*GW44*I44,2) -> 0 | HA44: 0 | HB44: 0 | IK44: 0
