Workbook
Name Constr: '24568'!$A$7
Name Constr: '24569'!#REF!
Name Constr: '24570'!#REF!
Name Constr: '24571'!$A$7
Name Constr: '24572'!$A$7
Name FOT: '24568'!$D$12
Name FOT: '24569'!$D$12
Name FOT: '24570'!$D$12
Name FOT: '24571'!$D$12
Name FOT: '24572'!$D$12
Name Ind: '24568'!$H$9
Name Ind: '24569'!#REF!
Name Ind: '24570'!#REF!
Name Ind: '24571'!$H$9
Name Ind: '24572'!#REF!
Name Obj: '24568'!#REF!
Name Obj: '24569'!$E$7
Name Obj: '24570'!$E$7
Name Obj: '24571'!#REF!
Name Obj: '24572'!#REF!
Name Obosn: '24568'!$D$10
Name Obosn: '24569'!$D$10
Name Obosn: '24570'!$D$10
Name Obosn: '24571'!#REF!
Name Obosn: '24572'!$D$10
Name SmPr: '24568'!$D$11
Name SmPr: '24569'!$D$11
Name SmPr: '24570'!$D$11
Name SmPr: '24571'!$D$11
Name SmPr: '24572'!$D$11
Name аааааппппппрррппппппп: #REF!
Name аааааппппппрррппппппп: #REF!
Name аараооооооооооооо: #REF!
Name аараооооооооооооо: #REF!
Name автом: #REF!
Name автом: #REF!
Name алшрльоплварл: #REF!
Name алшрльоплварл: #REF!
Name аолвлддддддддддддддддввввввввв: #REF!
Name аолвлддддддддддддддддввввввввв: #REF!
Name апарв: #REF!
Name апарв: #REF!
Name апрлдджаоырыфрпопрлпрлпрлп: #REF!
Name апрлдджаоырыфрпопрлпрлпрлп: #REF!
Name арлггаджаш: #REF!
Name арлггаджаш: #REF!
Name ароррбллтблпроорапииас: #REF!
Name ароррбллтблпроорапииас: #REF!
Name арррррблллпдрлдддддддддд: #REF!
Name арррррблллпдрлдддддддддд: #REF!
Name варпаааааааааа: #REF!
Name варпаааааааааа: #REF!
Name ввпьььььлднд: #REF!
Name ввпьььььлднд: #REF!
Name вед: #REF!
Name вед: #REF!
Name вертикальная: #REF!
Name вертикальная: #REF!
Name вертикплан: #REF!
Name вертикплан: #REF!

Sheet 24568
A1: СОГЛАСОВАНО: | E1: ФГУП "Комбинат "Электрохимприбор" | M1: УТВЕРЖДАЮ:
G2: (наименование стройки) | M2: Зам. генерального директора
A3: _____________________________ | M3: Е.В.Гордеев
A4: " _____ " ________________ 2012г. | G4: ЛОКАЛЬНЫЙ СМЕТНЫЙ РАСЧЕТ № 24568
G5: (локальная смета) | M5: "______ " __________2012 г.
C7: на | D7: Узел учёта холодной воды. Лечебный корпус профилактория. Внутренние сети водопровода.
H8: (наименование работ и затрат, наименование объекта)
D10: Основание: № 24392-12-ВК
D11: Сметная стоимость строительных работ _______________________________________________________________________________________________ | J11: ___________________________12,914 | L11: тыс. руб.
D12: Средства на оплату труда _______________________________________________________________________________________________ | J12: ___________________________0,876 | L12: тыс. руб.
D13: Сметная трудоемкость _______________________________________________________________________________________________ | J13: _______________________________________________________________________________________________63,59 | L13: чел.час
D14: Материалы ___________________________________________________________ | J14: =J48/1000 -> 10.089 | L14: тыс.руб.
D15: Составлен(а) в базовых ценах 2001г. в редакции 2009г.
A17: № пп | B17: Обоснование | C17: Наименование | D17: Ед. изм. | E17: Кол. | F17: Стоимость единицы, руб. | J17: Общая стоимость, руб. | N17: Т/з осн. раб.на ед. | O17: Т/з осн. раб. Всего | P17: Т/з мех. на ед. | Q17: Т/з мех. Всего
F18: Всего | G18: В том числе | J18: Всего | K18: В том числе
G19: Осн.З/п | H19: Эк.Маш | I19: З/пМех | K19: Осн.З/п | L19: Эк.Маш | M19: З/пМех
A20: 1 | B20: 2 | C20: 3 | D20: 4 | E20: 5 | F20: 6 | G20: 7 | H20: 8 | I20: 9 | J20: 10 | K20: 11 | L20: 12 | M20: 13 | N20: 14 | O20: 15 | P20: 16 | Q20: 17
A21: Раздел 1. Узел учёта холодной воды.
A22: 1 | B22: ТЕР16-02-002-12 | C22: Прокладка трубопроводов водоснабжения из стальных водогазопроводных оцинкованных труб диаметром 150 мм | D22: 100 м | E22: 0.03 | F22: 25836.94 | G22: 1479.43 | H22: 452.72 | I22: 13.1 | J22: 775 | K22: 44 | L22: 14 | N22: 114.33 | O22: 3.43 | P22: 0.72 | Q22: 0.02
A23: 2 | B23: ТЕР16-02-002-06 | C23: Прокладка трубопроводов водоснабжения из стальных водогазопроводных оцинкованных труб диаметром 50 мм | D23: 100 м | E23: 0.01 | F23: 10345.12 | G23: 645.39 | H23: 142.18 | I23: 3.82 | J23: 103 | K23: 6 | L23: 1 | N23: 47.63 | O23: 0.48 | P23: 0.21
A24: 3 | B24: ТСЦ-301-1224 | C24: Крепления для трубопроводов: кронштейны, планки, хомуты | D24: кг | E24: 0.6 | F24: 17.02 | J24: 10
A25: 4 | B25: ТЕР16-06-005-02 | C25: Установка счетчиков (водомеров) диаметром до 50 мм | D25: 1 счетчик (водомер) | E25: 1 | F25: 1749.38 | G25: 16.17 | H25: 5.32 | J25: 1749 | K25: 16 | L25: 5 | N25: 1.22 | O25: 1.22
A26: 5 | B26: ТЕР16-05-001-05 | C26: Установка вентилей, задвижек, затворов, клапанов обратных, кранов проходных на трубопроводах из стальных труб диаметром до 150 мм | D26: 1 шт. | E26: 3 | F26: 492.19 | G26: 85.88 | H26: 20.84 | I26: 0.73 | J26: 1477 | K26: 258 | L26: 63 | M26: 2 | N26: 6.72 | O26: 20.16 | P26: 0.04 | Q26: 0.12
A27: 6 | B27: ТСЦ-302-1179 прим. | C27: Задвижки фланцевые диаметром 150 мм | D27: шт. | E27: 3 | F27: 911.96 | J27: 2736
A28: 7 | B28: ТСЦ-302-1832 | C28: Кран шаровой муфтовый 11Б27П1, диаметром 20 мм | D28: шт. | E28: 1 | F28: 39.32 | J28: 39
A29: 8 | B29: ТЕР16-02-002-12 прим. | C29: Переход стальной концентрический Ду159-ДУ57 | D29: 100 м | E29: 0.004 | F29: 25836.94 | G29: 1479.43 | H29: 452.72 | I29: 13.1 | J29: 103 | K29: 6 | L29: 2 | N29: 114.33 | O29: 0.46 | P29: 0.72
A30: 9 | B30: ТЕР18-07-001-02 | C30: Установка манометров с трехходовым краном | D30: 1 компл. | E30: 1 | F30: 244.31 | G30: 3.07 | J30: 244 | K30: 3 | N30: 0.22 | O30: 0.22
A31: 14 | B31: ТЕР18-06-007-04 | C31: Установка фильтров диаметром 50 мм | D31: 10 фильтров | E31: 0.1 | F31: 231.82 | G31: 129.85 | H31: 90.84 | I31: 0.91 | J31: 23 | K31: 13 | L31: 9 | N31: 9.92 | O31: 0.99 | P31: 0.05 | Q31: 0.01
A32: Уд | B32: 1. 301-1216 | C32: Фильтры для очистки воды в трубопроводах систем отопления диаметром 50 мм | D32: шт. | E32: 10 1 | F32: 884.68 | J32: 884.68
A33: 11 | B33: ТСЦ-301-1216 прим. | C33: Фильтры для очистки воды в трубопроводах диаметром 50 мм | D33: шт. | E33: 1 | F33: 884.68 | J33: 885
A34: 12 | B34: ТЕР16-07-005-03 | C34: Гидравлическое испытание трубопроводов систем отопления, водопровода и горячего водоснабжения диаметром до 200 мм | D34: 100 м | E34: 0.04 | F34: 179.06 | G34: 82.16 | H34: 15.29 | J34: 7 | K34: 3 | L34: 1 | N34: 5.01 | O34: 0.2
A35: 13 | B35: ТЕР16-07-003-10 | C35: Врезка в действующие внутренние сети трубопроводов отопления и водоснабжения диаметром 150 мм | D35: 1 врезка | E35: 2 | F35: 1343.06 | G35: 128.18 | H35: 24.21 | I35: 0.73 | J35: 2686 | K35: 256 | L35: 48 | M35: 1 | N35: 9.46 | O35: 18.92 | P35: 0.04 | Q35: 0.08
A36: Итого прямые затраты по смете в ценах 2001г. | J36: 10837 | K36: 605 | L36: 143 | M36: 3 | O36: 46.08 | Q36: 0.23
A37: Итого прямые затраты по смете с учетом коэффициентов к итогам | J37: 11175 | K37: 871 | L37: 215 | M37: 5 | O37: 63.59 | Q37: 0.35
A38: В том числе, справочно:
A39: Районный к-т 4,3% (Поз. 1-9, 14, 11-13) | J39: 26 | K39: 26
A40: При ремонте и реконструкции зданий и сооружений работы, аналогичные технологическим процессам в новом строительстве ОЗП=1,15; ЭМ=1,25; ЗПМ=1,25; ТЗ=1,15; ТЗМ=1,25 (Поз. 1-9, 14, 11-13) | J40: 131 | K40: 95 | L40: 36 | M40: 1 | O40: 6.912 | Q40: 0.0575
A41: Условия производства работ ОЗП=1,2; ЭМ=1,2; ЗПМ=1,2; ТЗ=1,2; ТЗМ=1,2 (Поз. 1-9, 14, 11-13) | J41: 181 | K41: 145 | L41: 36 | M41: 1 | O41: 10.598 | Q41: 0.058
A42: Накладные расходы | J42: 1121
A43: Сметная прибыль | J43: 618
...

Sheet 24569
A1: СОГЛАСОВАНО: | E1: ФГУП "Комбинат "Электрохимприбор" | M1: УТВЕРЖДАЮ:
G2: (наименование стройки) | M2: Зам. генерального директора
A3: _____________________________ | M3: Е.В.Гордеев
A4: " _____ " ________________ 2012г. | G4: ЛОКАЛЬНЫЙ СМЕТНЫЙ РАСЧЕТ № 24569
G5: (локальная смета) | M5: "______ " __________2012 г.
C7: на | D7: Узел учёта холодной воды. КПП-1 Внутренние сети водопровода.
H8: (наименование работ и затрат, наименование объекта)
D10: Основание: № 24389-12-ВК
D11: Сметная стоимость строительных работ _______________________________________________________________________________________________ | J11: ___________________________7,160 | L11: тыс. руб.
D12: Средства на оплату труда _______________________________________________________________________________________________ | J12: ___________________________0,538 | L12: тыс. руб.
D13: Сметная трудоемкость _______________________________________________________________________________________________ | J13: _______________________________________________________________________________________________38,63 | L13: чел.час
D14: Материалы ___________________________________________________________ | J14: =J48/1000 -> 5.436 | L14: тыс.руб.
D15: Составлен(а) в базовых ценах 2001г. в редакции 2009г.
A17: № пп | B17: Обоснование | C17: Наименование | D17: Ед. изм. | E17: Кол. | F17: Стоимость единицы, руб. | J17: Общая стоимость, руб. | N17: Т/з осн. раб.на ед. | O17: Т/з осн. раб. Всего | P17: Т/з мех. на ед. | Q17: Т/з мех. Всего
F18: Всего | G18: В том числе | J18: Всего | K18: В том числе
G19: Осн.З/п | H19: Эк.Маш | I19: З/пМех | K19: Осн.З/п | L19: Эк.Маш | M19: З/пМех
A20: 1 | B20: 2 | C20: 3 | D20: 4 | E20: 5 | F20: 6 | G20: 7 | H20: 8 | I20: 9 | J20: 10 | K20: 11 | L20: 12 | M20: 13 | N20: 14 | O20: 15 | P20: 16 | Q20: 17
A21: Раздел 1. Узел учёта холодной воды.
A22: 1 | B22: ТЕР16-02-002-08 | C22: Прокладка трубопроводов водоснабжения из стальных водогазопроводных оцинкованных труб диаметром 80 мм | D22: 100 м | E22: 0.03 | F22: 13682.69 | G22: 789.99 | H22: 188.31 | I22: 5.1 | J22: 410 | K22: 24 | L22: 6 | N22: 61.05 | O22: 1.83 | P22: 0.28 | Q22: 0.01
A23: 2 | B23: ТЕР16-02-002-01 | C23: Прокладка трубопроводов водоснабжения из стальных водогазопроводных оцинкованных труб диаметром 15 мм | D23: 100 м | E23: 0.01 | F23: 5020.27 | G23: 502.3 | H23: 79.16 | I23: 2.73 | J23: 50 | K23: 5 | L23: 1 | N23: 37.07 | O23: 0.37 | P23: 0.15
A24: 3 | B24: ТСЦ-301-1224 | C24: Крепления для трубопроводов: кронштейны, планки, хомуты | D24: кг | E24: 0.6 | F24: 17.02 | J24: 10
A25: 4 | B25: ТЕР16-06-005-01 | C25: Установка счетчиков (водомеров) диаметром до 40 мм | D25: 1 счетчик (водомер) | E25: 1 | F25: 1266.37 | G25: 5.43 | H25: 1.09 | J25: 1266 | K25: 5 | L25: 1 | N25: 0.41 | O25: 0.41
A26: 5 | B26: ТЕР16-05-001-03 | C26: Установка задвижек на трубопроводах из стальных труб диаметром до 100 мм | D26: 1 шт. | E26: 3 | F26: 278.39 | G26: 37.19 | H26: 11.67 | I26: 0.36 | J26: 835 | K26: 112 | L26: 35 | M26: 1 | N26: 2.91 | O26: 8.73 | P26: 0.02 | Q26: 0.06
A27: 6 | B27: ТСЦ-302-1176 прим. | C27: Задвижки фланцевые диаметром 80 мм | D27: шт. | E27: 3 | F27: 434.17 | J27: 1303
A28: 7 | B28: ТСЦ-302-1831 | C28: Кран шаровой муфтовый 11Б27П1, диаметром 15 мм | D28: шт. | E28: 1 | F28: 25.14 | J28: 25
A29: 8 | B29: ТЕР16-02-002-08 прим. | C29: Переходы стальные концентрические Ду89-ДУ48; Ду48-Ду26 | D29: 100 м | E29: 0.008 | F29: 13682.69 | G29: 789.99 | H29: 188.31 | I29: 5.1 | J29: 109 | K29: 6 | L29: 2 | N29: 61.05 | O29: 0.49 | P29: 0.28
A30: 9 | B30: ТЕР18-07-001-02 | C30: Установка манометров с трехходовым краном | D30: 1 компл. | E30: 1 | F30: 244.31 | G30: 3.07 | J30: 244 | K30: 3 | N30: 0.22 | O30: 0.22
A31: 10 | B31: ТЕР18-06-007-01 прим. | C31: Установка фильтров диаметром до 25 мм | D31: 10 фильтров | E31: 0.1 | F31: 180.6 | G31: 108.39 | H31: 64.42 | I31: 0.18 | J31: 18 | K31: 11 | L31: 6 | N31: 8.18 | O31: 0.82 | P31: 0.01
A32: Уд | B32: 1. 301-1213 | C32: Фильтры для очистки воды в трубопроводах систем отопления диаметром 25 мм | D32: шт. | E32: 10 1 | F32: 516.72 | J32: 516.72
A33: 11 | B33: ТСЦ-301-1311 | C33: Фильтр магнитный муфтовый ФММ-15 | D33: шт. | E33: 1 | F33: 252.67 | J33: 253
A34: 12 | B34: ТЕР16-07-005-02 | C34: Гидравлическое испытание трубопроводов систем отопления, водопровода и горячего водоснабжения диаметром до 100 мм | D34: 100 м трубопровода | E34: 0.04 | F34: 118.06 | G34: 82.16 | H34: 15.29 | J34: 5 | K34: 3 | L34: 1 | N34: 5.01 | O34: 0.2
A35: 13 | B35: ТЕР16-07-003-07 | C35: Врезка в действующие внутренние сети трубопроводов отопления и водоснабжения диаметром 80 мм | D35: 1 врезка | E35: 2 | F35: 680.07 | G35: 101.08 | H35: 14.56 | I35: 0.36 | J35: 1360 | K35: 202 | L35: 29 | M35: 1 | N35: 7.46 | O35: 14.92 | P35: 0.02 | Q35: 0.04
A36: Итого прямые затраты по смете в ценах 2001г. | J36: 5888 | K36: 371 | L36: 81 | M36: 2 | O36: 27.99 | Q36: 0.11
A37: Итого прямые затраты по смете с учетом коэффициентов к итогам | J37: 6091 | K37: 534 | L37: 121 | M37: 4 | O37: 38.63 | Q37: 0.17
A38: В том числе, справочно:
A39: Районный к-т 4,3% (Поз. 1-13) | J39: 16 | K39: 16
A40: При ремонте и реконструкции зданий и сооружений работы, аналогичные технологическим процессам в новом строительстве ОЗП=1,15; ЭМ=1,25; ЗПМ=1,25; ТЗ=1,15; ТЗМ=1,25 (Поз. 1-13) | J40: 78 | K40: 58 | L40: 20 | O40: 4.1985 | Q40: 0.0275
A41: Условия производства работ ОЗП=1,2; ЭМ=1,2; ЗПМ=1,2; ТЗ=1,2; ТЗМ=1,2 (Поз. 1-13) | J41: 109 | K41: 89 | L41: 20 | M41: 1 | O41: 6.438 | Q41: 0.028
A42: Накладные расходы | J42: 689
A43: Сметная прибыль | J43: 380
...

Sheet 24570
A1: СОГЛАСОВАНО: | E1: ФГУП "Комбинат "Электрохимприбор" | M1: УТВЕРЖДАЮ:
G2: (наименование стройки) | M2: Зам. генерального директора
A3: _____________________________ | M3: Е.В.Гордеев
A4: " _____ " ________________ 2012г. | G4: ЛОКАЛЬНЫЙ СМЕТНЫЙ РАСЧЕТ № 24570
G5: (локальная смета) | M5: "______ " __________2012 г.
C7: на | D7: Узел учёта холодной воды. Заводская поликлинника. Внутренние сети водопровода.
H8: (наименование работ и затрат, наименование объекта)
D10: Основание: № 24391-12-ВК
D11: Сметная стоимость строительных работ _______________________________________________________________________________________________ | J11: ___________________________8,063 | L11: тыс. руб.
D12: Средства на оплату труда _______________________________________________________________________________________________ | J12: ___________________________0,550 | L12: тыс. руб.
D13: Сметная трудоемкость _______________________________________________________________________________________________ | J13: _______________________________________________________________________________________________39,55 | L13: чел.час
D14: Материалы ___________________________________________________________ | J14: =J49/1000 -> 6.299 | L14: тыс.руб.
D15: Составлен(а) в базовых ценах 2001г. в редакции 2009г.
A17: № пп | B17: Обоснование | C17: Наименование | D17: Ед. изм. | E17: Кол. | F17: Стоимость единицы, руб. | J17: Общая стоимость, руб. | N17: Т/з осн. раб.на ед. | O17: Т/з осн. раб. Всего | P17: Т/з мех. на ед. | Q17: Т/з мех. Всего
F18: Всего | G18: В том числе | J18: Всего | K18: В том числе
G19: Осн.З/п | H19: Эк.Маш | I19: З/пМех | K19: Осн.З/п | L19: Эк.Маш | M19: З/пМех
A20: 1 | B20: 2 | C20: 3 | D20: 4 | E20: 5 | F20: 6 | G20: 7 | H20: 8 | I20: 9 | J20: 10 | K20: 11 | L20: 12 | M20: 13 | N20: 14 | O20: 15 | P20: 16 | Q20: 17
A21: Раздел 1. Узел учёта холодной воды.
A22: 1 | B22: ТЕР16-02-002-10 | C22: Прокладка трубопроводов водоснабжения из стальных водогазопроводных оцинкованных труб диаметром 100 мм | D22: 100 м | E22: 0.03 | F22: 18284.57 | G22: 991.07 | H22: 303.05 | I22: 8.92 | J22: 549 | K22: 30 | L22: 9 | N22: 76.59 | O22: 2.3 | P22: 0.49 | Q22: 0.01
A23: 2 | B23: ТЕР16-02-002-02 | C23: Прокладка трубопроводов водоснабжения из стальных водогазопроводных оцинкованных труб диаметром 20 мм | D23: 100 м | E23: 0.01 | F23: 5654.2 | G23: 502.3 | H23: 79.16 | I23: 2.73 | J23: 57 | K23: 5 | L23: 1 | N23: 37.07 | O23: 0.37 | P23: 0.15
A24: 3 | B24: ТСЦ-301-1224 | C24: Крепления для трубопроводов: кронштейны, планки, хомуты | D24: кг | E24: 0.6 | F24: 17.02 | J24: 10
A25: 4 | B25: ТЕР16-06-005-01 | C25: Установка счетчиков (водомеров) диаметром до 40 мм | D25: 1 счетчик (водомер) | E25: 1 | F25: 1266.37 | G25: 5.43 | H25: 1.09 | J25: 1266 | K25: 5 | L25: 1 | N25: 0.41 | O25: 0.41
A26: 5 | B26: ТЕР16-05-001-03 | C26: Установка задвижек на трубопроводах из стальных труб диаметром до 100 мм | D26: 1 шт. | E26: 3 | F26: 278.39 | G26: 37.19 | H26: 11.67 | I26: 0.36 | J26: 835 | K26: 112 | L26: 35 | M26: 1 | N26: 2.91 | O26: 8.73 | P26: 0.02 | Q26: 0.06
A27: 6 | B27: ТСЦ-302-1177 прим. | C27: Задвижки фланцевые диаметром 100 мм | D27: шт. | E27: 3 | F27: 535.5 | J27: 1607
A28: 7 | B28: ТСЦ-302-1831 | C28: Кран шаровой муфтовый 11Б27П1, диаметром 15 мм | D28: шт. | E28: 1 | F28: 25.14 | J28: 25
A29: 8 | B29: ТЕР16-02-002-10 прим. | C29: Переход стальной концентрическиЙ Ду108-Ду57 | D29: 100 м | E29: 0.004 | F29: 18284.57 | G29: 991.07 | H29: 303.05 | I29: 8.92 | J29: 73 | K29: 4 | L29: 1 | N29: 76.59 | O29: 0.31 | P29: 0.49
A30: 9 | B30: ТЕР16-02-002-06 прим. | C30: Переход стальной концентрическиЙ Ду57-Ду25 | D30: 100 м | E30: 0.008 | F30: 10345.12 | G30: 645.39 | H30: 142.18 | I30: 3.82 | J30: 83 | K30: 5 | L30: 1 | N30: 47.63 | O30: 0.38 | P30: 0.21
A31: 10 | B31: ТЕР18-07-001-02 | C31: Установка манометров с трехходовым краном | D31: 1 компл. | E31: 1 | F31: 244.31 | G31: 3.07 | J31: 244 | K31: 3 | N31: 0.22 | O31: 0.22
A32: 11 | B32: ТЕР18-06-007-01 прим. | C32: Установка фильтров диаметром до 25 мм | D32: 10 фильтров | E32: 0.1 | F32: 180.6 | G32: 108.39 | H32: 64.42 | I32: 0.18 | J32: 18 | K32: 11 | L32: 6 | N32: 8.18 | O32: 0.82 | P32: 0.01
A33: Уд | B33: 1. 301-1213 | C33: Фильтры для очистки воды в трубопроводах систем отопления диаметром 25 мм | D33: шт. | E33: 10 1 | F33: 516.72 | J33: 516.72
A34: 12 | B34: ТСЦ-301-1312 прим. | C34: Фильтр магнитный муфтовый Ду-20 | D34: шт. | E34: 1 | F34: 361.43 | J34: 361
A35: 13 | B35: ТЕР16-07-005-02 | C35: Гидравлическое испытание трубопроводов систем отопления, водопровода и горячего водоснабжения диаметром до 100 мм | D35: 100 м | E35: 0.04 | F35: 118.06 | G35: 82.16 | H35: 15.29 | J35: 5 | K35: 3 | L35: 1 | N35: 5.01 | O35: 0.2
A36: 14 | B36: ТЕР16-07-003-08 | C36: Врезка в действующие внутренние сети трубопроводов отопления и водоснабжения диаметром 100 мм | D36: 1 врезка | E36: 2 | F36: 815.11 | G36: 101.08 | H36: 14.56 | I36: 0.36 | J36: 1630 | K36: 202 | L36: 29 | M36: 1 | N36: 7.46 | O36: 14.92 | P36: 0.02 | Q36: 0.04
A37: Итого прямые затраты по смете в ценах 2001г. | J37: 6763 | K37: 380 | L37: 84 | M37: 2 | O37: 28.66 | Q37: 0.11
A38: Итого прямые затраты по смете с учетом коэффициентов к итогам | J38: 6971 | K38: 546 | L38: 126 | M38: 4 | O38: 39.55 | Q38: 0.17
A39: В том числе, справочно:
A40: Районный к-т 4,3% (Поз. 1-14) | J40: 16 | K40: 16
A41: При ремонте и реконструкции зданий и сооружений работы, аналогичные технологическим процессам в новом строительстве ОЗП=1,15; ЭМ=1,25; ЗПМ=1,25; ТЗ=1,15; ТЗМ=1,25 (Поз. 1-14) | J41: 80 | K41: 59 | L41: 21 | O41: 4.299 | Q41: 0.0275
A42: Условия производства работ ОЗП=1,2; ЭМ=1,2; ЗПМ=1,2; ТЗ=1,2; ТЗМ=1,2 (Поз. 1-14) | J42: 112 | K42: 91 | L42: 21 | M42: 1 | O42: 6.592 | Q42: 0.028
A43: Накладные расходы | J43: 704
...

Sheet 24571
A1: СОГЛАСОВАНО: | E1: ФГУП "Комбинат "Электрохимприбор" | M1: УТВЕРЖДАЮ:
G2: (наименование стройки) | M2: Зам. генерального директора
A3: _____________________________ | M3: Е.В.Гордеев
A4: " _____ " ________________ 2012г. | G4: ЛОКАЛЬНЫЙ СМЕТНЫЙ РАСЧЕТ № 24571
G5: (локальная смета) | M5: "______ " __________2012 г.
C7: на | D7: Узел учёта холодной воды. Общежитие "Дружба". Внутренние сети водопровода.
H8: (наименование работ и затрат, наименование объекта)
D10: Основание: № 24390-12-ВК
D11: Сметная стоимость строительных работ _______________________________________________________________________________________________ | J11: ___________________________13,026 | L11: тыс. руб.
D12: Средства на оплату труда _______________________________________________________________________________________________ | J12: ___________________________0,884 | L12: тыс. руб.
D13: Сметная трудоемкость _______________________________________________________________________________________________ | J13: _______________________________________________________________________________________________63,1 | L13: чел.час
D14: Материалы ___________________________________________________________ | J14: =J49/1000 -> 10.205 | L14: тыс.руб.
D15: Составлен(а) в базовых ценах 2001г. в редакции 2009г.
A17: № пп | B17: Обоснование | C17: Наименование | D17: Ед. изм. | E17: Кол. | F17: Стоимость единицы, руб. | J17: Общая стоимость, руб. | N17: Т/з осн. раб.на ед. | O17: Т/з осн. раб. Всего | P17: Т/з мех. на ед. | Q17: Т/з мех. Всего
F18: Всего | G18: В том числе | J18: Всего | K18: В том числе
G19: Осн.З/п | H19: Эк.Маш | I19: З/пМех | K19: Осн.З/п | L19: Эк.Маш | M19: З/пМех
A20: 1 | B20: 2 | C20: 3 | D20: 4 | E20: 5 | F20: 6 | G20: 7 | H20: 8 | I20: 9 | J20: 10 | K20: 11 | L20: 12 | M20: 13 | N20: 14 | O20: 15 | P20: 16 | Q20: 17
A21: Раздел 1. Узел учёта холодной воды, ( 2 узла)
A22: 1 | B22: ТЕР16-02-002-04 | C22: Прокладка трубопроводов водоснабжения из стальных водогазопроводных оцинкованных труб диаметром 32 мм | D22: 100 м | E22: 0.02 | F22: 7311.57 | G22: 502.3 | H22: 79.16 | I22: 2.73 | J22: 146 | K22: 10 | L22: 2 | N22: 37.07 | O22: 0.74 | P22: 0.15
A23: 2 | B23: ТСЦ-301-1224 | C23: Крепления для трубопроводов: кронштейны, планки, хомуты | D23: кг | E23: 0.4 | F23: 17.02 | J23: 7
A24: 3 | B24: ТЕР16-06-005-01 | C24: Установка счетчиков (водомеров) диаметром до 40 мм | D24: 1 счетчик (водомер) | E24: 2 | F24: 1266.37 | G24: 5.43 | H24: 1.09 | J24: 2533 | K24: 11 | L24: 2 | N24: 0.41 | O24: 0.82
A25: 4 | B25: ТЕР16-05-001-03 | C25: Установка задвижек на трубопроводах из стальных труб диаметром до 100 мм | D25: 1 шт. | E25: 4 | F25: 278.39 | G25: 37.19 | H25: 11.67 | I25: 0.36 | J25: 1114 | K25: 149 | L25: 47 | M25: 1 | N25: 2.91 | O25: 11.64 | P25: 0.02 | Q25: 0.08
A26: 5 | B26: ТСЦ-302-1177 прим. | C26: Задвижки фланцевые диаметром 100 мм | D26: шт. | E26: 4 | F26: 535.5 | J26: 2142
A27: 6 | B27: ТСЦ-302-1831 | C27: Кран шаровой муфтовый 11Б27П1, диаметром 15 мм | D27: шт. | E27: 2 | F27: 25.14 | J27: 50
A28: 7 | B28: ТЕР16-02-002-10 прим. | C28: Переход стальной концентрическиЙ Ду108-Ду60 | D28: 100 м | E28: 0.004 | F28: 18284.57 | G28: 991.07 | H28: 303.05 | I28: 8.92 | J28: 73 | K28: 4 | L28: 1 | N28: 76.59 | O28: 0.31 | P28: 0.49
A29: 8 | B29: ТЕР16-02-002-06 прим. | C29: Переход стальной концентрическиЙ Ду60-Ду42 | D29: 100 м | E29: 0.004 | F29: 10345.12 | G29: 645.39 | H29: 142.18 | I29: 3.82 | J29: 41 | K29: 3 | L29: 1 | N29: 47.63 | O29: 0.19 | P29: 0.21
A30: 9 | B30: ТЕР18-07-001-02 | C30: Установка манометров с трехходовым краном | D30: 1 компл. | E30: 2 | F30: 244.31 | G30: 3.07 | J30: 489 | K30: 6 | N30: 0.22 | O30: 0.44
A31: 10 | B31: ТЕР18-06-007-02 | C31: Установка фильтров диаметром 32 мм | D31: 10 фильтров | E31: 0.2 | F31: 179.74 | G31: 108.39 | H31: 62.45 | I31: 0.55 | J31: 36 | K31: 22 | L31: 12 | N31: 8.18 | O31: 1.64 | P31: 0.03 | Q31: 0.01
A32: Уд | B32: 1. 301-1214 | C32: Фильтры для очистки воды в трубопроводах систем отопления диаметром 32 мм | D32: шт. | E32: 10 2 | F32: 602.76 | J32: 1205.52
A33: 11 | B33: ТСЦ-301-1312 | C33: Фильтр магнитный муфтовый ФММ-32 | D33: шт. | E33: 2 | F33: 361.43 | J33: 723
A34: 12 | B34: ТСЦ-301-1655 прим. | C34: Клапаны муфтовые , диаметром 32 мм | D34: шт. | E34: 2 | F34: 161.5 | J34: 323
A35: 13 | B35: ТЕР16-07-005-02 | C35: Гидравлическое испытание трубопроводов систем отопления, водопровода и горячего водоснабжения диаметром до 100 мм | D35: 100 м | E35: 0.02 | F35: 118.06 | G35: 82.16 | H35: 15.29 | J35: 2 | K35: 2 | N35: 5.01 | O35: 0.1
A36: 14 | B36: ТЕР16-07-003-08 | C36: Врезка в действующие внутренние сети трубопроводов отопления и водоснабжения диаметром 100 мм | D36: 1 врезка | E36: 4 | F36: 815.11 | G36: 101.08 | H36: 14.56 | I36: 0.36 | J36: 3260 | K36: 404 | L36: 58 | M36: 1 | N36: 7.46 | O36: 29.84 | P36: 0.02 | Q36: 0.08
A37: Итого прямые затраты по смете в ценах 2001г. | J37: 10939 | K37: 611 | L37: 123 | M37: 2 | O37: 45.72 | Q37: 0.17
A38: Итого прямые затраты по смете с учетом коэффициентов к итогам | J38: 11270 | K38: 880 | L38: 185 | M38: 4 | O38: 63.1 | Q38: 0.25
A39: В том числе, справочно:
A40: Районный к-т 4,3% (Поз. 1-14) | J40: 26 | K40: 26
A41: При ремонте и реконструкции зданий и сооружений работы, аналогичные технологическим процессам в новом строительстве ОЗП=1,15; ЭМ=1,25; ЗПМ=1,25; ТЗ=1,15; ТЗМ=1,25 (Поз. 1-14) | J41: 127 | K41: 96 | L41: 31 | O41: 6.858 | Q41: 0.0425
A42: Условия производства работ ОЗП=1,2; ЭМ=1,2; ЗПМ=1,2; ТЗ=1,2; ТЗМ=1,2 (Поз. 1-14) | J42: 178 | K42: 147 | L42: 31 | M42: 1 | O42: 10.516 | Q42: 0.042
A43: Накладные расходы | J43: 1132
...

Sheet 24572
A1: СОГЛАСОВАНО: | E1: ФГУП "Комбинат "Электрохимприбор" | M1: УТВЕРЖДАЮ:
G2: (наименование стройки) | M2: Зам. генерального директора
A3: _____________________________ | M3: Е.В.Гордеев
A4: " _____ " ________________ 2012г. | G4: ЛОКАЛЬНЫЙ СМЕТНЫЙ РАСЧЕТ № 24572
G5: (локальная смета) | M5: "______ " __________2012 г.
C7: на | D7: Узел учёта холодной воды. Гостиница "Лесная". Внутренние сети водопровода.
H8: (наименование работ и затрат, наименование объекта)
D10: Основание: № 24388-12-ВК
D11: Сметная стоимость строительных работ _______________________________________________________________________________________________ | J11: ___________________________8,148 | L11: тыс. руб.
D12: Средства на оплату труда _______________________________________________________________________________________________ | J12: ___________________________0,570 | L12: тыс. руб.
D13: Сметная трудоемкость _______________________________________________________________________________________________ | J13: _______________________________________________________________________________________________40,88 | L13: чел.час
D14: Материалы ___________________________________________________________ | J14: =J49/1000 -> 6.306 | L14: тыс.руб.
D15: Составлен(а) в базовых ценах 2001г. в редакции 2009г.
A17: № пп | B17: Обоснование | C17: Наименование | D17: Ед. изм. | E17: Кол. | F17: Стоимость единицы, руб. | J17: Общая стоимость, руб. | N17: Т/з осн. раб.на ед. | O17: Т/з осн. раб. Всего | P17: Т/з мех. на ед. | Q17: Т/з мех. Всего
F18: Всего | G18: В том числе | J18: Всего | K18: В том числе
G19: Осн.З/п | H19: Эк.Маш | I19: З/пМех | K19: Осн.З/п | L19: Эк.Маш | M19: З/пМех
A20: 1 | B20: 2 | C20: 3 | D20: 4 | E20: 5 | F20: 6 | G20: 7 | H20: 8 | I20: 9 | J20: 10 | K20: 11 | L20: 12 | M20: 13 | N20: 14 | O20: 15 | P20: 16 | Q20: 17
A21: Раздел 1. Узел учёта холодной воды.
A22: 1 | B22: ТЕР16-02-002-10 | C22: Прокладка трубопроводов водоснабжения из стальных водогазопроводных оцинкованных труб диаметром 100 мм | D22: 100 м | E22: 0.03 | F22: 18284.57 | G22: 991.07 | H22: 303.05 | I22: 8.92 | J22: 549 | K22: 30 | L22: 9 | N22: 76.59 | O22: 2.3 | P22: 0.49 | Q22: 0.01
A23: 2 | B23: ТЕР16-02-002-05 | C23: Прокладка трубопроводов водоснабжения из стальных водогазопроводных оцинкованных труб диаметром 40 мм | D23: 100 м | E23: 0.01 | F23: 8494.65 | G23: 502.3 | H23: 79.16 | I23: 2.73 | J23: 85 | K23: 5 | L23: 1 | N23: 37.07 | O23: 0.37 | P23: 0.15
A24: 3 | B24: ТСЦ-301-1224 | C24: Крепления для трубопроводов: кронштейны, планки, хомуты | D24: кг | E24: 0.8 | F24: 17.02 | J24: 14
A25: 4 | B25: ТЕР16-06-005-01 | C25: Установка счетчиков (водомеров) диаметром до 40 мм | D25: 1 счетчик (водомер) | E25: 1 | F25: 1266.37 | G25: 5.43 | H25: 1.09 | J25: 1266 | K25: 5 | L25: 1 | N25: 0.41 | O25: 0.41
A26: 5 | B26: ТЕР16-05-001-03 | C26: Установка задвижек на трубопроводах из стальных труб диаметром до 100 мм | D26: 1 шт. | E26: 3 | F26: 278.39 | G26: 37.19 | H26: 11.67 | I26: 0.36 | J26: 835 | K26: 112 | L26: 35 | M26: 1 | N26: 2.91 | O26: 8.73 | P26: 0.02 | Q26: 0.06
A27: 6 | B27: ТСЦ-302-1177 прим. | C27: Задвижки фланцевые диаметром 100 мм | D27: шт. | E27: 3 | F27: 535.5 | J27: 1607
A28: 7 | B28: ТСЦ-302-1832 | C28: Кран шаровой муфтовый 11Б27П1, диаметром 20 мм | D28: шт. | E28: 1 | F28: 39.32 | J28: 39
A29: 8 | B29: ТЕР16-02-002-10 прим. | C29: Переход стальной концентрическиЙ Ду108-Ду57 | D29: 100 м | E29: 0.004 | F29: 18284.57 | G29: 991.07 | H29: 303.05 | I29: 8.92 | J29: 73 | K29: 4 | L29: 1 | N29: 76.59 | O29: 0.31 | P29: 0.49
A30: 9 | B30: ТЕР16-02-002-06 прим. | C30: Переход стальной концентрическиЙ Ду57-Ду45 | D30: 100 м | E30: 0.004 | F30: 10345.12 | G30: 645.39 | H30: 142.18 | I30: 3.82 | J30: 41 | K30: 3 | L30: 1 | N30: 47.63 | O30: 0.19 | P30: 0.21
A31: 10 | B31: ТЕР18-07-001-02 | C31: Установка манометров с трехходовым краном | D31: 1 компл. | E31: 1 | F31: 244.31 | G31: 3.07 | J31: 244 | K31: 3 | N31: 0.22 | O31: 0.22
A32: 11 | B32: ТЕР18-06-007-03 прим. | C32: Установка фильтров диаметром 40 мм | D32: 10 фильтров | E32: 0.2 | F32: 229.37 | G32: 129.85 | H32: 89.5 | I32: 0.55 | J32: 46 | K32: 26 | L32: 18 | N32: 9.92 | O32: 1.98 | P32: 0.03 | Q32: 0.01
A33: Уд | B33: 1. 301-1215 | C33: Фильтры для очистки воды в трубопроводах систем отопления диаметром 40 мм | D33: шт. | E33: 10 2 | F33: 741.14 | J33: 1482.28
A34: 12 | B34: ТСЦ-301-1312 прим. | C34: Фильтр магнитный муфтовый ФММ | D34: шт. | E34: 1 | F34: 361.43 | J34: 361
A35: 13 | B35: ТЕР16-07-005-02 | C35: Гидравлическое испытание трубопроводов систем отопления, водопровода и горячего водоснабжения диаметром до 100 мм | D35: 100 м | E35: 0.04 | F35: 118.06 | G35: 82.16 | H35: 15.29 | J35: 5 | K35: 3 | L35: 1 | N35: 5.01 | O35: 0.2
A36: 14 | B36: ТЕР16-07-003-08 | C36: Врезка в действующие внутренние сети трубопроводов отопления и водоснабжения диаметром 100 мм | D36: 1 врезка | E36: 2 | F36: 815.11 | G36: 101.08 | H36: 14.56 | I36: 0.36 | J36: 1630 | K36: 202 | L36: 29 | M36: 1 | N36: 7.46 | O36: 14.92 | P36: 0.02 | Q36: 0.04
A37: Итого прямые затраты по смете в ценах 2001г. | J37: 6795 | K37: 393 | L37: 96 | M37: 2 | O37: 29.63 | Q37: 0.12
A38: Итого прямые затраты по смете с учетом коэффициентов к итогам | J38: 7016 | K38: 566 | L38: 144 | M38: 4 | O38: 40.88 | Q38: 0.18
A39: В том числе, справочно:
A40: Районный к-т 4,3% (Поз. 1-14) | J40: 17 | K40: 17
A41: При ремонте и реконструкции зданий и сооружений работы, аналогичные технологическим процессам в новом строительстве ОЗП=1,15; ЭМ=1,25; ЗПМ=1,25; ТЗ=1,15; ТЗМ=1,25 (Поз. 1-14) | J41: 86 | K41: 62 | L41: 24 | O41: 4.4445 | Q41: 0.03
A42: Условия производства работ ОЗП=1,2; ЭМ=1,2; ЗПМ=1,2; ТЗ=1,2; ТЗМ=1,2 (Поз. 1-14) | J42: 118 | K42: 94 | L42: 24 | M42: 1 | O42: 6.814 | Q42: 0.03
A43: Накладные расходы | J43: 730
...

Sheet НМЦ
A1: г. Лесной ФГУП "Комбинат "Электрохимприбор"
A3: Расчет начальной (максимальной) цены
A5: Выполнение работ по установке приборов учета холодной воды на объектах
A6: ФГУП «Комбинат «Электрохимприбор»
A9: Составлен в ценах по состоянию на 01.01.2000 г. с переводом в текущие | D9: руб.
A10: Наименование глав ССР, объектных сметных расчетов, локальных сметных расчетов, видов работ | B10: Сметная стоимость в базисных ценах на 01.01.2000 | C10: Текущая стоимость на момент определения начальной (максимальной) цены | D10: № обосновывающего расчета
A14: 1 | B14: 2 | C14: 3 | D14: 4
A15: Узел учёта холодной воды. Лечебный корпус профилактория. Внутренние сети водопровода. | B15: ='24568'!J53 -> 12914 | C15: =ROUND(B15*4.42,0) -> 57080 | D15: 24568
A16: Узел учёта холодной воды. КПП-1 Внутренние сети водопровода. | B16: ='24569'!J53 -> 7160 | C16: =ROUND(B16*4.42,0) -> 31647 | D16: 24569
A17: Узел учёта холодной воды. Заводская поликлинника. Внутренние сети водопровода. | B17: ='24570'!J54 -> 8063 | C17: =ROUND(B17*4.42,0) -> 35638 | D17: 24570
A18: Узел учёта холодной воды. Общежитие "Дружба". Внутренние сети водопровода. | B18: ='24571'!J54 -> 13026 | C18: =ROUND(B18*4.42,0) -> 57575 | D18: 24571
A19: Узел учёта холодной воды. Гостиница "Лесная". Внутренние сети водопровода. | B19: ='24572'!J54 -> 8148 | C19: =ROUND(B19*4.42,0) -> 36014 | D19: 24572
A20: Итого | B20: =SUM(B15:B19) -> 49311 | C20: =SUM(C15:C19) -> 217954
A22: НДС 18% | C22: =ROUND(C20*18%,2) -> 39231.72
A24: Всего | C24: =SUM(C20:C22) -> 257185.72
A27: И.о. начальника отдела
A28: капитального строительства | C28: С.С. Батаев
A30: Инженер по проектно-сметной работе | C30: Т.Ш. Ковязина

Sheet Сводка затрат
D1: к договору от "___"_____2012 №_________
A3: СВОДКА ЗАТРАТ
A5: Выполнение работ по установке приборов учета холодной воды на объектах ФГУП «Комбинат «Электрохимприбор»
D7: руб.
A8: № п/п | B8: № локальных сметных расчетов | C8: Наименование | D8: Стоимость в базисных ценах 2001 года
A10: 1 | B10: 24568 | C10: Узел учёта холодной воды. Лечебный корпус профилактория. Внутренние сети водопровода. | D10: 12914
A11: 2 | B11: 24569 | C11: Узел учёта холодной воды. КПП-1 Внутренние сети водопровода. | D11: 7160
A12: 3 | B12: 24570 | C12: Узел учёта холодной воды. Заводская поликлинника. Внутренние сети водопровода. | D12: 8063
A13: 4 | B13: 24571 | C13: Узел учёта холодной воды. Общежитие "Дружба". Внутренние сети водопровода. | D13: 13026
A14: 5 | B14: 24572 | C14: Узел учёта холодной воды. Гостиница "Лесная". Внутренние сети водопровода. | D14: 8148
C15: Итого: | D15: =SUM(D10:D14) -> 49311
C16: Итого в текущих ценах: | D16: =ROUND(D15*4.42,0)-1 -> 217954
C17: НДС 18%: | D17: =ROUND(D16*18%,2) -> 39231.72
C18: Итого в текущих ценах с учетом НДС: | D18: =SUM(D16:D17) -> 257185.72
B21: Заказчик | D21: Подрядчик
