Workbook
Name таблица: [1]Лист1!$A$5:$Q$359

Sheet Тех задание
A1: УТВЕРЖДАЮ
A2: Первый зам. Генерального директора - Главный инженер ___________________Куликовский С.В. "____"_______20___г.
A3: ТЕХНИЧЕСКОЕ ЗАДАНИЕ
A4: «Поставка слесарного инструмента на 1-е полугодие 2012.»
A5: п/п | B5: Наименование Товара | C5: Функциональные (потребительские свойства), качественные характеристики Товара | D5: ГОСТ,ТУ (или эквивалент) | F5: Ед. измерения | G5: Итого
A6: I | B6: ОСП Далматовское
A7: 1 | B7: Резцы отрезные прямые 25х20х140 | C7: Т5К10 | D7: ГОСТ 18884-73 | F7: шт. | G7: 30
A8: 2 | B8: Резцы отрезные прямые 32х20х170 | C8: Т5К10 | D8: ГОСТ 18884-73 | F8: шт. | G8: 30
A9: 3 | B9: Резцы отрезные прямые 20х16х120 | C9: Т5К10 | D9: ГОСТ 18884-73 | F9: шт. | G9: 30
A10: 4 | B10: Резцы проходные отогнутые 25х20х170 | C10: Т5К10 | D10: ГОСТ 18877-73 | F10: шт. | G10: 12
A11: 5 | B11: Резцы проходные отогнутые 32х20х170 | C11: Т5К10 | D11: ГОСТ 18877-73 | F11: шт. | G11: 12
A12: 6 | B12: Резцы подрезные отогнутые 25х16х140 | C12: Т5К10 | D12: ГОСТ 18880-73 | F12: шт. | G12: 12
A13: 7 | B13: Резцы подрезные отогнутые 32х20х170 | C13: Т5К10 | D13: ГОСТ 18880-73 | F13: шт. | G13: 12
A14: 8 | B14: Резцы проходные прямые 32х20х170 | C14: Т5К10 | D14: ГОСТ 18878-73 | F14: шт. | G14: 12
A15: 9 | B15: Резцы проходные прямые 32х25х200 | C15: Т5К10 | D15: ГОСТ 18878-73 | F15: шт. | G15: 12
A16: 10 | B16: Резцы упорные изогнутые 25х20х170 | C16: Т5К10 | D16: ГОСТ 18879-73 | F16: шт. | G16: 12
A17: 11 | B17: Резцы упорные изогнутые 32х20х170 | C17: Т5К10 | D17: ГОСТ 18879-73 | F17: шт. | G17: 12
A18: 12 | B18: Резцы упорные прямые 25*16*140 | C18: Т5К10 | D18: ГОСТ 18879-73 | F18: шт. | G18: 12
... A77: 71 | B77: Плашка М16х1 | C77: режущий иснтрумент обратки металла | D77: ГОСТ 9140-71 | F77: шт. | G77: 3
A78: 72 | B78: Диск шлиф.230х6х22 по металлу | C78: 230х6х22 | F78: шт. | G78: 110
A79: 73 | B79: Диск отрезной 230х2,5х22 по металлу | C79: 230х2,5х22 | F79: шт. | G79: 180
A80: 74 | B80: Шкурка шлиф.влагост.14 А | C80: шлифовка заготовок Зерно 10 мкм | D80: ГОСТ-13344-79 | F80: кг. | G80: 2
A81: 75 | B81: Шкурка шлиф.влагост.32 | C81: шлифовка заготовок Зерно 10 мкм | D81: ГОСТ-13344-79 | F81: кг. | G81: 2
A82: 76 | B82: Шлифкруг абразивный 400х127х40 | C82: тип1(пп)64С 25Н СМ2 2К | D82: ГОСТ 2424-83 | F82: шт. | G82: 2
A83: 77 | B83: Молоток слесарный | C83: 800г. | F83: шт. | G83: 6
A84: 78 | B84: Кувалда | C84: 5кг. | F84: шт. | G84: 6
A85: 79 | B85: Плоскогубцы | C85: ручной инструмент 1PK-052AS | F85: шт. | G85: 4
A86: 80 | B86: Тонкогубцы | C86: ручной инструмент 1PK-24 | F86: шт. | G86: 2
A87: 81 | B87: Ножницы для резки металла | C87: ручной инструмент ERDI D15A | F87: шт. | G87: 2
A88: 82 | B88: Набор шофёрского инструмента №1 | C88: ручной инструмент | F88: шт. | G88: 1
A89: 83 | B89: Набор шофёрского инструмента №2 | C89: ручной инструмент | F89: шт. | G89: 1
A90: 84 | B90: Набор головок 3/4" 19-50 мм 6гр. 21 пр. TOPTUL GCAI2104 | C90: ручной инструмент | F90: комп. | G90: 3
A91: 85 | B91: Набор ключей рожковых 8-36 мм. | C91: ручной инструмент | F91: шт. | G91: 2
A92: 86 | B92: Набор ключей накидных 8-36 мм. | C92: ручной инструмент | F92: шт. | G92: 2
A93: 87 | B93: Ключ газовый №1 | C93: ручной инструмент | F93: шт. | G93: 2
A94: 88 | B94: Ключ газовый №2 | C94: ручной инструмент | F94: шт. | G94: 2
A95: 89 | B95: Ключ газовый №3 | C95: ручной инструмент | F95: шт. | G95: 2
A96: 90 | B96: Капролон стержень Ф 70 мм | C96: L=1040 мм, пр. вес 5,06 кг | D96: ТУ 2224-001-78534599-2006 | F96: шт. | G96: 2
A97: 91 | B97: Ножовка по дереву | C97: ручной инструмент И4210. | F97: шт. | G97: 2
A98: 92 | B98: Ножовочное полотно по метал. | C98: ручной инструмент | F98: шт. | G98: 10
...

Sheet Спецификация
K1: Приложение № 1
K2: к Договору №____ от _______
A4: Спецификация №1
A5: к Договору № ___ от ______________20___г
A6: г. Москва | K6: «__»__________20___г.
A8: п/п | B8: Наименование Товара | C8: Функциональные (потребительские свойства), качественные характеристики Товара | D8: ГОСТ,ТУ (или эквивалент) | E8: Каталожный номер / предприятие изготовитель | F8: Ед. измерения | G8: График поставки | I8: Количество | J8: Цена за единицу Товара с учетом НДС, руб. | K8: Общая сумма с учетом НДС, руб.
G9: В течение 25 дней с даты подписания Договора | H9: апрель
A10: I | B10: ОСП Далматовское
A11: 1 | B11: Резцы отрезные прямые 25х20х140 | C11: Т5К10 | D11: ГОСТ 18884-73 | E11: =VLOOKUP(A11,[2]Спецификация!$A$11,6,0) -> #N/A | F11: шт. | G11: 15 | H11: 15 | I11: =SUM(G11:H11) -> 30
A12: 2 | B12: Резцы отрезные прямые 32х20х170 | C12: Т5К10 | D12: ГОСТ 18884-73 | E12: =VLOOKUP(A12,[2]Спецификация!$A$11,6,0) -> #N/A | F12: шт. | G12: 15 | H12: 15 | I12: =SUM(G12:H12) -> 30
A13: 3 | B13: Резцы отрезные прямые 20х16х120 | C13: Т5К10 | D13: ГОСТ 18884-73 | E13: =VLOOKUP(A13,[2]Спецификация!$A$11,6,0) -> #N/A | F13: шт. | G13: 15 | H13: 15 | I13: =SUM(G13:H13) -> 30
A14: 4 | B14: Резцы проходные отогнутые 25х20х170 | C14: Т5К10 | D14: ГОСТ 18877-73 | E14: =VLOOKUP(A14,[2]Спецификация!$A$11,6,0) -> #N/A | F14: шт. | G14: 6 | H14: 6 | I14: =SUM(G14:H14) -> 12
A15: 5 | B15: Резцы проходные отогнутые 32х20х170 | C15: Т5К10 | D15: ГОСТ 18877-73 | E15: =VLOOKUP(A15,[2]Спецификация!$A$11,6,0) -> #N/A | F15: шт. | G15: 6 | H15: 6 | I15: =SUM(G15:H15) -> 12
A16: 6 | B16: Резцы подрезные отогнутые 25х16х140 | C16: Т5К10 | D16: ГОСТ 18880-73 | E16: =VLOOKUP(A16,[2]Спецификация!$A$11,6,0) -> #N/A | F16: шт. | G16: 6 | H16: 6 | I16: =SUM(G16:H16) -> 12
A17: 7 | B17: Резцы подрезные отогнутые 32х20х170 | C17: Т5К10 | D17: ГОСТ 18880-73 | E17: =VLOOKUP(A17,[2]Спецификация!$A$11,6,0) -> #N/A | F17: шт. | G17: 6 | H17: 6 | I17: =SUM(G17:H17) -> 12
A18: 8 | B18: Резцы проходные прямые 32х20х170 | C18: Т5К10 | D18: ГОСТ 18878-73 | E18: =VLOOKUP(A18,[2]Спецификация!$A$11,6,0) -> #N/A | F18: шт. | G18: 6 | H18: 6 | I18: =SUM(G18:H18) -> 12
A19: 9 | B19: Резцы проходные прямые 32х25х200 | C19: Т5К10 | D19: ГОСТ 18878-73 | E19: =VLOOKUP(A19,[2]Спецификация!$A$11,6,0) -> #N/A | F19: шт. | G19: 6 | H19: 6 | I19: =SUM(G19:H19) -> 12
A20: 10 | B20: Резцы упорные изогнутые 25х20х170 | C20: Т5К10 | D20: ГОСТ 18879-73 | E20: =VLOOKUP(A20,[2]Спецификация!$A$11,6,0) -> #N/A | F20: шт. | G20: 6 | H20: 6 | I20: =SUM(G20:H20) -> 12
A21: 11 | B21: Резцы упорные изогнутые 32х20х170 | C21: Т5К10 | D21: ГОСТ 18879-73 | E21: =VLOOKUP(A21,[2]Спецификация!$A$11,6,0) -> #N/A | F21: шт. | G21: 6 | H21: 6 | I21: =SUM(G21:H21) -> 12
A22: 12 | B22: Резцы упорные прямые 25*16*140 | C22: Т5К10 | D22: ГОСТ 18879-73 | E22: =VLOOKUP(A22,[2]Спецификация!$A$11,6,0) -> #REF! | F22: шт. | G22: 6 | H22: 6 | I22: =SUM(G22:H22) -> 12
... A30: 20 | B30: Резцы расточные для глухих отверстий тип 2, исп.2 (виброустойчивые) 25х16х200 | C30: Т5К10 | D30: ГОСТ 18883-73 | E30: =VLOOKUP(A30,[2]Спецификация!$A$11,6,0) -> #N/A | F30: шт. | G30: 6 | H30: 6 | I30: =SUM(G30:H30) -> 12
A31: 21 | B31: Сверло по мет.15мм. | C31: режущий иснтрумент обратки металла | D31: ГОСТ 10903-77 | E31: =VLOOKUP(A31,[2]Спецификация!$A$11,6,0) -> #N/A | F31: шт. | G31: 4 | I31: =SUM(G31:H31) -> 4
A32: 22 | B32: Сверло по мет.15,5мм. | C32: режущий иснтрумент обратки металла | D32: ГОСТ 10903-77 | E32: =VLOOKUP(A32,[2]Спецификация!$A$11,6,0) -> #N/A | F32: шт. | G32: 4 | I32: =SUM(G32:H32) -> 4
A33: 23 | B33: Фреза конц.10мм. | C33: режущий иснтрумент обратки металла | D33: ГОСТ 1725-71 | E33: =VLOOKUP(A33,[2]Спецификация!$A$11,6,0) -> #N/A | F33: шт. | G33: 1 | H33: 2 | I33: =SUM(G33:H33) -> 3
A34: 24 | B34: Фреза конц.12мм. | C34: режущий иснтрумент обратки металла | D34: ГОСТ 17026-71 | E34: =VLOOKUP(A34,[2]Спецификация!$A$11,6,0) -> #N/A | F34: шт. | G34: 1 | H34: 2 | I34: =SUM(G34:H34) -> 3
A35: 25 | B35: Фреза конц.14мм. | C35: режущий иснтрумент обратки металла | D35: ГОСТ 17026-71 | E35: =VLOOKUP(A35,[2]Спецификация!$A$11,6,0) -> #N/A | F35: шт. | G35: 1 | H35: 2 | I35: =SUM(G35:H35) -> 3
A36: 26 | B36: Фреза конц.16мм. | C36: режущий иснтрумент обратки металла | D36: ГОСТ 17026-71 | E36: =VLOOKUP(A36,[2]Спецификация!$A$11,6,0) -> #N/A | F36: шт. | G36: 1 | H36: 2 | I36: =SUM(G36:H36) -> 3
A37: 27 | B37: Фреза конц.18мм. | C37: режущий иснтрумент обратки металла | D37: ГОСТ 17026-71 | E37: =VLOOKUP(A37,[2]Спецификация!$A$11,6,0) -> #N/A | F37: шт. | G37: 1 | H37: 2 | I37: =SUM(G37:H37) -> 3
A38: 28 | B38: Фреза конц.20мм. | C38: режущий иснтрумент обратки металла | D38: ГОСТ 17026-71 | E38: =VLOOKUP(A38,[2]Спецификация!$A$11,6,0) -> #N/A | F38: шт. | G38: 1 | H38: 2 | I38: =SUM(G38:H38) -> 3
A39: 29 | B39: Фреза конц.22мм. | C39: режущий иснтрумент обратки металла | D39: ГОСТ 17026-71 | E39: =VLOOKUP(A39,[2]Спецификация!$A$11,6,0) -> #N/A | F39: шт. | G39: 1 | H39: 2 | I39: =SUM(G39:H39) -> 3
A40: 30 | B40: Фреза конц.25мм. | C40: режущий иснтрумент обратки металла | D40: ГОСТ 17026-71 | E40: =VLOOKUP(A40,[2]Спецификация!$A$11,6,0) -> #N/A | F40: шт. | G40: 1 | H40: 2 | I40: =SUM(G40:H40) -> 3
A41: 31 | B41: Фреза конц.6мм. | C41: режущий иснтрумент обратки металла | D41: ГОСТ 1725-71 | E41: =VLOOKUP(A41,[2]Спецификация!$A$11,6,0) -> #N/A | F41: шт. | G41: 1 | H41: 2 | I41: =SUM(G41:H41) -> 3
A42: 32 | B42: Фреза конц.8мм. | C42: режущий иснтрумент обратки металла | D42: ГОСТ 1725-71 | E42: =VLOOKUP(A42,[2]Спецификация!$A$11,6,0) -> #N/A | F42: шт. | G42: 1 | H42: 2 | I42: =SUM(G42:H42) -> 3
A43: 33 | B43: Фреза конц.24мм. | C43: режущий иснтрумент обратки металла | D43: ГОСТ 17026-71 | E43: =VLOOKUP(A43,[2]Спецификация!$A$11,6,0) -> #N/A | F43: шт. | G43: 1 | H43: 2 | I43: =SUM(G43:H43) -> 3
A44: 34 | B44: Фреза конц.28мм. | C44: режущий иснтрумент обратки металла | D44: ГОСТ 17026-71 | E44: =VLOOKUP(A44,[2]Спецификация!$A$11,6,0) -> #N/A | F44: шт. | G44: 1 | H44: 2 | I44: =SUM(G44:H44) -> 3
... A81: 71 | B81: Плашка М16х1 | C81: режущий иснтрумент обратки металла | D81: ГОСТ 9140-71 | E81: =VLOOKUP(A81,[2]Спецификация!$A$11,6,0) -> #N/A | F81: шт. | G81: 2 | H81: 1 | I81: =SUM(G81:H81) -> 3
A82: 72 | B82: Диск шлиф.230х6х22 по металлу | C82: 230х6х22 | E82: =VLOOKUP(A82,[2]Спецификация!$A$11,6,0) -> #N/A | F82: шт. | G82: 80 | H82: 30 | I82: =SUM(G82:H82) -> 110
A83: 73 | B83: Диск отрезной 230х2,5х22 по металлу | C83: 230х2,5х22 | E83: =VLOOKUP(A83,[2]Спецификация!$A$11,6,0) -> #N/A | F83: шт. | G83: 90 | H83: 90 | I83: =SUM(G83:H83) -> 180
A84: 74 | B84: Шкурка шлиф.влагост.14 А | C84: шлифовка заготовок Зерно 10 мкм | D84: ГОСТ-13344-79 | E84: =VLOOKUP(A84,[2]Спецификация!$A$11,6,0) -> #N/A | F84: кг. | G84: 1 | H84: 1 | I84: =SUM(G84:H84) -> 2
A85: 75 | B85: Шкурка шлиф.влагост.32 | C85: шлифовка заготовок Зерно 10 мкм | D85: ГОСТ-13344-79 | E85: =VLOOKUP(A85,[2]Спецификация!$A$11,6,0) -> #N/A | F85: кг. | G85: 1 | H85: 1 | I85: =SUM(G85:H85) -> 2
...
