Workbook
Name Constr: '25360'!$A$7
Name FOT: '25360'!$D$12
Name Ind: '25360'!$H$8
Name Obj: '25360'!#REF!
Name Obosn: '25360'!#REF!
Name SmPr: '25360'!$D$11
Name аааааппппппрррппппппп: #REF!
Name аараооооооооооооо: #REF!
Name автом: #REF!
Name алшрльоплварл: #REF!
Name аолвлддддддддддддддддввввввввв: #REF!
Name апарв: #REF!
Name апрлдджаоырыфрпопрлпрлпрлп: #REF!
Name арлггаджаш: #REF!
Name ароррбллтблпроорапииас: #REF!
Name арррррблллпдрлдддддддддд: #REF!
Name варпаааааааааа: #REF!
Name ввпьььььлднд: #REF!
Name вед: #REF!
Name вертикальная: #REF!
Name вертикплан: #REF!
Name волен: #REF!
Name вп: #REF!
Name впырпфдыпл: #REF!
Name впьглорьтитттттттттт: #REF!
Name всввввввввввввввввввввввввв: #REF!
Name выб: #REF!
Name выпуск: #REF!
Name выьлепвввввпмп: #REF!
Name еваопродолжэрщэрзшщщх: #REF!
Name измен: #REF!
Name итого: #REF!
Name итого_сантех: #REF!
Name итого_стр: #REF!
Name итого_строит: #REF!
Name итого_технол: #REF!
Name итого_электр: #REF!
Name квота: #REF!
Name кккккккккк: #REF!
Name корек: #REF!
Name корект: #REF!
Name корректир: #REF!
Name лен: #REF!
Name лот: #REF!
Name мамиааааааааааааааааааааааааааааа: #REF!
Name ммпоослччччччччччрччапппппппппр: #REF!
Name мрол: #REF!
Name оз: #REF!
Name озелен: #REF!
Name озеленение: #REF!
Name озеленение2: #REF!
Name ОСР: #REF!
Name ОСР110: #REF!
Name ОСР111: #REF!
Name план: #REF!
Name планировка: #REF!
Name плдщхэж.юрббдлююбо: #REF!
Name площадки: #REF!
Name пос: #REF!
Name прав: #REF!

Sheet 25360
A1: СОГЛАСОВАНО: | E1: ФГУП "Комбинат "Электрохимприбор" | M1: УТВЕРЖДАЮ:
G2: (наименование стройки) | M2: Зам. генерального директора
A3: _____________________________ | M3: Е.В.Гордеев
A4: " _____ " ________________ 2014г. | G4: ЛОКАЛЬНЫЙ СМЕТНЫЙ РАСЧЕТ № 25360
G5: (локальная смета) | M5: "______ " __________2014 г.
C7: на | D7: реконструкцию здания 377 Д (инв.№ 9101054) (устройство пола)
H8: (наименование работ и затрат, наименование объекта)
D10: Основание: Техническое решение № 078-11/112 от 18.04.2014г.
D11: Сметная стоимость строительных работ _______________________________________________________________________________________________ | J11: ___________________________422,896 | L11: тыс. руб.
D12: Средства на оплату труда _______________________________________________________________________________________________ | J12: ___________________________73,021 | L12: тыс. руб.
D13: Сметная трудоемкость _______________________________________________________________________________________________ | J13: _______________________________________________________________________________________________4234,96 | L13: чел.час
D14: Материалы ___________________________________________________________ | J14: 151.049 | L14: тыс.руб.
D15: Составлен(а) в базовых ценах 2001г. в редакции 2009г.
A18: № пп | B18: Обоснование | C18: Наименование | D18: Ед. изм. | E18: Кол. | F18: Стоимость единицы, руб. | J18: Общая стоимость, руб. | N18: Т/з осн. раб.на ед. | O18: Т/з осн. раб. Всего | P18: Т/з мех. на ед. | Q18: Т/з мех. Всего
F19: Всего | G19: В том числе | J19: Всего | K19: В том числе
G20: Осн.З/п | H20: Эк.Маш | I20: З/пМех | K20: Осн.З/п | L20: Эк.Маш | M20: З/пМех
A21: 1 | B21: 2 | C21: 3 | D21: 4 | E21: 5 | F21: 6 | G21: 7 | H21: 8 | I21: 9 | J21: 10 | K21: 11 | L21: 12 | M21: 13 | N21: 14 | O21: 15 | P21: 16 | Q21: 17
A22: Раздел 1. Разборка.
A23: 1 | B23: ТЕР46-04-011-02 прим. | C23: Разборка в зданиях и сооружения покрытий полов из плиток, уложенных на растворе | D23: 100 м2 | E23: 5.6 | F23: 541.99 | G23: 464.41 | H23: 77.58 | I23: 7.19 | J23: 3035 | K23: 2601 | L23: 434 | M23: 40 | N23: 36.77 | O23: 205.91 | P23: 0.46 | Q23: 2.58
A24: 2 | B24: ТЕРр57-2-4 | C24: Разборка покрытий полов цементных | D24: 100 м2 | E24: 5.6 | F24: 4262.51 | G24: 1335.51 | H24: 2927 | I24: 288.33 | J24: 23870 | K24: 7479 | L24: 16391 | M24: 1615 | N24: 111.2 | O24: 622.72 | P24: 21 | Q24: 117.6
A25: 3 | B25: ТЕР46-04-009-01 | C25: Разборка бетонных оснований под полы на гравии | D25: 1 м3 | E25: 84 | F25: 495.3 | G25: 114.13 | H25: 381.17 | I25: 35.3 | J25: 41605 | K25: 9587 | L25: 32018 | M25: 2965 | N25: 8.93 | O25: 750.12 | P25: 2.26 | Q25: 189.84
A26: 4 | B26: ФССЦпг01-01-01-041 | C26: Погрузочные работы при автомобильных перевозках: Мусор строительный с погрузкой вручную КОЭФ. К ПОЗИЦИИ: п.1.1.9 ОП Прил.1. Поясной коэффициент: Свердловская область ПЗ=1,1 (ОЗП=1,1; ЭМ=1,1; ЗПМ=1,1; МАТ=1,1); Коэффициент техн.часть п.3 ПЗ=1,025 (ОЗП=1,025; ЭМ=1,025 к расх.; ЗПМ=1,025; МАТ=1,025 к расх.; ТЗ=1,025; ТЗМ=1,025) | D26: 1 т груза | E26: 236 | F26: 48.46 | G26: 48.46 | J26: 11437 | K26: 11437
A27: 5 | B27: СЦП3-3-40-1 | C27: Перевозка грузов автомобилями-самосвалами (работающими вне карьеров): расстояние 40 км, класс груза I КОЭФ. К ПОЗИЦИИ: п.17.Доп1 При перевозке грузов к провозной плате (тарифам) применять поправочный коэффициент ПЗ=1,37 (ОЗП=1,37; ЭМ=1,37 к расх.; ЗПМ=1,37; МАТ=1,37 к расх.; ТЗ=1,37; ТЗМ=1,37) | D27: т | E27: 236 | F27: 52.85 | H27: 52.85 | J27: 12473 | L27: 12473
A28: Раздел 2. Усиления конструкции пола для установки стеллажей.
A29: 6 | B29: ТЕРр51-3-1 прим. | C29: Заполнение отходами от разборки бетонного пола существующего приямка для сбора стружки. | D29: 100 м3 грунта | E29: 0.109 | F29: 5505.26 | G29: 5209.26 | H29: 2.18 | J29: 600 | K29: 568 | N29: 474 | O29: 51.67
A30: 7 | B30: ТЕР11-01-002-04 | C30: Устройство подстилающих слоев щебеночных | D30: 1 м3 | E30: 33.6 | F30: 276.85 | G30: 46.55 | H30: 65.15 | I30: 8.59 | J30: 9302 | K30: 1564 | L30: 2189 | M30: 289 | N30: 3.73 | O30: 125.33 | P30: 0.55 | Q30: 18.48
A31: 8 | B31: ТЕР26-01-055-02 прим. | C31: Установка гидроизоляционного слоя из пленки полиэтиленовой КОЭФ. К ПОЗИЦИИ: на 2 слоя ПЗ=2 (ОЗП=2; ЭМ=2 к расх.; ЗПМ=2; МАТ=2 к расх.; ТЗ=2; ТЗМ=2) | D31: 100 м2 | E31: 5.6 | F31: 4293.26 | G31: 353.84 | H31: 54.58 | J31: 24042 | K31: 1982 | L31: 306 | N31: 28.72 | O31: 160.83
A32: 9 | B32: ТЕР11-01-002-09 | C32: Устройство подстилающих слоев бетонных | D32: 1 м3 подстилающего слоя | E32: 140 | F32: 52.12 | G32: 43.22 | H32: 0.27 | J32: 7297 | K32: 6051 | L32: 38 | N32: 3.66 | O32: 512.4
A33: Уд | B33: 1. 401-0005 | C33: Бетон тяжелый, класс В12,5 (М150) | D33: м3 | E33: 1,02 142,8 | F33: 550.35 | J33: 78589.98
A34: 10 | B34: ТСЦ-401-0048 | C34: Бетон тяжелый, крупность заполнителя 40 мм, класс В22,5 (М300) | D34: м3 | E34: 142.8 | F34: 641.19 | J34: 91562
A35: 11 | B35: ТЕР06-01-015-10 | C35: Армирование подстилающих слоев | D35: 1 т | E35: 1.21 | F35: 438.07 | G35: 157.75 | H35: 44.41 | I35: 2.91 | J35: 530 | K35: 191 | L35: 54 | M35: 4 | N35: 12.64 | O35: 15.29 | P35: 0.16 | Q35: 0.19
A36: 12 | B36: ТСЦ-204-0084 | C36: Сетка из проволоки холоднотянутой | D36: т | E36: 1.21 | F36: 7390 | J36: 8942
A37: 13 | B37: ТЕР11-01-015-08 прим. | C37: Внесение смеси Uni Top-250 с корундовым заполнением: первый слой | D37: 100 м2 | E37: 5.6 | F37: 151.92 | G37: 144.72 | H37: 6.22 | I37: 1.56 | J37: 851 | K37: 810 | L37: 35 | M37: 9 | N37: 10.8 | O37: 60.48 | P37: 0.1 | Q37: 0.56
A38: Уд | B38: 1. 101-1305 | C38: Портландцемент общестроительного назначения бездобавочный, марки 400 | D38: т | E38: 0,06 0,336 | F38: 630.7 | J38: 211.92
A39: 14 | B39: ТЕР11-01-015-07 | C39: Шлифовка бетонных покрытий | D39: 100 м2 | E39: 5.6 | F39: 1420.59 | G39: 1022.91 | H39: 375.66 | I39: 32.65 | J39: 7955 | K39: 5728 | L39: 2104 | M39: 183 | N39: 80.04 | O39: 448.22 | P39: 2.09 | Q39: 11.7
A40: 15 | B40: ТЕР11-01-015-08 прим. | C40: Внесение смеси Uni Top-250 с корундовым заполнением: второй слой | D40: 100 м2 | E40: 5.6 | F40: 151.92 | G40: 144.72 | H40: 6.22 | I40: 1.56 | J40: 851 | K40: 810 | L40: 35 | M40: 9 | N40: 10.8 | O40: 60.48 | P40: 0.1 | Q40: 0.56
A41: Уд | B41: 1. 101-1305 | C41: Портландцемент общестроительного назначения бездобавочный, марки 400 | D41: т | E41: 0,06 0,336 | F41: 630.7 | J41: 211.92
A42: 16 | B42: Цена поставщика. | C42: Стоимость смеси Uni Top-250 с корундовым заполнением (цвет-светло-серый) из расчета 6 кг/м2 (Цена:35,50:1,18:5,56*1,02) | D42: кг | E42: 3360 | F42: 5,52 35,50/1,18/5,56*1,02 | J42: 18547
A43: 17 | B43: ТЕР11-01-015-07 прим. | C43: Затирка бетонных покрытий | D43: 100 м2 | E43: 5.6 | F43: 1420.59 | G43: 1022.91 | H43: 375.66 | I43: 32.65 | J43: 7955 | K43: 5728 | L43: 2104 | M43: 183 | N43: 80.04 | O43: 448.22 | P43: 2.09 | Q43: 11.7
A44: 18 | B44: ТЕР15-04-006-03 прим. | C44: Покрытие поверхностей полимерной пропиткой за 1 раз | D44: 100 м2 | E44: 5.6 | F44: 90.44 | G44: 88.75 | H44: 1.49 | I44: 0.16 | J44: 506 | K44: 497 | L44: 8 | M44: 1 | N44: 6.55 | O44: 36.68 | P44: 0.01 | Q44: 0.06
...

Sheet СМР
A1: Расчет начальной (максимальной) цены на
A2: выполнение работ на реконструкцию здания 377 Д (инв.№ 9101054) (устройство пола)
A4: Наименование глав ССР, объектный сметных расчетов, локальных сметных расчетов, видов прочих работ | B4: Сметная стоимость строительства в базисном уровне цен на 01.01.2000г. по ССР | F4: Остаток сметной стоимости в базисном уровне цен на 01.01.2014 | J4: Сметная стоимость строительства в базисном уровне цен на 01.01.2000г., выставленная на конкурс | N4: Текущая стоимость на момент определения начальной (максимальной) цены | O4: № обосновывающего расчета | P4: 2014 год
B5: Всего | C5: СМР | D5: Оборудование | E5: Прочие | F5: Всего | G5: СМР | H5: Оборудование | I5: Прочие | J5: Всего | K5: СМР | L5: Оборудование | M5: Прочие | P5: СМР | Q5: Оборудование | R5: Прочие
A6: 1 | B6: 2 | C6: 3 | D6: 4 | E6: 5 | F6: 6 | G6: 7 | H6: 8 | I6: 9 | J6: 10 | K6: 11 | L6: 12 | M6: 13 | N6: 14 | O6: 15 | P6: 16 | Q6: 17 | R6: 18
A7: реконструкция здания 377 Д (инв.№ 9101054) (устройство пола) | B7: =SUM(C7:E7) -> 422896 | C7: ='25360'!J80 -> 422896 | F7: =SUM(G7:I7) -> 422896 | G7: =C7 -> 422896 | H7: =D7 -> 0 | I7: =E7 -> 0 | J7: =SUM(K7:M7) -> 422896 | K7: =P7 -> 422896 | L7: =Q7 -> 0 | M7: =R7 -> 0 | O7: 25360 | P7: =G7 -> 422896 | Q7: =H7 -> 0 | R7: =I7 -> 0
A8: Итого в ценах 2000 года: | B8: =SUM(B7:B7) -> 422896 | C8: =SUM(C7:C7) -> 422896 | D8: =SUM(D7:D7) -> 0 | E8: =SUM(E7:E7) -> 0 | F8: =SUM(F7:F7) -> 422896 | G8: =SUM(G7:G7) -> 422896 | H8: =SUM(H7:H7) -> 0 | I8: =SUM(I7:I7) -> 0 | ... M8: =SUM(M7:M7) -> 0 | N8: =SUM(P8:R8) -> 422896 | P8: =SUM(P7:P7) -> 422896 | Q8: =SUM(Q7:Q7) -> 0 | R8: =SUM(R7:R7) -> 0
A9: Итого в текущих ценах*: | N9: =SUM(P9:R9) -> 2528918 | P9: =ROUND(P8*5.98,0) -> 2528918 | Q9: =ROUND(Q8*4.21,0) -> 0 | R9: =ROUND(R8*10.48,0) -> 0
A10: НДС 18% | N10: =SUM(P10:R10) -> 455205.24 | P10: =ROUND(P9*18%,2) -> 455205.24 | Q10: =ROUND(Q9*18%,2) -> 0 | R10: =ROUND(R9*18%,2) -> 0
A11: Всего: | N11: =SUM(P11:R11) -> 2984123.2 | P11: =SUM(P9:P10) -> 2984123.2 | Q11: =SUM(Q9:Q10) -> 0 | R11: =SUM(R10:R10) -> 0
P12: 60000000
A13: * В расчете использованы индексы: | Q13: =P12-P11 -> 57015877
A14: - 5,98 индекс изменения сметной стоимости СМР к ТЕР 2001 (приказ ФГУП "Комбинат "Электрохимприбор" от 18.09.2013 №1902-П).
A16: Начальник отдела капитального строительства
A17: ФГУП "Комбинат "Электрохимприбор" | H17: В.В. Моляков
A19: Инженер по проектно-сметной работе | H19: Т.Ш. Ковязина
A21: Согласовано | H21: отдел 028

Sheet НМЦ договора
G1: Приложение №1
G2: к извещению на размещение заказа
G3: на выполнение комплекса работ
G4: по строительству объекта
A8: Определение начальной (максимальной) цены договора генерального подряда
A9: на выполнение работ на реконструкцию здания 377 Д (инв.№ 9101054) (устройство пола)
A10: на 2014 год
G13: ц.2000г./текущие цены, руб.
A14: Наименование услуг и работ (затрат) | C14: Сметная стоимость строительства в базисном уровне цен на 01.01.2000 г. | D14: Сметная стоимость строительства в текущем уровне цен, пресчитанная на момент проведения процедуры закупки | F14: Начальная (максимальная) цена | G14: в том числе по годам строительства
G17: 2014 г.
A21: 1 | C21: 2 | D21: 3 | F21: 4 | G21: 5
A22: СМР | C22: =СМР!K8 -> 422896 | D22: =F22 -> 2528918 | F22: =G22 -> 2528918 | G22: =СМР!P9 -> 2528918
A23: Оборудование | C23: =СМР!L8 -> 0 | D23: =F23 -> 0 | F23: =G23 -> 0 | G23: =СМР!Q9 -> 0
A24: Прочие затраты | C24: =СМР!M8 -> 0 | D24: =F24 -> 0 | F24: =G24 -> 0 | G24: =СМР!R9 -> 0
A25: Всего: | C25: =SUM(C22:C24) -> 422896 | D25: =F25 -> 2528918 | F25: =G25 -> 2528918 | G25: =SUM(G22:G24) -> 2528918
A26: НДС | D26: =F26 -> 455205.24 | F26: =G26 -> 455205.24 | G26: =СМР!P10+СМР!Q10 -> 455205.24
A27: Итого с НДС | D27: =F27 -> 2984123.2 | F27: =G27 -> 2984123.2 | G27: =СМР!P11+СМР!Q11 -> 2984123.2
A29: В расчете использованы индексы:
A31: - 5,98 индекс изменения сметной стоимости СМР к ТЕР 2001 (приказ ФГУП "Комбинат "Электрохимприбор" от 18.09.2013 №1902-П)
A34: Начальник отдела капитального строительства
A35: ФГУП "Комбинат "Электрохимприбор" | F35: В.В. Моляков
A37: Инженер по проектно-сметной работе | F37: Т.Ш. Ковязина
A39: Согласовано | F39: отдел 028
