Workbook

Sheet Смета 12 гр. по ФЕР
A1: =Source!B1 -> Smeta.RU (495) 974-1589 | H1: Приложение 1 к приложению 5
H2: извещение о проведении запроса котировок в электронной форме
B6: СМЕТА
B10: Ремонт лестничной клетки 3-го этажа, балконов 5-го этажа в здании общежития №2 Новоронежского политехнического колледжа-филиала НИЯУ МИФИ (НВПК НИЯУ МИФИ) по адресу: Воронежская обл., г. Новоронеж, ул. Космонавтов, д.1 А
G15: базовая цена | I15: текущая цена
C16: Сметная стоимость | G16: =SUM(O1:O390)/1000 -> 20.45041 | I16: =(Source!P346/1000) -> 172.1377 | K16: тыс. руб.
C17: Строительные работы | G17: =SUM(W1:W390)/1000 -> 18.45834 | I17: =(Source!P333)/1000 -> 131.67623 | K17: тыс. руб.
C18: Монтажные работы | G18: =SUM(X1:X390)/1000 -> 1.99207 | I18: =(Source!P334)/1000 -> 14.20318 | K18: тыс. руб.
C19: Оборудование | G19: =SUM(Y1:Y390)/1000 -> 0 | I19: =(Source!P325)/1000 -> 0 | K19: тыс. руб.
C20: Прочие работы | G20: =SUM(Z1:Z390)/1000 -> 0 | I20: =(Source!P335+Source!P336)/1000 -> 0 | K20: тыс. руб.
C21: Нормативная трудоемкость | G21: =I21 -> 224.54401 | I21: =(Source!P338+Source!P339) -> 224.54401 | K21: чел. -ч.
C22: Средства на оплату труда | G22: =SUM(R1:R390)/1000 -> 1.97141 | I22: =((Source!P331 + Source!P330)/1000) -> 14.05585 | K22: тыс. руб.
A24: Составлена в ценах II квартал 2018 года
A25: № п/п | B25: Шифр расценки и коды ресурсов | C25: Наименование работ и затрат | D25: Ед. изм. | E25: Кол-во единиц | F25: Цена на ед. изм. | G25: Попра-вочные коэфф. | H25: Стоимость в ценах 2001г. | I25: Пункт коэфф. пересчета | J25: Коэфф. пересчета | K25: Стоимость в текущих ценах | L25: ЗТР всего чел.-час
A26: 1 | B26: 2 | C26: 3 | D26: 4 | E26: 5 | F26: 6 | G26: 7 | H26: 8 | I26: 9 | J26: 10 | K26: 11 | L26: 12
A27: =CONCATENATE("Раздел: ",IF(Source!G24<>"Новый раздел", Source!G24, "")) -> Раздел: Раздел 1 Общестроительные работы
A28: =Source!E29 -> 1 | B28: =Source!F29 -> 46-04-012-01 | C28: =Source!G29 -> Разборка деревянных заполнений проемов оконных с подоконными досками | D28: =Source!H29 -> 100 м2 | E28: =Source!I29 -> 0.0214 | F28: =Source!AL29+Source!AM29+Source!AO29 -> 1767.24 | I28: =Source!BO29 | S28: =ROUND((Source!FX29/100)*((ROUND(Source!AF29*Source!I29, 2)+ROUND(Source!AE29*Source!I29, 2))), 2) -> 34.53 | T28: =Source!X29 -> 246.18 | U28: =ROUND((Source!FY29/100)*((ROUND(Source!AF29*Source!I29, 2)+ROUND(Source!AE29*Source!I29, 2))), 2) -> 20.75 | V28: =Source!Y29 -> 149.2
C29: ="Объем: "&Source!I29&"=2,14/"&"100" -> Объем: 0,0214=2,14/100
C30: Зарплата | F30: =Source!AO29 -> 1525.29 | G30: =Source!DG29 | H30: =ROUND(Source!AF29*Source!I29, 2) -> 32.64 | J30: =IF(Source!BA29<> 0, Source!BA29, 1) -> 7.13 | K30: =Source!S29 -> 232.73 | R30: =H30 -> 32.64
C31: Эксплуатация машин | F31: =Source!AM29 -> 241.95 | G31: =Source!DE29 | H31: =ROUND(Source!AD29*Source!I29, 2) -> 5.18 | J31: =IF(Source!BB29<> 0, Source!BB29, 1) -> 7.13 | K31: =Source!Q29 -> 36.92
C32: в т.ч. зарплата машинистов | F32: =Source!AN29 -> 104.49 | G32: =Source!DF29 | H32: =ROUND(Source!AE29*Source!I29, 2) -> 2.24 | J32: =IF(Source!BS29<> 0, Source!BS29, 1) -> 7.13 | K32: =Source!R29 -> 15.94 | R32: =H32 -> 2.24
C33: НР от ФОТ | D33: % | E33: =Source!BZ29 -> 110 | F33: =CONCATENATE(" )", Source!DL29, Source!FT29, "=", Source!FX29) -> )*0,9=99 | H33: =SUM(S28:S35) -> 34.53 | J33: =Source!AT29 -> 99 | K33: =SUM(T28:T35) -> 246.18
C34: СП от ФОТ | D34: % | E34: =Source!CA29 -> 70 | F34: =CONCATENATE(" )", Source!DM29, Source!FU29, "=", Source!FY29) -> )*0,85=59,5 | H34: =SUM(U28:U35) -> 20.75 | J34: =Source!AU29 -> 60 | K34: =SUM(V28:V35) -> 149.2
C35: Затраты труда | D35: чел-ч | E35: =Source!AQ29 -> 188.54 | G35: =Source!DI29 | L35: =Source!U29 -> 4.034756
G36: =H30+H31+H33+H34 -> 93.1 | J36: =K30+K31+K33+K34 -> 665.03 | L36: =Source!U29 -> 4.034756 | O36: =G36 -> 93.1 | P36: =J36 -> 665.03 | Q36: =L36 -> 4.034756 | W36: =IF(Source!BI29<=1,H30+H31+H33+H34, 0) -> 93.1 | X36: =IF(Source!BI29=2,H30+H31+H33+H34, 0) -> 0 | Y36: =IF(Source!BI29=3,H30+H31+H33+H34, 0) -> 0 | Z36: =IF(Source!BI29=4,H30+H31+H33+H34, 0) -> 0
A37: =Source!E31 -> 2 | B37: =Source!F31 -> 57-2-3 | C37: =Source!G31 -> Разборка покрытий полов из керамических плиток | D37: =Source!H31 -> 100 м2 | E37: =Source!I31 -> 0.066 | F37: =Source!AL31+Source!AM31+Source!AO31 -> 641 | I37: =Source!BO31 | S37: =ROUND((Source!FX31/100)*((ROUND(Source!AF31*Source!I31, 2)+ROUND(Source!AE31*Source!I31, 2))), 2) -> 32.5 | T37: =Source!X31 -> 231.69 | U37: =ROUND((Source!FY31/100)*((ROUND(Source!AF31*Source!I31, 2)+ROUND(Source!AE31*Source!I31, 2))), 2) -> 27.62 | V37: =Source!Y31 -> 196.93
C38: ="Объем: "&Source!I31&"=6,6/"&"100" -> Объем: 0,066=6,6/100
C39: Зарплата | F39: =Source!AO31 -> 595.99 | G39: =Source!DG31 | H39: =ROUND(Source!AF31*Source!I31, 2) -> 39.34 | J39: =IF(Source!BA31<> 0, Source!BA31, 1) -> 7.13 | K39: =Source!S31 -> 280.46 | R39: =H39 -> 39.34
C40: Эксплуатация машин | F40: =Source!AM31 -> 45.01 | G40: =Source!DE31 | H40: =ROUND(Source!AD31*Source!I31, 2) -> 2.97 | J40: =IF(Source!BB31<> 0, Source!BB31, 1) -> 7.13 | K40: =Source!Q31 -> 21.18
C41: в т.ч. зарплата машинистов | F41: =Source!AN31 -> 19.44 | G41: =Source!DF31 | H41: =ROUND(Source!AE31*Source!I31, 2) -> 1.28 | J41: =IF(Source!BS31<> 0, Source!BS31, 1) -> 7.13 | K41: =Source!R31 -> 9.15 | R41: =H41 -> 1.28
C42: НР от ФОТ | D42: % | E42: =Source!BZ31 -> 80 | H42: =SUM(S37:S44) -> 32.5 | J42: =Source!AT31 -> 80 | K42: =SUM(T37:T44) -> 231.69
C43: СП от ФОТ | D43: % | E43: =Source!CA31 -> 68 | H43: =SUM(U37:U44) -> 27.62 | J43: =Source!AU31 -> 68 | K43: =SUM(V37:V44) -> 196.93
C44: Затраты труда | D44: чел-ч | E44: =Source!AQ31 -> 69.87 | G44: =Source!DI31 | L44: =Source!U31 -> 4.61142
G45: =H39+H40+H42+H43 -> 102.43 | J45: =K39+K40+K42+K43 -> 730.26 | L45: =Source!U31 -> 4.61142 | O45: =G45 -> 102.43 | P45: =J45 -> 730.26 | Q45: =L45 -> 4.61142 | W45: =IF(Source!BI31<=1,H39+H40+H42+H43, 0) -> 102.43 | X45: =IF(Source!BI31=2,H39+H40+H42+H43, 0) -> 0 | Y45: =IF(Source!BI31=3,H39+H40+H42+H43, 0) -> 0 | Z45: =IF(Source!BI31=4,H39+H40+H42+H43, 0) -> 0
A46: =Source!E33 -> 3 | B46: =Source!F33 -> 57-3-2 | C46: =Source!G33 -> Разборка плинтусов цементных и из керамической плитки | D46: =Source!H33 -> 100 м | E46: =Source!I33 -> 0.089 | F46: =Source!AL33+Source!AM33+Source!AO33 -> 111.38 | I46: =Source!BO33 | S46: =ROUND((Source!FX33/100)*((ROUND(Source!AF33*Source!I33, 2)+ROUND(Source!AE33*Source!I33, 2))), 2) -> 7.93 | T46: =Source!X33 -> 56.54 | U46: =ROUND((Source!FY33/100)*((ROUND(Source!AF33*Source!I33, 2)+ROUND(Source!AE33*Source!I33, 2))), 2) -> 6.74 | V46: =Source!Y33 -> 48.06
C47: ="Объем: "&Source!I33&"=8,9/"&"100" -> Объем: 0,089=8,9/100
C48: Зарплата | F48: =Source!AO33 -> 111.38 | G48: =Source!DG33 | H48: =ROUND(Source!AF33*Source!I33, 2) -> 9.91 | J48: =IF(Source!BA33<> 0, Source!BA33, 1) -> 7.13 | K48: =Source!S33 -> 70.68 | R48: =H48 -> 9.91
C49: НР от ФОТ | D49: % | E49: =Source!BZ33 -> 80 | H49: =SUM(S46:S51) -> 7.93 | J49: =Source!AT33 -> 80 | K49: =SUM(T46:T51) -> 56.54
C50: СП от ФОТ | D50: % | E50: =Source!CA33 -> 68 | H50: =SUM(U46:U51) -> 6.74 | J50: =Source!AU33 -> 68 | K50: =SUM(V46:V51) -> 48.06
C51: Затраты труда | D51: чел-ч | E51: =Source!AQ33 -> 14.28 | G51: =Source!DI33 | L51: =Source!U33 -> 1.27092
...

Sheet Акт КС-2 c НР и СП
A1: =Source!B1 -> Smeta.RU (495) 974-1589
E2: Унифицированная форма № КС-2
E3: Утверждена постановлением Госкомстата России
E4: от 11.11.99. № 100
G6: Код
F7: Форма по ОКУД | G7: 0322005
G8: =IF(Source!AT15 <> "", Source!AT15, "")
A9: Инвестор | C9: =IF(Source!BA15 <> "", Source!BA15, IF(Source!AU15 <> "", Source!AU15, "")) | F9: по ОКПО
C10: организация, адрес, телефон, факс | G10: =IF(Source!AK15 <> "", Source!AK15, "")
A11: Заказчик | C11: =IF(Source!AX12<> "", Source!AX12, IF(Source!AJ12 <> "", Source!AJ12, "")) | F11: по ОКПО
C12: организация, адрес, телефон, факс | G12: =IF(Source!AO15 <> "", Source!AO15, "")
A13: Подрядчик | C13: =IF(Source!AY12<> "", Source!AY12, IF(Source!AN12 <> "", Source!AN12, "")) | F13: по ОКПО
C14: организация, адрес, телефон, факс | G14: =IF(Source!CO15 <> "", Source!CO15, "")
A15: Стройка | C15: Капитальный ремонт 3-го этажа, балконов 5-го этажа НВПК НИЯУ МИФИ | AE15: Капитальный ремонт 3-го этажа, балконов 5-го этажа НВПК НИЯУ МИФИ
C16: наименование, адрес | G16: =IF(Source!CP15 <> "", Source!CP15, "")
A17: Объект | C17: =IF(Source!G12<>"Новый объект", Source!G12, "") -> Капитальный ремонт 3-го этажа, балконов 5-го этажа НВПК НИЯУ МИФИ | AE17: =IF(Source!G12<>"Новый объект", Source!G12, "") -> Капитальный ремонт 3-го этажа, балконов 5-го этажа НВПК НИЯУ МИФИ
C18: наименование
D19: Вид деятельности по ОКДП | G19: =IF(Source!CQ15 <> "", Source!CQ15, "")
D20: Договор подряда | F20: номер | G20: =IF(Source!CR15 <> "", Source!CR15, "")
F21: дата | G21: =IF(Source!CS15 <> 0, Source!CS15, "")
F22: Вид операции | G22: =IF(Source!CT15 <> "", Source!CT15, "")
D24: Номер документа | E24: Дата составления | F24: Отчетный период
F25: с | G25: по
D26: =IF(Source!CN15 <> "", Source!CN15, "") | E26: 43269.498
A28: AKT
A29: О ПРИЕМКЕ ВЫПОЛНЕННЫХ РАБОТ
A31: Сметная (договорная) стоимость в соответствии с договором подряда (субподряда) | F31: =(Source!P346/1000) -> 172.1377 | H31: тыс.руб
A33: Номер | C33: Наименование работ | D33: Номер единичной расценки | E33: Единица измерения | F33: Выполнено работ
A34: по порядку | B34: поз. по смете | F34: Количество | G34: цена за единицу, руб | H34: стоимость, руб
A35: 1 | B35: 2 | C35: 3 | D35: 4 | E35: 5 | F35: 6 | G35: 7 | H35: 8
A37: =CONCATENATE("Локальная смета: ",IF(Source!G20<>"Новая локальная смета", Source!G20, "")) -> Локальная смета:
A39: =CONCATENATE("Раздел: ",IF(Source!G24<>"Новый раздел", Source!G24, "")) -> Раздел: Раздел 1 Общестроительные работы
A40: 1 | B40: =Source!E29 -> 1 | C40: =Source!G29 -> Разборка деревянных заполнений проемов оконных с подоконными досками | D40: =Source!F29 -> 46-04-012-01 | E40: =Source!H29 -> 100 м2 | F40: =Source!I29 -> 0.0214 | G40: =Source!AB29 -> 1767.24 | H40: =Source!O29 -> 269.65 | T40: =Source!O29+Source!X29+Source!Y29 -> 665.03 | U40: =Source!P29 -> 0 | V40: =Source!S29 -> 232.73 | W40: =Source!Q29 -> 36.92 | X40: =Source!R29 -> 15.94 | Y40: =Source!U29 -> 4.034756 | Z40: =Source!V29 -> 0.165636 | AA40: =Source!X29 -> 246.18 | AB40: =Source!Y29 -> 149.2
C41: ="Объем: "&Source!I29&"=2,14/"&"100" -> Объем: 0,0214=2,14/100
C42: Коэфф. к ОЗП | D42: =Source!BA29 -> 7.13
C43: Коэфф. к эксплуатации машин | D43: =Source!BB29 -> 7.13
C44: Коэфф. к материалам | D44: =Source!BC29 -> 7.13
C45: Коэфф. к ЗПМ | D45: =Source!BS29 -> 7.13
C46: % НР | F46: =Source!BZ29 -> 110 | G46: =(Source!AF29+Source!AE29)*Source!FX29/100 -> 1613.4822 | H46: =Source!X29 -> 246.18
C47: % НР с поправкой | G47: =CONCATENATE(Source!DL29,Source!FT29, "=", Source!FX29, "%") -> *0,9=99% | H47: =CONCATENATE(Source!AT29) -> 99
...

Sheet Source
A1: 0 | B1: Smeta.RU (495) 974-1589 | D1: _PS_ | F1: 0 | G1: 0 | H1: 0 | I1: Smeta.RU | J1: НИЯУ МИФИ Доп. раб. место MCCS-0027251 | K1: 0 | L1: 27251 | M1: 10
A12: 1 | B12: 377 | C12: 0 | D12: =ROW(A316) -> 316 | E12: 0 | F12: Новый объект | G12: Капитальный ремонт 3-го этажа, балконов 5-го этажа НВПК НИЯУ МИФИ | I12: 0 | K12: 0 | O12: 0 | P12: 0 | Q12: 0 | R12: 0 | S12: 0 | V12: 0 | BH12: Сметные нормы списания | BI12: Коды ценников | BJ12: 1 | BK12: 1 | BL12: 0 | BM12: 0 | BN12: 1 | BO12: 0 | BP12: 6 | BQ12: 2 | BR12: 1 | BS12: 1 | BT12: 0 | BU12: 0 | BV12: 0 | BW12: 0 | BX12: 0 | BY12: ФЕР-2017 | BZ12: ТР для Версии 10: Центральные регионы (с учетом п-ма 2536-ИП/12/ГС от 22.03.2017 г | CA12: ФЕР-2017 | CB12: ФЕР-2017 | CC12: ФЕР-2017 | CD12: ФЕР-2017 | CE12: Поправки для ГСН 2017 от 31.03.2017 г | CF12: 0 | CG12: 0 | CH12: 524296 | CK12: 4 | EC12: 0
A15: 15 | B15: 1
A18: 52 | B18: =B316 -> 377 | C18: =C316 -> 1 | D18: =D316 -> 12 | E18: =E316 -> 0 | F18: =F316 -> Новый объект | G18: =G316 -> Капитальный ремонт 3-го этажа, балконов 5-го этажа НВПК НИЯУ МИФИ | O18: =O316 -> 16287.23 | P18: =P316 -> 14195.38 | Q18: =Q316 -> 174.87 | R18: =R316 -> 54.43 | S18: =S316 -> 1916.98 | T18: =T316 -> 0 | U18: =U316 -> 219.59883 | V18: =V316 -> 4.9451797 | ... GX18: =GX316 -> 0
A20: 3 | B20: 1 | D20: =ROW(A284) -> 284 | F20: Новая локальная смета | G20: Новая локальная смета | I20: 0 | K20: 0 | V20: 0 | BX20: 0 | CF20: 0 | CG20: 0
A22: 52 | B22: =B284 -> 1 | C22: =C284 -> 3 | D22: =D284 -> 20 | E22: =E284 -> 0 | F22: =F284 -> Новая локальная смета | G22: =G284 -> Новая локальная смета | O22: =O284 -> 16287.23 | P22: =P284 -> 14195.38 | Q22: =Q284 -> 174.87 | R22: =R284 -> 54.43 | S22: =S284 -> 1916.98 | T22: =T284 -> 0 | U22: =U284 -> 219.59883 | V22: =V284 -> 4.9451797 | ... GX22: =GX284 -> 0
A24: 4 | B24: 1 | D24: =ROW(A147) -> 147 | F24: Новый раздел | G24: Раздел 1 Общестроительные работы | I24: 0 | K24: 0 | V24: 0 | BX24: 0 | CJ24: 0
A26: 52 | B26: =B147 -> 1 | C26: =C147 -> 4 | D26: =D147 -> 24 | E26: =E147 -> 0 | F26: =F147 -> Новый раздел | G26: =G147 -> Раздел 1 Общестроительные работы | O26: =O147 -> 14068.69 | P26: =P147 -> 12267.49 | Q26: =Q147 -> 124.76 | R26: =R147 -> 47.35 | S26: =S147 -> 1676.44 | T26: =T147 -> 0 | U26: =U147 -> 190.25853 | V26: =V147 -> 4.3824797 | ... GX26: =GX147 -> 0
A28: 17 | B28: 1 | C28: =ROW(SmtRes!A3) -> 3 | D28: =ROW(EtalonRes!A3) -> 3 | E28: 1 | F28: 46-04-012-01 | G28: Разборка деревянных заполнений проемов оконных с подоконными досками | H28: 100 м2 | I28: =ROUND(2.14/100,9) -> 0.0214 | J28: 0 | O28: =ROUND(CP28,2) -> 37.82 | P28: =ROUND(CQ28*I28,2) -> 0 | Q28: =ROUND(CR28*I28,2) -> 5.18 | R28: =ROUND(CS28*I28,2) -> 2.24 | S28: =ROUND(CT28*I28,2) -> 32.64 | T28: =ROUND(CU28*I28,2) -> 0 | U28: =CV28*I28 -> 4.034756 | V28: =CW28*I28 -> 0.165636 | W28: =ROUND(CX28*I28,2) -> 0 | X28: =ROUND(CY28,2) -> 34.53 | Y28: =ROUND(CZ28,2) -> 20.93 | AA28: 16687810 | AB28: =ROUND((AC28+AD28+AF28),6) -> 1767.24 | AC28: =ROUND((ES28),6) -> 0 | AD28: =ROUND((((ET28)-(EU28))+AE28),6) -> 241.95 | AE28: =ROUND((EU28),6) -> 104.49 | AF28: =ROUND((EV28),6) -> 1525.29 | AG28: =ROUND((AP28),6) -> 0 | AH28: =(EW28) -> 188.54 | AI28: =(EX28) -> 7.74 | AJ28: =ROUND((AS28),6) -> 0 | AK28: 1767.24 | AL28: 0 | AM28: 241.95 | AN28: 104.49 | AO28: 1525.29 | AP28: 0 | AQ28: 188.54 | AR28: 7.74 | AS28: 0 | AT28: 99 | AU28: 60 | AV28: 1 | AW28: 1 | AZ28: 1 | BA28: 1 | BB28: 1 | BC28: 1 | BH28: 0 | BI28: 1 | BJ28: ФЕР-2001, 46-04-012-01, приказ Минстроя России №1039/пр от 30.12.2016г. | BM28: 46001 | BN28: 0 | BP28: 0 | BQ28: 2 | BR28: 0 | BS28: 1 | BT28: 1 | BU28: 1 | BV28: 1 | BW28: 1 | BX28: 1 | BZ28: 110 | CA28: 70 | CF28: 0 | CG28: 0 | CM28: 0 | CO28: 0 | CP28: =(P28+Q28+S28) -> 37.82 | CQ28: =AC28*BC28 -> 0 | CR28: =AD28*BB28 -> 241.95 | CS28: =AE28*BS28 -> 104.49 | CT28: =AF28*BA28 -> 1525.29 | CU28: =AG28 -> 0 | CV28: =AH28 -> 188.54 | CW28: =AI28 -> 7.74 | CX28: =AJ28 -> 0 | CY28: =(((S28+R28)*AT28)/100) -> 34.5312 | CZ28: =(((S28+R28)*AU28)/100) -> 20.928 | DN28: 0 | DO28: 0 | DP28: 1 | DQ28: 1 | DU28: 1005 | DV28: 100 м2 | DW28: 100 м2 | DX28: 100 | EE28: 16510555 | EF28: 2 | EG28: Общестроительные работы | EH28: 0 | EJ28: 1 | EK28: 46001 | EL28: Реконструкция зданий и сооружений | EM28: ФЕР-46 | EQ28: 0 | ER28: 1767.24 | ES28: 0 | ET28: 241.95 | EU28: 104.49 | EV28: 1525.29 | EW28: 188.54 | EX28: 7.74 | EY28: 0 | FQ28: 0 | FR28: =ROUND(IF(AND(BH28=3,BI28=3),P28,0),2) -> 0 | FS28: 0 | FT28: *0,9 | FU28: *0,85 | FX28: 99 | FY28: 59.5 | GD28: 0 | GF28: 1630687704 | GG28: 2 | GH28: 1 | GI28: -2 | GJ28: 0 | GK28: =ROUND(R28*(R12)/100,2) -> 0 | GL28: =ROUND(IF(AND(BH28=3,BI28=3,FS28<>0),P28,0),2) -> 0 | GM28: =ROUND(O28+X28+Y28+GK28,2)+GX28 -> 93.28 | GN28: =IF(OR(BI28=0,BI28=1),ROUND(O28+X28+Y28+GK28,2),0) -> 93.28 | GO28: =IF(BI28=2,ROUND(O28+X28+Y28+GK28,2),0) -> 0 | GP28: =IF(BI28=4,ROUND(O28+X28+Y28+GK28,2)+GX28,0) -> 0 | GR28: 0 | GS28: 3 | GT28: 0 | GV28: =ROUND(GT28,6) -> 0 | GW28: 1 | GX28: =ROUND(GV28*GW28*I28,2) -> 0 | HA28: 0 | HB28: 0 | IK28: 0
A29: 17 | B29: 1 | C29: =ROW(SmtRes!A6) -> 6 | D29: =ROW(EtalonRes!A6) -> 6 | E29: 1 | F29: 46-04-012-01 | G29: Разборка деревянных заполнений проемов оконных с подоконными досками | H29: 100 м2 | I29: =ROUND(2.14/100,9) -> 0.0214 | J29: 0 | O29: =ROUND(CP29,2) -> 269.65 | P29: =ROUND(CQ29*I29,2) -> 0 | Q29: =ROUND(CR29*I29,2) -> 36.92 | R29: =ROUND(CS29*I29,2) -> 15.94 | S29: =ROUND(CT29*I29,2) -> 232.73 | T29: =ROUND(CU29*I29,2) -> 0 | U29: =CV29*I29 -> 4.034756 | V29: =CW29*I29 -> 0.165636 | W29: =ROUND(CX29*I29,2) -> 0 | X29: =ROUND(CY29,2) -> 246.18 | Y29: =ROUND(CZ29,2) -> 149.2 | AA29: 16687824 | AB29: =ROUND((AC29+AD29+AF29),6) -> 1767.24 | AC29: =ROUND((ES29),6) -> 0 | AD29: =ROUND((((ET29)-(EU29))+AE29),6) -> 241.95 | AE29: =ROUND((EU29),6) -> 104.49 | AF29: =ROUND((EV29),6) -> 1525.29 | AG29: =ROUND((AP29),6) -> 0 | AH29: =(EW29) -> 188.54 | AI29: =(EX29) -> 7.74 | AJ29: =ROUND((AS29),6) -> 0 | AK29: 1767.24 | AL29: 0 | AM29: 241.95 | AN29: 104.49 | AO29: 1525.29 | AP29: 0 | AQ29: 188.54 | AR29: 7.74 | AS29: 0 | AT29: 99 | AU29: 60 | AV29: 1 | AW29: 1 | AZ29: 7.13 | BA29: 7.13 | BB29: 7.13 | BC29: 7.13 | BH29: 0 | BI29: 1 | BJ29: ФЕР-2001, 46-04-012-01, приказ Минстроя России №1039/пр от 30.12.2016г. | BM29: 46001 | BN29: 0 | BP29: 0 | BQ29: 2 | BR29: 0 | BS29: 7.13 | BT29: 1 | BU29: 1 | BV29: 1 | BW29: 1 | BX29: 1 | BZ29: 110 | CA29: 70 | CF29: 0 | CG29: 0 | CM29: 0 | CO29: 0 | CP29: =(P29+Q29+S29) -> 269.65 | CQ29: =AC29*BC29 -> 0 | CR29: =AD29*BB29 -> 1725.1035 | CS29: =AE29*BS29 -> 745.0137 | CT29: =AF29*BA29 -> 10875.318 | CU29: =AG29 -> 0 | CV29: =AH29 -> 188.54 | CW29: =AI29 -> 7.74 | CX29: =AJ29 -> 0 | CY29: =(((S29+R29)*AT29)/100) -> 246.1833 | CZ29: =(((S29+R29)*AU29)/100) -> 149.202 | DN29: 0 | DO29: 0 | DP29: 1 | DQ29: 1 | DU29: 1005 | DV29: 100 м2 | DW29: 100 м2 | DX29: 100 | EE29: 16510555 | EF29: 2 | EG29: Общестроительные работы | EH29: 0 | EJ29: 1 | EK29: 46001 | EL29: Реконструкция зданий и сооружений | EM29: ФЕР-46 | EQ29: 0 | ER29: 1767.24 | ES29: 0 | ET29: 241.95 | EU29: 104.49 | EV29: 1525.29 | EW29: 188.54 | EX29: 7.74 | EY29: 0 | FQ29: 0 | FR29: =ROUND(IF(AND(BH29=3,BI29=3),P29,0),2) -> 0 | FS29: 0 | FT29: *0,9 | FU29: *0,85 | FX29: 99 | FY29: 59.5 | GD29: 0 | GF29: 1630687704 | GG29: 1 | GH29: 1 | GI29: 4 | GJ29: 0 | GK29: =ROUND(R29*(S12)/100,2) -> 0 | GL29: =ROUND(IF(AND(BH29=3,BI29=3,FS29<>0),P29,0),2) -> 0 | GM29: =ROUND(O29+X29+Y29+GK29,2)+GX29 -> 665.03 | GN29: =IF(OR(BI29=0,BI29=1),ROUND(O29+X29+Y29+GK29,2),0) -> 665.03 | GO29: =IF(BI29=2,ROUND(O29+X29+Y29+GK29,2),0) -> 0 | GP29: =IF(BI29=4,ROUND(O29+X29+Y29+GK29,2)+GX29,0) -> 0 | GR29: 0 | GS29: 3 | GT29: 0 | GV29: =ROUND(GT29,6) -> 0 | GW29: 1 | GX29: =ROUND(GV29*GW29*I29,2) -> 0 | HA29: 0 | HB29: 0 | IK29: 0
A30: 17 | B30: 1 | C30: =ROW(SmtRes!A9) -> 9 | D30: =ROW(EtalonRes!A10) -> 10 | E30: 2 | F30: 57-2-3 | G30: Разборка покрытий полов из керамических плиток | H30: 100 м2 | I30: =ROUND(6.6/100,9) -> 0.066 | J30: 0 | O30: =ROUND(CP30,2) -> 42.31 | P30: =ROUND(CQ30*I30,2) -> 0 | Q30: =ROUND(CR30*I30,2) -> 2.97 | R30: =ROUND(CS30*I30,2) -> 1.28 | S30: =ROUND(CT30*I30,2) -> 39.34 | T30: =ROUND(CU30*I30,2) -> 0 | U30: =CV30*I30 -> 4.61142 | V30: =CW30*I30 -> 0.09504 | W30: =ROUND(CX30*I30,2) -> 0 | X30: =ROUND(CY30,2) -> 32.5 | Y30: =ROUND(CZ30,2) -> 27.62 | AA30: 16687810 | AB30: =ROUND((AC30+AD30+AF30),6) -> 641 | AC30: =ROUND((ES30),6) -> 0 | AD30: =ROUND((((ET30)-(EU30))+AE30),6) -> 45.01 | AE30: =ROUND((EU30),6) -> 19.44 | AF30: =ROUND((EV30),6) -> 595.99 | AG30: =ROUND((AP30),6) -> 0 | AH30: =(EW30) -> 69.87 | AI30: =(EX30) -> 1.44 | AJ30: =ROUND((AS30),6) -> 0 | AK30: 641 | AL30: 0 | AM30: 45.01 | AN30: 19.44 | AO30: 595.99 | AP30: 0 | AQ30: 69.87 | AR30: 1.44 | AS30: 0 | AT30: 80 | AU30: 68 | AV30: 1 | AW30: 1 | AZ30: 1 | BA30: 1 | BB30: 1 | BC30: 1 | BH30: 0 | BI30: 1 | BJ30: ФЕРр-2001, 57-2-3, приказ Минстроя России №1039/пр от 30.12.2016г. | BM30: 57001 | BN30: 0 | BP30: 0 | BQ30: 6 | BR30: 0 | BS30: 1 | BT30: 1 | BU30: 1 | BV30: 1 | BW30: 1 | BX30: 1 | BZ30: 80 | CA30: 68 | CF30: 0 | CG30: 0 | CM30: 0 | CO30: 0 | CP30: =(P30+Q30+S30) -> 42.31 | CQ30: =AC30*BC30 -> 0 | CR30: =AD30*BB30 -> 45.01 | CS30: =AE30*BS30 -> 19.44 | CT30: =AF30*BA30 -> 595.99 | CU30: =AG30 -> 0 | CV30: =AH30 -> 69.87 | CW30: =AI30 -> 1.44 | CX30: =AJ30 -> 0 | CY30: =(((S30+R30)*AT30)/100) -> 32.496 | CZ30: =(((S30+R30)*AU30)/100) -> 27.6216 | DN30: 0 | DO30: 0 | DP30: 1 | DQ30: 1 | DU30: 1005 | DV30: 100 м2 | DW30: 100 м2 | DX30: 100 | EE30: 16510566 | EF30: 6 | EG30: Ремонтно-строительные работы | EH30: 0 | EJ30: 1 | EK30: 57001 | EL30: Полы | EM30: рФЕР-57 | EQ30: 0 | ER30: 641 | ES30: 0 | ET30: 45.01 | EU30: 19.44 | EV30: 595.99 | EW30: 69.87 | EX30: 1.44 | EY30: 0 | FQ30: 0 | FR30: =ROUND(IF(AND(BH30=3,BI30=3),P30,0),2) -> 0 | FS30: 0 | FX30: 80 | FY30: 68 | GD30: 0 | GF30: -1405612292 | GG30: 2 | GH30: 1 | GI30: -2 | GJ30: 0 | GK30: =ROUND(R30*(R12)/100,2) -> 0 | GL30: =ROUND(IF(AND(BH30=3,BI30=3,FS30<>0),P30,0),2) -> 0 | GM30: =ROUND(O30+X30+Y30+GK30,2)+GX30 -> 102.43 | GN30: =IF(OR(BI30=0,BI30=1),ROUND(O30+X30+Y30+GK30,2),0) -> 102.43 | GO30: =IF(BI30=2,ROUND(O30+X30+Y30+GK30,2),0) -> 0 | GP30: =IF(BI30=4,ROUND(O30+X30+Y30+GK30,2)+GX30,0) -> 0 | GR30: 0 | GS30: 3 | GT30: 0 | GV30: =ROUND(GT30,6) -> 0 | GW30: 1 | GX30: =ROUND(GV30*GW30*I30,2) -> 0 | HA30: 0 | HB30: 0 | IK30: 0
A31: 17 | B31: 1 | C31: =ROW(SmtRes!A12) -> 12 | D31: =ROW(EtalonRes!A14) -> 14 | E31: 2 | F31: 57-2-3 | G31: Разборка покрытий полов из керамических плиток | H31: 100 м2 | I31: =ROUND(6.6/100,9) -> 0.066 | J31: 0 | O31: =ROUND(CP31,2) -> 301.64 | P31: =ROUND(CQ31*I31,2) -> 0 | Q31: =ROUND(CR31*I31,2) -> 21.18 | R31: =ROUND(CS31*I31,2) -> 9.15 | S31: =ROUND(CT31*I31,2) -> 280.46 | T31: =ROUND(CU31*I31,2) -> 0 | U31: =CV31*I31 -> 4.61142 | V31: =CW31*I31 -> 0.09504 | W31: =ROUND(CX31*I31,2) -> 0 | X31: =ROUND(CY31,2) -> 231.69 | Y31: =ROUND(CZ31,2) -> 196.93 | AA31: 16687824 | AB31: =ROUND((AC31+AD31+AF31),6) -> 641 | AC31: =ROUND((ES31),6) -> 0 | AD31: =ROUND((((ET31)-(EU31))+AE31),6) -> 45.01 | AE31: =ROUND((EU31),6) -> 19.44 | AF31: =ROUND((EV31),6) -> 595.99 | AG31: =ROUND((AP31),6) -> 0 | AH31: =(EW31) -> 69.87 | AI31: =(EX31) -> 1.44 | AJ31: =ROUND((AS31),6) -> 0 | AK31: 641 | AL31: 0 | AM31: 45.01 | AN31: 19.44 | AO31: 595.99 | AP31: 0 | AQ31: 69.87 | AR31: 1.44 | AS31: 0 | AT31: 80 | AU31: 68 | AV31: 1 | AW31: 1 | AZ31: 7.13 | BA31: 7.13 | BB31: 7.13 | BC31: 7.13 | BH31: 0 | BI31: 1 | BJ31: ФЕРр-2001, 57-2-3, приказ Минстроя России №1039/пр от 30.12.2016г. | BM31: 57001 | BN31: 0 | BP31: 0 | BQ31: 6 | BR31: 0 | BS31: 7.13 | BT31: 1 | BU31: 1 | BV31: 1 | BW31: 1 | BX31: 1 | BZ31: 80 | CA31: 68 | CF31: 0 | CG31: 0 | CM31: 0 | CO31: 0 | CP31: =(P31+Q31+S31) -> 301.64 | CQ31: =AC31*BC31 -> 0 | CR31: =AD31*BB31 -> 320.9213 | CS31: =AE31*BS31 -> 138.6072 | CT31: =AF31*BA31 -> 4249.4087 | CU31: =AG31 -> 0 | CV31: =AH31 -> 69.87 | CW31: =AI31 -> 1.44 | CX31: =AJ31 -> 0 | CY31: =(((S31+R31)*AT31)/100) -> 231.688 | CZ31: =(((S31+R31)*AU31)/100) -> 196.9348 | DN31: 0 | DO31: 0 | DP31: 1 | DQ31: 1 | DU31: 1005 | DV31: 100 м2 | DW31: 100 м2 | DX31: 100 | EE31: 16510566 | EF31: 6 | EG31: Ремонтно-строительные работы | EH31: 0 | EJ31: 1 | EK31: 57001 | EL31: Полы | EM31: рФЕР-57 | EQ31: 0 | ER31: 641 | ES31: 0 | ET31: 45.01 | EU31: 19.44 | EV31: 595.99 | EW31: 69.87 | EX31: 1.44 | EY31: 0 | FQ31: 0 | FR31: =ROUND(IF(AND(BH31=3,BI31=3),P31,0),2) -> 0 | FS31: 0 | FX31: 80 | FY31: 68 | GD31: 0 | GF31: -1405612292 | GG31: 1 | GH31: 1 | GI31: 4 | GJ31: 0 | GK31: =ROUND(R31*(S12)/100,2) -> 0 | GL31: =ROUND(IF(AND(BH31=3,BI31=3,FS31<>0),P31,0),2) -> 0 | GM31: =ROUND(O31+X31+Y31+GK31,2)+GX31 -> 730.26 | GN31: =IF(OR(BI31=0,BI31=1),ROUND(O31+X31+Y31+GK31,2),0) -> 730.26 | GO31: =IF(BI31=2,ROUND(O31+X31+Y31+GK31,2),0) -> 0 | GP31: =IF(BI31=4,ROUND(O31+X31+Y31+GK31,2)+GX31,0) -> 0 | GR31: 0 | GS31: 3 | GT31: 0 | GV31: =ROUND(GT31,6) -> 0 | GW31: 1 | GX31: =ROUND(GV31*GW31*I31,2) -> 0 | HA31: 0 | HB31: 0 | IK31: 0
A32: 17 | B32: 1 | C32: =ROW(SmtRes!A13) -> 13 | D32: =ROW(EtalonRes!A16) -> 16 | E32: 3 | F32: 57-3-2 | G32: Разборка плинтусов цементных и из керамической плитки | H32: 100 м | I32: =ROUND(8.9/100,9) -> 0.089 | J32: 0 | O32: =ROUND(CP32,2) -> 9.91 | P32: =ROUND(CQ32*I32,2) -> 0 | Q32: =ROUND(CR32*I32,2) -> 0 | R32: =ROUND(CS32*I32,2) -> 0 | S32: =ROUND(CT32*I32,2) -> 9.91 | T32: =ROUND(CU32*I32,2) -> 0 | U32: =CV32*I32 -> 1.27092 | V32: =CW32*I32 -> 0 | W32: =ROUND(CX32*I32,2) -> 0 | X32: =ROUND(CY32,2) -> 7.93 | Y32: =ROUND(CZ32,2) -> 6.74 | AA32: 16687810 | AB32: =ROUND((AC32+AD32+AF32),6) -> 111.38 | AC32: =ROUND((ES32),6) -> 0 | AD32: =ROUND((((ET32)-(EU32))+AE32),6) -> 0 | AE32: =ROUND((EU32),6) -> 0 | AF32: =ROUND((EV32),6) -> 111.38 | AG32: =ROUND((AP32),6) -> 0 | AH32: =(EW32) -> 14.28 | AI32: =(EX32) -> 0 | AJ32: =ROUND((AS32),6) -> 0 | AK32: 111.38 | AL32: 0 | AM32: 0 | AN32: 0 | AO32: 111.38 | AP32: 0 | AQ32: 14.28 | AR32: 0 | AS32: 0 | AT32: 80 | AU32: 68 | AV32: 1 | AW32: 1 | AZ32: 1 | BA32: 1 | BB32: 1 | BC32: 1 | BH32: 0 | BI32: 1 | BJ32: ФЕРр-2001, 57-3-2, приказ Минстроя России №1039/пр от 30.12.2016г. | BM32: 57001 | BN32: 0 | BP32: 0 | BQ32: 6 | BR32: 0 | BS32: 1 | BT32: 1 | BU32: 1 | BV32: 1 | BW32: 1 | BX32: 1 | BZ32: 80 | CA32: 68 | CF32: 0 | CG32: 0 | CM32: 0 | CO32: 0 | CP32: =(P32+Q32+S32) -> 9.91 | CQ32: =AC32*BC32 -> 0 | CR32: =AD32*BB32 -> 0 | CS32: =AE32*BS32 -> 0 | CT32: =AF32*BA32 -> 111.38 | CU32: =AG32 -> 0 | CV32: =AH32 -> 14.28 | CW32: =AI32 -> 0 | CX32: =AJ32 -> 0 | CY32: =(((S32+R32)*AT32)/100) -> 7.928 | CZ32: =(((S32+R32)*AU32)/100) -> 6.7388 | DN32: 0 | DO32: 0 | DP32: 1 | DQ32: 1 | DU32: 1003 | DV32: 100 м | DW32: 100 м | DX32: 100 | EE32: 16510566 | EF32: 6 | EG32: Ремонтно-строительные работы | EH32: 0 | EJ32: 1 | EK32: 57001 | EL32: Полы | EM32: рФЕР-57 | EQ32: 0 | ER32: 111.38 | ES32: 0 | ET32: 0 | EU32: 0 | EV32: 111.38 | EW32: 14.28 | EX32: 0 | EY32: 0 | FQ32: 0 | FR32: =ROUND(IF(AND(BH32=3,BI32=3),P32,0),2) -> 0 | FS32: 0 | FX32: 80 | FY32: 68 | GD32: 0 | GF32: 1153252125 | GG32: 2 | GH32: 1 | GI32: -2 | GJ32: 0 | GK32: =ROUND(R32*(R12)/100,2) -> 0 | GL32: =ROUND(IF(AND(BH32=3,BI32=3,FS32<>0),P32,0),2) -> 0 | GM32: =ROUND(O32+X32+Y32+GK32,2)+GX32 -> 24.58 | GN32: =IF(OR(BI32=0,BI32=1),ROUND(O32+X32+Y32+GK32,2),0) -> 24.58 | GO32: =IF(BI32=2,ROUND(O32+X32+Y32+GK32,2),0) -> 0 | GP32: =IF(BI32=4,ROUND(O32+X32+Y32+GK32,2)+GX32,0) -> 0 | GR32: 0 | GS32: 3 | GT32: 0 | GV32: =ROUND(GT32,6) -> 0 | GW32: 1 | GX32: =ROUND(GV32*GW32*I32,2) -> 0 | HA32: 0 | HB32: 0 | IK32: 0
A33: 17 | B33: 1 | C33: =ROW(SmtRes!A14) -> 14 | D33: =ROW(EtalonRes!A18) -> 18 | E33: 3 | F33: 57-3-2 | G33: Разборка плинтусов цементных и из керамической плитки | H33: 100 м | I33: =ROUND(8.9/100,9) -> 0.089 | J33: 0 | O33: =ROUND(CP33,2) -> 70.68 | P33: =ROUND(CQ33*I33,2) -> 0 | Q33: =ROUND(CR33*I33,2) -> 0 | R33: =ROUND(CS33*I33,2) -> 0 | S33: =ROUND(CT33*I33,2) -> 70.68 | T33: =ROUND(CU33*I33,2) -> 0 | U33: =CV33*I33 -> 1.27092 | V33: =CW33*I33 -> 0 | W33: =ROUND(CX33*I33,2) -> 0 | X33: =ROUND(CY33,2) -> 56.54 | Y33: =ROUND(CZ33,2) -> 48.06 | AA33: 16687824 | AB33: =ROUND((AC33+AD33+AF33),6) -> 111.38 | AC33: =ROUND((ES33),6) -> 0 | AD33: =ROUND((((ET33)-(EU33))+AE33),6) -> 0 | AE33: =ROUND((EU33),6) -> 0 | AF33: =ROUND((EV33),6) -> 111.38 | AG33: =ROUND((AP33),6) -> 0 | AH33: =(EW33) -> 14.28 | AI33: =(EX33) -> 0 | AJ33: =ROUND((AS33),6) -> 0 | AK33: 111.38 | AL33: 0 | AM33: 0 | AN33: 0 | AO33: 111.38 | AP33: 0 | AQ33: 14.28 | AR33: 0 | AS33: 0 | AT33: 80 | AU33: 68 | AV33: 1 | AW33: 1 | AZ33: 7.13 | BA33: 7.13 | BB33: 7.13 | BC33: 7.13 | BH33: 0 | BI33: 1 | BJ33: ФЕРр-2001, 57-3-2, приказ Минстроя России №1039/пр от 30.12.2016г. | BM33: 57001 | BN33: 0 | BP33: 0 | BQ33: 6 | BR33: 0 | BS33: 7.13 | BT33: 1 | BU33: 1 | BV33: 1 | BW33: 1 | BX33: 1 | BZ33: 80 | CA33: 68 | CF33: 0 | CG33: 0 | CM33: 0 | CO33: 0 | CP33: =(P33+Q33+S33) -> 70.68 | CQ33: =AC33*BC33 -> 0 | CR33: =AD33*BB33 -> 0 | CS33: =AE33*BS33 -> 0 | CT33: =AF33*BA33 -> 794.1394 | CU33: =AG33 -> 0 | CV33: =AH33 -> 14.28 | CW33: =AI33 -> 0 | CX33: =AJ33 -> 0 | CY33: =(((S33+R33)*AT33)/100) -> 56.544 | CZ33: =(((S33+R33)*AU33)/100) -> 48.0624 | DN33: 0 | DO33: 0 | DP33: 1 | DQ33: 1 | DU33: 1003 | DV33: 100 м | DW33: 100 м | DX33: 100 | EE33: 16510566 | EF33: 6 | EG33: Ремонтно-строительные работы | EH33: 0 | EJ33: 1 | EK33: 57001 | EL33: Полы | EM33: рФЕР-57 | EQ33: 0 | ER33: 111.38 | ES33: 0 | ET33: 0 | EU33: 0 | EV33: 111.38 | EW33: 14.28 | EX33: 0 | EY33: 0 | FQ33: 0 | FR33: =ROUND(IF(AND(BH33=3,BI33=3),P33,0),2) -> 0 | FS33: 0 | FX33: 80 | FY33: 68 | GD33: 0 | GF33: 1153252125 | GG33: 1 | GH33: 1 | GI33: 4 | GJ33: 0 | GK33: =ROUND(R33*(S12)/100,2) -> 0 | GL33: =ROUND(IF(AND(BH33=3,BI33=3,FS33<>0),P33,0),2) -> 0 | GM33: =ROUND(O33+X33+Y33+GK33,2)+GX33 -> 175.28 | GN33: =IF(OR(BI33=0,BI33=1),ROUND(O33+X33+Y33+GK33,2),0) -> 175.28 | GO33: =IF(BI33=2,ROUND(O33+X33+Y33+GK33,2),0) -> 0 | GP33: =IF(BI33=4,ROUND(O33+X33+Y33+GK33,2)+GX33,0) -> 0 | GR33: 0 | GS33: 3 | GT33: 0 | GV33: =ROUND(GT33,6) -> 0 | GW33: 1 | GX33: =ROUND(GV33*GW33*I33,2) -> 0 | HA33: 0 | HB33: 0 | IK33: 0
A34: 17 | B34: 1 | C34: =ROW(SmtRes!A22) -> 22 | D34: =ROW(EtalonRes!A25) -> 25 | E34: 4 | F34: 62-25-1 прим. | G34: Огрунтовка ранее окрашенных фасадов под окраску перхлорвиниловыми красками простых с земли и лесов | H34: 100 м2 | I34: =ROUND(33.6/100,9) -> 0.336 | J34: 0 | O34: =ROUND(CP34,2) -> 120.62 | P34: =ROUND(CQ34*I34,2) -> 99.33 | Q34: =ROUND(CR34*I34,2) -> 8.83 | R34: =ROUND(CS34*I34,2) -> 0.04 | S34: =ROUND(CT34*I34,2) -> 12.46 | T34: =ROUND(CU34*I34,2) -> 0 | U34: =CV34*I34 -> 1.44144 | V34: =CW34*I34 -> 0.00336 | W34: =ROUND(CX34*I34,2) -> 0 | X34: =ROUND(CY34,2) -> 10 | Y34: =ROUND(CZ34,2) -> 6.25 | AA34: 16687810 | AB34: =ROUND((AC34+AD34+AF34),6) -> 358.98 | AC34: =ROUND((ES34),6) -> 295.63 | AD34: =ROUND((((ET34)-(EU34))+AE34),6) -> 26.28 | AE34: =ROUND((EU34),6) -> 0.12 | AF34: =ROUND((EV34),6) -> 37.07 | AG34: =ROUND((AP34),6) -> 0 | AH34: =(EW34) -> 4.29 | AI34: =(EX34) -> 0.01 | AJ34: =ROUND((AS34),6) -> 0 | AK34: 358.98 | AL34: 295.63 | AM34: 26.28 | AN34: 0.12 | AO34: 37.07 | AP34: 0 | AQ34: 4.29 | AR34: 0.01 | AS34: 0 | AT34: 80 | AU34: 50 | AV34: 1 | AW34: 1 | AZ34: 1 | BA34: 1 | BB34: 1 | BC34: 1 | BH34: 0 | BI34: 1 | BJ34: ФЕРр-2001, 62-25-1, приказ Минстроя России №1039/пр от 30.12.2016г. | BM34: 62001 | BN34: 0 | BP34: 0 | BQ34: 6 | BR34: 0 | BS34: 1 | BT34: 1 | BU34: 1 | BV34: 1 | BW34: 1 | BX34: 1 | BZ34: 80 | CA34: 50 | CF34: 0 | CG34: 0 | CM34: 0 | CO34: 0 | CP34: =(P34+Q34+S34) -> 120.62 | CQ34: =AC34*BC34 -> 295.63 | CR34: =AD34*BB34 -> 26.28 | CS34: =AE34*BS34 -> 0.12 | CT34: =AF34*BA34 -> 37.07 | CU34: =AG34 -> 0 | CV34: =AH34 -> 4.29 | CW34: =AI34 -> 0.01 | CX34: =AJ34 -> 0 | CY34: =(((S34+R34)*AT34)/100) -> 10 | CZ34: =(((S34+R34)*AU34)/100) -> 6.25 | DN34: 0 | DO34: 0 | DP34: 1 | DQ34: 1 | DU34: 1005 | DV34: 100 м2 | DW34: 100 м2 | DX34: 100 | EE34: 16510571 | EF34: 6 | EG34: Ремонтно-строительные работы | EH34: 0 | EJ34: 1 | EK34: 62001 | EL34: Малярные работы | EM34: рФЕР-62 | EQ34: 0 | ER34: 358.98 | ES34: 295.63 | ET34: 26.28 | EU34: 0.12 | EV34: 37.07 | EW34: 4.29 | EX34: 0.01 | EY34: 0 | FQ34: 0 | FR34: =ROUND(IF(AND(BH34=3,BI34=3),P34,0),2) -> 0 | FS34: 0 | FX34: 80 | FY34: 50 | GD34: 0 | GF34: 611707758 | GG34: 2 | GH34: 1 | GI34: -2 | GJ34: 0 | GK34: =ROUND(R34*(R12)/100,2) -> 0 | GL34: =ROUND(IF(AND(BH34=3,BI34=3,FS34<>0),P34,0),2) -> 0 | GM34: =ROUND(O34+X34+Y34+GK34,2)+GX34 -> 136.87 | GN34: =IF(OR(BI34=0,BI34=1),ROUND(O34+X34+Y34+GK34,2),0) -> 136.87 | GO34: =IF(BI34=2,ROUND(O34+X34+Y34+GK34,2),0) -> 0 | GP34: =IF(BI34=4,ROUND(O34+X34+Y34+GK34,2)+GX34,0) -> 0 | GR34: 0 | GS34: 3 | GT34: 0 | GV34: =ROUND(GT34,6) -> 0 | GW34: 1 | GX34: =ROUND(GV34*GW34*I34,2) -> 0 | HA34: 0 | HB34: 0 | IK34: 0
A35: 17 | B35: 1 | C35: =ROW(SmtRes!A30) -> 30 | D35: =ROW(EtalonRes!A32) -> 32 | E35: 4 | F35: 62-25-1 прим. | G35: Огрунтовка ранее окрашенных фасадов под окраску перхлорвиниловыми красками простых с земли и лесов | H35: 100 м2 | I35: =ROUND(33.6/100,9) -> 0.336 | J35: 0 | O35: =ROUND(CP35,2) -> 860 | P35: =ROUND(CQ35*I35,2) -> 708.23 | Q35: =ROUND(CR35*I35,2) -> 62.96 | R35: =ROUND(CS35*I35,2) -> 0.29 | S35: =ROUND(CT35*I35,2) -> 88.81 | T35: =ROUND(CU35*I35,2) -> 0 | U35: =CV35*I35 -> 1.44144 | V35: =CW35*I35 -> 0.00336 | W35: =ROUND(CX35*I35,2) -> 0 | X35: =ROUND(CY35,2) -> 71.28 | Y35: =ROUND(CZ35,2) -> 44.55 | AA35: 16687824 | AB35: =ROUND((AC35+AD35+AF35),6) -> 358.98 | AC35: =ROUND((ES35),6) -> 295.63 | AD35: =ROUND((((ET35)-(EU35))+AE35),6) -> 26.28 | AE35: =ROUND((EU35),6) -> 0.12 | AF35: =ROUND((EV35),6) -> 37.07 | AG35: =ROUND((AP35),6) -> 0 | AH35: =(EW35) -> 4.29 | AI35: =(EX35) -> 0.01 | AJ35: =ROUND((AS35),6) -> 0 | AK35: 358.98 | AL35: 295.63 | AM35: 26.28 | AN35: 0.12 | AO35: 37.07 | AP35: 0 | AQ35: 4.29 | AR35: 0.01 | AS35: 0 | AT35: 80 | AU35: 50 | AV35: 1 | AW35: 1 | AZ35: 7.13 | BA35: 7.13 | BB35: 7.13 | BC35: 7.13 | BH35: 0 | BI35: 1 | BJ35: ФЕРр-2001, 62-25-1, приказ Минстроя России №1039/пр от 30.12.2016г. | BM35: 62001 | BN35: 0 | BP35: 0 | BQ35: 6 | BR35: 0 | BS35: 7.13 | BT35: 1 | BU35: 1 | BV35: 1 | BW35: 1 | BX35: 1 | BZ35: 80 | CA35: 50 | CF35: 0 | CG35: 0 | CM35: 0 | CO35: 0 | CP35: =(P35+Q35+S35) -> 860 | CQ35: =AC35*BC35 -> 2107.8419 | CR35: =AD35*BB35 -> 187.3764 | CS35: =AE35*BS35 -> 0.8556 | CT35: =AF35*BA35 -> 264.3091 | CU35: =AG35 -> 0 | CV35: =AH35 -> 4.29 | CW35: =AI35 -> 0.01 | CX35: =AJ35 -> 0 | CY35: =(((S35+R35)*AT35)/100) -> 71.28 | CZ35: =(((S35+R35)*AU35)/100) -> 44.55 | DN35: 0 | DO35: 0 | DP35: 1 | DQ35: 1 | DU35: 1005 | DV35: 100 м2 | DW35: 100 м2 | DX35: 100 | EE35: 16510571 | EF35: 6 | EG35: Ремонтно-строительные работы | EH35: 0 | EJ35: 1 | EK35: 62001 | EL35: Малярные работы | EM35: рФЕР-62 | EQ35: 0 | ER35: 358.98 | ES35: 295.63 | ET35: 26.28 | EU35: 0.12 | EV35: 37.07 | EW35: 4.29 | EX35: 0.01 | EY35: 0 | FQ35: 0 | FR35: =ROUND(IF(AND(BH35=3,BI35=3),P35,0),2) -> 0 | FS35: 0 | FX35: 80 | FY35: 50 | GD35: 0 | GF35: 611707758 | GG35: 1 | GH35: 1 | GI35: 4 | GJ35: 0 | GK35: =ROUND(R35*(S12)/100,2) -> 0 | GL35: =ROUND(IF(AND(BH35=3,BI35=3,FS35<>0),P35,0),2) -> 0 | GM35: =ROUND(O35+X35+Y35+GK35,2)+GX35 -> 975.83 | GN35: =IF(OR(BI35=0,BI35=1),ROUND(O35+X35+Y35+GK35,2),0) -> 975.83 | GO35: =IF(BI35=2,ROUND(O35+X35+Y35+GK35,2),0) -> 0 | GP35: =IF(BI35=4,ROUND(O35+X35+Y35+GK35,2)+GX35,0) -> 0 | GR35: 0 | GS35: 3 | GT35: 0 | GV35: =ROUND(GT35,6) -> 0 | GW35: 1 | GX35: =ROUND(GV35*GW35*I35,2) -> 0 | HA35: 0 | HB35: 0 | IK35: 0
A36: 18 | B36: 1 | C36: 22 | E36: 4,1 | F36: 14.4.01.19-0001 | G36: Грунтовка ХС-04 коричневая | H36: т | I36: =I34*J36 -> -0.00541 | J36: -0.01610119 | O36: =ROUND(CP36,2) -> -99.34 | P36: =ROUND(CQ36*I36,2) -> -99.34 | Q36: =ROUND(CR36*I36,2) -> 0 | R36: =ROUND(CS36*I36,2) -> 0 | S36: =ROUND(CT36*I36,2) -> 0 | T36: =ROUND(CU36*I36,2) -> 0 | U36: =CV36*I36 -> 0 | V36: =CW36*I36 -> 0 | W36: =ROUND(CX36*I36,2) -> 0 | X36: =ROUND(CY36,2) -> 0 | Y36: =ROUND(CZ36,2) -> 0 | AA36: 16687810 | AB36: =ROUND((AC36+AD36+AF36),6) -> 18362 | AC36: =ROUND((ES36),6) -> 18362 | AD36: =ROUND((((ET36)-(EU36))+AE36),6) -> 0 | AE36: =ROUND((EU36),6) -> 0 | AF36: =ROUND((EV36),6) -> 0 | AG36: =ROUND((AP36),6) -> 0 | AH36: =(EW36) -> 0 | AI36: =(EX36) -> 0 | AJ36: =ROUND((AS36),6) -> 0 | AK36: 18362 | AL36: 18362 | AM36: 0 | AN36: 0 | AO36: 0 | AP36: 0 | AQ36: 0 | AR36: 0 | AS36: 0 | AT36: 80 | AU36: 50 | AV36: 1 | AW36: 1 | AZ36: 1 | BA36: 1 | BB36: 1 | BC36: 1 | BH36: 3 | BI36: 1 | BJ36: ФССЦ-2001, 14.4.01.19-0001, приказ Минстроя России №1039/пр от 30.12.2016г. | BM36: 62001 | BN36: 0 | BP36: 0 | BQ36: 6 | BR36: 1 | BS36: 1 | BT36: 1 | BU36: 1 | BV36: 1 | BW36: 1 | BX36: 1 | BZ36: 80 | CA36: 50 | CF36: 0 | CG36: 0 | CM36: 0 | CO36: 0 | CP36: =(P36+Q36+S36) -> -99.34 | CQ36: =AC36*BC36 -> 18362 | CR36: =AD36*BB36 -> 0 | CS36: =AE36*BS36 -> 0 | CT36: =AF36*BA36 -> 0 | CU36: =AG36 -> 0 | CV36: =AH36 -> 0 | CW36: =AI36 -> 0 | CX36: =AJ36 -> 0 | CY36: =(((S36+R36)*AT36)/100) -> 0 | CZ36: =(((S36+R36)*AU36)/100) -> 0 | DN36: 0 | DO36: 0 | DP36: 1 | DQ36: 1 | DU36: 1009 | DV36: т | DW36: т | DX36: 1000 | EE36: 16510571 | EF36: 6 | EG36: Ремонтно-строительные работы | EH36: 0 | EJ36: 1 | EK36: 62001 | EL36: Малярные работы | EM36: рФЕР-62 | EQ36: 0 | ER36: 18362 | ES36: 18362 | ET36: 0 | EU36: 0 | EV36: 0 | EW36: 0 | EX36: 0 | FQ36: 0 | FR36: =ROUND(IF(AND(BH36=3,BI36=3),P36,0),2) -> 0 | FS36: 0 | FX36: 80 | FY36: 50 | GD36: 0 | GF36: 344500605 | GG36: 2 | GH36: 1 | GI36: -2 | GJ36: 0 | GK36: =ROUND(R36*(R12)/100,2) -> 0 | GL36: =ROUND(IF(AND(BH36=3,BI36=3,FS36<>0),P36,0),2) -> 0 | GM36: =ROUND(O36+X36+Y36+GK36,2)+GX36 -> -99.34 | GN36: =IF(OR(BI36=0,BI36=1),ROUND(O36+X36+Y36+GK36,2),0) -> -99.34 | GO36: =IF(BI36=2,ROUND(O36+X36+Y36+GK36,2),0) -> 0 | GP36: =IF(BI36=4,ROUND(O36+X36+Y36+GK36,2)+GX36,0) -> 0 | GR36: 0 | GS36: 3 | GT36: 0 | GV36: =ROUND(GT36,6) -> 0 | GW36: 1 | GX36: =ROUND(GV36*GW36*I36,2) -> 0 | HA36: 0 | HB36: 0 | IK36: 0
A37: 18 | B37: 1 | C37: 30 | E37: 4,1 | F37: 14.4.01.19-0001 | G37: Грунтовка ХС-04 коричневая | H37: т | I37: =I35*J37 -> -0.00541 | J37: -0.01610119 | O37: =ROUND(CP37,2) -> -708.28 | P37: =ROUND(CQ37*I37,2) -> -708.28 | Q37: =ROUND(CR37*I37,2) -> 0 | R37: =ROUND(CS37*I37,2) -> 0 | S37: =ROUND(CT37*I37,2) -> 0 | T37: =ROUND(CU37*I37,2) -> 0 | U37: =CV37*I37 -> 0 | V37: =CW37*I37 -> 0 | W37: =ROUND(CX37*I37,2) -> 0 | X37: =ROUND(CY37,2) -> 0 | Y37: =ROUND(CZ37,2) -> 0 | AA37: 16687824 | AB37: =ROUND((AC37+AD37+AF37),6) -> 18362 | AC37: =ROUND((ES37),6) -> 18362 | AD37: =ROUND((((ET37)-(EU37))+AE37),6) -> 0 | AE37: =ROUND((EU37),6) -> 0 | AF37: =ROUND((EV37),6) -> 0 | AG37: =ROUND((AP37),6) -> 0 | AH37: =(EW37) -> 0 | AI37: =(EX37) -> 0 | AJ37: =ROUND((AS37),6) -> 0 | AK37: 18362 | AL37: 18362 | AM37: 0 | AN37: 0 | AO37: 0 | AP37: 0 | AQ37: 0 | AR37: 0 | AS37: 0 | AT37: 80 | AU37: 50 | AV37: 1 | AW37: 1 | AZ37: 7.13 | BA37: 1 | BB37: 1 | BC37: 7.13 | BH37: 3 | BI37: 1 | BJ37: ФССЦ-2001, 14.4.01.19-0001, приказ Минстроя России №1039/пр от 30.12.2016г. | BM37: 62001 | BN37: 0 | BP37: 0 | BQ37: 6 | BR37: 1 | BS37: 1 | BT37: 1 | BU37: 1 | BV37: 1 | BW37: 1 | BX37: 1 | BZ37: 80 | CA37: 50 | CF37: 0 | CG37: 0 | CM37: 0 | CO37: 0 | CP37: =(P37+Q37+S37) -> -708.28 | CQ37: =AC37*BC37 -> 130921.06 | CR37: =AD37*BB37 -> 0 | CS37: =AE37*BS37 -> 0 | CT37: =AF37*BA37 -> 0 | CU37: =AG37 -> 0 | CV37: =AH37 -> 0 | CW37: =AI37 -> 0 | CX37: =AJ37 -> 0 | CY37: =(((S37+R37)*AT37)/100) -> 0 | CZ37: =(((S37+R37)*AU37)/100) -> 0 | DN37: 0 | DO37: 0 | DP37: 1 | DQ37: 1 | DU37: 1009 | DV37: т | DW37: т | DX37: 1000 | EE37: 16510571 | EF37: 6 | EG37: Ремонтно-строительные работы | EH37: 0 | EJ37: 1 | EK37: 62001 | EL37: Малярные работы | EM37: рФЕР-62 | EQ37: 0 | ER37: 18362 | ES37: 18362 | ET37: 0 | EU37: 0 | EV37: 0 | EW37: 0 | EX37: 0 | FQ37: 0 | FR37: =ROUND(IF(AND(BH37=3,BI37=3),P37,0),2) -> 0 | FS37: 0 | FX37: 80 | FY37: 50 | GD37: 0 | GF37: 344500605 | GG37: 1 | GH37: 1 | GI37: 4 | GJ37: 0 | GK37: =ROUND(R37*(S12)/100,2) -> 0 | GL37: =ROUND(IF(AND(BH37=3,BI37=3,FS37<>0),P37,0),2) -> 0 | GM37: =ROUND(O37+X37+Y37+GK37,2)+GX37 -> -708.28 | GN37: =IF(OR(BI37=0,BI37=1),ROUND(O37+X37+Y37+GK37,2),0) -> -708.28 | GO37: =IF(BI37=2,ROUND(O37+X37+Y37+GK37,2),0) -> 0 | GP37: =IF(BI37=4,ROUND(O37+X37+Y37+GK37,2)+GX37,0) -> 0 | GR37: 0 | GS37: 3 | GT37: 0 | GV37: =ROUND(GT37,6) -> 0 | GW37: 1 | GX37: =ROUND(GV37*GW37*I37,2) -> 0 | HA37: 0 | HB37: 0 | IK37: 0
A38: 18 | B38: 1 | C38: 21 | E38: 4,2 | F38: 14.3.01.01-0001 | G38: Грунтовка: «Бетоконтакт», КНАУФ | H38: кг | I38: =I34*J38 -> 5.4096 | J38: 16.1 | O38: =ROUND(CP38,2) -> 81.63 | P38: =ROUND(CQ38*I38,2) -> 81.63 | Q38: =ROUND(CR38*I38,2) -> 0 | R38: =ROUND(CS38*I38,2) -> 0 | S38: =ROUND(CT38*I38,2) -> 0 | T38: =ROUND(CU38*I38,2) -> 0 | U38: =CV38*I38 -> 0 | V38: =CW38*I38 -> 0 | W38: =ROUND(CX38*I38,2) -> 0 | X38: =ROUND(CY38,2) -> 0 | Y38: =ROUND(CZ38,2) -> 0 | AA38: 16687810 | AB38: =ROUND((AC38+AD38+AF38),6) -> 15.09 | AC38: =ROUND((ES38),6) -> 15.09 | AD38: =ROUND((((ET38)-(EU38))+AE38),6) -> 0 | AE38: =ROUND((EU38),6) -> 0 | AF38: =ROUND((EV38),6) -> 0 | AG38: =ROUND((AP38),6) -> 0 | AH38: =(EW38) -> 0 | AI38: =(EX38) -> 0 | AJ38: =ROUND((AS38),6) -> 0 | AK38: 15.09 | AL38: 15.09 | AM38: 0 | AN38: 0 | AO38: 0 | AP38: 0 | AQ38: 0 | AR38: 0 | AS38: 0 | AT38: 80 | AU38: 50 | AV38: 1 | AW38: 1 | AZ38: 1 | BA38: 1 | BB38: 1 | BC38: 1 | BH38: 3 | BI38: 1 | BJ38: ФССЦ-2001, 14.3.01.01-0001, приказ Минстроя России №1039/пр от 30.12.2016г. | BM38: 62001 | BN38: 0 | BP38: 0 | BQ38: 6 | BR38: 0 | BS38: 1 | BT38: 1 | BU38: 1 | BV38: 1 | BW38: 1 | BX38: 1 | BZ38: 80 | CA38: 50 | CF38: 0 | CG38: 0 | CM38: 0 | CO38: 0 | CP38: =(P38+Q38+S38) -> 81.63 | CQ38: =AC38*BC38 -> 15.09 | CR38: =AD38*BB38 -> 0 | CS38: =AE38*BS38 -> 0 | CT38: =AF38*BA38 -> 0 | CU38: =AG38 -> 0 | CV38: =AH38 -> 0 | CW38: =AI38 -> 0 | CX38: =AJ38 -> 0 | CY38: =(((S38+R38)*AT38)/100) -> 0 | CZ38: =(((S38+R38)*AU38)/100) -> 0 | DN38: 0 | DO38: 0 | DP38: 1 | DQ38: 1 | DU38: 1009 | DV38: кг | DW38: кг | DX38: 1 | EE38: 16510571 | EF38: 6 | EG38: Ремонтно-строительные работы | EH38: 0 | EJ38: 1 | EK38: 62001 | EL38: Малярные работы | EM38: рФЕР-62 | EQ38: 0 | ER38: 15.09 | ES38: 15.09 | ET38: 0 | EU38: 0 | EV38: 0 | EW38: 0 | EX38: 0 | FQ38: 0 | FR38: =ROUND(IF(AND(BH38=3,BI38=3),P38,0),2) -> 0 | FS38: 0 | FX38: 80 | FY38: 50 | GD38: 0 | GF38: 1453462043 | GG38: 2 | GH38: 1 | GI38: -2 | GJ38: 0 | GK38: =ROUND(R38*(R12)/100,2) -> 0 | GL38: =ROUND(IF(AND(BH38=3,BI38=3,FS38<>0),P38,0),2) -> 0 | GM38: =ROUND(O38+X38+Y38+GK38,2)+GX38 -> 81.63 | GN38: =IF(OR(BI38=0,BI38=1),ROUND(O38+X38+Y38+GK38,2),0) -> 81.63 | GO38: =IF(BI38=2,ROUND(O38+X38+Y38+GK38,2),0) -> 0 | GP38: =IF(BI38=4,ROUND(O38+X38+Y38+GK38,2)+GX38,0) -> 0 | GR38: 0 | GS38: 3 | GT38: 0 | GV38: =ROUND(GT38,6) -> 0 | GW38: 1 | GX38: =ROUND(GV38*GW38*I38,2) -> 0 | HA38: 0 | HB38: 0 | IK38: 0
A39: 18 | B39: 1 | C39: 29 | E39: 4,2 | F39: 14.3.01.01-0001 | G39: Грунтовка: «Бетоконтакт», КНАУФ | H39: кг | I39: =I35*J39 -> 5.4096 | J39: 16.1 | O39: =ROUND(CP39,2) -> 582.03 | P39: =ROUND(CQ39*I39,2) -> 582.03 | Q39: =ROUND(CR39*I39,2) -> 0 | R39: =ROUND(CS39*I39,2) -> 0 | S39: =ROUND(CT39*I39,2) -> 0 | T39: =ROUND(CU39*I39,2) -> 0 | U39: =CV39*I39 -> 0 | V39: =CW39*I39 -> 0 | W39: =ROUND(CX39*I39,2) -> 0 | X39: =ROUND(CY39,2) -> 0 | Y39: =ROUND(CZ39,2) -> 0 | AA39: 16687824 | AB39: =ROUND((AC39+AD39+AF39),6) -> 15.09 | AC39: =ROUND((ES39),6) -> 15.09 | AD39: =ROUND((((ET39)-(EU39))+AE39),6) -> 0 | AE39: =ROUND((EU39),6) -> 0 | AF39: =ROUND((EV39),6) -> 0 | AG39: =ROUND((AP39),6) -> 0 | AH39: =(EW39) -> 0 | AI39: =(EX39) -> 0 | AJ39: =ROUND((AS39),6) -> 0 | AK39: 15.09 | AL39: 15.09 | AM39: 0 | AN39: 0 | AO39: 0 | AP39: 0 | AQ39: 0 | AR39: 0 | AS39: 0 | AT39: 80 | AU39: 50 | AV39: 1 | AW39: 1 | AZ39: 7.13 | BA39: 1 | BB39: 1 | BC39: 7.13 | BH39: 3 | BI39: 1 | BJ39: ФССЦ-2001, 14.3.01.01-0001, приказ Минстроя России №1039/пр от 30.12.2016г. | BM39: 62001 | BN39: 0 | BP39: 0 | BQ39: 6 | BR39: 0 | BS39: 1 | BT39: 1 | BU39: 1 | BV39: 1 | BW39: 1 | BX39: 1 | BZ39: 80 | CA39: 50 | CF39: 0 | CG39: 0 | CM39: 0 | CO39: 0 | CP39: =(P39+Q39+S39) -> 582.03 | CQ39: =AC39*BC39 -> 107.5917 | CR39: =AD39*BB39 -> 0 | CS39: =AE39*BS39 -> 0 | CT39: =AF39*BA39 -> 0 | CU39: =AG39 -> 0 | CV39: =AH39 -> 0 | CW39: =AI39 -> 0 | CX39: =AJ39 -> 0 | CY39: =(((S39+R39)*AT39)/100) -> 0 | CZ39: =(((S39+R39)*AU39)/100) -> 0 | DN39: 0 | DO39: 0 | DP39: 1 | DQ39: 1 | DU39: 1009 | DV39: кг | DW39: кг | DX39: 1 | EE39: 16510571 | EF39: 6 | EG39: Ремонтно-строительные работы | EH39: 0 | EJ39: 1 | EK39: 62001 | EL39: Малярные работы | EM39: рФЕР-62 | EQ39: 0 | ER39: 15.09 | ES39: 15.09 | ET39: 0 | EU39: 0 | EV39: 0 | EW39: 0 | EX39: 0 | FQ39: 0 | FR39: =ROUND(IF(AND(BH39=3,BI39=3),P39,0),2) -> 0 | FS39: 0 | FX39: 80 | FY39: 50 | GD39: 0 | GF39: 1453462043 | GG39: 1 | GH39: 1 | GI39: 4 | GJ39: 0 | GK39: =ROUND(R39*(S12)/100,2) -> 0 | GL39: =ROUND(IF(AND(BH39=3,BI39=3,FS39<>0),P39,0),2) -> 0 | GM39: =ROUND(O39+X39+Y39+GK39,2)+GX39 -> 582.03 | GN39: =IF(OR(BI39=0,BI39=1),ROUND(O39+X39+Y39+GK39,2),0) -> 582.03 | GO39: =IF(BI39=2,ROUND(O39+X39+Y39+GK39,2),0) -> 0 | GP39: =IF(BI39=4,ROUND(O39+X39+Y39+GK39,2)+GX39,0) -> 0 | GR39: 0 | GS39: 3 | GT39: 0 | GV39: =ROUND(GT39,6) -> 0 | GW39: 1 | GX39: =ROUND(GV39*GW39*I39,2) -> 0 | HA39: 0 | HB39: 0 | IK39: 0
A40: 17 | B40: 1 | C40: =ROW(SmtRes!A39) -> 39 | D40: =ROW(EtalonRes!A40) -> 40 | E40: 5 | F40: 62-23-4 | G40: Окраска силикатными красками за 1 раз ранее окрашенных фасадов по кирпичу с земли и лесов | H40: 100 м2 | I40: =ROUND(33.6/100,9) -> 0.336 | J40: 0 | O40: =ROUND(CP40,2) -> 64.73 | P40: =ROUND(CQ40*I40,2) -> 13.4 | Q40: =ROUND(CR40*I40,2) -> 0.94 | R40: =ROUND(CS40*I40,2) -> 0.15 | S40: =ROUND(CT40*I40,2) -> 50.39 | T40: =ROUND(CU40*I40,2) -> 0 | U40: =CV40*I40 -> 5.76576 | V40: =CW40*I40 -> 0.01344 | W40: =ROUND(CX40*I40,2) -> 0 | X40: =ROUND(CY40,2) -> 40.43 | Y40: =ROUND(CZ40,2) -> 25.27 | AA40: 16687810 | AB40: =ROUND((AC40+AD40+AF40),6) -> 192.67 | AC40: =ROUND((ES40),6) -> 39.89 | AD40: =ROUND((((ET40)-(EU40))+AE40),6) -> 2.8 | AE40: =ROUND((EU40),6) -> 0.46 | AF40: =ROUND((EV40),6) -> 149.98 | AG40: =ROUND((AP40),6) -> 0 | AH40: =(EW40) -> 17.16 | AI40: =(EX40) -> 0.04 | AJ40: =ROUND((AS40),6) -> 0 | AK40: 192.67 | AL40: 39.89 | AM40: 2.8 | AN40: 0.46 | AO40: 149.98 | AP40: 0 | AQ40: 17.16 | AR40: 0.04 | AS40: 0 | AT40: 80 | AU40: 50 | AV40: 1 | AW40: 1 | AZ40: 1 | BA40: 1 | BB40: 1 | BC40: 1 | BH40: 0 | BI40: 1 | BJ40: ФЕРр-2001, 62-23-4, приказ Минстроя России №1039/пр от 30.12.2016г. | BM40: 62001 | BN40: 0 | BP40: 0 | BQ40: 6 | BR40: 0 | BS40: 1 | BT40: 1 | BU40: 1 | BV40: 1 | BW40: 1 | BX40: 1 | BZ40: 80 | CA40: 50 | CF40: 0 | CG40: 0 | CM40: 0 | CO40: 0 | CP40: =(P40+Q40+S40) -> 64.73 | CQ40: =AC40*BC40 -> 39.89 | CR40: =AD40*BB40 -> 2.8 | CS40: =AE40*BS40 -> 0.46 | CT40: =AF40*BA40 -> 149.98 | CU40: =AG40 -> 0 | CV40: =AH40 -> 17.16 | CW40: =AI40 -> 0.04 | CX40: =AJ40 -> 0 | CY40: =(((S40+R40)*AT40)/100) -> 40.432 | CZ40: =(((S40+R40)*AU40)/100) -> 25.27 | DN40: 0 | DO40: 0 | DP40: 1 | DQ40: 1 | DU40: 1005 | DV40: 100 м2 | DW40: 100 м2 | DX40: 100 | EE40: 16510571 | EF40: 6 | EG40: Ремонтно-строительные работы | EH40: 0 | EJ40: 1 | EK40: 62001 | EL40: Малярные работы | EM40: рФЕР-62 | EQ40: 0 | ER40: 192.67 | ES40: 39.89 | ET40: 2.8 | EU40: 0.46 | EV40: 149.98 | EW40: 17.16 | EX40: 0.04 | EY40: 0 | FQ40: 0 | FR40: =ROUND(IF(AND(BH40=3,BI40=3),P40,0),2) -> 0 | FS40: 0 | FX40: 80 | FY40: 50 | GD40: 0 | GF40: -1709737594 | GG40: 2 | GH40: 1 | GI40: -2 | GJ40: 0 | GK40: =ROUND(R40*(R12)/100,2) -> 0 | GL40: =ROUND(IF(AND(BH40=3,BI40=3,FS40<>0),P40,0),2) -> 0 | GM40: =ROUND(O40+X40+Y40+GK40,2)+GX40 -> 130.43 | GN40: =IF(OR(BI40=0,BI40=1),ROUND(O40+X40+Y40+GK40,2),0) -> 130.43 | GO40: =IF(BI40=2,ROUND(O40+X40+Y40+GK40,2),0) -> 0 | GP40: =IF(BI40=4,ROUND(O40+X40+Y40+GK40,2)+GX40,0) -> 0 | GR40: 0 | GS40: 3 | GT40: 0 | GV40: =ROUND(GT40,6) -> 0 | GW40: 1 | GX40: =ROUND(GV40*GW40*I40,2) -> 0 | HA40: 0 | HB40: 0 | IK40: 0
A41: 17 | B41: 1 | C41: =ROW(SmtRes!A48) -> 48 | D41: =ROW(EtalonRes!A48) -> 48 | E41: 5 | F41: 62-23-4 | G41: Окраска силикатными красками за 1 раз ранее окрашенных фасадов по кирпичу с земли и лесов | H41: 100 м2 | I41: =ROUND(33.6/100,9) -> 0.336 | J41: 0 | O41: =ROUND(CP41,2) -> 461.57 | P41: =ROUND(CQ41*I41,2) -> 95.56 | Q41: =ROUND(CR41*I41,2) -> 6.71 | R41: =ROUND(CS41*I41,2) -> 1.1 | S41: =ROUND(CT41*I41,2) -> 359.3 | T41: =ROUND(CU41*I41,2) -> 0 | U41: =CV41*I41 -> 5.76576 | V41: =CW41*I41 -> 0.01344 | W41: =ROUND(CX41*I41,2) -> 0 | X41: =ROUND(CY41,2) -> 288.32 | Y41: =ROUND(CZ41,2) -> 180.2 | AA41: 16687824 | AB41: =ROUND((AC41+AD41+AF41),6) -> 192.67 | AC41: =ROUND((ES41),6) -> 39.89 | AD41: =ROUND((((ET41)-(EU41))+AE41),6) -> 2.8 | AE41: =ROUND((EU41),6) -> 0.46 | AF41: =ROUND((EV41),6) -> 149.98 | AG41: =ROUND((AP41),6) -> 0 | AH41: =(EW41) -> 17.16 | AI41: =(EX41) -> 0.04 | AJ41: =ROUND((AS41),6) -> 0 | AK41: 192.67 | AL41: 39.89 | AM41: 2.8 | AN41: 0.46 | AO41: 149.98 | AP41: 0 | AQ41: 17.16 | AR41: 0.04 | AS41: 0 | AT41: 80 | AU41: 50 | AV41: 1 | AW41: 1 | AZ41: 7.13 | BA41: 7.13 | BB41: 7.13 | BC41: 7.13 | BH41: 0 | BI41: 1 | BJ41: ФЕРр-2001, 62-23-4, приказ Минстроя России №1039/пр от 30.12.2016г. | BM41: 62001 | BN41: 0 | BP41: 0 | BQ41: 6 | BR41: 0 | BS41: 7.13 | BT41: 1 | BU41: 1 | BV41: 1 | BW41: 1 | BX41: 1 | BZ41: 80 | CA41: 50 | CF41: 0 | CG41: 0 | CM41: 0 | CO41: 0 | CP41: =(P41+Q41+S41) -> 461.57 | CQ41: =AC41*BC41 -> 284.4157 | CR41: =AD41*BB41 -> 19.964 | CS41: =AE41*BS41 -> 3.2798 | CT41: =AF41*BA41 -> 1069.3574 | CU41: =AG41 -> 0 | CV41: =AH41 -> 17.16 | CW41: =AI41 -> 0.04 | CX41: =AJ41 -> 0 | CY41: =(((S41+R41)*AT41)/100) -> 288.32 | CZ41: =(((S41+R41)*AU41)/100) -> 180.2 | DN41: 0 | DO41: 0 | DP41: 1 | DQ41: 1 | DU41: 1005 | DV41: 100 м2 | DW41: 100 м2 | DX41: 100 | EE41: 16510571 | EF41: 6 | EG41: Ремонтно-строительные работы | EH41: 0 | EJ41: 1 | EK41: 62001 | EL41: Малярные работы | EM41: рФЕР-62 | EQ41: 0 | ER41: 192.67 | ES41: 39.89 | ET41: 2.8 | EU41: 0.46 | EV41: 149.98 | EW41: 17.16 | EX41: 0.04 | EY41: 0 | FQ41: 0 | FR41: =ROUND(IF(AND(BH41=3,BI41=3),P41,0),2) -> 0 | FS41: 0 | FX41: 80 | FY41: 50 | GD41: 0 | GF41: -1709737594 | GG41: 1 | GH41: 1 | GI41: 4 | GJ41: 0 | GK41: =ROUND(R41*(S12)/100,2) -> 0 | GL41: =ROUND(IF(AND(BH41=3,BI41=3,FS41<>0),P41,0),2) -> 0 | GM41: =ROUND(O41+X41+Y41+GK41,2)+GX41 -> 930.09 | GN41: =IF(OR(BI41=0,BI41=1),ROUND(O41+X41+Y41+GK41,2),0) -> 930.09 | GO41: =IF(BI41=2,ROUND(O41+X41+Y41+GK41,2),0) -> 0 | GP41: =IF(BI41=4,ROUND(O41+X41+Y41+GK41,2)+GX41,0) -> 0 | GR41: 0 | GS41: 3 | GT41: 0 | GV41: =ROUND(GT41,6) -> 0 | GW41: 1 | GX41: =ROUND(GV41*GW41*I41,2) -> 0 | HA41: 0 | HB41: 0 | IK41: 0
A42: 18 | B42: 1 | C42: 38 | E42: 5,1 | F42: 14.3.02.05 | G42: Краски силикатные | H42: т | I42: =I40*J42 -> 0.004704 | J42: 0.014 | O42: =ROUND(CP42,2) -> 0 | P42: =ROUND(CQ42*I42,2) -> 0 | Q42: =ROUND(CR42*I42,2) -> 0 | R42: =ROUND(CS42*I42,2) -> 0 | S42: =ROUND(CT42*I42,2) -> 0 | T42: =ROUND(CU42*I42,2) -> 0 | U42: =CV42*I42 -> 0 | V42: =CW42*I42 -> 0 | W42: =ROUND(CX42*I42,2) -> 0 | X42: =ROUND(CY42,2) -> 0 | Y42: =ROUND(CZ42,2) -> 0 | AA42: 16687810 | AB42: =ROUND((AC42+AD42+AF42),6) -> 0 | AC42: =ROUND((ES42),6) -> 0 | AD42: =ROUND((((ET42)-(EU42))+AE42),6) -> 0 | AE42: =ROUND((EU42),6) -> 0 | AF42: =ROUND((EV42),6) -> 0 | AG42: =ROUND((AP42),6) -> 0 | AH42: =(EW42) -> 0 | AI42: =(EX42) -> 0 | AJ42: =ROUND((AS42),6) -> 0 | AK42: 0 | AL42: 0 | AM42: 0 | AN42: 0 | AO42: 0 | AP42: 0 | AQ42: 0 | AR42: 0 | AS42: 0 | AT42: 80 | AU42: 50 | AV42: 1 | AW42: 1 | AZ42: 1 | BA42: 1 | BB42: 1 | BC42: 1 | BH42: 3 | BI42: 1 | BM42: 62001 | BN42: 0 | BP42: 0 | BQ42: 6 | BR42: 0 | BS42: 1 | BT42: 1 | BU42: 1 | BV42: 1 | BW42: 1 | BX42: 1 | BZ42: 80 | CA42: 50 | CF42: 0 | CG42: 0 | CM42: 0 | CO42: 0 | CP42: =(P42+Q42+S42) -> 0 | CQ42: =AC42*BC42 -> 0 | CR42: =AD42*BB42 -> 0 | CS42: =AE42*BS42 -> 0 | CT42: =AF42*BA42 -> 0 | CU42: =AG42 -> 0 | CV42: =AH42 -> 0 | CW42: =AI42 -> 0 | CX42: =AJ42 -> 0 | CY42: =(((S42+R42)*AT42)/100) -> 0 | CZ42: =(((S42+R42)*AU42)/100) -> 0 | DN42: 0 | DO42: 0 | DP42: 1 | DQ42: 1 | DU42: 1009 | DV42: т | DW42: т | DX42: 1000 | EE42: 16510571 | EF42: 6 | EG42: Ремонтно-строительные работы | EH42: 0 | EJ42: 1 | EK42: 62001 | EL42: Малярные работы | EM42: рФЕР-62 | EQ42: 0 | ER42: 0 | ES42: 0 | ET42: 0 | EU42: 0 | EV42: 0 | EW42: 0 | EX42: 0 | FQ42: 0 | FR42: =ROUND(IF(AND(BH42=3,BI42=3),P42,0),2) -> 0 | FS42: 0 | FX42: 80 | FY42: 50 | GD42: 0 | GF42: -2007682757 | GG42: 2 | GH42: 1 | GI42: -2 | GJ42: 0 | GK42: =ROUND(R42*(R12)/100,2) -> 0 | GL42: =ROUND(IF(AND(BH42=3,BI42=3,FS42<>0),P42,0),2) -> 0 | GM42: =ROUND(O42+X42+Y42+GK42,2)+GX42 -> 0 | GN42: =IF(OR(BI42=0,BI42=1),ROUND(O42+X42+Y42+GK42,2),0) -> 0 | GO42: =IF(BI42=2,ROUND(O42+X42+Y42+GK42,2),0) -> 0 | GP42: =IF(BI42=4,ROUND(O42+X42+Y42+GK42,2)+GX42,0) -> 0 | GR42: 0 | GS42: 3 | GT42: 0 | GV42: =ROUND(GT42,6) -> 0 | GW42: 1 | GX42: =ROUND(GV42*GW42*I42,2) -> 0 | HA42: 0 | HB42: 0 | IK42: 0
A43: 18 | B43: 1 | C43: 47 | E43: 5,1 | F43: 14.3.02.05 | G43: Краски силикатные | H43: т | I43: =I41*J43 -> 0.004704 | J43: 0.014 | O43: =ROUND(CP43,2) -> 0 | P43: =ROUND(CQ43*I43,2) -> 0 | Q43: =ROUND(CR43*I43,2) -> 0 | R43: =ROUND(CS43*I43,2) -> 0 | S43: =ROUND(CT43*I43,2) -> 0 | T43: =ROUND(CU43*I43,2) -> 0 | U43: =CV43*I43 -> 0 | V43: =CW43*I43 -> 0 | W43: =ROUND(CX43*I43,2) -> 0 | X43: =ROUND(CY43,2) -> 0 | Y43: =ROUND(CZ43,2) -> 0 | AA43: 16687824 | AB43: =ROUND((AC43+AD43+AF43),6) -> 0 | AC43: =ROUND((ES43),6) -> 0 | AD43: =ROUND((((ET43)-(EU43))+AE43),6) -> 0 | AE43: =ROUND((EU43),6) -> 0 | AF43: =ROUND((EV43),6) -> 0 | AG43: =ROUND((AP43),6) -> 0 | AH43: =(EW43) -> 0 | AI43: =(EX43) -> 0 | AJ43: =ROUND((AS43),6) -> 0 | AK43: 0 | AL43: 0 | AM43: 0 | AN43: 0 | AO43: 0 | AP43: 0 | AQ43: 0 | AR43: 0 | AS43: 0 | AT43: 80 | AU43: 50 | AV43: 1 | AW43: 1 | AZ43: 7.13 | BA43: 1 | BB43: 1 | BC43: 7.13 | BH43: 3 | BI43: 1 | BM43: 62001 | BN43: 0 | BP43: 0 | BQ43: 6 | BR43: 0 | BS43: 1 | BT43: 1 | BU43: 1 | BV43: 1 | BW43: 1 | BX43: 1 | BZ43: 80 | CA43: 50 | CF43: 0 | CG43: 0 | CM43: 0 | CO43: 0 | CP43: =(P43+Q43+S43) -> 0 | CQ43: =AC43*BC43 -> 0 | CR43: =AD43*BB43 -> 0 | CS43: =AE43*BS43 -> 0 | CT43: =AF43*BA43 -> 0 | CU43: =AG43 -> 0 | CV43: =AH43 -> 0 | CW43: =AI43 -> 0 | CX43: =AJ43 -> 0 | CY43: =(((S43+R43)*AT43)/100) -> 0 | CZ43: =(((S43+R43)*AU43)/100) -> 0 | DN43: 0 | DO43: 0 | DP43: 1 | DQ43: 1 | DU43: 1009 | DV43: т | DW43: т | DX43: 1000 | EE43: 16510571 | EF43: 6 | EG43: Ремонтно-строительные работы | EH43: 0 | EJ43: 1 | EK43: 62001 | EL43: Малярные работы | EM43: рФЕР-62 | EQ43: 0 | ER43: 0 | ES43: 0 | ET43: 0 | EU43: 0 | EV43: 0 | EW43: 0 | EX43: 0 | FQ43: 0 | FR43: =ROUND(IF(AND(BH43=3,BI43=3),P43,0),2) -> 0 | FS43: 0 | FX43: 80 | FY43: 50 | GD43: 0 | GF43: -2007682757 | GG43: 1 | GH43: 1 | GI43: 4 | GJ43: 0 | GK43: =ROUND(R43*(S12)/100,2) -> 0 | GL43: =ROUND(IF(AND(BH43=3,BI43=3,FS43<>0),P43,0),2) -> 0 | GM43: =ROUND(O43+X43+Y43+GK43,2)+GX43 -> 0 | GN43: =IF(OR(BI43=0,BI43=1),ROUND(O43+X43+Y43+GK43,2),0) -> 0 | GO43: =IF(BI43=2,ROUND(O43+X43+Y43+GK43,2),0) -> 0 | GP43: =IF(BI43=4,ROUND(O43+X43+Y43+GK43,2)+GX43,0) -> 0 | GR43: 0 | GS43: 3 | GT43: 0 | GV43: =ROUND(GT43,6) -> 0 | GW43: 1 | GX43: =ROUND(GV43*GW43*I43,2) -> 0 | HA43: 0 | HB43: 0 | IK43: 0
A44: 18 | B44: 1 | C44: 39 | E44: 5,2 | F44: 14.3.02.05-0102 | G44: Краска силикатная фасадная CERESIT СТ (прим.) | H44: кг | I44: =I40*J44 -> 4.704 | J44: 14 | O44: =ROUND(CP44,2) -> 368.04 | P44: =ROUND(CQ44*I44,2) -> 368.04 | Q44: =ROUND(CR44*I44,2) -> 0 | R44: =ROUND(CS44*I44,2) -> 0 | S44: =ROUND(CT44*I44,2) -> 0 | T44: =ROUND(CU44*I44,2) -> 0 | U44: =CV44*I44 -> 0 | V44: =CW44*I44 -> 0 | W44: =ROUND(CX44*I44,2) -> 0 | X44: =ROUND(CY44,2) -> 0 | Y44: =ROUND(CZ44,2) -> 0 | AA44: 16687810 | AB44: =ROUND((AC44+AD44+AF44),6) -> 78.24 | AC44: =ROUND((ES44),6) -> 78.24 | AD44: =ROUND((((ET44)-(EU44))+AE44),6) -> 0 | AE44: =ROUND((EU44),6) -> 0 | AF44: =ROUND((EV44),6) -> 0 | AG44: =ROUND((AP44),6) -> 0 | AH44: =(EW44) -> 0 | AI44: =(EX44) -> 0 | AJ44: =ROUND((AS44),6) -> 0 | AK44: 78.24 | AL44: 78.24 | AM44: 0 | AN44: 0 | AO44: 0 | AP44: 0 | AQ44: 0 | AR44: 0 | AS44: 0 | AT44: 80 | AU44: 50 | AV44: 1 | AW44: 1 | AZ44: 1 | BA44: 1 | BB44: 1 | BC44: 1 | BH44: 3 | BI44: 1 | BJ44: ФССЦ-2001, 14.3.02.05-0102, приказ Минстроя России №1039/пр от 30.12.2016г. | BM44: 62001 | BN44: 0 | BP44: 0 | BQ44: 6 | BR44: 0 | BS44: 1 | BT44: 1 | BU44: 1 | BV44: 1 | BW44: 1 | BX44: 1 | BZ44: 80 | CA44: 50 | CF44: 0 | CG44: 0 | CM44: 0 | CO44: 0 | CP44: =(P44+Q44+S44) -> 368.04 | CQ44: =AC44*BC44 -> 78.24 | CR44: =AD44*BB44 -> 0 | CS44: =AE44*BS44 -> 0 | CT44: =AF44*BA44 -> 0 | CU44: =AG44 -> 0 | CV44: =AH44 -> 0 | CW44: =AI44 -> 0 | CX44: =AJ44 -> 0 | CY44: =(((S44+R44)*AT44)/100) -> 0 | CZ44: =(((S44+R44)*AU44)/100) -> 0 | DN44: 0 | DO44: 0 | DP44: 1 | DQ44: 1 | DU44: 1009 | DV44: кг | DW44: кг | DX44: 1 | EE44: 16510571 | EF44: 6 | EG44: Ремонтно-строительные работы | EH44: 0 | EJ44: 1 | EK44: 62001 | EL44: Малярные работы | EM44: рФЕР-62 | EQ44: 0 | ER44: 78.24 | ES44: 78.24 | ET44: 0 | EU44: 0 | EV44: 0 | EW44: 0 | EX44: 0 | FQ44: 0 | FR44: =ROUND(IF(AND(BH44=3,BI44=3),P44,0),2) -> 0 | FS44: 0 | FX44: 80 | FY44: 50 | GD44: 0 | GF44: -1906556336 | GG44: 2 | GH44: 1 | GI44: -2 | GJ44: 0 | GK44: =ROUND(R44*(R12)/100,2) -> 0 | GL44: =ROUND(IF(AND(BH44=3,BI44=3,FS44<>0),P44,0),2) -> 0 | GM44: =ROUND(O44+X44+Y44+GK44,2)+GX44 -> 368.04 | GN44: =IF(OR(BI44=0,BI44=1),ROUND(O44+X44+Y44+GK44,2),0) -> 368.04 | GO44: =IF(BI44=2,ROUND(O44+X44+Y44+GK44,2),0) -> 0 | GP44: =IF(BI44=4,ROUND(O44+X44+Y44+GK44,2)+GX44,0) -> 0 | GR44: 0 | GS44: 3 | GT44: 0 | GV44: =ROUND(GT44,6) -> 0 | GW44: 1 | GX44: =ROUND(GV44*GW44*I44,2) -> 0 | HA44: 0 | HB44: 0 | IK44: 0
A45: 18 | B45: 1 | C45: 48 | E45: 5,2 | F45: 14.3.02.05-0102 | G45: Краска силикатная фасадная CERESIT СТ (прим.) | H45: кг | I45: =I41*J45 -> 4.704 | J45: 14 | O45: =ROUND(CP45,2) -> 2624.13 | P45: =ROUND(CQ45*I45,2) -> 2624.13 | Q45: =ROUND(CR45*I45,2) -> 0 | R45: =ROUND(CS45*I45,2) -> 0 | S45: =ROUND(CT45*I45,2) -> 0 | T45: =ROUND(CU45*I45,2) -> 0 | U45: =CV45*I45 -> 0 | V45: =CW45*I45 -> 0 | W45: =ROUND(CX45*I45,2) -> 0 | X45: =ROUND(CY45,2) -> 0 | Y45: =ROUND(CZ45,2) -> 0 | AA45: 16687824 | AB45: =ROUND((AC45+AD45+AF45),6) -> 78.24 | AC45: =ROUND((ES45),6) -> 78.24 | AD45: =ROUND((((ET45)-(EU45))+AE45),6) -> 0 | AE45: =ROUND((EU45),6) -> 0 | AF45: =ROUND((EV45),6) -> 0 | AG45: =ROUND((AP45),6) -> 0 | AH45: =(EW45) -> 0 | AI45: =(EX45) -> 0 | AJ45: =ROUND((AS45),6) -> 0 | AK45: 78.24 | AL45: 78.24 | AM45: 0 | AN45: 0 | AO45: 0 | AP45: 0 | AQ45: 0 | AR45: 0 | AS45: 0 | AT45: 80 | AU45: 50 | AV45: 1 | AW45: 1 | AZ45: 7.13 | BA45: 1 | BB45: 1 | BC45: 7.13 | BH45: 3 | BI45: 1 | BJ45: ФССЦ-2001, 14.3.02.05-0102, приказ Минстроя России №1039/пр от 30.12.2016г. | BM45: 62001 | BN45: 0 | BP45: 0 | BQ45: 6 | BR45: 0 | BS45: 1 | BT45: 1 | BU45: 1 | BV45: 1 | BW45: 1 | BX45: 1 | BZ45: 80 | CA45: 50 | CF45: 0 | CG45: 0 | CM45: 0 | CO45: 0 | CP45: =(P45+Q45+S45) -> 2624.13 | CQ45: =AC45*BC45 -> 557.8512 | CR45: =AD45*BB45 -> 0 | CS45: =AE45*BS45 -> 0 | CT45: =AF45*BA45 -> 0 | CU45: =AG45 -> 0 | CV45: =AH45 -> 0 | CW45: =AI45 -> 0 | CX45: =AJ45 -> 0 | CY45: =(((S45+R45)*AT45)/100) -> 0 | CZ45: =(((S45+R45)*AU45)/100) -> 0 | DN45: 0 | DO45: 0 | DP45: 1 | DQ45: 1 | DU45: 1009 | DV45: кг | DW45: кг | DX45: 1 | EE45: 16510571 | EF45: 6 | EG45: Ремонтно-строительные работы | EH45: 0 | EJ45: 1 | EK45: 62001 | EL45: Малярные работы | EM45: рФЕР-62 | EQ45: 0 | ER45: 78.24 | ES45: 78.24 | ET45: 0 | EU45: 0 | EV45: 0 | EW45: 0 | EX45: 0 | FQ45: 0 | FR45: =ROUND(IF(AND(BH45=3,BI45=3),P45,0),2) -> 0 | FS45: 0 | FX45: 80 | FY45: 50 | GD45: 0 | GF45: -1906556336 | GG45: 1 | GH45: 1 | GI45: 4 | GJ45: 0 | GK45: =ROUND(R45*(S12)/100,2) -> 0 | GL45: =ROUND(IF(AND(BH45=3,BI45=3,FS45<>0),P45,0),2) -> 0 | GM45: =ROUND(O45+X45+Y45+GK45,2)+GX45 -> 2624.13 | GN45: =IF(OR(BI45=0,BI45=1),ROUND(O45+X45+Y45+GK45,2),0) -> 2624.13 | GO45: =IF(BI45=2,ROUND(O45+X45+Y45+GK45,2),0) -> 0 | GP45: =IF(BI45=4,ROUND(O45+X45+Y45+GK45,2)+GX45,0) -> 0 | GR45: 0 | GS45: 3 | GT45: 0 | GV45: =ROUND(GT45,6) -> 0 | GW45: 1 | GX45: =ROUND(GV45*GW45*I45,2) -> 0 | HA45: 0 | HB45: 0 | IK45: 0
