Workbook

Sheet Смета 12 гр. по ФЕР
A1: =Source!B1 -> Smeta.RU (495) 974-1589 | H1: ПРИЛОЖЕНИЕ 1 к ФОРМЕ 7
B4: СМЕТА
B8: Капитальный ремонт столовой в учебном корпусе Димитровградского инженерно-технологического института-филиала НИЯУ МИФИ (ДИТИ НИЯУ МИФИ) по адресу: Ульяновская область, г. Димитровград, , пр-т Димитрова, д.5
G11: базовая цена | I11: текущая цена
C12: Сметная стоимость | G12: =SUM(O1:O319)/1000 -> 143.36207 | I12: =(Source!P280/1000) -> 1013.8722 | K12: тыс. руб.
C13: Строительные работы | G13: =SUM(W1:W319)/1000 -> 130.99243 | I13: =(Source!P267)/1000 -> 785.11947 | K13: тыс. руб.
C14: Монтажные работы | G14: =SUM(X1:X319)/1000 -> 12.36964 | I14: =(Source!P268)/1000 -> 74.09423 | K14: тыс. руб.
C15: Оборудование | G15: =SUM(Y1:Y319)/1000 -> 0 | I15: =(Source!P259)/1000 -> 0 | K15: тыс. руб.
C16: Прочие работы | G16: =SUM(Z1:Z319)/1000 -> 0 | I16: =(Source!P269+Source!P270)/1000 -> 0 | K16: тыс. руб.
C17: Нормативная трудоемкость | G17: =I17 -> 1975.5439 | I17: =(Source!P272+Source!P273) -> 1975.5439 | K17: чел. -ч.
C18: Средства на оплату труда | G18: =SUM(R1:R319)/1000 -> 17.7126 | I18: =((Source!P265 + Source!P264)/1000) -> 106.09847 | K18: тыс. руб.
A20: Составлена в ценах IV квартал 2017 года
A21: № п/п | B21: Шифр расценки и коды ресурсов | C21: Наименование работ и затрат | D21: Ед. изм. | E21: Кол-во единиц | F21: Цена на ед. изм. | G21: Попра-вочные коэфф. | H21: Стоимость в ценах 2001г. | I21: Пункт коэфф. пересчета | J21: Коэфф. пересчета | K21: Стоимость в текущих ценах | L21: ЗТР всего чел.-час
A22: 1 | B22: 2 | C22: 3 | D22: 4 | E22: 5 | F22: 6 | G22: 7 | H22: 8 | I22: 9 | J22: 10 | K22: 11 | L22: 12
A24: =CONCATENATE("Локальная смета: ",IF(Source!G20<>"Новая локальная смета", Source!G20, "")) -> Локальная смета:
A26: =CONCATENATE("Раздел: ",IF(Source!G24<>"Новый раздел", Source!G24, "")) -> Раздел: Раздел Общестроительные работы
A27: =Source!E29 -> 1 | B27: =Source!F29 -> 46-04-012-01 | C27: =Source!G29 -> Разборка деревянных заполнений проемов оконных с подоконными досками | D27: =Source!H29 -> 100 м2 | E27: =Source!I29 -> 0.2808 | F27: =Source!AL29+Source!AM29+Source!AO29 -> 1767.24 | I27: =Source!BO29 | S27: =ROUND((Source!FX29/100)*((ROUND(Source!AF29*Source!I29, 2)+ROUND(Source!AE29*Source!I29, 2))), 2) -> 453.06 | T27: =Source!X29 -> 2713.87 | U27: =ROUND((Source!FY29/100)*((ROUND(Source!AF29*Source!I29, 2)+ROUND(Source!AE29*Source!I29, 2))), 2) -> 272.3 | V27: =Source!Y29 -> 1644.77
C28: ="Объем: "&Source!I29&"=28,08/"&"100" -> Объем: 0,2808=28,08/100
C29: Зарплата | F29: =Source!AO29 -> 1525.29 | G29: =Source!DG29 | H29: =ROUND(Source!AF29*Source!I29, 2) -> 428.3 | J29: =IF(Source!BA29<> 0, Source!BA29, 1) -> 5.99 | K29: =Source!S29 -> 2565.53 | R29: =H29 -> 428.3
C30: Эксплуатация машин | F30: =Source!AM29 -> 241.95 | G30: =Source!DE29 | H30: =ROUND(Source!AD29*Source!I29, 2) -> 67.94 | J30: =IF(Source!BB29<> 0, Source!BB29, 1) -> 5.99 | K30: =Source!Q29 -> 406.96
C31: в т.ч. зарплата машинистов | F31: =Source!AN29 -> 104.49 | G31: =Source!DF29 | H31: =ROUND(Source!AE29*Source!I29, 2) -> 29.34 | J31: =IF(Source!BS29<> 0, Source!BS29, 1) -> 5.99 | K31: =Source!R29 -> 175.75 | R31: =H31 -> 29.34
C32: НР от ФОТ | D32: % | E32: =Source!BZ29 -> 110 | F32: =CONCATENATE(" )", Source!DL29, Source!FT29, "=", Source!FX29) -> )*0,9=99 | H32: =SUM(S27:S34) -> 453.06 | J32: =Source!AT29 -> 99 | K32: =SUM(T27:T34) -> 2713.87
C33: СП от ФОТ | D33: % | E33: =Source!CA29 -> 70 | F33: =CONCATENATE(" )", Source!DM29, Source!FU29, "=", Source!FY29) -> )*0,85=59,5 | H33: =SUM(U27:U34) -> 272.3 | J33: =Source!AU29 -> 60 | K33: =SUM(V27:V34) -> 1644.77
C34: Затраты труда | D34: чел-ч | E34: =Source!AQ29 -> 188.54 | G34: =Source!DI29 | L34: =Source!U29 -> 52.942032
G35: =H29+H30+H32+H33 -> 1221.6 | J35: =K29+K30+K32+K33 -> 7331.13 | L35: =Source!U29 -> 52.942032 | O35: =G35 -> 1221.6 | P35: =J35 -> 7331.13 | Q35: =L35 -> 52.942032 | W35: =IF(Source!BI29<=1,H29+H30+H32+H33, 0) -> 1221.6 | X35: =IF(Source!BI29=2,H29+H30+H32+H33, 0) -> 0 | Y35: =IF(Source!BI29=3,H29+H30+H32+H33, 0) -> 0 | Z35: =IF(Source!BI29=4,H29+H30+H32+H33, 0) -> 0
A36: =Source!E31 -> 2 | B36: =Source!F31 -> 46-04-012-03 | C36: =Source!G31 -> Разборка деревянных заполнений проемов дверных и воротных | D36: =Source!H31 -> 100 м2 | E36: =Source!I31 -> 0.0608 | F36: =Source!AL31+Source!AM31+Source!AO31 -> 1082.58 | I36: =Source!BO31 | S36: =ROUND((Source!FX31/100)*((ROUND(Source!AF31*Source!I31, 2)+ROUND(Source!AE31*Source!I31, 2))), 2) -> 56.89 | T36: =Source!X31 -> 340.76 | U36: =ROUND((Source!FY31/100)*((ROUND(Source!AF31*Source!I31, 2)+ROUND(Source!AE31*Source!I31, 2))), 2) -> 34.19 | V36: =Source!Y31 -> 206.52
C37: ="Объем: "&Source!I31&"=6,08/"&"100" -> Объем: 0,0608=6,08/100
C38: Зарплата | F38: =Source!AO31 -> 840.63 | G38: =Source!DG31 | H38: =ROUND(Source!AF31*Source!I31, 2) -> 51.11 | J38: =IF(Source!BA31<> 0, Source!BA31, 1) -> 5.99 | K38: =Source!S31 -> 306.15 | R38: =H38 -> 51.11
C39: Эксплуатация машин | F39: =Source!AM31 -> 241.95 | G39: =Source!DE31 | H39: =ROUND(Source!AD31*Source!I31, 2) -> 14.71 | J39: =IF(Source!BB31<> 0, Source!BB31, 1) -> 5.99 | K39: =Source!Q31 -> 88.12
C40: в т.ч. зарплата машинистов | F40: =Source!AN31 -> 104.49 | G40: =Source!DF31 | H40: =ROUND(Source!AE31*Source!I31, 2) -> 6.35 | J40: =IF(Source!BS31<> 0, Source!BS31, 1) -> 5.99 | K40: =Source!R31 -> 38.05 | R40: =H40 -> 6.35
C41: НР от ФОТ | D41: % | E41: =Source!BZ31 -> 110 | F41: =CONCATENATE(" )", Source!DL31, Source!FT31, "=", Source!FX31) -> )*0,9=99 | H41: =SUM(S36:S43) -> 56.89 | J41: =Source!AT31 -> 99 | K41: =SUM(T36:T43) -> 340.76
C42: СП от ФОТ | D42: % | E42: =Source!CA31 -> 70 | F42: =CONCATENATE(" )", Source!DM31, Source!FU31, "=", Source!FY31) -> )*0,85=59,5 | H42: =SUM(U36:U43) -> 34.19 | J42: =Source!AU31 -> 60 | K42: =SUM(V36:V43) -> 206.52
C43: Затраты труда | D43: чел-ч | E43: =Source!AQ31 -> 103.91 | G43: =Source!DI31 | L43: =Source!U31 -> 6.317728
G44: =H38+H39+H41+H42 -> 156.9 | J44: =K38+K39+K41+K42 -> 941.55 | L44: =Source!U31 -> 6.317728 | O44: =G44 -> 156.9 | P44: =J44 -> 941.55 | Q44: =L44 -> 6.317728 | W44: =IF(Source!BI31<=1,H38+H39+H41+H42, 0) -> 156.9 | X44: =IF(Source!BI31=2,H38+H39+H41+H42, 0) -> 0 | Y44: =IF(Source!BI31=3,H38+H39+H41+H42, 0) -> 0 | Z44: =IF(Source!BI31=4,H38+H39+H41+H42, 0) -> 0
A45: =Source!E33 -> 3 | B45: =Source!F33 -> 20-02-002-04 | C45: =Source!G33 -> Демонтаж решеток жалюзийных площадью в свету до 2,5 м2 | D45: =Source!H33 -> ШТ | E45: =Source!I33 -> 18 | F45: =Source!AL33+Source!AM33+Source!AO33 -> 44.01 | I45: =Source!BO33 | S45: =ROUND((Source!FX33/100)*((ROUND(Source!AF33*Source!I33, 2)+ROUND(Source!AE33*Source!I33, 2))), 2) -> 200.22 | T45: =Source!X33 -> 1197.28 | U45: =ROUND((Source!FY33/100)*((ROUND(Source!AF33*Source!I33, 2)+ROUND(Source!AE33*Source!I33, 2))), 2) -> 122.62 | V45: =Source!Y33 -> 739.19
C46: Зарплата | F46: =Source!AO33 -> 23.77 | G46: =Source!DG33 -> )*0,4 | H46: =ROUND(Source!AF33*Source!I33, 2) -> 171.14 | J46: =IF(Source!BA33<> 0, Source!BA33, 1) -> 5.99 | K46: =Source!S33 -> 1025.15 | R46: =H46 -> 171.14
C47: Эксплуатация машин | F47: =Source!AM33 -> 4.29 | G47: =Source!DE33 -> )*0,4 | H47: =ROUND(Source!AD33*Source!I33, 2) -> 30.89 | J47: =IF(Source!BB33<> 0, Source!BB33, 1) -> 5.99 | K47: =Source!Q33 -> 185.02
C48: в т.ч. зарплата машинистов | F48: =Source!AN33 -> 0.37 | G48: =Source!DF33 -> )*0,4 | H48: =ROUND(Source!AE33*Source!I33, 2) -> 2.66 | J48: =IF(Source!BS33<> 0, Source!BS33, 1) -> 5.99 | K48: =Source!R33 -> 15.96 | R48: =H48 -> 2.66
C49: НР от ФОТ | D49: % | E49: =Source!BZ33 -> 128 | F49: =CONCATENATE(" )", Source!DL33, Source!FT33, "=", Source!FX33) -> )*0,9=115,2 | H49: =SUM(S45:S51) -> 200.22 | J49: =Source!AT33 -> 115 | K49: =SUM(T45:T51) -> 1197.28
C50: СП от ФОТ | D50: % | E50: =Source!CA33 -> 83 | F50: =CONCATENATE(" )", Source!DM33, Source!FU33, "=", Source!FY33) -> )*0,85=70,55 | H50: =SUM(U45:U51) -> 122.62 | J50: =Source!AU33 -> 71 | K50: =SUM(V45:V51) -> 739.19
...

Sheet Акт КС-2 c НР и СП
A1: =Source!B1 -> Smeta.RU (495) 974-1589
E2: Унифицированная форма № КС-2
E3: Утверждена постановлением Госкомстата России
E4: от 11.11.99. № 100
G6: Код
F7: Форма по ОКУД | G7: 0322005
G8: =IF(Source!AT15 <> "", Source!AT15, "")
A9: Инвестор | C9: =IF(Source!BA15 <> "", Source!BA15, IF(Source!AU15 <> "", Source!AU15, "")) | F9: по ОКПО
C10: организация, адрес, телефон, факс | G10: =IF(Source!AK15 <> "", Source!AK15, "")
A11: Заказчик | C11: =IF(Source!AX12<> "", Source!AX12, IF(Source!AJ12 <> "", Source!AJ12, "")) | F11: по ОКПО
C12: организация, адрес, телефон, факс | G12: =IF(Source!AO15 <> "", Source!AO15, "")
A13: Подрядчик | C13: =IF(Source!AY12<> "", Source!AY12, IF(Source!AN12 <> "", Source!AN12, "")) | F13: по ОКПО
C14: организация, адрес, телефон, факс | G14: =IF(Source!CO15 <> "", Source!CO15, "")
A15: Стройка | C15: Капитальный ремонт столовой в учебном корпусе ДИТИ НИЯУ МИФИ_РОСАТОМ | AE15: Капитальный ремонт столовой в учебном корпусе ДИТИ НИЯУ МИФИ_РОСАТОМ
C16: наименование, адрес | G16: =IF(Source!CP15 <> "", Source!CP15, "")
A17: Объект | C17: =IF(Source!G12<>"Новый объект", Source!G12, "") -> Капитальный ремонт столовой в учебном корпусе ДИТИ НИЯУ МИФИ_РОСАТОМ | AE17: =IF(Source!G12<>"Новый объект", Source!G12, "") -> Капитальный ремонт столовой в учебном корпусе ДИТИ НИЯУ МИФИ_РОСАТОМ
C18: наименование
D19: Вид деятельности по ОКДП | G19: =IF(Source!CQ15 <> "", Source!CQ15, "")
D20: Договор подряда | F20: номер | G20: =IF(Source!CR15 <> "", Source!CR15, "")
F21: дата | G21: =IF(Source!CS15 <> 0, Source!CS15, "")
F22: Вид операции | G22: =IF(Source!CT15 <> "", Source!CT15, "")
D24: Номер документа | E24: Дата составления | F24: Отчетный период
F25: с | G25: по
D26: =IF(Source!CN15 <> "", Source!CN15, "") | E26: 43230.626
A28: AKT
A29: О ПРИЕМКЕ ВЫПОЛНЕННЫХ РАБОТ
A31: Сметная (договорная) стоимость в соответствии с договором подряда (субподряда) | F31: =(Source!P280/1000) -> 1013.8722 | H31: тыс.руб
A33: Номер | C33: Наименование работ | D33: Номер единичной расценки | E33: Единица измерения | F33: Выполнено работ
A34: по порядку | B34: поз. по смете | F34: Количество | G34: цена за единицу, руб | H34: стоимость, руб
A35: 1 | B35: 2 | C35: 3 | D35: 4 | E35: 5 | F35: 6 | G35: 7 | H35: 8
A37: =CONCATENATE("Локальная смета: ",IF(Source!G20<>"Новая локальная смета", Source!G20, "")) -> Локальная смета:
A39: =CONCATENATE("Раздел: ",IF(Source!G24<>"Новый раздел", Source!G24, "")) -> Раздел: Раздел Общестроительные работы
A40: 1 | B40: =Source!E29 -> 1 | C40: =Source!G29 -> Разборка деревянных заполнений проемов оконных с подоконными досками | D40: =Source!F29 -> 46-04-012-01 | E40: =Source!H29 -> 100 м2 | F40: =Source!I29 -> 0.2808 | G40: =Source!AB29 -> 1767.24 | H40: =Source!O29 -> 2972.49 | T40: =Source!O29+Source!X29+Source!Y29 -> 7331.13 | U40: =Source!P29 -> 0 | V40: =Source!S29 -> 2565.53 | W40: =Source!Q29 -> 406.96 | X40: =Source!R29 -> 175.75 | Y40: =Source!U29 -> 52.942032 | Z40: =Source!V29 -> 2.173392 | AA40: =Source!X29 -> 2713.87 | AB40: =Source!Y29 -> 1644.77
C41: ="Объем: "&Source!I29&"=28,08/"&"100" -> Объем: 0,2808=28,08/100
C42: Коэфф. к ОЗП | D42: =Source!BA29 -> 5.99
C43: Коэфф. к эксплуатации машин | D43: =Source!BB29 -> 5.99
C44: Коэфф. к материалам | D44: =Source!BC29 -> 5.99
C45: Коэфф. к ЗПМ | D45: =Source!BS29 -> 5.99
C46: % НР | F46: =Source!BZ29 -> 110 | G46: =(Source!AF29+Source!AE29)*Source!FX29/100 -> 1613.4822 | H46: =Source!X29 -> 2713.87
C47: % НР с поправкой | G47: =CONCATENATE(Source!DL29,Source!FT29, "=", Source!FX29, "%") -> *0,9=99% | H47: =CONCATENATE(Source!AT29) -> 99
...

Sheet Source
A1: 0 | B1: Smeta.RU (495) 974-1589 | D1: _PS_ | F1: 0 | G1: 0 | H1: 0 | I1: Smeta.RU | J1: НИЯУ МИФИ Доп. раб. место MCCS-0027251 | K1: 0 | L1: 27251 | M1: 10
A12: 1 | B12: 311 | C12: 0 | D12: =ROW(A250) -> 250 | E12: 0 | F12: Новый объект_(Копия) | G12: Капитальный ремонт столовой в учебном корпусе ДИТИ НИЯУ МИФИ_РОСАТОМ | I12: 0 | K12: 0 | O12: 0 | P12: 0 | Q12: 0 | R12: 0 | S12: 0 | V12: 0 | BH12: Сметные нормы списания | BI12: Коды ценников | BJ12: 1 | BK12: 1 | BL12: 0 | BM12: 0 | BN12: 1 | BO12: 0 | BP12: 6 | BQ12: 2 | BR12: 1 | BS12: 1 | BT12: 0 | BU12: 0 | BV12: 0 | BW12: 0 | BX12: 0 | BY12: ФЕР-2017 | BZ12: ТР для Версии 10: Центральные регионы (с учетом п-ма 2536-ИП/12/ГС от 22.03.2017 г | CA12: ФЕР-2017 | CB12: ФЕР-2017 | CC12: ФЕР-2017 | CD12: ФЕР-2017 | CE12: Поправки для ГСН 2017 от 31.03.2017 г | CF12: 0 | CG12: 0 | CH12: 524296 | CK12: 4 | EC12: 0
A15: 15 | B15: 1
A18: 52 | B18: =B250 -> 311 | C18: =C250 -> 1 | D18: =D250 -> 12 | E18: =E250 -> 0 | F18: =F250 -> Новый объект_(Копия) | G18: =G250 -> Капитальный ремонт столовой в учебном корпусе ДИТИ НИЯУ МИФИ_РОСАТОМ | O18: =O250 -> 116161.03 | P18: =P250 -> 97597.58 | Q18: =Q250 -> 1434.72 | R18: =R250 -> 583.87 | S18: =S250 -> 17128.73 | T18: =T250 -> 0 | U18: =U250 -> 1921.6369 | V18: =V250 -> 53.90702 | ... GX18: =GX250 -> 0
A20: 3 | B20: 1 | D20: =ROW(A218) -> 218 | F20: Новая локальная смета | G20: Новая локальная смета | I20: 0 | K20: 0 | V20: 0 | BX20: 0 | CF20: 0 | CG20: 0
A22: 52 | B22: =B218 -> 1 | C22: =C218 -> 3 | D22: =D218 -> 20 | E22: =E218 -> 0 | F22: =F218 -> Новая локальная смета | G22: =G218 -> Новая локальная смета | O22: =O218 -> 116161.03 | P22: =P218 -> 97597.58 | Q22: =Q218 -> 1434.72 | R22: =R218 -> 583.87 | S22: =S218 -> 17128.73 | T22: =T218 -> 0 | U22: =U218 -> 1921.6369 | V22: =V218 -> 53.90702 | ... GX22: =GX218 -> 0
A24: 4 | B24: 1 | D24: =ROW(A129) -> 129 | F24: Новый раздел | G24: Раздел Общестроительные работы | I24: 0 | K24: 0 | V24: 0 | BX24: 0 | CJ24: 0
A26: 52 | B26: =B129 -> 1 | C26: =C129 -> 4 | D26: =D129 -> 24 | E26: =E129 -> 0 | F26: =F129 -> Новый раздел | G26: =G129 -> Раздел Общестроительные работы | O26: =O129 -> 104504.71 | P26: =P129 -> 86484.39 | Q26: =Q129 -> 1407.99 | R26: =R129 -> 580.01 | S26: =S129 -> 16612.33 | T26: =T129 -> 0 | U26: =U129 -> 1868.4899 | V26: =V129 -> 53.60052 | ... GX26: =GX129 -> 0
A28: 17 | B28: 1 | C28: =ROW(SmtRes!A3) -> 3 | D28: =ROW(EtalonRes!A3) -> 3 | E28: 1 | F28: 46-04-012-01 | G28: Разборка деревянных заполнений проемов оконных с подоконными досками | H28: 100 м2 | I28: =ROUND(28.08/100,9) -> 0.2808 | J28: 0 | O28: =ROUND(CP28,2) -> 496.24 | P28: =ROUND(CQ28*I28,2) -> 0 | Q28: =ROUND(CR28*I28,2) -> 67.94 | R28: =ROUND(CS28*I28,2) -> 29.34 | S28: =ROUND(CT28*I28,2) -> 428.3 | T28: =ROUND(CU28*I28,2) -> 0 | U28: =CV28*I28 -> 52.942032 | V28: =CW28*I28 -> 2.173392 | W28: =ROUND(CX28*I28,2) -> 0 | X28: =ROUND(CY28,2) -> 453.06 | Y28: =ROUND(CZ28,2) -> 274.58 | AA28: 16671550 | AB28: =ROUND((AC28+AD28+AF28),6) -> 1767.24 | AC28: =ROUND((ES28),6) -> 0 | AD28: =ROUND((((ET28)-(EU28))+AE28),6) -> 241.95 | AE28: =ROUND((EU28),6) -> 104.49 | AF28: =ROUND((EV28),6) -> 1525.29 | AG28: =ROUND((AP28),6) -> 0 | AH28: =(EW28) -> 188.54 | AI28: =(EX28) -> 7.74 | AJ28: =ROUND((AS28),6) -> 0 | AK28: 1767.24 | AL28: 0 | AM28: 241.95 | AN28: 104.49 | AO28: 1525.29 | AP28: 0 | AQ28: 188.54 | AR28: 7.74 | AS28: 0 | AT28: 99 | AU28: 60 | AV28: 1 | AW28: 1 | AZ28: 1 | BA28: 1 | BB28: 1 | BC28: 1 | BH28: 0 | BI28: 1 | BJ28: ФЕР-2001, 46-04-012-01, приказ Минстроя России №1039/пр от 30.12.2016г. | BM28: 46001 | BN28: 0 | BP28: 0 | BQ28: 2 | BR28: 0 | BS28: 1 | BT28: 1 | BU28: 1 | BV28: 1 | BW28: 1 | BX28: 1 | BZ28: 110 | CA28: 70 | CF28: 0 | CG28: 0 | CM28: 0 | CO28: 0 | CP28: =(P28+Q28+S28) -> 496.24 | CQ28: =AC28*BC28 -> 0 | CR28: =AD28*BB28 -> 241.95 | CS28: =AE28*BS28 -> 104.49 | CT28: =AF28*BA28 -> 1525.29 | CU28: =AG28 -> 0 | CV28: =AH28 -> 188.54 | CW28: =AI28 -> 7.74 | CX28: =AJ28 -> 0 | CY28: =(((S28+R28)*AT28)/100) -> 453.0636 | CZ28: =(((S28+R28)*AU28)/100) -> 274.584 | DN28: 0 | DO28: 0 | DP28: 1 | DQ28: 1 | DU28: 1005 | DV28: 100 м2 | DW28: 100 м2 | DX28: 100 | EE28: 16510555 | EF28: 2 | EG28: Общестроительные работы | EH28: 0 | EJ28: 1 | EK28: 46001 | EL28: Реконструкция зданий и сооружений | EM28: ФЕР-46 | EQ28: 0 | ER28: 1767.24 | ES28: 0 | ET28: 241.95 | EU28: 104.49 | EV28: 1525.29 | EW28: 188.54 | EX28: 7.74 | EY28: 0 | FQ28: 0 | FR28: =ROUND(IF(AND(BH28=3,BI28=3),P28,0),2) -> 0 | FS28: 0 | FT28: *0,9 | FU28: *0,85 | FX28: 99 | FY28: 59.5 | GD28: 0 | GF28: 1630687704 | GG28: 2 | GH28: 1 | GI28: -2 | GJ28: 0 | GK28: =ROUND(R28*(R12)/100,2) -> 0 | GL28: =ROUND(IF(AND(BH28=3,BI28=3,FS28<>0),P28,0),2) -> 0 | GM28: =ROUND(O28+X28+Y28+GK28,2)+GX28 -> 1223.88 | GN28: =IF(OR(BI28=0,BI28=1),ROUND(O28+X28+Y28+GK28,2),0) -> 1223.88 | GO28: =IF(BI28=2,ROUND(O28+X28+Y28+GK28,2),0) -> 0 | GP28: =IF(BI28=4,ROUND(O28+X28+Y28+GK28,2)+GX28,0) -> 0 | GR28: 0 | GS28: 3 | GT28: 0 | GV28: =ROUND(GT28,6) -> 0 | GW28: 1 | GX28: =ROUND(GV28*GW28*I28,2) -> 0 | HA28: 0 | HB28: 0 | IK28: 0
A29: 17 | B29: 1 | C29: =ROW(SmtRes!A6) -> 6 | D29: =ROW(EtalonRes!A6) -> 6 | E29: 1 | F29: 46-04-012-01 | G29: Разборка деревянных заполнений проемов оконных с подоконными досками | H29: 100 м2 | I29: =ROUND(28.08/100,9) -> 0.2808 | J29: 0 | O29: =ROUND(CP29,2) -> 2972.49 | P29: =ROUND(CQ29*I29,2) -> 0 | Q29: =ROUND(CR29*I29,2) -> 406.96 | R29: =ROUND(CS29*I29,2) -> 175.75 | S29: =ROUND(CT29*I29,2) -> 2565.53 | T29: =ROUND(CU29*I29,2) -> 0 | U29: =CV29*I29 -> 52.942032 | V29: =CW29*I29 -> 2.173392 | W29: =ROUND(CX29*I29,2) -> 0 | X29: =ROUND(CY29,2) -> 2713.87 | Y29: =ROUND(CZ29,2) -> 1644.77 | AA29: 16671551 | AB29: =ROUND((AC29+AD29+AF29),6) -> 1767.24 | AC29: =ROUND((ES29),6) -> 0 | AD29: =ROUND((((ET29)-(EU29))+AE29),6) -> 241.95 | AE29: =ROUND((EU29),6) -> 104.49 | AF29: =ROUND((EV29),6) -> 1525.29 | AG29: =ROUND((AP29),6) -> 0 | AH29: =(EW29) -> 188.54 | AI29: =(EX29) -> 7.74 | AJ29: =ROUND((AS29),6) -> 0 | AK29: 1767.24 | AL29: 0 | AM29: 241.95 | AN29: 104.49 | AO29: 1525.29 | AP29: 0 | AQ29: 188.54 | AR29: 7.74 | AS29: 0 | AT29: 99 | AU29: 60 | AV29: 1 | AW29: 1 | AZ29: 5.99 | BA29: 5.99 | BB29: 5.99 | BC29: 5.99 | BH29: 0 | BI29: 1 | BJ29: ФЕР-2001, 46-04-012-01, приказ Минстроя России №1039/пр от 30.12.2016г. | BM29: 46001 | BN29: 0 | BP29: 0 | BQ29: 2 | BR29: 0 | BS29: 5.99 | BT29: 1 | BU29: 1 | BV29: 1 | BW29: 1 | BX29: 1 | BZ29: 110 | CA29: 70 | CF29: 0 | CG29: 0 | CM29: 0 | CO29: 0 | CP29: =(P29+Q29+S29) -> 2972.49 | CQ29: =AC29*BC29 -> 0 | CR29: =AD29*BB29 -> 1449.2805 | CS29: =AE29*BS29 -> 625.8951 | CT29: =AF29*BA29 -> 9136.4871 | CU29: =AG29 -> 0 | CV29: =AH29 -> 188.54 | CW29: =AI29 -> 7.74 | CX29: =AJ29 -> 0 | CY29: =(((S29+R29)*AT29)/100) -> 2713.8672 | CZ29: =(((S29+R29)*AU29)/100) -> 1644.768 | DN29: 0 | DO29: 0 | DP29: 1 | DQ29: 1 | DU29: 1005 | DV29: 100 м2 | DW29: 100 м2 | DX29: 100 | EE29: 16510555 | EF29: 2 | EG29: Общестроительные работы | EH29: 0 | EJ29: 1 | EK29: 46001 | EL29: Реконструкция зданий и сооружений | EM29: ФЕР-46 | EQ29: 0 | ER29: 1767.24 | ES29: 0 | ET29: 241.95 | EU29: 104.49 | EV29: 1525.29 | EW29: 188.54 | EX29: 7.74 | EY29: 0 | FQ29: 0 | FR29: =ROUND(IF(AND(BH29=3,BI29=3),P29,0),2) -> 0 | FS29: 0 | FT29: *0,9 | FU29: *0,85 | FX29: 99 | FY29: 59.5 | GD29: 0 | GF29: 1630687704 | GG29: 1 | GH29: 1 | GI29: 4 | GJ29: 0 | GK29: =ROUND(R29*(S12)/100,2) -> 0 | GL29: =ROUND(IF(AND(BH29=3,BI29=3,FS29<>0),P29,0),2) -> 0 | GM29: =ROUND(O29+X29+Y29+GK29,2)+GX29 -> 7331.13 | GN29: =IF(OR(BI29=0,BI29=1),ROUND(O29+X29+Y29+GK29,2),0) -> 7331.13 | GO29: =IF(BI29=2,ROUND(O29+X29+Y29+GK29,2),0) -> 0 | GP29: =IF(BI29=4,ROUND(O29+X29+Y29+GK29,2)+GX29,0) -> 0 | GR29: 0 | GS29: 3 | GT29: 0 | GV29: =ROUND(GT29,6) -> 0 | GW29: 1 | GX29: =ROUND(GV29*GW29*I29,2) -> 0 | HA29: 0 | HB29: 0 | IK29: 0
A30: 17 | B30: 1 | C30: =ROW(SmtRes!A9) -> 9 | D30: =ROW(EtalonRes!A9) -> 9 | E30: 2 | F30: 46-04-012-03 | G30: Разборка деревянных заполнений проемов дверных и воротных | H30: 100 м2 | I30: =ROUND(6.08/100,9) -> 0.0608 | J30: 0 | O30: =ROUND(CP30,2) -> 65.82 | P30: =ROUND(CQ30*I30,2) -> 0 | Q30: =ROUND(CR30*I30,2) -> 14.71 | R30: =ROUND(CS30*I30,2) -> 6.35 | S30: =ROUND(CT30*I30,2) -> 51.11 | T30: =ROUND(CU30*I30,2) -> 0 | U30: =CV30*I30 -> 6.317728 | V30: =CW30*I30 -> 0.470592 | W30: =ROUND(CX30*I30,2) -> 0 | X30: =ROUND(CY30,2) -> 56.89 | Y30: =ROUND(CZ30,2) -> 34.48 | AA30: 16671550 | AB30: =ROUND((AC30+AD30+AF30),6) -> 1082.58 | AC30: =ROUND((ES30),6) -> 0 | AD30: =ROUND((((ET30)-(EU30))+AE30),6) -> 241.95 | AE30: =ROUND((EU30),6) -> 104.49 | AF30: =ROUND((EV30),6) -> 840.63 | AG30: =ROUND((AP30),6) -> 0 | AH30: =(EW30) -> 103.91 | AI30: =(EX30) -> 7.74 | AJ30: =ROUND((AS30),6) -> 0 | AK30: 1082.58 | AL30: 0 | AM30: 241.95 | AN30: 104.49 | AO30: 840.63 | AP30: 0 | AQ30: 103.91 | AR30: 7.74 | AS30: 0 | AT30: 99 | AU30: 60 | AV30: 1 | AW30: 1 | AZ30: 1 | BA30: 1 | BB30: 1 | BC30: 1 | BH30: 0 | BI30: 1 | BJ30: ФЕР-2001, 46-04-012-03, приказ Минстроя России №1039/пр от 30.12.2016г. | BM30: 46001 | BN30: 0 | BP30: 0 | BQ30: 2 | BR30: 0 | BS30: 1 | BT30: 1 | BU30: 1 | BV30: 1 | BW30: 1 | BX30: 1 | BZ30: 110 | CA30: 70 | CF30: 0 | CG30: 0 | CM30: 0 | CO30: 0 | CP30: =(P30+Q30+S30) -> 65.82 | CQ30: =AC30*BC30 -> 0 | CR30: =AD30*BB30 -> 241.95 | CS30: =AE30*BS30 -> 104.49 | CT30: =AF30*BA30 -> 840.63 | CU30: =AG30 -> 0 | CV30: =AH30 -> 103.91 | CW30: =AI30 -> 7.74 | CX30: =AJ30 -> 0 | CY30: =(((S30+R30)*AT30)/100) -> 56.8854 | CZ30: =(((S30+R30)*AU30)/100) -> 34.476 | DN30: 0 | DO30: 0 | DP30: 1 | DQ30: 1 | DU30: 1005 | DV30: 100 м2 | DW30: 100 м2 | DX30: 100 | EE30: 16510555 | EF30: 2 | EG30: Общестроительные работы | EH30: 0 | EJ30: 1 | EK30: 46001 | EL30: Реконструкция зданий и сооружений | EM30: ФЕР-46 | EQ30: 0 | ER30: 1082.58 | ES30: 0 | ET30: 241.95 | EU30: 104.49 | EV30: 840.63 | EW30: 103.91 | EX30: 7.74 | EY30: 0 | FQ30: 0 | FR30: =ROUND(IF(AND(BH30=3,BI30=3),P30,0),2) -> 0 | FS30: 0 | FT30: *0,9 | FU30: *0,85 | FX30: 99 | FY30: 59.5 | GD30: 0 | GF30: 309229644 | GG30: 2 | GH30: 1 | GI30: -2 | GJ30: 0 | GK30: =ROUND(R30*(R12)/100,2) -> 0 | GL30: =ROUND(IF(AND(BH30=3,BI30=3,FS30<>0),P30,0),2) -> 0 | GM30: =ROUND(O30+X30+Y30+GK30,2)+GX30 -> 157.19 | GN30: =IF(OR(BI30=0,BI30=1),ROUND(O30+X30+Y30+GK30,2),0) -> 157.19 | GO30: =IF(BI30=2,ROUND(O30+X30+Y30+GK30,2),0) -> 0 | GP30: =IF(BI30=4,ROUND(O30+X30+Y30+GK30,2)+GX30,0) -> 0 | GR30: 0 | GS30: 3 | GT30: 0 | GV30: =ROUND(GT30,6) -> 0 | GW30: 1 | GX30: =ROUND(GV30*GW30*I30,2) -> 0 | HA30: 0 | HB30: 0 | IK30: 0
A31: 17 | B31: 1 | C31: =ROW(SmtRes!A12) -> 12 | D31: =ROW(EtalonRes!A12) -> 12 | E31: 2 | F31: 46-04-012-03 | G31: Разборка деревянных заполнений проемов дверных и воротных | H31: 100 м2 | I31: =ROUND(6.08/100,9) -> 0.0608 | J31: 0 | O31: =ROUND(CP31,2) -> 394.27 | P31: =ROUND(CQ31*I31,2) -> 0 | Q31: =ROUND(CR31*I31,2) -> 88.12 | R31: =ROUND(CS31*I31,2) -> 38.05 | S31: =ROUND(CT31*I31,2) -> 306.15 | T31: =ROUND(CU31*I31,2) -> 0 | U31: =CV31*I31 -> 6.317728 | V31: =CW31*I31 -> 0.470592 | W31: =ROUND(CX31*I31,2) -> 0 | X31: =ROUND(CY31,2) -> 340.76 | Y31: =ROUND(CZ31,2) -> 206.52 | AA31: 16671551 | AB31: =ROUND((AC31+AD31+AF31),6) -> 1082.58 | AC31: =ROUND((ES31),6) -> 0 | AD31: =ROUND((((ET31)-(EU31))+AE31),6) -> 241.95 | AE31: =ROUND((EU31),6) -> 104.49 | AF31: =ROUND((EV31),6) -> 840.63 | AG31: =ROUND((AP31),6) -> 0 | AH31: =(EW31) -> 103.91 | AI31: =(EX31) -> 7.74 | AJ31: =ROUND((AS31),6) -> 0 | AK31: 1082.58 | AL31: 0 | AM31: 241.95 | AN31: 104.49 | AO31: 840.63 | AP31: 0 | AQ31: 103.91 | AR31: 7.74 | AS31: 0 | AT31: 99 | AU31: 60 | AV31: 1 | AW31: 1 | AZ31: 5.99 | BA31: 5.99 | BB31: 5.99 | BC31: 5.99 | BH31: 0 | BI31: 1 | BJ31: ФЕР-2001, 46-04-012-03, приказ Минстроя России №1039/пр от 30.12.2016г. | BM31: 46001 | BN31: 0 | BP31: 0 | BQ31: 2 | BR31: 0 | BS31: 5.99 | BT31: 1 | BU31: 1 | BV31: 1 | BW31: 1 | BX31: 1 | BZ31: 110 | CA31: 70 | CF31: 0 | CG31: 0 | CM31: 0 | CO31: 0 | CP31: =(P31+Q31+S31) -> 394.27 | CQ31: =AC31*BC31 -> 0 | CR31: =AD31*BB31 -> 1449.2805 | CS31: =AE31*BS31 -> 625.8951 | CT31: =AF31*BA31 -> 5035.3737 | CU31: =AG31 -> 0 | CV31: =AH31 -> 103.91 | CW31: =AI31 -> 7.74 | CX31: =AJ31 -> 0 | CY31: =(((S31+R31)*AT31)/100) -> 340.758 | CZ31: =(((S31+R31)*AU31)/100) -> 206.52 | DN31: 0 | DO31: 0 | DP31: 1 | DQ31: 1 | DU31: 1005 | DV31: 100 м2 | DW31: 100 м2 | DX31: 100 | EE31: 16510555 | EF31: 2 | EG31: Общестроительные работы | EH31: 0 | EJ31: 1 | EK31: 46001 | EL31: Реконструкция зданий и сооружений | EM31: ФЕР-46 | EQ31: 0 | ER31: 1082.58 | ES31: 0 | ET31: 241.95 | EU31: 104.49 | EV31: 840.63 | EW31: 103.91 | EX31: 7.74 | EY31: 0 | FQ31: 0 | FR31: =ROUND(IF(AND(BH31=3,BI31=3),P31,0),2) -> 0 | FS31: 0 | FT31: *0,9 | FU31: *0,85 | FX31: 99 | FY31: 59.5 | GD31: 0 | GF31: 309229644 | GG31: 1 | GH31: 1 | GI31: 4 | GJ31: 0 | GK31: =ROUND(R31*(S12)/100,2) -> 0 | GL31: =ROUND(IF(AND(BH31=3,BI31=3,FS31<>0),P31,0),2) -> 0 | GM31: =ROUND(O31+X31+Y31+GK31,2)+GX31 -> 941.55 | GN31: =IF(OR(BI31=0,BI31=1),ROUND(O31+X31+Y31+GK31,2),0) -> 941.55 | GO31: =IF(BI31=2,ROUND(O31+X31+Y31+GK31,2),0) -> 0 | GP31: =IF(BI31=4,ROUND(O31+X31+Y31+GK31,2)+GX31,0) -> 0 | GR31: 0 | GS31: 3 | GT31: 0 | GV31: =ROUND(GT31,6) -> 0 | GW31: 1 | GX31: =ROUND(GV31*GW31*I31,2) -> 0 | HA31: 0 | HB31: 0 | IK31: 0
A32: 17 | B32: 1 | C32: =ROW(SmtRes!A20) -> 20 | D32: =ROW(EtalonRes!A22) -> 22 | E32: 3 | F32: 20-02-002-04 | G32: Демонтаж решеток жалюзийных площадью в свету до 2,5 м2 | H32: ШТ | I32: 18 | J32: 0 | O32: =ROUND(CP32,2) -> 202.03 | P32: =ROUND(CQ32*I32,2) -> 0 | Q32: =ROUND(CR32*I32,2) -> 30.89 | R32: =ROUND(CS32*I32,2) -> 2.66 | S32: =ROUND(CT32*I32,2) -> 171.14 | T32: =ROUND(CU32*I32,2) -> 0 | U32: =CV32*I32 -> 19.08 | V32: =CW32*I32 -> 0.216 | W32: =ROUND(CX32*I32,2) -> 0 | X32: =ROUND(CY32,2) -> 199.87 | Y32: =ROUND(CZ32,2) -> 123.4 | AA32: 16671550 | AB32: =ROUND((AC32+AD32+AF32),6) -> 11.224 | AC32: =ROUND(((ES32*0)),6) -> 0 | AD32: =ROUND(((((ET32*0.4))-((EU32*0.4)))+AE32),6) -> 1.716 | AE32: =ROUND(((EU32*0.4)),6) -> 0.148 | AF32: =ROUND(((EV32*0.4)),6) -> 9.508 | AG32: =ROUND((AP32),6) -> 0 | AH32: =((EW32*0.4)) -> 1.06 | AI32: =((EX32*0.4)) -> 0.012 | AJ32: =ROUND((AS32),6) -> 0 | AK32: 44.01 | AL32: 15.95 | AM32: 4.29 | AN32: 0.37 | AO32: 23.77 | AP32: 0 | AQ32: 2.65 | AR32: 0.03 | AS32: 0 | AT32: 115 | AU32: 71 | AV32: 1 | AW32: 1 | AZ32: 1 | BA32: 1 | BB32: 1 | BC32: 1 | BH32: 0 | BI32: 1 | BJ32: ФЕР-2001, 20-02-002-04, приказ Минстроя России №1039/пр от 30.12.2016г. | BM32: 20001 | BN32: 0 | BP32: 0 | BQ32: 2 | BR32: 0 | BS32: 1 | BT32: 1 | BU32: 1 | BV32: 1 | BW32: 1 | BX32: 1 | BZ32: 128 | CA32: 83 | CF32: 0 | CG32: 0 | CM32: 0 | CN32: Поправка: Табл.2, п.3 Наименование: При демонтаже (разборке) систем инженерно-технического обеспечения | CO32: 0 | CP32: =(P32+Q32+S32) -> 202.03 | CQ32: =AC32*BC32 -> 0 | CR32: =AD32*BB32 -> 1.716 | CS32: =AE32*BS32 -> 0.148 | CT32: =AF32*BA32 -> 9.508 | CU32: =AG32 -> 0 | CV32: =AH32 -> 1.06 | CW32: =AI32 -> 0.012 | CX32: =AJ32 -> 0 | CY32: =(((S32+R32)*AT32)/100) -> 199.87 | CZ32: =(((S32+R32)*AU32)/100) -> 123.398 | DD32: )*0 | DE32: )*0,4 | DF32: )*0,4 | DG32: )*0,4 | DI32: )*0,4 | DJ32: )*0,4 | DN32: 0 | DO32: 0 | DP32: 1 | DQ32: 1 | DU32: 1013 | DV32: ШТ | DW32: ШТ | DX32: 1 | EE32: 16510518 | EF32: 2 | EG32: Общестроительные работы | EH32: 0 | EJ32: 1 | EK32: 20001 | EL32: Вентиляция и кондиционирование | EM32: ФЕР-20 | EO32: Поправка: Табл.2, п.3 | EQ32: 0 | ER32: 44.01 | ES32: 15.95 | ET32: 4.29 | EU32: 0.37 | EV32: 23.77 | EW32: 2.65 | EX32: 0.03 | EY32: 0 | FQ32: 0 | FR32: =ROUND(IF(AND(BH32=3,BI32=3),P32,0),2) -> 0 | FS32: 0 | FT32: *0,9 | FU32: *0,85 | FX32: 115.2 | FY32: 70.55 | GD32: 0 | GF32: 59404244 | GG32: 2 | GH32: 1 | GI32: -2 | GJ32: 0 | GK32: =ROUND(R32*(R12)/100,2) -> 0 | GL32: =ROUND(IF(AND(BH32=3,BI32=3,FS32<>0),P32,0),2) -> 0 | GM32: =ROUND(O32+X32+Y32+GK32,2)+GX32 -> 525.3 | GN32: =IF(OR(BI32=0,BI32=1),ROUND(O32+X32+Y32+GK32,2),0) -> 525.3 | GO32: =IF(BI32=2,ROUND(O32+X32+Y32+GK32,2),0) -> 0 | GP32: =IF(BI32=4,ROUND(O32+X32+Y32+GK32,2)+GX32,0) -> 0 | GR32: 0 | GS32: 3 | GT32: 0 | GV32: =ROUND(GT32,6) -> 0 | GW32: 1 | GX32: =ROUND(GV32*GW32*I32,2) -> 0 | HA32: 0 | HB32: 0 | IK32: 0
A33: 17 | B33: 1 | C33: =ROW(SmtRes!A28) -> 28 | D33: =ROW(EtalonRes!A32) -> 32 | E33: 3 | F33: 20-02-002-04 | G33: Демонтаж решеток жалюзийных площадью в свету до 2,5 м2 | H33: ШТ | I33: 18 | J33: 0 | O33: =ROUND(CP33,2) -> 1210.17 | P33: =ROUND(CQ33*I33,2) -> 0 | Q33: =ROUND(CR33*I33,2) -> 185.02 | R33: =ROUND(CS33*I33,2) -> 15.96 | S33: =ROUND(CT33*I33,2) -> 1025.15 | T33: =ROUND(CU33*I33,2) -> 0 | U33: =CV33*I33 -> 19.08 | V33: =CW33*I33 -> 0.216 | W33: =ROUND(CX33*I33,2) -> 0 | X33: =ROUND(CY33,2) -> 1197.28 | Y33: =ROUND(CZ33,2) -> 739.19 | AA33: 16671551 | AB33: =ROUND((AC33+AD33+AF33),6) -> 11.224 | AC33: =ROUND(((ES33*0)),6) -> 0 | AD33: =ROUND(((((ET33*0.4))-((EU33*0.4)))+AE33),6) -> 1.716 | AE33: =ROUND(((EU33*0.4)),6) -> 0.148 | AF33: =ROUND(((EV33*0.4)),6) -> 9.508 | AG33: =ROUND((AP33),6) -> 0 | AH33: =((EW33*0.4)) -> 1.06 | AI33: =((EX33*0.4)) -> 0.012 | AJ33: =ROUND((AS33),6) -> 0 | AK33: 44.01 | AL33: 15.95 | AM33: 4.29 | AN33: 0.37 | AO33: 23.77 | AP33: 0 | AQ33: 2.65 | AR33: 0.03 | AS33: 0 | AT33: 115 | AU33: 71 | AV33: 1 | AW33: 1 | AZ33: 5.99 | BA33: 5.99 | BB33: 5.99 | BC33: 5.99 | BH33: 0 | BI33: 1 | BJ33: ФЕР-2001, 20-02-002-04, приказ Минстроя России №1039/пр от 30.12.2016г. | BM33: 20001 | BN33: 0 | BP33: 0 | BQ33: 2 | BR33: 0 | BS33: 5.99 | BT33: 1 | BU33: 1 | BV33: 1 | BW33: 1 | BX33: 1 | BZ33: 128 | CA33: 83 | CF33: 0 | CG33: 0 | CM33: 0 | CN33: Поправка: Табл.2, п.3 Наименование: При демонтаже (разборке) систем инженерно-технического обеспечения | CO33: 0 | CP33: =(P33+Q33+S33) -> 1210.17 | CQ33: =AC33*BC33 -> 0 | CR33: =AD33*BB33 -> 10.27884 | CS33: =AE33*BS33 -> 0.88652 | CT33: =AF33*BA33 -> 56.95292 | CU33: =AG33 -> 0 | CV33: =AH33 -> 1.06 | CW33: =AI33 -> 0.012 | CX33: =AJ33 -> 0 | CY33: =(((S33+R33)*AT33)/100) -> 1197.2765 | CZ33: =(((S33+R33)*AU33)/100) -> 739.1881 | DD33: )*0 | DE33: )*0,4 | DF33: )*0,4 | DG33: )*0,4 | DI33: )*0,4 | DJ33: )*0,4 | DN33: 0 | DO33: 0 | DP33: 1 | DQ33: 1 | DU33: 1013 | DV33: ШТ | DW33: ШТ | DX33: 1 | EE33: 16510518 | EF33: 2 | EG33: Общестроительные работы | EH33: 0 | EJ33: 1 | EK33: 20001 | EL33: Вентиляция и кондиционирование | EM33: ФЕР-20 | EO33: Поправка: Табл.2, п.3 | EQ33: 0 | ER33: 44.01 | ES33: 15.95 | ET33: 4.29 | EU33: 0.37 | EV33: 23.77 | EW33: 2.65 | EX33: 0.03 | EY33: 0 | FQ33: 0 | FR33: =ROUND(IF(AND(BH33=3,BI33=3),P33,0),2) -> 0 | FS33: 0 | FT33: *0,9 | FU33: *0,85 | FX33: 115.2 | FY33: 70.55 | GD33: 0 | GF33: 59404244 | GG33: 1 | GH33: 1 | GI33: 4 | GJ33: 0 | GK33: =ROUND(R33*(S12)/100,2) -> 0 | GL33: =ROUND(IF(AND(BH33=3,BI33=3,FS33<>0),P33,0),2) -> 0 | GM33: =ROUND(O33+X33+Y33+GK33,2)+GX33 -> 3146.64 | GN33: =IF(OR(BI33=0,BI33=1),ROUND(O33+X33+Y33+GK33,2),0) -> 3146.64 | GO33: =IF(BI33=2,ROUND(O33+X33+Y33+GK33,2),0) -> 0 | GP33: =IF(BI33=4,ROUND(O33+X33+Y33+GK33,2)+GX33,0) -> 0 | GR33: 0 | GS33: 3 | GT33: 0 | GV33: =ROUND(GT33,6) -> 0 | GW33: 1 | GX33: =ROUND(GV33*GW33*I33,2) -> 0 | HA33: 0 | HB33: 0 | IK33: 0
A34: 17 | B34: 1 | C34: =ROW(SmtRes!A31) -> 31 | D34: =ROW(EtalonRes!A36) -> 36 | E34: 4 | F34: 57-2-2 | G34: Разборка покрытий полов из плиток поливинилхлоридных | H34: 100 м2 | I34: =ROUND(61.73/100,9) -> 0.6173 | J34: 0 | O34: =ROUND(CP34,2) -> 173.39 | P34: =ROUND(CQ34*I34,2) -> 0 | Q34: =ROUND(CR34*I34,2) -> 2.51 | R34: =ROUND(CS34*I34,2) -> 1.09 | S34: =ROUND(CT34*I34,2) -> 170.88 | T34: =ROUND(CU34*I34,2) -> 0 | U34: =CV34*I34 -> 21.907977 | V34: =CW34*I34 -> 0.080249 | W34: =ROUND(CX34*I34,2) -> 0 | X34: =ROUND(CY34,2) -> 137.58 | Y34: =ROUND(CZ34,2) -> 116.94 | AA34: 16671550 | AB34: =ROUND((AC34+AD34+AF34),6) -> 280.88 | AC34: =ROUND((ES34),6) -> 0 | AD34: =ROUND((((ET34)-(EU34))+AE34),6) -> 4.06 | AE34: =ROUND((EU34),6) -> 1.76 | AF34: =ROUND((EV34),6) -> 276.82 | AG34: =ROUND((AP34),6) -> 0 | AH34: =(EW34) -> 35.49 | AI34: =(EX34) -> 0.13 | AJ34: =ROUND((AS34),6) -> 0 | AK34: 280.88 | AL34: 0 | AM34: 4.06 | AN34: 1.76 | AO34: 276.82 | AP34: 0 | AQ34: 35.49 | AR34: 0.13 | AS34: 0 | AT34: 80 | AU34: 68 | AV34: 1 | AW34: 1 | AZ34: 1 | BA34: 1 | BB34: 1 | BC34: 1 | BH34: 0 | BI34: 1 | BJ34: ФЕРр-2001, 57-2-2, приказ Минстроя России №1039/пр от 30.12.2016г. | BM34: 57001 | BN34: 0 | BP34: 0 | BQ34: 6 | BR34: 0 | BS34: 1 | BT34: 1 | BU34: 1 | BV34: 1 | BW34: 1 | BX34: 1 | BZ34: 80 | CA34: 68 | CF34: 0 | CG34: 0 | CM34: 0 | CO34: 0 | CP34: =(P34+Q34+S34) -> 173.39 | CQ34: =AC34*BC34 -> 0 | CR34: =AD34*BB34 -> 4.06 | CS34: =AE34*BS34 -> 1.76 | CT34: =AF34*BA34 -> 276.82 | CU34: =AG34 -> 0 | CV34: =AH34 -> 35.49 | CW34: =AI34 -> 0.13 | CX34: =AJ34 -> 0 | CY34: =(((S34+R34)*AT34)/100) -> 137.576 | CZ34: =(((S34+R34)*AU34)/100) -> 116.9396 | DN34: 0 | DO34: 0 | DP34: 1 | DQ34: 1 | DU34: 1005 | DV34: 100 м2 | DW34: 100 м2 | DX34: 100 | EE34: 16510566 | EF34: 6 | EG34: Ремонтно-строительные работы | EH34: 0 | EJ34: 1 | EK34: 57001 | EL34: Полы | EM34: рФЕР-57 | EQ34: 0 | ER34: 280.88 | ES34: 0 | ET34: 4.06 | EU34: 1.76 | EV34: 276.82 | EW34: 35.49 | EX34: 0.13 | EY34: 0 | FQ34: 0 | FR34: =ROUND(IF(AND(BH34=3,BI34=3),P34,0),2) -> 0 | FS34: 0 | FX34: 80 | FY34: 68 | GD34: 0 | GF34: 1273045449 | GG34: 2 | GH34: 1 | GI34: -2 | GJ34: 0 | GK34: =ROUND(R34*(R12)/100,2) -> 0 | GL34: =ROUND(IF(AND(BH34=3,BI34=3,FS34<>0),P34,0),2) -> 0 | GM34: =ROUND(O34+X34+Y34+GK34,2)+GX34 -> 427.91 | GN34: =IF(OR(BI34=0,BI34=1),ROUND(O34+X34+Y34+GK34,2),0) -> 427.91 | GO34: =IF(BI34=2,ROUND(O34+X34+Y34+GK34,2),0) -> 0 | GP34: =IF(BI34=4,ROUND(O34+X34+Y34+GK34,2)+GX34,0) -> 0 | GR34: 0 | GS34: 3 | GT34: 0 | GV34: =ROUND(GT34,6) -> 0 | GW34: 1 | GX34: =ROUND(GV34*GW34*I34,2) -> 0 | HA34: 0 | HB34: 0 | IK34: 0
A35: 17 | B35: 1 | C35: =ROW(SmtRes!A34) -> 34 | D35: =ROW(EtalonRes!A40) -> 40 | E35: 4 | F35: 57-2-2 | G35: Разборка покрытий полов из плиток поливинилхлоридных | H35: 100 м2 | I35: =ROUND(61.73/100,9) -> 0.6173 | J35: 0 | O35: =ROUND(CP35,2) -> 1038.59 | P35: =ROUND(CQ35*I35,2) -> 0 | Q35: =ROUND(CR35*I35,2) -> 15.01 | R35: =ROUND(CS35*I35,2) -> 6.51 | S35: =ROUND(CT35*I35,2) -> 1023.58 | T35: =ROUND(CU35*I35,2) -> 0 | U35: =CV35*I35 -> 21.907977 | V35: =CW35*I35 -> 0.080249 | W35: =ROUND(CX35*I35,2) -> 0 | X35: =ROUND(CY35,2) -> 824.07 | Y35: =ROUND(CZ35,2) -> 700.46 | AA35: 16671551 | AB35: =ROUND((AC35+AD35+AF35),6) -> 280.88 | AC35: =ROUND((ES35),6) -> 0 | AD35: =ROUND((((ET35)-(EU35))+AE35),6) -> 4.06 | AE35: =ROUND((EU35),6) -> 1.76 | AF35: =ROUND((EV35),6) -> 276.82 | AG35: =ROUND((AP35),6) -> 0 | AH35: =(EW35) -> 35.49 | AI35: =(EX35) -> 0.13 | AJ35: =ROUND((AS35),6) -> 0 | AK35: 280.88 | AL35: 0 | AM35: 4.06 | AN35: 1.76 | AO35: 276.82 | AP35: 0 | AQ35: 35.49 | AR35: 0.13 | AS35: 0 | AT35: 80 | AU35: 68 | AV35: 1 | AW35: 1 | AZ35: 5.99 | BA35: 5.99 | BB35: 5.99 | BC35: 5.99 | BH35: 0 | BI35: 1 | BJ35: ФЕРр-2001, 57-2-2, приказ Минстроя России №1039/пр от 30.12.2016г. | BM35: 57001 | BN35: 0 | BP35: 0 | BQ35: 6 | BR35: 0 | BS35: 5.99 | BT35: 1 | BU35: 1 | BV35: 1 | BW35: 1 | BX35: 1 | BZ35: 80 | CA35: 68 | CF35: 0 | CG35: 0 | CM35: 0 | CO35: 0 | CP35: =(P35+Q35+S35) -> 1038.59 | CQ35: =AC35*BC35 -> 0 | CR35: =AD35*BB35 -> 24.3194 | CS35: =AE35*BS35 -> 10.5424 | CT35: =AF35*BA35 -> 1658.1518 | CU35: =AG35 -> 0 | CV35: =AH35 -> 35.49 | CW35: =AI35 -> 0.13 | CX35: =AJ35 -> 0 | CY35: =(((S35+R35)*AT35)/100) -> 824.072 | CZ35: =(((S35+R35)*AU35)/100) -> 700.4612 | DN35: 0 | DO35: 0 | DP35: 1 | DQ35: 1 | DU35: 1005 | DV35: 100 м2 | DW35: 100 м2 | DX35: 100 | EE35: 16510566 | EF35: 6 | EG35: Ремонтно-строительные работы | EH35: 0 | EJ35: 1 | EK35: 57001 | EL35: Полы | EM35: рФЕР-57 | EQ35: 0 | ER35: 280.88 | ES35: 0 | ET35: 4.06 | EU35: 1.76 | EV35: 276.82 | EW35: 35.49 | EX35: 0.13 | EY35: 0 | FQ35: 0 | FR35: =ROUND(IF(AND(BH35=3,BI35=3),P35,0),2) -> 0 | FS35: 0 | FX35: 80 | FY35: 68 | GD35: 0 | GF35: 1273045449 | GG35: 1 | GH35: 1 | GI35: 4 | GJ35: 0 | GK35: =ROUND(R35*(S12)/100,2) -> 0 | GL35: =ROUND(IF(AND(BH35=3,BI35=3,FS35<>0),P35,0),2) -> 0 | GM35: =ROUND(O35+X35+Y35+GK35,2)+GX35 -> 2563.12 | GN35: =IF(OR(BI35=0,BI35=1),ROUND(O35+X35+Y35+GK35,2),0) -> 2563.12 | GO35: =IF(BI35=2,ROUND(O35+X35+Y35+GK35,2),0) -> 0 | GP35: =IF(BI35=4,ROUND(O35+X35+Y35+GK35,2)+GX35,0) -> 0 | GR35: 0 | GS35: 3 | GT35: 0 | GV35: =ROUND(GT35,6) -> 0 | GW35: 1 | GX35: =ROUND(GV35*GW35*I35,2) -> 0 | HA35: 0 | HB35: 0 | IK35: 0
A36: 17 | B36: 1 | C36: =ROW(SmtRes!A37) -> 37 | D36: =ROW(EtalonRes!A44) -> 44 | E36: 5 | F36: 57-2-3 | G36: Разборка покрытий полов из керамических плиток | H36: 100 м2 | I36: =ROUND(135.85/100,9) -> 1.3585 | J36: 0 | O36: =ROUND(CP36,2) -> 870.8 | P36: =ROUND(CQ36*I36,2) -> 0 | Q36: =ROUND(CR36*I36,2) -> 61.15 | R36: =ROUND(CS36*I36,2) -> 26.41 | S36: =ROUND(CT36*I36,2) -> 809.65 | T36: =ROUND(CU36*I36,2) -> 0 | U36: =CV36*I36 -> 94.918395 | V36: =CW36*I36 -> 1.95624 | W36: =ROUND(CX36*I36,2) -> 0 | X36: =ROUND(CY36,2) -> 668.85 | Y36: =ROUND(CZ36,2) -> 568.52 | AA36: 16671550 | AB36: =ROUND((AC36+AD36+AF36),6) -> 641 | AC36: =ROUND((ES36),6) -> 0 | AD36: =ROUND((((ET36)-(EU36))+AE36),6) -> 45.01 | AE36: =ROUND((EU36),6) -> 19.44 | AF36: =ROUND((EV36),6) -> 595.99 | AG36: =ROUND((AP36),6) -> 0 | AH36: =(EW36) -> 69.87 | AI36: =(EX36) -> 1.44 | AJ36: =ROUND((AS36),6) -> 0 | AK36: 641 | AL36: 0 | AM36: 45.01 | AN36: 19.44 | AO36: 595.99 | AP36: 0 | AQ36: 69.87 | AR36: 1.44 | AS36: 0 | AT36: 80 | AU36: 68 | AV36: 1 | AW36: 1 | AZ36: 1 | BA36: 1 | BB36: 1 | BC36: 1 | BH36: 0 | BI36: 1 | BJ36: ФЕРр-2001, 57-2-3, приказ Минстроя России №1039/пр от 30.12.2016г. | BM36: 57001 | BN36: 0 | BP36: 0 | BQ36: 6 | BR36: 0 | BS36: 1 | BT36: 1 | BU36: 1 | BV36: 1 | BW36: 1 | BX36: 1 | BZ36: 80 | CA36: 68 | CF36: 0 | CG36: 0 | CM36: 0 | CO36: 0 | CP36: =(P36+Q36+S36) -> 870.8 | CQ36: =AC36*BC36 -> 0 | CR36: =AD36*BB36 -> 45.01 | CS36: =AE36*BS36 -> 19.44 | CT36: =AF36*BA36 -> 595.99 | CU36: =AG36 -> 0 | CV36: =AH36 -> 69.87 | CW36: =AI36 -> 1.44 | CX36: =AJ36 -> 0 | CY36: =(((S36+R36)*AT36)/100) -> 668.848 | CZ36: =(((S36+R36)*AU36)/100) -> 568.5208 | DN36: 0 | DO36: 0 | DP36: 1 | DQ36: 1 | DU36: 1005 | DV36: 100 м2 | DW36: 100 м2 | DX36: 100 | EE36: 16510566 | EF36: 6 | EG36: Ремонтно-строительные работы | EH36: 0 | EJ36: 1 | EK36: 57001 | EL36: Полы | EM36: рФЕР-57 | EQ36: 0 | ER36: 641 | ES36: 0 | ET36: 45.01 | EU36: 19.44 | EV36: 595.99 | EW36: 69.87 | EX36: 1.44 | EY36: 0 | FQ36: 0 | FR36: =ROUND(IF(AND(BH36=3,BI36=3),P36,0),2) -> 0 | FS36: 0 | FX36: 80 | FY36: 68 | GD36: 0 | GF36: -1405612292 | GG36: 2 | GH36: 1 | GI36: -2 | GJ36: 0 | GK36: =ROUND(R36*(R12)/100,2) -> 0 | GL36: =ROUND(IF(AND(BH36=3,BI36=3,FS36<>0),P36,0),2) -> 0 | GM36: =ROUND(O36+X36+Y36+GK36,2)+GX36 -> 2108.17 | GN36: =IF(OR(BI36=0,BI36=1),ROUND(O36+X36+Y36+GK36,2),0) -> 2108.17 | GO36: =IF(BI36=2,ROUND(O36+X36+Y36+GK36,2),0) -> 0 | GP36: =IF(BI36=4,ROUND(O36+X36+Y36+GK36,2)+GX36,0) -> 0 | GR36: 0 | GS36: 3 | GT36: 0 | GV36: =ROUND(GT36,6) -> 0 | GW36: 1 | GX36: =ROUND(GV36*GW36*I36,2) -> 0 | HA36: 0 | HB36: 0 | IK36: 0
A37: 17 | B37: 1 | C37: =ROW(SmtRes!A40) -> 40 | D37: =ROW(EtalonRes!A48) -> 48 | E37: 5 | F37: 57-2-3 | G37: Разборка покрытий полов из керамических плиток | H37: 100 м2 | I37: =ROUND(135.85/100,9) -> 1.3585 | J37: 0 | O37: =ROUND(CP37,2) -> 5216.09 | P37: =ROUND(CQ37*I37,2) -> 0 | Q37: =ROUND(CR37*I37,2) -> 366.27 | R37: =ROUND(CS37*I37,2) -> 158.19 | S37: =ROUND(CT37*I37,2) -> 4849.82 | T37: =ROUND(CU37*I37,2) -> 0 | U37: =CV37*I37 -> 94.918395 | V37: =CW37*I37 -> 1.95624 | W37: =ROUND(CX37*I37,2) -> 0 | X37: =ROUND(CY37,2) -> 4006.41 | Y37: =ROUND(CZ37,2) -> 3405.45 | AA37: 16671551 | AB37: =ROUND((AC37+AD37+AF37),6) -> 641 | AC37: =ROUND((ES37),6) -> 0 | AD37: =ROUND((((ET37)-(EU37))+AE37),6) -> 45.01 | AE37: =ROUND((EU37),6) -> 19.44 | AF37: =ROUND((EV37),6) -> 595.99 | AG37: =ROUND((AP37),6) -> 0 | AH37: =(EW37) -> 69.87 | AI37: =(EX37) -> 1.44 | AJ37: =ROUND((AS37),6) -> 0 | AK37: 641 | AL37: 0 | AM37: 45.01 | AN37: 19.44 | AO37: 595.99 | AP37: 0 | AQ37: 69.87 | AR37: 1.44 | AS37: 0 | AT37: 80 | AU37: 68 | AV37: 1 | AW37: 1 | AZ37: 5.99 | BA37: 5.99 | BB37: 5.99 | BC37: 5.99 | BH37: 0 | BI37: 1 | BJ37: ФЕРр-2001, 57-2-3, приказ Минстроя России №1039/пр от 30.12.2016г. | BM37: 57001 | BN37: 0 | BP37: 0 | BQ37: 6 | BR37: 0 | BS37: 5.99 | BT37: 1 | BU37: 1 | BV37: 1 | BW37: 1 | BX37: 1 | BZ37: 80 | CA37: 68 | CF37: 0 | CG37: 0 | CM37: 0 | CO37: 0 | CP37: =(P37+Q37+S37) -> 5216.09 | CQ37: =AC37*BC37 -> 0 | CR37: =AD37*BB37 -> 269.6099 | CS37: =AE37*BS37 -> 116.4456 | CT37: =AF37*BA37 -> 3569.9801 | CU37: =AG37 -> 0 | CV37: =AH37 -> 69.87 | CW37: =AI37 -> 1.44 | CX37: =AJ37 -> 0 | CY37: =(((S37+R37)*AT37)/100) -> 4006.408 | CZ37: =(((S37+R37)*AU37)/100) -> 3405.4468 | DN37: 0 | DO37: 0 | DP37: 1 | DQ37: 1 | DU37: 1005 | DV37: 100 м2 | DW37: 100 м2 | DX37: 100 | EE37: 16510566 | EF37: 6 | EG37: Ремонтно-строительные работы | EH37: 0 | EJ37: 1 | EK37: 57001 | EL37: Полы | EM37: рФЕР-57 | EQ37: 0 | ER37: 641 | ES37: 0 | ET37: 45.01 | EU37: 19.44 | EV37: 595.99 | EW37: 69.87 | EX37: 1.44 | EY37: 0 | FQ37: 0 | FR37: =ROUND(IF(AND(BH37=3,BI37=3),P37,0),2) -> 0 | FS37: 0 | FX37: 80 | FY37: 68 | GD37: 0 | GF37: -1405612292 | GG37: 1 | GH37: 1 | GI37: 4 | GJ37: 0 | GK37: =ROUND(R37*(S12)/100,2) -> 0 | GL37: =ROUND(IF(AND(BH37=3,BI37=3,FS37<>0),P37,0),2) -> 0 | GM37: =ROUND(O37+X37+Y37+GK37,2)+GX37 -> 12627.95 | GN37: =IF(OR(BI37=0,BI37=1),ROUND(O37+X37+Y37+GK37,2),0) -> 12627.95 | GO37: =IF(BI37=2,ROUND(O37+X37+Y37+GK37,2),0) -> 0 | GP37: =IF(BI37=4,ROUND(O37+X37+Y37+GK37,2)+GX37,0) -> 0 | GR37: 0 | GS37: 3 | GT37: 0 | GV37: =ROUND(GT37,6) -> 0 | GW37: 1 | GX37: =ROUND(GV37*GW37*I37,2) -> 0 | HA37: 0 | HB37: 0 | IK37: 0
A38: 17 | B38: 1 | C38: =ROW(SmtRes!A43) -> 43 | D38: =ROW(EtalonRes!A52) -> 52 | E38: 6 | F38: 55-5-1 | G38: Разборка кирпичных перегородок на отдельные кирпичи | H38: 100 м2 | I38: =ROUND(7.34/100,9) -> 0.0734 | J38: 0 | O38: =ROUND(CP38,2) -> 105.95 | P38: =ROUND(CQ38*I38,2) -> 0 | Q38: =ROUND(CR38*I38,2) -> 17.54 | R38: =ROUND(CS38*I38,2) -> 0 | S38: =ROUND(CT38*I38,2) -> 88.41 | T38: =ROUND(CU38*I38,2) -> 0 | U38: =CV38*I38 -> 10.36408 | V38: =CW38*I38 -> 0 | W38: =ROUND(CX38*I38,2) -> 0 | X38: =ROUND(CY38,2) -> 78.68 | Y38: =ROUND(CZ38,2) -> 57.47 | AA38: 16671550 | AB38: =ROUND((AC38+AD38+AF38),6) -> 1443.4 | AC38: =ROUND((ES38),6) -> 0 | AD38: =ROUND((((ET38)-(EU38))+AE38),6) -> 238.96 | AE38: =ROUND((EU38),6) -> 0 | AF38: =ROUND((EV38),6) -> 1204.44 | AG38: =ROUND((AP38),6) -> 0 | AH38: =(EW38) -> 141.2 | AI38: =(EX38) -> 0 | AJ38: =ROUND((AS38),6) -> 0 | AK38: 1443.4 | AL38: 0 | AM38: 238.96 | AN38: 0 | AO38: 1204.44 | AP38: 0 | AQ38: 141.2 | AR38: 0 | AS38: 0 | AT38: 89 | AU38: 65 | AV38: 1 | AW38: 1 | AZ38: 1 | BA38: 1 | BB38: 1 | BC38: 1 | BH38: 0 | BI38: 1 | BJ38: ФЕРр-2001, 55-5-1, приказ Минстроя России №1039/пр от 30.12.2016г. | BM38: 55001 | BN38: 0 | BP38: 0 | BQ38: 6 | BR38: 0 | BS38: 1 | BT38: 1 | BU38: 1 | BV38: 1 | BW38: 1 | BX38: 1 | BZ38: 89 | CA38: 65 | CF38: 0 | CG38: 0 | CM38: 0 | CO38: 0 | CP38: =(P38+Q38+S38) -> 105.95 | CQ38: =AC38*BC38 -> 0 | CR38: =AD38*BB38 -> 238.96 | CS38: =AE38*BS38 -> 0 | CT38: =AF38*BA38 -> 1204.44 | CU38: =AG38 -> 0 | CV38: =AH38 -> 141.2 | CW38: =AI38 -> 0 | CX38: =AJ38 -> 0 | CY38: =(((S38+R38)*AT38)/100) -> 78.6849 | CZ38: =(((S38+R38)*AU38)/100) -> 57.4665 | DN38: 0 | DO38: 0 | DP38: 1 | DQ38: 1 | DU38: 1005 | DV38: 100 м2 | DW38: 100 м2 | DX38: 100 | EE38: 16510564 | EF38: 6 | EG38: Ремонтно-строительные работы | EH38: 0 | EJ38: 1 | EK38: 55001 | EL38: Перегородки | EM38: рФЕР-55 | EQ38: 0 | ER38: 1443.4 | ES38: 0 | ET38: 238.96 | EU38: 0 | EV38: 1204.44 | EW38: 141.2 | EX38: 0 | EY38: 0 | FQ38: 0 | FR38: =ROUND(IF(AND(BH38=3,BI38=3),P38,0),2) -> 0 | FS38: 0 | FX38: 89 | FY38: 65 | GD38: 0 | GF38: -1515074980 | GG38: 2 | GH38: 1 | GI38: -2 | GJ38: 0 | GK38: =ROUND(R38*(R12)/100,2) -> 0 | GL38: =ROUND(IF(AND(BH38=3,BI38=3,FS38<>0),P38,0),2) -> 0 | GM38: =ROUND(O38+X38+Y38+GK38,2)+GX38 -> 242.1 | GN38: =IF(OR(BI38=0,BI38=1),ROUND(O38+X38+Y38+GK38,2),0) -> 242.1 | GO38: =IF(BI38=2,ROUND(O38+X38+Y38+GK38,2),0) -> 0 | GP38: =IF(BI38=4,ROUND(O38+X38+Y38+GK38,2)+GX38,0) -> 0 | GR38: 0 | GS38: 3 | GT38: 0 | GV38: =ROUND(GT38,6) -> 0 | GW38: 1 | GX38: =ROUND(GV38*GW38*I38,2) -> 0 | HA38: 0 | HB38: 0 | IK38: 0
A39: 17 | B39: 1 | C39: =ROW(SmtRes!A46) -> 46 | D39: =ROW(EtalonRes!A56) -> 56 | E39: 6 | F39: 55-5-1 | G39: Разборка кирпичных перегородок на отдельные кирпичи | H39: 100 м2 | I39: =ROUND(7.34/100,9) -> 0.0734 | J39: 0 | O39: =ROUND(CP39,2) -> 634.61 | P39: =ROUND(CQ39*I39,2) -> 0 | Q39: =ROUND(CR39*I39,2) -> 105.06 | R39: =ROUND(CS39*I39,2) -> 0 | S39: =ROUND(CT39*I39,2) -> 529.55 | T39: =ROUND(CU39*I39,2) -> 0 | U39: =CV39*I39 -> 10.36408 | V39: =CW39*I39 -> 0 | W39: =ROUND(CX39*I39,2) -> 0 | X39: =ROUND(CY39,2) -> 471.3 | Y39: =ROUND(CZ39,2) -> 344.21 | AA39: 16671551 | AB39: =ROUND((AC39+AD39+AF39),6) -> 1443.4 | AC39: =ROUND((ES39),6) -> 0 | AD39: =ROUND((((ET39)-(EU39))+AE39),6) -> 238.96 | AE39: =ROUND((EU39),6) -> 0 | AF39: =ROUND((EV39),6) -> 1204.44 | AG39: =ROUND((AP39),6) -> 0 | AH39: =(EW39) -> 141.2 | AI39: =(EX39) -> 0 | AJ39: =ROUND((AS39),6) -> 0 | AK39: 1443.4 | AL39: 0 | AM39: 238.96 | AN39: 0 | AO39: 1204.44 | AP39: 0 | AQ39: 141.2 | AR39: 0 | AS39: 0 | AT39: 89 | AU39: 65 | AV39: 1 | AW39: 1 | AZ39: 5.99 | BA39: 5.99 | BB39: 5.99 | BC39: 5.99 | BH39: 0 | BI39: 1 | BJ39: ФЕРр-2001, 55-5-1, приказ Минстроя России №1039/пр от 30.12.2016г. | BM39: 55001 | BN39: 0 | BP39: 0 | BQ39: 6 | BR39: 0 | BS39: 5.99 | BT39: 1 | BU39: 1 | BV39: 1 | BW39: 1 | BX39: 1 | BZ39: 89 | CA39: 65 | CF39: 0 | CG39: 0 | CM39: 0 | CO39: 0 | CP39: =(P39+Q39+S39) -> 634.61 | CQ39: =AC39*BC39 -> 0 | CR39: =AD39*BB39 -> 1431.3704 | CS39: =AE39*BS39 -> 0 | CT39: =AF39*BA39 -> 7214.5956 | CU39: =AG39 -> 0 | CV39: =AH39 -> 141.2 | CW39: =AI39 -> 0 | CX39: =AJ39 -> 0 | CY39: =(((S39+R39)*AT39)/100) -> 471.2995 | CZ39: =(((S39+R39)*AU39)/100) -> 344.2075 | DN39: 0 | DO39: 0 | DP39: 1 | DQ39: 1 | DU39: 1005 | DV39: 100 м2 | DW39: 100 м2 | DX39: 100 | EE39: 16510564 | EF39: 6 | EG39: Ремонтно-строительные работы | EH39: 0 | EJ39: 1 | EK39: 55001 | EL39: Перегородки | EM39: рФЕР-55 | EQ39: 0 | ER39: 1443.4 | ES39: 0 | ET39: 238.96 | EU39: 0 | EV39: 1204.44 | EW39: 141.2 | EX39: 0 | EY39: 0 | FQ39: 0 | FR39: =ROUND(IF(AND(BH39=3,BI39=3),P39,0),2) -> 0 | FS39: 0 | FX39: 89 | FY39: 65 | GD39: 0 | GF39: -1515074980 | GG39: 1 | GH39: 1 | GI39: 4 | GJ39: 0 | GK39: =ROUND(R39*(S12)/100,2) -> 0 | GL39: =ROUND(IF(AND(BH39=3,BI39=3,FS39<>0),P39,0),2) -> 0 | GM39: =ROUND(O39+X39+Y39+GK39,2)+GX39 -> 1450.12 | GN39: =IF(OR(BI39=0,BI39=1),ROUND(O39+X39+Y39+GK39,2),0) -> 1450.12 | GO39: =IF(BI39=2,ROUND(O39+X39+Y39+GK39,2),0) -> 0 | GP39: =IF(BI39=4,ROUND(O39+X39+Y39+GK39,2)+GX39,0) -> 0 | GR39: 0 | GS39: 3 | GT39: 0 | GV39: =ROUND(GT39,6) -> 0 | GW39: 1 | GX39: =ROUND(GV39*GW39*I39,2) -> 0 | HA39: 0 | HB39: 0 | IK39: 0
A40: 17 | B40: 1 | C40: =ROW(SmtRes!A55) -> 55 | D40: =ROW(EtalonRes!A67) -> 67 | E40: 7 | F40: 15-01-049-03 | G40: Демонтаж: Облицовка стен по готовому каркасу щитами-картинами из древесностружечных плит облицованных слоистым пластиком | H40: 100 м2 | I40: =ROUND(194.63/100,9) -> 1.9463 | J40: 0 | O40: =ROUND(CP40,2) -> 4715.46 | P40: =ROUND(CQ40*I40,2) -> 0 | Q40: =ROUND(CR40*I40,2) -> 154.77 | R40: =ROUND(CS40*I40,2) -> 31.05 | S40: =ROUND(CT40*I40,2) -> 4560.69 | T40: =ROUND(CU40*I40,2) -> 0 | U40: =CV40*I40 -> 479.56832 | V40: =CW40*I40 -> 2.6002568 | W40: =ROUND(CX40*I40,2) -> 0 | X40: =ROUND(CY40,2) -> 4362.15 | Y40: =ROUND(CZ40,2) -> 2158.12 | AA40: 16671550 | AB40: =ROUND((AC40+AD40+AF40),6) -> 2422.784 | AC40: =ROUND(((ES40*0)),6) -> 0 | AD40: =ROUND(((((ET40*0.8))-((EU40*0.8)))+AE40),6) -> 79.52 | AE40: =ROUND(((EU40*0.8)),6) -> 15.952 | AF40: =ROUND(((EV40*0.8)),6) -> 2343.264 | AG40: =ROUND((AP40),6) -> 0 | AH40: =((EW40*0.8)) -> 246.4 | AI40: =((EX40*0.8)) -> 1.336 | AJ40: =ROUND((AS40),6) -> 0 | AK40: 4542.95 | AL40: 1514.47 | AM40: 99.4 | AN40: 19.94 | AO40: 2929.08 | AP40: 0 | AQ40: 308 | AR40: 1.67 | AS40: 0 | AT40: 95 | AU40: 47 | AV40: 1 | AW40: 1 | AZ40: 1 | BA40: 1 | BB40: 1 | BC40: 1 | BH40: 0 | BI40: 1 | BJ40: ФЕР-2001, 15-01-049-03, приказ Минстроя России №1039/пр от 30.12.2016г. | BM40: 15001 | BN40: 0 | BP40: 0 | BQ40: 2 | BR40: 0 | BS40: 1 | BT40: 1 | BU40: 1 | BV40: 1 | BW40: 1 | BX40: 1 | BZ40: 105 | CA40: 55 | CF40: 0 | CG40: 0 | CM40: 0 | CN40: Поправка: Табл.2, п.2 Наименование: При демонтаже (разборке) сборных деревянных конструкций | CO40: 0 | CP40: =(P40+Q40+S40) -> 4715.46 | CQ40: =AC40*BC40 -> 0 | CR40: =AD40*BB40 -> 79.52 | CS40: =AE40*BS40 -> 15.952 | CT40: =AF40*BA40 -> 2343.264 | CU40: =AG40 -> 0 | CV40: =AH40 -> 246.4 | CW40: =AI40 -> 1.336 | CX40: =AJ40 -> 0 | CY40: =(((S40+R40)*AT40)/100) -> 4362.153 | CZ40: =(((S40+R40)*AU40)/100) -> 2158.1178 | DD40: )*0 | DE40: )*0,8 | DF40: )*0,8 | DG40: )*0,8 | DI40: )*0,8 | DJ40: )*0,8 | DN40: 0 | DO40: 0 | DP40: 1 | DQ40: 1 | DU40: 1005 | DV40: 100 м2 | DW40: 100 м2 | DX40: 100 | EE40: 16510513 | EF40: 2 | EG40: Общестроительные работы | EH40: 0 | EJ40: 1 | EK40: 15001 | EL40: Отделочные работы | EM40: ФЕР-15 | EO40: Поправка: Табл.2, п.2 | EQ40: 0 | ER40: 4542.95 | ES40: 1514.47 | ET40: 99.4 | EU40: 19.94 | EV40: 2929.08 | EW40: 308 | EX40: 1.67 | EY40: 0 | FQ40: 0 | FR40: =ROUND(IF(AND(BH40=3,BI40=3),P40,0),2) -> 0 | FS40: 0 | FT40: *0,9 | FU40: *0,85 | FX40: 94.5 | FY40: 46.75 | GD40: 0 | GF40: -1582767977 | GG40: 2 | GH40: 1 | GI40: -2 | GJ40: 0 | GK40: =ROUND(R40*(R12)/100,2) -> 0 | GL40: =ROUND(IF(AND(BH40=3,BI40=3,FS40<>0),P40,0),2) -> 0 | GM40: =ROUND(O40+X40+Y40+GK40,2)+GX40 -> 11235.73 | GN40: =IF(OR(BI40=0,BI40=1),ROUND(O40+X40+Y40+GK40,2),0) -> 11235.73 | GO40: =IF(BI40=2,ROUND(O40+X40+Y40+GK40,2),0) -> 0 | GP40: =IF(BI40=4,ROUND(O40+X40+Y40+GK40,2)+GX40,0) -> 0 | GR40: 0 | GS40: 3 | GT40: 0 | GV40: =ROUND(GT40,6) -> 0 | GW40: 1 | GX40: =ROUND(GV40*GW40*I40,2) -> 0 | HA40: 0 | HB40: 0 | IK40: 0
A41: 17 | B41: 1 | C41: =ROW(SmtRes!A64) -> 64 | D41: =ROW(EtalonRes!A78) -> 78 | E41: 7 | F41: 15-01-049-03 | G41: Демонтаж: Облицовка стен по готовому каркасу щитами-картинами из древесностружечных плит облицованных слоистым пластиком | H41: 100 м2 | I41: =ROUND(194.63/100,9) -> 1.9463 | J41: 0 | O41: =ROUND(CP41,2) -> 28245.63 | P41: =ROUND(CQ41*I41,2) -> 0 | Q41: =ROUND(CR41*I41,2) -> 927.07 | R41: =ROUND(CS41*I41,2) -> 185.97 | S41: =ROUND(CT41*I41,2) -> 27318.56 | T41: =ROUND(CU41*I41,2) -> 0 | U41: =CV41*I41 -> 479.56832 | V41: =CW41*I41 -> 2.6002568 | W41: =ROUND(CX41*I41,2) -> 0 | X41: =ROUND(CY41,2) -> 26129.3 | Y41: =ROUND(CZ41,2) -> 12927.13 | AA41: 16671551 | AB41: =ROUND((AC41+AD41+AF41),6) -> 2422.784 | AC41: =ROUND(((ES41*0)),6) -> 0 | AD41: =ROUND(((((ET41*0.8))-((EU41*0.8)))+AE41),6) -> 79.52 | AE41: =ROUND(((EU41*0.8)),6) -> 15.952 | AF41: =ROUND(((EV41*0.8)),6) -> 2343.264 | AG41: =ROUND((AP41),6) -> 0 | AH41: =((EW41*0.8)) -> 246.4 | AI41: =((EX41*0.8)) -> 1.336 | AJ41: =ROUND((AS41),6) -> 0 | AK41: 4542.95 | AL41: 1514.47 | AM41: 99.4 | AN41: 19.94 | AO41: 2929.08 | AP41: 0 | AQ41: 308 | AR41: 1.67 | AS41: 0 | AT41: 95 | AU41: 47 | AV41: 1 | AW41: 1 | AZ41: 5.99 | BA41: 5.99 | BB41: 5.99 | BC41: 5.99 | BH41: 0 | BI41: 1 | BJ41: ФЕР-2001, 15-01-049-03, приказ Минстроя России №1039/пр от 30.12.2016г. | BM41: 15001 | BN41: 0 | BP41: 0 | BQ41: 2 | BR41: 0 | BS41: 5.99 | BT41: 1 | BU41: 1 | BV41: 1 | BW41: 1 | BX41: 1 | BZ41: 105 | CA41: 55 | CF41: 0 | CG41: 0 | CM41: 0 | CN41: Поправка: Табл.2, п.2 Наименование: При демонтаже (разборке) сборных деревянных конструкций | CO41: 0 | CP41: =(P41+Q41+S41) -> 28245.63 | CQ41: =AC41*BC41 -> 0 | CR41: =AD41*BB41 -> 476.3248 | CS41: =AE41*BS41 -> 95.55248 | CT41: =AF41*BA41 -> 14036.151 | CU41: =AG41 -> 0 | CV41: =AH41 -> 246.4 | CW41: =AI41 -> 1.336 | CX41: =AJ41 -> 0 | CY41: =(((S41+R41)*AT41)/100) -> 26129.304 | CZ41: =(((S41+R41)*AU41)/100) -> 12927.129 | DD41: )*0 | DE41: )*0,8 | DF41: )*0,8 | DG41: )*0,8 | DI41: )*0,8 | DJ41: )*0,8 | DN41: 0 | DO41: 0 | DP41: 1 | DQ41: 1 | DU41: 1005 | DV41: 100 м2 | DW41: 100 м2 | DX41: 100 | EE41: 16510513 | EF41: 2 | EG41: Общестроительные работы | EH41: 0 | EJ41: 1 | EK41: 15001 | EL41: Отделочные работы | EM41: ФЕР-15 | EO41: Поправка: Табл.2, п.2 | EQ41: 0 | ER41: 4542.95 | ES41: 1514.47 | ET41: 99.4 | EU41: 19.94 | EV41: 2929.08 | EW41: 308 | EX41: 1.67 | EY41: 0 | FQ41: 0 | FR41: =ROUND(IF(AND(BH41=3,BI41=3),P41,0),2) -> 0 | FS41: 0 | FT41: *0,9 | FU41: *0,85 | FX41: 94.5 | FY41: 46.75 | GD41: 0 | GF41: -1582767977 | GG41: 1 | GH41: 1 | GI41: 4 | GJ41: 0 | GK41: =ROUND(R41*(S12)/100,2) -> 0 | GL41: =ROUND(IF(AND(BH41=3,BI41=3,FS41<>0),P41,0),2) -> 0 | GM41: =ROUND(O41+X41+Y41+GK41,2)+GX41 -> 67302.06 | GN41: =IF(OR(BI41=0,BI41=1),ROUND(O41+X41+Y41+GK41,2),0) -> 67302.06 | GO41: =IF(BI41=2,ROUND(O41+X41+Y41+GK41,2),0) -> 0 | GP41: =IF(BI41=4,ROUND(O41+X41+Y41+GK41,2)+GX41,0) -> 0 | GR41: 0 | GS41: 3 | GT41: 0 | GV41: =ROUND(GT41,6) -> 0 | GW41: 1 | GX41: =ROUND(GV41*GW41*I41,2) -> 0 | HA41: 0 | HB41: 0 | IK41: 0
A42: 17 | B42: 1 | C42: =ROW(SmtRes!A75) -> 75 | D42: =ROW(EtalonRes!A89) -> 89 | E42: 8 | F42: 10-01-047-01 | G42: Установка блоков из ПВХ в наружных и внутренних дверных проемах в каменных стенах площадью проема до 3 м2 | H42: 100 м2 | I42: =ROUND(2.6/100,9) -> 0.026 | J42: 0 | O42: =ROUND(CP42,2) -> 423.8 | P42: =ROUND(CQ42*I42,2) -> 361.86 | Q42: =ROUND(CR42*I42,2) -> 8.69 | R42: =ROUND(CS42*I42,2) -> 1.81 | S42: =ROUND(CT42*I42,2) -> 53.25 | T42: =ROUND(CU42*I42,2) -> 0 | U42: =CV42*I42 -> 6.0099 | V42: =CW42*I42 -> 0.15015 | W42: =ROUND(CX42*I42,2) -> 0 | X42: =ROUND(CY42,2) -> 58.36 | Y42: =ROUND(CZ42,2) -> 29.73 | AA42: 16671550 | AB42: =ROUND((AC42+AD42+AF42),6) -> 16299.839 | AC42: =ROUND((ES42),6) -> 13917.6 | AD42: =ROUND(((((ET42*1.25))-((EU42*1.25)))+AE42),6) -> 334.25 | AE42: =ROUND(((EU42*1.25)),6) -> 69.4875 | AF42: =ROUND(((EV42*1.15)),6) -> 2047.989 | AG42: =ROUND((AP42),6) -> 0 | AH42: =((EW42*1.15)) -> 231.15 | AI42: =((EX42*1.25)) -> 5.775 | AJ42: =ROUND((AS42),6) -> 0 | AK42: 15965.86 | AL42: 13917.6 | AM42: 267.4 | AN42: 55.59 | AO42: 1780.86 | AP42: 0 | AQ42: 201 | AR42: 4.62 | AS42: 0 | AT42: 106 | AU42: 54 | AV42: 1 | AW42: 1 | AZ42: 1 | BA42: 1 | BB42: 1 | BC42: 1 | BH42: 0 | BI42: 1 | BJ42: ФЕР-2001, 10-01-047-01, приказ Минстроя России №1039/пр от 30.12.2016г. | BM42: 10001 | BN42: 0 | BP42: 0 | BQ42: 2 | BR42: 0 | BS42: 1 | BT42: 1 | BU42: 1 | BV42: 1 | BW42: 1 | BX42: 1 | BZ42: 118 | CA42: 63 | CF42: 0 | CG42: 0 | CM42: 0 | CN42: Поправка: МДС 81-35.2004, п.4.7 Наименование: Работы, выполняемые при реконструкции зданий и сооружений работы, аналогичные технологическим процессам в новом строительстве (в том числе возведение новых конструктивных элементов) стоимость которых определена по соответствующим сборникам ФЕР, кроме сборника № 46 «Работы при реконструкции зданий и сооружений» | CO42: 0 | CP42: =(P42+Q42+S42) -> 423.8 | CQ42: =AC42*BC42 -> 13917.6 | CR42: =AD42*BB42 -> 334.25 | CS42: =AE42*BS42 -> 69.4875 | CT42: =AF42*BA42 -> 2047.989 | CU42: =AG42 -> 0 | CV42: =AH42 -> 231.15 | CW42: =AI42 -> 5.775 | CX42: =AJ42 -> 0 | CY42: =(((S42+R42)*AT42)/100) -> 58.3636 | CZ42: =(((S42+R42)*AU42)/100) -> 29.7324 | DE42: )*1,25 | DF42: )*1,25 | DG42: )*1,15 | DI42: )*1,15 | DJ42: )*1,25 | DN42: 0 | DO42: 0 | DP42: 1 | DQ42: 1 | DU42: 1005 | DV42: 100 м2 | DW42: 100 м2 | DX42: 100 | EE42: 16510487 | EF42: 2 | EG42: Общестроительные работы | EH42: 0 | EJ42: 1 | EK42: 10001 | EL42: Деревянные конструкции | EM42: ФЕР-10 | EO42: Поправка: МДС 81-35.2004, п.4.7 | EQ42: 0 | ER42: 15965.86 | ES42: 13917.6 | ET42: 267.4 | EU42: 55.59 | EV42: 1780.86 | EW42: 201 | EX42: 4.62 | EY42: 0 | FQ42: 0 | FR42: =ROUND(IF(AND(BH42=3,BI42=3),P42,0),2) -> 0 | FS42: 0 | FT42: *0,9 | FU42: *0,85 | FX42: 106.2 | FY42: 53.55 | GD42: 0 | GF42: -1780211588 | GG42: 2 | GH42: 1 | GI42: -2 | GJ42: 0 | GK42: =ROUND(R42*(R12)/100,2) -> 0 | GL42: =ROUND(IF(AND(BH42=3,BI42=3,FS42<>0),P42,0),2) -> 0 | GM42: =ROUND(O42+X42+Y42+GK42,2)+GX42 -> 511.89 | GN42: =IF(OR(BI42=0,BI42=1),ROUND(O42+X42+Y42+GK42,2),0) -> 511.89 | GO42: =IF(BI42=2,ROUND(O42+X42+Y42+GK42,2),0) -> 0 | GP42: =IF(BI42=4,ROUND(O42+X42+Y42+GK42,2)+GX42,0) -> 0 | GR42: 0 | GS42: 3 | GT42: 0 | GV42: =ROUND(GT42,6) -> 0 | GW42: 1 | GX42: =ROUND(GV42*GW42*I42,2) -> 0 | HA42: 0 | HB42: 0 | IK42: 0
A43: 17 | B43: 1 | C43: =ROW(SmtRes!A86) -> 86 | D43: =ROW(EtalonRes!A100) -> 100 | E43: 8 | F43: 10-01-047-01 | G43: Установка блоков из ПВХ в наружных и внутренних дверных проемах в каменных стенах площадью проема до 3 м2 | H43: 100 м2 | I43: =ROUND(2.6/100,9) -> 0.026 | J43: 0 | O43: =ROUND(CP43,2) -> 2538.54 | P43: =ROUND(CQ43*I43,2) -> 2167.53 | Q43: =ROUND(CR43*I43,2) -> 52.06 | R43: =ROUND(CS43*I43,2) -> 10.82 | S43: =ROUND(CT43*I43,2) -> 318.95 | T43: =ROUND(CU43*I43,2) -> 0 | U43: =CV43*I43 -> 6.0099 | V43: =CW43*I43 -> 0.15015 | W43: =ROUND(CX43*I43,2) -> 0 | X43: =ROUND(CY43,2) -> 349.56 | Y43: =ROUND(CZ43,2) -> 178.08 | AA43: 16671551 | AB43: =ROUND((AC43+AD43+AF43),6) -> 16299.839 | AC43: =ROUND((ES43),6) -> 13917.6 | AD43: =ROUND(((((ET43*1.25))-((EU43*1.25)))+AE43),6) -> 334.25 | AE43: =ROUND(((EU43*1.25)),6) -> 69.4875 | AF43: =ROUND(((EV43*1.15)),6) -> 2047.989 | AG43: =ROUND((AP43),6) -> 0 | AH43: =((EW43*1.15)) -> 231.15 | AI43: =((EX43*1.25)) -> 5.775 | AJ43: =ROUND((AS43),6) -> 0 | AK43: 15965.86 | AL43: 13917.6 | AM43: 267.4 | AN43: 55.59 | AO43: 1780.86 | AP43: 0 | AQ43: 201 | AR43: 4.62 | AS43: 0 | AT43: 106 | AU43: 54 | AV43: 1 | AW43: 1 | AZ43: 5.99 | BA43: 5.99 | BB43: 5.99 | BC43: 5.99 | BH43: 0 | BI43: 1 | BJ43: ФЕР-2001, 10-01-047-01, приказ Минстроя России №1039/пр от 30.12.2016г. | BM43: 10001 | BN43: 0 | BP43: 0 | BQ43: 2 | BR43: 0 | BS43: 5.99 | BT43: 1 | BU43: 1 | BV43: 1 | BW43: 1 | BX43: 1 | BZ43: 118 | CA43: 63 | CF43: 0 | CG43: 0 | CM43: 0 | CN43: Поправка: МДС 81-35.2004, п.4.7 Наименование: Работы, выполняемые при реконструкции зданий и сооружений работы, аналогичные технологическим процессам в новом строительстве (в том числе возведение новых конструктивных элементов) стоимость которых определена по соответствующим сборникам ФЕР, кроме сборника № 46 «Работы при реконструкции зданий и сооружений» | CO43: 0 | CP43: =(P43+Q43+S43) -> 2538.54 | CQ43: =AC43*BC43 -> 83366.424 | CR43: =AD43*BB43 -> 2002.1575 | CS43: =AE43*BS43 -> 416.23012 | CT43: =AF43*BA43 -> 12267.454 | CU43: =AG43 -> 0 | CV43: =AH43 -> 231.15 | CW43: =AI43 -> 5.775 | CX43: =AJ43 -> 0 | CY43: =(((S43+R43)*AT43)/100) -> 349.5562 | CZ43: =(((S43+R43)*AU43)/100) -> 178.0758 | DE43: )*1,25 | DF43: )*1,25 | DG43: )*1,15 | DI43: )*1,15 | DJ43: )*1,25 | DN43: 0 | DO43: 0 | DP43: 1 | DQ43: 1 | DU43: 1005 | DV43: 100 м2 | DW43: 100 м2 | DX43: 100 | EE43: 16510487 | EF43: 2 | EG43: Общестроительные работы | EH43: 0 | EJ43: 1 | EK43: 10001 | EL43: Деревянные конструкции | EM43: ФЕР-10 | EO43: Поправка: МДС 81-35.2004, п.4.7 | EQ43: 0 | ER43: 15965.86 | ES43: 13917.6 | ET43: 267.4 | EU43: 55.59 | EV43: 1780.86 | EW43: 201 | EX43: 4.62 | EY43: 0 | FQ43: 0 | FR43: =ROUND(IF(AND(BH43=3,BI43=3),P43,0),2) -> 0 | FS43: 0 | FT43: *0,9 | FU43: *0,85 | FX43: 106.2 | FY43: 53.55 | GD43: 0 | GF43: -1780211588 | GG43: 1 | GH43: 1 | GI43: 4 | GJ43: 0 | GK43: =ROUND(R43*(S12)/100,2) -> 0 | GL43: =ROUND(IF(AND(BH43=3,BI43=3,FS43<>0),P43,0),2) -> 0 | GM43: =ROUND(O43+X43+Y43+GK43,2)+GX43 -> 3066.18 | GN43: =IF(OR(BI43=0,BI43=1),ROUND(O43+X43+Y43+GK43,2),0) -> 3066.18 | GO43: =IF(BI43=2,ROUND(O43+X43+Y43+GK43,2),0) -> 0 | GP43: =IF(BI43=4,ROUND(O43+X43+Y43+GK43,2)+GX43,0) -> 0 | GR43: 0 | GS43: 3 | GT43: 0 | GV43: =ROUND(GT43,6) -> 0 | GW43: 1 | GX43: =ROUND(GV43*GW43*I43,2) -> 0 | HA43: 0 | HB43: 0 | IK43: 0
