Workbook

Sheet Смета 12 гр. по ФЕР
A1: =Source!B1 -> Smeta.RU (495) 974-1589 | J1: ПРИЛОЖЕНИЕ 1 к ФОРМЕ 7
B6: СМЕТА
B7: =IF(Source!G20<>"Новая локальная смета", Source!G20, "")
B9: =IF(Source!G12<>"Новый объект", Source!G12, "") -> на капитальный ремонт помещения №8 спортивного корпуса №№5,6,7,8 вспомогательных спортивных и хозяйственных помещений Снежинского физико-технического института - филиала НИЯУ МИФИ (СФТИ НИЯУ МИФИ) по адресу: Челябинская область,г.Снежинск,ул.Комсомольская,8 | AD9: =IF(Source!G12<>"Новый объект", Source!G12, "") -> на капитальный ремонт помещения №8 спортивного корпуса №№5,6,7,8 вспомогательных спортивных и хозяйственных помещений Снежинского физико-технического института - филиала НИЯУ МИФИ (СФТИ НИЯУ МИФИ) по адресу: Челябинская область,г.Снежинск,ул.Комсомольская,8
G12: базовая цена | I12: текущая цена
C13: Сметная стоимость | G13: =SUM(O24:O745)/1000 -> 582.17763 | I13: =(Source!F346/1000) -> 4177.684 | K13: тыс. руб.
C14: Строительные работы | G14: =SUM(W24:W745)/1000 -> 558.4385 | I14: =(Source!F333)/1000 -> 3396.0763 | K14: тыс. руб.
C15: Монтажные работы | G15: =SUM(X24:X745)/1000 -> 23.73913 | I15: =(Source!F334)/1000 -> 144.33388 | K15: тыс. руб.
C16: Оборудование | G16: =SUM(Y24:Y745)/1000 -> 0 | I16: =(Source!F325)/1000 -> 0 | K16: тыс. руб.
C17: Прочие работы | G17: =SUM(Z24:Z745)/1000 -> 0 | I17: =(Source!F335+Source!F336)/1000 -> 0 | K17: тыс. руб.
C18: Нормативная трудоемкость | G18: =I18 -> 4083.4615 | I18: =(Source!F338+Source!F339) -> 4083.4615 | K18: чел. -ч.
C19: Средства на оплату труда | G19: =SUM(R24:R745)/1000 -> 36.36576 | I19: =(Source!F331+ Source!F330)/1000 -> 221.10401 | K19: тыс. руб.
A21: Составлена в ценах IV квартал 2017 года
A22: № п/п | B22: Шифр расценки и коды ресурсов | C22: Наименование работ и затрат | D22: Ед. изм. | E22: Кол-во единиц | F22: Цена на ед. изм. | G22: Попра-вочные коэфф. | H22: Стоимость в ценах 2001г. | I22: Пункт коэфф. пересчета | J22: Коэфф. пересчета | K22: Стоимость в текущих ценах | L22: ЗТР всего чел.-час
A23: 1 | B23: 2 | C23: 3 | D23: 4 | E23: 5 | F23: 6 | G23: 7 | H23: 8 | I23: 9 | J23: 10 | K23: 11 | L23: 12
A24: =CONCATENATE("Раздел: ",IF(Source!G24<>"Новый раздел", Source!G24, "")) -> Раздел: 1 Общестроительные работы
A25: =Source!E28 -> 1 | B25: =Source!F28 -> 08-07-002-01 | C25: =Source!G28 -> Установка и разборка внутренних трубчатых инвентарных лесов при высоте помещений до 6 м | D25: =Source!H28 -> 100 м2 | E25: =Source!I28 -> 1.342 | F25: =Source!AL28+Source!AM28+Source!AO28 -> 812.07 | I25: =Source!BO28 | S25: =ROUND((Source!FX28/100)*((ROUND(Source!AF28*Source!I28, 2)+ROUND(Source!AE28*Source!I28, 2))), 2) -> 1031.64 | T25: =Source!X28 -> 6283.79 | U25: =ROUND((Source!FY28/100)*((ROUND(Source!AF28*Source!I28, 2)+ROUND(Source!AE28*Source!I28, 2))), 2) -> 638.9 | V25: =Source!Y28 -> 3884.53
C26: ="Объем: "&Source!I28&"=134,2/"&"100" -> Объем: 1,342=134,2/100
C27: Зарплата | F27: =Source!AO28 -> 606.53 | G27: =Source!DG28 -> )*1,15 | H27: =ROUND(Source!AF28*Source!I28, 2) -> 936.06 | J27: =IF(Source!BA28<> 0, Source!BA28, 1) -> 6.08 | K27: =Source!S28 -> 5691.24 | R27: =H27 -> 936.06
C28: Эксплуатация машин | F28: =Source!AM28 -> 11.83 | G28: =Source!DE28 -> )*1,25 | H28: =ROUND(Source!AD28*Source!I28, 2) -> 19.85 | J28: =IF(Source!BB28<> 0, Source!BB28, 1) -> 6.08 | K28: =Source!Q28 -> 120.68
C29: в т.ч. зарплата машинистов | F29: =Source!AN28 -> 2.09 | G29: =Source!DF28 -> )*1,25 | H29: =ROUND(Source!AE28*Source!I28, 2) -> 3.5 | J29: =IF(Source!BS28<> 0, Source!BS28, 1) -> 6.08 | K29: =Source!R28 -> 21.3 | R29: =H29 -> 3.5
C30: Материальные ресурсы | F30: =Source!AL28 -> 193.71 | G30: =Source!DD28 | H30: =ROUND(Source!AC28*Source!I28, 2) -> 259.96 | J30: =IF(Source!BC28<> 0, Source!BC28, 1) -> 6.08 | K30: =Source!P28 -> 1580.55
C31: НР от ФОТ | D31: % | E31: =Source!BZ28 -> 122 | F31: =CONCATENATE(" )", Source!DL28, Source!FT28, "=", Source!FX28) -> )*0,9=109,8 | H31: =SUM(S25:S33) -> 1031.64 | J31: =Source!AT28 -> 110 | K31: =SUM(T25:T33) -> 6283.79
C32: СП от ФОТ | D32: % | E32: =Source!CA28 -> 80 | F32: =CONCATENATE(" )", Source!DM28, Source!FU28, "=", Source!FY28) -> )*0,85=68 | H32: =SUM(U25:U33) -> 638.9 | J32: =Source!AU28 -> 68 | K32: =SUM(V25:V33) -> 3884.53
C33: Затраты труда | D33: чел-ч | E33: =Source!AQ28 -> 70.2 | G33: =Source!DI28 -> )*1,15 | L33: =Source!U28 -> 108.33966
G34: =H27+H28+H30+H31+H32 -> 2886.41 | J34: =K27+K28+K30+K31+K32 -> 17560.79 | L34: =Source!U28 -> 108.33966 | O34: =G34 -> 2886.41 | P34: =J34 -> 17560.79 | Q34: =L34 -> 108.33966 | W34: =IF(Source!BI28<=1,H27+H28+H30+H31+H32, 0) -> 2886.41 | X34: =IF(Source!BI28=2,H27+H28+H30+H31+H32, 0) -> 0 | Y34: =IF(Source!BI28=3,H27+H28+H30+H31+H32, 0) -> 0 | Z34: =IF(Source!BI28=4,H27+H28+H30+H31+H32, 0) -> 0
A35: =Source!E29 -> 2 | B35: =Source!F29 -> 08-07-001-02 | C35: =Source!G29 -> Установка и разборка наружных инвентарных лесов высотой до 16 м трубчатых для прочих отделочных работ | D35: =Source!H29 -> 100 м2 | E35: =Source!I29 -> 2.94 | F35: =Source!AL29+Source!AM29+Source!AO29 -> 500.19 | I35: =Source!BO29 | S35: =ROUND((Source!FX29/100)*((ROUND(Source!AF29*Source!I29, 2)+ROUND(Source!AE29*Source!I29, 2))), 2) -> 1398.52 | T35: =Source!X29 -> 8518.48 | U35: =ROUND((Source!FY29/100)*((ROUND(Source!AF29*Source!I29, 2)+ROUND(Source!AE29*Source!I29, 2))), 2) -> 866.12 | V35: =Source!Y29 -> 5265.97
C36: ="Объем: "&Source!I29&"=294/"&"100" -> Объем: 2,94=294/100
C37: Зарплата | F37: =Source!AO29 -> 375.84 | G37: =Source!DG29 -> )*1,15 | H37: =ROUND(Source!AF29*Source!I29, 2) -> 1270.73 | J37: =IF(Source!BA29<> 0, Source!BA29, 1) -> 6.08 | K37: =Source!S29 -> 7726.02 | R37: =H37 -> 1270.73
C38: Эксплуатация машин | F38: =Source!AM29 -> 4.6 | G38: =Source!DE29 -> )*1,25 | H38: =ROUND(Source!AD29*Source!I29, 2) -> 16.91 | J38: =IF(Source!BB29<> 0, Source!BB29, 1) -> 6.08 | K38: =Source!Q29 -> 102.78
C39: в т.ч. зарплата машинистов | F39: =Source!AN29 -> 0.81 | G39: =Source!DF29 -> )*1,25 | H39: =ROUND(Source!AE29*Source!I29, 2) -> 2.97 | J39: =IF(Source!BS29<> 0, Source!BS29, 1) -> 6.08 | K39: =Source!R29 -> 18.05 | R39: =H39 -> 2.97
C40: Материальные ресурсы | F40: =Source!AL29 -> 119.75 | G40: =Source!DD29 | H40: =ROUND(Source!AC29*Source!I29, 2) -> 352.07 | J40: =IF(Source!BC29<> 0, Source!BC29, 1) -> 6.08 | K40: =Source!P29 -> 2140.56
C41: НР от ФОТ | D41: % | E41: =Source!BZ29 -> 122 | F41: =CONCATENATE(" )", Source!DL29, Source!FT29, "=", Source!FX29) -> )*0,9=109,8 | H41: =SUM(S35:S43) -> 1398.52 | J41: =Source!AT29 -> 110 | K41: =SUM(T35:T43) -> 8518.48
C42: СП от ФОТ | D42: % | E42: =Source!CA29 -> 80 | F42: =CONCATENATE(" )", Source!DM29, Source!FU29, "=", Source!FY29) -> )*0,85=68 | H42: =SUM(U35:U43) -> 866.12 | J42: =Source!AU29 -> 68 | K42: =SUM(V35:V43) -> 5265.97
C43: Затраты труда | D43: чел-ч | E43: =Source!AQ29 -> 43.5 | G43: =Source!DI29 -> )*1,15 | L43: =Source!U29 -> 147.0735
G44: =H37+H38+H40+H41+H42 -> 3904.35 | J44: =K37+K38+K40+K41+K42 -> 23753.81 | L44: =Source!U29 -> 147.0735 | O44: =G44 -> 3904.35 | P44: =J44 -> 23753.81 | Q44: =L44 -> 147.0735 | W44: =IF(Source!BI29<=1,H37+H38+H40+H41+H42, 0) -> 3904.35 | X44: =IF(Source!BI29=2,H37+H38+H40+H41+H42, 0) -> 0 | Y44: =IF(Source!BI29=3,H37+H38+H40+H41+H42, 0) -> 0 | Z44: =IF(Source!BI29=4,H37+H38+H40+H41+H42, 0) -> 0
A45: =Source!E30 -> 3 | B45: =Source!F30 -> 09-06-001-02 | C45: =Source!G30 -> Демонтаж:Монтаж лотков, решеток, затворов из полосовой и тонколистовой стали | D45: =Source!H30 -> т | E45: =Source!I30 -> 0.497 | F45: =Source!AL30+Source!AM30+Source!AO30 -> 641 | I45: =Source!BO30 | S45: =ROUND((Source!FX30/100)*((ROUND(Source!AF30*Source!I30, 2)+ROUND(Source!AE30*Source!I30, 2))), 2) -> 123.17 | T45: =Source!X30 -> 748.83 | U45: =ROUND((Source!FY30/100)*((ROUND(Source!AF30*Source!I30, 2)+ROUND(Source!AE30*Source!I30, 2))), 2) -> 109.86 | V45: =Source!Y30 -> 665.63
C46: Зарплата | F46: =Source!AO30 -> 433.24 | G46: =Source!DG30 -> )*0,7 | H46: =ROUND(Source!AF30*Source!I30, 2) -> 150.73 | J46: =IF(Source!BA30<> 0, Source!BA30, 1) -> 6.08 | K46: =Source!S30 -> 916.41 | R46: =H46 -> 150.73
C47: Эксплуатация машин | F47: =Source!AM30 -> 125.8 | G47: =Source!DE30 -> )*0,7 | H47: =ROUND(Source!AD30*Source!I30, 2) -> 43.77 | J47: =IF(Source!BB30<> 0, Source!BB30, 1) -> 6.08 | K47: =Source!Q30 -> 266.1
C48: в т.ч. зарплата машинистов | F48: =Source!AN30 -> 3.82 | G48: =Source!DF30 -> )*0,7 | H48: =ROUND(Source!AE30*Source!I30, 2) -> 1.33 | J48: =IF(Source!BS30<> 0, Source!BS30, 1) -> 6.08 | K48: =Source!R30 -> 8.07 | R48: =H48 -> 1.33
...

Sheet Source
A1: 0 | B1: Smeta.RU (495) 974-1589 | D1: _PS_ | F1: 0 | G1: 0 | H1: 0 | I1: Smeta.RU | K1: 0 | L1: 13277 | M1: 10
A12: 1 | B12: 406 | C12: 0 | D12: =ROW(A348) -> 348 | E12: 0 | F12: Новый объект | G12: на капитальный ремонт помещения №8 спортивного корпуса №№5,6,7,8 вспомогательных спортивных и хозяйственных помещений Снежинского физико-технического института - филиала НИЯУ МИФИ (СФТИ НИЯУ МИФИ) по адресу: Челябинская область,г.Снежинск,ул.Комсомольская,8 | I12: 0 | K12: 0 | O12: 0 | P12: 0 | Q12: 0 | R12: 0 | V12: 0 | BH12: Сметные нормы списания | BI12: Коды ценников | BJ12: 1 | BK12: 1 | BL12: 0 | BM12: 0 | BN12: 1 | BO12: 0 | BP12: 2 | BQ12: 2 | BR12: 1 | BS12: 1 | BT12: 0 | BU12: 0 | BV12: 0 | BW12: 0 | BX12: 0 | BY12: ФЕР-2017 | BZ12: ТР для Версии 10: Центральные регионы (с учетом п-ма 2536-ИП/12/ГС от 22.03.2017 г | CA12: ФЕР-2017 | CB12: ФЕР-2017 | CC12: ФЕР-2017 | CD12: ФЕР-2017 | CE12: Поправки для ГСН 2017 от 31.03.2017 г | CF12: 0 | CG12: 0 | CH12: 524296 | CK12: 4 | EC12: 0
A15: 15 | B15: 1
A18: 52 | B18: =B348 -> 406 | C18: =C348 -> 1 | D18: =D348 -> 12 | E18: =E348 -> 0 | F18: =F348 -> Новый объект | G18: =G348 -> на капитальный ремонт помещения №8 спортивного корпуса №№5,6,7,8 вспомогательных спортивных и хозяйственных помещений Снежинского физико-технического института - филиала НИЯУ МИФИ (СФТИ НИЯУ МИФИ) по адресу: Челябинская область,г.Снежинск,ул.Комсомольская,8 | O18: =O348 -> 3164700 | P18: =P348 -> 2905257.3 | Q18: =Q348 -> 48564.65 | R18: =R348 -> 10225.95 | S18: =S348 -> 210878.06 | T18: =T348 -> 0 | U18: =U348 -> 3929.8622 | V18: =V348 -> 153.5993 | ... GX18: =GX348 -> 0
A20: 3 | B20: 1 | D20: =ROW(A316) -> 316 | F20: Новая локальная смета | G20: Новая локальная смета | I20: 0 | K20: 0 | V20: 0 | BX20: 0 | CF20: 0 | CG20: 0
A22: 52 | B22: =B316 -> 1 | C22: =C316 -> 3 | D22: =D316 -> 20 | E22: =E316 -> 0 | F22: =F316 -> Новая локальная смета | G22: =G316 -> Новая локальная смета | O22: =O316 -> 3164700 | P22: =P316 -> 2905257.3 | Q22: =Q316 -> 48564.65 | R22: =R316 -> 10225.95 | S22: =S316 -> 210878.06 | T22: =T316 -> 0 | U22: =U316 -> 3929.8622 | V22: =V316 -> 153.5993 | ... GX22: =GX316 -> 0
A24: 4 | B24: 1 | D24: =ROW(A124) -> 124 | F24: Новый раздел | G24: 1 Общестроительные работы | I24: 0 | K24: 0 | V24: 0 | BX24: 0 | CJ24: 0
A26: 52 | B26: =B124 -> 1 | C26: =C124 -> 4 | D26: =D124 -> 24 | E26: =E124 -> 0 | F26: =F124 -> Новый раздел | G26: =G124 -> 1 Общестроительные работы | O26: =O124 -> 2490105.7 | P26: =P124 -> 2293921.9 | Q26: =Q124 -> 29163.56 | R26: =R124 -> 8348.73 | S26: =S124 -> 167020.26 | T26: =T124 -> 0 | U26: =U124 -> 3148.8753 | V26: =V124 -> 129.51814 | ... GX26: =GX124 -> 0
A28: 17 | B28: 1 | C28: =ROW(SmtRes!A4) -> 4 | D28: =ROW(EtalonRes!A6) -> 6 | E28: 1 | F28: 08-07-002-01 | G28: Установка и разборка внутренних трубчатых инвентарных лесов при высоте помещений до 6 м | H28: 100 м2 | I28: =ROUND(134.2/100,9) -> 1.342 | J28: 0 | O28: =ROUND(CP28,2) -> 7392.47 | P28: =ROUND(CQ28*I28,2) -> 1580.55 | Q28: =ROUND(CR28*I28,2) -> 120.68 | R28: =ROUND(CS28*I28,2) -> 21.3 | S28: =ROUND(CT28*I28,2) -> 5691.24 | T28: =ROUND(CU28*I28,2) -> 0 | U28: =CV28*I28 -> 108.33966 | V28: =CW28*I28 -> 0.30195 | W28: =ROUND(CX28*I28,2) -> 0 | X28: =ROUND(CY28,2) -> 6283.79 | Y28: =ROUND(CZ28,2) -> 3884.53 | AA28: 39278658 | AB28: =ROUND((AC28+AD28+AF28),2) -> 906.01 | AC28: =ROUND((ES28),2) -> 193.71 | AD28: =ROUND(((((ET28*1.25))-((EU28*1.25)))+AE28),2) -> 14.79 | AE28: =ROUND(((EU28*1.25)),2) -> 2.61 | AF28: =ROUND(((EV28*1.15)),2) -> 697.51 | AG28: =ROUND((AP28),2) -> 0 | AH28: =((EW28*1.15)) -> 80.73 | AI28: =((EX28*1.25)) -> 0.225 | AJ28: =ROUND((AS28),2) -> 0 | AK28: 812.07 | AL28: 193.71 | AM28: 11.83 | AN28: 2.09 | AO28: 606.53 | AP28: 0 | AQ28: 70.2 | AR28: 0.18 | AS28: 0 | AT28: 110 | AU28: 68 | AV28: 1 | AW28: 1 | AZ28: 6.08 | BA28: 6.08 | BB28: 6.08 | BC28: 6.08 | BH28: 0 | BI28: 1 | BJ28: ФЕР-2001, 08-07-002-01, приказ Минстроя России №1039/пр от 30.12.2016г. | BM28: 8001 | BN28: 0 | BP28: 0 | BQ28: 2 | BR28: 0 | BS28: 6.08 | BT28: 1 | BU28: 1 | BV28: 1 | BW28: 1 | BX28: 1 | BZ28: 122 | CA28: 80 | CF28: 0 | CG28: 0 | CM28: 0 | CN28: Поправка: МДС 81-35.2004, п.4.7 Наименование: Работы, выполняемые при реконструкции зданий и сооружений работы, аналогичные технологическим процессам в новом строительстве (в том числе возведение новых конструктивных элементов) стоимость которых определена по соответствующим сборникам ФЕР, кроме сборника № 46 «Работы при реконструкции зданий и сооружений» | CO28: 0 | CP28: =(P28+Q28+S28) -> 7392.47 | CQ28: =AC28*BC28 -> 1177.7568 | CR28: =AD28*BB28 -> 89.9232 | CS28: =AE28*BS28 -> 15.8688 | CT28: =AF28*BA28 -> 4240.8608 | CU28: =AG28 -> 0 | CV28: =AH28 -> 80.73 | CW28: =AI28 -> 0.225 | CX28: =AJ28 -> 0 | CY28: =(((S28+R28)*AT28)/100) -> 6283.794 | CZ28: =(((S28+R28)*AU28)/100) -> 3884.5272 | DE28: )*1,25 | DF28: )*1,25 | DG28: )*1,15 | DI28: )*1,15 | DJ28: )*1,25 | DN28: 0 | DO28: 0 | DP28: 1 | DQ28: 1 | DU28: 1005 | DV28: 100 м2 | DW28: 100 м2 | DX28: 100 | EE28: 39174501 | EF28: 2 | EG28: Общестроительные работы | EH28: 0 | EJ28: 1 | EK28: 8001 | EL28: Конструкции из кирпича и блоков | EM28: ФЕР-08 | EO28: Поправка: МДС 81-35.2004, п.4.7 | EQ28: 0 | ER28: 812.07 | ES28: 193.71 | ET28: 11.83 | EU28: 2.09 | EV28: 606.53 | EW28: 70.2 | EX28: 0.18 | EY28: 0 | FQ28: 0 | FR28: =ROUND(IF(AND(BH28=3,BI28=3),P28,0),2) -> 0 | FS28: 0 | FT28: *0,9 | FU28: *0,85 | FX28: 109.8 | FY28: 68 | GD28: 0 | GF28: -268904767 | GG28: 1 | GH28: 1 | GI28: 4 | GJ28: 0 | GK28: =ROUND(R28*(R12)/100,2) -> 0 | GL28: =ROUND(IF(AND(BH28=3,BI28=3,FS28<>0),P28,0),2) -> 0 | GM28: =ROUND(O28+X28+Y28+GK28,2)+GX28 -> 17560.79 | GN28: =IF(OR(BI28=0,BI28=1),ROUND(O28+X28+Y28+GK28,2),0) -> 17560.79 | GO28: =IF(BI28=2,ROUND(O28+X28+Y28+GK28,2),0) -> 0 | GP28: =IF(BI28=4,ROUND(O28+X28+Y28+GK28,2)+GX28,0) -> 0 | GR28: 0 | GS28: 3 | GT28: 0 | GV28: =ROUND(GT28,2) -> 0 | GW28: 1 | GX28: =ROUND(GV28*GW28*I28,2) -> 0 | HA28: 0 | HB28: 0 | IK28: 0
A29: 17 | B29: 1 | C29: =ROW(SmtRes!A8) -> 8 | D29: =ROW(EtalonRes!A12) -> 12 | E29: 2 | F29: 08-07-001-02 | G29: Установка и разборка наружных инвентарных лесов высотой до 16 м трубчатых для прочих отделочных работ | H29: 100 м2 | I29: =ROUND(294/100,9) -> 2.94 | J29: 0 | O29: =ROUND(CP29,2) -> 9969.36 | P29: =ROUND(CQ29*I29,2) -> 2140.56 | Q29: =ROUND(CR29*I29,2) -> 102.78 | R29: =ROUND(CS29*I29,2) -> 18.05 | S29: =ROUND(CT29*I29,2) -> 7726.02 | T29: =ROUND(CU29*I29,2) -> 0 | U29: =CV29*I29 -> 147.0735 | V29: =CW29*I29 -> 0.25725 | W29: =ROUND(CX29*I29,2) -> 0 | X29: =ROUND(CY29,2) -> 8518.48 | Y29: =ROUND(CZ29,2) -> 5265.97 | AA29: 39278658 | AB29: =ROUND((AC29+AD29+AF29),2) -> 557.72 | AC29: =ROUND((ES29),2) -> 119.75 | AD29: =ROUND(((((ET29*1.25))-((EU29*1.25)))+AE29),2) -> 5.75 | AE29: =ROUND(((EU29*1.25)),2) -> 1.01 | AF29: =ROUND(((EV29*1.15)),2) -> 432.22 | AG29: =ROUND((AP29),2) -> 0 | AH29: =((EW29*1.15)) -> 50.025 | AI29: =((EX29*1.25)) -> 0.0875 | AJ29: =ROUND((AS29),2) -> 0 | AK29: 500.19 | AL29: 119.75 | AM29: 4.6 | AN29: 0.81 | AO29: 375.84 | AP29: 0 | AQ29: 43.5 | AR29: 0.07 | AS29: 0 | AT29: 110 | AU29: 68 | AV29: 1 | AW29: 1 | AZ29: 6.08 | BA29: 6.08 | BB29: 6.08 | BC29: 6.08 | BH29: 0 | BI29: 1 | BJ29: ФЕР-2001, 08-07-001-02, приказ Минстроя России №1039/пр от 30.12.2016г. | BM29: 8001 | BN29: 0 | BP29: 0 | BQ29: 2 | BR29: 0 | BS29: 6.08 | BT29: 1 | BU29: 1 | BV29: 1 | BW29: 1 | BX29: 1 | BZ29: 122 | CA29: 80 | CF29: 0 | CG29: 0 | CM29: 0 | CN29: Поправка: МДС 81-35.2004, п.4.7 Наименование: Работы, выполняемые при реконструкции зданий и сооружений работы, аналогичные технологическим процессам в новом строительстве (в том числе возведение новых конструктивных элементов) стоимость которых определена по соответствующим сборникам ФЕР, кроме сборника № 46 «Работы при реконструкции зданий и сооружений» | CO29: 0 | CP29: =(P29+Q29+S29) -> 9969.36 | CQ29: =AC29*BC29 -> 728.08 | CR29: =AD29*BB29 -> 34.96 | CS29: =AE29*BS29 -> 6.1408 | CT29: =AF29*BA29 -> 2627.8976 | CU29: =AG29 -> 0 | CV29: =AH29 -> 50.025 | CW29: =AI29 -> 0.0875 | CX29: =AJ29 -> 0 | CY29: =(((S29+R29)*AT29)/100) -> 8518.477 | CZ29: =(((S29+R29)*AU29)/100) -> 5265.9676 | DE29: )*1,25 | DF29: )*1,25 | DG29: )*1,15 | DI29: )*1,15 | DJ29: )*1,25 | DN29: 0 | DO29: 0 | DP29: 1 | DQ29: 1 | DU29: 1005 | DV29: 100 м2 | DW29: 100 м2 | DX29: 100 | EE29: 39174501 | EF29: 2 | EG29: Общестроительные работы | EH29: 0 | EJ29: 1 | EK29: 8001 | EL29: Конструкции из кирпича и блоков | EM29: ФЕР-08 | EO29: Поправка: МДС 81-35.2004, п.4.7 | EQ29: 0 | ER29: 500.19 | ES29: 119.75 | ET29: 4.6 | EU29: 0.81 | EV29: 375.84 | EW29: 43.5 | EX29: 0.07 | EY29: 0 | FQ29: 0 | FR29: =ROUND(IF(AND(BH29=3,BI29=3),P29,0),2) -> 0 | FS29: 0 | FT29: *0,9 | FU29: *0,85 | FX29: 109.8 | FY29: 68 | GD29: 0 | GF29: 1648279235 | GG29: 1 | GH29: 1 | GI29: 4 | GJ29: 0 | GK29: =ROUND(R29*(R12)/100,2) -> 0 | GL29: =ROUND(IF(AND(BH29=3,BI29=3,FS29<>0),P29,0),2) -> 0 | GM29: =ROUND(O29+X29+Y29+GK29,2)+GX29 -> 23753.81 | GN29: =IF(OR(BI29=0,BI29=1),ROUND(O29+X29+Y29+GK29,2),0) -> 23753.81 | GO29: =IF(BI29=2,ROUND(O29+X29+Y29+GK29,2),0) -> 0 | GP29: =IF(BI29=4,ROUND(O29+X29+Y29+GK29,2)+GX29,0) -> 0 | GR29: 0 | GS29: 3 | GT29: 0 | GV29: =ROUND(GT29,2) -> 0 | GW29: 1 | GX29: =ROUND(GV29*GW29*I29,2) -> 0 | HA29: 0 | HB29: 0 | IK29: 0
A30: 17 | B30: 1 | C30: =ROW(SmtRes!A26) -> 26 | D30: =ROW(EtalonRes!A31) -> 31 | E30: 3 | F30: 09-06-001-02 | G30: Демонтаж:Монтаж лотков, решеток, затворов из полосовой и тонколистовой стали | H30: т | I30: 0.497 | J30: 0 | O30: =ROUND(CP30,2) -> 1182.51 | P30: =ROUND(CQ30*I30,2) -> 0 | Q30: =ROUND(CR30*I30,2) -> 266.1 | R30: =ROUND(CS30*I30,2) -> 8.07 | S30: =ROUND(CT30*I30,2) -> 916.41 | T30: =ROUND(CU30*I30,2) -> 0 | U30: =CV30*I30 -> 17.669841 | V30: =CW30*I30 -> 0.107849 | W30: =ROUND(CX30*I30,2) -> 0 | X30: =ROUND(CY30,2) -> 748.83 | Y30: =ROUND(CZ30,2) -> 665.63 | AA30: 39278658 | AB30: =ROUND((AC30+AD30+AF30),2) -> 391.33 | AC30: =ROUND(((ES30*0)),2) -> 0 | AD30: =ROUND(((((ET30*0.7))-((EU30*0.7)))+AE30),2) -> 88.06 | AE30: =ROUND(((EU30*0.7)),2) -> 2.67 | AF30: =ROUND(((EV30*0.7)),2) -> 303.27 | AG30: =ROUND((AP30),2) -> 0 | AH30: =((EW30*0.7)) -> 35.553 | AI30: =((EX30*0.7)) -> 0.217 | AJ30: =ROUND((AS30),2) -> 0 | AK30: 641 | AL30: 81.96 | AM30: 125.8 | AN30: 3.82 | AO30: 433.24 | AP30: 0 | AQ30: 50.79 | AR30: 0.31 | AS30: 0 | AT30: 81 | AU30: 72 | AV30: 1 | AW30: 1 | AZ30: 6.08 | BA30: 6.08 | BB30: 6.08 | BC30: 6.08 | BH30: 0 | BI30: 1 | BJ30: ФЕР-2001, 09-06-001-02, приказ Минстроя России №1039/пр от 30.12.2016г. | BM30: 9001 | BN30: 0 | BP30: 0 | BQ30: 2 | BR30: 0 | BS30: 6.08 | BT30: 1 | BU30: 1 | BV30: 1 | BW30: 1 | BX30: 1 | BZ30: 90 | CA30: 85 | CF30: 0 | CG30: 0 | CM30: 0 | CN30: Поправка: МДС 81-36.2004, п.3.3.1.д Наименование: При демонтаже металлических конструкций | CO30: 0 | CP30: =(P30+Q30+S30) -> 1182.51 | CQ30: =AC30*BC30 -> 0 | CR30: =AD30*BB30 -> 535.4048 | CS30: =AE30*BS30 -> 16.2336 | CT30: =AF30*BA30 -> 1843.8816 | CU30: =AG30 -> 0 | CV30: =AH30 -> 35.553 | CW30: =AI30 -> 0.217 | CX30: =AJ30 -> 0 | CY30: =(((S30+R30)*AT30)/100) -> 748.8288 | CZ30: =(((S30+R30)*AU30)/100) -> 665.6256 | DD30: )*0 | DE30: )*0,7 | DF30: )*0,7 | DG30: )*0,7 | DI30: )*0,7 | DJ30: )*0,7 | DN30: 0 | DO30: 0 | DP30: 1 | DQ30: 1 | DU30: 1009 | DV30: т | DW30: т | DX30: 1000 | EE30: 39174502 | EF30: 2 | EG30: Общестроительные работы | EH30: 0 | EJ30: 1 | EK30: 9001 | EL30: Металлические конструкции | EM30: ФЕР-09 | EO30: Поправка: МДС 81-36.2004, п.3.3.1.д | EQ30: 0 | ER30: 641 | ES30: 81.96 | ET30: 125.8 | EU30: 3.82 | EV30: 433.24 | EW30: 50.79 | EX30: 0.31 | EY30: 0 | FQ30: 0 | FR30: =ROUND(IF(AND(BH30=3,BI30=3),P30,0),2) -> 0 | FS30: 0 | FT30: *0,9 | FU30: *0,85 | FX30: 81 | FY30: 72.25 | GD30: 0 | GF30: -1385784566 | GG30: 1 | GH30: 1 | GI30: 4 | GJ30: 0 | GK30: =ROUND(R30*(R12)/100,2) -> 0 | GL30: =ROUND(IF(AND(BH30=3,BI30=3,FS30<>0),P30,0),2) -> 0 | GM30: =ROUND(O30+X30+Y30+GK30,2)+GX30 -> 2596.97 | GN30: =IF(OR(BI30=0,BI30=1),ROUND(O30+X30+Y30+GK30,2),0) -> 2596.97 | GO30: =IF(BI30=2,ROUND(O30+X30+Y30+GK30,2),0) -> 0 | GP30: =IF(BI30=4,ROUND(O30+X30+Y30+GK30,2)+GX30,0) -> 0 | GR30: 0 | GS30: 3 | GT30: 0 | GV30: =ROUND(GT30,2) -> 0 | GW30: 1 | GX30: =ROUND(GV30*GW30*I30,2) -> 0 | HA30: 0 | HB30: 0 | IK30: 0
A31: 17 | B31: 1 | C31: =ROW(SmtRes!A27) -> 27 | D31: =ROW(EtalonRes!A33) -> 33 | E31: 4 | F31: 57-3-1 | G31: Разборка плинтусов деревянных и из пластмассовых материалов | H31: 100 м | I31: 0.73 | J31: 0 | O31: =ROUND(CP31,2) -> 130.53 | P31: =ROUND(CQ31*I31,2) -> 0 | Q31: =ROUND(CR31*I31,2) -> 0 | R31: =ROUND(CS31*I31,2) -> 0 | S31: =ROUND(CT31*I31,2) -> 130.53 | T31: =ROUND(CU31*I31,2) -> 0 | U31: =CV31*I31 -> 2.7521 | V31: =CW31*I31 -> 0 | W31: =ROUND(CX31*I31,2) -> 0 | X31: =ROUND(CY31,2) -> 104.42 | Y31: =ROUND(CZ31,2) -> 88.76 | AA31: 39278658 | AB31: =ROUND((AC31+AD31+AF31),2) -> 29.41 | AC31: =ROUND((ES31),2) -> 0 | AD31: =ROUND((((ET31)-(EU31))+AE31),2) -> 0 | AE31: =ROUND((EU31),2) -> 0 | AF31: =ROUND((EV31),2) -> 29.41 | AG31: =ROUND((AP31),2) -> 0 | AH31: =(EW31) -> 3.77 | AI31: =(EX31) -> 0 | AJ31: =ROUND((AS31),2) -> 0 | AK31: 29.41 | AL31: 0 | AM31: 0 | AN31: 0 | AO31: 29.41 | AP31: 0 | AQ31: 3.77 | AR31: 0 | AS31: 0 | AT31: 80 | AU31: 68 | AV31: 1 | AW31: 1 | AZ31: 6.08 | BA31: 6.08 | BB31: 6.08 | BC31: 6.08 | BH31: 0 | BI31: 1 | BJ31: ФЕРр-2001, 57-3-1, приказ Минстроя России №1039/пр от 30.12.2016г. | BM31: 57001 | BN31: 0 | BP31: 0 | BQ31: 6 | BR31: 0 | BS31: 6.08 | BT31: 1 | BU31: 1 | BV31: 1 | BW31: 1 | BX31: 1 | BZ31: 80 | CA31: 68 | CF31: 0 | CG31: 0 | CM31: 0 | CO31: 0 | CP31: =(P31+Q31+S31) -> 130.53 | CQ31: =AC31*BC31 -> 0 | CR31: =AD31*BB31 -> 0 | CS31: =AE31*BS31 -> 0 | CT31: =AF31*BA31 -> 178.8128 | CU31: =AG31 -> 0 | CV31: =AH31 -> 3.77 | CW31: =AI31 -> 0 | CX31: =AJ31 -> 0 | CY31: =(((S31+R31)*AT31)/100) -> 104.424 | CZ31: =(((S31+R31)*AU31)/100) -> 88.7604 | DN31: 0 | DO31: 0 | DP31: 1 | DQ31: 1 | DU31: 1003 | DV31: 100 м | DW31: 100 м | DX31: 100 | EE31: 39174582 | EF31: 6 | EG31: Ремонтно-строительные работы | EH31: 0 | EJ31: 1 | EK31: 57001 | EL31: Полы | EM31: рФЕР-57 | EQ31: 0 | ER31: 29.41 | ES31: 0 | ET31: 0 | EU31: 0 | EV31: 29.41 | EW31: 3.77 | EX31: 0 | EY31: 0 | FQ31: 0 | FR31: =ROUND(IF(AND(BH31=3,BI31=3),P31,0),2) -> 0 | FS31: 0 | FX31: 80 | FY31: 68 | GD31: 0 | GF31: -1389370821 | GG31: 1 | GH31: 1 | GI31: 4 | GJ31: 0 | GK31: =ROUND(R31*(R12)/100,2) -> 0 | GL31: =ROUND(IF(AND(BH31=3,BI31=3,FS31<>0),P31,0),2) -> 0 | GM31: =ROUND(O31+X31+Y31+GK31,2)+GX31 -> 323.71 | GN31: =IF(OR(BI31=0,BI31=1),ROUND(O31+X31+Y31+GK31,2),0) -> 323.71 | GO31: =IF(BI31=2,ROUND(O31+X31+Y31+GK31,2),0) -> 0 | GP31: =IF(BI31=4,ROUND(O31+X31+Y31+GK31,2)+GX31,0) -> 0 | GR31: 0 | GS31: 3 | GT31: 0 | GV31: =ROUND(GT31,2) -> 0 | GW31: 1 | GX31: =ROUND(GV31*GW31*I31,2) -> 0 | HA31: 0 | HB31: 0 | IK31: 0
A32: 17 | B32: 1 | C32: =ROW(SmtRes!A28) -> 28 | D32: =ROW(EtalonRes!A35) -> 35 | E32: 5 | F32: 57-1-3 | G32: Разборка оснований покрытия полов простильных полов | H32: 100 м2 | I32: 2.94 | J32: 0 | O32: =ROUND(CP32,2) -> 2431.56 | P32: =ROUND(CQ32*I32,2) -> 0 | Q32: =ROUND(CR32*I32,2) -> 0 | R32: =ROUND(CS32*I32,2) -> 0 | S32: =ROUND(CT32*I32,2) -> 2431.56 | T32: =ROUND(CU32*I32,2) -> 0 | U32: =CV32*I32 -> 51.2736 | V32: =CW32*I32 -> 0 | W32: =ROUND(CX32*I32,2) -> 0 | X32: =ROUND(CY32,2) -> 1945.25 | Y32: =ROUND(CZ32,2) -> 1653.46 | AA32: 39278658 | AB32: =ROUND((AC32+AD32+AF32),2) -> 136.03 | AC32: =ROUND((ES32),2) -> 0 | AD32: =ROUND((((ET32)-(EU32))+AE32),2) -> 0 | AE32: =ROUND((EU32),2) -> 0 | AF32: =ROUND((EV32),2) -> 136.03 | AG32: =ROUND((AP32),2) -> 0 | AH32: =(EW32) -> 17.44 | AI32: =(EX32) -> 0 | AJ32: =ROUND((AS32),2) -> 0 | AK32: 136.03 | AL32: 0 | AM32: 0 | AN32: 0 | AO32: 136.03 | AP32: 0 | AQ32: 17.44 | AR32: 0 | AS32: 0 | AT32: 80 | AU32: 68 | AV32: 1 | AW32: 1 | AZ32: 6.08 | BA32: 6.08 | BB32: 6.08 | BC32: 6.08 | BH32: 0 | BI32: 1 | BJ32: ФЕРр-2001, 57-1-3, приказ Минстроя России №1039/пр от 30.12.2016г. | BM32: 57001 | BN32: 0 | BP32: 0 | BQ32: 6 | BR32: 0 | BS32: 6.08 | BT32: 1 | BU32: 1 | BV32: 1 | BW32: 1 | BX32: 1 | BZ32: 80 | CA32: 68 | CF32: 0 | CG32: 0 | CM32: 0 | CO32: 0 | CP32: =(P32+Q32+S32) -> 2431.56 | CQ32: =AC32*BC32 -> 0 | CR32: =AD32*BB32 -> 0 | CS32: =AE32*BS32 -> 0 | CT32: =AF32*BA32 -> 827.0624 | CU32: =AG32 -> 0 | CV32: =AH32 -> 17.44 | CW32: =AI32 -> 0 | CX32: =AJ32 -> 0 | CY32: =(((S32+R32)*AT32)/100) -> 1945.248 | CZ32: =(((S32+R32)*AU32)/100) -> 1653.4608 | DN32: 0 | DO32: 0 | DP32: 1 | DQ32: 1 | DU32: 1005 | DV32: 100 м2 | DW32: 100 м2 | DX32: 100 | EE32: 39174582 | EF32: 6 | EG32: Ремонтно-строительные работы | EH32: 0 | EJ32: 1 | EK32: 57001 | EL32: Полы | EM32: рФЕР-57 | EQ32: 0 | ER32: 136.03 | ES32: 0 | ET32: 0 | EU32: 0 | EV32: 136.03 | EW32: 17.44 | EX32: 0 | EY32: 0 | FQ32: 0 | FR32: =ROUND(IF(AND(BH32=3,BI32=3),P32,0),2) -> 0 | FS32: 0 | FX32: 80 | FY32: 68 | GD32: 0 | GF32: -1405761312 | GG32: 1 | GH32: 1 | GI32: 4 | GJ32: 0 | GK32: =ROUND(R32*(R12)/100,2) -> 0 | GL32: =ROUND(IF(AND(BH32=3,BI32=3,FS32<>0),P32,0),2) -> 0 | GM32: =ROUND(O32+X32+Y32+GK32,2)+GX32 -> 6030.27 | GN32: =IF(OR(BI32=0,BI32=1),ROUND(O32+X32+Y32+GK32,2),0) -> 6030.27 | GO32: =IF(BI32=2,ROUND(O32+X32+Y32+GK32,2),0) -> 0 | GP32: =IF(BI32=4,ROUND(O32+X32+Y32+GK32,2)+GX32,0) -> 0 | GR32: 0 | GS32: 3 | GT32: 0 | GV32: =ROUND(GT32,2) -> 0 | GW32: 1 | GX32: =ROUND(GV32*GW32*I32,2) -> 0 | HA32: 0 | HB32: 0 | IK32: 0
A33: 17 | B33: 1 | C33: =ROW(SmtRes!A29) -> 29 | D33: =ROW(EtalonRes!A37) -> 37 | E33: 6 | F33: 57-1-2 | G33: Разборка оснований покрытия полов лаг из досок и брусков | H33: 100 м2 | I33: 2.94 | J33: 0 | O33: =ROUND(CP33,2) -> 1069.47 | P33: =ROUND(CQ33*I33,2) -> 0 | Q33: =ROUND(CR33*I33,2) -> 0 | R33: =ROUND(CS33*I33,2) -> 0 | S33: =ROUND(CT33*I33,2) -> 1069.47 | T33: =ROUND(CU33*I33,2) -> 0 | U33: =CV33*I33 -> 22.5498 | V33: =CW33*I33 -> 0 | W33: =ROUND(CX33*I33,2) -> 0 | X33: =ROUND(CY33,2) -> 855.58 | Y33: =ROUND(CZ33,2) -> 727.24 | AA33: 39278658 | AB33: =ROUND((AC33+AD33+AF33),2) -> 59.83 | AC33: =ROUND((ES33),2) -> 0 | AD33: =ROUND((((ET33)-(EU33))+AE33),2) -> 0 | AE33: =ROUND((EU33),2) -> 0 | AF33: =ROUND((EV33),2) -> 59.83 | AG33: =ROUND((AP33),2) -> 0 | AH33: =(EW33) -> 7.67 | AI33: =(EX33) -> 0 | AJ33: =ROUND((AS33),2) -> 0 | AK33: 59.83 | AL33: 0 | AM33: 0 | AN33: 0 | AO33: 59.83 | AP33: 0 | AQ33: 7.67 | AR33: 0 | AS33: 0 | AT33: 80 | AU33: 68 | AV33: 1 | AW33: 1 | AZ33: 6.08 | BA33: 6.08 | BB33: 6.08 | BC33: 6.08 | BH33: 0 | BI33: 1 | BJ33: ФЕРр-2001, 57-1-2, приказ Минстроя России №1039/пр от 30.12.2016г. | BM33: 57001 | BN33: 0 | BP33: 0 | BQ33: 6 | BR33: 0 | BS33: 6.08 | BT33: 1 | BU33: 1 | BV33: 1 | BW33: 1 | BX33: 1 | BZ33: 80 | CA33: 68 | CF33: 0 | CG33: 0 | CM33: 0 | CO33: 0 | CP33: =(P33+Q33+S33) -> 1069.47 | CQ33: =AC33*BC33 -> 0 | CR33: =AD33*BB33 -> 0 | CS33: =AE33*BS33 -> 0 | CT33: =AF33*BA33 -> 363.7664 | CU33: =AG33 -> 0 | CV33: =AH33 -> 7.67 | CW33: =AI33 -> 0 | CX33: =AJ33 -> 0 | CY33: =(((S33+R33)*AT33)/100) -> 855.576 | CZ33: =(((S33+R33)*AU33)/100) -> 727.2396 | DN33: 0 | DO33: 0 | DP33: 1 | DQ33: 1 | DU33: 1005 | DV33: 100 м2 | DW33: 100 м2 | DX33: 100 | EE33: 39174582 | EF33: 6 | EG33: Ремонтно-строительные работы | EH33: 0 | EJ33: 1 | EK33: 57001 | EL33: Полы | EM33: рФЕР-57 | EQ33: 0 | ER33: 59.83 | ES33: 0 | ET33: 0 | EU33: 0 | EV33: 59.83 | EW33: 7.67 | EX33: 0 | EY33: 0 | FQ33: 0 | FR33: =ROUND(IF(AND(BH33=3,BI33=3),P33,0),2) -> 0 | FS33: 0 | FX33: 80 | FY33: 68 | GD33: 0 | GF33: 530355128 | GG33: 1 | GH33: 1 | GI33: 4 | GJ33: 0 | GK33: =ROUND(R33*(R12)/100,2) -> 0 | GL33: =ROUND(IF(AND(BH33=3,BI33=3,FS33<>0),P33,0),2) -> 0 | GM33: =ROUND(O33+X33+Y33+GK33,2)+GX33 -> 2652.29 | GN33: =IF(OR(BI33=0,BI33=1),ROUND(O33+X33+Y33+GK33,2),0) -> 2652.29 | GO33: =IF(BI33=2,ROUND(O33+X33+Y33+GK33,2),0) -> 0 | GP33: =IF(BI33=4,ROUND(O33+X33+Y33+GK33,2)+GX33,0) -> 0 | GR33: 0 | GS33: 3 | GT33: 0 | GV33: =ROUND(GT33,2) -> 0 | GW33: 1 | GX33: =ROUND(GV33*GW33*I33,2) -> 0 | HA33: 0 | HB33: 0 | IK33: 0
A34: 17 | B34: 1 | C34: =ROW(SmtRes!A30) -> 30 | D34: =ROW(EtalonRes!A39) -> 39 | E34: 7 | F34: 57-1-1 | G34: Разборка оснований покрытия полов кирпичных столбиков под лаги | H34: 100 м2 | I34: 2.94 | J34: 0 | O34: =ROUND(CP34,2) -> 1214.44 | P34: =ROUND(CQ34*I34,2) -> 0 | Q34: =ROUND(CR34*I34,2) -> 0 | R34: =ROUND(CS34*I34,2) -> 0 | S34: =ROUND(CT34*I34,2) -> 1214.44 | T34: =ROUND(CU34*I34,2) -> 0 | U34: =CV34*I34 -> 25.6074 | V34: =CW34*I34 -> 0 | W34: =ROUND(CX34*I34,2) -> 0 | X34: =ROUND(CY34,2) -> 971.55 | Y34: =ROUND(CZ34,2) -> 825.82 | AA34: 39278658 | AB34: =ROUND((AC34+AD34+AF34),2) -> 67.94 | AC34: =ROUND((ES34),2) -> 0 | AD34: =ROUND((((ET34)-(EU34))+AE34),2) -> 0 | AE34: =ROUND((EU34),2) -> 0 | AF34: =ROUND((EV34),2) -> 67.94 | AG34: =ROUND((AP34),2) -> 0 | AH34: =(EW34) -> 8.71 | AI34: =(EX34) -> 0 | AJ34: =ROUND((AS34),2) -> 0 | AK34: 67.94 | AL34: 0 | AM34: 0 | AN34: 0 | AO34: 67.94 | AP34: 0 | AQ34: 8.71 | AR34: 0 | AS34: 0 | AT34: 80 | AU34: 68 | AV34: 1 | AW34: 1 | AZ34: 6.08 | BA34: 6.08 | BB34: 6.08 | BC34: 6.08 | BH34: 0 | BI34: 1 | BJ34: ФЕРр-2001, 57-1-1, приказ Минстроя России №1039/пр от 30.12.2016г. | BM34: 57001 | BN34: 0 | BP34: 0 | BQ34: 6 | BR34: 0 | BS34: 6.08 | BT34: 1 | BU34: 1 | BV34: 1 | BW34: 1 | BX34: 1 | BZ34: 80 | CA34: 68 | CF34: 0 | CG34: 0 | CM34: 0 | CO34: 0 | CP34: =(P34+Q34+S34) -> 1214.44 | CQ34: =AC34*BC34 -> 0 | CR34: =AD34*BB34 -> 0 | CS34: =AE34*BS34 -> 0 | CT34: =AF34*BA34 -> 413.0752 | CU34: =AG34 -> 0 | CV34: =AH34 -> 8.71 | CW34: =AI34 -> 0 | CX34: =AJ34 -> 0 | CY34: =(((S34+R34)*AT34)/100) -> 971.552 | CZ34: =(((S34+R34)*AU34)/100) -> 825.8192 | DN34: 0 | DO34: 0 | DP34: 1 | DQ34: 1 | DU34: 1005 | DV34: 100 м2 | DW34: 100 м2 | DX34: 100 | EE34: 39174582 | EF34: 6 | EG34: Ремонтно-строительные работы | EH34: 0 | EJ34: 1 | EK34: 57001 | EL34: Полы | EM34: рФЕР-57 | EQ34: 0 | ER34: 67.94 | ES34: 0 | ET34: 0 | EU34: 0 | EV34: 67.94 | EW34: 8.71 | EX34: 0 | EY34: 0 | FQ34: 0 | FR34: =ROUND(IF(AND(BH34=3,BI34=3),P34,0),2) -> 0 | FS34: 0 | FX34: 80 | FY34: 68 | GD34: 0 | GF34: -1310318022 | GG34: 1 | GH34: 1 | GI34: 4 | GJ34: 0 | GK34: =ROUND(R34*(R12)/100,2) -> 0 | GL34: =ROUND(IF(AND(BH34=3,BI34=3,FS34<>0),P34,0),2) -> 0 | GM34: =ROUND(O34+X34+Y34+GK34,2)+GX34 -> 3011.81 | GN34: =IF(OR(BI34=0,BI34=1),ROUND(O34+X34+Y34+GK34,2),0) -> 3011.81 | GO34: =IF(BI34=2,ROUND(O34+X34+Y34+GK34,2),0) -> 0 | GP34: =IF(BI34=4,ROUND(O34+X34+Y34+GK34,2)+GX34,0) -> 0 | GR34: 0 | GS34: 3 | GT34: 0 | GV34: =ROUND(GT34,2) -> 0 | GW34: 1 | GX34: =ROUND(GV34*GW34*I34,2) -> 0 | HA34: 0 | HB34: 0 | IK34: 0
A35: 17 | B35: 1 | C35: =ROW(SmtRes!A33) -> 33 | D35: =ROW(EtalonRes!A42) -> 42 | E35: 8 | F35: 46-04-012-03 | G35: Разборка деревянных заполнений проемов дверных и воротных | H35: 100 м2 | I35: 0.1595 | J35: 0 | O35: =ROUND(CP35,2) -> 1049.84 | P35: =ROUND(CQ35*I35,2) -> 0 | Q35: =ROUND(CR35*I35,2) -> 234.63 | R35: =ROUND(CS35*I35,2) -> 101.33 | S35: =ROUND(CT35*I35,2) -> 815.21 | T35: =ROUND(CU35*I35,2) -> 0 | U35: =CV35*I35 -> 16.573645 | V35: =CW35*I35 -> 1.23453 | W35: =ROUND(CX35*I35,2) -> 0 | X35: =ROUND(CY35,2) -> 907.37 | Y35: =ROUND(CZ35,2) -> 549.92 | AA35: 39278658 | AB35: =ROUND((AC35+AD35+AF35),2) -> 1082.58 | AC35: =ROUND((ES35),2) -> 0 | AD35: =ROUND((((ET35)-(EU35))+AE35),2) -> 241.95 | AE35: =ROUND((EU35),2) -> 104.49 | AF35: =ROUND((EV35),2) -> 840.63 | AG35: =ROUND((AP35),2) -> 0 | AH35: =(EW35) -> 103.91 | AI35: =(EX35) -> 7.74 | AJ35: =ROUND((AS35),2) -> 0 | AK35: 1082.58 | AL35: 0 | AM35: 241.95 | AN35: 104.49 | AO35: 840.63 | AP35: 0 | AQ35: 103.91 | AR35: 7.74 | AS35: 0 | AT35: 99 | AU35: 60 | AV35: 1 | AW35: 1 | AZ35: 6.08 | BA35: 6.08 | BB35: 6.08 | BC35: 6.08 | BH35: 0 | BI35: 1 | BJ35: ФЕР-2001, 46-04-012-03, приказ Минстроя России №1039/пр от 30.12.2016г. | BM35: 46001 | BN35: 0 | BP35: 0 | BQ35: 2 | BR35: 0 | BS35: 6.08 | BT35: 1 | BU35: 1 | BV35: 1 | BW35: 1 | BX35: 1 | BZ35: 110 | CA35: 70 | CF35: 0 | CG35: 0 | CM35: 0 | CO35: 0 | CP35: =(P35+Q35+S35) -> 1049.84 | CQ35: =AC35*BC35 -> 0 | CR35: =AD35*BB35 -> 1471.056 | CS35: =AE35*BS35 -> 635.2992 | CT35: =AF35*BA35 -> 5111.0304 | CU35: =AG35 -> 0 | CV35: =AH35 -> 103.91 | CW35: =AI35 -> 7.74 | CX35: =AJ35 -> 0 | CY35: =(((S35+R35)*AT35)/100) -> 907.3746 | CZ35: =(((S35+R35)*AU35)/100) -> 549.924 | DN35: 0 | DO35: 0 | DP35: 1 | DQ35: 1 | DU35: 1005 | DV35: 100 м2 | DW35: 100 м2 | DX35: 100 | EE35: 39174571 | EF35: 2 | EG35: Общестроительные работы | EH35: 0 | EJ35: 1 | EK35: 46001 | EL35: Реконструкция зданий и сооружений | EM35: ФЕР-46 | EQ35: 0 | ER35: 1082.58 | ES35: 0 | ET35: 241.95 | EU35: 104.49 | EV35: 840.63 | EW35: 103.91 | EX35: 7.74 | EY35: 0 | FQ35: 0 | FR35: =ROUND(IF(AND(BH35=3,BI35=3),P35,0),2) -> 0 | FS35: 0 | FT35: *0,9 | FU35: *0,85 | FX35: 99 | FY35: 59.5 | GD35: 0 | GF35: 309229644 | GG35: 1 | GH35: 1 | GI35: 4 | GJ35: 0 | GK35: =ROUND(R35*(R12)/100,2) -> 0 | GL35: =ROUND(IF(AND(BH35=3,BI35=3,FS35<>0),P35,0),2) -> 0 | GM35: =ROUND(O35+X35+Y35+GK35,2)+GX35 -> 2507.13 | GN35: =IF(OR(BI35=0,BI35=1),ROUND(O35+X35+Y35+GK35,2),0) -> 2507.13 | GO35: =IF(BI35=2,ROUND(O35+X35+Y35+GK35,2),0) -> 0 | GP35: =IF(BI35=4,ROUND(O35+X35+Y35+GK35,2)+GX35,0) -> 0 | GR35: 0 | GS35: 3 | GT35: 0 | GV35: =ROUND(GT35,2) -> 0 | GW35: 1 | GX35: =ROUND(GV35*GW35*I35,2) -> 0 | HA35: 0 | HB35: 0 | IK35: 0
A36: 17 | B36: 1 | C36: =ROW(SmtRes!A40) -> 40 | D36: =ROW(EtalonRes!A51) -> 51 | E36: 9 | F36: 09-04-012-01 | G36: Демонтаж: Установка металлических дверных блоков из готовых проемов | H36: м2 | I36: 2.54 | J36: 0 | O36: =ROUND(CP36,2) -> 413.26 | P36: =ROUND(CQ36*I36,2) -> 0 | Q36: =ROUND(CR36*I36,2) -> 155.82 | R36: =ROUND(CS36*I36,2) -> 21.31 | S36: =ROUND(CT36*I36,2) -> 257.44 | T36: =ROUND(CU36*I36,2) -> 0 | U36: =CV36*I36 -> 4.2672 | V36: =CW36*I36 -> 0.30226 | W36: =ROUND(CX36*I36,2) -> 0 | X36: =ROUND(CY36,2) -> 225.79 | Y36: =ROUND(CZ36,2) -> 200.7 | AA36: 39278658 | AB36: =ROUND((AC36+AD36+AF36),2) -> 26.76 | AC36: =ROUND(((ES36*0)),2) -> 0 | AD36: =ROUND(((((ET36*0.7))-((EU36*0.7)))+AE36),2) -> 10.09 | AE36: =ROUND(((EU36*0.7)),2) -> 1.38 | AF36: =ROUND(((EV36*0.7)),2) -> 16.67 | AG36: =ROUND((AP36),2) -> 0 | AH36: =((EW36*0.7)) -> 1.68 | AI36: =((EX36*0.7)) -> 0.119 | AJ36: =ROUND((AS36),2) -> 0 | AK36: 63.94 | AL36: 25.72 | AM36: 14.41 | AN36: 1.97 | AO36: 23.81 | AP36: 0 | AQ36: 2.4 | AR36: 0.17 | AS36: 0 | AT36: 81 | AU36: 72 | AV36: 1 | AW36: 1 | AZ36: 6.08 | BA36: 6.08 | BB36: 6.08 | BC36: 6.08 | BH36: 0 | BI36: 1 | BJ36: ФЕР-2001, 09-04-012-01, приказ Минстроя России №1039/пр от 30.12.2016г. | BM36: 9001 | BN36: 0 | BP36: 0 | BQ36: 2 | BR36: 0 | BS36: 6.08 | BT36: 1 | BU36: 1 | BV36: 1 | BW36: 1 | BX36: 1 | BZ36: 90 | CA36: 85 | CF36: 0 | CG36: 0 | CM36: 0 | CN36: Поправка: МДС 81-36.2004, п.3.3.1.д Наименование: При демонтаже металлических конструкций | CO36: 0 | CP36: =(P36+Q36+S36) -> 413.26 | CQ36: =AC36*BC36 -> 0 | CR36: =AD36*BB36 -> 61.3472 | CS36: =AE36*BS36 -> 8.3904 | CT36: =AF36*BA36 -> 101.3536 | CU36: =AG36 -> 0 | CV36: =AH36 -> 1.68 | CW36: =AI36 -> 0.119 | CX36: =AJ36 -> 0 | CY36: =(((S36+R36)*AT36)/100) -> 225.7875 | CZ36: =(((S36+R36)*AU36)/100) -> 200.7 | DD36: )*0 | DE36: )*0,7 | DF36: )*0,7 | DG36: )*0,7 | DI36: )*0,7 | DJ36: )*0,7 | DN36: 0 | DO36: 0 | DP36: 1 | DQ36: 1 | DU36: 1005 | DV36: м2 | DW36: м2 | DX36: 1 | EE36: 39174502 | EF36: 2 | EG36: Общестроительные работы | EH36: 0 | EJ36: 1 | EK36: 9001 | EL36: Металлические конструкции | EM36: ФЕР-09 | EO36: Поправка: МДС 81-36.2004, п.3.3.1.д | EQ36: 0 | ER36: 63.94 | ES36: 25.72 | ET36: 14.41 | EU36: 1.97 | EV36: 23.81 | EW36: 2.4 | EX36: 0.17 | EY36: 0 | FQ36: 0 | FR36: =ROUND(IF(AND(BH36=3,BI36=3),P36,0),2) -> 0 | FS36: 0 | FT36: *0,9 | FU36: *0,85 | FX36: 81 | FY36: 72.25 | GD36: 0 | GF36: -1886295131 | GG36: 1 | GH36: 1 | GI36: 4 | GJ36: 0 | GK36: =ROUND(R36*(R12)/100,2) -> 0 | GL36: =ROUND(IF(AND(BH36=3,BI36=3,FS36<>0),P36,0),2) -> 0 | GM36: =ROUND(O36+X36+Y36+GK36,2)+GX36 -> 839.75 | GN36: =IF(OR(BI36=0,BI36=1),ROUND(O36+X36+Y36+GK36,2),0) -> 839.75 | GO36: =IF(BI36=2,ROUND(O36+X36+Y36+GK36,2),0) -> 0 | GP36: =IF(BI36=4,ROUND(O36+X36+Y36+GK36,2)+GX36,0) -> 0 | GR36: 0 | GS36: 3 | GT36: 0 | GV36: =ROUND(GT36,2) -> 0 | GW36: 1 | GX36: =ROUND(GV36*GW36*I36,2) -> 0 | HA36: 0 | HB36: 0 | IK36: 0
A37: 17 | B37: 1 | C37: =ROW(SmtRes!A48) -> 48 | D37: =ROW(EtalonRes!A59) -> 59 | E37: 10 | F37: 10-01-014-04 прим. | G37: Демонтаж: Устройство чистых перегородок каркасных с обшивкой фанерой с одной стороны (Экраны) | H37: 100 м2 | I37: =ROUND(105/100,9) -> 1.05 | J37: 0 | O37: =ROUND(CP37,2) -> 4822.73 | P37: =ROUND(CQ37*I37,2) -> 0 | Q37: =ROUND(CR37*I37,2) -> 57.07 | R37: =ROUND(CS37*I37,2) -> 10.09 | S37: =ROUND(CT37*I37,2) -> 4765.66 | T37: =ROUND(CU37*I37,2) -> 0 | U37: =CV37*I37 -> 90.72 | V37: =CW37*I37 -> 0.1428 | W37: =ROUND(CX37*I37,2) -> 0 | X37: =ROUND(CY37,2) -> 5062.3 | Y37: =ROUND(CZ37,2) -> 2578.91 | AA37: 39278658 | AB37: =ROUND((AC37+AD37+AF37),2) -> 755.44 | AC37: =ROUND(((ES37*0)),2) -> 0 | AD37: =ROUND(((((ET37*0.8))-((EU37*0.8)))+AE37),2) -> 8.94 | AE37: =ROUND(((EU37*0.8)),2) -> 1.58 | AF37: =ROUND(((EV37*0.8)),2) -> 746.5 | AG37: =ROUND((AP37),2) -> 0 | AH37: =((EW37*0.8)) -> 86.4 | AI37: =((EX37*0.8)) -> 0.136 | AJ37: =ROUND((AS37),2) -> 0 | AK37: 4094.31 | AL37: 3150.02 | AM37: 11.17 | AN37: 1.97 | AO37: 933.12 | AP37: 0 | AQ37: 108 | AR37: 0.17 | AS37: 0 | AT37: 106 | AU37: 54 | AV37: 1 | AW37: 1 | AZ37: 6.08 | BA37: 6.08 | BB37: 6.08 | BC37: 6.08 | BH37: 0 | BI37: 1 | BJ37: ФЕР-2001, 10-01-014-04, приказ Минстроя России №1039/пр от 30.12.2016г. | BM37: 10001 | BN37: 0 | BP37: 0 | BQ37: 2 | BR37: 0 | BS37: 6.08 | BT37: 1 | BU37: 1 | BV37: 1 | BW37: 1 | BX37: 1 | BZ37: 118 | CA37: 63 | CF37: 0 | CG37: 0 | CM37: 0 | CN37: Поправка: Табл.2, п.2 Наименование: При демонтаже (разборке) сборных деревянных конструкций Поправка: МДС 81-36.2004, п.3.3.1.д Наименование: При демонтаже металлических конструкций Поправка: МДС 81-36.2004, п.3.3.1.а Наименование: При демонтаже (разборке) сборных бетонных и железобетонных конструкций | CO37: 0 | CP37: =(P37+Q37+S37) -> 4822.73 | CQ37: =AC37*BC37 -> 0 | CR37: =AD37*BB37 -> 54.3552 | CS37: =AE37*BS37 -> 9.6064 | CT37: =AF37*BA37 -> 4538.72 | CU37: =AG37 -> 0 | CV37: =AH37 -> 86.4 | CW37: =AI37 -> 0.136 | CX37: =AJ37 -> 0 | CY37: =(((S37+R37)*AT37)/100) -> 5062.295 | CZ37: =(((S37+R37)*AU37)/100) -> 2578.905 | DD37: )*0 | DE37: )*0,8 | DF37: )*0,8 | DG37: )*0,8 | DI37: )*0,8 | DJ37: )*0,8 | DN37: 0 | DO37: 0 | DP37: 1 | DQ37: 1 | DU37: 1005 | DV37: 100 м2 | DW37: 100 м2 | DX37: 100 | EE37: 39174503 | EF37: 2 | EG37: Общестроительные работы | EH37: 0 | EJ37: 1 | EK37: 10001 | EL37: Деревянные конструкции | EM37: ФЕР-10 | EO37: Поправка: Табл.2, п.2 Поправка: МДС 81-36.2004, п.3.3.1.д Поправка: МДС 81-36.2004, п.3.3.1.а | EQ37: 0 | ER37: 4094.31 | ES37: 3150.02 | ET37: 11.17 | EU37: 1.97 | EV37: 933.12 | EW37: 108 | EX37: 0.17 | EY37: 0 | FQ37: 0 | FR37: =ROUND(IF(AND(BH37=3,BI37=3),P37,0),2) -> 0 | FS37: 0 | FT37: *0,9 | FU37: *0,85 | FX37: 106.2 | FY37: 53.55 | GD37: 0 | GF37: 1445814459 | GG37: 1 | GH37: 1 | GI37: 4 | GJ37: 0 | GK37: =ROUND(R37*(R12)/100,2) -> 0 | GL37: =ROUND(IF(AND(BH37=3,BI37=3,FS37<>0),P37,0),2) -> 0 | GM37: =ROUND(O37+X37+Y37+GK37,2)+GX37 -> 12463.94 | GN37: =IF(OR(BI37=0,BI37=1),ROUND(O37+X37+Y37+GK37,2),0) -> 12463.94 | GO37: =IF(BI37=2,ROUND(O37+X37+Y37+GK37,2),0) -> 0 | GP37: =IF(BI37=4,ROUND(O37+X37+Y37+GK37,2)+GX37,0) -> 0 | GR37: 0 | GS37: 3 | GT37: 0 | GV37: =ROUND(GT37,2) -> 0 | GW37: 1 | GX37: =ROUND(GV37*GW37*I37,2) -> 0 | HA37: 0 | HB37: 0 | IK37: 0
A38: 17 | B38: 1 | C38: =ROW(SmtRes!A56) -> 56 | D38: =ROW(EtalonRes!A67) -> 67 | E38: 11 | F38: 10-01-014-02 прим | G38: Демонтаж:Устройство чистых перегородок дощатых однослойных (короб деревянный) | H38: 100 м2 | I38: =ROUND(15.34/100,9) -> 0.1534 | J38: 0 | O38: =ROUND(CP38,2) -> 895.39 | P38: =ROUND(CQ38*I38,2) -> 0 | Q38: =ROUND(CR38*I38,2) -> 112.43 | R38: =ROUND(CS38*I38,2) -> 15.31 | S38: =ROUND(CT38*I38,2) -> 782.96 | T38: =ROUND(CU38*I38,2) -> 0 | U38: =CV38*I38 -> 15.918011 | V38: =CW38*I38 -> 0.1975792 | W38: =ROUND(CX38*I38,2) -> 0 | X38: =ROUND(CY38,2) -> 846.17 | Y38: =ROUND(CZ38,2) -> 431.07 | AA38: 39278658 | AB38: =ROUND((AC38+AD38+AF38),2) -> 960.03 | AC38: =ROUND(((ES38*0)),2) -> 0 | AD38: =ROUND(((((ET38*0.8))-((EU38*0.8)))+AE38),2) -> 120.55 | AE38: =ROUND(((EU38*0.8)),2) -> 16.42 | AF38: =ROUND(((EV38*0.8)),2) -> 839.48 | AG38: =ROUND((AP38),2) -> 0 | AH38: =((EW38*0.8)) -> 103.768 | AI38: =((EX38*0.8)) -> 1.288 | AJ38: =ROUND((AS38),2) -> 0 | AK38: 8166.64 | AL38: 6966.61 | AM38: 150.68 | AN38: 20.52 | AO38: 1049.35 | AP38: 0 | AQ38: 129.71 | AR38: 1.61 | AS38: 0 | AT38: 106 | AU38: 54 | AV38: 1 | AW38: 1 | AZ38: 6.08 | BA38: 6.08 | BB38: 6.08 | BC38: 6.08 | BH38: 0 | BI38: 1 | BJ38: ФЕР-2001, 10-01-014-02, приказ Минстроя России №1039/пр от 30.12.2016г. | BM38: 10001 | BN38: 0 | BP38: 0 | BQ38: 2 | BR38: 0 | BS38: 6.08 | BT38: 1 | BU38: 1 | BV38: 1 | BW38: 1 | BX38: 1 | BZ38: 118 | CA38: 63 | CF38: 0 | CG38: 0 | CM38: 0 | CN38: Поправка: Табл.2, п.2 Наименование: При демонтаже (разборке) сборных деревянных конструкций | CO38: 0 | CP38: =(P38+Q38+S38) -> 895.39 | CQ38: =AC38*BC38 -> 0 | CR38: =AD38*BB38 -> 732.944 | CS38: =AE38*BS38 -> 99.8336 | CT38: =AF38*BA38 -> 5104.0384 | CU38: =AG38 -> 0 | CV38: =AH38 -> 103.768 | CW38: =AI38 -> 1.288 | CX38: =AJ38 -> 0 | CY38: =(((S38+R38)*AT38)/100) -> 846.1662 | CZ38: =(((S38+R38)*AU38)/100) -> 431.0658 | DD38: )*0 | DE38: )*0,8 | DF38: )*0,8 | DG38: )*0,8 | DI38: )*0,8 | DJ38: )*0,8 | DN38: 0 | DO38: 0 | DP38: 1 | DQ38: 1 | DU38: 1005 | DV38: 100 м2 | DW38: 100 м2 | DX38: 100 | EE38: 39174503 | EF38: 2 | EG38: Общестроительные работы | EH38: 0 | EJ38: 1 | EK38: 10001 | EL38: Деревянные конструкции | EM38: ФЕР-10 | EO38: Поправка: Табл.2, п.2 | EQ38: 0 | ER38: 8166.64 | ES38: 6966.61 | ET38: 150.68 | EU38: 20.52 | EV38: 1049.35 | EW38: 129.71 | EX38: 1.61 | EY38: 0 | FQ38: 0 | FR38: =ROUND(IF(AND(BH38=3,BI38=3),P38,0),2) -> 0 | FS38: 0 | FT38: *0,9 | FU38: *0,85 | FX38: 106.2 | FY38: 53.55 | GD38: 0 | GF38: 1270186788 | GG38: 1 | GH38: 1 | GI38: 4 | GJ38: 0 | GK38: =ROUND(R38*(R12)/100,2) -> 0 | GL38: =ROUND(IF(AND(BH38=3,BI38=3,FS38<>0),P38,0),2) -> 0 | GM38: =ROUND(O38+X38+Y38+GK38,2)+GX38 -> 2172.63 | GN38: =IF(OR(BI38=0,BI38=1),ROUND(O38+X38+Y38+GK38,2),0) -> 2172.63 | GO38: =IF(BI38=2,ROUND(O38+X38+Y38+GK38,2),0) -> 0 | GP38: =IF(BI38=4,ROUND(O38+X38+Y38+GK38,2)+GX38,0) -> 0 | GR38: 0 | GS38: 3 | GT38: 0 | GV38: =ROUND(GT38,2) -> 0 | GW38: 1 | GX38: =ROUND(GV38*GW38*I38,2) -> 0 | HA38: 0 | HB38: 0 | IK38: 0
A39: 17 | B39: 1 | C39: =ROW(SmtRes!A64) -> 64 | D39: =ROW(EtalonRes!A75) -> 75 | E39: 12 | F39: 10-01-052-02 прим. | G39: Разборка: Устройство внутриквартирных лестниц без подшивки (стенка шведская) | H39: м2 | I39: 16.8 | J39: 0 | O39: =ROUND(CP39,2) -> 3529.07 | P39: =ROUND(CQ39*I39,2) -> 0 | Q39: =ROUND(CR39*I39,2) -> 321.75 | R39: =ROUND(CS39*I39,2) -> 57.2 | S39: =ROUND(CT39*I39,2) -> 3207.32 | T39: =ROUND(CU39*I39,2) -> 0 | U39: =CV39*I39 -> 54.8352 | V39: =CW39*I39 -> 0.8064 | W39: =ROUND(CX39*I39,2) -> 0 | X39: =ROUND(CY39,2) -> 3460.39 | Y39: =ROUND(CZ39,2) -> 1762.84 | AA39: 39278658 | AB39: =ROUND((AC39+AD39+AF39),2) -> 34.55 | AC39: =ROUND(((ES39*0)),2) -> 0 | AD39: =ROUND(((((ET39*0.8))-((EU39*0.8)))+AE39),2) -> 3.15 | AE39: =ROUND(((EU39*0.8)),2) -> 0.56 | AF39: =ROUND(((EV39*0.8)),2) -> 31.4 | AG39: =ROUND((AP39),2) -> 0 | AH39: =((EW39*0.8)) -> 3.264 | AI39: =((EX39*0.8)) -> 0.048 | AJ39: =ROUND((AS39),2) -> 0 | AK39: 441.48 | AL39: 398.29 | AM39: 3.94 | AN39: 0.7 | AO39: 39.25 | AP39: 0 | AQ39: 4.08 | AR39: 0.06 | AS39: 0 | AT39: 106 | AU39: 54 | AV39: 1 | AW39: 1 | AZ39: 6.08 | BA39: 6.08 | BB39: 6.08 | BC39: 6.08 | BH39: 0 | BI39: 1 | BJ39: ФЕР-2001, 10-01-052-02, приказ Минстроя России №1039/пр от 30.12.2016г. | BM39: 10001 | BN39: 0 | BP39: 0 | BQ39: 2 | BR39: 0 | BS39: 6.08 | BT39: 1 | BU39: 1 | BV39: 1 | BW39: 1 | BX39: 1 | BZ39: 118 | CA39: 63 | CF39: 0 | CG39: 0 | CM39: 0 | CN39: Поправка: Табл.2, п.2 Наименование: При демонтаже (разборке) сборных деревянных конструкций | CO39: 0 | CP39: =(P39+Q39+S39) -> 3529.07 | CQ39: =AC39*BC39 -> 0 | CR39: =AD39*BB39 -> 19.152 | CS39: =AE39*BS39 -> 3.4048 | CT39: =AF39*BA39 -> 190.912 | CU39: =AG39 -> 0 | CV39: =AH39 -> 3.264 | CW39: =AI39 -> 0.048 | CX39: =AJ39 -> 0 | CY39: =(((S39+R39)*AT39)/100) -> 3460.3912 | CZ39: =(((S39+R39)*AU39)/100) -> 1762.8408 | DD39: )*0 | DE39: )*0,8 | DF39: )*0,8 | DG39: )*0,8 | DI39: )*0,8 | DJ39: )*0,8 | DN39: 0 | DO39: 0 | DP39: 1 | DQ39: 1 | DU39: 1005 | DV39: м2 | DW39: м2 | DX39: 1 | EE39: 39174503 | EF39: 2 | EG39: Общестроительные работы | EH39: 0 | EJ39: 1 | EK39: 10001 | EL39: Деревянные конструкции | EM39: ФЕР-10 | EO39: Поправка: Табл.2, п.2 | EQ39: 0 | ER39: 441.48 | ES39: 398.29 | ET39: 3.94 | EU39: 0.7 | EV39: 39.25 | EW39: 4.08 | EX39: 0.06 | EY39: 0 | FQ39: 0 | FR39: =ROUND(IF(AND(BH39=3,BI39=3),P39,0),2) -> 0 | FS39: 0 | FT39: *0,9 | FU39: *0,85 | FX39: 106.2 | FY39: 53.55 | GD39: 0 | GF39: -360648514 | GG39: 1 | GH39: 1 | GI39: 4 | GJ39: 0 | GK39: =ROUND(R39*(R12)/100,2) -> 0 | GL39: =ROUND(IF(AND(BH39=3,BI39=3,FS39<>0),P39,0),2) -> 0 | GM39: =ROUND(O39+X39+Y39+GK39,2)+GX39 -> 8752.3 | GN39: =IF(OR(BI39=0,BI39=1),ROUND(O39+X39+Y39+GK39,2),0) -> 8752.3 | GO39: =IF(BI39=2,ROUND(O39+X39+Y39+GK39,2),0) -> 0 | GP39: =IF(BI39=4,ROUND(O39+X39+Y39+GK39,2)+GX39,0) -> 0 | GR39: 0 | GS39: 3 | GT39: 0 | GV39: =ROUND(GT39,2) -> 0 | GW39: 1 | GX39: =ROUND(GV39*GW39*I39,2) -> 0 | HA39: 0 | HB39: 0 | IK39: 0
A40: 17 | B40: 1 | C40: =ROW(SmtRes!A69) -> 69 | D40: =ROW(EtalonRes!A80) -> 80 | E40: 13 | F40: 10-02-031-03 прим. | G40: Разборка:Сборка перегородок дощатых щитовых (короб из ДСП) | H40: 100 м2 | I40: =ROUND(10.2/100,9) -> 0.102 | J40: 0 | O40: =ROUND(CP40,2) -> 254.95 | P40: =ROUND(CQ40*I40,2) -> 0 | Q40: =ROUND(CR40*I40,2) -> 68.94 | R40: =ROUND(CS40*I40,2) -> 10.11 | S40: =ROUND(CT40*I40,2) -> 186.01 | T40: =ROUND(CU40*I40,2) -> 0 | U40: =CV40*I40 -> 3.744624 | V40: =CW40*I40 -> 0.13464 | W40: =ROUND(CX40*I40,2) -> 0 | X40: =ROUND(CY40,2) -> 207.89 | Y40: =ROUND(CZ40,2) -> 105.9 | AA40: 39278658 | AB40: =ROUND((AC40+AD40+AF40),2) -> 411.11 | AC40: =ROUND(((ES40*0)),2) -> 0 | AD40: =ROUND(((((ET40*0.8))-((EU40*0.8)))+AE40),2) -> 111.17 | AE40: =ROUND(((EU40*0.8)),2) -> 16.31 | AF40: =ROUND(((EV40*0.8)),2) -> 299.94 | AG40: =ROUND((AP40),2) -> 0 | AH40: =((EW40*0.8)) -> 36.712 | AI40: =((EX40*0.8)) -> 1.32 | AJ40: =ROUND((AS40),2) -> 0 | AK40: 609.7 | AL40: 95.82 | AM40: 138.96 | AN40: 20.39 | AO40: 374.92 | AP40: 0 | AQ40: 45.89 | AR40: 1.65 | AS40: 0 | AT40: 106 | AU40: 54 | AV40: 1 | AW40: 1 | AZ40: 6.08 | BA40: 6.08 | BB40: 6.08 | BC40: 6.08 | BH40: 0 | BI40: 1 | BJ40: ФЕР-2001, 10-02-031-03, приказ Минстроя России №1039/пр от 30.12.2016г. | BM40: 10001 | BN40: 0 | BP40: 0 | BQ40: 2 | BR40: 0 | BS40: 6.08 | BT40: 1 | BU40: 1 | BV40: 1 | BW40: 1 | BX40: 1 | BZ40: 118 | CA40: 63 | CF40: 0 | CG40: 0 | CM40: 0 | CN40: Поправка: Табл.2, п.2 Наименование: При демонтаже (разборке) сборных деревянных конструкций | CO40: 0 | CP40: =(P40+Q40+S40) -> 254.95 | CQ40: =AC40*BC40 -> 0 | CR40: =AD40*BB40 -> 675.9136 | CS40: =AE40*BS40 -> 99.1648 | CT40: =AF40*BA40 -> 1823.6352 | CU40: =AG40 -> 0 | CV40: =AH40 -> 36.712 | CW40: =AI40 -> 1.32 | CX40: =AJ40 -> 0 | CY40: =(((S40+R40)*AT40)/100) -> 207.8872 | CZ40: =(((S40+R40)*AU40)/100) -> 105.9048 | DD40: )*0 | DE40: )*0,8 | DF40: )*0,8 | DG40: )*0,8 | DI40: )*0,8 | DJ40: )*0,8 | DN40: 0 | DO40: 0 | DP40: 1 | DQ40: 1 | DU40: 1005 | DV40: 100 м2 | DW40: 100 м2 | DX40: 100 | EE40: 39174503 | EF40: 2 | EG40: Общестроительные работы | EH40: 0 | EJ40: 1 | EK40: 10001 | EL40: Деревянные конструкции | EM40: ФЕР-10 | EO40: Поправка: Табл.2, п.2 | EQ40: 0 | ER40: 609.7 | ES40: 95.82 | ET40: 138.96 | EU40: 20.39 | EV40: 374.92 | EW40: 45.89 | EX40: 1.65 | EY40: 0 | FQ40: 0 | FR40: =ROUND(IF(AND(BH40=3,BI40=3),P40,0),2) -> 0 | FS40: 0 | FT40: *0,9 | FU40: *0,85 | FX40: 106.2 | FY40: 53.55 | GD40: 0 | GF40: 286433594 | GG40: 1 | GH40: 1 | GI40: 4 | GJ40: 0 | GK40: =ROUND(R40*(R12)/100,2) -> 0 | GL40: =ROUND(IF(AND(BH40=3,BI40=3,FS40<>0),P40,0),2) -> 0 | GM40: =ROUND(O40+X40+Y40+GK40,2)+GX40 -> 568.74 | GN40: =IF(OR(BI40=0,BI40=1),ROUND(O40+X40+Y40+GK40,2),0) -> 568.74 | GO40: =IF(BI40=2,ROUND(O40+X40+Y40+GK40,2),0) -> 0 | GP40: =IF(BI40=4,ROUND(O40+X40+Y40+GK40,2)+GX40,0) -> 0 | GR40: 0 | GS40: 3 | GT40: 0 | GV40: =ROUND(GT40,2) -> 0 | GW40: 1 | GX40: =ROUND(GV40*GW40*I40,2) -> 0 | HA40: 0 | HB40: 0 | IK40: 0
A41: 17 | B41: 1 | C41: =ROW(SmtRes!A79) -> 79 | D41: =ROW(EtalonRes!A90) -> 90 | E41: 14 | F41: 15-02-024-04 прим. | G41: Разборка:Облицовка древесноволокнистыми листами стен при отделке под оклейку обоями | H41: 100 м2 | I41: =ROUND(103/100,9) -> 1.03 | J41: 0 | O41: =ROUND(CP41,2) -> 2951.53 | P41: =ROUND(CQ41*I41,2) -> 0 | Q41: =ROUND(CR41*I41,2) -> 178.79 | R41: =ROUND(CS41*I41,2) -> 42.77 | S41: =ROUND(CT41*I41,2) -> 2772.74 | T41: =ROUND(CU41*I41,2) -> 0 | U41: =CV41*I41 -> 54.8784 | V41: =CW41*I41 -> 0.56856 | W41: =ROUND(CX41*I41,2) -> 0 | X41: =ROUND(CY41,2) -> 2674.73 | Y41: =ROUND(CZ41,2) -> 1323.29 | AA41: 39278658 | AB41: =ROUND((AC41+AD41+AF41),2) -> 471.31 | AC41: =ROUND(((ES41*0)),2) -> 0 | AD41: =ROUND(((((ET41*0.8))-((EU41*0.8)))+AE41),2) -> 28.55 | AE41: =ROUND(((EU41*0.8)),2) -> 6.83 | AF41: =ROUND(((EV41*0.8)),2) -> 442.76 | AG41: =ROUND((AP41),2) -> 0 | AH41: =((EW41*0.8)) -> 53.28 | AI41: =((EX41*0.8)) -> 0.552 | AJ41: =ROUND((AS41),2) -> 0 | AK41: 1979.02 | AL41: 1389.88 | AM41: 35.69 | AN41: 8.54 | AO41: 553.45 | AP41: 0 | AQ41: 66.6 | AR41: 0.69 | AS41: 0 | AT41: 95 | AU41: 47 | AV41: 1 | AW41: 1 | AZ41: 6.08 | BA41: 6.08 | BB41: 6.08 | BC41: 6.08 | BH41: 0 | BI41: 1 | BJ41: ФЕР-2001, 15-02-024-04, приказ Минстроя России №1039/пр от 30.12.2016г. | BM41: 15001 | BN41: 0 | BP41: 0 | BQ41: 2 | BR41: 0 | BS41: 6.08 | BT41: 1 | BU41: 1 | BV41: 1 | BW41: 1 | BX41: 1 | BZ41: 105 | CA41: 55 | CF41: 0 | CG41: 0 | CM41: 0 | CN41: Поправка: Табл.2, п.2 Наименование: При демонтаже (разборке) сборных деревянных конструкций | CO41: 0 | CP41: =(P41+Q41+S41) -> 2951.53 | CQ41: =AC41*BC41 -> 0 | CR41: =AD41*BB41 -> 173.584 | CS41: =AE41*BS41 -> 41.5264 | CT41: =AF41*BA41 -> 2691.9808 | CU41: =AG41 -> 0 | CV41: =AH41 -> 53.28 | CW41: =AI41 -> 0.552 | CX41: =AJ41 -> 0 | CY41: =(((S41+R41)*AT41)/100) -> 2674.7345 | CZ41: =(((S41+R41)*AU41)/100) -> 1323.2897 | DD41: )*0 | DE41: )*0,8 | DF41: )*0,8 | DG41: )*0,8 | DI41: )*0,8 | DJ41: )*0,8 | DN41: 0 | DO41: 0 | DP41: 1 | DQ41: 1 | DU41: 1005 | DV41: 100 м2 | DW41: 100 м2 | DX41: 100 | EE41: 39174529 | EF41: 2 | EG41: Общестроительные работы | EH41: 0 | EJ41: 1 | EK41: 15001 | EL41: Отделочные работы | EM41: ФЕР-15 | EO41: Поправка: Табл.2, п.2 | EQ41: 0 | ER41: 1979.02 | ES41: 1389.88 | ET41: 35.69 | EU41: 8.54 | EV41: 553.45 | EW41: 66.6 | EX41: 0.69 | EY41: 0 | FQ41: 0 | FR41: =ROUND(IF(AND(BH41=3,BI41=3),P41,0),2) -> 0 | FS41: 0 | FT41: *0,9 | FU41: *0,85 | FX41: 94.5 | FY41: 46.75 | GD41: 0 | GF41: 1327723444 | GG41: 1 | GH41: 1 | GI41: 4 | GJ41: 0 | GK41: =ROUND(R41*(R12)/100,2) -> 0 | GL41: =ROUND(IF(AND(BH41=3,BI41=3,FS41<>0),P41,0),2) -> 0 | GM41: =ROUND(O41+X41+Y41+GK41,2)+GX41 -> 6949.55 | GN41: =IF(OR(BI41=0,BI41=1),ROUND(O41+X41+Y41+GK41,2),0) -> 6949.55 | GO41: =IF(BI41=2,ROUND(O41+X41+Y41+GK41,2),0) -> 0 | GP41: =IF(BI41=4,ROUND(O41+X41+Y41+GK41,2)+GX41,0) -> 0 | GR41: 0 | GS41: 3 | GT41: 0 | GV41: =ROUND(GT41,2) -> 0 | GW41: 1 | GX41: =ROUND(GV41*GW41*I41,2) -> 0 | HA41: 0 | HB41: 0 | IK41: 0
A42: 17 | B42: 1 | C42: =ROW(SmtRes!A90) -> 90 | D42: =ROW(EtalonRes!A101) -> 101 | E42: 15 | F42: 15-02-041-03 | G42: Разборка :Устройство металлического каркаса из направляющих профилей под облицовку различными материалами стен | H42: 100 м2 | I42: =ROUND(103/100,9) -> 1.03 | J42: 0 | O42: =ROUND(CP42,2) -> 1730.74 | P42: =ROUND(CQ42*I42,2) -> 0 | Q42: =ROUND(CR42*I42,2) -> 6.58 | R42: =ROUND(CS42*I42,2) -> 2.57 | S42: =ROUND(CT42*I42,2) -> 1724.16 | T42: =ROUND(CU42*I42,2) -> 0 | U42: =CV42*I42 -> 33.24531 | V42: =CW42*I42 -> 0.02884 | W42: =ROUND(CX42*I42,2) -> 0 | X42: =ROUND(CY42,2) -> 1640.39 | Y42: =ROUND(CZ42,2) -> 811.56 | AA42: 39278658 | AB42: =ROUND((AC42+AD42+AF42),2) -> 276.37 | AC42: =ROUND(((ES42*0)),2) -> 0 | AD42: =ROUND(((((ET42*0.7))-((EU42*0.7)))+AE42),2) -> 1.05 | AE42: =ROUND(((EU42*0.7)),2) -> 0.41 | AF42: =ROUND(((EV42*0.7)),2) -> 275.32 | AG42: =ROUND((AP42),2) -> 0 | AH42: =((EW42*0.7)) -> 32.277 | AI42: =((EX42*0.7)) -> 0.028 | AJ42: =ROUND((AS42),2) -> 0 | AK42: 3623.45 | AL42: 3228.62 | AM42: 1.51 | AN42: 0.59 | AO42: 393.32 | AP42: 0 | AQ42: 46.11 | AR42: 0.04 | AS42: 0 | AT42: 95 | AU42: 47 | AV42: 1 | AW42: 1 | AZ42: 6.08 | BA42: 6.08 | BB42: 6.08 | BC42: 6.08 | BH42: 0 | BI42: 1 | BJ42: ФЕР-2001, 15-02-041-03, приказ Минстроя России №886/пр от 15.06.2017 | BM42: 15001 | BN42: 0 | BP42: 0 | BQ42: 2 | BR42: 0 | BS42: 6.08 | BT42: 1 | BU42: 1 | BV42: 1 | BW42: 1 | BX42: 1 | BZ42: 105 | CA42: 55 | CF42: 0 | CG42: 0 | CM42: 0 | CN42: Поправка: Табл.2, п.2 Наименование: При демонтаже (разборке) сборных деревянных конструкций Поправка: МДС 81-36.2004, п.3.3.1.д Наименование: При демонтаже металлических конструкций Поправка: МДС 81-36.2004, п.3.3.1.д Наименование: При демонтаже металлических конструкций | CO42: 0 | CP42: =(P42+Q42+S42) -> 1730.74 | CQ42: =AC42*BC42 -> 0 | CR42: =AD42*BB42 -> 6.384 | CS42: =AE42*BS42 -> 2.4928 | CT42: =AF42*BA42 -> 1673.9456 | CU42: =AG42 -> 0 | CV42: =AH42 -> 32.277 | CW42: =AI42 -> 0.028 | CX42: =AJ42 -> 0 | CY42: =(((S42+R42)*AT42)/100) -> 1640.3935 | CZ42: =(((S42+R42)*AU42)/100) -> 811.5631 | DD42: )*0 | DE42: )*0,7 | DF42: )*0,7 | DG42: )*0,7 | DI42: )*0,7 | DJ42: )*0,7 | DN42: 0 | DO42: 0 | DP42: 1 | DQ42: 1 | DU42: 1005 | DV42: 100 м2 | DW42: 100 м2 | DX42: 100 | EE42: 39174529 | EF42: 2 | EG42: Общестроительные работы | EH42: 0 | EJ42: 1 | EK42: 15001 | EL42: Отделочные работы | EM42: ФЕР-15 | EO42: Поправка: Табл.2, п.2 Поправка: МДС 81-36.2004, п.3.3.1.д Поправка: МДС 81-36.2004, п.3.3.1.д | EQ42: 0 | ER42: 3623.45 | ES42: 3228.62 | ET42: 1.51 | EU42: 0.59 | EV42: 393.32 | EW42: 46.11 | EX42: 0.04 | EY42: 0 | FQ42: 0 | FR42: =ROUND(IF(AND(BH42=3,BI42=3),P42,0),2) -> 0 | FS42: 0 | FT42: *0,9 | FU42: *0,85 | FX42: 94.5 | FY42: 46.75 | GD42: 0 | GF42: 227955695 | GG42: 1 | GH42: 1 | GI42: 4 | GJ42: 0 | GK42: =ROUND(R42*(R12)/100,2) -> 0 | GL42: =ROUND(IF(AND(BH42=3,BI42=3,FS42<>0),P42,0),2) -> 0 | GM42: =ROUND(O42+X42+Y42+GK42,2)+GX42 -> 4182.69 | GN42: =IF(OR(BI42=0,BI42=1),ROUND(O42+X42+Y42+GK42,2),0) -> 4182.69 | GO42: =IF(BI42=2,ROUND(O42+X42+Y42+GK42,2),0) -> 0 | GP42: =IF(BI42=4,ROUND(O42+X42+Y42+GK42,2)+GX42,0) -> 0 | GR42: 0 | GS42: 3 | GT42: 0 | GV42: =ROUND(GT42,2) -> 0 | GW42: 1 | GX42: =ROUND(GV42*GW42*I42,2) -> 0 | HA42: 0 | HB42: 0 | IK42: 0
A43: 17 | B43: 1 | C43: =ROW(SmtRes!A91) -> 91 | D43: =ROW(EtalonRes!A103) -> 103 | E43: 16 | F43: 56-3-2 прим. | G43: Снятие подоконных досок из ПВХ в каменных зданиях | H43: 100 м2 | I43: 0.018 | J43: 0 | O43: =ROUND(CP43,2) -> 83.36 | P43: =ROUND(CQ43*I43,2) -> 0 | Q43: =ROUND(CR43*I43,2) -> 0 | R43: =ROUND(CS43*I43,2) -> 0 | S43: =ROUND(CT43*I43,2) -> 83.36 | T43: =ROUND(CU43*I43,2) -> 0 | U43: =CV43*I43 -> 1.70946 | V43: =CW43*I43 -> 0 | W43: =ROUND(CX43*I43,2) -> 0 | X43: =ROUND(CY43,2) -> 68.36 | Y43: =ROUND(CZ43,2) -> 51.68 | AA43: 39278658 | AB43: =ROUND((AC43+AD43+AF43),2) -> 761.66 | AC43: =ROUND((ES43),2) -> 0 | AD43: =ROUND((((ET43)-(EU43))+AE43),2) -> 0 | AE43: =ROUND((EU43),2) -> 0 | AF43: =ROUND((EV43),2) -> 761.66 | AG43: =ROUND((AP43),2) -> 0 | AH43: =(EW43) -> 94.97 | AI43: =(EX43) -> 0 | AJ43: =ROUND((AS43),2) -> 0 | AK43: 761.66 | AL43: 0 | AM43: 0 | AN43: 0 | AO43: 761.66 | AP43: 0 | AQ43: 94.97 | AR43: 0 | AS43: 0 | AT43: 82 | AU43: 62 | AV43: 1 | AW43: 1 | AZ43: 6.08 | BA43: 6.08 | BB43: 6.08 | BC43: 6.08 | BH43: 0 | BI43: 1 | BJ43: ФЕРр-2001, 56-3-2, приказ Минстроя России №1039/пр от 30.12.2016г. | BM43: 56001 | BN43: 0 | BP43: 0 | BQ43: 6 | BR43: 0 | BS43: 6.08 | BT43: 1 | BU43: 1 | BV43: 1 | BW43: 1 | BX43: 1 | BZ43: 82 | CA43: 62 | CF43: 0 | CG43: 0 | CM43: 0 | CO43: 0 | CP43: =(P43+Q43+S43) -> 83.36 | CQ43: =AC43*BC43 -> 0 | CR43: =AD43*BB43 -> 0 | CS43: =AE43*BS43 -> 0 | CT43: =AF43*BA43 -> 4630.8928 | CU43: =AG43 -> 0 | CV43: =AH43 -> 94.97 | CW43: =AI43 -> 0 | CX43: =AJ43 -> 0 | CY43: =(((S43+R43)*AT43)/100) -> 68.3552 | CZ43: =(((S43+R43)*AU43)/100) -> 51.6832 | DN43: 0 | DO43: 0 | DP43: 1 | DQ43: 1 | DU43: 1005 | DV43: 100 м2 | DW43: 100 м2 | DX43: 100 | EE43: 39174581 | EF43: 6 | EG43: Ремонтно-строительные работы | EH43: 0 | EJ43: 1 | EK43: 56001 | EL43: Проемы | EM43: рФЕР-56 | EQ43: 0 | ER43: 761.66 | ES43: 0 | ET43: 0 | EU43: 0 | EV43: 761.66 | EW43: 94.97 | EX43: 0 | EY43: 0 | FQ43: 0 | FR43: =ROUND(IF(AND(BH43=3,BI43=3),P43,0),2) -> 0 | FS43: 0 | FX43: 82 | FY43: 62 | GD43: 0 | GF43: -1660984937 | GG43: 1 | GH43: 1 | GI43: 4 | GJ43: 0 | GK43: =ROUND(R43*(R12)/100,2) -> 0 | GL43: =ROUND(IF(AND(BH43=3,BI43=3,FS43<>0),P43,0),2) -> 0 | GM43: =ROUND(O43+X43+Y43+GK43,2)+GX43 -> 203.4 | GN43: =IF(OR(BI43=0,BI43=1),ROUND(O43+X43+Y43+GK43,2),0) -> 203.4 | GO43: =IF(BI43=2,ROUND(O43+X43+Y43+GK43,2),0) -> 0 | GP43: =IF(BI43=4,ROUND(O43+X43+Y43+GK43,2)+GX43,0) -> 0 | GR43: 0 | GS43: 3 | GT43: 0 | GV43: =ROUND(GT43,2) -> 0 | GW43: 1 | GX43: =ROUND(GV43*GW43*I43,2) -> 0 | HA43: 0 | HB43: 0 | IK43: 0
