Workbook
Name аааааппппппрррппппппп: #REF!
Name аараооооооооооооо: #REF!
Name автом: #REF!
Name алшрльоплварл: #REF!
Name аолвлддддддддддддддддввввввввв: #REF!
Name апарв: #REF!
Name апрлдджаоырыфрпопрлпрлпрлп: #REF!
Name арлггаджаш: #REF!
Name ароррбллтблпроорапииас: #REF!
Name арррррблллпдрлдддддддддд: #REF!
Name варпаааааааааа: #REF!
Name ввпьььььлднд: #REF!
Name вед: #REF!
Name вертикальная: #REF!
Name вертикплан: #REF!
Name волен: #REF!
Name вп: #REF!
Name впырпфдыпл: #REF!
Name впьглорьтитттттттттт: #REF!
Name всввввввввввввввввввввввввв: #REF!
Name выб: #REF!
Name выпуск: #REF!
Name выьлепвввввпмп: #REF!
Name еваопродолжэрщэрзшщщх: #REF!
Name измен: #REF!
Name итого: #REF!
Name итого_сантех: #REF!
Name итого_стр: #REF!
Name итого_строит: #REF!
Name итого_технол: #REF!
Name итого_электр: #REF!
Name квота: #REF!
Name кккккккккк: #REF!
Name корек: #REF!
Name корект: #REF!
Name корректир: #REF!
Name лен: #REF!
Name лот: #REF!
Name мамиааааааааааааааааааааааааааааа: #REF!
Name ммпоослччччччччччрччапппппппппр: #REF!
Name мрол: #REF!
Name оз: #REF!
Name озелен: #REF!
Name озеленение: #REF!
Name озеленение2: #REF!
Name ОСР: #REF!
Name ОСР110: #REF!
Name ОСР111: #REF!
Name план: #REF!
Name планировка: #REF!
Name плдщхэж.юрббдлююбо: #REF!
Name площадки: #REF!
Name пос: #REF!
Name прав: #REF!
Name прлппппппппппппппрррррррр: #REF!
Name провбп: #REF!
Name проект: #REF!
Name пропппп: #REF!
Name рпоолллллбрюююююююююююю: #REF!
Name сааповвыыыыыеееееггггггггг: #REF!

Sheet СМР
A1: Расчет начальной (максимальной) цены на
A2: выполнение строительно-монтажных работ по объектам войсковой части 3275
A4: Наименование глав ССР, объектный сметных расчетов, локальных сметных расчетов, видов прочих работ | B4: Сметная стоимость строительства в базисном уровне цен на 01.01.2000г. по ССР | F4: Остаток сметной стоимости в базисном уровне цен на 01.01.2015 | J4: Сметная стоимость строительства в базисном уровне цен на 01.01.2000г., выставленная на конкурс | N4: Текущая стоимость на момент определения начальной (максимальной) цены | O4: № обосновывающего расчета | P4: 2015 год
B5: Всего | C5: СМР | D5: Оборудование | E5: Прочие | F5: Всего | G5: СМР | H5: Оборудование | I5: Прочие | J5: Всего | K5: СМР | L5: Оборудование | M5: Прочие | P5: СМР | Q5: Оборудование | R5: Прочие
A6: 1 | B6: 2 | C6: 3 | D6: 4 | E6: 5 | F6: 6 | G6: 7 | H6: 8 | I6: 9 | J6: 10 | K6: 11 | L6: 12 | M6: 13 | N6: 14 | O6: 15 | P6: 16 | Q6: 17 | R6: 18
A7: Раздел:разборка конструкций. На реконструкцию кровли в пролете А-Г в рядах 1-14 здания казармы №2 в/ч 3275. | B7: 722021 | C7: 722021 | D7: 0 | F7: 722021 | G7: =C7 -> 722021 | H7: =D7 -> 0 | I7: =E7 -> 0 | J7: 722021 | K7: =P7 -> 722021 | L7: =Q7 -> 0 | M7: =R7 -> 0 | O7: 25514 | P7: =G7 -> 722021 | Q7: =H7 -> 0 | R7: =I7 -> 0
A8: Раздел:электроосвещение. На реконструкцию кровли в пролете А-Г в рядах 1-14 здания казармы №2 в/ч 3275. | B8: 38073 | C8: 36474 | E8: 1599 | F8: =SUM(G8:I8) -> 38073 | G8: =C8 -> 36474 | H8: =D8 -> 0 | I8: =E8 -> 1599 | J8: =SUM(K8:M8) -> 38073 | K8: =P8 -> 36474 | L8: =Q8 -> 0 | M8: =R8 -> 1599 | O8: 25532 | P8: =G8 -> 36474 | Q8: =H8 -> 0 | R8: =I8 -> 1599
A9: На установку электрического проточного водонагревателя ЭПВН-120. Войсковая часть № 3275 Банно-прачечный комбинат.Раздел: водопровод и канализация. | B9: 10638 | C9: 10638 | D9: 0 | F9: 10638 | G9: =C9 -> 10638 | H9: =D9 -> 0 | I9: =E9 -> 0 | J9: =SUM(K9:M9) -> 10638 | K9: =P9 -> 10638 | L9: =Q9 -> 0 | M9: =R9 -> 0 | O9: 25493 | P9: =G9 -> 10638 | Q9: =H9 -> 0 | R9: =I9 -> 0
A10: На :электроснабжение (наружные сети). Войсковая часть № 3275 Банно-прачечный комбинат.Водонагревателя ЭПВН-120 | B10: 130156 | C10: 116741 | D10: 11689 | E10: 1726 | F10: =SUM(G10:I10) -> 130156 | G10: =C10 -> 116741 | H10: =D10 -> 11689 | I10: =E10 -> 1726 | J10: =SUM(K10:M10) -> 130156 | K10: =P10 -> 116741 | L10: =Q10 -> 11689 | M10: =R10 -> 1726 | O10: 25460 | P10: =G10 -> 116741 | Q10: =H10 -> 11689 | R10: =I10 -> 1726
A11: На установку жироуловителя. В/ч 3275. Столовая.Инв.№5500459.Раздел:наружная канализация. | B11: 62903 | C11: 18896 | D11: 44007 | F11: =SUM(G11:I11) -> 62903 | G11: =C11 -> 18896 | H11: =D11 -> 44007 | I11: =E11 -> 0 | J11: =SUM(K11:M11) -> 62903 | K11: =P11 -> 18896 | L11: =Q11 -> 44007 | M11: =R11 -> 0 | O11: 25466 | P11: =G11 -> 18896 | Q11: =H11 -> 44007 | R11: =I11 -> 0
A12: На установку жироуловителя. В/ч 3275. Столовая.Инв.№5500459.Раздел:архитектурно-строительные решения. | B12: 57635 | C12: 57635 | D12: 0 | F12: 57635 | G12: =C12 -> 57635 | H12: =D12 -> 0 | I12: =E12 -> 0 | J12: =SUM(K12:M12) -> 57635 | K12: =P12 -> 57635 | L12: =Q12 -> 0 | M12: =R12 -> 0 | O12: 25467 | P12: =G12 -> 57635 | Q12: =H12 -> 0 | R12: =I12 -> 0
A13: На установку жироуловителя. В/ч 3275. Столовая.Инв.№5500459. Раздел: Силовое электрооборудование. | B13: 4988 | C13: 4641 | D13: 0 | E13: 347 | F13: =SUM(G13:I13) -> 4988 | G13: =C13 -> 4641 | H13: =D13 -> 0 | I13: =E13 -> 347 | J13: =SUM(K13:M13) -> 4988 | K13: =P13 -> 4641 | L13: =Q13 -> 0 | M13: =R13 -> 347 | O13: 25468 | P13: =G13 -> 4641 | Q13: =H13 -> 0 | R13: =I13 -> 347
A14: Итого в ценах 2000 года: | B14: =SUM(B7:B13) -> 1026414 | C14: =SUM(C7:C13) -> 967046 | D14: =SUM(D7:D13) -> 55696 | E14: =SUM(E7:E13) -> 3672 | F14: =SUM(F7:F13) -> 1026414 | G14: =SUM(G7:G13) -> 967046 | H14: =SUM(H7:H13) -> 55696 | I14: =SUM(I7:I13) -> 3672 | ... M14: =SUM(M7:M13) -> 3672 | N14: =SUM(P14:R14) -> 1026414 | P14: =SUM(P7:P13) -> 967046 | Q14: =SUM(Q7:Q13) -> 55696 | R14: =SUM(R7:R13) -> 3672
A15: Итого в текущих ценах*: | N15: =SUM(P15:R15) -> 5766856 | P15: =ROUND(P14*5.71,0) -> 5521833 | Q15: =ROUND(Q14*3.74,0) -> 208303 | R15: =ROUND(R14*10,0) -> 36720
A16: Итого с индексом инфляции** | N16: =SUM(P16:R16) -> 6060965 | P16: =ROUND(P15*1.051,0) -> 5803446 | Q16: =ROUND(Q15*1.051,0) -> 218926 | R16: =ROUND(R15*1.051,0) -> 38593
A17: НДС 18% | N17: =SUM(P17:R17) -> 1090973.7 | P17: =ROUND(P16*18%,2) -> 1044620.3 | Q17: =ROUND(Q16*18%,2) -> 39406.68 | R17: =ROUND(R16*18%,2) -> 6946.74
A18: Всего: | N18: =SUM(P18:R18) -> 7151938.7 | P18: =SUM(P16:P17) -> 6848066.3 | Q18: =SUM(Q16:Q17) -> 258332.68 | R18: =SUM(R16:R17) -> 45539.74
P19: 60000000
A20: * В расчете использованы индексы: | Q20: =P19-P18 -> 53151934
A21: - 5,71 индекс изменения сметной стоимости СМР к ТЕР 2001 (письмо Минстроя России от 13.11.2014 №25374-ЮР, приложение 1, прочие объекты).
A22: - 3,74 индекс изменения сметной стоимости оборудования к ТЕР 2001 (письмо Минстроя России от 13.11.2014 №25374-ЮР, приложение 5, экономика в целом
A23: - 10,00 индекс изменения сметной стоимости прочих затрат к ТЕР 2001 (письмо Минстроя России от 13.11.2014 №25374-ЮР, приложение 1, пусконаладочные работы
A24: ** В расчете использован индекс-дефлятор по инвестициям в основной капитал 2015/2014 - 1,051 по мисьмам: Минэконом развития России от 25.09.2013 №20402-АК/ДОЗи, Госкорпорации "Росатом" от 10.02.2014 № 1-12.8/4385
A25: Начальник отдела капитального строительства
A26: ФГУП "Комбинат "Электрохимприбор" | H26: В.В. Моляков
A28: Инженер договорной группы | H28: И.А. Клюсова
A30: Согласовано | H30: отд. 028

Sheet НМЦ договора
A4: Определение начальной (максимальной) цены договора генерального подряда
A5: на выполнение строительно-монтажных работ по объектам войсковой части 3275
A6: на 2015 год
A8: Способ закупки: открытый запрос предложений
G10: ц.2000г./текущие цены, руб.
A11: Наименование услуг и работ (затрат) | C11: Сметная стоимость строительства в базисном уровне цен на 01.01.2000 г. | D11: Сметная стоимость строительства в текущем уровне цен, пресчитанная на момент проведения процедуры закупки | F11: Начальная (максимальная) цена | G11: в том числе по годам строительства
G14: 2015 г.
A18: 1 | C18: 2 | D18: 3 | F18: 4 | G18: 5
A19: СМР | C19: 967046 | D19: 5521833 | F19: =G19 -> 5803446 | G19: =СМР!P16 -> 5803446
A20: Оборудование | C20: =СМР!L14 -> 55696 | D20: 208303 | F20: =G20 -> 218926 | G20: =СМР!Q16 -> 218926
A21: Прочие затраты | C21: =СМР!M14 -> 3672 | D21: 36720 | F21: =G21 -> 38593 | G21: =СМР!R16 -> 38593
A22: Всего: | C22: =SUM(C19:C21) -> 1026414 | D22: =SUM(D19:D21) -> 5766856 | F22: =G22 -> 6060965 | G22: =SUM(G19:G21) -> 6060965
A23: НДС | F23: =G23 -> 1090973.7 | G23: =СМР!N17 -> 1090973.7
A24: Итого с НДС | F24: =G24 -> 7151938.7 | G24: =SUM(G22:G23) -> 7151938.7
A26: В расчете использованы индексы:
A27: - 5,71 индекс изменения сметной стоимости СМР к ТЕР 2001 (письмо Минстроя России от 13.11.2014 №25374-ЮР, приложение 1, прочие объекты). - 3,74 индекс изменения сметной стоимости оборудования к ТЕР 2001 (письмо Минстроя России от 13.11.2014 №25374-ЮР, приложение 5, экономика в целом
A28: - 10,00 индекс изменения сметной стоимости прочих затрат к ТЕР 2001 (письмо Минстроя России от 13.11.2014 ** В расчете использован индекс-дефлятор по инвестициям в основной капитал 2015/2014 - 1,051 по мисьмам: Минэконом развития России от 25.09.2013 №20402-АК/ДОЗи, Госкорпорации "Росатом" от 10.02.2014 № 1-12.8/4385
A30: Начальник отдела капитального строительства
A31: ФГУП "Комбинат "Электрохимприбор" | G31: В.В. Моляков
A33: Инженер договорной группы | G33: И.А. Клюсова
A35: Согласовано | G35: отд. 028

Sheet 25514
A1: СОГЛАСОВАНО: | E1: ФГУП "Комбинат "Электрохимприбор" | M1: УТВЕРЖДАЮ:
G2: (наименование стройки) | M2: Зам.генерального директора
A3: _________________ | N3: Е.В. Гордеев
A4: " _____ " ________________ 2014 г. | M4: __________________
M5: "______ " __________2014 г.
H7: ЛОКАЛЬНЫЙ СМЕТНЫЙ РАСЧЕТ № 25514
H8: (локальная смета)
C10: на | D10: реконструкцию кровли в пролете А-Г в рядах 1-14 здания казармы №2 в/ч 3275.
D11: Инв.№5400637
H12: (наименование работ и затрат, наименование объекта)
D14: Основание: Проект № 24968-14-АС | N14: Справочно, в тыс.руб. :
D15: Сметная стоимость строительных работ _______________________________________________________________________________________________ | J15: ___________________________722,021 | L15: тыс. руб. | N15: с К=5,98 | P15: =722.021*5.98 -> 4317.6856
D16: Средства на оплату труда _______________________________________________________________________________________________ | J16: ___________________________146,971 | L16: тыс. руб. | N16: с К=5,98 | P16: =146.971*5.98 -> 878.88658
D17: Сметная трудоемкость _______________________________________________________________________________________________ | J17: _______________________________________________________________________________________________11021,6 | L17: чел.час
D18: Материалы_______________________________________________324,296 | L18: тыс. руб. | N18: с К=5,98 | P18: =324.296*5.98 -> 1939.2901
D19: Составлен(а) в базовых ценах 2001г. в редакции 2009г.
A21: № пп | B21: Обосно- вание | C21: Наименование | D21: Ед. изм. | E21: Кол. | F21: Стоимость единицы, руб. | J21: Общая стоимость, руб. | N21: Т/з осн. раб.на ед. | O21: Т/з осн. раб. Всего | P21: Т/з мех. на ед. | Q21: Т/з мех. Всего
F22: Всего | G22: В том числе | J22: Всего | K22: В том числе
G23: Осн.З/п | H23: Эк.Маш | I23: З/пМех | K23: Осн.З/п | L23: Эк.Маш | M23: З/пМех
A24: 1 | B24: 2 | C24: 3 | D24: 4 | E24: 5 | F24: 6 | G24: 7 | H24: 8 | I24: 9 | J24: 10 | K24: 11 | L24: 12 | M24: 13 | N24: 14 | O24: 15 | P24: 16 | Q24: 17
A25: Раздел 1. Разборка конструкций
A26: 1 | B26: ТЕРр58-17-3 | C26: Разборка покрытий кровель из волнистых и полуволнистых асбестоцементных листов | D26: 100 м2 | E26: 13.26 | F26: 269.27 | G26: 268.05 | H26: 1.22 | J26: 3571 | K26: 3555 | L26: 16 | N26: 24.39 | O26: 323.41
A27: 2 | B27: ТЕРр58-17-1 | C27: Разборка покрытий кровель из листовой стали (настил, коньковый элемент, ендова) | D27: 100 м2 | E27: 10.468 | F27: 115.77 | G27: 115.29 | H27: 0.48 | J27: 1212 | K27: 1207 | L27: 5 | N27: 10.49 | O27: 109.81
A28: 3 | B28: ТЕРр58-1-1 | C28: Разборка деревянных элементов конструкций крыш: обрешетки из брусков с прозорами | D28: 100 м2 кровли | E28: 13.26 | F28: 287.38 | G28: 169.64 | H28: 117.74 | I28: 8.37 | J28: 3811 | K28: 2250 | L28: 1561 | M28: 111 | N28: 15.16 | O28: 201.02 | P28: 0.46 | Q28: 6.1
A29: 4 | B29: ТЕРр58-5-5 | C29: Замена деревянных элементов конструкций крыш смена отдельных частей мауэрлатов с осмолкой и обертывание толью | D29: 100 м | E29: 1.51 | F29: 3962.2 | G29: 1924.12 | H29: 72.27 | J29: 5983 | K29: 2905 | L29: 109 | N29: 160.21 | O29: 241.92
A30: 5 | B30: ТЕРр58-5-2 | C30: Замена деревянных элементов конструкций крыш смена стропильных ног из бревен | D30: 100 м | E30: 3.55 | F30: 3706.32 | G30: 1924.12 | H30: 72.27 | J30: 13157 | K30: 6831 | L30: 257 | N30: 160.21 | O30: 568.75
A31: 6 | B31: ТЕРр58-5-5 прим. | C31: Замена деревянных элементов конструкций крыш смена отдельных частей ендовы | D31: 100 м | E31: 0.34 | F31: 3962.2 | G31: 1924.12 | H31: 72.27 | J31: 1347 | K31: 654 | L31: 25 | N31: 160.21 | O31: 54.47
A32: 7 | B32: ТЕРр58-5-4 прим. | C32: Замена деревянных элементов конструкций крыш смена кобылок из доски 40х150мм | D32: 100 м | E32: 1.28 | F32: 3185.49 | G32: 1600.33 | H32: 21.75 | J32: 4077 | K32: 2048 | L32: 28 | N32: 133.25 | O32: 170.56
A33: 8 | B33: ТЕРр58-2-2 | C33: Разборка слуховых окон прямоугольных односкатных | D33: 100 окон | E33: 0.02 | F33: 3472.84 | G33: 3461.07 | H33: 11.77 | J33: 69 | K33: 69 | N33: 309.3 | O33: 6.19
A34: 9 | B34: ТЕРр69-7-2 | C34: Разборка переходных мостиков и лестниц на чердаке (Разборка ОЗП=0,8; ЭМ=0,8 к расх.; ЗПМ=0,8; МАТ=0 к расх.; ТЗ=0,8; ТЗМ=0,8) | D34: 100 п. м переходных мостиков | E34: 0.06 | F34: 1106.25 | G34: 942.95 | H34: 163.3 | I34: 5.75 | J34: 66 | K34: 57 | L34: 9 | N34: 83.52 | O34: 5.01 | P34: 0.368 | Q34: 0.02
A35: 10 | B35: ТЕРр69-7-1 | C35: Разборка ходов на чердаке (Разборка ОЗП=0,8; ЭМ=0,8 к расх.; ЗПМ=0,8; МАТ=0 к расх.; ТЗ=0,8; ТЗМ=0,8) | D35: 100 п. м ходов | E35: 0.18 | F35: 202.08 | G35: 187.86 | H35: 14.22 | I35: 2.13 | J35: 36 | K35: 34 | L35: 2 | N35: 16.64 | O35: 3 | P35: 0.136 | Q35: 0.02
A36: 11 | B36: ТЕРр51-3-1 прим. | C36: Снятие шлака с перекрытия (МАТ=0 к расх.) | D36: 100 м3 грунта | E36: 2.7 | F36: 5211.44 | G36: 5209.26 | H36: 2.18 | J36: 14071 | K36: 14065 | L36: 6 | N36: 474 | O36: 1279.8
A37: 12 | B37: ТЕРр51-3-1 прим. | C37: Перелопачивание шлака (МАТ=0 к расх.) | D37: 100 м3 грунта | E37: 1.53 | F37: 5211.44 | G37: 5209.26 | H37: 2.18 | J37: 7974 | K37: 7971 | L37: 3 | N37: 474 | O37: 725.22
A38: 13 | B38: ТЕРр58-17-5 | C38: Разборка теплоизоляции на кровле из ваты минеральной толщиной 100 мм | D38: 100 м2 | E38: 2.4 | F38: 142.62 | G38: 140.48 | H38: 2.14 | J38: 342 | K38: 337 | L38: 5 | N38: 13.08 | O38: 31.39
A39: 14 | B39: ФССЦпг01-01-01-041 | C39: Погрузочные работы при автомобильных перевозках: Мусор строительный с погрузкой вручную ( в том числе лишний шлак) (п.1.1.9 ОП Прил.1. Поясной коэффициент: Свердловская, Челябинская области ПЗ=1,1 (ОЗП=1,1; ЭМ=1,1; ЗПМ=1,1; МАТ=1,1)) | D39: 1 т груза | E39: 140.35 | F39: 47.28 | G39: 47.28 | J39: 6636 | K39: 6636
A40: 15 | B40: ФССЦпг03-21-01-040 | C40: Перевозка грузов автомобилями-самосвалами грузоподъемностью 10 т, работающих вне карьера, на расстояние: до 40 км I класс груза (15 Поясные коэффициенты к сметным ценам на перевозку грузов автомобильным транспортом: Свердловская, Челябинская и Пермская области ПЗ=1,1 (ОЗП=1,1; ЭМ=1,1; ЗПМ=1,1; МАТ=1,1)) | D40: 1 т груза | E40: 140.35 | F40: 25.55 | H40: 25.55 | J40: 3586 | L40: 3586
A41: Итого прямые затраты по разделу в ценах 2001г. | J41: 65938 | K41: 48619 | L41: 5612 | M41: 111 | O41: 3720.55 | Q41: 6.14
A42: Итого прямые затраты по разделу с учетом коэффициентов к итогам | J42: 79490 | K42: 61658 | L42: 6125 | M42: 145 | O42: 4650.69 | Q42: 7.68
A43: Накладные расходы | J43: 43248
A44: Сметная прибыль | J44: 29910
...

Sheet 25532
A1: СОГЛАСОВАНО: | E1: ФГУП "Комбинат "Электрохимприбор" | M1: УТВЕРЖДАЮ:
G2: (наименование стройки) | M2: Зам.генерального директора
A3: _________________ | N3: Е.В. Гордеев
A4: " _____ " ________________ 2014 г. | M4: __________________
M5: "______ " __________2014 г.
H7: ЛОКАЛЬНЫЙ СМЕТНЫЙ РАСЧЕТ № 25532
H8: (локальная смета)
C10: на | D10: реконструкцию кровли в пролете А-Г в рядах 1-14 здания казармы №2 в/ч 3275.
D11: Инв.№5400637. Раздел: Электроосвещение.
H12: (наименование работ и затрат, наименование объекта)
D14: Основание: Проект 24981-14-ЭО | N14: Справочно, в тыс.руб. :
D15: Сметная стоимость _______________________________________________________________________________________________ | J15: ___________________________38,073 | L15: тыс. руб. | N15: Всего: | P15: =P16+P17+P18+0.001 -> 234.87304
D16: строительных работ _______________________________________________________________________________________________ | J16: _______________________________________________________________________________________________0,071 | L16: тыс. руб. | N16: с К=5,98 | P16: =0.071*5.98 -> 0.42458
D17: монтажных работ _______________________________________________________________________________________________ | J17: _______________________________________________________________________________________________36,403 | L17: тыс. руб. | N17: с К=5,98 | P17: =36.403*5.98 -> 217.68994
D18: прочих (ПНР "вхолостую")_______________________________________________________________________________________________ | J18: _______________________________________________________________________________________________1,599 | L18: тыс. руб. | N18: с К=10,48 | P18: =1.599*10.48 -> 16.75752
D19: Средства на оплату труда _______________________________________________________________________________________________ | J19: ___________________________4,522 | L19: тыс. руб.
D20: Сметная трудоемкость _______________________________________________________________________________________________ | J20: _______________________________________________________________________________________________243,15 | L20: чел.час
D21: Материалы__________________________________________________21,043 | L21: тыс. руб. | N21: с К=5,98 | P21: =21.043*5.98 -> 125.83714
D22: Составлен(а) в базовых ценах 2001г. в редакции 2009г.
A24: № пп | B24: Обосно- вание | C24: Наименование | D24: Ед. изм. | E24: Кол. | F24: Стоимость единицы, руб. | J24: Общая стоимость, руб. | N24: Т/з осн. раб.на ед. | O24: Т/з осн. раб. Всего | P24: Т/з мех. на ед. | Q24: Т/з мех. Всего
F25: Всего | G25: В том числе | J25: Всего | K25: В том числе
G26: Осн.З/п | H26: Эк.Маш | I26: З/пМех | K26: Осн.З/п | L26: Эк.Маш | M26: З/пМех
A27: 1 | B27: 2 | C27: 3 | D27: 4 | E27: 5 | F27: 6 | G27: 7 | H27: 8 | I27: 9 | J27: 10 | K27: 11 | L27: 12 | M27: 13 | N27: 14 | O27: 15 | P27: 16 | Q27: 17
A28: Раздел 1. Монтажные работы
A29: 1 | B29: ТЕРм08-03-593-06 | C29: Светильник потолочный или настенный с креплением винтами или болтами для помещений с нормальными условиями среды, одноламповый (1.8.3.ОППри производстве работ на высоте свыше расстояний, указанных в вводных указаниях к разделам сборника: при высоте свыше 2 до 8 м (высота крепления -2,5м) ОЗП=1,05; ТЗ=1,05) | D29: 100 шт. | E29: 0,24 24/100 | F29: 5354.19 | G29: 1295.23 | H29: 1915.67 | I29: 687.03 | J29: 1285 | K29: 311 | L29: 460 | M29: 165 | N29: 92.715 | O29: 22.25 | P29: 43.76 | Q29: 10.5
A30: 2 | B30: Цена поставщика 2014г. | C30: Светильник промышленный НПП 03-100-003,100Вт, IP65, цоколь Е27, с защитной сеткой. | D30: шт. | E30: 24 | F30: 127,83 902/1,18/5,98 | J30: 3068
A31: 3 | B31: Цена поставщика 2014г. | C31: Лампа энергосберегающая 20Вт, цоколь Е27 (аналог лампы накаливания 100Вт) | D31: шт. | E31: 26 | F31: 9,45 66,7/1,18/5,98 | J31: 246
A32: 4 | B32: ТЕРм08-03-591-01 | C32: Выключатель одноклавишный неутопленного типа при открытой проводке | D32: 100 шт. | E32: 0,02 2/100 | F32: 758.17 | G32: 551.82 | H32: 27.07 | I32: 0.55 | J32: 15 | K32: 11 | L32: 1 | N32: 39.5 | O32: 0.79 | P32: 0.03
A33: 5 | B33: Цена поставщика 2014г. | C33: Выключатель одноклавишный для открытой установки со свет. индик. ВС20-1-1-ГПБ IP54 серия "ГЕРМЕС PLUS" (цвет клавиши: белый) (EVMP11-K01-10-54-EC) | D33: шт. | E33: 2 | F33: 24,27 171,26/1,18/5,98 | J33: 49
A34: 6 | B34: Цена поставщика 2014г. | C34: Кабель силовой медный ВВГ-нг-LS, сеч.3х1,5мм | D34: 1000м | E34: 0,21 210/1000 | F34: 5237,8 36,96*1000/1,18/5,98 | J34: 1100
A35: 7 | B35: ТЕРм08-02-149-01 | C35: Кабель до 35 кВ, подвешиваемый на тросе, масса 1 м кабеля до 1 кг (1.8.3.ОППри производстве работ на высоте свыше расстояний, указанных в вводных указаниях к разделам сборника: при высоте свыше 2 до 8 м ОЗП=1,05; ТЗ=1,05) | D35: 100 м кабеля | E35: 1,9 190/100 | F35: 4547.2 | G35: 243.3 | H35: 2581.44 | I35: 295.76 | J35: 8640 | K35: 462 | L35: 4905 | M35: 562 | N35: 17.955 | O35: 34.11 | P35: 16.44 | Q35: 31.24
A36: 8 | B36: ТСЦ-508-0086 | C36: Канат двойной свивки типа ТК, конструкции 6х19(1+6+12)+1 о.с., без покрытия из проволок марки В, маркировочная группа 1770 н/мм2, диаметром 5,8 мм | D36: 10 м | E36: 14 140/10 | F36: 72.65 | J36: 1017
A37: 9 | B37: Цена поставщика 2014г. | C37: Металлорукав РЗ-ЦХ 22мм, внутренний диаметр 20,7мм (50м) (CM10-22-050) | D37: м | E37: 190 | F37: 7,04 49,70/1,18/5,98 | J37: 1338
A38: 10 | B38: ТЕРм08-02-412-02 | C38: Затягивание провода в проложенные трубы и металлические рукава первого одножильного или многожильного в общей оплетке, суммарное сечение до 6 мм2 (1.8.3.ОППри производстве работ на высоте свыше расстояний, указанных в вводных указаниях к разделам сборника: при высоте свыше 2 до 8 м ОЗП=1,05; ТЗ=1,05) | D38: 100 м | E38: 1,9 190/100 | F38: 681.06 | G38: 93.78 | H38: 5.85 | I38: 0.36 | J38: 1294 | K38: 178 | L38: 11 | M38: 1 | N38: 7.077 | O38: 13.45 | P38: 0.02 | Q38: 0.04
A39: 11 | B39: ФЕРм08-02-390-01 | C39: Короба пластмассовые: шириной до 40 мм (Приведение расценок ФЕР к территориальному уровню Свердловской области (Межрегиональный сборник к-тов пересчета сметной стоимости СМР по субъектам РФ, выпуск №3) ОЗП=1,41; ЭМ=1,242; ЗПМ=1,41; МАТ=1,052) | D39: 100 м | E39: 0,2 (15+5)/100 | F39: 311.4 | G39: 218.44 | H39: 38.75 | I39: 0.17 | J39: 62 | K39: 44 | L39: 8 | N39: 16.29 | O39: 3.26 | P39: 0.01
A40: 12 | B40: Цена поставщика 2014г. | C40: Кабель-канал из самозатухающего ПВХ серии "Элекор" 16х16 мм (84м) (CKK10-016-016-1-K01) | D40: м | E40: 15 | F40: 2,31 16,30/1,18/5,98 | J40: 35
A41: 13 | B41: Цена поставщика 2014г. | C41: Кабель-канал из самозатухающего ПВХ серии "Элекор" 25х16 мм (50м) (CKK10-025-016-1-K01) | D41: м | E41: 5 | F41: 3,71 26,15/1,18/5,98 | J41: 19
A42: 14 | B42: ТЕРм08-02-399-01 | C42: Провод (кабель) в коробах, сечением до 6 мм2 | D42: 100 м | E42: 0,2 (15+5)/100 | F42: 189.23 | G42: 46.64 | H42: 56.09 | I42: 24.55 | J42: 38 | K42: 9 | L42: 11 | M42: 5 | N42: 3.52 | O42: 0.7 | P42: 1.57 | Q42: 0.31
A43: 15 | B43: Цена поставщика 2014г. | C43: Коробка КМ41235 распаячная для о/п 85х85х40мм IP44 (RAL7035, 6 гермовводов) (UKO11-085-085-040-K41-44) | D43: шт. | E43: 2 | F43: 4,6 32,45/1,18/5,98 | J43: 9
A44: 16 | B44: ТЕРм08-03-545-01 | C44: Коробка (ящик) с зажимами для кабелей и проводов сечением до 6 мм2, устанавливаемая на конструкции на стене или колонне, количество зажимов до 10 | D44: 1 шт. | E44: 28 | F44: 160.78 | G44: 43.86 | H44: 2.36 | J44: 4502 | K44: 1228 | L44: 66 | N44: 3.31 | O44: 92.68
...

Sheet 25493
A1: СОГЛАСОВАНО: | E1: ФГУП "Комбинат "Электрохимприбор" | M1: УТВЕРЖДАЮ:
G2: (наименование стройки) | M2: Зам. генерального директора
A3: _____________________________ | M3: Е.В.Гордеев
A4: " _____ " ________________ 2014г. | G4: ЛОКАЛЬНЫЙ СМЕТНЫЙ РАСЧЕТ № 25493
G5: (локальная смета) | M5: "______ " __________2014 г.
C7: на | D7: Установку электрического проточного водонагревателя ЭПВН-120
D8: Войсковая часть № 3275 Банно-прачечный комбинат. Раздел: Водопровод и канализация
H9: (наименование работ и затрат, наименование объекта)
D11: Основание: Проект № 24962-14-ВК | N11: Справочно, в тыс.руб. :
D12: Сметная стоимость строительных работ _______________________________________________________________________________________________ | J12: ___________________________10,638 | L12: тыс. руб. | N12: с К=5,98 | P12: =ROUND(10.638*5.98,3) -> 63.615
D13: Средства на оплату труда _______________________________________________________________________________________________ | J13: ___________________________1,727 | L13: тыс. руб. | N13: с К=5,98 | P13: =ROUND(1.727*5.98,3) -> 10.327
D14: Сметная трудоемкость _______________________________________________________________________________________________ | J14: _______________________________________________________________________________________________117,1 | L14: чел.час
D15: Материалы ___________________________________________________________ | J15: =J102/1000 -> 4.419 | L15: тыс.руб. | N15: с К=5,98 | P15: =ROUND(4.419*5.98,3) -> 26.426
D16: Составлен(а) в базовых ценах 2001г. в редакции 2009г.
A18: № пп | B18: Обоснование | C18: Наименование | D18: Ед. изм. | E18: Кол. | F18: Стоимость единицы, руб. | J18: Общая стоимость, руб. | N18: Т/з осн. раб.на ед. | O18: Т/з осн. раб. Всего | P18: Т/з мех. на ед. | Q18: Т/з мех. Всего
F19: Всего | G19: В том числе | J19: Всего | K19: В том числе
G20: Осн.З/п | H20: Эк.Маш | I20: З/пМех | K20: Осн.З/п | L20: Эк.Маш | M20: З/пМех
A21: 1 | B21: 2 | C21: 3 | D21: 4 | E21: 5 | F21: 6 | G21: 7 | H21: 8 | I21: 9 | J21: 10 | K21: 11 | L21: 12 | M21: 13 | N21: 14 | O21: 15 | P21: 16 | Q21: 17
A22: Раздел 1. Разборка.
A23: 1 | B23: ТЕР16-05-001-02 прим. | C23: Разборка вентилей на трубопроводах из стальных труб диаметром до 50 мм КОЭФ. К ПОЗИЦИИ: Раздорка ОЗП=0,4; ЭМ=0,4 к расх.; ЗПМ=0,4; МАТ=0 к расх.; ТЗ=0,4; ТЗМ=0,4 | D23: 1 шт. | E23: 2 | F23: 9.64 | G23: 7.52 | H23: 2.12 | J23: 19 | K23: 15 | L23: 4 | N23: 0.59 | O23: 1.18
A24: 2 | B24: ТЕРр65-2-2 | C24: Разборка трубопроводов из чугунных канализационных труб диаметром 100 мм | D24: 100 м | E24: 0.055 | F24: 1028.82 | G24: 1015.92 | H24: 12.9 | I24: 5 | J24: 57 | K24: 56 | L24: 1 | N24: 85.3 | O24: 4.69 | P24: 0.32 | Q24: 0.02
A25: 3 | B25: ТЕР46-04-009-01 | C25: Разборка бетонных оснований | D25: 1 м3 | E25: 2.4 | F25: 495.3 | G25: 114.13 | H25: 381.17 | I25: 35.3 | J25: 1189 | K25: 274 | L25: 915 | M25: 85 | N25: 8.93 | O25: 21.43 | P25: 2.26 | Q25: 5.42
A26: Итого по разделу 1 Разборка. | J26: 2387 | O26: 31.62 | Q26: 6.25
A27: Раздел 2. Водопровод и канализация.
A28: 4 | B28: ТЕР16-02-002-02 | C28: Прокладка трубопроводов водоснабжения из стальных водогазопроводных оцинкованных труб диаметром 20 мм (в том числе переход, отвод, тройник) | D28: 100 м | E28: 0.246 | F28: 5654.2 | G28: 502.3 | H28: 79.16 | I28: 2.73 | J28: 1391 | K28: 124 | L28: 19 | M28: 1 | N28: 37.07 | O28: 9.12 | P28: 0.15 | Q28: 0.04
A29: 5 | B29: ТЕР16-02-002-04 | C29: Прокладка трубопроводов водоснабжения из стальных водогазопроводных оцинкованных труб диаметром 32 мм (в том числе отвод) | D29: 100 м | E29: 0.088 | F29: 7311.57 | G29: 502.3 | H29: 79.16 | I29: 2.73 | J29: 643 | K29: 44 | L29: 7 | N29: 37.07 | O29: 3.26 | P29: 0.15 | Q29: 0.01
A30: 6 | B30: ТСЦ-301-1224 | C30: Крепления для трубопроводов: кронштейны, планки, хомуты | D30: кг | E30: 0.98 | F30: 17.02 | J30: 17
A31: 7 | B31: Цена поставщика. | C31: Кран шаровой со встроенным фильтром ф 20 (Цена:481,00:1,18:5,98*1,02) | D31: шт. | E31: 1 | F31: 69,53 481,00/1,18/5,98*1,02 | J31: 70
A32: 8 | B32: ТСЦ-302-1832 | C32: Кран шаровой муфтовый 11Б27П1, диаметром 20 мм | D32: шт. | E32: 4 | F32: 39.32 | J32: 157
A33: 9 | B33: ТЕР16-05-001-02 | C33: Установка вентилей, задвижек, затворов, клапанов обратных, кранов проходных на трубопроводах из стальных труб диаметром до 50 мм | D33: 1 шт. | E33: 2 | F33: 138.58 | G33: 18.79 | H33: 5.32 | J33: 277 | K33: 38 | L33: 11 | N33: 1.47 | O33: 2.94
A34: 10 | B34: Цена поставщика. | C34: Вентили запорные фланцевые 15ч9п,15ч19п, диаметром 40 мм (Цена:550,00:1,18:5,98*1,02) | D34: шт. | E34: 2 | F34: 79,5 550,00/1,18/5,98*1,02 | J34: 159
A35: 11 | B35: ТЕР16-07-003-05 | C35: Врезка в действующие внутренние сети трубопроводов отопления и водоснабжения диаметром 40 мм | D35: 1 врезка | E35: 2 | F35: 173.38 | G35: 62.31 | H35: 5.56 | J35: 347 | K35: 125 | L35: 11 | N35: 4.46 | O35: 8.92
A36: 12 | B36: ТЕР16-07-005-01 | C36: Гидравлическое испытание трубопроводов систем отопления, водопровода и горячего водоснабжения диаметром до 50 мм | D36: 100 м | E36: 0.334 | F36: 104.4 | G36: 82.16 | H36: 15.29 | J36: 35 | K36: 27 | L36: 5 | N36: 5.01 | O36: 1.67
A37: 13 | B37: ТЕР13-03-002-04 | C37: Огрунтовка металлических поверхностей за один раз грунтовкой ГФ-021 | D37: 100 м2 | E37: 0.048 | F37: 417.46 | G37: 79.65 | H37: 10.15 | I37: 0.16 | J37: 20 | K37: 4 | N37: 5.31 | O37: 0.25 | P37: 0.01
A38: 14 | B38: ТЕР15-04-030-04 | C38: Масляная окраска металлических поверхностей менее 50 мм количество окрасок 2 | D38: 100 м2 | E38: 0.048 | F38: 1384.09 | G38: 886.83 | H38: 3.68 | I38: 0.16 | J38: 66 | K38: 43 | N38: 71.06 | O38: 3.41 | P38: 0.01
A39: 15 | B39: ТЕР26-01-009-01 | C39: Изоляция трубопроводов матами МПБ-30/ф1 b=30мм | D39: 1 м3 изоляции | E39: 0.15 | F39: 445.68 | G39: 259.38 | H39: 71.42 | J39: 67 | K39: 39 | L39: 11 | N39: 18.85 | O39: 2.83
A40: Уд | B40: 1. 101-1876 | C40: Сталь листовая оцинкованная толщиной листа 0,8 мм | D40: т | E40: 0,0265 0,003975 | F40: 17616.25 | J40: 70.02
A41: Уд | B41: 2. 104-0009 | C41: Маты прошивные из минеральной ваты без обкладок М-100, толщина 60 мм | D41: м3 | E41: 1,54 0,231 | F41: 414.12 | J41: 95.66
A42: Уд | B42: 3. 104-0077 | C42: Стеклопластик рулонный марки РСТ-А-Л-В | D42: 1000 м2 | E42: 0,002204 0,0003306 | F42: 21560 | J42: 7.13
A43: Уд | B43: 4. 506-0878 | C43: Листы алюминиевые марки АД1Н, толщиной 1 мм | D43: кг | E43: 0,78 0,117 | F43: 42.32 | J43: 4.95
...

Sheet 25460
A1: СОГЛАСОВАНО: | E1: ФГУП "Комбинат "Электрохимприбор" | M1: УТВЕРЖДАЮ:
G2: (наименование стройки) | M2: Зам. генерального директора
M3: Е.В.Гордеев
A4: _________________ | M4: _________________
A5: " _____ " ________________ 2014 г. | M5: "______ " __________2014 г.
G6: ЛОКАЛЬНЫЙ СМЕТНЫЙ РАСЧЕТ № 25460
G7: (локальная смета)
C9: на | D9: Электроснабжение (наружные сети). Войсковая часть 3275. Банно-прачечный комбинат.
D10: Водонагреватель ЭПВН-120.
G11: (наименование работ и затрат, наименование объекта)
D13: Основание: проект № 24951-14-ЭС | N13: Справочно, в тыс.руб. :
D14: Сметная стоимость _______________________________________________________________________________________________ | J14: ___________________________130,156 | L14: тыс. руб. | N14: ВСЕГО: | P14: =P15+P16+P17+P18 -> 765.41035
D15: строительных работ _______________________________________________________________________________________________ | J15: _______________________________________________________________________________________________15,261 | L15: тыс. руб. | N15: с К=5,98 | P15: =5.98*15.261 -> 91.26078
D16: монтажных работ _______________________________________________________________________________________________ | J16: _______________________________________________________________________________________________101,480 | L16: тыс. руб. | N16: с К=5,98 | P16: =5.98*101.48 -> 606.8504
D17: прочих (ПНР "в холостую") _______________________________________________________________________________________________ | J17: _______________________________________________________________________________________________1,726 | L17: тыс. руб. | N17: с К=10,48 | P17: =10.48*1.726 -> 18.08848
D18: оборудования _______________________________________________________________________________________________ | J18: _______________________________________________________________________________________________11,689 | L18: тыс. руб. | N18: с К=4,21 | P18: =4.21*11.689 -> 49.21069
D19: Средства на оплату труда _______________________________________________________________________________________________ | J19: ___________________________9,054 | L19: тыс. руб.
D20: Сметная трудоемкость _______________________________________________________________________________________________ | J20: _______________________________________________________________________________________________539,93 | L20: чел.час
D21: Материалы ______________________________________ | K21: =K146/1000 -> 82.091 | L21: тыс.руб. | N21: с К=5,98 | P21: =K21*5.98 -> 490.90418
D22: Составлен(а) в базовых ценах 2001г. в редакции 2009г.
A24: № пп | B24: Обоснова-ние | C24: Наименование | D24: Ед. изм. | E24: Кол. | F24: Стоимость единицы, руб. | J24: Общая стоимость, руб. | O24: Т/з осн. раб.на ед. | P24: Т/з осн. раб. Всего | Q24: Общая масса обору-дования, т
F25: Всего | G25: В том числе | J25: Обору-дование | K25: Всего | L25: В том числе
G26: Осн.З/п | H26: Эк.Маш | I26: З/пМех | L26: Осн.З/п | M26: Эк.Маш | N26: З/пМех
A27: 1 | B27: 2 | C27: 3 | D27: 4 | E27: 5 | F27: 6 | G27: 7 | H27: 8 | I27: 9 | J27: 10 | K27: 11 | L27: 12 | M27: 13 | N27: 14 | O27: 15 | P27: 16 | Q27: 17
A28: Раздел 1. Демонтажные работы
A29: 1 | B29: ТЕРм08-01-016-01 | C29: Демонтаж: предохранитель напряжением 35 кВ КОЭФ. К ПОЗИЦИИ: Демонтаж оборудования, которое не подлежит дальнейшему использованию (предназначено в лом) без разборки и резки ОЗП=0,3; ЭМ=0,3 к расх.; ЗПМ=0,3; МАТ=0 к расх.; ТЗ=0,3; ТЗМ=0,3 | D29: 1 шт. | E29: 6 | F29: 19.81 | G29: 11.54 | H29: 8.27 | I29: 0.49 | K29: 119 | L29: 69 | M29: 50 | N29: 3 | O29: 0.85 | P29: 5.1
A30: 2 | B30: ТЕРм08-01-006-01 | C30: Демонтаж: трансформатор тока напряжением 35 кВ КОЭФ. К ПОЗИЦИИ: Демонтаж оборудования, которое не подлежит дальнейшему использованию (предназначено в лом) без разборки и резки ОЗП=0,3; ЭМ=0,3 к расх.; ЗПМ=0,3; МАТ=0 к расх.; ТЗ=0,3; ТЗМ=0,3 | D30: 1 компл. (3 фазы) | E30: 6 | F30: 179.13 | G30: 74.39 | H30: 104.74 | I30: 8.3 | K30: 1075 | L30: 446 | M30: 629 | N30: 50 | O30: 5.49 | P30: 32.94
A31: 3 | B31: ТЕРм08-03-573-02 | C31: Демонтаж: вводная панель размером 1800х800х300мм КОЭФ. К ПОЗИЦИИ: Демонтаж оборудования, которое не подлежит дальнейшему использованию (предназначено в лом) без разборки и резки ОЗП=0,3; ЭМ=0,3 к расх.; ЗПМ=0,3; МАТ=0 к расх.; ТЗ=0,3; ТЗМ=0,3 | D31: 1 шт. | E31: 1 | F31: 68.43 | G31: 9.93 | H31: 58.5 | I31: 4.34 | K31: 68 | L31: 10 | M31: 58 | N31: 4 | O31: 0.71 | P31: 0.71
A32: 4 | B32: ТЕРм08-02-145-01 | C32: Демонтаж провода, прокложенного по дну канала без креплений КОЭФ. К ПОЗИЦИИ: Демонтаж оборудования, которое не подлежит дальнейшему использованию (предназначено в лом) без разборки и резки ОЗП=0,3; ЭМ=0,3 к расх.; ЗПМ=0,3; МАТ=0 к расх.; ТЗ=0,3; ТЗМ=0,3 | D32: 100 м кабеля | E32: 0.2 | F32: 137.62 | G32: 29.76 | H32: 107.86 | I32: 10.81 | K32: 28 | L32: 6 | M32: 22 | N32: 2 | O32: 2.2 | P32: 0.44
A33: Итого по разделу 1 Демонтажные работы | K33: 3108 | P33: 52.91
A34: Раздел 2. Монтажные работы в здании
A35: 5 | B35: Цена поставщика | C35: Предохранитель ППН-37 400А | D35: шт. | E35: 6 | F35: 13,89 98/1,18/5,98 | K35: 83
A36: 6 | B36: ТЕРм08-01-016-01 | C36: Предохранитель напряжением 35 кВ | D36: 1 шт. | E36: 6 | F36: 110.45 | G36: 38.48 | H36: 27.56 | I36: 1.64 | K36: 663 | L36: 231 | M36: 165 | N36: 10 | O36: 2.84 | P36: 17.04
A37: 7 | B37: Цена поставщика | C37: Трансформатор тока ТТИ-30 300/5А 5ВА класс 0,5 ИЭК ITT20-2-05-0300 | D37: шт. | E37: 6 | F37: 63,09 445,20/1,18/5,98 | K37: 379
A38: 8 | B38: ТЕРм08-01-006-01 | C38: Трансформатор тока напряжением 35 кВ | D38: 1 компл. (3 фазы) | E38: 6 | F38: 377.14 | G38: 247.97 | H38: 6.46 | K38: 2263 | L38: 1488 | M38: 39 | O38: 18.3 | P38: 109.8
A39: 9 | B39: Цена поставщика | C39: Щит учета ЩУ2/Т-3544М-31 | D39: шт. | E39: 1 | F39: 7319,09/1,18/4,21 | J39: 1473 | K39: 1473
A40: 10 | B40: ТЕРм08-03-573-05 | C40: Шкаф (пульт) управления навесной, высота, ширина и глубина до 900х600х500 мм | D40: 1 шт. | E40: 1 | F40: 126.83 | G40: 33.11 | H40: 89.04 | I40: 6.72 | K40: 127 | L40: 33 | M40: 89 | N40: 7 | O40: 2.37 | P40: 2.37
A41: 11 | B41: Цена поставщика | C41: Счетчик СЭТ-4ТМ.03М.09 | D41: шт. | E41: 2 | F41: 19289/1,18/4,21 | J41: 7766 | K41: 7766
A42: 12 | B42: ТЕРм08-03-600-02 | C42: Счетчики, устанавливаемые на готовом основании трехфазные | D42: 1 шт. | E42: 2 | F42: 15.65 | G42: 12.15 | H42: 2.92 | I42: 0.18 | K42: 31 | L42: 24 | M42: 6 | O42: 0.87 | P42: 1.74
A43: 13 | B43: Цена поставщика | C43: Вводная панель ВРУЗ-12 | D43: шт. | E43: 1 | F43: 12171,13/1,18/4,21 | J43: 2450 | K43: 2450
...

Sheet 25466
A1: СОГЛАСОВАНО: | E1: ФГУП "Комбинат "Электрохимприбор" | M1: УТВЕРЖДАЮ:
G2: (наименование стройки) | M2: Зам. генерального директора
M3: Е.В.Гордеев
A4: _________________ | M4: _________________
A5: " _____ " ________________ 2014 г. | M5: "______ " __________2014 г.
G6: ЛОКАЛЬНЫЙ СМЕТНЫЙ РАСЧЕТ № 25466
G7: (локальная смета)
C9: на | D9: установку жироуловителя. В/ч 3275. Столовая. Инв.№ 5500459
D10: Раздел: Наружная канализация
G11: (наименование работ и затрат, наименование объекта)
D13: Основание: проект № 24936-14-НК | N13: Справочно, в тыс.руб. :
D14: Сметная стоимость _______________________________________________________________________________________________ | J14: ___________________________62,903 | L14: тыс. руб. | N14: ВСЕГО: | P14: =P15+P16+P17 -> 298.26755
D15: строительных работ _______________________________________________________________________________________________ | J15: _______________________________________________________________________________________________16,925 | L15: тыс. руб. | N15: с К=5,98 | P15: =16.925*5.98 -> 101.2115
D16: монтажных работ _______________________________________________________________________________________________ | J16: _______________________________________________________________________________________________1,971 | L16: тыс. руб. | N16: с К=5,98 | P16: =1.971*5.98 -> 11.78658
D17: оборудования _______________________________________________________________________________________________ | J17: _______________________________________________________________________________________________44,007 | L17: тыс. руб. | N17: с К=4,21 | P17: =4.21*44.007 -> 185.26947
D18: Средства на оплату труда _______________________________________________________________________________________________ | J18: ___________________________3,034 | L18: тыс. руб. | N18: с К=5,98 | P18: =3.035*5.98 -> 18.1493
D19: Сметная трудоемкость _______________________________________________________________________________________________ | J19: _______________________________________________________________________________________________169,6 | L19: чел.час
D20: Материалы ______________________________________ | K20: =K96/1000 -> 9.627 | L20: тыс.руб. | N20: с К=5,98 | P20: =K20*5.98 -> 57.56946
D21: Составлен(а) в базовых ценах 2001г. в редакции 2009г.
A23: № пп | B23: Обоснова-ние | C23: Наименование | D23: Ед. изм. | E23: Кол. | F23: Стоимость единицы, руб. | J23: Общая стоимость, руб. | O23: Т/з осн. раб.на ед. | P23: Т/з осн. раб. Всего | Q23: Общая масса обору-дования, т
F24: Всего | G24: В том числе | J24: Обору-дование | K24: Всего | L24: В том числе
G25: Осн.З/п | H25: Эк.Маш | I25: З/пМех | L25: Осн.З/п | M25: Эк.Маш | N25: З/пМех
A26: 1 | B26: 2 | C26: 3 | D26: 4 | E26: 5 | F26: 6 | G26: 7 | H26: 8 | I26: 9 | J26: 10 | K26: 11 | L26: 12 | M26: 13 | N26: 14 | O26: 15 | P26: 16 | Q26: 17
A27: Раздел 1. Разборка конструкций
A28: 1 | B28: ТЕР01-01-003-09 | C28: Разработка грунта в отвал экскаваторами «драглайн» или «обратная лопата» с ковшом вместимостью 0,65 (0,5-1) м3, группа грунтов 3 | D28: 1000 м3 грунта | E28: 0.03 | F28: 4796.33 | G28: 145.29 | H28: 4651.04 | I28: 489.16 | K28: 144 | L28: 4 | M28: 140 | N28: 15 | O28: 13.22 | P28: 0.4
A29: 2 | B29: ТЕР01-02-057-02 | C29: Разработка грунта вручную в траншеях глубиной до 2 м без креплений с откосами, группа грунтов 2 | D29: 100 м3 грунта | E29: 0.009 | F29: 1692.46 | G29: 1692.46 | K29: 15 | L29: 15 | O29: 154 | P29: 1.39
A30: 3 | B30: ТЕРр66-3-1 | C30: Разборка кирпичной кладки существующего жироуловителя | D30: 1 м3 кладки | E30: 4 | F30: 70.78 | G30: 70.78 | K30: 283 | L30: 283 | O30: 6.44 | P30: 25.76
A31: 4 | B31: ТЕР23-03-001-03 | C31: Разборка круглых сборных железобетонных канализационных колодцев диаметром 1 м в сухих грунтах КОЭФ. К ПОЗИЦИИ: Демонтаж (разборка) наружных сетей водопровода, канализации, теплоснабжения и газоснабжения ОЗП=0,6; ЭМ=0,6 к расх.; ЗПМ=0,6; МАТ=0 к расх.; ТЗ=0,6; ТЗМ=0,6 | D31: 10 м3 железобетонных и бетонных конструкций колодца | E31: 0.1853 | F31: 2821.81 | G31: 1063.48 | H31: 1758.33 | I31: 208.97 | K31: 523 | L31: 197 | M31: 326 | N31: 39 | O31: 83.21 | P31: 15.42
A32: 5 | B32: ФССЦпг01-01-01-041 | C32: Погрузочные работы при автомобильных перевозках: Мусор строительный с погрузкой вручную КОЭФ. К ПОЗИЦИИ: п.1.1.9 ОП Прил.1. Поясной коэффициент: Свердловская область ПЗ=1,1 (ОЗП=1,1; ЭМ=1,1; ЗПМ=1,1; МАТ=1,1) | D32: 1 т груза | E32: 13 | F32: 47.28 | G32: 47.28 | K32: 615 | L32: 615
A33: 6 | B33: ФССЦпг03-21-01-040 | C33: Перевозка грузов (мусора) автомобилями-самосвалами грузоподъемностью 10 т, работающих вне карьера, на расстояние: до 40 км I класс груза КОЭФ. К ПОЗИЦИИ: 15 Поясные коэффициенты к сметным ценам на перевозку грузов автомобильным транспортом: Свердловская область ПЗ=1,1 (ОЗП=1,1; ЭМ=1,1; ЗПМ=1,1; МАТ=1,1) | D33: 1 т груза | E33: 13 | F33: 25.55 | H33: 25.55 | K33: 332 | M33: 332
A34: Итого по разделу 1 Разборка конструкций | K34: 3108 | P34: 45.55
A35: Раздел 2. Общестрительные работы
A36: 7 | B36: ТЕР23-01-001-01 | C36: Устройство основания под трубопроводы песчаного | D36: 10 м3 основания | E36: 0.016 | F36: 1636.02 | G36: 117.4 | H36: 26.91 | I36: 5.47 | K36: 26 | L36: 2 | O36: 10.2 | P36: 0.16
A37: 8 | B37: ТЕР22-01-021-05 | C37: Укладка трубопроводов из полиэтиленовых труб диаметром 150 мм | D37: 1 км трубопровода | E37: 0.004 | F37: 151685.85 | G37: 3707.57 | H37: 4856.62 | I37: 734.71 | K37: 607 | L37: 15 | M37: 19 | N37: 3 | O37: 286.52 | P37: 1.15
A38: 9 | B38: ТЕР22-01-021-02 | C38: Укладка трубопроводов из полиэтиленовых труб диаметром 65 мм (техническая вентиляция) | D38: 1 км трубопровода | E38: 0.0025 | F38: 31824.14 | G38: 2718.01 | H38: 2653.22 | I38: 413.62 | K38: 80 | L38: 7 | M38: 7 | N38: 1 | O38: 207.64 | P38: 0.52
A39: 10 | B39: ТЕР22-01-021-01 | C39: Укладка трубопроводов из полиэтиленовых труб диаметром 50 мм (гильза для кабеля) | D39: 1 км трубопровода | E39: 0.004 | F39: 22587.29 | G39: 2626.9 | H39: 2351.91 | I39: 366.36 | K39: 90 | L39: 11 | M39: 9 | N39: 1 | O39: 200.68 | P39: 0.8
A40: 11 | B40: ТЕР22-03-001-02 | C40: Установка фасонных частей чугунных диаметром 125-200 мм | D40: 1 т фасонных частей | E40: 0.0427 | F40: 10595.26 | G40: 453.26 | H40: 416.5 | I40: 36.95 | K40: 452 | L40: 19 | M40: 18 | N40: 2 | O40: 37.74 | P40: 1.61
A41: 12 | B41: ТЕР23-04-008-01 | C41: Присоединение канализационных трубопроводов к существующей сети в грунтах сухих | D41: 1 врезка | E41: 2 | F41: 279.29 | G41: 215.22 | K41: 559 | L41: 430 | O41: 16.84 | P41: 33.68
A42: 13 | B42: ТЕРр65-10-2 | C42: Очистка канализационной сети дворовой | D42: 100 м трубопровода | E42: 0.045 | F42: 1396.8 | G42: 1243.08 | K42: 63 | L42: 56 | O42: 108 | P42: 4.86
A43: 14 | B43: ТЕР22-06-001-05 | C43: Промывка с дезинфекцией трубопроводов диаметром 150 мм | D43: 1 км трубопровода | E43: 0.0045 | F43: 1319.34 | G43: 779.45 | K43: 6 | L43: 4 | O43: 64.9 | P43: 0.29
...

Sheet 25467
A1: СОГЛАСОВАНО: | E1: ФГУП "Комбинат "Электрохимприбор" | M1: УТВЕРЖДАЮ:
G2: (наименование стройки) | M2: Зам. генерального директора
M3: Е.В.Гордеев
A4: _________________ | M4: _________________
A5: " _____ " ________________ 2014 г. | M5: "______ " __________2014 г.
G6: ЛОКАЛЬНЫЙ СМЕТНЫЙ РАСЧЕТ № 25467
G7: (локальная смета)
C9: на | D9: установку жироуловителя. В/ч 3275. Столовая. Инв.№ 5500459
D10: Раздел: Архитектурно-строительные решения
G11: (наименование работ и затрат, наименование объекта)
D13: Основание: проект № 24945-14-АС | N13: Справочно, в тыс.руб. :
D14: Сметная стоимость строительных работ _______________________________________________________________________________________________ | J14: ___________________________57,635 | L14: тыс. руб. | N14: ВСЕГО: | P14: =P15 -> 22.62234
D15: Средства на оплату труда _______________________________________________________________________________________________ | J15: ___________________________3,783 | L15: тыс. руб. | N15: с К=5,98 | P15: =3.783*5.98 -> 22.62234
D16: Сметная трудоемкость _______________________________________________________________________________________________ | J16: _______________________________________________________________________________________________266,23 | L16: чел.час
D17: Материалы ______________________________________ | K17: =J57/1000 -> 39.184 | L17: тыс.руб. | N17: с К=5,98 | P17: =K17*5.98 -> 234.32032
D18: Составлен(а) в базовых ценах 2001г. в редакции 2009г.
A20: № пп | B20: Обоснование | C20: Наименование | D20: Ед. изм. | E20: Кол. | F20: Стоимость единицы, руб. | J20: Общая стоимость, руб. | N20: Т/з осн. раб.на ед. | O20: Т/з осн. раб. Всего | P20: Т/з мех. на ед. | Q20: Т/з мех. Всего
F21: Всего | G21: В том числе | J21: Всего | K21: В том числе
G22: Осн.З/п | H22: Эк.Маш | I22: З/пМех | K22: Осн.З/п | L22: Эк.Маш | M22: З/пМех
A23: 1 | B23: 2 | C23: 3 | D23: 4 | E23: 5 | F23: 6 | G23: 7 | H23: 8 | I23: 9 | J23: 10 | K23: 11 | L23: 12 | M23: 13 | N23: 14 | O23: 15 | P23: 16 | Q23: 17
A24: 1 | B24: ТЕР01-01-030-06 | C24: Разработка грунта с перемещением до 10 м бульдозерами мощностью 79 (108) кВт (л.с.), группа грунтов: 2 (срезка растительного слоя толщ. 150мм) | D24: 1000 м3 грунта | E24: 0.00723 | F24: 739.41 | H24: 739.41 | I24: 126.58 | J24: 5 | L24: 5 | M24: 1 | P24: 7.49 | Q24: 0.05
A25: 2 | B25: ТЕР01-01-003-08 | C25: Разработка грунта в отвал экскаваторами «драглайн» или «обратная лопата» с ковшом вместимостью 0,65 (0,5-1) м3, группа грунтов 2 | D25: 1000 м3 грунта | E25: 0.0968 | F25: 3778.42 | G25: 115.18 | H25: 3663.24 | I25: 385.27 | J25: 366 | K25: 11 | L25: 355 | M25: 37 | N25: 10.48 | O25: 1.01 | P25: 22.77 | Q25: 2.2
A26: 3 | B26: ТЕР01-02-056-08 | C26: Доработка грунта вручную в котлованах, группа грунтов 2 | D26: 100 м3 грунта | E26: 0.03 | F26: 3495.76 | G26: 3495.76 | J26: 105 | K26: 105 | N26: 296 | O26: 8.88
A27: 4 | B27: ТЕР08-01-002-01 | C27: Устройство основания под фундаменты песчаного | D27: 1 м3 основания | E27: 3.2 | F27: 238.3 | G27: 26.47 | H27: 41.11 | I27: 4.09 | J27: 763 | K27: 85 | L27: 132 | M27: 13 | N27: 2.3 | O27: 7.36 | P27: 0.29 | Q27: 0.93
A28: 5 | B28: ТЕР07-02-003-08 | C28: Укладка плит ж/б | D28: 100 шт. сборных конструкций | E28: 0.01 | F28: 20298.08 | G28: 2673.5 | H28: 3893.62 | I28: 409.68 | J28: 203 | K28: 27 | L28: 39 | M28: 4 | N28: 204.24 | O28: 2.04 | P28: 22.51 | Q28: 0.23
A29: 6 | B29: ТСЦ-403-5820 | C29: Плиты покрытия, объем 1,68 м3, расход ар-ры 147,57 кг/ (ГОСТ 25912.1-91) | D29: шт. | E29: 1 | F29: 4078.5 | J29: 4079
A30: 7 | B30: ТЕР08-01-002-01 прим. | C30: Засыпка и утрамбовка послойно цементно-песчаной смеси толщ. 200мм | D30: 1 м3 | E30: 92 | F30: 68.31 | G30: 26.47 | H30: 41.11 | I30: 4.09 | J30: 6285 | K30: 2435 | L30: 3782 | M30: 376 | N30: 2.3 | O30: 211.6 | P30: 0.29 | Q30: 26.68
A31: 8 | B31: ТСЦ-407-0027 | C31: Смесь пескоцементная | D31: м3 | E31: 110.4 | F31: 311.18 | J31: 34354
A32: 9 | B32: ТЕР01-01-030-06 | C32: Разработка грунта с перемещением до 10 м бульдозерами мощностью 79 (108) кВт (л.с.), группа грунтов: 2 (укладка растительного слоя толщ. 150мм) | D32: 1000 м3 грунта | E32: 0.00723 | F32: 739.41 | H32: 739.41 | I32: 126.58 | J32: 5 | L32: 5 | M32: 1 | P32: 7.49 | Q32: 0.05
A33: 10 | B33: ТЕР01-01-013-01 | C33: Разработка грунта с погрузкой на автомобили-самосвалы экскаваторами с ковшом вместимостью 1 (1-1,2) м3, группа грунтов 1 | D33: 1000 м3 грунта | E33: 0.0968 | F33: 3222.6 | G33: 70.34 | H33: 3148.43 | I33: 524.17 | J33: 312 | K33: 7 | L33: 305 | M33: 51 | N33: 6.4 | O33: 0.62 | P33: 32.72 | Q33: 3.17
A34: 11 | B34: ФССЦпг03-21-01-010 | C34: Перевозка грузов (грунта) автомобилями-самосвалами грузоподъемностью 10 т, работающих вне карьера, на расстояние: до 10 км I класс груза КОЭФ. К ПОЗИЦИИ: 15 Поясные коэффициенты к сметным ценам на перевозку грузов автомобильным транспортом: Свердловская область ПЗ=1,1 (ОЗП=1,1; ЭМ=1,1; ЗПМ=1,1; МАТ=1,1) | D34: 1 т груза | E34: 193.6 | F34: 12.56 | H34: 12.56 | J34: 2432 | L34: 2432
A35: Итого по разделу 1 Земляные работы по устройсву колодца и укладке труб | J35: 57635 | O35: 266.23 | Q35: 38.3
A36: ИТОГИ ПО СМЕТЕ:
A37: Итого прямые затраты по смете в ценах 2001г. | J37: 48909 | K37: 2670 | L37: 7055 | M37: 483 | O37: 231.51 | Q37: 33.31
A38: Итого прямые затраты по смете с учетом коэффициентов к итогам | J38: 50160 | K38: 3203 | L38: 7773 | M38: 580 | O38: 266.23 | Q38: 38.3
A39: В том числе, справочно:
A40: Районный к-т 4,3% (Поз. 1-2, 9-10, 3-4, 7, 5) | J40: 136 | K40: 115 | L40: 21 | M40: 21
A41: 4. Производство строительных и других работ на открытых и полуоткрытых производственных площадках в стесненных условиях: с наличием в зоне производства работ действующего технологического оборудования или движения технологического транспорта ОЗП=1,15; ЭМ=1,15; ЗПМ=1,15; ТЗ=1,15; ТЗМ=1,15 (Поз. 1-2, 9-10, 3-4, 7, 5) | J41: 1115 | K41: 418 | L41: 697 | M41: 76 | O41: 34.7265 | Q41: 4.9965
A42: Накладные расходы | J42: 4531
A43: В том числе, справочно:
...

Sheet 25468
A1: СОГЛАСОВАНО: | E1: ФГУП "Комбинат "Электрохимприбор" | M1: УТВЕРЖДАЮ:
G2: (наименование стройки) | M2: Зам. генерального директора
M3: Е.В.Гордеев
A4: _________________ | M4: _________________
A5: " _____ " ________________ 2014 г. | M5: "______ " __________2014 г.
G6: ЛОКАЛЬНЫЙ СМЕТНЫЙ РАСЧЕТ № 25468
G7: (локальная смета)
C9: на | D9: установку жироуловителя. В/ч 3275. Столовая. Инв.№ 5500459
D10: Раздел: Силовое электрооборудование.
G11: (наименование работ и затрат, наименование объекта)
D13: Основание: проект № 24961-14-ЭМ | N13: Справочно, в тыс.руб. :
D14: Сметная стоимость _______________________________________________________________________________________________ | J14: ___________________________4,988 | L14: тыс. руб. | N14: ВСЕГО: | P14: =P15+P16+P17 -> 31.38974
D15: строительных работ _______________________________________________________________________________________________ | J15: _______________________________________________________________________________________________0,311 | L15: тыс. руб. | N15: с К=5,98 | P15: =5.98*0.311 -> 1.85978
D16: монтажных работ _______________________________________________________________________________________________ | J16: _______________________________________________________________________________________________4,330 | L16: тыс. руб. | N16: с К=5,98 | P16: =5.98*4.33 -> 25.8934
D17: прочих (ПНР "в холостую") _______________________________________________________________________________________________ | J17: _______________________________________________________________________________________________0,347 | L17: тыс. руб. | N17: с К=10,48 | P17: =10.48*0.347 -> 3.63656
D18: Средства на оплату труда _______________________________________________________________________________________________ | J18: ___________________________0,953 | L18: тыс. руб.
D19: Сметная трудоемкость _______________________________________________________________________________________________ | J19: _______________________________________________________________________________________________57,37 | L19: чел.час
D20: Материалы ______________________________________ | K20: =J93/1000 -> 1.939 | L20: тыс.руб. | N20: с К=5,98 | P20: =K20*5.98 -> 11.59522
D21: Составлен(а) в базовых ценах 2001г. в редакции 2009г.
A23: № пп | B23: Обоснование | C23: Наименование | D23: Ед. изм. | E23: Кол. | F23: Стоимость единицы, руб. | J23: Общая стоимость, руб. | N23: Т/з осн. раб.на ед. | O23: Т/з осн. раб. Всего | P23: Т/з мех. на ед. | Q23: Т/з мех. Всего
F24: Всего | G24: В том числе | J24: Всего | K24: В том числе
G25: Осн.З/п | H25: Эк.Маш | I25: З/пМех | K25: Осн.З/п | L25: Эк.Маш | M25: З/пМех
A26: 1 | B26: 2 | C26: 3 | D26: 4 | E26: 5 | F26: 6 | G26: 7 | H26: 8 | I26: 9 | J26: 10 | K26: 11 | L26: 12 | M26: 13 | N26: 14 | O26: 15 | P26: 16 | Q26: 17
A27: Раздел 1. Монтажные работы
A28: 1 | B28: ФЕРм08-02-390-01 | C28: Короба пластмассовые: шириной до 40 мм КОЭФ. К ПОЗИЦИИ: Приведение расценок ФЕР к территориальному уровню (Письмо УРЦЦС Ц-297 от 12.04.2011) ОЗП=1,41; ЭМ=1,242; ЗПМ=1,41; МАТ=1,052 | D28: 100 м | E28: 0.1 | F28: 311.4 | G28: 218.44 | H28: 38.75 | I28: 0.17 | J28: 31 | K28: 22 | L28: 4 | N28: 16.29 | O28: 1.63 | P28: 0.01
A29: 2 | B29: Цена поставщика | C29: Кабель-канал 25х16 "ЭЛЕКОР" CKK10-025-016-1-K01 | D29: м | E29: 10 | F29: 3,71 26,15/1.18/5.98 | J29: 37
A30: 3 | B30: Цена поставщика | C30: Соединитель на стык КМС 25х16 "ЭЛЕКОР" CKK10D-S-025-016-K01 | D30: шт | E30: 5 | F30: 1,19 8,40/1,18/5,98 | J30: 6
A31: 4 | B31: Цена поставщика | C31: Заглушка КМЗ 25х16 "ЭЛЕКОР" CKK10D-Z-025-016-K01 | D31: шт | E31: 2 | F31: 1,39 9,80/1,18/5,98 | J31: 3
A32: 5 | B32: Цена поставщика | C32: Поворот 90 гр. КМП 25х16 "ЭЛЕКОР" CKK10D-P-025-016-K01 | D32: шт | E32: 2 | F32: 1,5 10,61/1,18/5,98 | J32: 3
A33: 6 | B33: Цена поставщика | C33: Внутренний угол КМВ 25х16 "ЭЛЕКОР" CKK10D-V-025-016-K01 | D33: шт | E33: 2 | F33: 1,69 11,90/1,18/5,98 | J33: 3
A34: 7 | B34: Цена поставщика | C34: Внутренний угол КМВ 25х16 "ЭЛЕКОР" CKK10D-N-025-016-K01 | D34: шт | E34: 2 | F34: 1,69 11,90/1,18/5,98 | J34: 3
A35: 8 | B35: ТСЦ-501-8190 | C35: Кабель силовой с медными жилами с поливинилхлоридной изоляцией в поливинилхлоридной оболочке без защитного покрова ВВГ, напряжением 0,66 Кв, число жил 3 и сечением 1,5 мм2 | D35: 1000 м | E35: 0.02 | F35: 6962.8 | J35: 139
A36: 9 | B36: ТСЦ-501-0809 | C36: Кабели контрольные с медными жилами с поливинилхлоридной изоляцией и оболочкой марки КВВГ, с числом жил - 10 и сечением 1,5 мм2 | D36: 1000 м | E36: 0.025 | F36: 16855 | J36: 421
A37: 10 | B37: ТЕРм08-02-399-01 | C37: Провод (кабель) в коробах, сечением до 6 мм2 КОЭФ. К ПОЗИЦИИ: 1.8.3.ОП При производстве работ на высоте свыше расстояний, указанных в вводных указаниях к разделам сборника: при высоте свыше 2 до 8 м ОЗП=1,05; ТЗ=1,05 | D37: 100 м | E37: 0.12 | F37: 191.56 | G37: 48.97 | H37: 56.09 | I37: 24.55 | J37: 23 | K37: 6 | L37: 7 | M37: 3 | N37: 3.7 | O37: 0.44 | P37: 1.57 | Q37: 0.19
A38: 11 | B38: ТСЦ-103-0002 | C38: Трубы стальные сварные водогазопроводные с резьбой черные легкие (неоцинкованные) диаметр условного прохода 20 мм, толщина стенки 2,5 мм | D38: м | E38: 1 | F38: 14.72 | J38: 15
A39: 12 | B39: ТЕРм08-02-407-01 | C39: Труба стальная по установленным конструкциям, по стенам с креплением скобами, диаметр до 25 мм КОЭФ. К ПОЗИЦИИ: 1.8.3.ОП При производстве работ на высоте свыше расстояний, указанных в вводных указаниях к разделам сборника: при высоте свыше 2 до 8 м ОЗП=1,05; ТЗ=1,05 | D39: 100 м | E39: 0.01 | F39: 2547.61 | G39: 428.51 | H39: 897.93 | I39: 320.97 | J39: 25 | K39: 4 | L39: 9 | M39: 3 | N39: 32.34 | O39: 0.32 | P39: 20.47 | Q39: 0.2
A40: 13 | B40: ТСЦ-103-0010 | C40: Трубы стальные сварные водогазопроводные с резьбой черные легкие (неоцинкованные) диаметр условного прохода 100 мм, толщина стенки 4 мм | D40: м | E40: 6 | F40: 100.13 | J40: 601
A41: 14 | B41: ТЕРм08-02-407-10 прим. | C41: Труба стальная в ПНД-труб существующей, диаметр до 100 мм | D41: 100 м | E41: 0.06 | F41: 2522.01 | G41: 722.13 | H41: 590.48 | I41: 34.4 | J41: 151 | K41: 43 | L41: 35 | M41: 2 | N41: 54.5 | O41: 3.27 | P41: 1.89 | Q41: 0.11
A42: 15 | B42: ТЕРм08-02-412-03 | C42: Затягивание провода в проложенные трубы и металлические рукава первого одножильного или многожильного в общей оплетке, суммарное сечение до 16 мм2 (КВВГ нг 10х1,5 мм2) | D42: 100 м | E42: 0.15 | F42: 730.59 | G42: 104.15 | H42: 11.69 | I42: 0.73 | J42: 110 | K42: 16 | L42: 2 | N42: 7.86 | O42: 1.18 | P42: 0.04 | Q42: 0.01
A43: 16 | B43: ТЕРм10-04-066-04 | C43: Монтаж: коробка ответвительная с кабельными вводами DKC | D43: 1 шт. | E43: 2 | F43: 58.16 | G43: 48.04 | J43: 116 | K43: 96 | N43: 4 | O43: 8
...
