Workbook

Sheet Смета 12 гр. по ФЕР
A1: =Source!B1 -> Smeta.RU (495) 974-1589 | J1: ПРИЛОЖЕНИЕ 1 к ФОРМЕ 6
B5: =CONCATENATE( "ЛОКАЛЬНАЯ СМЕТА ",IF(Source!F20<>"Новая локальная смета", Source!F20, "")) -> ЛОКАЛЬНАЯ СМЕТА
B7: =IF(Source!G20<>"Новая локальная смета", Source!G20, "")
B9: на капитальный ремонт помещения №8 спортивного корпуса №5, №6, №7, №8 вспомогательных спортивных и хозяйственных помещений Снежинского физико-технического института - филиала НИЯУ МИФИ (СФТИ НИЯУ МИФИ) по адресу: Челябинская обл., г. Снежинск, ул. Комсомольская, д. 8 | AD9: =IF(Source!G12<>"Новый объект", Source!G12, "") -> на капитальный ремонт помещения №8 спортивного корпуса №5, №6, №7, №8 вспомогательных спортивных и хозяйственных помещений Снежинского физико-технического института - филиала НИЯУ МИФИ (СФТИ НИЯУ МИФИ) по адресу: Челябинская область, г. Снежинск, ул. Комсомольская, д. 8
B10: (наименование работ и затрат, наименование объекта)
G12: базовая цена | I12: текущая цена
C13: Сметная стоимость | G13: =SUM(O22:O979)/1000 -> 684.0894 | I13: =(Source!F406/1000) -> 4933.8223 | K13: тыс. руб.
C14: Строительные работы | G14: =SUM(W22:W979)/1000 -> 659.46778 | I14: =(Source!F393)/1000 -> 4030.7674 | K14: тыс. руб.
C15: Монтажные работы | G15: =SUM(X22:X979)/1000 -> 24.62162 | I15: =(Source!F394)/1000 -> 150.43795 | K15: тыс. руб.
C16: Нормативная трудоемкость | G16: =I16 -> 5534.1157 | I16: =(Source!F398+Source!F399) -> 5534.1157 | K16: чел. -ч.
C17: Средства на оплату труда | G17: =SUM(R22:R979)/1000 -> 48.83595 | I17: =(Source!F391+ Source!F390)/1000 -> 298.3878 | K17: тыс. руб.
A19: Составлена в ценах II квартал 2018 года
A20: № п/п | B20: Шифр расценки и коды ресурсов | C20: Наименование работ и затрат | D20: Ед. изм. | E20: Кол-во единиц | F20: Цена на ед. изм. | G20: Попра-вочные коэфф. | H20: Стоимость в ценах 2001г. | I20: Пункт коэфф. пересчета | J20: Коэфф. пересчета | K20: Стоимость в текущих ценах | L20: ЗТР всего чел.-час
A21: 1 | B21: 2 | C21: 3 | D21: 4 | E21: 5 | F21: 6 | G21: 7 | H21: 8 | I21: 9 | J21: 10 | K21: 11 | L21: 12
A23: =CONCATENATE("Раздел: ",IF(Source!G24<>"Новый раздел", Source!G24, "")) -> Раздел: 1 Общестроительные работы
A24: =Source!E28 -> 1 | B24: =Source!F28 -> 08-07-001-02 | C24: =Source!G28 -> Установка и разборка наружных инвентарных лесов высотой до 16 м трубчатых для прочих отделочных работ (Высота =6,7м) | D24: =Source!H28 -> 100 м2 | E24: =Source!I28 -> 2.94 | F24: =Source!AL28+Source!AM28+Source!AO28 -> 500.19 | I24: =Source!BO28 | S24: =ROUND((Source!FX28/100)*((ROUND(Source!AF28*Source!I28, 2)+ROUND(Source!AE28*Source!I28, 2))), 2) -> 1398.52 | T24: =Source!X28 -> 8560.51 | U24: =ROUND((Source!FY28/100)*((ROUND(Source!AF28*Source!I28, 2)+ROUND(Source!AE28*Source!I28, 2))), 2) -> 866.12 | V24: =Source!Y28 -> 5291.95
C25: ="Объем: "&Source!I28&"=294/"&"100" -> Объем: 2,94=294/100
C26: Зарплата | F26: =Source!AO28 -> 375.84 | G26: =Source!DG28 -> )*1,15 | H26: =ROUND(Source!AF28*Source!I28, 2) -> 1270.73 | J26: =IF(Source!BA28<> 0, Source!BA28, 1) -> 6.11 | K26: =Source!S28 -> 7764.14 | R26: =H26 -> 1270.73
C27: Эксплуатация машин | F27: =Source!AM28 -> 4.6 | G27: =Source!DE28 -> )*1,25 | H27: =ROUND(Source!AD28*Source!I28, 2) -> 16.91 | J27: =IF(Source!BB28<> 0, Source!BB28, 1) -> 6.11 | K27: =Source!Q28 -> 103.29
C28: в т.ч. зарплата машинистов | F28: =Source!AN28 -> 0.81 | G28: =Source!DF28 -> )*1,25 | H28: =ROUND(Source!AE28*Source!I28, 2) -> 2.97 | J28: =IF(Source!BS28<> 0, Source!BS28, 1) -> 6.11 | K28: =Source!R28 -> 18.14 | R28: =H28 -> 2.97
C29: Материальные ресурсы | F29: =Source!AL28 -> 119.75 | G29: =Source!DD28 | H29: =ROUND(Source!AC28*Source!I28, 2) -> 352.07 | J29: =IF(Source!BC28<> 0, Source!BC28, 1) -> 6.11 | K29: =Source!P28 -> 2151.12
C30: НР от ФОТ | D30: % | E30: =Source!BZ28 -> 122 | F30: =CONCATENATE(" )", Source!DL28, Source!FT28, "=", Source!FX28) -> )*0,9=109,8 | H30: =SUM(S24:S32) -> 1398.52 | J30: =Source!AT28 -> 110 | K30: =SUM(T24:T32) -> 8560.51
C31: СП от ФОТ | D31: % | E31: =Source!CA28 -> 80 | F31: =CONCATENATE(" )", Source!DM28, Source!FU28, "=", Source!FY28) -> )*0,85=68 | H31: =SUM(U24:U32) -> 866.12 | J31: =Source!AU28 -> 68 | K31: =SUM(V24:V32) -> 5291.95
C32: Затраты труда | D32: чел-ч | E32: =Source!AQ28 -> 43.5 | G32: =Source!DI28 -> )*1,15 | L32: =Source!U28 -> 147.0735
G33: =H26+H27+H29+H30+H31 -> 3904.35 | J33: =K26+K27+K29+K30+K31 -> 23871.01 | L33: =Source!U28 -> 147.0735 | O33: =G33 -> 3904.35 | P33: =J33 -> 23871.01 | Q33: =L33 -> 147.0735 | W33: =IF(Source!BI28<=1,H26+H27+H29+H30+H31, 0) -> 3904.35 | X33: =IF(Source!BI28=2,H26+H27+H29+H30+H31, 0) -> 0 | Y33: =IF(Source!BI28=3,H26+H27+H29+H30+H31, 0) -> 0 | Z33: =IF(Source!BI28=4,H26+H27+H29+H30+H31, 0) -> 0
A34: =Source!E29 -> 2 | B34: =Source!F29 -> 09-06-001-02 | C34: =Source!G29 -> Демонтаж:Монтаж лотков, решеток, затворов из полосовой и тонколистовой стали 1м2=7кг ( с последующем монтажом) | D34: =Source!H29 -> т | E34: =Source!I29 -> 0.3654 | F34: =Source!AL29+Source!AM29+Source!AO29 -> 641 | I34: =Source!BO29 | S34: =ROUND((Source!FX29/100)*((ROUND(Source!AF29*Source!I29, 2)+ROUND(Source!AE29*Source!I29, 2))), 2) -> 90.55 | T34: =Source!X29 -> 553.26 | U34: =ROUND((Source!FY29/100)*((ROUND(Source!AF29*Source!I29, 2)+ROUND(Source!AE29*Source!I29, 2))), 2) -> 80.77 | V34: =Source!Y29 -> 491.79
C35: Зарплата | F35: =Source!AO29 -> 433.24 | G35: =Source!DG29 -> )*0,7 | H35: =ROUND(Source!AF29*Source!I29, 2) -> 110.81 | J35: =IF(Source!BA29<> 0, Source!BA29, 1) -> 6.11 | K35: =Source!S29 -> 677.08 | R35: =H35 -> 110.81
C36: Эксплуатация машин | F36: =Source!AM29 -> 125.8 | G36: =Source!DE29 -> )*0,7 | H36: =ROUND(Source!AD29*Source!I29, 2) -> 32.18 | J36: =IF(Source!BB29<> 0, Source!BB29, 1) -> 6.11 | K36: =Source!Q29 -> 196.6
C37: в т.ч. зарплата машинистов | F37: =Source!AN29 -> 3.82 | G37: =Source!DF29 -> )*0,7 | H37: =ROUND(Source!AE29*Source!I29, 2) -> 0.98 | J37: =IF(Source!BS29<> 0, Source!BS29, 1) -> 6.11 | K37: =Source!R29 -> 5.96 | R37: =H37 -> 0.98
C38: НР от ФОТ | D38: % | E38: =Source!BZ29 -> 90 | F38: =CONCATENATE(" )", Source!DL29, Source!FT29, "=", Source!FX29) -> )*0,9=81 | H38: =SUM(S34:S40) -> 90.55 | J38: =Source!AT29 -> 81 | K38: =SUM(T34:T40) -> 553.26
C39: СП от ФОТ | D39: % | E39: =Source!CA29 -> 85 | F39: =CONCATENATE(" )", Source!DM29, Source!FU29, "=", Source!FY29) -> )*0,85=72,25 | H39: =SUM(U34:U40) -> 80.77 | J39: =Source!AU29 -> 72 | K39: =SUM(V34:V40) -> 491.79
C40: Затраты труда | D40: чел-ч | E40: =Source!AQ29 -> 50.79 | G40: =Source!DI29 -> )*0,7 | L40: =Source!U29 -> 12.991066
G41: =H35+H36+H38+H39 -> 314.31 | J41: =K35+K36+K38+K39 -> 1918.73 | L41: =Source!U29 -> 12.991066 | O41: =G41 -> 314.31 | P41: =J41 -> 1918.73 | Q41: =L41 -> 12.991066 | W41: =IF(Source!BI29<=1,H35+H36+H38+H39, 0) -> 314.31 | X41: =IF(Source!BI29=2,H35+H36+H38+H39, 0) -> 0 | Y41: =IF(Source!BI29=3,H35+H36+H38+H39, 0) -> 0 | Z41: =IF(Source!BI29=4,H35+H36+H38+H39, 0) -> 0
A42: =Source!E30 -> 3 | B42: =Source!F30 -> 57-3-1 | C42: =Source!G30 -> Разборка плинтусов деревянных и из пластмассовых материалов | D42: =Source!H30 -> 100 м | E42: =Source!I30 -> 1.7675 | F42: =Source!AL30+Source!AM30+Source!AO30 -> 29.41 | I42: =Source!BO30 | S42: =ROUND((Source!FX30/100)*((ROUND(Source!AF30*Source!I30, 2)+ROUND(Source!AE30*Source!I30, 2))), 2) -> 41.58 | T42: =Source!X30 -> 254.09 | U42: =ROUND((Source!FY30/100)*((ROUND(Source!AF30*Source!I30, 2)+ROUND(Source!AE30*Source!I30, 2))), 2) -> 35.35 | V42: =Source!Y30 -> 215.97
C43: ="Объем: "&Source!I30&"=176,75/"&"100" -> Объем: 1,7675=176,75/100
C44: Зарплата | F44: =Source!AO30 -> 29.41 | G44: =Source!DG30 | H44: =ROUND(Source!AF30*Source!I30, 2) -> 51.98 | J44: =IF(Source!BA30<> 0, Source!BA30, 1) -> 6.11 | K44: =Source!S30 -> 317.61 | R44: =H44 -> 51.98
C45: НР от ФОТ | D45: % | E45: =Source!BZ30 -> 80 | H45: =SUM(S42:S47) -> 41.58 | J45: =Source!AT30 -> 80 | K45: =SUM(T42:T47) -> 254.09
C46: СП от ФОТ | D46: % | E46: =Source!CA30 -> 68 | H46: =SUM(U42:U47) -> 35.35 | J46: =Source!AU30 -> 68 | K46: =SUM(V42:V47) -> 215.97
C47: Затраты труда | D47: чел-ч | E47: =Source!AQ30 -> 3.77 | G47: =Source!DI30 | L47: =Source!U30 -> 6.663475
G48: =H44+H45+H46 -> 128.91 | J48: =K44+K45+K46 -> 787.67 | L48: =Source!U30 -> 6.663475 | O48: =G48 -> 128.91 | P48: =J48 -> 787.67 | Q48: =L48 -> 6.663475 | W48: =IF(Source!BI30<=1,H44+H45+H46, 0) -> 128.91 | X48: =IF(Source!BI30=2,H44+H45+H46, 0) -> 0 | Y48: =IF(Source!BI30=3,H44+H45+H46, 0) -> 0 | Z48: =IF(Source!BI30=4,H44+H45+H46, 0) -> 0
...

Sheet Source
A1: 0 | B1: Smeta.RU (495) 974-1589 | D1: _PS_ | F1: 0 | G1: 0 | H1: 0 | I1: Smeta.RU | J1: НИЯУ МИФИ Доп. раб. место MCCS-0016187 | K1: 0 | L1: 16187 | M1: 10
A12: 1 | B12: 469 | C12: 0 | D12: =ROW(A408) -> 408 | E12: 0 | F12: Новый объект | G12: на капитальный ремонт помещения №8 спортивного корпуса №5, №6, №7, №8 вспомогательных спортивных и хозяйственных помещений Снежинского физико-технического института - филиала НИЯУ МИФИ (СФТИ НИЯУ МИФИ) по адресу: Челябинская область, г. Снежинск, ул. Комсомольская, д. 8 | I12: 0 | K12: 0 | O12: 0 | P12: 0 | Q12: 0 | R12: 0 | V12: 0 | BH12: Сметные нормы списания | BI12: Коды ценников | BJ12: 1 | BK12: 1 | BL12: 0 | BM12: 0 | BN12: 1 | BO12: 0 | BP12: 2 | BQ12: 2 | BR12: 1 | BS12: 1 | BT12: 0 | BU12: 0 | BV12: 0 | BW12: 0 | BX12: 0 | BY12: ФЕР-2017 | BZ12: ТР для Версии 10: Центральные регионы (с учетом п-ма 2536-ИП/12/ГС от 22.03.2017 г | CA12: ФЕР-2017 | CB12: ФЕР-2017 | CC12: ФЕР-2017 | CD12: ФЕР-2017 | CE12: Поправки для ГСН 2017 от 31.03.2017 г | CF12: 0 | CG12: 0 | CH12: 524296 | CK12: 4 | EC12: 0
A15: 15 | B15: 1
A18: 52 | B18: =B408 -> 469 | C18: =C408 -> 1 | D18: =D408 -> 12 | E18: =E408 -> 0 | F18: =F408 -> Новый объект | G18: =G408 -> на капитальный ремонт помещения №8 спортивного корпуса №5, №6, №7, №8 вспомогательных спортивных и хозяйственных помещений Снежинского физико-технического института - филиала НИЯУ МИФИ (СФТИ НИЯУ МИФИ) по адресу: Челябинская область, г. Снежинск, ул. Комсомольская, д. 8 | O18: =O408 -> 3703630.7 | P18: =P408 -> 3355547.4 | Q18: =Q408 -> 60300.26 | R18: =R408 -> 10604.75 | S18: =S408 -> 287783.05 | T18: =T408 -> 0 | U18: =U408 -> 5384.0392 | V18: =V408 -> 150.0765 | ... GX18: =GX408 -> 0
A20: 3 | B20: 1 | D20: =ROW(A376) -> 376 | F20: Новая локальная смета | G20: Новая локальная смета | I20: 0 | K20: 0 | V20: 0 | BX20: 0 | CF20: 0 | CG20: 0
A22: 52 | B22: =B376 -> 1 | C22: =C376 -> 3 | D22: =D376 -> 20 | E22: =E376 -> 0 | F22: =F376 -> Новая локальная смета | G22: =G376 -> Новая локальная смета | O22: =O376 -> 3703630.7 | P22: =P376 -> 3355547.4 | Q22: =Q376 -> 60300.26 | R22: =R376 -> 10604.75 | S22: =S376 -> 287783.05 | T22: =T376 -> 0 | U22: =U376 -> 5384.0392 | V22: =V376 -> 150.0765 | ... GX22: =GX376 -> 0
A24: 4 | B24: 1 | D24: =ROW(A187) -> 187 | F24: Новый раздел | G24: 1 Общестроительные работы | I24: 0 | K24: 0 | V24: 0 | BX24: 0 | CJ24: 0
A26: 52 | B26: =B187 -> 1 | C26: =C187 -> 4 | D26: =D187 -> 24 | E26: =E187 -> 0 | F26: =F187 -> Новый раздел | G26: =G187 -> 1 Общестроительные работы | O26: =O187 -> 3020635.6 | P26: =P187 -> 2737038.6 | Q26: =Q187 -> 40125.69 | R26: =R187 -> 8683.53 | S26: =S187 -> 243471.25 | T26: =T187 -> 0 | U26: =U187 -> 4598.5645 | V26: =V187 -> 125.54034 | ... GX26: =GX187 -> 0
A28: 17 | B28: 1 | C28: =ROW(SmtRes!A4) -> 4 | D28: =ROW(EtalonRes!A6) -> 6 | E28: 1 | F28: 08-07-001-02 | G28: Установка и разборка наружных инвентарных лесов высотой до 16 м трубчатых для прочих отделочных работ (Высота =6,7м) | H28: 100 м2 | I28: =ROUND(294/100,9) -> 2.94 | J28: 0 | O28: =ROUND(CP28,2) -> 10018.55 | P28: =ROUND(CQ28*I28,2) -> 2151.12 | Q28: =ROUND(CR28*I28,2) -> 103.29 | R28: =ROUND(CS28*I28,2) -> 18.14 | S28: =ROUND(CT28*I28,2) -> 7764.14 | T28: =ROUND(CU28*I28,2) -> 0 | U28: =CV28*I28 -> 147.0735 | V28: =CW28*I28 -> 0.25725 | W28: =ROUND(CX28*I28,2) -> 0 | X28: =ROUND(CY28,2) -> 8560.51 | Y28: =ROUND(CZ28,2) -> 5291.95 | AA28: 27906248 | AB28: =ROUND((AC28+AD28+AF28),2) -> 557.72 | AC28: =ROUND((ES28),2) -> 119.75 | AD28: =ROUND(((((ET28*1.25))-((EU28*1.25)))+AE28),2) -> 5.75 | AE28: =ROUND(((EU28*1.25)),2) -> 1.01 | AF28: =ROUND(((EV28*1.15)),2) -> 432.22 | AG28: =ROUND((AP28),2) -> 0 | AH28: =((EW28*1.15)) -> 50.025 | AI28: =((EX28*1.25)) -> 0.0875 | AJ28: =(AS28) -> 0 | AK28: 500.19 | AL28: 119.75 | AM28: 4.6 | AN28: 0.81 | AO28: 375.84 | AP28: 0 | AQ28: 43.5 | AR28: 0.07 | AS28: 0 | AT28: 110 | AU28: 68 | AV28: 1 | AW28: 1 | AZ28: 6.11 | BA28: 6.11 | BB28: 6.11 | BC28: 6.11 | BH28: 0 | BI28: 1 | BJ28: ФЕР-2001, 08-07-001-02, приказ Минстроя России №1039/пр от 30.12.2016г. | BM28: 8001 | BN28: 0 | BP28: 0 | BQ28: 2 | BR28: 0 | BS28: 6.11 | BT28: 1 | BU28: 1 | BV28: 1 | BW28: 1 | BX28: 1 | BZ28: 122 | CA28: 80 | CE28: 0 | CF28: 0 | CG28: 0 | CM28: 0 | CN28: Поправка: МДС 81-35.2004, п.4.7 Наименование: Работы, выполняемые при реконструкции зданий и сооружений работы, аналогичные технологическим процессам в новом строительстве (в том числе возведение новых конструктивных элементов) стоимость которых определена по соответствующим сборникам ФЕР, кроме сборника № 46 «Работы при реконструкции зданий и сооружений» | CO28: 0 | CP28: =(P28+Q28+S28) -> 10018.55 | CQ28: =AC28*BC28 -> 731.6725 | CR28: =AD28*BB28 -> 35.1325 | CS28: =AE28*BS28 -> 6.1711 | CT28: =AF28*BA28 -> 2640.8642 | CU28: =AG28 -> 0 | CV28: =AH28 -> 50.025 | CW28: =AI28 -> 0.0875 | CX28: =AJ28 -> 0 | CY28: =(((S28+R28)*AT28)/100) -> 8560.508 | CZ28: =(((S28+R28)*AU28)/100) -> 5291.9504 | DE28: )*1,25 | DF28: )*1,25 | DG28: )*1,15 | DI28: )*1,15 | DJ28: )*1,25 | DN28: 0 | DO28: 0 | DP28: 1 | DQ28: 1 | DU28: 1005 | DV28: 100 м2 | DW28: 100 м2 | DX28: 100 | EE28: 27029021 | EF28: 2 | EG28: Общестроительные работы | EH28: 0 | EJ28: 1 | EK28: 8001 | EL28: Конструкции из кирпича и блоков | EM28: ФЕР-08 | EO28: Поправка: МДС 81-35.2004, п.4.7 | EQ28: 131072 | ER28: 500.19 | ES28: 119.75 | ET28: 4.6 | EU28: 0.81 | EV28: 375.84 | EW28: 43.5 | EX28: 0.07 | EY28: 0 | FQ28: 0 | FR28: =ROUND(IF(AND(BH28=3,BI28=3),P28,0),2) -> 0 | FS28: 0 | FT28: *0,9 | FU28: *0,85 | FX28: 109.8 | FY28: 68 | GD28: 0 | GF28: 1727254192 | GG28: 1 | GH28: 1 | GI28: 4 | GJ28: 0 | GK28: =ROUND(R28*(R12)/100,2) -> 0 | GL28: =ROUND(IF(AND(BH28=3,BI28=3,FS28<>0),P28,0),2) -> 0 | GM28: =ROUND(O28+X28+Y28+GK28,2)+GX28 -> 23871.01 | GN28: =IF(OR(BI28=0,BI28=1),ROUND(O28+X28+Y28+GK28,2),0) -> 23871.01 | GO28: =IF(BI28=2,ROUND(O28+X28+Y28+GK28,2),0) -> 0 | GP28: =IF(BI28=4,ROUND(O28+X28+Y28+GK28,2)+GX28,0) -> 0 | GR28: 0 | GS28: 3 | GT28: 0 | GV28: =ROUND((GT28),2) -> 0 | GW28: 1 | GX28: =ROUND(HC28*I28,2) -> 0 | HA28: 0 | HB28: 0 | HC28: =GV28*GW28 -> 0 | IK28: 0
A29: 17 | B29: 1 | C29: =ROW(SmtRes!A22) -> 22 | D29: =ROW(EtalonRes!A25) -> 25 | E29: 2 | F29: 09-06-001-02 | G29: Демонтаж:Монтаж лотков, решеток, затворов из полосовой и тонколистовой стали 1м2=7кг ( с последующем монтажом) | H29: т | I29: 0.3654 | J29: 0 | O29: =ROUND(CP29,2) -> 873.68 | P29: =ROUND(CQ29*I29,2) -> 0 | Q29: =ROUND(CR29*I29,2) -> 196.6 | R29: =ROUND(CS29*I29,2) -> 5.96 | S29: =ROUND(CT29*I29,2) -> 677.08 | T29: =ROUND(CU29*I29,2) -> 0 | U29: =CV29*I29 -> 12.991066 | V29: =CW29*I29 -> 0.0792918 | W29: =ROUND(CX29*I29,2) -> 0 | X29: =ROUND(CY29,2) -> 553.26 | Y29: =ROUND(CZ29,2) -> 491.79 | AA29: 27906248 | AB29: =ROUND((AC29+AD29+AF29),2) -> 391.33 | AC29: =ROUND(((ES29*0)),2) -> 0 | AD29: =ROUND(((((ET29*0.7))-((EU29*0.7)))+AE29),2) -> 88.06 | AE29: =ROUND(((EU29*0.7)),2) -> 2.67 | AF29: =ROUND(((EV29*0.7)),2) -> 303.27 | AG29: =ROUND((AP29),2) -> 0 | AH29: =((EW29*0.7)) -> 35.553 | AI29: =((EX29*0.7)) -> 0.217 | AJ29: =(AS29) -> 0 | AK29: 641 | AL29: 81.96 | AM29: 125.8 | AN29: 3.82 | AO29: 433.24 | AP29: 0 | AQ29: 50.79 | AR29: 0.31 | AS29: 0 | AT29: 81 | AU29: 72 | AV29: 1 | AW29: 1 | AZ29: 6.11 | BA29: 6.11 | BB29: 6.11 | BC29: 6.11 | BH29: 0 | BI29: 1 | BJ29: ФЕР-2001, 09-06-001-02, приказ Минстроя России №1039/пр от 30.12.2016г. | BM29: 9001 | BN29: 0 | BP29: 0 | BQ29: 2 | BR29: 0 | BS29: 6.11 | BT29: 1 | BU29: 1 | BV29: 1 | BW29: 1 | BX29: 1 | BZ29: 90 | CA29: 85 | CE29: 0 | CF29: 0 | CG29: 0 | CM29: 0 | CN29: Поправка: МДС 81-36.2004, п.3.3.1.д Наименование: При демонтаже металлических конструкций | CO29: 0 | CP29: =(P29+Q29+S29) -> 873.68 | CQ29: =AC29*BC29 -> 0 | CR29: =AD29*BB29 -> 538.0466 | CS29: =AE29*BS29 -> 16.3137 | CT29: =AF29*BA29 -> 1852.9797 | CU29: =AG29 -> 0 | CV29: =AH29 -> 35.553 | CW29: =AI29 -> 0.217 | CX29: =AJ29 -> 0 | CY29: =(((S29+R29)*AT29)/100) -> 553.2624 | CZ29: =(((S29+R29)*AU29)/100) -> 491.7888 | DD29: )*0 | DE29: )*0,7 | DF29: )*0,7 | DG29: )*0,7 | DI29: )*0,7 | DJ29: )*0,7 | DN29: 0 | DO29: 0 | DP29: 1 | DQ29: 1 | DU29: 1009 | DV29: т | DW29: т | DX29: 1000 | EE29: 27029022 | EF29: 2 | EG29: Общестроительные работы | EH29: 0 | EJ29: 1 | EK29: 9001 | EL29: Металлические конструкции | EM29: ФЕР-09 | EO29: Поправка: МДС 81-36.2004, п.3.3.1.д | EQ29: 131072 | ER29: 641 | ES29: 81.96 | ET29: 125.8 | EU29: 3.82 | EV29: 433.24 | EW29: 50.79 | EX29: 0.31 | EY29: 0 | FQ29: 0 | FR29: =ROUND(IF(AND(BH29=3,BI29=3),P29,0),2) -> 0 | FS29: 0 | FT29: *0,9 | FU29: *0,85 | FX29: 81 | FY29: 72.25 | GD29: 0 | GF29: 1299573921 | GG29: 1 | GH29: 1 | GI29: 4 | GJ29: 0 | GK29: =ROUND(R29*(R12)/100,2) -> 0 | GL29: =ROUND(IF(AND(BH29=3,BI29=3,FS29<>0),P29,0),2) -> 0 | GM29: =ROUND(O29+X29+Y29+GK29,2)+GX29 -> 1918.73 | GN29: =IF(OR(BI29=0,BI29=1),ROUND(O29+X29+Y29+GK29,2),0) -> 1918.73 | GO29: =IF(BI29=2,ROUND(O29+X29+Y29+GK29,2),0) -> 0 | GP29: =IF(BI29=4,ROUND(O29+X29+Y29+GK29,2)+GX29,0) -> 0 | GR29: 0 | GS29: 3 | GT29: 0 | GV29: =ROUND((GT29),2) -> 0 | GW29: 1 | GX29: =ROUND(HC29*I29,2) -> 0 | HA29: 0 | HB29: 0 | HC29: =GV29*GW29 -> 0 | IK29: 0
A30: 17 | B30: 1 | C30: =ROW(SmtRes!A23) -> 23 | D30: =ROW(EtalonRes!A27) -> 27 | E30: 3 | F30: 57-3-1 | G30: Разборка плинтусов деревянных и из пластмассовых материалов | H30: 100 м | I30: =ROUND(176.75/100,9) -> 1.7675 | J30: 0 | O30: =ROUND(CP30,2) -> 317.61 | P30: =ROUND(CQ30*I30,2) -> 0 | Q30: =ROUND(CR30*I30,2) -> 0 | R30: =ROUND(CS30*I30,2) -> 0 | S30: =ROUND(CT30*I30,2) -> 317.61 | T30: =ROUND(CU30*I30,2) -> 0 | U30: =CV30*I30 -> 6.663475 | V30: =CW30*I30 -> 0 | W30: =ROUND(CX30*I30,2) -> 0 | X30: =ROUND(CY30,2) -> 254.09 | Y30: =ROUND(CZ30,2) -> 215.97 | AA30: 27906248 | AB30: =ROUND((AC30+AD30+AF30),2) -> 29.41 | AC30: =ROUND((ES30),2) -> 0 | AD30: =ROUND((((ET30)-(EU30))+AE30),2) -> 0 | AE30: =ROUND((EU30),2) -> 0 | AF30: =ROUND((EV30),2) -> 29.41 | AG30: =ROUND((AP30),2) -> 0 | AH30: =(EW30) -> 3.77 | AI30: =(EX30) -> 0 | AJ30: =(AS30) -> 0 | AK30: 29.41 | AL30: 0 | AM30: 0 | AN30: 0 | AO30: 29.41 | AP30: 0 | AQ30: 3.77 | AR30: 0 | AS30: 0 | AT30: 80 | AU30: 68 | AV30: 1 | AW30: 1 | AZ30: 6.11 | BA30: 6.11 | BB30: 6.11 | BC30: 6.11 | BH30: 0 | BI30: 1 | BJ30: ФЕРр-2001, 57-3-1, приказ Минстроя России №1039/пр от 30.12.2016г. | BM30: 57001 | BN30: 0 | BP30: 0 | BQ30: 6 | BR30: 0 | BS30: 6.11 | BT30: 1 | BU30: 1 | BV30: 1 | BW30: 1 | BX30: 1 | BZ30: 80 | CA30: 68 | CE30: 0 | CF30: 0 | CG30: 0 | CM30: 0 | CO30: 0 | CP30: =(P30+Q30+S30) -> 317.61 | CQ30: =AC30*BC30 -> 0 | CR30: =AD30*BB30 -> 0 | CS30: =AE30*BS30 -> 0 | CT30: =AF30*BA30 -> 179.6951 | CU30: =AG30 -> 0 | CV30: =AH30 -> 3.77 | CW30: =AI30 -> 0 | CX30: =AJ30 -> 0 | CY30: =(((S30+R30)*AT30)/100) -> 254.088 | CZ30: =(((S30+R30)*AU30)/100) -> 215.9748 | DN30: 0 | DO30: 0 | DP30: 1 | DQ30: 1 | DU30: 1003 | DV30: 100 м | DW30: 100 м | DX30: 100 | EE30: 27029102 | EF30: 6 | EG30: Ремонтно-строительные работы | EH30: 0 | EJ30: 1 | EK30: 57001 | EL30: Полы | EM30: рФЕР-57 | EQ30: 131072 | ER30: 29.41 | ES30: 0 | ET30: 0 | EU30: 0 | EV30: 29.41 | EW30: 3.77 | EX30: 0 | EY30: 0 | FQ30: 0 | FR30: =ROUND(IF(AND(BH30=3,BI30=3),P30,0),2) -> 0 | FS30: 0 | FX30: 80 | FY30: 68 | GD30: 0 | GF30: -1389370821 | GG30: 1 | GH30: 1 | GI30: 4 | GJ30: 0 | GK30: =ROUND(R30*(R12)/100,2) -> 0 | GL30: =ROUND(IF(AND(BH30=3,BI30=3,FS30<>0),P30,0),2) -> 0 | GM30: =ROUND(O30+X30+Y30+GK30,2)+GX30 -> 787.67 | GN30: =IF(OR(BI30=0,BI30=1),ROUND(O30+X30+Y30+GK30,2),0) -> 787.67 | GO30: =IF(BI30=2,ROUND(O30+X30+Y30+GK30,2),0) -> 0 | GP30: =IF(BI30=4,ROUND(O30+X30+Y30+GK30,2)+GX30,0) -> 0 | GR30: 0 | GS30: 3 | GT30: 0 | GV30: =ROUND((GT30),2) -> 0 | GW30: 1 | GX30: =ROUND(HC30*I30,2) -> 0 | HA30: 0 | HB30: 0 | HC30: =GV30*GW30 -> 0 | IK30: 0
A31: 17 | B31: 1 | C31: =ROW(SmtRes!A24) -> 24 | D31: =ROW(EtalonRes!A29) -> 29 | E31: 4 | F31: 57-1-3 | G31: Разборка оснований покрытия полов простильных полов включая порога со ступенью,порога из досок. | H31: 100 м2 | I31: =ROUND((294+0.75+2.34)/100,9) -> 2.9709 | J31: 0 | O31: =ROUND(CP31,2) -> 2469.24 | P31: =ROUND(CQ31*I31,2) -> 0 | Q31: =ROUND(CR31*I31,2) -> 0 | R31: =ROUND(CS31*I31,2) -> 0 | S31: =ROUND(CT31*I31,2) -> 2469.24 | T31: =ROUND(CU31*I31,2) -> 0 | U31: =CV31*I31 -> 51.812496 | V31: =CW31*I31 -> 0 | W31: =ROUND(CX31*I31,2) -> 0 | X31: =ROUND(CY31,2) -> 1975.39 | Y31: =ROUND(CZ31,2) -> 1679.08 | AA31: 27906248 | AB31: =ROUND((AC31+AD31+AF31),2) -> 136.03 | AC31: =ROUND((ES31),2) -> 0 | AD31: =ROUND((((ET31)-(EU31))+AE31),2) -> 0 | AE31: =ROUND((EU31),2) -> 0 | AF31: =ROUND((EV31),2) -> 136.03 | AG31: =ROUND((AP31),2) -> 0 | AH31: =(EW31) -> 17.44 | AI31: =(EX31) -> 0 | AJ31: =(AS31) -> 0 | AK31: 136.03 | AL31: 0 | AM31: 0 | AN31: 0 | AO31: 136.03 | AP31: 0 | AQ31: 17.44 | AR31: 0 | AS31: 0 | AT31: 80 | AU31: 68 | AV31: 1 | AW31: 1 | AZ31: 6.11 | BA31: 6.11 | BB31: 6.11 | BC31: 6.11 | BH31: 0 | BI31: 1 | BJ31: ФЕРр-2001, 57-1-3, приказ Минстроя России №1039/пр от 30.12.2016г. | BM31: 57001 | BN31: 0 | BP31: 0 | BQ31: 6 | BR31: 0 | BS31: 6.11 | BT31: 1 | BU31: 1 | BV31: 1 | BW31: 1 | BX31: 1 | BZ31: 80 | CA31: 68 | CE31: 0 | CF31: 0 | CG31: 0 | CM31: 0 | CO31: 0 | CP31: =(P31+Q31+S31) -> 2469.24 | CQ31: =AC31*BC31 -> 0 | CR31: =AD31*BB31 -> 0 | CS31: =AE31*BS31 -> 0 | CT31: =AF31*BA31 -> 831.1433 | CU31: =AG31 -> 0 | CV31: =AH31 -> 17.44 | CW31: =AI31 -> 0 | CX31: =AJ31 -> 0 | CY31: =(((S31+R31)*AT31)/100) -> 1975.392 | CZ31: =(((S31+R31)*AU31)/100) -> 1679.0832 | DN31: 0 | DO31: 0 | DP31: 1 | DQ31: 1 | DU31: 1005 | DV31: 100 м2 | DW31: 100 м2 | DX31: 100 | EE31: 27029102 | EF31: 6 | EG31: Ремонтно-строительные работы | EH31: 0 | EJ31: 1 | EK31: 57001 | EL31: Полы | EM31: рФЕР-57 | EQ31: 131072 | ER31: 136.03 | ES31: 0 | ET31: 0 | EU31: 0 | EV31: 136.03 | EW31: 17.44 | EX31: 0 | EY31: 0 | FQ31: 0 | FR31: =ROUND(IF(AND(BH31=3,BI31=3),P31,0),2) -> 0 | FS31: 0 | FX31: 80 | FY31: 68 | GD31: 0 | GF31: 15229085 | GG31: 1 | GH31: 1 | GI31: 4 | GJ31: 0 | GK31: =ROUND(R31*(R12)/100,2) -> 0 | GL31: =ROUND(IF(AND(BH31=3,BI31=3,FS31<>0),P31,0),2) -> 0 | GM31: =ROUND(O31+X31+Y31+GK31,2)+GX31 -> 6123.71 | GN31: =IF(OR(BI31=0,BI31=1),ROUND(O31+X31+Y31+GK31,2),0) -> 6123.71 | GO31: =IF(BI31=2,ROUND(O31+X31+Y31+GK31,2),0) -> 0 | GP31: =IF(BI31=4,ROUND(O31+X31+Y31+GK31,2)+GX31,0) -> 0 | GR31: 0 | GS31: 3 | GT31: 0 | GV31: =ROUND((GT31),2) -> 0 | GW31: 1 | GX31: =ROUND(HC31*I31,2) -> 0 | HA31: 0 | HB31: 0 | HC31: =GV31*GW31 -> 0 | IK31: 0
A32: 17 | B32: 1 | C32: =ROW(SmtRes!A25) -> 25 | D32: =ROW(EtalonRes!A31) -> 31 | E32: 5 | F32: 57-1-2 | G32: Разборка оснований покрытия полов лаг из досок и брусков | H32: 100 м2 | I32: 2.94 | J32: 0 | O32: =ROUND(CP32,2) -> 1074.75 | P32: =ROUND(CQ32*I32,2) -> 0 | Q32: =ROUND(CR32*I32,2) -> 0 | R32: =ROUND(CS32*I32,2) -> 0 | S32: =ROUND(CT32*I32,2) -> 1074.75 | T32: =ROUND(CU32*I32,2) -> 0 | U32: =CV32*I32 -> 22.5498 | V32: =CW32*I32 -> 0 | W32: =ROUND(CX32*I32,2) -> 0 | X32: =ROUND(CY32,2) -> 859.8 | Y32: =ROUND(CZ32,2) -> 730.83 | AA32: 27906248 | AB32: =ROUND((AC32+AD32+AF32),2) -> 59.83 | AC32: =ROUND((ES32),2) -> 0 | AD32: =ROUND((((ET32)-(EU32))+AE32),2) -> 0 | AE32: =ROUND((EU32),2) -> 0 | AF32: =ROUND((EV32),2) -> 59.83 | AG32: =ROUND((AP32),2) -> 0 | AH32: =(EW32) -> 7.67 | AI32: =(EX32) -> 0 | AJ32: =(AS32) -> 0 | AK32: 59.83 | AL32: 0 | AM32: 0 | AN32: 0 | AO32: 59.83 | AP32: 0 | AQ32: 7.67 | AR32: 0 | AS32: 0 | AT32: 80 | AU32: 68 | AV32: 1 | AW32: 1 | AZ32: 6.11 | BA32: 6.11 | BB32: 6.11 | BC32: 6.11 | BH32: 0 | BI32: 1 | BJ32: ФЕРр-2001, 57-1-2, приказ Минстроя России №1039/пр от 30.12.2016г. | BM32: 57001 | BN32: 0 | BP32: 0 | BQ32: 6 | BR32: 0 | BS32: 6.11 | BT32: 1 | BU32: 1 | BV32: 1 | BW32: 1 | BX32: 1 | BZ32: 80 | CA32: 68 | CE32: 0 | CF32: 0 | CG32: 0 | CM32: 0 | CO32: 0 | CP32: =(P32+Q32+S32) -> 1074.75 | CQ32: =AC32*BC32 -> 0 | CR32: =AD32*BB32 -> 0 | CS32: =AE32*BS32 -> 0 | CT32: =AF32*BA32 -> 365.5613 | CU32: =AG32 -> 0 | CV32: =AH32 -> 7.67 | CW32: =AI32 -> 0 | CX32: =AJ32 -> 0 | CY32: =(((S32+R32)*AT32)/100) -> 859.8 | CZ32: =(((S32+R32)*AU32)/100) -> 730.83 | DN32: 0 | DO32: 0 | DP32: 1 | DQ32: 1 | DU32: 1005 | DV32: 100 м2 | DW32: 100 м2 | DX32: 100 | EE32: 27029102 | EF32: 6 | EG32: Ремонтно-строительные работы | EH32: 0 | EJ32: 1 | EK32: 57001 | EL32: Полы | EM32: рФЕР-57 | EQ32: 131072 | ER32: 59.83 | ES32: 0 | ET32: 0 | EU32: 0 | EV32: 59.83 | EW32: 7.67 | EX32: 0 | EY32: 0 | FQ32: 0 | FR32: =ROUND(IF(AND(BH32=3,BI32=3),P32,0),2) -> 0 | FS32: 0 | FX32: 80 | FY32: 68 | GD32: 0 | GF32: 530355128 | GG32: 1 | GH32: 1 | GI32: 4 | GJ32: 0 | GK32: =ROUND(R32*(R12)/100,2) -> 0 | GL32: =ROUND(IF(AND(BH32=3,BI32=3,FS32<>0),P32,0),2) -> 0 | GM32: =ROUND(O32+X32+Y32+GK32,2)+GX32 -> 2665.38 | GN32: =IF(OR(BI32=0,BI32=1),ROUND(O32+X32+Y32+GK32,2),0) -> 2665.38 | GO32: =IF(BI32=2,ROUND(O32+X32+Y32+GK32,2),0) -> 0 | GP32: =IF(BI32=4,ROUND(O32+X32+Y32+GK32,2)+GX32,0) -> 0 | GR32: 0 | GS32: 3 | GT32: 0 | GV32: =ROUND((GT32),2) -> 0 | GW32: 1 | GX32: =ROUND(HC32*I32,2) -> 0 | HA32: 0 | HB32: 0 | HC32: =GV32*GW32 -> 0 | IK32: 0
A33: 17 | B33: 1 | C33: =ROW(SmtRes!A26) -> 26 | D33: =ROW(EtalonRes!A33) -> 33 | E33: 6 | F33: 57-1-1 | G33: Разборка оснований покрытия полов кирпичных столбиков под лаги | H33: 100 м2 | I33: 2.94 | J33: 0 | O33: =ROUND(CP33,2) -> 1220.43 | P33: =ROUND(CQ33*I33,2) -> 0 | Q33: =ROUND(CR33*I33,2) -> 0 | R33: =ROUND(CS33*I33,2) -> 0 | S33: =ROUND(CT33*I33,2) -> 1220.43 | T33: =ROUND(CU33*I33,2) -> 0 | U33: =CV33*I33 -> 25.6074 | V33: =CW33*I33 -> 0 | W33: =ROUND(CX33*I33,2) -> 0 | X33: =ROUND(CY33,2) -> 976.34 | Y33: =ROUND(CZ33,2) -> 829.89 | AA33: 27906248 | AB33: =ROUND((AC33+AD33+AF33),2) -> 67.94 | AC33: =ROUND((ES33),2) -> 0 | AD33: =ROUND((((ET33)-(EU33))+AE33),2) -> 0 | AE33: =ROUND((EU33),2) -> 0 | AF33: =ROUND((EV33),2) -> 67.94 | AG33: =ROUND((AP33),2) -> 0 | AH33: =(EW33) -> 8.71 | AI33: =(EX33) -> 0 | AJ33: =(AS33) -> 0 | AK33: 67.94 | AL33: 0 | AM33: 0 | AN33: 0 | AO33: 67.94 | AP33: 0 | AQ33: 8.71 | AR33: 0 | AS33: 0 | AT33: 80 | AU33: 68 | AV33: 1 | AW33: 1 | AZ33: 6.11 | BA33: 6.11 | BB33: 6.11 | BC33: 6.11 | BH33: 0 | BI33: 1 | BJ33: ФЕРр-2001, 57-1-1, приказ Минстроя России №1039/пр от 30.12.2016г. | BM33: 57001 | BN33: 0 | BP33: 0 | BQ33: 6 | BR33: 0 | BS33: 6.11 | BT33: 1 | BU33: 1 | BV33: 1 | BW33: 1 | BX33: 1 | BZ33: 80 | CA33: 68 | CE33: 0 | CF33: 0 | CG33: 0 | CM33: 0 | CO33: 0 | CP33: =(P33+Q33+S33) -> 1220.43 | CQ33: =AC33*BC33 -> 0 | CR33: =AD33*BB33 -> 0 | CS33: =AE33*BS33 -> 0 | CT33: =AF33*BA33 -> 415.1134 | CU33: =AG33 -> 0 | CV33: =AH33 -> 8.71 | CW33: =AI33 -> 0 | CX33: =AJ33 -> 0 | CY33: =(((S33+R33)*AT33)/100) -> 976.344 | CZ33: =(((S33+R33)*AU33)/100) -> 829.8924 | DN33: 0 | DO33: 0 | DP33: 1 | DQ33: 1 | DU33: 1005 | DV33: 100 м2 | DW33: 100 м2 | DX33: 100 | EE33: 27029102 | EF33: 6 | EG33: Ремонтно-строительные работы | EH33: 0 | EJ33: 1 | EK33: 57001 | EL33: Полы | EM33: рФЕР-57 | EQ33: 131072 | ER33: 67.94 | ES33: 0 | ET33: 0 | EU33: 0 | EV33: 67.94 | EW33: 8.71 | EX33: 0 | EY33: 0 | FQ33: 0 | FR33: =ROUND(IF(AND(BH33=3,BI33=3),P33,0),2) -> 0 | FS33: 0 | FX33: 80 | FY33: 68 | GD33: 0 | GF33: -1310318022 | GG33: 1 | GH33: 1 | GI33: 4 | GJ33: 0 | GK33: =ROUND(R33*(R12)/100,2) -> 0 | GL33: =ROUND(IF(AND(BH33=3,BI33=3,FS33<>0),P33,0),2) -> 0 | GM33: =ROUND(O33+X33+Y33+GK33,2)+GX33 -> 3026.66 | GN33: =IF(OR(BI33=0,BI33=1),ROUND(O33+X33+Y33+GK33,2),0) -> 3026.66 | GO33: =IF(BI33=2,ROUND(O33+X33+Y33+GK33,2),0) -> 0 | GP33: =IF(BI33=4,ROUND(O33+X33+Y33+GK33,2)+GX33,0) -> 0 | GR33: 0 | GS33: 3 | GT33: 0 | GV33: =ROUND((GT33),2) -> 0 | GW33: 1 | GX33: =ROUND(HC33*I33,2) -> 0 | HA33: 0 | HB33: 0 | HC33: =GV33*GW33 -> 0 | IK33: 0
A34: 17 | B34: 1 | C34: =ROW(SmtRes!A29) -> 29 | D34: =ROW(EtalonRes!A36) -> 36 | E34: 7 | F34: 46-04-012-03 | G34: Разборка деревянных заполнений проемов дверных и воротных | H34: 100 м2 | I34: =ROUND((3.27+2.55+3.31+3.7+3.12)/100,9) -> 0.1595 | J34: 0 | O34: =ROUND(CP34,2) -> 1055.02 | P34: =ROUND(CQ34*I34,2) -> 0 | Q34: =ROUND(CR34*I34,2) -> 235.79 | R34: =ROUND(CS34*I34,2) -> 101.83 | S34: =ROUND(CT34*I34,2) -> 819.23 | T34: =ROUND(CU34*I34,2) -> 0 | U34: =CV34*I34 -> 16.573645 | V34: =CW34*I34 -> 1.23453 | W34: =ROUND(CX34*I34,2) -> 0 | X34: =ROUND(CY34,2) -> 911.85 | Y34: =ROUND(CZ34,2) -> 552.64 | AA34: 27906248 | AB34: =ROUND((AC34+AD34+AF34),2) -> 1082.58 | AC34: =ROUND((ES34),2) -> 0 | AD34: =ROUND((((ET34)-(EU34))+AE34),2) -> 241.95 | AE34: =ROUND((EU34),2) -> 104.49 | AF34: =ROUND((EV34),2) -> 840.63 | AG34: =ROUND((AP34),2) -> 0 | AH34: =(EW34) -> 103.91 | AI34: =(EX34) -> 7.74 | AJ34: =(AS34) -> 0 | AK34: 1082.58 | AL34: 0 | AM34: 241.95 | AN34: 104.49 | AO34: 840.63 | AP34: 0 | AQ34: 103.91 | AR34: 7.74 | AS34: 0 | AT34: 99 | AU34: 60 | AV34: 1 | AW34: 1 | AZ34: 6.11 | BA34: 6.11 | BB34: 6.11 | BC34: 6.11 | BH34: 0 | BI34: 1 | BJ34: ФЕР-2001, 46-04-012-03, приказ Минстроя России №1039/пр от 30.12.2016г. | BM34: 46001 | BN34: 0 | BP34: 0 | BQ34: 2 | BR34: 0 | BS34: 6.11 | BT34: 1 | BU34: 1 | BV34: 1 | BW34: 1 | BX34: 1 | BZ34: 110 | CA34: 70 | CE34: 0 | CF34: 0 | CG34: 0 | CM34: 0 | CO34: 0 | CP34: =(P34+Q34+S34) -> 1055.02 | CQ34: =AC34*BC34 -> 0 | CR34: =AD34*BB34 -> 1478.3145 | CS34: =AE34*BS34 -> 638.4339 | CT34: =AF34*BA34 -> 5136.2493 | CU34: =AG34 -> 0 | CV34: =AH34 -> 103.91 | CW34: =AI34 -> 7.74 | CX34: =AJ34 -> 0 | CY34: =(((S34+R34)*AT34)/100) -> 911.8494 | CZ34: =(((S34+R34)*AU34)/100) -> 552.636 | DN34: 0 | DO34: 0 | DP34: 1 | DQ34: 1 | DU34: 1005 | DV34: 100 м2 | DW34: 100 м2 | DX34: 100 | EE34: 27029091 | EF34: 2 | EG34: Общестроительные работы | EH34: 0 | EJ34: 1 | EK34: 46001 | EL34: Реконструкция зданий и сооружений | EM34: ФЕР-46 | EQ34: 131072 | ER34: 1082.58 | ES34: 0 | ET34: 241.95 | EU34: 104.49 | EV34: 840.63 | EW34: 103.91 | EX34: 7.74 | EY34: 0 | FQ34: 0 | FR34: =ROUND(IF(AND(BH34=3,BI34=3),P34,0),2) -> 0 | FS34: 0 | FT34: *0,9 | FU34: *0,85 | FX34: 99 | FY34: 59.5 | GD34: 0 | GF34: 309229644 | GG34: 1 | GH34: 1 | GI34: 4 | GJ34: 0 | GK34: =ROUND(R34*(R12)/100,2) -> 0 | GL34: =ROUND(IF(AND(BH34=3,BI34=3,FS34<>0),P34,0),2) -> 0 | GM34: =ROUND(O34+X34+Y34+GK34,2)+GX34 -> 2519.51 | GN34: =IF(OR(BI34=0,BI34=1),ROUND(O34+X34+Y34+GK34,2),0) -> 2519.51 | GO34: =IF(BI34=2,ROUND(O34+X34+Y34+GK34,2),0) -> 0 | GP34: =IF(BI34=4,ROUND(O34+X34+Y34+GK34,2)+GX34,0) -> 0 | GR34: 0 | GS34: 3 | GT34: 0 | GV34: =ROUND((GT34),2) -> 0 | GW34: 1 | GX34: =ROUND(HC34*I34,2) -> 0 | HA34: 0 | HB34: 0 | HC34: =GV34*GW34 -> 0 | IK34: 0
A35: 17 | B35: 1 | C35: =ROW(SmtRes!A36) -> 36 | D35: =ROW(EtalonRes!A45) -> 45 | E35: 8 | F35: 09-04-012-01 | G35: Демонтаж: Установка металлических дверных блоков из готовых проемов | H35: м2 | I35: 2.54 | J35: 0 | O35: =ROUND(CP35,2) -> 415.3 | P35: =ROUND(CQ35*I35,2) -> 0 | Q35: =ROUND(CR35*I35,2) -> 156.59 | R35: =ROUND(CS35*I35,2) -> 21.42 | S35: =ROUND(CT35*I35,2) -> 258.71 | T35: =ROUND(CU35*I35,2) -> 0 | U35: =CV35*I35 -> 4.2672 | V35: =CW35*I35 -> 0.30226 | W35: =ROUND(CX35*I35,2) -> 0 | X35: =ROUND(CY35,2) -> 226.91 | Y35: =ROUND(CZ35,2) -> 201.69 | AA35: 27906248 | AB35: =ROUND((AC35+AD35+AF35),2) -> 26.76 | AC35: =ROUND(((ES35*0)),2) -> 0 | AD35: =ROUND(((((ET35*0.7))-((EU35*0.7)))+AE35),2) -> 10.09 | AE35: =ROUND(((EU35*0.7)),2) -> 1.38 | AF35: =ROUND(((EV35*0.7)),2) -> 16.67 | AG35: =ROUND((AP35),2) -> 0 | AH35: =((EW35*0.7)) -> 1.68 | AI35: =((EX35*0.7)) -> 0.119 | AJ35: =(AS35) -> 0 | AK35: 63.94 | AL35: 25.72 | AM35: 14.41 | AN35: 1.97 | AO35: 23.81 | AP35: 0 | AQ35: 2.4 | AR35: 0.17 | AS35: 0 | AT35: 81 | AU35: 72 | AV35: 1 | AW35: 1 | AZ35: 6.11 | BA35: 6.11 | BB35: 6.11 | BC35: 6.11 | BH35: 0 | BI35: 1 | BJ35: ФЕР-2001, 09-04-012-01, приказ Минстроя России №1039/пр от 30.12.2016г. | BM35: 9001 | BN35: 0 | BP35: 0 | BQ35: 2 | BR35: 0 | BS35: 6.11 | BT35: 1 | BU35: 1 | BV35: 1 | BW35: 1 | BX35: 1 | BZ35: 90 | CA35: 85 | CE35: 0 | CF35: 0 | CG35: 0 | CM35: 0 | CN35: Поправка: МДС 81-36.2004, п.3.3.1.д Наименование: При демонтаже металлических конструкций | CO35: 0 | CP35: =(P35+Q35+S35) -> 415.3 | CQ35: =AC35*BC35 -> 0 | CR35: =AD35*BB35 -> 61.6499 | CS35: =AE35*BS35 -> 8.4318 | CT35: =AF35*BA35 -> 101.8537 | CU35: =AG35 -> 0 | CV35: =AH35 -> 1.68 | CW35: =AI35 -> 0.119 | CX35: =AJ35 -> 0 | CY35: =(((S35+R35)*AT35)/100) -> 226.9053 | CZ35: =(((S35+R35)*AU35)/100) -> 201.6936 | DD35: )*0 | DE35: )*0,7 | DF35: )*0,7 | DG35: )*0,7 | DI35: )*0,7 | DJ35: )*0,7 | DN35: 0 | DO35: 0 | DP35: 1 | DQ35: 1 | DU35: 1005 | DV35: м2 | DW35: м2 | DX35: 1 | EE35: 27029022 | EF35: 2 | EG35: Общестроительные работы | EH35: 0 | EJ35: 1 | EK35: 9001 | EL35: Металлические конструкции | EM35: ФЕР-09 | EO35: Поправка: МДС 81-36.2004, п.3.3.1.д | EQ35: 131072 | ER35: 63.94 | ES35: 25.72 | ET35: 14.41 | EU35: 1.97 | EV35: 23.81 | EW35: 2.4 | EX35: 0.17 | EY35: 0 | FQ35: 0 | FR35: =ROUND(IF(AND(BH35=3,BI35=3),P35,0),2) -> 0 | FS35: 0 | FT35: *0,9 | FU35: *0,85 | FX35: 81 | FY35: 72.25 | GD35: 0 | GF35: -1886295131 | GG35: 1 | GH35: 1 | GI35: 4 | GJ35: 0 | GK35: =ROUND(R35*(R12)/100,2) -> 0 | GL35: =ROUND(IF(AND(BH35=3,BI35=3,FS35<>0),P35,0),2) -> 0 | GM35: =ROUND(O35+X35+Y35+GK35,2)+GX35 -> 843.9 | GN35: =IF(OR(BI35=0,BI35=1),ROUND(O35+X35+Y35+GK35,2),0) -> 843.9 | GO35: =IF(BI35=2,ROUND(O35+X35+Y35+GK35,2),0) -> 0 | GP35: =IF(BI35=4,ROUND(O35+X35+Y35+GK35,2)+GX35,0) -> 0 | GR35: 0 | GS35: 3 | GT35: 0 | GV35: =ROUND((GT35),2) -> 0 | GW35: 1 | GX35: =ROUND(HC35*I35,2) -> 0 | HA35: 0 | HB35: 0 | HC35: =GV35*GW35 -> 0 | IK35: 0
A36: 17 | B36: 1 | C36: =ROW(SmtRes!A44) -> 44 | D36: =ROW(EtalonRes!A53) -> 53 | E36: 9 | F36: 10-01-014-04 прим. | G36: Демонтаж: Устройство чистых перегородок каркасных с обшивкой фанерой с одной стороны (Экраны) | H36: 100 м2 | I36: =ROUND(73/100,9) -> 0.73 | J36: 0 | O36: =ROUND(CP36,2) -> 3369.49 | P36: =ROUND(CQ36*I36,2) -> 0 | Q36: =ROUND(CR36*I36,2) -> 39.88 | R36: =ROUND(CS36*I36,2) -> 7.05 | S36: =ROUND(CT36*I36,2) -> 3329.61 | T36: =ROUND(CU36*I36,2) -> 0 | U36: =CV36*I36 -> 63.072 | V36: =CW36*I36 -> 0.09928 | W36: =ROUND(CX36*I36,2) -> 0 | X36: =ROUND(CY36,2) -> 3536.86 | Y36: =ROUND(CZ36,2) -> 1801.8 | AA36: 27906248 | AB36: =ROUND((AC36+AD36+AF36),2) -> 755.44 | AC36: =ROUND(((ES36*0)),2) -> 0 | AD36: =ROUND(((((ET36*0.8))-((EU36*0.8)))+AE36),2) -> 8.94 | AE36: =ROUND(((EU36*0.8)),2) -> 1.58 | AF36: =ROUND(((EV36*0.8)),2) -> 746.5 | AG36: =ROUND((AP36),2) -> 0 | AH36: =((EW36*0.8)) -> 86.4 | AI36: =((EX36*0.8)) -> 0.136 | AJ36: =(AS36) -> 0 | AK36: 4094.31 | AL36: 3150.02 | AM36: 11.17 | AN36: 1.97 | AO36: 933.12 | AP36: 0 | AQ36: 108 | AR36: 0.17 | AS36: 0 | AT36: 106 | AU36: 54 | AV36: 1 | AW36: 1 | AZ36: 6.11 | BA36: 6.11 | BB36: 6.11 | BC36: 6.11 | BH36: 0 | BI36: 1 | BJ36: ФЕР-2001, 10-01-014-04, приказ Минстроя России №1039/пр от 30.12.2016г. | BM36: 10001 | BN36: 0 | BP36: 0 | BQ36: 2 | BR36: 0 | BS36: 6.11 | BT36: 1 | BU36: 1 | BV36: 1 | BW36: 1 | BX36: 1 | BZ36: 118 | CA36: 63 | CE36: 0 | CF36: 0 | CG36: 0 | CM36: 0 | CN36: Поправка: Табл.2, п.2 Наименование: При демонтаже (разборке) сборных деревянных конструкций Поправка: МДС 81-36.2004, п.3.3.1.д Наименование: При демонтаже металлических конструкций Поправка: МДС 81-36.2004, п.3.3.1.а Наименование: При демонтаже (разборке) сборных бетонных и железобетонных конструкций | CO36: 0 | CP36: =(P36+Q36+S36) -> 3369.49 | CQ36: =AC36*BC36 -> 0 | CR36: =AD36*BB36 -> 54.6234 | CS36: =AE36*BS36 -> 9.6538 | CT36: =AF36*BA36 -> 4561.115 | CU36: =AG36 -> 0 | CV36: =AH36 -> 86.4 | CW36: =AI36 -> 0.136 | CX36: =AJ36 -> 0 | CY36: =(((S36+R36)*AT36)/100) -> 3536.8596 | CZ36: =(((S36+R36)*AU36)/100) -> 1801.7964 | DD36: )*0 | DE36: )*0,8 | DF36: )*0,8 | DG36: )*0,8 | DI36: )*0,8 | DJ36: )*0,8 | DN36: 0 | DO36: 0 | DP36: 1 | DQ36: 1 | DU36: 1005 | DV36: 100 м2 | DW36: 100 м2 | DX36: 100 | EE36: 27029023 | EF36: 2 | EG36: Общестроительные работы | EH36: 0 | EJ36: 1 | EK36: 10001 | EL36: Деревянные конструкции | EM36: ФЕР-10 | EO36: Поправка: Табл.2, п.2 Поправка: МДС 81-36.2004, п.3.3.1.д Поправка: МДС 81-36.2004, п.3.3.1.а | EQ36: 131072 | ER36: 4094.31 | ES36: 3150.02 | ET36: 11.17 | EU36: 1.97 | EV36: 933.12 | EW36: 108 | EX36: 0.17 | EY36: 0 | FQ36: 0 | FR36: =ROUND(IF(AND(BH36=3,BI36=3),P36,0),2) -> 0 | FS36: 0 | FT36: *0,9 | FU36: *0,85 | FX36: 106.2 | FY36: 53.55 | GD36: 0 | GF36: 1445814459 | GG36: 1 | GH36: 1 | GI36: 4 | GJ36: 0 | GK36: =ROUND(R36*(R12)/100,2) -> 0 | GL36: =ROUND(IF(AND(BH36=3,BI36=3,FS36<>0),P36,0),2) -> 0 | GM36: =ROUND(O36+X36+Y36+GK36,2)+GX36 -> 8708.15 | GN36: =IF(OR(BI36=0,BI36=1),ROUND(O36+X36+Y36+GK36,2),0) -> 8708.15 | GO36: =IF(BI36=2,ROUND(O36+X36+Y36+GK36,2),0) -> 0 | GP36: =IF(BI36=4,ROUND(O36+X36+Y36+GK36,2)+GX36,0) -> 0 | GR36: 0 | GS36: 3 | GT36: 0 | GV36: =ROUND((GT36),2) -> 0 | GW36: 1 | GX36: =ROUND(HC36*I36,2) -> 0 | HA36: 0 | HB36: 0 | HC36: =GV36*GW36 -> 0 | IK36: 0
A37: 17 | B37: 1 | C37: =ROW(SmtRes!A50) -> 50 | D37: =ROW(EtalonRes!A60) -> 60 | E37: 10 | F37: 46-05-008-03 прим. | G37: Демонтаж:Монтаж мелких металлоконструкций массой до 10 кг (Демонтаж,с сохранением для последующего монтажа, каркаса защитного экрана из труб диаметром 62 мм) | H37: т | I37: =ROUND(600.81/1000,9) -> 0.60081 | J37: 0 | O37: =ROUND(CP37,2) -> 2305.5 | P37: =ROUND(CQ37*I37,2) -> 0 | Q37: =ROUND(CR37*I37,2) -> 307.7 | R37: =ROUND(CS37*I37,2) -> 19.38 | S37: =ROUND(CT37*I37,2) -> 1997.8 | T37: =ROUND(CU37*I37,2) -> 0 | U37: =CV37*I37 -> 35.617819 | V37: =CW37*I37 -> 0.27336855 | W37: =ROUND(CX37*I37,2) -> 0 | X37: =ROUND(CY37,2) -> 1997.01 | Y37: =ROUND(CZ37,2) -> 1210.31 | AA37: 27906248 | AB37: =ROUND((AC37+AD37+AF37),2) -> 628.04 | AC37: =ROUND(((ES37*0)),2) -> 0 | AD37: =ROUND(((((ET37*0.7))-((EU37*0.7)))+AE37),2) -> 83.82 | AE37: =ROUND(((EU37*0.7)),2) -> 5.28 | AF37: =ROUND(((EV37*0.7)),2) -> 544.22 | AG37: =ROUND((AP37),2) -> 0 | AH37: =((EW37*0.7)) -> 59.283 | AI37: =((EX37*0.7)) -> 0.455 | AJ37: =(AS37) -> 0 | AK37: 981.19 | AL37: 84 | AM37: 119.74 | AN37: 7.54 | AO37: 777.45 | AP37: 0 | AQ37: 84.69 | AR37: 0.65 | AS37: 0 | AT37: 99 | AU37: 60 | AV37: 1 | AW37: 1 | AZ37: 6.11 | BA37: 6.11 | BB37: 6.11 | BC37: 6.11 | BH37: 0 | BI37: 1 | BJ37: ФЕР-2001, 46-05-008-03, приказ Минстроя России №1039/пр от 30.12.2016г. | BM37: 46001 | BN37: 0 | BP37: 0 | BQ37: 2 | BR37: 0 | BS37: 6.11 | BT37: 1 | BU37: 1 | BV37: 1 | BW37: 1 | BX37: 1 | BZ37: 110 | CA37: 70 | CE37: 0 | CF37: 0 | CG37: 0 | CM37: 0 | CN37: Поправка: МДС 81-36.2004, п.3.3.1.д Наименование: При демонтаже металлических конструкций | CO37: 0 | CP37: =(P37+Q37+S37) -> 2305.5 | CQ37: =AC37*BC37 -> 0 | CR37: =AD37*BB37 -> 512.1402 | CS37: =AE37*BS37 -> 32.2608 | CT37: =AF37*BA37 -> 3325.1842 | CU37: =AG37 -> 0 | CV37: =AH37 -> 59.283 | CW37: =AI37 -> 0.455 | CX37: =AJ37 -> 0 | CY37: =(((S37+R37)*AT37)/100) -> 1997.0082 | CZ37: =(((S37+R37)*AU37)/100) -> 1210.308 | DD37: )*0 | DE37: )*0,7 | DF37: )*0,7 | DG37: )*0,7 | DI37: )*0,7 | DJ37: )*0,7 | DN37: 0 | DO37: 0 | DP37: 1 | DQ37: 1 | DU37: 1009 | DV37: т | DW37: т | DX37: 1000 | EE37: 27029091 | EF37: 2 | EG37: Общестроительные работы | EH37: 0 | EJ37: 1 | EK37: 46001 | EL37: Реконструкция зданий и сооружений | EM37: ФЕР-46 | EO37: Поправка: МДС 81-36.2004, п.3.3.1.д | EQ37: 131072 | ER37: 981.19 | ES37: 84 | ET37: 119.74 | EU37: 7.54 | EV37: 777.45 | EW37: 84.69 | EX37: 0.65 | EY37: 0 | FQ37: 0 | FR37: =ROUND(IF(AND(BH37=3,BI37=3),P37,0),2) -> 0 | FS37: 0 | FT37: *0,9 | FU37: *0,85 | FX37: 99 | FY37: 59.5 | GD37: 0 | GF37: 649410205 | GG37: 1 | GH37: 1 | GI37: 4 | GJ37: 0 | GK37: =ROUND(R37*(R12)/100,2) -> 0 | GL37: =ROUND(IF(AND(BH37=3,BI37=3,FS37<>0),P37,0),2) -> 0 | GM37: =ROUND(O37+X37+Y37+GK37,2)+GX37 -> 5512.82 | GN37: =IF(OR(BI37=0,BI37=1),ROUND(O37+X37+Y37+GK37,2),0) -> 5512.82 | GO37: =IF(BI37=2,ROUND(O37+X37+Y37+GK37,2),0) -> 0 | GP37: =IF(BI37=4,ROUND(O37+X37+Y37+GK37,2)+GX37,0) -> 0 | GR37: 0 | GS37: 3 | GT37: 0 | GV37: =ROUND((GT37),2) -> 0 | GW37: 1 | GX37: =ROUND(HC37*I37,2) -> 0 | HA37: 0 | HB37: 0 | HC37: =GV37*GW37 -> 0 | IK37: 0
A38: 17 | B38: 1 | C38: =ROW(SmtRes!A58) -> 58 | D38: =ROW(EtalonRes!A68) -> 68 | E38: 11 | F38: 10-01-014-02 прим | G38: Демонтаж:Устройство чистых перегородок дощатых однослойных (короб деревянный) | H38: 100 м2 | I38: =ROUND(26.96/100,9) -> 0.2696 | J38: 0 | O38: =ROUND(CP38,2) -> 1581.42 | P38: =ROUND(CQ38*I38,2) -> 0 | Q38: =ROUND(CR38*I38,2) -> 198.58 | R38: =ROUND(CS38*I38,2) -> 27.05 | S38: =ROUND(CT38*I38,2) -> 1382.84 | T38: =ROUND(CU38*I38,2) -> 0 | U38: =CV38*I38 -> 27.975853 | V38: =CW38*I38 -> 0.3472448 | W38: =ROUND(CX38*I38,2) -> 0 | X38: =ROUND(CY38,2) -> 1494.48 | Y38: =ROUND(CZ38,2) -> 761.34 | AA38: 27906248 | AB38: =ROUND((AC38+AD38+AF38),2) -> 960.03 | AC38: =ROUND(((ES38*0)),2) -> 0 | AD38: =ROUND(((((ET38*0.8))-((EU38*0.8)))+AE38),2) -> 120.55 | AE38: =ROUND(((EU38*0.8)),2) -> 16.42 | AF38: =ROUND(((EV38*0.8)),2) -> 839.48 | AG38: =ROUND((AP38),2) -> 0 | AH38: =((EW38*0.8)) -> 103.768 | AI38: =((EX38*0.8)) -> 1.288 | AJ38: =(AS38) -> 0 | AK38: 8166.64 | AL38: 6966.61 | AM38: 150.68 | AN38: 20.52 | AO38: 1049.35 | AP38: 0 | AQ38: 129.71 | AR38: 1.61 | AS38: 0 | AT38: 106 | AU38: 54 | AV38: 1 | AW38: 1 | AZ38: 6.11 | BA38: 6.11 | BB38: 6.11 | BC38: 6.11 | BH38: 0 | BI38: 1 | BJ38: ФЕР-2001, 10-01-014-02, приказ Минстроя России №1039/пр от 30.12.2016г. | BM38: 10001 | BN38: 0 | BP38: 0 | BQ38: 2 | BR38: 0 | BS38: 6.11 | BT38: 1 | BU38: 1 | BV38: 1 | BW38: 1 | BX38: 1 | BZ38: 118 | CA38: 63 | CE38: 0 | CF38: 0 | CG38: 0 | CM38: 0 | CN38: Поправка: Табл.2, п.2 Наименование: При демонтаже (разборке) сборных деревянных конструкций | CO38: 0 | CP38: =(P38+Q38+S38) -> 1581.42 | CQ38: =AC38*BC38 -> 0 | CR38: =AD38*BB38 -> 736.5605 | CS38: =AE38*BS38 -> 100.3262 | CT38: =AF38*BA38 -> 5129.2228 | CU38: =AG38 -> 0 | CV38: =AH38 -> 103.768 | CW38: =AI38 -> 1.288 | CX38: =AJ38 -> 0 | CY38: =(((S38+R38)*AT38)/100) -> 1494.4834 | CZ38: =(((S38+R38)*AU38)/100) -> 761.3406 | DD38: )*0 | DE38: )*0,8 | DF38: )*0,8 | DG38: )*0,8 | DI38: )*0,8 | DJ38: )*0,8 | DN38: 0 | DO38: 0 | DP38: 1 | DQ38: 1 | DU38: 1005 | DV38: 100 м2 | DW38: 100 м2 | DX38: 100 | EE38: 27029023 | EF38: 2 | EG38: Общестроительные работы | EH38: 0 | EJ38: 1 | EK38: 10001 | EL38: Деревянные конструкции | EM38: ФЕР-10 | EO38: Поправка: Табл.2, п.2 | EQ38: 131072 | ER38: 8166.64 | ES38: 6966.61 | ET38: 150.68 | EU38: 20.52 | EV38: 1049.35 | EW38: 129.71 | EX38: 1.61 | EY38: 0 | FQ38: 0 | FR38: =ROUND(IF(AND(BH38=3,BI38=3),P38,0),2) -> 0 | FS38: 0 | FT38: *0,9 | FU38: *0,85 | FX38: 106.2 | FY38: 53.55 | GD38: 0 | GF38: 1270186788 | GG38: 1 | GH38: 1 | GI38: 4 | GJ38: 0 | GK38: =ROUND(R38*(R12)/100,2) -> 0 | GL38: =ROUND(IF(AND(BH38=3,BI38=3,FS38<>0),P38,0),2) -> 0 | GM38: =ROUND(O38+X38+Y38+GK38,2)+GX38 -> 3837.24 | GN38: =IF(OR(BI38=0,BI38=1),ROUND(O38+X38+Y38+GK38,2),0) -> 3837.24 | GO38: =IF(BI38=2,ROUND(O38+X38+Y38+GK38,2),0) -> 0 | GP38: =IF(BI38=4,ROUND(O38+X38+Y38+GK38,2)+GX38,0) -> 0 | GR38: 0 | GS38: 3 | GT38: 0 | GV38: =ROUND((GT38),2) -> 0 | GW38: 1 | GX38: =ROUND(HC38*I38,2) -> 0 | HA38: 0 | HB38: 0 | HC38: =GV38*GW38 -> 0 | IK38: 0
A39: 17 | B39: 1 | C39: =ROW(SmtRes!A66) -> 66 | D39: =ROW(EtalonRes!A76) -> 76 | E39: 12 | F39: 10-01-052-02 прим. | G39: Разборка: Устройство внутриквартирных лестниц без подшивки (стенка шведская) | H39: м2 | I39: 16.8 | J39: 0 | O39: =ROUND(CP39,2) -> 3546.49 | P39: =ROUND(CQ39*I39,2) -> 0 | Q39: =ROUND(CR39*I39,2) -> 323.34 | R39: =ROUND(CS39*I39,2) -> 57.48 | S39: =ROUND(CT39*I39,2) -> 3223.15 | T39: =ROUND(CU39*I39,2) -> 0 | U39: =CV39*I39 -> 54.8352 | V39: =CW39*I39 -> 0.8064 | W39: =ROUND(CX39*I39,2) -> 0 | X39: =ROUND(CY39,2) -> 3477.47 | Y39: =ROUND(CZ39,2) -> 1771.54 | AA39: 27906248 | AB39: =ROUND((AC39+AD39+AF39),2) -> 34.55 | AC39: =ROUND(((ES39*0)),2) -> 0 | AD39: =ROUND(((((ET39*0.8))-((EU39*0.8)))+AE39),2) -> 3.15 | AE39: =ROUND(((EU39*0.8)),2) -> 0.56 | AF39: =ROUND(((EV39*0.8)),2) -> 31.4 | AG39: =ROUND((AP39),2) -> 0 | AH39: =((EW39*0.8)) -> 3.264 | AI39: =((EX39*0.8)) -> 0.048 | AJ39: =(AS39) -> 0 | AK39: 441.48 | AL39: 398.29 | AM39: 3.94 | AN39: 0.7 | AO39: 39.25 | AP39: 0 | AQ39: 4.08 | AR39: 0.06 | AS39: 0 | AT39: 106 | AU39: 54 | AV39: 1 | AW39: 1 | AZ39: 6.11 | BA39: 6.11 | BB39: 6.11 | BC39: 6.11 | BH39: 0 | BI39: 1 | BJ39: ФЕР-2001, 10-01-052-02, приказ Минстроя России №1039/пр от 30.12.2016г. | BM39: 10001 | BN39: 0 | BP39: 0 | BQ39: 2 | BR39: 0 | BS39: 6.11 | BT39: 1 | BU39: 1 | BV39: 1 | BW39: 1 | BX39: 1 | BZ39: 118 | CA39: 63 | CE39: 0 | CF39: 0 | CG39: 0 | CM39: 0 | CN39: Поправка: Табл.2, п.2 Наименование: При демонтаже (разборке) сборных деревянных конструкций | CO39: 0 | CP39: =(P39+Q39+S39) -> 3546.49 | CQ39: =AC39*BC39 -> 0 | CR39: =AD39*BB39 -> 19.2465 | CS39: =AE39*BS39 -> 3.4216 | CT39: =AF39*BA39 -> 191.854 | CU39: =AG39 -> 0 | CV39: =AH39 -> 3.264 | CW39: =AI39 -> 0.048 | CX39: =AJ39 -> 0 | CY39: =(((S39+R39)*AT39)/100) -> 3477.4678 | CZ39: =(((S39+R39)*AU39)/100) -> 1771.5402 | DD39: )*0 | DE39: )*0,8 | DF39: )*0,8 | DG39: )*0,8 | DI39: )*0,8 | DJ39: )*0,8 | DN39: 0 | DO39: 0 | DP39: 1 | DQ39: 1 | DU39: 1005 | DV39: м2 | DW39: м2 | DX39: 1 | EE39: 27029023 | EF39: 2 | EG39: Общестроительные работы | EH39: 0 | EJ39: 1 | EK39: 10001 | EL39: Деревянные конструкции | EM39: ФЕР-10 | EO39: Поправка: Табл.2, п.2 | EQ39: 131072 | ER39: 441.48 | ES39: 398.29 | ET39: 3.94 | EU39: 0.7 | EV39: 39.25 | EW39: 4.08 | EX39: 0.06 | EY39: 0 | FQ39: 0 | FR39: =ROUND(IF(AND(BH39=3,BI39=3),P39,0),2) -> 0 | FS39: 0 | FT39: *0,9 | FU39: *0,85 | FX39: 106.2 | FY39: 53.55 | GD39: 0 | GF39: -360648514 | GG39: 1 | GH39: 1 | GI39: 4 | GJ39: 0 | GK39: =ROUND(R39*(R12)/100,2) -> 0 | GL39: =ROUND(IF(AND(BH39=3,BI39=3,FS39<>0),P39,0),2) -> 0 | GM39: =ROUND(O39+X39+Y39+GK39,2)+GX39 -> 8795.5 | GN39: =IF(OR(BI39=0,BI39=1),ROUND(O39+X39+Y39+GK39,2),0) -> 8795.5 | GO39: =IF(BI39=2,ROUND(O39+X39+Y39+GK39,2),0) -> 0 | GP39: =IF(BI39=4,ROUND(O39+X39+Y39+GK39,2)+GX39,0) -> 0 | GR39: 0 | GS39: 3 | GT39: 0 | GV39: =ROUND((GT39),2) -> 0 | GW39: 1 | GX39: =ROUND(HC39*I39,2) -> 0 | HA39: 0 | HB39: 0 | HC39: =GV39*GW39 -> 0 | IK39: 0
A40: 17 | B40: 1 | C40: =ROW(SmtRes!A71) -> 71 | D40: =ROW(EtalonRes!A81) -> 81 | E40: 13 | F40: 10-02-031-03 прим. | G40: Разборка:Сборка перегородок дощатых щитовых (короб из ДСП) | H40: 100 м2 | I40: =ROUND(10.2/100,9) -> 0.102 | J40: 0 | O40: =ROUND(CP40,2) -> 256.21 | P40: =ROUND(CQ40*I40,2) -> 0 | Q40: =ROUND(CR40*I40,2) -> 69.28 | R40: =ROUND(CS40*I40,2) -> 10.16 | S40: =ROUND(CT40*I40,2) -> 186.93 | T40: =ROUND(CU40*I40,2) -> 0 | U40: =CV40*I40 -> 3.744624 | V40: =CW40*I40 -> 0.13464 | W40: =ROUND(CX40*I40,2) -> 0 | X40: =ROUND(CY40,2) -> 208.92 | Y40: =ROUND(CZ40,2) -> 106.43 | AA40: 27906248 | AB40: =ROUND((AC40+AD40+AF40),2) -> 411.11 | AC40: =ROUND(((ES40*0)),2) -> 0 | AD40: =ROUND(((((ET40*0.8))-((EU40*0.8)))+AE40),2) -> 111.17 | AE40: =ROUND(((EU40*0.8)),2) -> 16.31 | AF40: =ROUND(((EV40*0.8)),2) -> 299.94 | AG40: =ROUND((AP40),2) -> 0 | AH40: =((EW40*0.8)) -> 36.712 | AI40: =((EX40*0.8)) -> 1.32 | AJ40: =(AS40) -> 0 | AK40: 609.7 | AL40: 95.82 | AM40: 138.96 | AN40: 20.39 | AO40: 374.92 | AP40: 0 | AQ40: 45.89 | AR40: 1.65 | AS40: 0 | AT40: 106 | AU40: 54 | AV40: 1 | AW40: 1 | AZ40: 6.11 | BA40: 6.11 | BB40: 6.11 | BC40: 6.11 | BH40: 0 | BI40: 1 | BJ40: ФЕР-2001, 10-02-031-03, приказ Минстроя России №1039/пр от 30.12.2016г. | BM40: 10001 | BN40: 0 | BP40: 0 | BQ40: 2 | BR40: 0 | BS40: 6.11 | BT40: 1 | BU40: 1 | BV40: 1 | BW40: 1 | BX40: 1 | BZ40: 118 | CA40: 63 | CE40: 0 | CF40: 0 | CG40: 0 | CM40: 0 | CN40: Поправка: Табл.2, п.2 Наименование: При демонтаже (разборке) сборных деревянных конструкций | CO40: 0 | CP40: =(P40+Q40+S40) -> 256.21 | CQ40: =AC40*BC40 -> 0 | CR40: =AD40*BB40 -> 679.2487 | CS40: =AE40*BS40 -> 99.6541 | CT40: =AF40*BA40 -> 1832.6334 | CU40: =AG40 -> 0 | CV40: =AH40 -> 36.712 | CW40: =AI40 -> 1.32 | CX40: =AJ40 -> 0 | CY40: =(((S40+R40)*AT40)/100) -> 208.9154 | CZ40: =(((S40+R40)*AU40)/100) -> 106.4286 | DD40: )*0 | DE40: )*0,8 | DF40: )*0,8 | DG40: )*0,8 | DI40: )*0,8 | DJ40: )*0,8 | DN40: 0 | DO40: 0 | DP40: 1 | DQ40: 1 | DU40: 1005 | DV40: 100 м2 | DW40: 100 м2 | DX40: 100 | EE40: 27029023 | EF40: 2 | EG40: Общестроительные работы | EH40: 0 | EJ40: 1 | EK40: 10001 | EL40: Деревянные конструкции | EM40: ФЕР-10 | EO40: Поправка: Табл.2, п.2 | EQ40: 131072 | ER40: 609.7 | ES40: 95.82 | ET40: 138.96 | EU40: 20.39 | EV40: 374.92 | EW40: 45.89 | EX40: 1.65 | EY40: 0 | FQ40: 0 | FR40: =ROUND(IF(AND(BH40=3,BI40=3),P40,0),2) -> 0 | FS40: 0 | FT40: *0,9 | FU40: *0,85 | FX40: 106.2 | FY40: 53.55 | GD40: 0 | GF40: 286433594 | GG40: 1 | GH40: 1 | GI40: 4 | GJ40: 0 | GK40: =ROUND(R40*(R12)/100,2) -> 0 | GL40: =ROUND(IF(AND(BH40=3,BI40=3,FS40<>0),P40,0),2) -> 0 | GM40: =ROUND(O40+X40+Y40+GK40,2)+GX40 -> 571.56 | GN40: =IF(OR(BI40=0,BI40=1),ROUND(O40+X40+Y40+GK40,2),0) -> 571.56 | GO40: =IF(BI40=2,ROUND(O40+X40+Y40+GK40,2),0) -> 0 | GP40: =IF(BI40=4,ROUND(O40+X40+Y40+GK40,2)+GX40,0) -> 0 | GR40: 0 | GS40: 3 | GT40: 0 | GV40: =ROUND((GT40),2) -> 0 | GW40: 1 | GX40: =ROUND(HC40*I40,2) -> 0 | HA40: 0 | HB40: 0 | HC40: =GV40*GW40 -> 0 | IK40: 0
A41: 17 | B41: 1 | C41: =ROW(SmtRes!A74) -> 74 | D41: =ROW(EtalonRes!A84) -> 84 | E41: 14 | F41: 63-10-1 | G41: Разборка облицовки из гипсокартонных листов стен, откосов и перегородок | H41: 100 м2 | I41: =ROUND((102.4+4.77+3.96)/100,9) -> 1.1113 | J41: 0 | O41: =ROUND(CP41,2) -> 471.3 | P41: =ROUND(CQ41*I41,2) -> 0 | Q41: =ROUND(CR41*I41,2) -> 42.44 | R41: =ROUND(CS41*I41,2) -> 18.33 | S41: =ROUND(CT41*I41,2) -> 428.86 | T41: =ROUND(CU41*I41,2) -> 0 | U41: =CV41*I41 -> 8.123603 | V41: =CW41*I41 -> 0.22226 | W41: =ROUND(CX41*I41,2) -> 0 | X41: =ROUND(CY41,2) -> 344.34 | Y41: =ROUND(CZ41,2) -> 223.6 | AA41: 27906248 | AB41: =ROUND((AC41+AD41+AF41),2) -> 69.41 | AC41: =ROUND((ES41),2) -> 0 | AD41: =ROUND((((ET41)-(EU41))+AE41),2) -> 6.25 | AE41: =ROUND((EU41),2) -> 2.7 | AF41: =ROUND((EV41),2) -> 63.16 | AG41: =ROUND((AP41),2) -> 0 | AH41: =(EW41) -> 7.31 | AI41: =(EX41) -> 0.2 | AJ41: =(AS41) -> 0 | AK41: 69.41 | AL41: 0 | AM41: 6.25 | AN41: 2.7 | AO41: 63.16 | AP41: 0 | AQ41: 7.31 | AR41: 0.2 | AS41: 0 | AT41: 77 | AU41: 50 | AV41: 1 | AW41: 1 | AZ41: 6.11 | BA41: 6.11 | BB41: 6.11 | BC41: 6.11 | BH41: 0 | BI41: 1 | BJ41: ФЕРр-2001, 63-10-1, приказ Минстроя России №1039/пр от 30.12.2016г. | BM41: 63001 | BN41: 0 | BP41: 0 | BQ41: 6 | BR41: 0 | BS41: 6.11 | BT41: 1 | BU41: 1 | BV41: 1 | BW41: 1 | BX41: 1 | BZ41: 77 | CA41: 50 | CE41: 0 | CF41: 0 | CG41: 0 | CM41: 0 | CO41: 0 | CP41: =(P41+Q41+S41) -> 471.3 | CQ41: =AC41*BC41 -> 0 | CR41: =AD41*BB41 -> 38.1875 | CS41: =AE41*BS41 -> 16.497 | CT41: =AF41*BA41 -> 385.9076 | CU41: =AG41 -> 0 | CV41: =AH41 -> 7.31 | CW41: =AI41 -> 0.2 | CX41: =AJ41 -> 0 | CY41: =(((S41+R41)*AT41)/100) -> 344.3363 | CZ41: =(((S41+R41)*AU41)/100) -> 223.595 | DN41: 0 | DO41: 0 | DP41: 1 | DQ41: 1 | DU41: 1005 | DV41: 100 м2 | DW41: 100 м2 | DX41: 100 | EE41: 27029108 | EF41: 6 | EG41: Ремонтно-строительные работы | EH41: 0 | EJ41: 1 | EK41: 63001 | EL41: Стекольные, обойные, облицовочные работы | EM41: рФЕР-63 | EQ41: 0 | ER41: 69.41 | ES41: 0 | ET41: 6.25 | EU41: 2.7 | EV41: 63.16 | EW41: 7.31 | EX41: 0.2 | EY41: 0 | FQ41: 0 | FR41: =ROUND(IF(AND(BH41=3,BI41=3),P41,0),2) -> 0 | FS41: 0 | FX41: 77 | FY41: 50 | GD41: 0 | GF41: -825807588 | GG41: 1 | GH41: 1 | GI41: 4 | GJ41: 0 | GK41: =ROUND(R41*(R12)/100,2) -> 0 | GL41: =ROUND(IF(AND(BH41=3,BI41=3,FS41<>0),P41,0),2) -> 0 | GM41: =ROUND(O41+X41+Y41+GK41,2)+GX41 -> 1039.24 | GN41: =IF(OR(BI41=0,BI41=1),ROUND(O41+X41+Y41+GK41,2),0) -> 1039.24 | GO41: =IF(BI41=2,ROUND(O41+X41+Y41+GK41,2),0) -> 0 | GP41: =IF(BI41=4,ROUND(O41+X41+Y41+GK41,2)+GX41,0) -> 0 | GR41: 0 | GS41: 3 | GT41: 0 | GV41: =ROUND((GT41),2) -> 0 | GW41: 1 | GX41: =ROUND(HC41*I41,2) -> 0 | HA41: 0 | HB41: 0 | HC41: =GV41*GW41 -> 0 | IK41: 0
A42: 17 | B42: 1 | C42: =ROW(SmtRes!A85) -> 85 | D42: =ROW(EtalonRes!A95) -> 95 | E42: 15 | F42: 15-02-041-03 | G42: Разборка :Устройство металлического каркаса из направляющих профилей под облицовку различными материалами стен | H42: 100 м2 | I42: =ROUND(111.13/100,9) -> 1.1113 | J42: 0 | O42: =ROUND(CP42,2) -> 1876.56 | P42: =ROUND(CQ42*I42,2) -> 0 | Q42: =ROUND(CR42*I42,2) -> 7.13 | R42: =ROUND(CS42*I42,2) -> 2.78 | S42: =ROUND(CT42*I42,2) -> 1869.43 | T42: =ROUND(CU42*I42,2) -> 0 | U42: =CV42*I42 -> 35.86943 | V42: =CW42*I42 -> 0.0311164 | W42: =ROUND(CX42*I42,2) -> 0 | X42: =ROUND(CY42,2) -> 1778.6 | Y42: =ROUND(CZ42,2) -> 879.94 | AA42: 27906248 | AB42: =ROUND((AC42+AD42+AF42),2) -> 276.37 | AC42: =ROUND(((ES42*0)),2) -> 0 | AD42: =ROUND(((((ET42*0.7))-((EU42*0.7)))+AE42),2) -> 1.05 | AE42: =ROUND(((EU42*0.7)),2) -> 0.41 | AF42: =ROUND(((EV42*0.7)),2) -> 275.32 | AG42: =ROUND((AP42),2) -> 0 | AH42: =((EW42*0.7)) -> 32.277 | AI42: =((EX42*0.7)) -> 0.028 | AJ42: =(AS42) -> 0 | AK42: 3623.45 | AL42: 3228.62 | AM42: 1.51 | AN42: 0.59 | AO42: 393.32 | AP42: 0 | AQ42: 46.11 | AR42: 0.04 | AS42: 0 | AT42: 95 | AU42: 47 | AV42: 1 | AW42: 1 | AZ42: 6.11 | BA42: 6.11 | BB42: 6.11 | BC42: 6.11 | BH42: 0 | BI42: 1 | BJ42: ФЕР-2001, 15-02-041-03, приказ Минстроя России №886/пр от 15.06.2017 | BM42: 15001 | BN42: 0 | BP42: 0 | BQ42: 2 | BR42: 0 | BS42: 6.11 | BT42: 1 | BU42: 1 | BV42: 1 | BW42: 1 | BX42: 1 | BZ42: 105 | CA42: 55 | CE42: 0 | CF42: 0 | CG42: 0 | CM42: 0 | CN42: Поправка: Табл.2, п.2 Наименование: При демонтаже (разборке) сборных деревянных конструкций Поправка: МДС 81-36.2004, п.3.3.1.д Наименование: При демонтаже металлических конструкций Поправка: МДС 81-36.2004, п.3.3.1.д Наименование: При демонтаже металлических конструкций | CO42: 0 | CP42: =(P42+Q42+S42) -> 1876.56 | CQ42: =AC42*BC42 -> 0 | CR42: =AD42*BB42 -> 6.4155 | CS42: =AE42*BS42 -> 2.5051 | CT42: =AF42*BA42 -> 1682.2052 | CU42: =AG42 -> 0 | CV42: =AH42 -> 32.277 | CW42: =AI42 -> 0.028 | CX42: =AJ42 -> 0 | CY42: =(((S42+R42)*AT42)/100) -> 1778.5995 | CZ42: =(((S42+R42)*AU42)/100) -> 879.9387 | DD42: )*0 | DE42: )*0,7 | DF42: )*0,7 | DG42: )*0,7 | DI42: )*0,7 | DJ42: )*0,7 | DN42: 0 | DO42: 0 | DP42: 1 | DQ42: 1 | DU42: 1005 | DV42: 100 м2 | DW42: 100 м2 | DX42: 100 | EE42: 27029049 | EF42: 2 | EG42: Общестроительные работы | EH42: 0 | EJ42: 1 | EK42: 15001 | EL42: Отделочные работы | EM42: ФЕР-15 | EO42: Поправка: Табл.2, п.2 Поправка: МДС 81-36.2004, п.3.3.1.д Поправка: МДС 81-36.2004, п.3.3.1.д | EQ42: 131072 | ER42: 3623.45 | ES42: 3228.62 | ET42: 1.51 | EU42: 0.59 | EV42: 393.32 | EW42: 46.11 | EX42: 0.04 | EY42: 0 | FQ42: 0 | FR42: =ROUND(IF(AND(BH42=3,BI42=3),P42,0),2) -> 0 | FS42: 0 | FT42: *0,9 | FU42: *0,85 | FX42: 94.5 | FY42: 46.75 | GD42: 0 | GF42: 227955695 | GG42: 1 | GH42: 1 | GI42: 4 | GJ42: 0 | GK42: =ROUND(R42*(R12)/100,2) -> 0 | GL42: =ROUND(IF(AND(BH42=3,BI42=3,FS42<>0),P42,0),2) -> 0 | GM42: =ROUND(O42+X42+Y42+GK42,2)+GX42 -> 4535.1 | GN42: =IF(OR(BI42=0,BI42=1),ROUND(O42+X42+Y42+GK42,2),0) -> 4535.1 | GO42: =IF(BI42=2,ROUND(O42+X42+Y42+GK42,2),0) -> 0 | GP42: =IF(BI42=4,ROUND(O42+X42+Y42+GK42,2)+GX42,0) -> 0 | GR42: 0 | GS42: 3 | GT42: 0 | GV42: =ROUND((GT42),2) -> 0 | GW42: 1 | GX42: =ROUND(HC42*I42,2) -> 0 | HA42: 0 | HB42: 0 | HC42: =GV42*GW42 -> 0 | IK42: 0
A43: 17 | B43: 1 | C43: =ROW(SmtRes!A88) -> 88 | D43: =ROW(EtalonRes!A98) -> 98 | E43: 16 | F43: 63-10-2 | G43: Разборка облицовки из гипсокартонных листов потолков | H43: 100 м2 | I43: =ROUND(29.8/100,9) -> 0.298 | J43: 0 | O43: =ROUND(CP43,2) -> 162.09 | P43: =ROUND(CQ43*I43,2) -> 0 | Q43: =ROUND(CR43*I43,2) -> 11.38 | R43: =ROUND(CS43*I43,2) -> 4.92 | S43: =ROUND(CT43*I43,2) -> 150.71 | T43: =ROUND(CU43*I43,2) -> 0 | U43: =CV43*I43 -> 2.85484 | V43: =CW43*I43 -> 0.0596 | W43: =ROUND(CX43*I43,2) -> 0 | X43: =ROUND(CY43,2) -> 119.84 | Y43: =ROUND(CZ43,2) -> 77.82 | AA43: 27906248 | AB43: =ROUND((AC43+AD43+AF43),2) -> 89.02 | AC43: =ROUND((ES43),2) -> 0 | AD43: =ROUND((((ET43)-(EU43))+AE43),2) -> 6.25 | AE43: =ROUND((EU43),2) -> 2.7 | AF43: =ROUND((EV43),2) -> 82.77 | AG43: =ROUND((AP43),2) -> 0 | AH43: =(EW43) -> 9.58 | AI43: =(EX43) -> 0.2 | AJ43: =(AS43) -> 0 | AK43: 89.02 | AL43: 0 | AM43: 6.25 | AN43: 2.7 | AO43: 82.77 | AP43: 0 | AQ43: 9.58 | AR43: 0.2 | AS43: 0 | AT43: 77 | AU43: 50 | AV43: 1 | AW43: 1 | AZ43: 6.11 | BA43: 6.11 | BB43: 6.11 | BC43: 6.11 | BH43: 0 | BI43: 1 | BJ43: ФЕРр-2001, 63-10-2, приказ Минстроя России №1039/пр от 30.12.2016г. | BM43: 63001 | BN43: 0 | BP43: 0 | BQ43: 6 | BR43: 0 | BS43: 6.11 | BT43: 1 | BU43: 1 | BV43: 1 | BW43: 1 | BX43: 1 | BZ43: 77 | CA43: 50 | CE43: 0 | CF43: 0 | CG43: 0 | CM43: 0 | CO43: 0 | CP43: =(P43+Q43+S43) -> 162.09 | CQ43: =AC43*BC43 -> 0 | CR43: =AD43*BB43 -> 38.1875 | CS43: =AE43*BS43 -> 16.497 | CT43: =AF43*BA43 -> 505.7247 | CU43: =AG43 -> 0 | CV43: =AH43 -> 9.58 | CW43: =AI43 -> 0.2 | CX43: =AJ43 -> 0 | CY43: =(((S43+R43)*AT43)/100) -> 119.8351 | CZ43: =(((S43+R43)*AU43)/100) -> 77.815 | DN43: 0 | DO43: 0 | DP43: 1 | DQ43: 1 | DU43: 1005 | DV43: 100 м2 | DW43: 100 м2 | DX43: 100 | EE43: 27029108 | EF43: 6 | EG43: Ремонтно-строительные работы | EH43: 0 | EJ43: 1 | EK43: 63001 | EL43: Стекольные, обойные, облицовочные работы | EM43: рФЕР-63 | EQ43: 0 | ER43: 89.02 | ES43: 0 | ET43: 6.25 | EU43: 2.7 | EV43: 82.77 | EW43: 9.58 | EX43: 0.2 | EY43: 0 | FQ43: 0 | FR43: =ROUND(IF(AND(BH43=3,BI43=3),P43,0),2) -> 0 | FS43: 0 | FX43: 77 | FY43: 50 | GD43: 0 | GF43: -113759764 | GG43: 1 | GH43: 1 | GI43: 4 | GJ43: 0 | GK43: =ROUND(R43*(R12)/100,2) -> 0 | GL43: =ROUND(IF(AND(BH43=3,BI43=3,FS43<>0),P43,0),2) -> 0 | GM43: =ROUND(O43+X43+Y43+GK43,2)+GX43 -> 359.75 | GN43: =IF(OR(BI43=0,BI43=1),ROUND(O43+X43+Y43+GK43,2),0) -> 359.75 | GO43: =IF(BI43=2,ROUND(O43+X43+Y43+GK43,2),0) -> 0 | GP43: =IF(BI43=4,ROUND(O43+X43+Y43+GK43,2)+GX43,0) -> 0 | GR43: 0 | GS43: 3 | GT43: 0 | GV43: =ROUND((GT43),2) -> 0 | GW43: 1 | GX43: =ROUND(HC43*I43,2) -> 0 | HA43: 0 | HB43: 0 | HC43: =GV43*GW43 -> 0 | IK43: 0
