Workbook
Name Constr: '24825'!$A$1
Name Constr: '24855'!$A$1
Name Constr: '24856'!$A$1
Name Constr: '24857'!$A$1
Name Constr: '24858'!$A$1
Name Constr: '25210'!$A$1
Name Constr: '25211'!$A$1
Name FOT: '24825'!$B$17
Name FOT: '24855'!$B$20
Name FOT: '24856'!$B$17
Name FOT: '24857'!$B$20
Name FOT: '24858'!$B$19
Name FOT: '25210'!$B$17
Name FOT: '25211'!$B$19
Name Ind: '24825'!$D$9
Name Ind: '24855'!$D$9
Name Ind: '24856'!$C$9
Name Ind: '24857'!$D$9
Name Ind: '24858'!$C$9
Name Ind: '25210'!$D$9
Name Ind: '25211'!$C$9
Name Obj: '24825'!#REF!
Name Obj: '24855'!#REF!
Name Obj: '24856'!#REF!
Name Obj: '24857'!#REF!
Name Obj: '24858'!#REF!
Name Obj: '25210'!#REF!
Name Obj: '25211'!#REF!
Name Obosn: '24825'!$B$15
Name Obosn: '24855'!$B$15
Name Obosn: '24856'!$B$15
Name Obosn: '24857'!$B$15
Name Obosn: '24858'!$B$15
Name Obosn: '25210'!$B$15
Name Obosn: '25211'!$B$15
Name SmPr: '24825'!$B$16
Name SmPr: '24855'!$B$16
Name SmPr: '24856'!$B$16
Name SmPr: '24857'!$B$16
Name SmPr: '24858'!$B$16
Name SmPr: '25210'!$B$16
Name SmPr: '25211'!$B$16
Name аааааппппппрррппппппп: #REF!
Name аараооооооооооооо: #REF!
Name автом: #REF!
Name алшрльоплварл: #REF!
Name аолвлддддддддддддддддввввввввв: #REF!
Name апарв: #REF!
Name апрлдджаоырыфрпопрлпрлпрлп: #REF!
Name арлггаджаш: #REF!
Name ароррбллтблпроорапииас: #REF!
Name арррррблллпдрлдддддддддд: #REF!
Name варпаааааааааа: #REF!
Name ввпьььььлднд: #REF!
Name вед: #REF!
Name вертикальная: #REF!
Name вертикплан: #REF!
Name волен: #REF!
Name вп: #REF!
Name впырпфдыпл: #REF!

Sheet 24825
A1: СОГЛАСОВАНО: | E1: ФГУП "Комбинат "Электрохимприбор" | M1: УТВЕРЖДАЮ:
G2: (наименование стройки) | M2: Зам. генерального директора
M3: Е.В.Гордеев
A4: _________________ | M4: _________________
A5: " _____ " ________________ 2014 г. | M5: "______ " __________2014 г.
G6: ЛОКАЛЬНЫЙ СМЕТНЫЙ РАСЧЕТ № 24825
G7: (локальная смета)
C9: на | D9: строительно-монтажные работы по реконструкции участка радиографии и ультрозвукового
D10: контроля лаборатории №6 ЦЛК. Площадка 1. Здание 301. инв.№ 5731020
E11: Раздел: Отопление и вентиляция
H12: (наименование работ и затрат, наименование объекта)
D13: Основание: Проект № 24565-13-ОВ КПМ Ж 6280.0010
D14: Сметная стоимость строительных работ _______________________________________________________________________________________________ | J14: ___________________________17,345 | L14: тыс. руб.
D15: Средства на оплату труда _______________________________________________________________________________________________ | J15: ___________________________2,087 | L15: тыс. руб.
D16: Сметная трудоемкость _______________________________________________________________________________________________ | J16: _______________________________________________________________________________________________160,4 | L16: чел.час
D17: Материалы ___________________________________________________________ | J17: =J119/1000 -> 11.436 | L17: тыс.руб.
D18: Составлен(а) в базовых ценах 2001г. в редакции 2009г.
A20: № пп | B20: Обоснование | C20: Наименование | D20: Ед. изм. | E20: Кол. | F20: Стоимость единицы, руб. | J20: Общая стоимость, руб. | N20: Т/з осн. раб.на ед. | O20: Т/з осн. раб. Всего | P20: Т/з мех. на ед. | Q20: Т/з мех. Всего
F21: Всего | G21: В том числе | J21: Всего | K21: В том числе
G22: Осн.З/п | H22: Эк.Маш | I22: З/пМех | K22: Осн.З/п | L22: Эк.Маш | M22: З/пМех
A23: 1 | B23: 2 | C23: 3 | D23: 4 | E23: 5 | F23: 6 | G23: 7 | H23: 8 | I23: 9 | J23: 10 | K23: 11 | L23: 12 | M23: 13 | N23: 14 | O23: 15 | P23: 16 | Q23: 17
A24: Раздел 1. Разборка.
A25: ВУ-15
A26: 1 | B26: ТЕРр65-30-4 | C26: Разборка воздуховодов из листовой стали толщиной до 0,9 мм диаметром/периметром до 660 мм /2070 мм | D26: 100 м2 | E26: 0.128 | F26: 326.88 | G26: 296.65 | H26: 30.23 | I26: 11.72 | J26: 42 | K26: 38 | L26: 4 | M26: 2 | N26: 24.7 | O26: 3.16 | P26: 0.75 | Q26: 0.1
A27: 2 | B27: ТЕРр65-30-9 | C27: Разборка воздуховодов из листовой стали толщиной 1-2 мм диаметром/периметром до 660 мм /2070 мм | D27: 100 м2 | E27: 0.264 | F27: 415.75 | G27: 385.52 | H27: 30.23 | I27: 11.72 | J27: 110 | K27: 102 | L27: 8 | M27: 3 | N27: 32.1 | O27: 8.47 | P27: 0.75 | Q27: 0.2
A28: 3 | B28: ТЕРр65-32-2 | C28: Демонтаж центробежных вентиляторов весом до 0,12 т | D28: 100 шт. | E28: 0.01 | F28: 10268.75 | G28: 10177.27 | H28: 91.48 | I28: 35.46 | J28: 103 | K28: 102 | L28: 1 | N28: 847.4 | O28: 8.47 | P28: 2.27 | Q28: 0.02
A29: ВУ-12
A30: 4 | B30: ТЕРр65-30-7 | C30: Разборка воздуховодов из листовой стали толщиной 1-2 мм диаметром/периметром до 320 мм /1000 мм | D30: 100 м2 | E30: 0.114 | F30: 607.91 | G30: 577.68 | H30: 30.23 | I30: 11.72 | J30: 69 | K30: 66 | L30: 3 | M30: 1 | N30: 48.1 | O30: 5.48 | P30: 0.75 | Q30: 0.09
A31: 5 | B31: ТЕРр65-32-1 | C31: Демонтаж центробежных вентиляторов весом до 0,05 т | D31: 100 шт. | E31: 0.01 | F31: 4162.87 | G31: 4132.64 | H31: 30.23 | I31: 11.72 | J31: 42 | K31: 42 | N31: 344.1 | O31: 3.44 | P31: 0.75 | Q31: 0.01
A32: ВУ-11
A33: 6 | B33: ТЕРр65-30-1 | C33: Разборка воздуховодов из листовой стали толщиной до 0,9 мм диаметром/периметром до 165 мм /540 мм | D33: 100 м2 | E33: 0.033 | F33: 604.31 | G33: 574.08 | H33: 30.23 | I33: 11.72 | J33: 20 | K33: 19 | L33: 1 | N33: 47.8 | O33: 1.58 | P33: 0.75 | Q33: 0.02
A34: Отопление.
A35: 7 | B35: ТЕРр65-19-4 | C35: Демонтаж ребристых труб | D35: 100 шт. | E35: 0.06 | F35: 1028.5 | G35: 964.83 | H35: 63.67 | I35: 24.68 | J35: 62 | K35: 58 | L35: 4 | M35: 1 | N35: 87 | O35: 5.22 | P35: 1.58 | Q35: 0.09
A36: 8 | B36: ТЕРр65-14-1 | C36: Разборка трубопроводов из водогазопроводных труб в зданиях и сооружениях на резьбе диаметром до 32 мм | D36: 100 м | E36: 0.08 | F36: 453.98 | G36: 453.98 | J36: 36 | K36: 36 | N36: 37.8 | O36: 3.02
A37: Раздел 2. Вентиляция.
A38: 9 | B38: ТЕР20-03-001-01 | C38: Установка вентиляторов радиальных массой до 0,05 т | D38: 1 вентилятор | E38: 1 | F38: 100.35 | G38: 78.55 | H38: 6.66 | I38: 0.18 | J38: 100 | K38: 79 | L38: 7 | N38: 6.54 | O38: 6.54 | P38: 0.01 | Q38: 0.01
A39: 10 | B39: ТСЦ-301-8006 | C39: Вентиляторы радиальные низкого давления из углеродистой стали, марка ВЦ (ВР) 4-75-4 | D39: шт. | E39: 1 | F39: 1981.62 | J39: 1982
A40: 11 | B40: ТЕР20-02-020-02 | C40: Установка виброизолятора номер 39 | D40: 10 виброизоляторов | E40: 0.4 | F40: 103.93 | G40: 61.47 | H40: 1.09 | J40: 42 | K40: 25 | N40: 4.4 | O40: 1.76
A41: 12 | B41: ТСЦ-301-0145 | C41: Виброизоляторы пружинные до № 39 | D41: шт. | E41: 4 | F41: 59.98 | J41: 240
A42: 13 | B42: ТЕР20-02-018-01 | C42: Установка вставок гибких. | D42: 1 м2 | E42: 1.44 | F42: 77.27 | G42: 70.84 | H42: 1.09 | J42: 111 | K42: 102 | L42: 2 | N42: 5.75 | O42: 8.28
...

Sheet 24855
A1: СОГЛАСОВАНО: | E1: ФГУП "Комбинат "Электрохимприбор" | M1: УТВЕРЖДАЮ:
G2: (наименование стройки) | M2: Зам. генерального директора
M3: Е.В.Гордеев
A4: _________________ | M4: _________________
A5: " _____ " ________________ 2014 г. | M5: "______ " __________2014 г.
G6: ЛОКАЛЬНЫЙ СМЕТНЫЙ РАСЧЕТ № 24855
G7: (локальная смета)
C9: на | D9: строительно-монтажные работы по реконструкции участка радиографии и ультрозвукового
D10: контроля лаборатории №6 ЦЛК. Площадка 1. Здание 301. инв.№ 5731020
E11: Раздел: Электрооборудование. Электроосвещение.
H12: (наименование работ и затрат, наименование объекта)
D13: Основание: проект № 24583-13-ЭМ Тема КПМ Ж6280.010
D14: Сметная стоимость _______________________________________________________________________________________________ | J14: ___________________________90,940 | L14: тыс. руб.
D15: строительных работ _______________________________________________________________________________________________ | J15: _______________________________________________________________________________________________1,073 | L15: тыс. руб.
D16: монтажных работ _______________________________________________________________________________________________ | J16: _______________________________________________________________________________________________89,867 | L16: тыс. руб.
D17: Средства на оплату труда _______________________________________________________________________________________________ | J17: ___________________________9,170 | L17: тыс. руб.
D18: Сметная трудоемкость _______________________________________________________________________________________________ | J18: _______________________________________________________________________________________________542,28 | L18: чел.час
D19: Материалы ______________________________________ | K19: =J135/1000 -> 60.351 | L19: тыс.руб.
D20: Составлен(а) в базовых ценах 2001г. в редакции 2009г.
A22: № пп | B22: Обоснование | C22: Наименование | D22: Ед. изм. | E22: Кол. | F22: Стоимость единицы, руб. | J22: Общая стоимость, руб. | N22: Т/з осн. раб.на ед. | O22: Т/з осн. раб. Всего | P22: Т/з мех. на ед. | Q22: Т/з мех. Всего
F23: Всего | G23: В том числе | J23: Всего | K23: В том числе
G24: Осн.З/п | H24: Эк.Маш | I24: З/пМех | K24: Осн.З/п | L24: Эк.Маш | M24: З/пМех
A25: 1 | B25: 2 | C25: 3 | D25: 4 | E25: 5 | F25: 6 | G25: 7 | H25: 8 | I25: 9 | J25: 10 | K25: 11 | L25: 12 | M25: 13 | N25: 14 | O25: 15 | P25: 16 | Q25: 17
A26: Раздел 1. Демонтажные работы
A27: 1 | B27: ТЕРм08-03-572-07 | C27: Демонтаж: распределительный пункт (шкаф), устанавливаемый на полу, высота и ширина до 1700х1100 мм КОЭФ. К ПОЗИЦИИ: Демонтаж оборудования, которое не подлежит дальнейшему использованию (предназначено в лом) без разборки и резки ОЗП=0,3; ЭМ=0,3 к расх.; ЗПМ=0,3; МАТ=0 к расх.; ТЗ=0,3; ТЗМ=0,3 | D27: 1 шт. | E27: 2 | F27: 58.28 | G27: 19.53 | H27: 38.75 | I27: 2.24 | J27: 117 | K27: 39 | L27: 78 | M27: 4 | N27: 1.4 | O27: 2.8 | P27: 0.12 | Q27: 0.24
A28: 2 | B28: ТЕРм08-03-599-10 | C28: Демонтаж: щитки осветительные, устанавливаемые на стене распорными дюбелями, масса щитка до 15 кг КОЭФ. К ПОЗИЦИИ: Демонтаж оборудования, которое не подлежит дальнейшему использованию (предназначено в лом) без разборки и резки ОЗП=0,3; ЭМ=0,3 к расх.; ЗПМ=0,3; МАТ=0 к расх.; ТЗ=0,3; ТЗМ=0,3 | D28: 1 шт. | E28: 1 | F28: 19.83 | G28: 17.48 | H28: 2.35 | I28: 0.11 | J28: 20 | K28: 18 | L28: 2 | N28: 1.25 | O28: 1.25 | P28: 0.01 | Q28: 0.01
A29: 3 | B29: ТЕРр67-4-5 | C29: Демонтаж светильников для люминесцентных ламп | D29: 100 шт. | E29: 0.26 | F29: 205.2 | G29: 201.98 | H29: 3.22 | I29: 1.25 | J29: 53 | K29: 53 | N29: 17.89 | O29: 4.65 | P29: 0.08 | Q29: 0.02
A30: 4 | B30: ТЕРр67-3-1 | C30: Демонтаж кабеля | D30: 100 м | E30: 1.5 | F30: 106.34 | G30: 105.94 | H30: 0.4 | I30: 0.16 | J30: 160 | K30: 159 | L30: 1 | N30: 9.64 | O30: 14.46 | P30: 0.01 | Q30: 0.02
A31: 5 | B31: ТЕРр67-4-1 | C31: Демонтаж выключателей, розеток | D31: 100 шт. | E31: 0.15 | F31: 64.18 | G31: 64.18 | J31: 10 | K31: 10 | N31: 5.84 | O31: 0.88
A32: 6 | B32: ТЕРм08-03-532-04 | C32: Демонтаж: пост управления кнопочный на стене КОЭФ. К ПОЗИЦИИ: Демонтаж оборудования, которое не подлежит дальнейшему использованию (предназначено в лом) без разборки и резки ОЗП=0,3; ЭМ=0,3 к расх.; ЗПМ=0,3; МАТ=0 к расх.; ТЗ=0,3; ТЗМ=0,3 | D32: 1 шт. | E32: 2 | F32: 7.62 | G32: 7.24 | H32: 0.38 | J32: 15 | K32: 14 | L32: 1 | N32: 0.54 | O32: 1.08
A33: Раздел 2. Монтажные работы
A34: 7 | B34: ФССЦ-509-2738 прим. | C34: Щитки учетно-распределительные ЩУРн-3/48зо-1 со счетчиком КОЭФ. К ПОЗИЦИИ: Приведение расценок ФЕР к территориальному уровню (Письмо УРЦЦС Ц-297 от 12.04.2011) ОЗП=1,41; ЭМ=1,242; ЗПМ=1,41; МАТ=1,052 | D34: шт. | E34: 1 | F34: 2538.22 | J34: 2538
A35: 8 | B35: ТСЦ-509-1310 | C35: Щитки осветительные на 18 модулей | D35: шт. | E35: 1 | F35: 1562 | J35: 1562
A36: 9 | B36: ТЕРм08-03-599-06 | C36: Щитки осветительные, устанавливаемые в нише болтами на конструкции, масса щитка до 15 кг | D36: 1 шт. | E36: 2 | F36: 153.76 | G36: 62.31 | H36: 9.31 | I36: 0.55 | J36: 308 | K36: 125 | L36: 19 | M36: 1 | N36: 4.46 | O36: 8.92 | P36: 0.03 | Q36: 0.06
A37: 10 | B37: ТСЦ-509-5067 | C37: Выключатели и переключатели защитные (степень защиты IP56, IP67) ПВ2-40 М3Б | D37: шт. | E37: 3 | F37: 131.58 | J37: 395
A38: 11 | B38: ТСЦ-509-5030 | C38: Выключатели и переключатели защитные (степень защиты IP30, IP56, IP67) ПВ3-16 М1 56,57, силумин | D38: шт. | E38: 1 | F38: 128.09 | J38: 128
A39: 12 | B39: ТЕРм08-03-525-01 | C39: Выключатель или переключатель пакетный в металлической оболочке, устанавливаемый на конструкции на стене или колонне, с количеством зажимов для подключения до 9 на ток до 25 А | D39: 1 шт. | E39: 4 | F39: 140.25 | G39: 28.32 | H39: 1.28 | J39: 561 | K39: 113 | L39: 5 | N39: 2.09 | O39: 8.36
A40: 13 | B40: Цена поставщика | C40: Коробка КМ41237 распаячная для о/п d75х40мм IP44 (RAL7035, 4 гермоввода) UKO11-075-040-000-K41-44 (Ц:21руб:1,18:5.56) | D40: шт. | E40: 40 | F40: 3.2 | J40: 128
A41: 14 | B41: Цена поставщика | C41: РРС20-3-ББ Розетка одноместная с з/к для открытой установки "Брикс" ERB11-K01-16-DC (Ц:49,76руб:1,18:5,56) | D41: шт. | E41: 3 | F41: 7.58 | J41: 23
A42: 15 | B42: Цена поставщика | C42: РС22-3-ББ Розетка двухместная с з/к для открытой установки "Брикс" ERB21-K01-16-DC (Ц:87,26руб:1,18:5,56) | D42: шт. | E42: 10 | F42: 13.3 | J42: 133
...

Sheet 24856
A1: СОГЛАСОВАНО: | E1: ФГУП "Комбинат "Электрохимприбор" | M1: УТВЕРЖДАЮ:
G2: (наименование стройки) | M2: Зам. генерального директора
M3: Е.В.Гордеев
A4: _________________ | M4: _________________
A5: " _____ " ________________ 2014 г. | M5: "______ " __________2014 г.
G6: ЛОКАЛЬНЫЙ СМЕТНЫЙ РАСЧЕТ № 24856
G7: (локальная смета)
C9: на | D9: строительно-монтажные работы по реконструкции участка радиографии и ультрозвукового
D10: контроля лаборатории №6 ЦЛК. Площадка 1. Здание 301. инв.№ 5731020
E11: Раздел: автоматическая пожарная сигнализация.
H12: (наименование работ и затрат, наименование объекта)
D13: Основание: проект № 24590-13-ПС Тема КПМ Ж6280.010
D14: Сметная стоимость _______________________________________________________________________________________________ | J14: ___________________________10,433 | L14: тыс. руб.
D15: монтажных работ _______________________________________________________________________________________________ | J15: _______________________________________________________________________________________________7,989 | L15: тыс. руб.
D16: прочих (ПНР "в холостую") _______________________________________________________________________________________________ | J16: _______________________________________________________________________________________________2,444 | L16: тыс. руб.
D17: Средства на оплату труда _______________________________________________________________________________________________ | J17: ___________________________2,720 | L17: тыс. руб.
D18: Сметная трудоемкость _______________________________________________________________________________________________ | J18: _______________________________________________________________________________________________173,73 | L18: чел.час
D19: Материалы ______________________________________ | K19: =J81/1000 -> 4.053 | L19: тыс.руб.
D20: Составлен(а) в базовых ценах 2001г. в редакции 2009г.
A22: № пп | B22: Обоснование | C22: Наименование | D22: Ед. изм. | E22: Кол. | F22: Стоимость единицы, руб. | J22: Общая стоимость, руб. | N22: Т/з осн. раб.на ед. | O22: Т/з осн. раб. Всего | P22: Т/з мех. на ед. | Q22: Т/з мех. Всего
F23: Всего | G23: В том числе | J23: Всего | K23: В том числе
G24: Осн.З/п | H24: Эк.Маш | I24: З/пМех | K24: Осн.З/п | L24: Эк.Маш | M24: З/пМех
A25: 1 | B25: 2 | C25: 3 | D25: 4 | E25: 5 | F25: 6 | G25: 7 | H25: 8 | I25: 9 | J25: 10 | K25: 11 | L25: 12 | M25: 13 | N25: 14 | O25: 15 | P25: 16 | Q25: 17
A26: Раздел 1. Монтажные работы
A27: 1 | B27: Цена поставщика | C27: Метка пожарная адресная МА-7ТСН (Ц:590руб :1,18:5,56) | D27: шт | E27: 3 | F27: 89.93 | J27: 270
A28: 2 | B28: ТЕРм10-08-003-05 прим. | C28: Монтаж: метка адресная "Юнитроник" | D28: 1 шт. | E28: 2 | F28: 86.32 | G28: 78.05 | H28: 0.37 | J28: 173 | K28: 156 | L28: 1 | N28: 5.76 | O28: 11.52
A29: 3 | B29: Цена поставщика | C29: Дымовой извещатель "ИП-212-92" (Ц:595руб :1,18:5,56) | D29: шт | E29: 9 | F29: 90.69 | J29: 816
A30: 4 | B30: ТЕРм10-08-002-02 | C30: Извещатель ПС автоматический дымовой, фотоэлектрический, радиоизотопный, световой в нормальном исполнении | D30: 1 шт. | E30: 8 | F30: 28.38 | G30: 22.76 | H30: 0.46 | J30: 227 | K30: 182 | L30: 4 | N30: 1.68 | O30: 13.44
A31: 5 | B31: Цена поставщика | C31: Извещатель пожарный ручной "ИПР-3СУ" (Ц:171,93руб :1,18:5,56) | D31: шт | E31: 4 | F31: 26.21 | J31: 105
A32: 6 | B32: ТЕРм10-04-066-05 | C32: Монтаж: извещатель пожарный ручной | D32: 1 шт. | E32: 3 | F32: 13.89 | G32: 12.78 | J32: 42 | K32: 38 | N32: 1 | O32: 3
A33: 7 | B33: Цена поставщика | C33: Светоуказатель Выход "Люкс-24" (Ц:165руб :1,18:5,56) | D33: шт | E33: 3 | F33: 25.15 | J33: 75
A34: 8 | B34: ТЕРм10-04-066-06 | C34: Монтаж: оповещатель световой | D34: 1 шт. | E34: 2 | F34: 98.76 | G34: 74.88 | J34: 198 | K34: 150 | N34: 6 | O34: 12
A35: 9 | B35: Цена поставщика | C35: Оповещатель "Маяк-24-3М" (Ц:293,64руб :1,18:5,56) | D35: шт | E35: 4 | F35: 44.76 | J35: 179
A36: 10 | B36: ТЕРм10-04-066-05 | C36: Монтаж: оповещатель звуковой | D36: 1 шт. | E36: 3 | F36: 13.89 | G36: 12.78 | J36: 42 | K36: 38 | N36: 1 | O36: 3
A37: 11 | B37: ФССЦ-509-1843 прим. | C37: Кабель-канал (короб) 40х26 мм КОЭФ. К ПОЗИЦИИ: Приведение расценок ФЕР к территориальному уровню (Письмо УРЦЦС Ц-297 от 12.04.2011) ОЗП=1,41; ЭМ=1,242; ЗПМ=1,41; МАТ=1,052 | D37: м | E37: 17 | F37: 30.1 | J37: 512
A38: 12 | B38: ФССЦ-509-1841 прим. | C38: Кабель-канал (короб) 25х16 мм КОЭФ. К ПОЗИЦИИ: Приведение расценок ФЕР к территориальному уровню (Письмо УРЦЦС Ц-297 от 12.04.2011) ОЗП=1,41; ЭМ=1,242; ЗПМ=1,41; МАТ=1,052 | D38: м | E38: 66 | F38: 7.52 | J38: 496
A39: 13 | B39: ФЕРм08-02-390-01 | C39: Короба пластмассовые: шириной до 40 мм КОЭФ. К ПОЗИЦИИ: Приведение расценок ФЕР к территориальному уровню (Письмо УРЦЦС Ц-297 от 12.04.2011) ОЗП=1,41; ЭМ=1,242; ЗПМ=1,41; МАТ=1,052 | D39: 100 м | E39: 0.75 | F39: 311.4 | G39: 218.44 | H39: 38.75 | I39: 0.17 | J39: 234 | K39: 164 | L39: 29 | N39: 16.29 | O39: 12.22 | P39: 0.01 | Q39: 0.01
A40: 14 | B40: Цена поставщика | C40: Кабель для информационных сетей UT 105нг(А)-FRLS FE180 1х2х0,5мм (Ц:17500руб :1,18:5,56) | D40: 1000м | E40: 0.099 | F40: 2667.36 | J40: 264
A41: 15 | B41: Цена поставщика | C41: Кабель КПСнг(А)-FRLS 1х2х0,5 (Ц:31250руб :1,18:5,56) | D41: 1000 м | E41: 0.011 | F41: 4763.14 | J41: 52
A42: 16 | B42: Цена поставщика | C42: Кабель КПСнг(А)-FRLS 1х2х1,0 (Ц:48942руб :1,18:5,56) | D42: 1000 м | E42: 0.055 | F42: 7459.76 | J42: 410
...

Sheet 24857
A1: СОГЛАСОВАНО: | E1: ФГУП "Комбинат "Электрохимприбор" | M1: УТВЕРЖДАЮ:
G2: (наименование стройки) | M2: Зам. генерального директора
M3: Е.В.Гордеев
A4: _________________ | M4: _________________
A5: " _____ " ________________ 2014 г. | M5: "______ " __________2014 г.
G6: ЛОКАЛЬНЫЙ СМЕТНЫЙ РАСЧЕТ № 24857
G7: (локальная смета)
C9: на | D9: строительно-монтажные работы по реконструкции участка радиографии и ультрозвукового
D10: контроля лаборатории №6 ЦЛК. Площадка 1. Здание 301. инв.№ 5731020
E11: Раздел: Водопровод и канализация
H12: (наименование работ и затрат, наименование объекта)
D13: Основание: проект № 24588-13-ВК Тема КПМ Ж6280.0010
D14: Сметная стоимость строительных работ _______________________________________________________________________________________________ | J14: ___________________________27,668 | L14: тыс. руб.
D15: Средства на оплату труда _______________________________________________________________________________________________ | J15: ___________________________3,735 | L15: тыс. руб.
D16: Сметная трудоемкость _______________________________________________________________________________________________ | J16: _______________________________________________________________________________________________262,03 | L16: чел.час
D17: Материалы ______________________________________ | K17: =J103/1000 -> 15.061 | L17: тыс.руб.
D18: Составлен(а) в базовых ценах 2001г. в редакции 2009г.
A20: № пп | B20: Обоснование | C20: Наименование | D20: Ед. изм. | E20: Кол. | F20: Стоимость единицы, руб. | J20: Общая стоимость, руб. | N20: Т/з осн. раб.на ед. | O20: Т/з осн. раб. Всего | P20: Т/з мех. на ед. | Q20: Т/з мех. Всего
F21: Всего | G21: В том числе | J21: Всего | K21: В том числе
G22: Осн.З/п | H22: Эк.Маш | I22: З/пМех | K22: Осн.З/п | L22: Эк.Маш | M22: З/пМех
A23: 1 | B23: 2 | C23: 3 | D23: 4 | E23: 5 | F23: 6 | G23: 7 | H23: 8 | I23: 9 | J23: 10 | K23: 11 | L23: 12 | M23: 13 | N23: 14 | O23: 15 | P23: 16 | Q23: 17
A24: Раздел 1. Разборка конструкций
A25: 1 | B25: ТЕРр65-6-19 | C25: Смена раковин | D25: 100 приборов | E25: 0.02 | F25: 14901.31 | G25: 2444.81 | H25: 104.63 | I25: 10.93 | J25: 298 | K25: 49 | L25: 2 | N25: 191.3 | O25: 3.83 | P25: 0.7 | Q25: 0.01
A26: 2 | B26: ТЕРр65-1-1 | C26: Разборка трубопроводов из водогазопроводных труб диаметром до 32 мм | D26: 100 м трубопровода | E26: 0.08 | F26: 483.12 | G26: 405.87 | H26: 8.12 | I26: 1.56 | J26: 39 | K26: 32 | L26: 1 | N26: 34.66 | O26: 2.77 | P26: 0.1 | Q26: 0.01
A27: 3 | B27: ТЕРр65-2-2 | C27: Разборка трубопроводов из чугунных канализационных труб диаметром 100 мм | D27: 100 м | E27: 0.22 | F27: 1028.82 | G27: 1015.92 | H27: 12.9 | I27: 5 | J27: 226 | K27: 224 | L27: 2 | M27: 1 | N27: 85.3 | O27: 18.77 | P27: 0.32 | Q27: 0.07
A28: Раздел 2. Водопровод
A29: 4 | B29: ТЕР16-02-002-02 | C29: Прокладка трубопроводов водоснабжения из стальных водогазопроводных оцинкованных труб диаметром 20 мм | D29: 100 м трубопровода | E29: 0.12 | F29: 5654.2 | G29: 502.3 | H29: 79.16 | I29: 2.73 | J29: 679 | K29: 60 | L29: 9 | N29: 37.07 | O29: 4.45 | P29: 0.15 | Q29: 0.02
A30: 5 | B30: ТЕР16-02-002-01 | C30: Прокладка трубопроводов водоснабжения из стальных водогазопроводных оцинкованных труб диаметром 15 мм | D30: 100 м трубопровода | E30: 0.48 | F30: 5020.27 | G30: 502.3 | H30: 79.16 | I30: 2.73 | J30: 2410 | K30: 241 | L30: 38 | M30: 1 | N30: 37.07 | O30: 17.79 | P30: 0.15 | Q30: 0.07
A31: 6 | B31: ТСЦ-301-1224 | C31: Крепления для трубопроводов: кронштейны, планки, хомуты | D31: кг | E31: 12 | F31: 17.02 | J31: 204
A32: 7 | B32: ТСЦ-302-1832 | C32: Кран шаровой муфтовый 11Б27П1, диаметром 20 мм | D32: шт. | E32: 1 | F32: 39.32 | J32: 39
A33: 8 | B33: ТСЦ-302-1831 | C33: Кран шаровой муфтовый 11Б27П1, диаметром 15 мм | D33: шт. | E33: 6 | F33: 25.14 | J33: 151
A34: 9 | B34: ТСЦ-302-1304 | C34: Вентили проходные муфтовые 15кч18п2 для воды давлением 1,6 МПа (16 кгс/см2), диаметром 20 мм | D34: шт. | E34: 1 | F34: 19.07 | J34: 19
A35: 10 | B35: ТСЦ-302-1338 | C35: Вентиль муфтовый запорный 15Б1П, диаметр 15 мм | D35: шт. | E35: 3 | F35: 22.44 | J35: 67
A36: 11 | B36: ТЕР17-01-002-03 | C36: Установка смесителей | D36: 10 шт. | E36: 0.1 | F36: 112.27 | G36: 94.85 | H36: 0.29 | J36: 11 | K36: 9 | N36: 7 | O36: 0.7
A37: 12 | B37: ТСЦ-301-0613 | C37: Смесители настенные | D37: компл. | E37: 1 | F37: 125 | J37: 125
A38: 13 | B38: ТЕР18-02-001-01 | C38: Установка водоподогревателей скоростных односекционных поверхностью нагрева одной секции до 4 м2 | D38: 1 водоподогреватель | E38: 3 | F38: 444.87 | G38: 125.34 | H38: 65.91 | I38: 0.55 | J38: 1335 | K38: 376 | L38: 198 | M38: 2 | N38: 9.25 | O38: 27.75 | P38: 0.03 | Q38: 0.09
A39: 14 | B39: Цена поставщика | C39: Водонагреватель проточный электрический ERO/G-4 (Ц:4558руб :1,18:5,56х1,02) | D39: шт. | E39: 3 | F39: 708.63 | J39: 2126
A40: 15 | B40: ТЕР13-03-002-04 | C40: Огрунтовка металлических поверхностей за один раз грунтовкой ГФ-021 | D40: 100 м2 | E40: 0.068 | F40: 417.46 | G40: 79.65 | H40: 10.15 | I40: 0.16 | J40: 28 | K40: 5 | L40: 1 | N40: 5.31 | O40: 0.36 | P40: 0.01
A41: 16 | B41: ТЕР15-04-030-04 | C41: Масляная окраска металлических поверхностей решеток, переплетов, труб диаметром менее 50 мм и т.п., количество окрасок 2 | D41: 100 м2 | E41: 0.068 | F41: 1384.09 | G41: 886.83 | H41: 3.68 | I41: 0.16 | J41: 94 | K41: 60 | N41: 71.06 | O41: 4.83 | P41: 0.01
A42: 17 | B42: ТЕР46-03-009-04 | C42: Пробивка в кирпичных стенах отверстий круглых диаметром до 25 мм при толщине стен до 38 см | D42: 100 шт. | E42: 0.02 | F42: 3846.34 | G42: 869.83 | H42: 2976.51 | I42: 329.74 | J42: 77 | K42: 17 | L42: 60 | M42: 7 | N42: 67.22 | O42: 1.34 | P42: 21.11 | Q42: 0.42
...

Sheet 24858
A1: СОГЛАСОВАНО: | E1: ФГУП "Комбинат "Электрохимприбор" | M1: УТВЕРЖДАЮ:
G2: (наименование стройки) | M2: Зам. генерального директора
M3: Е.В.Гордеев
A4: _________________ | M4: _________________
A5: " _____ " ________________ 2014 г. | M5: "______ " __________2014 г.
G6: ЛОКАЛЬНЫЙ СМЕТНЫЙ РАСЧЕТ № 24858
G7: (локальная смета)
C9: на | D9: строительно-монтажные работы по реконструкции участка радиографии и ультрозвукового
D10: контроля лаборатории №6 ЦЛК. Площадка 1. Здание 301. инв.№ 5731020
E11: Раздел: Архитектурно-строительные решения
H12: (наименование работ и затрат, наименование объекта)
D13: Основание: проект 24552-13-АС
D14: Сметная стоимость _______________________________________________________________________________________________ | J14: ___________________________1063,746 | L14: тыс. руб.
D15: строительных работ _______________________________________________________________________________________________ | J15: _______________________________________________________________________________________________1063,338 | L15: тыс. руб.
D16: монтажных работ _______________________________________________________________________________________________ | J16: _______________________________________________________________________________________________0,408 | L16: тыс. руб.
D17: Средства на оплату труда _______________________________________________________________________________________________ | J17: ___________________________61,898 | L17: тыс. руб.
D18: Сметная трудоемкость _______________________________________________________________________________________________ | J18: _______________________________________________________________________________________________4186,58 | L18: чел.час
D19: Материалы _________________________________________________________ | K19: 847,049 тыс.руб.
D20: Составлен(а) в базовых ценах 2001г. в редакции 2009г.
A22: № пп | B22: Обоснование | C22: Наименование | D22: Ед. изм. | E22: Кол. | F22: Стоимость единицы, руб. | J22: Общая стоимость, руб. | N22: Т/з осн. раб.на ед. | O22: Т/з осн. раб. Всего | P22: Т/з мех. на ед. | Q22: Т/з мех. Всего
F23: Всего | G23: В том числе | J23: Всего | K23: В том числе
G24: Осн.З/п | H24: Эк.Маш | I24: З/пМех | K24: Осн.З/п | L24: Эк.Маш | M24: З/пМех
A25: 1 | B25: 2 | C25: 3 | D25: 4 | E25: 5 | F25: 6 | G25: 7 | H25: 8 | I25: 9 | J25: 10 | K25: 11 | L25: 12 | M25: 13 | N25: 14 | O25: 15 | P25: 16 | Q25: 17
A26: Раздел 1. Разборка конструкций
A27: 1 | B27: ТЕР46-03-007-03 | C27: Пробивка проемов в конструкциях из кирпича | D27: 1 м3 | E27: 0.6 | F27: 583.75 | G27: 155.35 | H27: 428.4 | I27: 39.67 | J27: 350 | K27: 93 | L27: 257 | M27: 24 | N27: 12.3 | O27: 7.38 | P27: 2.54 | Q27: 1.52
A28: 2 | B28: ТЕР46-03-009-02 прим. | C28: Пробивка в кирпичных стенах отверстий размером до 300х250 мм КОЭФ. К ПОЗИЦИИ: При работах на высоте от опорной площадки более 1,5 м ОЗП=1,2; ЭМ=1,2 к расх.; ЗПМ=1,2; ТЗ=1,2; ТЗМ=1,2 | D28: 100 шт. | E28: 0.04 | F28: 4031.51 | G28: 827.64 | H28: 3203.87 | I28: 296.71 | J28: 161 | K28: 33 | L28: 128 | M28: 12 | N28: 63.96 | O28: 2.56 | P28: 19 | Q28: 0.76
A29: 3 | B29: ТЕР46-04-001-05 | C29: Разборка мелкоблочных стен | D29: 1 м3 | E29: 51.94 | F29: 207.62 | G29: 77.75 | H29: 129.87 | I29: 12.03 | J29: 10784 | K29: 4038 | L29: 6746 | M29: 625 | N29: 6.64 | O29: 344.88 | P29: 0.77 | Q29: 39.99
A30: 4 | B30: ТЕР46-04-012-03 | C30: Разборка деревянных заполнений проемов дверных | D30: 100 м2 | E30: 0.11 | F30: 1496.49 | G30: 1184.57 | H30: 311.92 | I30: 120.9 | J30: 165 | K30: 131 | L30: 34 | M30: 13 | N30: 103.91 | O30: 11.43 | P30: 7.74 | Q30: 0.85
A31: 5 | B31: ФЕР09-04-012-01 | C31: Разборка металлических дверных блоков КОЭФ. К ПОЗИЦИИ: Приведение расценок ФЕР к территориальному уровню (Письмо УРЦЦС Ц-297 от 12.04.2011) ОЗП=1,41; ЭМ=1,242 к расх.; ЗПМ=1,7512; МАТ=1,052 к расх.; ТЗ=1,41; ТЗМ=1,7512; Разборка металлических конструкций ОЗП=0,7; ЭМ=0,7 к расх.; ЗПМ=0,7; МАТ=0 к расх.; ТЗ=0,7; ТЗМ=0,7 | D31: 1 м2 проема | E31: 2.52 | F31: 40.08 | G31: 23.5 | H31: 16.58 | J31: 101 | K31: 59 | L31: 42 | N31: 2.37 | O31: 5.97
A32: 6 | B32: ТЕР46-04-012-01 | C32: Разборка деревянных заполнений проемов оконных с подоконными досками | D32: 100 м2 | E32: 0.334 | F32: 2461.28 | G32: 2149.36 | H32: 311.92 | I32: 120.9 | J32: 822 | K32: 718 | L32: 104 | M32: 40 | N32: 188.54 | O32: 62.97 | P32: 7.74 | Q32: 2.59
A33: 7 | B33: ТЕР46-04-011-02 | C33: Разборка покрытий полов из плиток, уложенных на растворе | D33: 100 м2 | E33: 1.75 | F33: 541.99 | G33: 464.41 | H33: 77.58 | I33: 7.19 | J33: 948 | K33: 813 | L33: 135 | M33: 13 | N33: 36.77 | O33: 64.35 | P33: 0.46 | Q33: 0.81
A34: 8 | B34: ТЕРр57-2-4 | C34: Разборка цементно-песчаной стяжки | D34: 100 м2 | E34: 1.75 | F34: 4262.51 | G34: 1335.51 | H34: 2927 | I34: 288.33 | J34: 7459 | K34: 2337 | L34: 5122 | M34: 505 | N34: 111.2 | O34: 194.6 | P34: 21 | Q34: 36.75
A35: 9 | B35: ТЕР46-04-009-02 | C35: Разборка бетонных оснований под полы на кирпичном щебне | D35: 1 м3 | E35: 1.82 | F35: 413.39 | G35: 99.68 | H35: 313.71 | I35: 29.05 | J35: 752 | K35: 181 | L35: 571 | M35: 53 | N35: 7.8 | O35: 14.2 | P35: 1.86 | Q35: 3.39
A36: 10 | B36: ТЕР09-06-001-03 | C36: Разборка стеллажей КОЭФ. К ПОЗИЦИИ: Разборка (демонтаж) металлических конструкций ОЗП=0,7; ЭМ=0,7 к расх.; ЗПМ=0,7; МАТ=0 к расх.; ТЗ=0,7; ТЗМ=0,7 | D36: 1 т | E36: 3 | F36: 951.11 | G36: 870.55 | H36: 80.56 | I36: 2.04 | J36: 2853 | K36: 2612 | L36: 241 | M36: 6 | N36: 72.49 | O36: 217.47 | P36: 0.11 | Q36: 0.33
A37: 11 | B37: СЦП1-1-27-А | C37: Погрузочные работы при автомобильных перевозках: мусор строительный КОЭФ. К ПОЗИЦИИ: Коэффициент техн.часть п.3 ПЗ=1,025 (ОЗП=1,025; ЭМ=1,025 к расх.; ЗПМ=1,025; МАТ=1,025 к расх.; ТЗ=1,025; ТЗМ=1,025) | D37: т | E37: 168.7 | F37: 2.77 | G37: 2.77 | J37: 467 | K37: 467
A38: 12 | B38: СЦП3-3-40-1 | C38: Перевозка грузов (мусора) автомобилями-самосвалами (работающими вне карьеров): расстояние 40 км, класс груза I КОЭФ. К ПОЗИЦИИ: 17 При перевозке грузов к провозной плате (тарифам) применять поправочный коэффициент ПЗ=1,37 (ОЗП=1,37; ЭМ=1,37 к расх.; ЗПМ=1,37; МАТ=1,37 к расх.; ТЗ=1,37; ТЗМ=1,37) | D38: т | E38: 168.7 | F38: 52.85 | H38: 52.85 | J38: 8916 | L38: 8916
A39: Раздел 2. Общестроительные работы
A40: Фундаменты под кирпичные перегородки
A41: 13 | B41: ТЕРр51-2-3 | C41: Разработка грунта при подводке, смене или усилении фундаментов, грунты 1-2 группы, без крепления | D41: 100 м3 грунта | E41: 0.032 | F41: 3878.43 | G41: 3877.34 | H41: 1.09 | J41: 124 | K41: 124 | N41: 346.5 | O41: 11.09
A42: 14 | B42: ТЕР08-01-002-02 | C42: Устройство основания под фундаменты щебеночного | D42: 1 м3 | E42: 0.69 | F42: 288.26 | G42: 27.62 | H42: 67.69 | I42: 7.48 | J42: 199 | K42: 19 | L42: 47 | M42: 5 | N42: 2.4 | O42: 1.66 | P42: 0.54 | Q42: 0.37
...

Sheet 25210
A1: СОГЛАСОВАНО: | E1: ФГУП "Комбинат "Электрохимприбор" | M1: УТВЕРЖДАЮ:
G2: (наименование стройки) | M2: Зам. генерального директора
M3: Е.В.Гордеев
A4: _________________ | M4: _________________
A5: " _____ " ________________ 2014 г. | M5: "______ " __________2014 г.
G6: ЛОКАЛЬНЫЙ СМЕТНЫЙ РАСЧЕТ № 25210
G7: (локальная смета)
C9: на | D9: реконструкцию силового электрооборудования участка радиографии и ультрозвукового
D10: контроля лаборатории №6 ЦЛК. Площадка 1. Здание 301. инв.№ 5731020
E11: Раздел: ПНР. Отопление и вентиляция. (к смете №24825)
H12: (наименование работ и затрат, наименование объекта)
D14: Основание: проект № 24565-13-ОВ
D15: Сметная стоимость прочих _______________________________________________________________________________________________ | J15: ___________________________0,943 | L15: тыс. руб.
D16: Средства на оплату труда _______________________________________________________________________________________________ | J16: ___________________________0,460 | L16: тыс. руб.
D17: Сметная трудоемкость _______________________________________________________________________________________________ | J17: _______________________________________________________________________________________________23,29 | L17: чел.час
D18: Составлен(а) в базовых ценах 2001г. в редакции 2009г.
A20: № пп | B20: Обоснование | C20: Наименование | D20: Ед. изм. | E20: Кол. | F20: Стоимость единицы, руб. | J20: Общая стоимость, руб. | N20: Т/з осн. раб.на ед. | O20: Т/з осн. раб. Всего | P20: Т/з мех. на ед. | Q20: Т/з мех. Всего
F21: Всего | G21: В том числе | J21: Всего | K21: В том числе
G22: Осн.З/п | H22: Эк.Маш | I22: З/пМех | K22: Осн.З/п | L22: Эк.Маш | M22: З/пМех
A23: 1 | B23: 2 | C23: 3 | D23: 4 | E23: 5 | F23: 6 | G23: 7 | H23: 8 | I23: 9 | J23: 10 | K23: 11 | L23: 12 | M23: 13 | N23: 14 | O23: 15 | P23: 16 | Q23: 17
A24: 1 | B24: ТЕРп03-01-002-14 | C24: Вентилятор радиальный (центробежный), диаметральный или крышный массой до 0,1 | D24: 1 устройство | E24: 1 | F24: 129.91 | G24: 129.91 | J24: 130 | K24: 130 | N24: 7 | O24: 7
A25: 2 | B25: ТЕРп03-01-022-01 | C25: Сеть систем вентиляции и кондиционирования воздуха при количестве сечений до 5 | D25: 1 вентиляционная сеть | E25: 2 | F25: 190.58 | G25: 190.58 | J25: 381 | K25: 381 | N25: 10 | O25: 20
A26: Итого прямые затраты по смете в ценах 2001г. | J26: 511 | K26: 511 | O26: 27
A27: Итого прямые затраты по смете с учетом коэффициентов к итогам | J27: 460 | K27: 460 | O27: 23.29
A28: В том числе, справочно:
A29: Районный к-т 4,3% (Поз. 1-2) | J29: 22 | K29: 22
A30: 3. ПНР на действующих предприятиях в зданиях при наличии в зоне производства работ загромождающих помещения предметов ОЗП=1,15; ТЗ=1,15 (Поз. 1-2) | J30: 80 | K30: 80 | O30: 4.05
A31: Пусконаладочные работы (в холостую 75%) ПЗ=0,75 (ОЗП=0,75; ЭМ=0,75; ЗПМ=0,75; МАТ=0,75; ТЗ=0,75; ТЗМ=0,75) (Поз. 1-2) | J31: -153 | K31: -153 | O31: -7.7625
A32: Накладные расходы | J32: 299
A33: В том числе, справочно:
A34: 65% ФОТ (от 460) (Поз. 1-2) | J34: 299
A35: Сметная прибыль | J35: 184
A36: В том числе, справочно:
A37: 40% ФОТ (от 460) (Поз. 1-2) | J37: 184
A38: Итоги по смете:
A39: Пусконаладочные работы: 'вхолостую' - 75% | J39: 943 | O39: 23.29
A40: Итого | J40: 943 | O40: 23.29
A41: В том числе:
A42: ФОТ | J42: 460
A43: Накладные расходы | J43: 299
...

Sheet 25211
A1: СОГЛАСОВАНО: | E1: ФГУП "Комбинат "Электрохимприбор" | M1: УТВЕРЖДАЮ:
G2: (наименование стройки) | M2: Зам. генерального директора
M3: Е.В.Гордеев
A4: _________________ | M4: _________________
A5: " _____ " ________________ 2014 г. | M5: "______ " __________2014 г.
G6: ЛОКАЛЬНЫЙ СМЕТНЫЙ РАСЧЕТ № 25211
G7: (локальная смета)
C9: на | D9: строительно-монтажные работы по реконструкции участка радиографии и ультрозвукового
D10: контроля лаборатории №6 ЦЛК. Площадка 1. Здание 301. инв.№ 5731020
E11: Раздел: ПНР. Электрооборудование. Электроосвещение. (к смете №24855)
H12: (наименование работ и затрат, наименование объекта)
D14: Основание: проект № 24583-13-ЭМ
D15: Сметная стоимость прочих _______________________________________________________________________________________________ | J15: ___________________________5,345 | L15: тыс. руб.
D16: Средства на оплату труда _______________________________________________________________________________________________ | J16: ___________________________2,607 | L16: тыс. руб.
D17: Сметная трудоемкость _______________________________________________________________________________________________ | J17: _______________________________________________________________________________________________146,1 | L17: чел.час
D18: Составлен(а) в базовых ценах 2001г. в редакции 2009г.
A20: № пп | B20: Обоснование | C20: Наименование | D20: Ед. изм. | E20: Кол. | F20: Стоимость единицы, руб. | J20: Общая стоимость, руб. | N20: Т/з осн. раб.на ед. | O20: Т/з осн. раб. Всего | P20: Т/з мех. на ед. | Q20: Т/з мех. Всего
F21: Всего | G21: В том числе | J21: Всего | K21: В том числе
G22: Осн.З/п | H22: Эк.Маш | I22: З/пМех | K22: Осн.З/п | L22: Эк.Маш | M22: З/пМех
A23: 1 | B23: 2 | C23: 3 | D23: 4 | E23: 5 | F23: 6 | G23: 7 | H23: 8 | I23: 9 | J23: 10 | K23: 11 | L23: 12 | M23: 13 | N23: 14 | O23: 15 | P23: 16 | Q23: 17
A24: ЩУРн-3/48эо-1
A25: 1 | B25: ТЕРп01-06-021-01 | C25: Схема разводки трехпроводной системы с количеством панелей (шкафов, ячеек) до 2 | D25: 1 схема | E25: 1 | F25: 64.59 | G25: 64.59 | J25: 65 | K25: 65 | N25: 4 | O25: 4
A26: 2 | B26: ТЕРп01-11-024-01 | C26: Фазировка электрической линии или трансформатора с сетью напряжением до 1 кВ | D26: 1 фазировка | E26: 1 | F26: 18.04 | G26: 18.04 | J26: 18 | K26: 18 | N26: 1 | O26: 1
A27: 3 | B27: ТЕРп01-03-002-05 | C27: Выключатель трехполюсный напряжением до 1 кВ с электромагнитным, тепловым или комбинированным расцепителем, номинальный ток до 200 А | D27: 1 шт. | E27: 1 | F27: 39.71 | G27: 39.71 | J27: 40 | K27: 40 | N27: 3 | O27: 3
A28: 4 | B28: ТЕРп01-03-002-04 | C28: Выключатель трехполюсный напряжением до 1 кВ с электромагнитным, тепловым или комбинированным расцепителем, номинальный ток до 50 А | D28: 1 шт. | E28: 8 | F28: 26.47 | G28: 26.47 | J28: 212 | K28: 212 | N28: 2 | O28: 16
A29: 5 | B29: ТЕРп01-03-001-01 | C29: Выключатель однополюсный напряжением до 1 кВ с электромагнитным, тепловым или комбинированным расцепителем | D29: 1 шт. | E29: 4 | F29: 19.85 | G29: 19.85 | J29: 79 | K29: 79 | N29: 1.5 | O29: 6
A30: 6 | B30: ТЕРп01-11-013-01 | C30: Замер полного сопротивления цепи «фаза-нуль» | D30: 1 токоприемник | E30: 13 | F30: 27.06 | G30: 27.06 | J30: 352 | K30: 352 | N30: 1.5 | O30: 19.5
A31: 7 | B31: ТЕРп01-11-028-01 | C31: Измерение сопротивления изоляции мегаомметром кабельных и других линий напряжением до 1 кВ, предназначенных для передачи электроэнергии к распределительным устройствам, щитам, шкафам, коммутационным аппаратам и электропотребителям | D31: 1 линия | E31: 15 | F31: 7.22 | G31: 7.22 | J31: 108 | K31: 108 | N31: 0.4 | O31: 6
A32: 8 | B32: ТЕРп01-11-011-01 | C32: Проверка наличия цепи между заземлителями и заземленными элементами | D32: 100 точек | E32: 0.14 | F32: 288.64 | G32: 288.64 | J32: 40 | K32: 40 | N32: 16 | O32: 2.24
A33: ЩРн-18э-1
A34: 9 | B34: ТЕРп01-06-021-01 | C34: Схема разводки трехпроводной системы с количеством панелей (шкафов, ячеек) до 2 | D34: 1 схема | E34: 1 | F34: 64.59 | G34: 64.59 | J34: 65 | K34: 65 | N34: 4 | O34: 4
A35: 10 | B35: ТЕРп01-11-024-01 | C35: Фазировка электрической линии или трансформатора с сетью напряжением до 1 кВ | D35: 1 фазировка | E35: 1 | F35: 18.04 | G35: 18.04 | J35: 18 | K35: 18 | N35: 1 | O35: 1
A36: 11 | B36: ТЕРп01-03-002-04 | C36: Выключатель трехполюсный напряжением до 1 кВ с электромагнитным, тепловым или комбинированным расцепителем, номинальный ток до 50 А | D36: 1 шт. | E36: 1 | F36: 26.47 | G36: 26.47 | J36: 26 | K36: 26 | N36: 2 | O36: 2
A37: 12 | B37: ТЕРп01-03-001-01 | C37: Выключатель однополюсный напряжением до 1 кВ с электромагнитным, тепловым или комбинированным расцепителем | D37: 1 шт. | E37: 6 | F37: 19.85 | G37: 19.85 | J37: 119 | K37: 119 | N37: 1.5 | O37: 9
A38: 13 | B38: ТЕРп01-11-013-01 | C38: Замер полного сопротивления цепи «фаза-нуль» | D38: 1 токоприемник | E38: 7 | F38: 27.06 | G38: 27.06 | J38: 189 | K38: 189 | N38: 1.5 | O38: 10.5
A39: 14 | B39: ТЕРп01-11-028-01 | C39: Измерение сопротивления изоляции мегаомметром кабельных и других линий напряжением до 1 кВ, предназначенных для передачи электроэнергии к распределительным устройствам, щитам, шкафам, коммутационным аппаратам и электропотребителям | D39: 1 линия | E39: 9 | F39: 7.22 | G39: 7.22 | J39: 65 | K39: 65 | N39: 0.4 | O39: 3.6
A40: 15 | B40: ТЕРп01-11-011-01 | C40: Проверка наличия цепи между заземлителями и заземленными элементами | D40: 100 точек | E40: 0.06 | F40: 288.64 | G40: 288.64 | J40: 17 | K40: 17 | N40: 16 | O40: 0.96
A41: Пост кнопочный, контактор, выключатели пакетные
A42: 16 | B42: ТЕРп01-09-011-04 | C42: Функциональная группа управления аналоговая бесконтактная с общим числом элементов и органов настройки до 20 | D42: 1 шт. | E42: 1 | F42: 1250.49 | G42: 1250.49 | J42: 1250 | K42: 1250 | N42: 67 | O42: 67
A43: 17 | B43: ТЕРп01-04-002-01 | C43: Максимальная токовая тепловая защита с одним реле | D43: 1 компл. | E43: 1 | F43: 53.64 | G43: 53.64 | J43: 54 | K43: 54 | N43: 3 | O43: 3
...

Sheet СМР
A1: Расчет начальной (максимальной) цены на
A2: реконструкцию участка радиографии и ультразвукового контроля лаборатории №6 ЦЛК. Площадка 1. Здание 301
A4: Наименование глав ССР, объектный сметных расчетов, локальных сметных расчетов, видов прочих работ | B4: Сметная стоимость строительства в базисном уровне цен на 01.01.2000г. по ССР | F4: Остаток сметной стоимости в базисном уровне цен на 01.01.2014 | J4: Сметная стоимость строительства в базисном уровне цен на 01.01.2000г., выставленная на конкурс | N4: Текущая стоимость на момент определения начальной (максимальной) цены | O4: № обосновывающего расчета | P4: 2014 год
B5: Всего | C5: СМР | D5: Оборудование | E5: Прочие | F5: Всего | G5: СМР | H5: Оборудование | I5: Прочие | J5: Всего | K5: СМР | L5: Оборудование | M5: Прочие | P5: СМР | Q5: Оборудование | R5: Прочие
A6: 1 | B6: 2 | C6: 3 | D6: 4 | E6: 5 | F6: 6 | G6: 7 | H6: 8 | I6: 9 | J6: 10 | K6: 11 | L6: 12 | M6: 13 | N6: 14 | O6: 15 | P6: 16 | Q6: 17 | R6: 18
A7: Отопление и вентиляция. | B7: =SUM(C7:E7) -> 17345 | C7: ='24825'!J117 -> 17345 | F7: =SUM(G7:I7) -> 17345 | G7: =C7 -> 17345 | H7: =D7 -> 0 | I7: =E7 -> 0 | J7: =SUM(K7:M7) -> 17345 | K7: =P7 -> 17345 | L7: =Q7 -> 0 | M7: =R7 -> 0 | N7: =SUM(P7:R7) -> 17345 | O7: 24825 | P7: =G7 -> 17345 | Q7: =H7 -> 0 | R7: =I7 -> 0
A8: Электрооборудование. Электроосвещение. | B8: =SUM(C8:E8) -> 90940 | C8: ='24855'!J133 -> 90940 | D8: ='24855'!G85 -> 0 | F8: =SUM(G8:I8) -> 90940 | G8: =C8 -> 90940 | H8: =D8 -> 0 | I8: =E8 -> 0 | J8: =SUM(K8:M8) -> 90940 | K8: =P8 -> 90940 | L8: =Q8 -> 0 | M8: =R8 -> 0 | N8: =SUM(P8:R8) -> 90940 | O8: 24855 (0153см4) | P8: =G8 -> 90940 | Q8: =H8 -> 0 | R8: =I8 -> 0
A9: Автоматическая пожарная сигнализация. | B9: =SUM(C9:E9) -> 10433 | C9: ='24856'!J79 -> 10433 | D9: 0 | F9: =SUM(G9:I9) -> 10433 | G9: =C9 -> 10433 | H9: =D9 -> 0 | I9: =E9 -> 0 | J9: =SUM(K9:M9) -> 10433 | K9: =P9 -> 10433 | L9: =Q9 -> 0 | M9: =R9 -> 0 | N9: =SUM(P9:R9) -> 10433 | O9: 24856 (0153см5) | P9: =G9 -> 10433 | Q9: =H9 -> 0 | R9: =I9 -> 0
A10: Водопровод и канализация | B10: =SUM(C10:E10) -> 27668 | C10: ='24857'!J101 -> 27668 | F10: =SUM(G10:I10) -> 27668 | G10: =C10 -> 27668 | H10: =D10 -> 0 | I10: =E10 -> 0 | J10: =SUM(K10:M10) -> 27668 | K10: =P10 -> 27668 | L10: =Q10 -> 0 | M10: =R10 -> 0 | N10: =SUM(P10:R10) -> 27668 | O10: 24857 (0153см3) | P10: =G10 -> 27668 | Q10: =H10 -> 0 | R10: =I10 -> 0
A11: Архитектурно-строительные решения | B11: =SUM(C11:E11) -> 1063746 | C11: ='24858'!J175 -> 1063746 | D11: ='24858'!G80 -> 0 | F11: =SUM(G11:I11) -> 1063746 | G11: =C11 -> 1063746 | H11: =D11 -> 0 | I11: =E11 -> 0 | J11: =SUM(K11:M11) -> 1063746 | K11: =P11 -> 1063746 | L11: =Q11 -> 0 | M11: =R11 -> 0 | N11: =SUM(P11:R11) -> 1063746 | O11: 24858 (0153см7) | P11: =G11 -> 1063746 | Q11: =H11 -> 0 | R11: =I11 -> 0
A12: ПНР. Отопление и вентиляция. (к смете №24825) | B12: =SUM(C12:E12) -> 943 | E12: ='25210'!J40 -> 943 | F12: =SUM(G12:I12) -> 943 | G12: =C12 -> 0 | H12: =D12 -> 0 | I12: =E12 -> 943 | J12: =SUM(K12:M12) -> 943 | K12: =P12 -> 0 | L12: =Q12 -> 0 | M12: =R12 -> 943 | N12: =SUM(P12:R12) -> 943 | O12: 25210 (0153см6) | P12: =G12 -> 0 | Q12: =H12 -> 0 | R12: =I12 -> 943
A13: ПНР. Электрооборудование. Электроосвещение. (к смете №24855) | B13: =SUM(C13:E13) -> 5345 | E13: ='25211'!J57 -> 5345 | F13: =SUM(G13:I13) -> 5345 | G13: =C13 -> 0 | H13: =D13 -> 0 | I13: =E13 -> 5345 | J13: =SUM(K13:M13) -> 5345 | K13: =P13 -> 0 | L13: =Q13 -> 0 | M13: =R13 -> 5345 | N13: =SUM(P13:R13) -> 5345 | O13: 25211 (0153см2) | P13: =G13 -> 0 | Q13: =H13 -> 0 | R13: =I13 -> 5345
A14: Итого в ценах 2000 года: | B14: =SUM(B7:B13) -> 1216420 | C14: =SUM(C7:C13) -> 1210132 | D14: =SUM(D7:D13) -> 0 | E14: =SUM(E7:E13) -> 6288 | F14: =SUM(F7:F13) -> 1216420 | G14: =SUM(G7:G13) -> 1210132 | H14: =SUM(H7:H13) -> 0 | I14: =SUM(I7:I13) -> 6288 | ... M14: =SUM(M7:M13) -> 6288 | N14: =SUM(P14:R14) -> 1216420 | P14: =SUM(P7:P13) -> 1210132 | Q14: =SUM(Q7:Q13) -> 0 | R14: =SUM(R7:R13) -> 6288
A15: Итого в текущих ценах*: | N15: =SUM(P15:R15) -> 7302487 | P15: =ROUND(P14*5.98,0) -> 7236589 | Q15: =ROUND(Q14*4.21,0) -> 0 | R15: =ROUND(R14*10.48,0) -> 65898
A16: НДС 18% | N16: =SUM(P16:R16) -> 1314447.7 | P16: =ROUND(P15*18%,2) -> 1302586 | Q16: =ROUND(Q15*18%,2) -> 0 | R16: =ROUND(R15*18%,2) -> 11861.64
A17: Всего: | N17: =SUM(P17:R17) -> 8616934.7 | P17: =SUM(P15:P16) -> 8539175 | Q17: =SUM(Q15:Q16) -> 0 | R17: =SUM(R15:R16) -> 77759.64
P18: 60000000
A19: * В расчете использованы индексы: | Q19: =P18-P17 -> 51460825
A20: - 5,98 индекс изменения сметной стоимости СМР к ТЕР 2001 (приказ ФГУП "Комбинат "Электрохимприбор" от 18.09.2013 №1902-П).
A21: - 10,48 индекс изменения сметной стоимости прочих затрат к ТЕР 2001 (приказ ФГУП "Комбинат "Электрохимприбор" от 18.09.2013 №1902-П)
A23: Начальник отдела капитального строительства
A24: ФГУП "Комбинат "Электрохимприбор" | H24: В.В. Моляков
A26: Инженер по проектно-сметной работе | H26: Н.А. Басова
A28: Согласовано | H28: отд. 028

Sheet НМЦ договора
G1: Приложение №1
G2: к извещению на размещение заказа
G3: на выполнение комплекса работ
G4: по строительству объекта
A8: Определение начальной (максимальной) цены договора генерального подряда
A9: на реконструкцию участка радиографии и ультразвукового контроля лаборатории №6 ЦЛК. Площадка 1. Здание 301
A10: на 2014 год
G13: ц.2000г./текущие цены, руб.
A14: Наименование услуг и работ (затрат) | C14: Сметная стоимость строительства в базисном уровне цен на 01.01.2000 г. | D14: Сметная стоимость строительства в текущем уровне цен, пресчитанная на момент проведения процедуры закупки | F14: Начальная (максимальная) цена | G14: в том числе по годам строительства
G17: 2014 г.
A21: 1 | C21: 2 | D21: 3 | F21: 4 | G21: 5
A22: СМР | C22: =СМР!K14 -> 1210132 | D22: =F22 -> 7236589 | F22: =G22 -> 7236589 | G22: =СМР!P15 -> 7236589
A23: Оборудование | C23: =СМР!L14 -> 0 | D23: =F23 -> 0 | F23: =G23 -> 0 | G23: =СМР!Q15 -> 0
A24: Прочие затраты | C24: =СМР!M14 -> 6288 | D24: =F24 -> 65898 | F24: =G24 -> 65898 | G24: =СМР!R15 -> 65898
A25: Всего: | C25: =SUM(C22:C24) -> 1216420 | D25: =F25 -> 7302487 | F25: =G25 -> 7302487 | G25: =SUM(G22:G24) -> 7302487
A26: НДС | D26: =F26 -> 1314447.7 | F26: =G26 -> 1314447.7 | G26: =СМР!P16+СМР!R16 -> 1314447.7
A27: Итого с НДС | D27: =F27 -> 8616934.7 | F27: =G27 -> 8616934.7 | G27: =СМР!P17+СМР!R17 -> 8616934.7
A29: В расчете использованы индексы:
A31: - 5,98 индекс изменения сметной стоимости СМР к ТЕР 2001 (приказ ФГУП "Комбинат "Электрохимприбор" от 18.09.2013 №1902-П) - 10,48 индекс изменения сметной стоимости прочих затрат к ТЕР 2001 (приказ ФГУП "Комбинат "Электрохимприбор" от 18.09.2013 №1902-П)
A33: Начальник отдела капитального строительства
A34: ФГУП "Комбинат "Электрохимприбор" | G34: В.В. Моляков
A36: Инженер по проектно-сметной работе | G36: Н.А. Басова
A38: Согласовано | G38: отд. 028
