Workbook

Sheet Смета 12 гр. по ФЕР
A1: =Source!B1 -> Smeta.RU (495) 974-1589 | I1: ПРИЛОЖЕНИЕ 1 к ФОРМЕ 7
B4: СМЕТА
B6: =IF(Source!G20<>"Новая локальная смета", Source!G20, "")
B8: Капитальный ремонт оконных проемов с заменой деревянных оконных блоков на оконные блоки из ПВХ в помещении библиотеки учебного корпуса Димитровградского инженерно-технологического института - филиала НИЯУ МИФИ (ДИТИ НИЯУ МИФИ) по адресу: Ульяновская область, г. Димитровград, просп. Димитрова, д.4 | AD8: =IF(Source!G12<>"Новый объект", Source!G12, "") -> Капитальный ремонт окооных проемов в библиотекеучебного корпуса ДИТИ НИЯУ МИФИ_
B9: (наименование работ и затрат, наименование объекта)
G12: базовая цена | I12: текущая цена
C13: Сметная стоимость | G13: =SUM(O21:O117)/1000 -> 239.53149 | I13: =(Source!P106/1000) -> 1691.9077 | K13: тыс. руб.
C14: Строительные работы | G14: =SUM(W21:W117)/1000 -> 239.53149 | I14: =(Source!P88)/1000 -> 1434.8666 | K14: тыс. руб.
C15: Нормативная трудоемкость | G15: =I15 -> 486.81095 | I15: =(Source!P93+Source!P94) -> 486.81095 | K15: чел. -ч.
C16: Средства на оплату труда | G16: =SUM(R21:R117)/1000 -> 4.18601 | I16: =((Source!P86 + Source!P85)/1000) -> 25.07411 | K16: тыс. руб.
A18: Составлена в ценах IV квартал 2017 года
A19: № п/п | B19: Шифр расценки и коды ресурсов | C19: Наименование работ и затрат | D19: Ед. изм. | E19: Кол-во единиц | F19: Цена на ед. изм. | G19: Попра-вочные коэфф. | H19: Стоимость в ценах 2001г. | I19: Пункт коэфф. пересчета | J19: Коэфф. пересчета | K19: Стоимость в текущих ценах | L19: ЗТР всего чел.-час
A20: 1 | B20: 2 | C20: 3 | D20: 4 | E20: 5 | F20: 6 | G20: 7 | H20: 8 | I20: 9 | J20: 10 | K20: 11 | L20: 12
A21: =Source!E25 -> 1 | B21: =Source!F25 -> 46-04-012-01 | C21: =Source!G25 -> Разборка деревянных заполнений проемов оконных с подоконными досками | D21: =Source!H25 -> 100 м2 | E21: =Source!I25 -> 1.035 | F21: =Source!AL25+Source!AM25+Source!AO25 -> 1767.24 | I21: =Source!BO25 | S21: =ROUND((Source!FX25/100)*((ROUND(Source!AF25*Source!I25, 2)+ROUND(Source!AE25*Source!I25, 2))), 2) -> 1669.96 | T21: =Source!X25 -> 10003.02 | U21: =ROUND((Source!FY25/100)*((ROUND(Source!AF25*Source!I25, 2)+ROUND(Source!AE25*Source!I25, 2))), 2) -> 1003.66 | V21: =Source!Y25 -> 6062.44
C22: ="Объем: "&Source!I25&"=103,5/"&"100" -> Объем: 1,035=103,5/100
C23: Зарплата | F23: =Source!AO25 -> 1525.29 | G23: =Source!DG25 | H23: =ROUND(Source!AF25*Source!I25, 2) -> 1578.68 | J23: =IF(Source!BA25<> 0, Source!BA25, 1) -> 5.99 | K23: =Source!S25 -> 9456.26 | R23: =H23 -> 1578.68
C24: Эксплуатация машин | F24: =Source!AM25 -> 241.95 | G24: =Source!DE25 | H24: =ROUND(Source!AD25*Source!I25, 2) -> 250.42 | J24: =IF(Source!BB25<> 0, Source!BB25, 1) -> 5.99 | K24: =Source!Q25 -> 1500.01
C25: в т.ч. зарплата машинистов | F25: =Source!AN25 -> 104.49 | G25: =Source!DF25 | H25: =ROUND(Source!AE25*Source!I25, 2) -> 108.15 | J25: =IF(Source!BS25<> 0, Source!BS25, 1) -> 5.99 | K25: =Source!R25 -> 647.8 | R25: =H25 -> 108.15
C26: НР от ФОТ | D26: % | E26: =Source!BZ25 -> 110 | F26: =CONCATENATE(" )", Source!DL25, Source!FT25, "=", Source!FX25) -> )*0,9=99 | H26: =SUM(S21:S28) -> 1669.96 | J26: =Source!AT25 -> 99 | K26: =SUM(T21:T28) -> 10003.02
C27: СП от ФОТ | D27: % | E27: =Source!CA25 -> 70 | F27: =CONCATENATE(" )", Source!DM25, Source!FU25, "=", Source!FY25) -> )*0,85=59,5 | H27: =SUM(U21:U28) -> 1003.66 | J27: =Source!AU25 -> 60 | K27: =SUM(V21:V28) -> 6062.44
C28: Затраты труда | D28: чел-ч | E28: =Source!AQ25 -> 188.54 | G28: =Source!DI25 | L28: =Source!U25 -> 195.1389
G29: =H23+H24+H26+H27 -> 4502.72 | J29: =K23+K24+K26+K27 -> 27021.73 | L29: =Source!U25 -> 195.1389 | O29: =G29 -> 4502.72 | P29: =J29 -> 27021.73 | Q29: =L29 -> 195.1389 | W29: =IF(Source!BI25<=1,H23+H24+H26+H27, 0) -> 4502.72 | X29: =IF(Source!BI25=2,H23+H24+H26+H27, 0) -> 0 | Y29: =IF(Source!BI25=3,H23+H24+H26+H27, 0) -> 0 | Z29: =IF(Source!BI25=4,H23+H24+H26+H27, 0) -> 0
A30: =Source!E27 -> 2 | B30: =Source!F27 -> 10-01-034-08 | C30: =Source!G27 -> Установка в жилых и общественных зданиях оконных блоков из ПВХ профилей поворотных (откидных, поворотно-откидных) с площадью проема более 2 м2 трехстворчатых, в том числе при наличии створок глухого остекления | D30: =Source!H27 -> 100 м2 | E30: =Source!I27 -> 1.035 | F30: =Source!AL27+Source!AM27+Source!AO27 -> 10107.89 | I30: =Source!BO27 | S30: =ROUND((Source!FX27/100)*((ROUND(Source!AF27*Source!I27, 2)+ROUND(Source!AE27*Source!I27, 2))), 2) -> 1488.25 | T30: =Source!X27 -> 8897.86 | U30: =ROUND((Source!FY27/100)*((ROUND(Source!AF27*Source!I27, 2)+ROUND(Source!AE27*Source!I27, 2))), 2) -> 750.43 | V30: =Source!Y27 -> 4532.87
C31: ="Объем: "&Source!I27&"=103,5/"&"100" -> Объем: 1,035=103,5/100
C32: Зарплата | F32: =Source!AO27 -> 1303.66 | G32: =Source!DG27 | H32: =ROUND(Source!AF27*Source!I27, 2) -> 1349.29 | J32: =IF(Source!BA27<> 0, Source!BA27, 1) -> 5.99 | K32: =Source!S27 -> 8082.24 | R32: =H32 -> 1349.29
C33: Эксплуатация машин | F33: =Source!AM27 -> 255.21 | G33: =Source!DE27 | H33: =ROUND(Source!AD27*Source!I27, 2) -> 264.14 | J33: =IF(Source!BB27<> 0, Source!BB27, 1) -> 5.99 | K33: =Source!Q27 -> 1582.21
C34: в т.ч. зарплата машинистов | F34: =Source!AN27 -> 50.32 | G34: =Source!DF27 | H34: =ROUND(Source!AE27*Source!I27, 2) -> 52.08 | J34: =IF(Source!BS27<> 0, Source!BS27, 1) -> 5.99 | K34: =Source!R27 -> 311.97 | R34: =H34 -> 52.08
C35: Материальные ресурсы | F35: =Source!AL27 -> 8549.02 | G35: =Source!DD27 | H35: =ROUND(Source!AC27*Source!I27, 2) -> 8848.24 | J35: =IF(Source!BC27<> 0, Source!BC27, 1) -> 5.99 | K35: =Source!P27 -> 53000.93
C36: НР от ФОТ | D36: % | E36: =Source!BZ27 -> 118 | F36: =CONCATENATE(" )", Source!DL27, Source!FT27, "=", Source!FX27) -> )*0,9=106,2 | H36: =SUM(S30:S40) -> 1488.25 | J36: =Source!AT27 -> 106 | K36: =SUM(T30:T40) -> 8897.86
C37: СП от ФОТ | D37: % | E37: =Source!CA27 -> 63 | F37: =CONCATENATE(" )", Source!DM27, Source!FU27, "=", Source!FY27) -> )*0,85=53,55 | H37: =SUM(U30:U40) -> 750.43 | J37: =Source!AU27 -> 54 | K37: =SUM(V30:V40) -> 4532.87
C38: Затраты труда | D38: чел-ч | E38: =Source!AQ27 -> 149.16 | G38: =Source!DI27 | L38: =Source!U27 -> 154.3806
A39: =Source!E29 -> 2,1 | B39: =Source!F29 -> 11.3.02.03 | C39: =Source!G29 -> Блоки оконные пластиковые | D39: =Source!H29 -> м2 | E39: =Source!I29 -> 103.5 | F39: =Source!AL29+Source!AM29+Source!AO29 -> 0 | H39: =ROUND(Source!AC29*Source!I29, 2)+ROUND(Source!AD29*Source!I29, 2)+ROUND(Source!AF29*Source!I29, 2) -> 0 | J39: =IF(Source!BC29<> 0, Source!BC29, 1) -> 5.99 | K39: =Source!O29 -> 0 | S39: =ROUND((Source!FX29/100)*((ROUND(Source!AF29*Source!I29, 2)+ROUND(Source!AE29*Source!I29, 2))), 2) -> 0 | T39: =Source!X29 -> 0 | U39: =ROUND((Source!FY29/100)*((ROUND(Source!AF29*Source!I29, 2)+ROUND(Source!AE29*Source!I29, 2))), 2) -> 0 | V39: =Source!Y29 -> 0 | W39: =IF(Source!BI29<=1,H39, 0) -> 0 | X39: =IF(Source!BI29=2,H39, 0) -> 0 | Y39: =IF(Source!BI29=3,H39, 0) -> 0 | Z39: =IF(Source!BI29=4,H39, 0) -> 0
A40: =Source!E31 -> 2,2 | B40: =Source!F31 -> 11.3.02.01-0021 | C40: =Source!G31 -> Блок оконный пластиковый с 6-ю глухими створками остекления, с 2-мя поворотно-откидными створками, 5-ти камерным стеклопакетом (42 мм), площадью более 3,5 м2 | D40: =Source!H31 -> м2 | E40: =Source!I31 -> 103.5 | F40: =Source!AL31+Source!AM31+Source!AO31 -> 2074.38 | H40: =ROUND(Source!AC31*Source!I31, 2)+ROUND(Source!AD31*Source!I31, 2)+ROUND(Source!AF31*Source!I31, 2) -> 214698.33 | J40: =IF(Source!BC31<> 0, Source!BC31, 1) -> 5.99 | K40: =Source!O31 -> 1286043 | S40: =ROUND((Source!FX31/100)*((ROUND(Source!AF31*Source!I31, 2)+ROUND(Source!AE31*Source!I31, 2))), 2) -> 0 | T40: =Source!X31 -> 0 | U40: =ROUND((Source!FY31/100)*((ROUND(Source!AF31*Source!I31, 2)+ROUND(Source!AE31*Source!I31, 2))), 2) -> 0 | V40: =Source!Y31 -> 0 | W40: =IF(Source!BI31<=1,H40, 0) -> 214698.33 | X40: =IF(Source!BI31=2,H40, 0) -> 0 | Y40: =IF(Source!BI31=3,H40, 0) -> 0 | Z40: =IF(Source!BI31=4,H40, 0) -> 0
G41: =H32+H33+H35+H36+H37+SUM(H39:H40) -> 227398.68 | J41: =K32+K33+K35+K36+K37+SUM(K39:K40) -> 1362139.1 | L41: =Source!U27 -> 154.3806 | O41: =G41 -> 227398.68 | P41: =J41 -> 1362139.1 | Q41: =L41 -> 154.3806 | W41: =IF(Source!BI27<=1,H32+H33+H35+H36+H37, 0) -> 12700.35 | X41: =IF(Source!BI27=2,H32+H33+H35+H36+H37, 0) -> 0 | Y41: =IF(Source!BI27=3,H32+H33+H35+H36+H37, 0) -> 0 | Z41: =IF(Source!BI27=4,H32+H33+H35+H36+H37, 0) -> 0
A42: =Source!E33 -> 3 | B42: =Source!F33 -> 10-01-035-03 | C42: =Source!G33 -> Установка подоконных досок из ПВХ в каменных стенах толщиной свыше 0,51 м | D42: =Source!H33 -> 100 м | E42: =Source!I33 -> 0.207 | F42: =Source!AL33+Source!AM33+Source!AO33 -> 6481.17 | I42: =Source!BO33 | S42: =ROUND((Source!FX33/100)*((ROUND(Source!AF33*Source!I33, 2)+ROUND(Source!AE33*Source!I33, 2))), 2) -> 41.07 | T42: =Source!X33 -> 245.52 | U42: =ROUND((Source!FY33/100)*((ROUND(Source!AF33*Source!I33, 2)+ROUND(Source!AE33*Source!I33, 2))), 2) -> 20.71 | V42: =Source!Y33 -> 125.07
C43: ="Объем: "&Source!I33&"=20,7/"&"100" -> Объем: 0,207=20,7/100
C44: Зарплата | F44: =Source!AO33 -> 182.37 | G44: =Source!DG33 | H44: =ROUND(Source!AF33*Source!I33, 2) -> 37.75 | J44: =IF(Source!BA33<> 0, Source!BA33, 1) -> 5.99 | K44: =Source!S33 -> 226.13 | R44: =H44 -> 37.75
C45: Эксплуатация машин | F45: =Source!AM33 -> 21.9 | G45: =Source!DE33 | H45: =ROUND(Source!AD33*Source!I33, 2) -> 4.53 | J45: =IF(Source!BB33<> 0, Source!BB33, 1) -> 5.99 | K45: =Source!Q33 -> 27.15
C46: в т.ч. зарплата машинистов | F46: =Source!AN33 -> 4.43 | G46: =Source!DF33 | H46: =ROUND(Source!AE33*Source!I33, 2) -> 0.92 | J46: =IF(Source!BS33<> 0, Source!BS33, 1) -> 5.99 | K46: =Source!R33 -> 5.49 | R46: =H46 -> 0.92
C47: Материальные ресурсы | F47: =Source!AL33 -> 6276.9 | G47: =Source!DD33 | H47: =ROUND(Source!AC33*Source!I33, 2) -> 1299.32 | J47: =IF(Source!BC33<> 0, Source!BC33, 1) -> 5.99 | K47: =Source!P33 -> 7782.92
...

Sheet Акт КС-2 c НР и СП
A1: =Source!B1 -> Smeta.RU (495) 974-1589
E2: Унифицированная форма № КС-2
E3: Утверждена постановлением Госкомстата России
E4: от 11.11.99. № 100
G6: Код
F7: Форма по ОКУД | G7: 0322005
G8: =IF(Source!AT15 <> "", Source!AT15, "")
A9: Инвестор | C9: =IF(Source!BA15 <> "", Source!BA15, IF(Source!AU15 <> "", Source!AU15, "")) | F9: по ОКПО
C10: организация, адрес, телефон, факс | G10: =IF(Source!AK15 <> "", Source!AK15, "")
A11: Заказчик | C11: =IF(Source!AX12<> "", Source!AX12, IF(Source!AJ12 <> "", Source!AJ12, "")) | F11: по ОКПО
C12: организация, адрес, телефон, факс | G12: =IF(Source!AO15 <> "", Source!AO15, "")
A13: Подрядчик | C13: =IF(Source!AY12<> "", Source!AY12, IF(Source!AN12 <> "", Source!AN12, "")) | F13: по ОКПО
C14: организация, адрес, телефон, факс | G14: =IF(Source!CO15 <> "", Source!CO15, "")
A15: Стройка | C15: Капитальный ремонт окооных проемов в библиотекеучебного корпуса ДИТИ НИЯУ МИФИ_ | AE15: Капитальный ремонт окооных проемов в библиотекеучебного корпуса ДИТИ НИЯУ МИФИ_
C16: наименование, адрес | G16: =IF(Source!CP15 <> "", Source!CP15, "")
A17: Объект | C17: =IF(Source!G12<>"Новый объект", Source!G12, "") -> Капитальный ремонт окооных проемов в библиотекеучебного корпуса ДИТИ НИЯУ МИФИ_ | AE17: =IF(Source!G12<>"Новый объект", Source!G12, "") -> Капитальный ремонт окооных проемов в библиотекеучебного корпуса ДИТИ НИЯУ МИФИ_
C18: наименование
D19: Вид деятельности по ОКДП | G19: =IF(Source!CQ15 <> "", Source!CQ15, "")
D20: Договор подряда | F20: номер | G20: =IF(Source!CR15 <> "", Source!CR15, "")
F21: дата | G21: =IF(Source!CS15 <> 0, Source!CS15, "")
F22: Вид операции | G22: =IF(Source!CT15 <> "", Source!CT15, "")
D24: Номер документа | E24: Дата составления | F24: Отчетный период
F25: с | G25: по
D26: =IF(Source!CN15 <> "", Source!CN15, "") | E26: 43123.631
A28: AKT
A29: О ПРИЕМКЕ ВЫПОЛНЕННЫХ РАБОТ
A31: Сметная (договорная) стоимость в соответствии с договором подряда (субподряда) | F31: =(Source!P143/1000) -> 1691.9077 | H31: тыс.руб
A33: Номер | C33: Наименование работ | D33: Номер единичной расценки | E33: Единица измерения | F33: Выполнено работ
A34: по порядку | B34: поз. по смете | F34: Количество | G34: цена за единицу, руб | H34: стоимость, руб
A35: 1 | B35: 2 | C35: 3 | D35: 4 | E35: 5 | F35: 6 | G35: 7 | H35: 8
A37: =CONCATENATE("Локальная смета: ",IF(Source!G20<>"Новая локальная смета", Source!G20, "")) -> Локальная смета:
A38: 1 | B38: =Source!E25 -> 1 | C38: =Source!G25 -> Разборка деревянных заполнений проемов оконных с подоконными досками | D38: =Source!F25 -> 46-04-012-01 | E38: =Source!H25 -> 100 м2 | F38: =Source!I25 -> 1.035 | G38: =Source!AB25 -> 1767.24 | H38: =Source!O25 -> 10956.27 | T38: =Source!O25+Source!X25+Source!Y25 -> 27021.73 | U38: =Source!P25 -> 0 | V38: =Source!S25 -> 9456.26 | W38: =Source!Q25 -> 1500.01 | X38: =Source!R25 -> 647.8 | Y38: =Source!U25 -> 195.1389 | Z38: =Source!V25 -> 8.0109 | AA38: =Source!X25 -> 10003.02 | AB38: =Source!Y25 -> 6062.44
C39: ="Объем: "&Source!I25&"=103,5/"&"100" -> Объем: 1,035=103,5/100
C40: Коэфф. к ОЗП | D40: =Source!BA25 -> 5.99
C41: Коэфф. к эксплуатации машин | D41: =Source!BB25 -> 5.99
C42: Коэфф. к материалам | D42: =Source!BC25 -> 5.99
C43: Коэфф. к ЗПМ | D43: =Source!BS25 -> 5.99
C44: % НР | F44: =Source!BZ25 -> 110 | G44: =(Source!AF25+Source!AE25)*Source!FX25/100 -> 1613.4822 | H44: =Source!X25 -> 10003.02
C45: % НР с поправкой | G45: =CONCATENATE(Source!DL25,Source!FT25, "=", Source!FX25, "%") -> *0,9=99% | H45: =CONCATENATE(Source!AT25) -> 99
C46: % СП | F46: =Source!CA25 -> 70 | G46: =(Source!AF25+Source!AE25)*Source!FY25/100 -> 969.7191 | H46: =Source!Y25 -> 6062.44
...

Sheet Акт КС-2 10 граф
A1: =Source!B1 -> Smeta.RU (495) 974-1589
G2: Унифицированная форма № КС-2
F3: Утверждена постановлением Госкомстата России
G4: от 11.11.99. № 100
I5: Код
H6: Форма по ОКУД | I6: 0322005
I7: =IF(Source!AT15 <> "", Source!AT15, "")
A8: Инвестор | C8: =IF(Source!BA15 <> "", Source!BA15, IF(Source!AU15 <> "", Source!AU15, "")) | H8: по ОКПО
C9: (организация, адрес, телефон, факс) | I9: =IF(Source!AK15 <> "", Source!AK15, "")
A10: Заказчик (Генподрядчик) | D10: =IF(Source!AX12<> "", Source!AX12, IF(Source!AJ12 <> "", Source!AJ12, "")) | H10: по ОКПО
D11: (наименование заказчика, структурного подразделения заказчика) | H11: БЕ | I11: =IF(Source!AO15 <> "", Source!AO15, "")
A12: Подрядчик (Субподрядчик) | D12: =IF(Source!AY12<> "", Source!AY12, IF(Source!AN12 <> "", Source!AN12, "")) | H12: по ОКПО
D13: (организация, адрес, телефон, факс) | H13: БЕ | I13: =IF(Source!CO15 <> "", Source!CO15, "")
A14: Стройка | C14: Капитальный ремонт окооных проемов в библиотекеучебного корпуса ДИТИ НИЯУ МИФИ_ | AC14: Капитальный ремонт окооных проемов в библиотекеучебного корпуса ДИТИ НИЯУ МИФИ_
C15: (наименование, адрес) | I15: =IF(Source!CP15 <> "", Source!CP15, "")
A16: Объект | C16: =IF(Source!G12<>"Новый объект", Source!G12, "") -> Капитальный ремонт окооных проемов в библиотекеучебного корпуса ДИТИ НИЯУ МИФИ_ | H16: Код объекта | AC16: =IF(Source!G12<>"Новый объект", Source!G12, "") -> Капитальный ремонт окооных проемов в библиотекеучебного корпуса ДИТИ НИЯУ МИФИ_
C17: (наименование) | F17: Вид деятельности по ОКДП | I17: =IF(Source!CQ15 <> "", Source!CQ15, "")
E18: Договор подряда(контракт) | H18: номер | I18: =IF(Source!CR15 <> "", Source!CR15, "")
H19: дата | I19: =IF(Source!CS15 <> 0, Source!CS15, "")
H20: Вид операции | I20: =IF(Source!CT15 <> "", Source!CT15, "")
F22: Номер документа | G22: Дата составления | H22: Отчетный период
H23: с | I23: по
F24: =IF(Source!CN15 <> "", Source!CN15, "") | G24: 43123.631
A26: AKT
A27: О ПРИЕМКЕ ВЫПОЛНЕННЫХ РАБОТ
A29: Стоимость строительно-монтажных работ на январь 2000 года | G29: =(Source!F143/1000) -> 282.45546 | I29: тыс. руб.
A30: Стоимость строительно-монтажных работ на январь 2017 года | G30: =(Source!P143/1000) -> 1691.9077 | I30: тыс. руб.
A31: Номер | C31: Шифр расценки и коды ресурсов | D31: Наименование работ и затрат | E31: Единица измерения | F31: Выполнено работ
A32: п/п | B32: Поз. по смете | F32: Количество | G32: Цена за единицу измерения, руб. | H32: Стоимость в ценах на январь 2000 года | I32: Индекс пере-счета | J32: Стоимость в текущих ценах
A33: 1 | B33: 2 | C33: 3 | D33: 4 | E33: 5 | F33: 6 | G33: 7 | H33: 8 | I33: 9 | J33: 10
A35: =CONCATENATE("Локальная смета: ",IF(Source!G20<>"Новая локальная смета", Source!G20, "")) -> Локальная смета:
A36: 1 | B36: =Source!E24 -> 1 | C36: =Source!F24 -> 46-04-012-01 | D36: =Source!G24 -> Разборка деревянных заполнений проемов оконных с подоконными досками | E36: =Source!H24 -> 100 м2 | F36: =Source!I24 -> 1.035 | G36: =IF(Source!AK24<> 0, Source!AK24,Source!AL24 + Source!AM24 + Source!AO24) -> 1767.24 | I36: =Source!BO25 | S36: =Source!X24 -> 1669.96 | T36: =Source!X25 -> 10003.02 | U36: =Source!Y24 -> 1012.1 | V36: =Source!Y25 -> 6062.44
D37: ="Объем: "&Source!I24&"=103,5/"&"100" -> Объем: 1,035=103,5/100
D38: Зарплата рабочих | G38: =Source!AO24 -> 1525.29 | H38: =Source!S24 -> 1578.68 | I38: =IF(Source!BA25<> 0, Source!BA25, 1) -> 5.99 | J38: =Source!S25 -> 9456.26 | R38: =H38 -> 1578.68
D39: Эксплуатация машин | G39: =Source!AM24 -> 241.95 | H39: =Source!Q24 -> 250.42 | I39: =IF(Source!BB25<> 0, Source!BB25, 1) -> 5.99 | J39: =Source!Q25 -> 1500.01
D40: в т.ч. зарплата машинистов | G40: =Source!AN24 -> 104.49 | H40: =Source!R24 -> 108.15 | I40: =IF(Source!BS25<> 0, Source!BS25, 1) -> 5.99 | J40: =Source!R25 -> 647.8 | R40: =H40 -> 108.15
D41: НР от ФОТ | E41: % | G41: =Source!AT24 -> 99 | H41: =SUM(S36:S40) -> 1669.96 | J41: =SUM(T36:T40) -> 10003.02
D42: СП от ФОТ | E42: % | G42: =Source!AU24 -> 60 | H42: =SUM(U36:U41) -> 1012.1 | J42: =SUM(V36:V41) -> 6062.44
D43: ЗТР | E43: чел-ч | F43: =Source!AQ24 -> 188.54 | H43: =Source!U25 -> 195.1389
G44: =Source!P24+Source!Q24+Source!S24+SUM(H41:H42) -> 4511.16 | I44: =Source!P25+Source!Q25+Source!S25+SUM(J41:J42) -> 27021.73 | O44: =G44 -> 4511.16 | P44: =I44 -> 27021.73
...

Sheet Макет форма-3
A1: =Source!B1 -> Smeta.RU (495) 974-1589 | H1: Унифицированная форма № КС-3
H2: Утверждена постановлением Госкомстата России
H3: от 11.11.99. № 100
K4: Коды
I5: Форма по ОКУД | K5: 322001
A6: Инвестор | J6: по ОКПО
C7: организация, адрес, телефон, факс
A8: Заказчик (генподрядчик) | J8: по ОКПО
C9: организация, адрес, телефон, факс
A10: Подрядчик (субподрядчик) | J10: по ОКПО
C11: организация, адрес, телефон, факс
A12: Стройка | J12: по ОКПО
C13: наименование, адрес | H13: Вид деятельности по ОКДП
E14: Договор подряда (контракт) | I14: номер
I15: дата
I16: Вид операции
C19: Номер документа | E19: Дата составления | I19: Отчетный период
I20: с | K20: по
A24: СПРАВКА
A25: СТОИМОСТИ ВЫПОЛНЕННЫХ РАБОТ И ЗАТРАТ
A28: № п/п | B28: Наименование пусковых комплексов, объектов, видов работ, оборудования, затрат | F28: Код | G28: Стоимость выполненных работ и затрат
G29: с начала проведения работ | I29: с начала года по отчетный период включительно | K29: в том числе за отчетный месяц
A33: 1 | B33: 2 | F33: 3 | G33: 4 | I33: 5 | K33: 6
B34: Всего работ и затрат, включаемых в стоимость
B35: В том числе:
A36: Итого
A37: Сумма НДС
A38: Всего с учетом НДС
A42: Заказчик (генподрядчик)
C43: должность | G43: подпись | J43: расшифровка подпись
A45: МП
A49: Подрядчик (субподрядчик)
C50: должность | G50: подпись | J50: расшифровка подпись
A52: МП

Sheet Source
A1: 0 | B1: Smeta.RU (495) 974-1589 | D1: _PS_ | F1: 0 | G1: 0 | H1: 0 | I1: Smeta.RU | J1: НИЯУ МИФИ Доп. раб. место MCCS-0027251 | K1: 0 | L1: 27251 | M1: 10
A12: 1 | B12: 174 | C12: 0 | D12: =ROW(A108) -> 108 | E12: 0 | F12: Новый объект_(Копия)_(Копия) | G12: Капитальный ремонт окооных проемов в библиотекеучебного корпуса ДИТИ НИЯУ МИФИ_ | I12: 0 | K12: 0 | O12: 0 | P12: 0 | Q12: 0 | R12: 0 | S12: 0 | V12: 0 | BH12: Сметные нормы списания | BI12: Коды ценников | BJ12: 1 | BK12: 1 | BL12: 0 | BM12: 0 | BN12: 1 | BO12: 0 | BP12: 6 | BQ12: 2 | BR12: 1 | BS12: 1 | BT12: 0 | BU12: 0 | BV12: 0 | BW12: 0 | BX12: 0 | BY12: ФЕР-2017 | BZ12: ТР для Версии 10: Центральные регионы (с учетом п-ма 2536-ИП/12/ГС от 22.03.2017 г | CA12: ФЕР-2017 | CB12: ФЕР-2017 | CC12: ФЕР-2017 | CD12: ФЕР-2017 | CE12: Поправки для ГСН 2017 от 31.03.2017 г | CF12: 0 | CG12: 0 | CH12: 524296 | CK12: 0 | EC12: 0
A15: 15 | B15: 1
A18: 52 | B18: =B108 -> 174 | C18: =C108 -> 1 | D18: =D108 -> 12 | E18: =E108 -> 0 | F18: =F108 -> Новый объект_(Копия)_(Копия) | G18: =G108 -> Капитальный ремонт окооных проемов в библиотекеучебного корпуса ДИТИ НИЯУ МИФИ_ | O18: =O108 -> 232998.25 | P18: =P108 -> 228447.37 | Q18: =Q108 -> 529.56 | R18: =R108 -> 164.69 | S18: =S108 -> 4021.32 | T18: =T108 -> 0 | U18: =U108 -> 474.07653 | V18: =V108 -> 12.734424 | ... GX18: =GX108 -> 0
A20: 3 | B20: 1 | D20: =ROW(A71) -> 71 | F20: Новая локальная смета | G20: Новая локальная смета | I20: 0 | K20: 0 | V20: 0 | BX20: 0 | CF20: 0 | CG20: 0
A22: 52 | B22: =B71 -> 1 | C22: =C71 -> 3 | D22: =D71 -> 20 | E22: =E71 -> 0 | F22: =F71 -> Новая локальная смета | G22: =G71 -> Новая локальная смета | O22: =O71 -> 232998.25 | P22: =P71 -> 228447.37 | Q22: =Q71 -> 529.56 | R22: =R71 -> 164.69 | S22: =S71 -> 4021.32 | T22: =T71 -> 0 | U22: =U71 -> 474.07653 | V22: =V71 -> 12.734424 | ... GX22: =GX71 -> 0
A24: 17 | B24: 1 | C24: =ROW(SmtRes!A3) -> 3 | D24: =ROW(EtalonRes!A3) -> 3 | E24: 1 | F24: 46-04-012-01 | G24: Разборка деревянных заполнений проемов оконных с подоконными досками | H24: 100 м2 | I24: =ROUND(103.5/100,9) -> 1.035 | J24: 0 | O24: =ROUND(CP24,2) -> 1829.1 | P24: =ROUND(CQ24*I24,2) -> 0 | Q24: =ROUND(CR24*I24,2) -> 250.42 | R24: =ROUND(CS24*I24,2) -> 108.15 | S24: =ROUND(CT24*I24,2) -> 1578.68 | T24: =ROUND(CU24*I24,2) -> 0 | U24: =CV24*I24 -> 195.1389 | V24: =CW24*I24 -> 8.0109 | W24: =ROUND(CX24*I24,2) -> 0 | X24: =ROUND(CY24,2) -> 1669.96 | Y24: =ROUND(CZ24,2) -> 1012.1 | AA24: 16481626 | AB24: =ROUND((AC24+AD24+AF24),6) -> 1767.24 | AC24: =ROUND((ES24),6) -> 0 | AD24: =ROUND((((ET24)-(EU24))+AE24),6) -> 241.95 | AE24: =ROUND((EU24),6) -> 104.49 | AF24: =ROUND((EV24),6) -> 1525.29 | AG24: =ROUND((AP24),6) -> 0 | AH24: =(EW24) -> 188.54 | AI24: =(EX24) -> 7.74 | AJ24: =ROUND((AS24),6) -> 0 | AK24: 1767.24 | AL24: 0 | AM24: 241.95 | AN24: 104.49 | AO24: 1525.29 | AP24: 0 | AQ24: 188.54 | AR24: 7.74 | AS24: 0 | AT24: 99 | AU24: 60 | AV24: 1 | AW24: 1 | AZ24: 1 | BA24: 1 | BB24: 1 | BC24: 1 | BH24: 0 | BI24: 1 | BJ24: ФЕР-2001, 46-04-012-01, приказ Минстроя России №1039/пр от 30.12.2016г. | BM24: 46001 | BN24: 0 | BP24: 0 | BQ24: 2 | BR24: 0 | BS24: 1 | BT24: 1 | BU24: 1 | BV24: 1 | BW24: 1 | BX24: 1 | BZ24: 110 | CA24: 70 | CF24: 0 | CG24: 0 | CM24: 0 | CO24: 0 | CP24: =(P24+Q24+S24) -> 1829.1 | CQ24: =AC24*BC24 -> 0 | CR24: =AD24*BB24 -> 241.95 | CS24: =AE24*BS24 -> 104.49 | CT24: =AF24*BA24 -> 1525.29 | CU24: =AG24 -> 0 | CV24: =AH24 -> 188.54 | CW24: =AI24 -> 7.74 | CX24: =AJ24 -> 0 | CY24: =(((S24+R24)*AT24)/100) -> 1669.9617 | CZ24: =(((S24+R24)*AU24)/100) -> 1012.098 | DN24: 0 | DO24: 0 | DP24: 1 | DQ24: 1 | DU24: 1005 | DV24: 100 м2 | DW24: 100 м2 | DX24: 100 | EE24: 15139168 | EF24: 2 | EG24: Общестроительные работы | EH24: 0 | EJ24: 1 | EK24: 46001 | EL24: Реконструкция зданий и сооружений | EM24: ФЕР-46 | EQ24: 0 | ER24: 1767.24 | ES24: 0 | ET24: 241.95 | EU24: 104.49 | EV24: 1525.29 | EW24: 188.54 | EX24: 7.74 | EY24: 0 | FQ24: 0 | FR24: =ROUND(IF(AND(BH24=3,BI24=3),P24,0),2) -> 0 | FS24: 0 | FT24: *0,9 | FU24: *0,85 | FX24: 99 | FY24: 59.5 | GD24: 0 | GF24: 1630687704 | GG24: 2 | GH24: 1 | GI24: -2 | GJ24: 0 | GK24: =ROUND(R24*(R12)/100,2) -> 0 | GL24: =ROUND(IF(AND(BH24=3,BI24=3,FS24<>0),P24,0),2) -> 0 | GM24: =ROUND(O24+X24+Y24+GK24,2)+GX24 -> 4511.16 | GN24: =IF(OR(BI24=0,BI24=1),ROUND(O24+X24+Y24+GK24,2),0) -> 4511.16 | GO24: =IF(BI24=2,ROUND(O24+X24+Y24+GK24,2),0) -> 0 | GP24: =IF(BI24=4,ROUND(O24+X24+Y24+GK24,2)+GX24,0) -> 0 | GR24: 0 | GS24: 3 | GT24: 0 | GV24: =ROUND(GT24,6) -> 0 | GW24: 1 | GX24: =ROUND(GV24*GW24*I24,2) -> 0 | HA24: 0 | HB24: 0 | IK24: 0
A25: 17 | B25: 1 | C25: =ROW(SmtRes!A6) -> 6 | D25: =ROW(EtalonRes!A6) -> 6 | E25: 1 | F25: 46-04-012-01 | G25: Разборка деревянных заполнений проемов оконных с подоконными досками | H25: 100 м2 | I25: =ROUND(103.5/100,9) -> 1.035 | J25: 0 | O25: =ROUND(CP25,2) -> 10956.27 | P25: =ROUND(CQ25*I25,2) -> 0 | Q25: =ROUND(CR25*I25,2) -> 1500.01 | R25: =ROUND(CS25*I25,2) -> 647.8 | S25: =ROUND(CT25*I25,2) -> 9456.26 | T25: =ROUND(CU25*I25,2) -> 0 | U25: =CV25*I25 -> 195.1389 | V25: =CW25*I25 -> 8.0109 | W25: =ROUND(CX25*I25,2) -> 0 | X25: =ROUND(CY25,2) -> 10003.02 | Y25: =ROUND(CZ25,2) -> 6062.44 | AA25: 16481627 | AB25: =ROUND((AC25+AD25+AF25),6) -> 1767.24 | AC25: =ROUND((ES25),6) -> 0 | AD25: =ROUND((((ET25)-(EU25))+AE25),6) -> 241.95 | AE25: =ROUND((EU25),6) -> 104.49 | AF25: =ROUND((EV25),6) -> 1525.29 | AG25: =ROUND((AP25),6) -> 0 | AH25: =(EW25) -> 188.54 | AI25: =(EX25) -> 7.74 | AJ25: =ROUND((AS25),6) -> 0 | AK25: 1767.24 | AL25: 0 | AM25: 241.95 | AN25: 104.49 | AO25: 1525.29 | AP25: 0 | AQ25: 188.54 | AR25: 7.74 | AS25: 0 | AT25: 99 | AU25: 60 | AV25: 1 | AW25: 1 | AZ25: 5.99 | BA25: 5.99 | BB25: 5.99 | BC25: 5.99 | BH25: 0 | BI25: 1 | BJ25: ФЕР-2001, 46-04-012-01, приказ Минстроя России №1039/пр от 30.12.2016г. | BM25: 46001 | BN25: 0 | BP25: 0 | BQ25: 2 | BR25: 0 | BS25: 5.99 | BT25: 1 | BU25: 1 | BV25: 1 | BW25: 1 | BX25: 1 | BZ25: 110 | CA25: 70 | CF25: 0 | CG25: 0 | CM25: 0 | CO25: 0 | CP25: =(P25+Q25+S25) -> 10956.27 | CQ25: =AC25*BC25 -> 0 | CR25: =AD25*BB25 -> 1449.2805 | CS25: =AE25*BS25 -> 625.8951 | CT25: =AF25*BA25 -> 9136.4871 | CU25: =AG25 -> 0 | CV25: =AH25 -> 188.54 | CW25: =AI25 -> 7.74 | CX25: =AJ25 -> 0 | CY25: =(((S25+R25)*AT25)/100) -> 10003.019 | CZ25: =(((S25+R25)*AU25)/100) -> 6062.436 | DN25: 0 | DO25: 0 | DP25: 1 | DQ25: 1 | DU25: 1005 | DV25: 100 м2 | DW25: 100 м2 | DX25: 100 | EE25: 15139168 | EF25: 2 | EG25: Общестроительные работы | EH25: 0 | EJ25: 1 | EK25: 46001 | EL25: Реконструкция зданий и сооружений | EM25: ФЕР-46 | EQ25: 0 | ER25: 1767.24 | ES25: 0 | ET25: 241.95 | EU25: 104.49 | EV25: 1525.29 | EW25: 188.54 | EX25: 7.74 | EY25: 0 | FQ25: 0 | FR25: =ROUND(IF(AND(BH25=3,BI25=3),P25,0),2) -> 0 | FS25: 0 | FT25: *0,9 | FU25: *0,85 | FX25: 99 | FY25: 59.5 | GD25: 0 | GF25: 1630687704 | GG25: 1 | GH25: 1 | GI25: 4 | GJ25: 0 | GK25: =ROUND(R25*(S12)/100,2) -> 0 | GL25: =ROUND(IF(AND(BH25=3,BI25=3,FS25<>0),P25,0),2) -> 0 | GM25: =ROUND(O25+X25+Y25+GK25,2)+GX25 -> 27021.73 | GN25: =IF(OR(BI25=0,BI25=1),ROUND(O25+X25+Y25+GK25,2),0) -> 27021.73 | GO25: =IF(BI25=2,ROUND(O25+X25+Y25+GK25,2),0) -> 0 | GP25: =IF(BI25=4,ROUND(O25+X25+Y25+GK25,2)+GX25,0) -> 0 | GR25: 0 | GS25: 3 | GT25: 0 | GV25: =ROUND(GT25,6) -> 0 | GW25: 1 | GX25: =ROUND(GV25*GW25*I25,2) -> 0 | HA25: 0 | HB25: 0 | IK25: 0
A26: 17 | B26: 1 | C26: =ROW(SmtRes!A18) -> 18 | D26: =ROW(EtalonRes!A17) -> 17 | E26: 2 | F26: 10-01-034-08 | G26: Установка в жилых и общественных зданиях оконных блоков из ПВХ профилей поворотных (откидных, поворотно-откидных) с площадью проема более 2 м2 трехстворчатых, в том числе при наличии створок глухого остекления | H26: 100 м2 | I26: =ROUND(103.5/100,9) -> 1.035 | J26: 0 | O26: =ROUND(CP26,2) -> 10461.67 | P26: =ROUND(CQ26*I26,2) -> 8848.24 | Q26: =ROUND(CR26*I26,2) -> 264.14 | R26: =ROUND(CS26*I26,2) -> 52.08 | S26: =ROUND(CT26*I26,2) -> 1349.29 | T26: =ROUND(CU26*I26,2) -> 0 | U26: =CV26*I26 -> 154.3806 | V26: =CW26*I26 -> 4.37805 | W26: =ROUND(CX26*I26,2) -> 0 | X26: =ROUND(CY26,2) -> 1485.45 | Y26: =ROUND(CZ26,2) -> 756.74 | AA26: 16481626 | AB26: =ROUND((AC26+AD26+AF26),6) -> 10107.89 | AC26: =ROUND((ES26),6) -> 8549.02 | AD26: =ROUND((((ET26)-(EU26))+AE26),6) -> 255.21 | AE26: =ROUND((EU26),6) -> 50.32 | AF26: =ROUND((EV26),6) -> 1303.66 | AG26: =ROUND((AP26),6) -> 0 | AH26: =(EW26) -> 149.16 | AI26: =(EX26) -> 4.23 | AJ26: =ROUND((AS26),6) -> 0 | AK26: 10107.89 | AL26: 8549.02 | AM26: 255.21 | AN26: 50.32 | AO26: 1303.66 | AP26: 0 | AQ26: 149.16 | AR26: 4.23 | AS26: 0 | AT26: 106 | AU26: 54 | AV26: 1 | AW26: 1 | AZ26: 1 | BA26: 1 | BB26: 1 | BC26: 1 | BH26: 0 | BI26: 1 | BJ26: ФЕР-2001, 10-01-034-08, приказ Минстроя России №1039/пр от 30.12.2016г. | BM26: 10001 | BN26: 0 | BP26: 0 | BQ26: 2 | BR26: 0 | BS26: 1 | BT26: 1 | BU26: 1 | BV26: 1 | BW26: 1 | BX26: 1 | BZ26: 118 | CA26: 63 | CF26: 0 | CG26: 0 | CM26: 0 | CO26: 0 | CP26: =(P26+Q26+S26) -> 10461.67 | CQ26: =AC26*BC26 -> 8549.02 | CR26: =AD26*BB26 -> 255.21 | CS26: =AE26*BS26 -> 50.32 | CT26: =AF26*BA26 -> 1303.66 | CU26: =AG26 -> 0 | CV26: =AH26 -> 149.16 | CW26: =AI26 -> 4.23 | CX26: =AJ26 -> 0 | CY26: =(((S26+R26)*AT26)/100) -> 1485.4522 | CZ26: =(((S26+R26)*AU26)/100) -> 756.7398 | DN26: 0 | DO26: 0 | DP26: 1 | DQ26: 1 | DU26: 1005 | DV26: 100 м2 | DW26: 100 м2 | DX26: 100 | EE26: 15139100 | EF26: 2 | EG26: Общестроительные работы | EH26: 0 | EJ26: 1 | EK26: 10001 | EL26: Деревянные конструкции | EM26: ФЕР-10 | EQ26: 0 | ER26: 10107.89 | ES26: 8549.02 | ET26: 255.21 | EU26: 50.32 | EV26: 1303.66 | EW26: 149.16 | EX26: 4.23 | EY26: 0 | FQ26: 0 | FR26: =ROUND(IF(AND(BH26=3,BI26=3),P26,0),2) -> 0 | FS26: 0 | FT26: *0,9 | FU26: *0,85 | FX26: 106.2 | FY26: 53.55 | GD26: 0 | GF26: -330529066 | GG26: 2 | GH26: 1 | GI26: -2 | GJ26: 0 | GK26: =ROUND(R26*(R12)/100,2) -> 0 | GL26: =ROUND(IF(AND(BH26=3,BI26=3,FS26<>0),P26,0),2) -> 0 | GM26: =ROUND(O26+X26+Y26+GK26,2)+GX26 -> 12703.86 | GN26: =IF(OR(BI26=0,BI26=1),ROUND(O26+X26+Y26+GK26,2),0) -> 12703.86 | GO26: =IF(BI26=2,ROUND(O26+X26+Y26+GK26,2),0) -> 0 | GP26: =IF(BI26=4,ROUND(O26+X26+Y26+GK26,2)+GX26,0) -> 0 | GR26: 0 | GS26: 3 | GT26: 0 | GV26: =ROUND(GT26,6) -> 0 | GW26: 1 | GX26: =ROUND(GV26*GW26*I26,2) -> 0 | HA26: 0 | HB26: 0 | IK26: 0
A27: 17 | B27: 1 | C27: =ROW(SmtRes!A30) -> 30 | D27: =ROW(EtalonRes!A28) -> 28 | E27: 2 | F27: 10-01-034-08 | G27: Установка в жилых и общественных зданиях оконных блоков из ПВХ профилей поворотных (откидных, поворотно-откидных) с площадью проема более 2 м2 трехстворчатых, в том числе при наличии створок глухого остекления | H27: 100 м2 | I27: =ROUND(103.5/100,9) -> 1.035 | J27: 0 | O27: =ROUND(CP27,2) -> 62665.38 | P27: =ROUND(CQ27*I27,2) -> 53000.93 | Q27: =ROUND(CR27*I27,2) -> 1582.21 | R27: =ROUND(CS27*I27,2) -> 311.97 | S27: =ROUND(CT27*I27,2) -> 8082.24 | T27: =ROUND(CU27*I27,2) -> 0 | U27: =CV27*I27 -> 154.3806 | V27: =CW27*I27 -> 4.37805 | W27: =ROUND(CX27*I27,2) -> 0 | X27: =ROUND(CY27,2) -> 8897.86 | Y27: =ROUND(CZ27,2) -> 4532.87 | AA27: 16481627 | AB27: =ROUND((AC27+AD27+AF27),6) -> 10107.89 | AC27: =ROUND((ES27),6) -> 8549.02 | AD27: =ROUND((((ET27)-(EU27))+AE27),6) -> 255.21 | AE27: =ROUND((EU27),6) -> 50.32 | AF27: =ROUND((EV27),6) -> 1303.66 | AG27: =ROUND((AP27),6) -> 0 | AH27: =(EW27) -> 149.16 | AI27: =(EX27) -> 4.23 | AJ27: =ROUND((AS27),6) -> 0 | AK27: 10107.89 | AL27: 8549.02 | AM27: 255.21 | AN27: 50.32 | AO27: 1303.66 | AP27: 0 | AQ27: 149.16 | AR27: 4.23 | AS27: 0 | AT27: 106 | AU27: 54 | AV27: 1 | AW27: 1 | AZ27: 5.99 | BA27: 5.99 | BB27: 5.99 | BC27: 5.99 | BH27: 0 | BI27: 1 | BJ27: ФЕР-2001, 10-01-034-08, приказ Минстроя России №1039/пр от 30.12.2016г. | BM27: 10001 | BN27: 0 | BP27: 0 | BQ27: 2 | BR27: 0 | BS27: 5.99 | BT27: 1 | BU27: 1 | BV27: 1 | BW27: 1 | BX27: 1 | BZ27: 118 | CA27: 63 | CF27: 0 | CG27: 0 | CM27: 0 | CO27: 0 | CP27: =(P27+Q27+S27) -> 62665.38 | CQ27: =AC27*BC27 -> 51208.63 | CR27: =AD27*BB27 -> 1528.7079 | CS27: =AE27*BS27 -> 301.4168 | CT27: =AF27*BA27 -> 7808.9234 | CU27: =AG27 -> 0 | CV27: =AH27 -> 149.16 | CW27: =AI27 -> 4.23 | CX27: =AJ27 -> 0 | CY27: =(((S27+R27)*AT27)/100) -> 8897.8626 | CZ27: =(((S27+R27)*AU27)/100) -> 4532.8734 | DN27: 0 | DO27: 0 | DP27: 1 | DQ27: 1 | DU27: 1005 | DV27: 100 м2 | DW27: 100 м2 | DX27: 100 | EE27: 15139100 | EF27: 2 | EG27: Общестроительные работы | EH27: 0 | EJ27: 1 | EK27: 10001 | EL27: Деревянные конструкции | EM27: ФЕР-10 | EQ27: 0 | ER27: 10107.89 | ES27: 8549.02 | ET27: 255.21 | EU27: 50.32 | EV27: 1303.66 | EW27: 149.16 | EX27: 4.23 | EY27: 0 | FQ27: 0 | FR27: =ROUND(IF(AND(BH27=3,BI27=3),P27,0),2) -> 0 | FS27: 0 | FT27: *0,9 | FU27: *0,85 | FX27: 106.2 | FY27: 53.55 | GD27: 0 | GF27: -330529066 | GG27: 1 | GH27: 1 | GI27: 4 | GJ27: 0 | GK27: =ROUND(R27*(S12)/100,2) -> 0 | GL27: =ROUND(IF(AND(BH27=3,BI27=3,FS27<>0),P27,0),2) -> 0 | GM27: =ROUND(O27+X27+Y27+GK27,2)+GX27 -> 76096.11 | GN27: =IF(OR(BI27=0,BI27=1),ROUND(O27+X27+Y27+GK27,2),0) -> 76096.11 | GO27: =IF(BI27=2,ROUND(O27+X27+Y27+GK27,2),0) -> 0 | GP27: =IF(BI27=4,ROUND(O27+X27+Y27+GK27,2)+GX27,0) -> 0 | GR27: 0 | GS27: 3 | GT27: 0 | GV27: =ROUND(GT27,6) -> 0 | GW27: 1 | GX27: =ROUND(GV27*GW27*I27,2) -> 0 | HA27: 0 | HB27: 0 | IK27: 0
A28: 18 | B28: 1 | C28: 16 | E28: 2,1 | F28: 11.3.02.03 | G28: Блоки оконные пластиковые | H28: м2 | I28: =I26*J28 -> 103.5 | J28: 100 | O28: =ROUND(CP28,2) -> 0 | P28: =ROUND(CQ28*I28,2) -> 0 | Q28: =ROUND(CR28*I28,2) -> 0 | R28: =ROUND(CS28*I28,2) -> 0 | S28: =ROUND(CT28*I28,2) -> 0 | T28: =ROUND(CU28*I28,2) -> 0 | U28: =CV28*I28 -> 0 | V28: =CW28*I28 -> 0 | W28: =ROUND(CX28*I28,2) -> 0 | X28: =ROUND(CY28,2) -> 0 | Y28: =ROUND(CZ28,2) -> 0 | AA28: 16481626 | AB28: =ROUND((AC28+AD28+AF28),6) -> 0 | AC28: =ROUND((ES28),6) -> 0 | AD28: =ROUND((((ET28)-(EU28))+AE28),6) -> 0 | AE28: =ROUND((EU28),6) -> 0 | AF28: =ROUND((EV28),6) -> 0 | AG28: =ROUND((AP28),6) -> 0 | AH28: =(EW28) -> 0 | AI28: =(EX28) -> 0 | AJ28: =ROUND((AS28),6) -> 0 | AK28: 0 | AL28: 0 | AM28: 0 | AN28: 0 | AO28: 0 | AP28: 0 | AQ28: 0 | AR28: 0 | AS28: 0 | AT28: 106 | AU28: 54 | AV28: 1 | AW28: 1 | AZ28: 1 | BA28: 1 | BB28: 1 | BC28: 1 | BH28: 3 | BI28: 1 | BM28: 10001 | BN28: 0 | BP28: 0 | BQ28: 2 | BR28: 0 | BS28: 1 | BT28: 1 | BU28: 1 | BV28: 1 | BW28: 1 | BX28: 1 | BZ28: 118 | CA28: 63 | CF28: 0 | CG28: 0 | CM28: 0 | CO28: 0 | CP28: =(P28+Q28+S28) -> 0 | CQ28: =AC28*BC28 -> 0 | CR28: =AD28*BB28 -> 0 | CS28: =AE28*BS28 -> 0 | CT28: =AF28*BA28 -> 0 | CU28: =AG28 -> 0 | CV28: =AH28 -> 0 | CW28: =AI28 -> 0 | CX28: =AJ28 -> 0 | CY28: =(((S28+R28)*AT28)/100) -> 0 | CZ28: =(((S28+R28)*AU28)/100) -> 0 | DN28: 0 | DO28: 0 | DP28: 1 | DQ28: 1 | DU28: 1005 | DV28: м2 | DW28: м2 | DX28: 1 | EE28: 15139100 | EF28: 2 | EG28: Общестроительные работы | EH28: 0 | EJ28: 1 | EK28: 10001 | EL28: Деревянные конструкции | EM28: ФЕР-10 | EQ28: 0 | ER28: 0 | ES28: 0 | ET28: 0 | EU28: 0 | EV28: 0 | EW28: 0 | EX28: 0 | FQ28: 0 | FR28: =ROUND(IF(AND(BH28=3,BI28=3),P28,0),2) -> 0 | FS28: 0 | FT28: *0,9 | FU28: *0,85 | FX28: 106.2 | FY28: 53.55 | GD28: 0 | GF28: 1219964505 | GG28: 2 | GH28: 1 | GI28: -2 | GJ28: 0 | GK28: =ROUND(R28*(R12)/100,2) -> 0 | GL28: =ROUND(IF(AND(BH28=3,BI28=3,FS28<>0),P28,0),2) -> 0 | GM28: =ROUND(O28+X28+Y28+GK28,2)+GX28 -> 0 | GN28: =IF(OR(BI28=0,BI28=1),ROUND(O28+X28+Y28+GK28,2),0) -> 0 | GO28: =IF(BI28=2,ROUND(O28+X28+Y28+GK28,2),0) -> 0 | GP28: =IF(BI28=4,ROUND(O28+X28+Y28+GK28,2)+GX28,0) -> 0 | GR28: 0 | GS28: 3 | GT28: 0 | GV28: =ROUND(GT28,6) -> 0 | GW28: 1 | GX28: =ROUND(GV28*GW28*I28,2) -> 0 | HA28: 0 | HB28: 0 | IK28: 0
A29: 18 | B29: 1 | C29: 28 | E29: 2,1 | F29: 11.3.02.03 | G29: Блоки оконные пластиковые | H29: м2 | I29: =I27*J29 -> 103.5 | J29: 100 | O29: =ROUND(CP29,2) -> 0 | P29: =ROUND(CQ29*I29,2) -> 0 | Q29: =ROUND(CR29*I29,2) -> 0 | R29: =ROUND(CS29*I29,2) -> 0 | S29: =ROUND(CT29*I29,2) -> 0 | T29: =ROUND(CU29*I29,2) -> 0 | U29: =CV29*I29 -> 0 | V29: =CW29*I29 -> 0 | W29: =ROUND(CX29*I29,2) -> 0 | X29: =ROUND(CY29,2) -> 0 | Y29: =ROUND(CZ29,2) -> 0 | AA29: 16481627 | AB29: =ROUND((AC29+AD29+AF29),6) -> 0 | AC29: =ROUND((ES29),6) -> 0 | AD29: =ROUND((((ET29)-(EU29))+AE29),6) -> 0 | AE29: =ROUND((EU29),6) -> 0 | AF29: =ROUND((EV29),6) -> 0 | AG29: =ROUND((AP29),6) -> 0 | AH29: =(EW29) -> 0 | AI29: =(EX29) -> 0 | AJ29: =ROUND((AS29),6) -> 0 | AK29: 0 | AL29: 0 | AM29: 0 | AN29: 0 | AO29: 0 | AP29: 0 | AQ29: 0 | AR29: 0 | AS29: 0 | AT29: 106 | AU29: 54 | AV29: 1 | AW29: 1 | AZ29: 5.99 | BA29: 1 | BB29: 1 | BC29: 5.99 | BH29: 3 | BI29: 1 | BM29: 10001 | BN29: 0 | BP29: 0 | BQ29: 2 | BR29: 0 | BS29: 1 | BT29: 1 | BU29: 1 | BV29: 1 | BW29: 1 | BX29: 1 | BZ29: 118 | CA29: 63 | CF29: 0 | CG29: 0 | CM29: 0 | CO29: 0 | CP29: =(P29+Q29+S29) -> 0 | CQ29: =AC29*BC29 -> 0 | CR29: =AD29*BB29 -> 0 | CS29: =AE29*BS29 -> 0 | CT29: =AF29*BA29 -> 0 | CU29: =AG29 -> 0 | CV29: =AH29 -> 0 | CW29: =AI29 -> 0 | CX29: =AJ29 -> 0 | CY29: =(((S29+R29)*AT29)/100) -> 0 | CZ29: =(((S29+R29)*AU29)/100) -> 0 | DN29: 0 | DO29: 0 | DP29: 1 | DQ29: 1 | DU29: 1005 | DV29: м2 | DW29: м2 | DX29: 1 | EE29: 15139100 | EF29: 2 | EG29: Общестроительные работы | EH29: 0 | EJ29: 1 | EK29: 10001 | EL29: Деревянные конструкции | EM29: ФЕР-10 | EQ29: 0 | ER29: 0 | ES29: 0 | ET29: 0 | EU29: 0 | EV29: 0 | EW29: 0 | EX29: 0 | FQ29: 0 | FR29: =ROUND(IF(AND(BH29=3,BI29=3),P29,0),2) -> 0 | FS29: 0 | FT29: *0,9 | FU29: *0,85 | FX29: 106.2 | FY29: 53.55 | GD29: 0 | GF29: 1219964505 | GG29: 1 | GH29: 1 | GI29: 4 | GJ29: 0 | GK29: =ROUND(R29*(S12)/100,2) -> 0 | GL29: =ROUND(IF(AND(BH29=3,BI29=3,FS29<>0),P29,0),2) -> 0 | GM29: =ROUND(O29+X29+Y29+GK29,2)+GX29 -> 0 | GN29: =IF(OR(BI29=0,BI29=1),ROUND(O29+X29+Y29+GK29,2),0) -> 0 | GO29: =IF(BI29=2,ROUND(O29+X29+Y29+GK29,2),0) -> 0 | GP29: =IF(BI29=4,ROUND(O29+X29+Y29+GK29,2)+GX29,0) -> 0 | GR29: 0 | GS29: 3 | GT29: 0 | GV29: =ROUND(GT29,6) -> 0 | GW29: 1 | GX29: =ROUND(GV29*GW29*I29,2) -> 0 | HA29: 0 | HB29: 0 | IK29: 0
A30: 18 | B30: 1 | C30: 15 | E30: 2,2 | F30: 11.3.02.01-0021 | G30: Блок оконный пластиковый с 6-ю глухими створками остекления, с 2-мя поворотно-откидными створками, 5-ти камерным стеклопакетом (42 мм), площадью более 3,5 м2 | H30: м2 | I30: =I26*J30 -> 103.5 | J30: 100 | O30: =ROUND(CP30,2) -> 214698.33 | P30: =ROUND(CQ30*I30,2) -> 214698.33 | Q30: =ROUND(CR30*I30,2) -> 0 | R30: =ROUND(CS30*I30,2) -> 0 | S30: =ROUND(CT30*I30,2) -> 0 | T30: =ROUND(CU30*I30,2) -> 0 | U30: =CV30*I30 -> 0 | V30: =CW30*I30 -> 0 | W30: =ROUND(CX30*I30,2) -> 0 | X30: =ROUND(CY30,2) -> 0 | Y30: =ROUND(CZ30,2) -> 0 | AA30: 16481626 | AB30: =ROUND((AC30+AD30+AF30),6) -> 2074.38 | AC30: =ROUND((ES30),6) -> 2074.38 | AD30: =ROUND((((ET30)-(EU30))+AE30),6) -> 0 | AE30: =ROUND((EU30),6) -> 0 | AF30: =ROUND((EV30),6) -> 0 | AG30: =ROUND((AP30),6) -> 0 | AH30: =(EW30) -> 0 | AI30: =(EX30) -> 0 | AJ30: =ROUND((AS30),6) -> 0 | AK30: 2074.38 | AL30: 2074.38 | AM30: 0 | AN30: 0 | AO30: 0 | AP30: 0 | AQ30: 0 | AR30: 0 | AS30: 0 | AT30: 106 | AU30: 54 | AV30: 1 | AW30: 1 | AZ30: 1 | BA30: 1 | BB30: 1 | BC30: 1 | BH30: 3 | BI30: 1 | BJ30: ФССЦ-2001, 11.3.02.01-0021, приказ Минстроя России №1039/пр от 30.12.2016г. | BM30: 10001 | BN30: 0 | BP30: 0 | BQ30: 2 | BR30: 0 | BS30: 1 | BT30: 1 | BU30: 1 | BV30: 1 | BW30: 1 | BX30: 1 | BZ30: 118 | CA30: 63 | CF30: 0 | CG30: 0 | CM30: 0 | CO30: 0 | CP30: =(P30+Q30+S30) -> 214698.33 | CQ30: =AC30*BC30 -> 2074.38 | CR30: =AD30*BB30 -> 0 | CS30: =AE30*BS30 -> 0 | CT30: =AF30*BA30 -> 0 | CU30: =AG30 -> 0 | CV30: =AH30 -> 0 | CW30: =AI30 -> 0 | CX30: =AJ30 -> 0 | CY30: =(((S30+R30)*AT30)/100) -> 0 | CZ30: =(((S30+R30)*AU30)/100) -> 0 | DN30: 0 | DO30: 0 | DP30: 1 | DQ30: 1 | DU30: 1005 | DV30: м2 | DW30: м2 | DX30: 1 | EE30: 15139100 | EF30: 2 | EG30: Общестроительные работы | EH30: 0 | EJ30: 1 | EK30: 10001 | EL30: Деревянные конструкции | EM30: ФЕР-10 | EQ30: 0 | ER30: 2074.38 | ES30: 2074.38 | ET30: 0 | EU30: 0 | EV30: 0 | EW30: 0 | EX30: 0 | FQ30: 0 | FR30: =ROUND(IF(AND(BH30=3,BI30=3),P30,0),2) -> 0 | FS30: 0 | FT30: *0,9 | FU30: *0,85 | FX30: 106.2 | FY30: 53.55 | GD30: 0 | GF30: 2097510584 | GG30: 2 | GH30: 1 | GI30: -2 | GJ30: 0 | GK30: =ROUND(R30*(R12)/100,2) -> 0 | GL30: =ROUND(IF(AND(BH30=3,BI30=3,FS30<>0),P30,0),2) -> 0 | GM30: =ROUND(O30+X30+Y30+GK30,2)+GX30 -> 214698.33 | GN30: =IF(OR(BI30=0,BI30=1),ROUND(O30+X30+Y30+GK30,2),0) -> 214698.33 | GO30: =IF(BI30=2,ROUND(O30+X30+Y30+GK30,2),0) -> 0 | GP30: =IF(BI30=4,ROUND(O30+X30+Y30+GK30,2)+GX30,0) -> 0 | GR30: 0 | GS30: 3 | GT30: 0 | GV30: =ROUND(GT30,6) -> 0 | GW30: 1 | GX30: =ROUND(GV30*GW30*I30,2) -> 0 | HA30: 0 | HB30: 0 | IK30: 0
A31: 18 | B31: 1 | C31: 27 | E31: 2,2 | F31: 11.3.02.01-0021 | G31: Блок оконный пластиковый с 6-ю глухими створками остекления, с 2-мя поворотно-откидными створками, 5-ти камерным стеклопакетом (42 мм), площадью более 3,5 м2 | H31: м2 | I31: =I27*J31 -> 103.5 | J31: 100 | O31: =ROUND(CP31,2) -> 1286043 | P31: =ROUND(CQ31*I31,2) -> 1286043 | Q31: =ROUND(CR31*I31,2) -> 0 | R31: =ROUND(CS31*I31,2) -> 0 | S31: =ROUND(CT31*I31,2) -> 0 | T31: =ROUND(CU31*I31,2) -> 0 | U31: =CV31*I31 -> 0 | V31: =CW31*I31 -> 0 | W31: =ROUND(CX31*I31,2) -> 0 | X31: =ROUND(CY31,2) -> 0 | Y31: =ROUND(CZ31,2) -> 0 | AA31: 16481627 | AB31: =ROUND((AC31+AD31+AF31),6) -> 2074.38 | AC31: =ROUND((ES31),6) -> 2074.38 | AD31: =ROUND((((ET31)-(EU31))+AE31),6) -> 0 | AE31: =ROUND((EU31),6) -> 0 | AF31: =ROUND((EV31),6) -> 0 | AG31: =ROUND((AP31),6) -> 0 | AH31: =(EW31) -> 0 | AI31: =(EX31) -> 0 | AJ31: =ROUND((AS31),6) -> 0 | AK31: 2074.38 | AL31: 2074.38 | AM31: 0 | AN31: 0 | AO31: 0 | AP31: 0 | AQ31: 0 | AR31: 0 | AS31: 0 | AT31: 106 | AU31: 54 | AV31: 1 | AW31: 1 | AZ31: 5.99 | BA31: 1 | BB31: 1 | BC31: 5.99 | BH31: 3 | BI31: 1 | BJ31: ФССЦ-2001, 11.3.02.01-0021, приказ Минстроя России №1039/пр от 30.12.2016г. | BM31: 10001 | BN31: 0 | BP31: 0 | BQ31: 2 | BR31: 0 | BS31: 1 | BT31: 1 | BU31: 1 | BV31: 1 | BW31: 1 | BX31: 1 | BZ31: 118 | CA31: 63 | CF31: 0 | CG31: 0 | CM31: 0 | CO31: 0 | CP31: =(P31+Q31+S31) -> 1286043 | CQ31: =AC31*BC31 -> 12425.536 | CR31: =AD31*BB31 -> 0 | CS31: =AE31*BS31 -> 0 | CT31: =AF31*BA31 -> 0 | CU31: =AG31 -> 0 | CV31: =AH31 -> 0 | CW31: =AI31 -> 0 | CX31: =AJ31 -> 0 | CY31: =(((S31+R31)*AT31)/100) -> 0 | CZ31: =(((S31+R31)*AU31)/100) -> 0 | DN31: 0 | DO31: 0 | DP31: 1 | DQ31: 1 | DU31: 1005 | DV31: м2 | DW31: м2 | DX31: 1 | EE31: 15139100 | EF31: 2 | EG31: Общестроительные работы | EH31: 0 | EJ31: 1 | EK31: 10001 | EL31: Деревянные конструкции | EM31: ФЕР-10 | EQ31: 0 | ER31: 2074.38 | ES31: 2074.38 | ET31: 0 | EU31: 0 | EV31: 0 | EW31: 0 | EX31: 0 | FQ31: 0 | FR31: =ROUND(IF(AND(BH31=3,BI31=3),P31,0),2) -> 0 | FS31: 0 | FT31: *0,9 | FU31: *0,85 | FX31: 106.2 | FY31: 53.55 | GD31: 0 | GF31: 2097510584 | GG31: 1 | GH31: 1 | GI31: 4 | GJ31: 0 | GK31: =ROUND(R31*(S12)/100,2) -> 0 | GL31: =ROUND(IF(AND(BH31=3,BI31=3,FS31<>0),P31,0),2) -> 0 | GM31: =ROUND(O31+X31+Y31+GK31,2)+GX31 -> 1286043 | GN31: =IF(OR(BI31=0,BI31=1),ROUND(O31+X31+Y31+GK31,2),0) -> 1286043 | GO31: =IF(BI31=2,ROUND(O31+X31+Y31+GK31,2),0) -> 0 | GP31: =IF(BI31=4,ROUND(O31+X31+Y31+GK31,2)+GX31,0) -> 0 | GR31: 0 | GS31: 3 | GT31: 0 | GV31: =ROUND(GT31,6) -> 0 | GW31: 1 | GX31: =ROUND(GV31*GW31*I31,2) -> 0 | HA31: 0 | HB31: 0 | IK31: 0
A32: 17 | B32: 1 | C32: =ROW(SmtRes!A37) -> 37 | D32: =ROW(EtalonRes!A35) -> 35 | E32: 3 | F32: 10-01-035-03 | G32: Установка подоконных досок из ПВХ в каменных стенах толщиной свыше 0,51 м | H32: 100 м | I32: =ROUND(20.7/100,9) -> 0.207 | J32: 0 | O32: =ROUND(CP32,2) -> 1341.6 | P32: =ROUND(CQ32*I32,2) -> 1299.32 | Q32: =ROUND(CR32*I32,2) -> 4.53 | R32: =ROUND(CS32*I32,2) -> 0.92 | S32: =ROUND(CT32*I32,2) -> 37.75 | T32: =ROUND(CU32*I32,2) -> 0 | U32: =CV32*I32 -> 4.42566 | V32: =CW32*I32 -> 0.07659 | W32: =ROUND(CX32*I32,2) -> 0 | X32: =ROUND(CY32,2) -> 40.99 | Y32: =ROUND(CZ32,2) -> 20.88 | AA32: 16481626 | AB32: =ROUND((AC32+AD32+AF32),6) -> 6481.17 | AC32: =ROUND((ES32),6) -> 6276.9 | AD32: =ROUND((((ET32)-(EU32))+AE32),6) -> 21.9 | AE32: =ROUND((EU32),6) -> 4.43 | AF32: =ROUND((EV32),6) -> 182.37 | AG32: =ROUND((AP32),6) -> 0 | AH32: =(EW32) -> 21.38 | AI32: =(EX32) -> 0.37 | AJ32: =ROUND((AS32),6) -> 0 | AK32: 6481.17 | AL32: 6276.9 | AM32: 21.9 | AN32: 4.43 | AO32: 182.37 | AP32: 0 | AQ32: 21.38 | AR32: 0.37 | AS32: 0 | AT32: 106 | AU32: 54 | AV32: 1 | AW32: 1 | AZ32: 1 | BA32: 1 | BB32: 1 | BC32: 1 | BH32: 0 | BI32: 1 | BJ32: ФЕР-2001, 10-01-035-03, приказ Минстроя России №1039/пр от 30.12.2016г. | BM32: 10001 | BN32: 0 | BP32: 0 | BQ32: 2 | BR32: 0 | BS32: 1 | BT32: 1 | BU32: 1 | BV32: 1 | BW32: 1 | BX32: 1 | BZ32: 118 | CA32: 63 | CF32: 0 | CG32: 0 | CM32: 0 | CO32: 0 | CP32: =(P32+Q32+S32) -> 1341.6 | CQ32: =AC32*BC32 -> 6276.9 | CR32: =AD32*BB32 -> 21.9 | CS32: =AE32*BS32 -> 4.43 | CT32: =AF32*BA32 -> 182.37 | CU32: =AG32 -> 0 | CV32: =AH32 -> 21.38 | CW32: =AI32 -> 0.37 | CX32: =AJ32 -> 0 | CY32: =(((S32+R32)*AT32)/100) -> 40.9902 | CZ32: =(((S32+R32)*AU32)/100) -> 20.8818 | DN32: 0 | DO32: 0 | DP32: 1 | DQ32: 1 | DU32: 1003 | DV32: 100 м | DW32: 100 м | DX32: 100 | EE32: 15139100 | EF32: 2 | EG32: Общестроительные работы | EH32: 0 | EJ32: 1 | EK32: 10001 | EL32: Деревянные конструкции | EM32: ФЕР-10 | EQ32: 0 | ER32: 6481.17 | ES32: 6276.9 | ET32: 21.9 | EU32: 4.43 | EV32: 182.37 | EW32: 21.38 | EX32: 0.37 | EY32: 0 | FQ32: 0 | FR32: =ROUND(IF(AND(BH32=3,BI32=3),P32,0),2) -> 0 | FS32: 0 | FT32: *0,9 | FU32: *0,85 | FX32: 106.2 | FY32: 53.55 | GD32: 0 | GF32: -1968498593 | GG32: 2 | GH32: 1 | GI32: -2 | GJ32: 0 | GK32: =ROUND(R32*(R12)/100,2) -> 0 | GL32: =ROUND(IF(AND(BH32=3,BI32=3,FS32<>0),P32,0),2) -> 0 | GM32: =ROUND(O32+X32+Y32+GK32,2)+GX32 -> 1403.47 | GN32: =IF(OR(BI32=0,BI32=1),ROUND(O32+X32+Y32+GK32,2),0) -> 1403.47 | GO32: =IF(BI32=2,ROUND(O32+X32+Y32+GK32,2),0) -> 0 | GP32: =IF(BI32=4,ROUND(O32+X32+Y32+GK32,2)+GX32,0) -> 0 | GR32: 0 | GS32: 3 | GT32: 0 | GV32: =ROUND(GT32,6) -> 0 | GW32: 1 | GX32: =ROUND(GV32*GW32*I32,2) -> 0 | HA32: 0 | HB32: 0 | IK32: 0
A33: 17 | B33: 1 | C33: =ROW(SmtRes!A44) -> 44 | D33: =ROW(EtalonRes!A42) -> 42 | E33: 3 | F33: 10-01-035-03 | G33: Установка подоконных досок из ПВХ в каменных стенах толщиной свыше 0,51 м | H33: 100 м | I33: =ROUND(20.7/100,9) -> 0.207 | J33: 0 | O33: =ROUND(CP33,2) -> 8036.2 | P33: =ROUND(CQ33*I33,2) -> 7782.92 | Q33: =ROUND(CR33*I33,2) -> 27.15 | R33: =ROUND(CS33*I33,2) -> 5.49 | S33: =ROUND(CT33*I33,2) -> 226.13 | T33: =ROUND(CU33*I33,2) -> 0 | U33: =CV33*I33 -> 4.42566 | V33: =CW33*I33 -> 0.07659 | W33: =ROUND(CX33*I33,2) -> 0 | X33: =ROUND(CY33,2) -> 245.52 | Y33: =ROUND(CZ33,2) -> 125.07 | AA33: 16481627 | AB33: =ROUND((AC33+AD33+AF33),6) -> 6481.17 | AC33: =ROUND((ES33),6) -> 6276.9 | AD33: =ROUND((((ET33)-(EU33))+AE33),6) -> 21.9 | AE33: =ROUND((EU33),6) -> 4.43 | AF33: =ROUND((EV33),6) -> 182.37 | AG33: =ROUND((AP33),6) -> 0 | AH33: =(EW33) -> 21.38 | AI33: =(EX33) -> 0.37 | AJ33: =ROUND((AS33),6) -> 0 | AK33: 6481.17 | AL33: 6276.9 | AM33: 21.9 | AN33: 4.43 | AO33: 182.37 | AP33: 0 | AQ33: 21.38 | AR33: 0.37 | AS33: 0 | AT33: 106 | AU33: 54 | AV33: 1 | AW33: 1 | AZ33: 5.99 | BA33: 5.99 | BB33: 5.99 | BC33: 5.99 | BH33: 0 | BI33: 1 | BJ33: ФЕР-2001, 10-01-035-03, приказ Минстроя России №1039/пр от 30.12.2016г. | BM33: 10001 | BN33: 0 | BP33: 0 | BQ33: 2 | BR33: 0 | BS33: 5.99 | BT33: 1 | BU33: 1 | BV33: 1 | BW33: 1 | BX33: 1 | BZ33: 118 | CA33: 63 | CF33: 0 | CG33: 0 | CM33: 0 | CO33: 0 | CP33: =(P33+Q33+S33) -> 8036.2 | CQ33: =AC33*BC33 -> 37598.631 | CR33: =AD33*BB33 -> 131.181 | CS33: =AE33*BS33 -> 26.5357 | CT33: =AF33*BA33 -> 1092.3963 | CU33: =AG33 -> 0 | CV33: =AH33 -> 21.38 | CW33: =AI33 -> 0.37 | CX33: =AJ33 -> 0 | CY33: =(((S33+R33)*AT33)/100) -> 245.5172 | CZ33: =(((S33+R33)*AU33)/100) -> 125.0748 | DN33: 0 | DO33: 0 | DP33: 1 | DQ33: 1 | DU33: 1003 | DV33: 100 м | DW33: 100 м | DX33: 100 | EE33: 15139100 | EF33: 2 | EG33: Общестроительные работы | EH33: 0 | EJ33: 1 | EK33: 10001 | EL33: Деревянные конструкции | EM33: ФЕР-10 | EQ33: 0 | ER33: 6481.17 | ES33: 6276.9 | ET33: 21.9 | EU33: 4.43 | EV33: 182.37 | EW33: 21.38 | EX33: 0.37 | EY33: 0 | FQ33: 0 | FR33: =ROUND(IF(AND(BH33=3,BI33=3),P33,0),2) -> 0 | FS33: 0 | FT33: *0,9 | FU33: *0,85 | FX33: 106.2 | FY33: 53.55 | GD33: 0 | GF33: -1968498593 | GG33: 1 | GH33: 1 | GI33: 4 | GJ33: 0 | GK33: =ROUND(R33*(S12)/100,2) -> 0 | GL33: =ROUND(IF(AND(BH33=3,BI33=3,FS33<>0),P33,0),2) -> 0 | GM33: =ROUND(O33+X33+Y33+GK33,2)+GX33 -> 8406.79 | GN33: =IF(OR(BI33=0,BI33=1),ROUND(O33+X33+Y33+GK33,2),0) -> 8406.79 | GO33: =IF(BI33=2,ROUND(O33+X33+Y33+GK33,2),0) -> 0 | GP33: =IF(BI33=4,ROUND(O33+X33+Y33+GK33,2)+GX33,0) -> 0 | GR33: 0 | GS33: 3 | GT33: 0 | GV33: =ROUND(GT33,6) -> 0 | GW33: 1 | GX33: =ROUND(GV33*GW33*I33,2) -> 0 | HA33: 0 | HB33: 0 | IK33: 0
A34: 18 | B34: 1 | C34: 35 | E34: 3,1 | F34: 11.3.03.01-0010 | G34: Доски подоконные ПВХ, шириной 500 мм | H34: м | I34: =I32*J34 -> 20.7 | J34: 100 | O34: =ROUND(CP34,2) -> 1332.05 | P34: =ROUND(CQ34*I34,2) -> 1332.05 | Q34: =ROUND(CR34*I34,2) -> 0 | R34: =ROUND(CS34*I34,2) -> 0 | S34: =ROUND(CT34*I34,2) -> 0 | T34: =ROUND(CU34*I34,2) -> 0 | U34: =CV34*I34 -> 0 | V34: =CW34*I34 -> 0 | W34: =ROUND(CX34*I34,2) -> 0 | X34: =ROUND(CY34,2) -> 0 | Y34: =ROUND(CZ34,2) -> 0 | AA34: 16481626 | AB34: =ROUND((AC34+AD34+AF34),6) -> 64.35 | AC34: =ROUND((ES34),6) -> 64.35 | AD34: =ROUND((((ET34)-(EU34))+AE34),6) -> 0 | AE34: =ROUND((EU34),6) -> 0 | AF34: =ROUND((EV34),6) -> 0 | AG34: =ROUND((AP34),6) -> 0 | AH34: =(EW34) -> 0 | AI34: =(EX34) -> 0 | AJ34: =ROUND((AS34),6) -> 0 | AK34: 64.35 | AL34: 64.35 | AM34: 0 | AN34: 0 | AO34: 0 | AP34: 0 | AQ34: 0 | AR34: 0 | AS34: 0 | AT34: 106 | AU34: 54 | AV34: 1 | AW34: 1 | AZ34: 1 | BA34: 1 | BB34: 1 | BC34: 1 | BH34: 3 | BI34: 1 | BJ34: ФССЦ-2001, 11.3.03.01-0010, приказ Минстроя России №1039/пр от 30.12.2016г. | BM34: 10001 | BN34: 0 | BP34: 0 | BQ34: 2 | BR34: 0 | BS34: 1 | BT34: 1 | BU34: 1 | BV34: 1 | BW34: 1 | BX34: 1 | BZ34: 118 | CA34: 63 | CF34: 0 | CG34: 0 | CM34: 0 | CO34: 0 | CP34: =(P34+Q34+S34) -> 1332.05 | CQ34: =AC34*BC34 -> 64.35 | CR34: =AD34*BB34 -> 0 | CS34: =AE34*BS34 -> 0 | CT34: =AF34*BA34 -> 0 | CU34: =AG34 -> 0 | CV34: =AH34 -> 0 | CW34: =AI34 -> 0 | CX34: =AJ34 -> 0 | CY34: =(((S34+R34)*AT34)/100) -> 0 | CZ34: =(((S34+R34)*AU34)/100) -> 0 | DN34: 0 | DO34: 0 | DP34: 1 | DQ34: 1 | DU34: 1003 | DV34: м | DW34: м | DX34: 1 | EE34: 15139100 | EF34: 2 | EG34: Общестроительные работы | EH34: 0 | EJ34: 1 | EK34: 10001 | EL34: Деревянные конструкции | EM34: ФЕР-10 | EQ34: 0 | ER34: 64.35 | ES34: 64.35 | ET34: 0 | EU34: 0 | EV34: 0 | EW34: 0 | EX34: 0 | FQ34: 0 | FR34: =ROUND(IF(AND(BH34=3,BI34=3),P34,0),2) -> 0 | FS34: 0 | FT34: *0,9 | FU34: *0,85 | FX34: 106.2 | FY34: 53.55 | GD34: 0 | GF34: 1369221803 | GG34: 2 | GH34: 1 | GI34: -2 | GJ34: 0 | GK34: =ROUND(R34*(R12)/100,2) -> 0 | GL34: =ROUND(IF(AND(BH34=3,BI34=3,FS34<>0),P34,0),2) -> 0 | GM34: =ROUND(O34+X34+Y34+GK34,2)+GX34 -> 1332.05 | GN34: =IF(OR(BI34=0,BI34=1),ROUND(O34+X34+Y34+GK34,2),0) -> 1332.05 | GO34: =IF(BI34=2,ROUND(O34+X34+Y34+GK34,2),0) -> 0 | GP34: =IF(BI34=4,ROUND(O34+X34+Y34+GK34,2)+GX34,0) -> 0 | GR34: 0 | GS34: 3 | GT34: 0 | GV34: =ROUND(GT34,6) -> 0 | GW34: 1 | GX34: =ROUND(GV34*GW34*I34,2) -> 0 | HA34: 0 | HB34: 0 | IK34: 0
A35: 18 | B35: 1 | C35: 42 | E35: 3,1 | F35: 11.3.03.01-0010 | G35: Доски подоконные ПВХ, шириной 500 мм | H35: м | I35: =I33*J35 -> 20.7 | J35: 100 | O35: =ROUND(CP35,2) -> 7978.95 | P35: =ROUND(CQ35*I35,2) -> 7978.95 | Q35: =ROUND(CR35*I35,2) -> 0 | R35: =ROUND(CS35*I35,2) -> 0 | S35: =ROUND(CT35*I35,2) -> 0 | T35: =ROUND(CU35*I35,2) -> 0 | U35: =CV35*I35 -> 0 | V35: =CW35*I35 -> 0 | W35: =ROUND(CX35*I35,2) -> 0 | X35: =ROUND(CY35,2) -> 0 | Y35: =ROUND(CZ35,2) -> 0 | AA35: 16481627 | AB35: =ROUND((AC35+AD35+AF35),6) -> 64.35 | AC35: =ROUND((ES35),6) -> 64.35 | AD35: =ROUND((((ET35)-(EU35))+AE35),6) -> 0 | AE35: =ROUND((EU35),6) -> 0 | AF35: =ROUND((EV35),6) -> 0 | AG35: =ROUND((AP35),6) -> 0 | AH35: =(EW35) -> 0 | AI35: =(EX35) -> 0 | AJ35: =ROUND((AS35),6) -> 0 | AK35: 64.35 | AL35: 64.35 | AM35: 0 | AN35: 0 | AO35: 0 | AP35: 0 | AQ35: 0 | AR35: 0 | AS35: 0 | AT35: 106 | AU35: 54 | AV35: 1 | AW35: 1 | AZ35: 5.99 | BA35: 1 | BB35: 1 | BC35: 5.99 | BH35: 3 | BI35: 1 | BJ35: ФССЦ-2001, 11.3.03.01-0010, приказ Минстроя России №1039/пр от 30.12.2016г. | BM35: 10001 | BN35: 0 | BP35: 0 | BQ35: 2 | BR35: 0 | BS35: 1 | BT35: 1 | BU35: 1 | BV35: 1 | BW35: 1 | BX35: 1 | BZ35: 118 | CA35: 63 | CF35: 0 | CG35: 0 | CM35: 0 | CO35: 0 | CP35: =(P35+Q35+S35) -> 7978.95 | CQ35: =AC35*BC35 -> 385.4565 | CR35: =AD35*BB35 -> 0 | CS35: =AE35*BS35 -> 0 | CT35: =AF35*BA35 -> 0 | CU35: =AG35 -> 0 | CV35: =AH35 -> 0 | CW35: =AI35 -> 0 | CX35: =AJ35 -> 0 | CY35: =(((S35+R35)*AT35)/100) -> 0 | CZ35: =(((S35+R35)*AU35)/100) -> 0 | DN35: 0 | DO35: 0 | DP35: 1 | DQ35: 1 | DU35: 1003 | DV35: м | DW35: м | DX35: 1 | EE35: 15139100 | EF35: 2 | EG35: Общестроительные работы | EH35: 0 | EJ35: 1 | EK35: 10001 | EL35: Деревянные конструкции | EM35: ФЕР-10 | EQ35: 0 | ER35: 64.35 | ES35: 64.35 | ET35: 0 | EU35: 0 | EV35: 0 | EW35: 0 | EX35: 0 | FQ35: 0 | FR35: =ROUND(IF(AND(BH35=3,BI35=3),P35,0),2) -> 0 | FS35: 0 | FT35: *0,9 | FU35: *0,85 | FX35: 106.2 | FY35: 53.55 | GD35: 0 | GF35: 1369221803 | GG35: 1 | GH35: 1 | GI35: 4 | GJ35: 0 | GK35: =ROUND(R35*(S12)/100,2) -> 0 | GL35: =ROUND(IF(AND(BH35=3,BI35=3,FS35<>0),P35,0),2) -> 0 | GM35: =ROUND(O35+X35+Y35+GK35,2)+GX35 -> 7978.95 | GN35: =IF(OR(BI35=0,BI35=1),ROUND(O35+X35+Y35+GK35,2),0) -> 7978.95 | GO35: =IF(BI35=2,ROUND(O35+X35+Y35+GK35,2),0) -> 0 | GP35: =IF(BI35=4,ROUND(O35+X35+Y35+GK35,2)+GX35,0) -> 0 | GR35: 0 | GS35: 3 | GT35: 0 | GV35: =ROUND(GT35,6) -> 0 | GW35: 1 | GX35: =ROUND(GV35*GW35*I35,2) -> 0 | HA35: 0 | HB35: 0 | IK35: 0
A36: 17 | B36: 1 | C36: =ROW(SmtRes!A54) -> 54 | D36: =ROW(EtalonRes!A50) -> 50 | E36: 4 | F36: 58-20-1 | G36: Смена обделок из листовой стали (поясков, сандриков, отливов, карнизов) шириной до 0,4 м | H36: 100 м | I36: =ROUND(20.7/100,9) -> 0.207 | J36: 0 | O36: =ROUND(CP36,2) -> 94.06 | P36: =ROUND(CQ36*I36,2) -> 19.88 | Q36: =ROUND(CR36*I36,2) -> 1.06 | R36: =ROUND(CS36*I36,2) -> 0.32 | S36: =ROUND(CT36*I36,2) -> 73.12 | T36: =ROUND(CU36*I36,2) -> 0 | U36: =CV36*I36 -> 8.57187 | V36: =CW36*I36 -> 0.02484 | W36: =ROUND(CX36*I36,2) -> 0 | X36: =ROUND(CY36,2) -> 60.96 | Y36: =ROUND(CZ36,2) -> 47.74 | AA36: 16481626 | AB36: =ROUND((AC36+AD36+AF36),6) -> 454.41 | AC36: =ROUND((ES36),6) -> 96.05 | AD36: =ROUND((((ET36)-(EU36))+AE36),6) -> 5.13 | AE36: =ROUND((EU36),6) -> 1.54 | AF36: =ROUND((EV36),6) -> 353.23 | AG36: =ROUND((AP36),6) -> 0 | AH36: =(EW36) -> 41.41 | AI36: =(EX36) -> 0.12 | AJ36: =ROUND((AS36),6) -> 0 | AK36: 454.41 | AL36: 96.05 | AM36: 5.13 | AN36: 1.54 | AO36: 353.23 | AP36: 0 | AQ36: 41.41 | AR36: 0.12 | AS36: 0 | AT36: 83 | AU36: 65 | AV36: 1 | AW36: 1 | AZ36: 1 | BA36: 1 | BB36: 1 | BC36: 1 | BH36: 0 | BI36: 1 | BJ36: ФЕР-2001, 58-20-1, приказ Минстроя России №1039/пр от 30.12.2016г. | BM36: 58001 | BN36: 0 | BP36: 0 | BQ36: 6 | BR36: 0 | BS36: 1 | BT36: 1 | BU36: 1 | BV36: 1 | BW36: 1 | BX36: 1 | BZ36: 83 | CA36: 65 | CF36: 0 | CG36: 0 | CM36: 0 | CO36: 0 | CP36: =(P36+Q36+S36) -> 94.06 | CQ36: =AC36*BC36 -> 96.05 | CR36: =AD36*BB36 -> 5.13 | CS36: =AE36*BS36 -> 1.54 | CT36: =AF36*BA36 -> 353.23 | CU36: =AG36 -> 0 | CV36: =AH36 -> 41.41 | CW36: =AI36 -> 0.12 | CX36: =AJ36 -> 0 | CY36: =(((S36+R36)*AT36)/100) -> 60.9552 | CZ36: =(((S36+R36)*AU36)/100) -> 47.736 | DN36: 0 | DO36: 0 | DP36: 1 | DQ36: 1 | DU36: 1003 | DV36: 100 м | DW36: 100 м | DX36: 100 | EE36: 15139180 | EF36: 6 | EG36: Ремонтно-строительные работы | EH36: 0 | EJ36: 1 | EK36: 58001 | EL36: Крыши, кровля | EM36: рФЕР-58 | EQ36: 0 | ER36: 454.41 | ES36: 96.05 | ET36: 5.13 | EU36: 1.54 | EV36: 353.23 | EW36: 41.41 | EX36: 0.12 | EY36: 0 | FQ36: 0 | FR36: =ROUND(IF(AND(BH36=3,BI36=3),P36,0),2) -> 0 | FS36: 0 | FX36: 83 | FY36: 65 | GD36: 0 | GF36: -58071427 | GG36: 2 | GH36: 1 | GI36: -2 | GJ36: 0 | GK36: =ROUND(R36*(R12)/100,2) -> 0 | GL36: =ROUND(IF(AND(BH36=3,BI36=3,FS36<>0),P36,0),2) -> 0 | GM36: =ROUND(O36+X36+Y36+GK36,2)+GX36 -> 202.76 | GN36: =IF(OR(BI36=0,BI36=1),ROUND(O36+X36+Y36+GK36,2),0) -> 202.76 | GO36: =IF(BI36=2,ROUND(O36+X36+Y36+GK36,2),0) -> 0 | GP36: =IF(BI36=4,ROUND(O36+X36+Y36+GK36,2)+GX36,0) -> 0 | GR36: 0 | GS36: 3 | GT36: 0 | GV36: =ROUND(GT36,6) -> 0 | GW36: 1 | GX36: =ROUND(GV36*GW36*I36,2) -> 0 | HA36: 0 | HB36: 0 | IK36: 0
A37: 17 | B37: 1 | C37: =ROW(SmtRes!A64) -> 64 | D37: =ROW(EtalonRes!A58) -> 58 | E37: 4 | F37: 58-20-1 | G37: Смена обделок из листовой стали (поясков, сандриков, отливов, карнизов) шириной до 0,4 м | H37: 100 м | I37: =ROUND(20.7/100,9) -> 0.207 | J37: 0 | O37: =ROUND(CP37,2) -> 563.44 | P37: =ROUND(CQ37*I37,2) -> 119.1 | Q37: =ROUND(CR37*I37,2) -> 6.36 | R37: =ROUND(CS37*I37,2) -> 1.91 | S37: =ROUND(CT37*I37,2) -> 437.98 | T37: =ROUND(CU37*I37,2) -> 0 | U37: =CV37*I37 -> 8.57187 | V37: =CW37*I37 -> 0.02484 | W37: =ROUND(CX37*I37,2) -> 0 | X37: =ROUND(CY37,2) -> 365.11 | Y37: =ROUND(CZ37,2) -> 285.93 | AA37: 16481627 | AB37: =ROUND((AC37+AD37+AF37),6) -> 454.41 | AC37: =ROUND((ES37),6) -> 96.05 | AD37: =ROUND((((ET37)-(EU37))+AE37),6) -> 5.13 | AE37: =ROUND((EU37),6) -> 1.54 | AF37: =ROUND((EV37),6) -> 353.23 | AG37: =ROUND((AP37),6) -> 0 | AH37: =(EW37) -> 41.41 | AI37: =(EX37) -> 0.12 | AJ37: =ROUND((AS37),6) -> 0 | AK37: 454.41 | AL37: 96.05 | AM37: 5.13 | AN37: 1.54 | AO37: 353.23 | AP37: 0 | AQ37: 41.41 | AR37: 0.12 | AS37: 0 | AT37: 83 | AU37: 65 | AV37: 1 | AW37: 1 | AZ37: 5.99 | BA37: 5.99 | BB37: 5.99 | BC37: 5.99 | BH37: 0 | BI37: 1 | BJ37: ФЕР-2001, 58-20-1, приказ Минстроя России №1039/пр от 30.12.2016г. | BM37: 58001 | BN37: 0 | BP37: 0 | BQ37: 6 | BR37: 0 | BS37: 5.99 | BT37: 1 | BU37: 1 | BV37: 1 | BW37: 1 | BX37: 1 | BZ37: 83 | CA37: 65 | CF37: 0 | CG37: 0 | CM37: 0 | CO37: 0 | CP37: =(P37+Q37+S37) -> 563.44 | CQ37: =AC37*BC37 -> 575.3395 | CR37: =AD37*BB37 -> 30.7287 | CS37: =AE37*BS37 -> 9.2246 | CT37: =AF37*BA37 -> 2115.8477 | CU37: =AG37 -> 0 | CV37: =AH37 -> 41.41 | CW37: =AI37 -> 0.12 | CX37: =AJ37 -> 0 | CY37: =(((S37+R37)*AT37)/100) -> 365.1087 | CZ37: =(((S37+R37)*AU37)/100) -> 285.9285 | DN37: 0 | DO37: 0 | DP37: 1 | DQ37: 1 | DU37: 1003 | DV37: 100 м | DW37: 100 м | DX37: 100 | EE37: 15139180 | EF37: 6 | EG37: Ремонтно-строительные работы | EH37: 0 | EJ37: 1 | EK37: 58001 | EL37: Крыши, кровля | EM37: рФЕР-58 | EQ37: 0 | ER37: 454.41 | ES37: 96.05 | ET37: 5.13 | EU37: 1.54 | EV37: 353.23 | EW37: 41.41 | EX37: 0.12 | EY37: 0 | FQ37: 0 | FR37: =ROUND(IF(AND(BH37=3,BI37=3),P37,0),2) -> 0 | FS37: 0 | FX37: 83 | FY37: 65 | GD37: 0 | GF37: -58071427 | GG37: 1 | GH37: 1 | GI37: 4 | GJ37: 0 | GK37: =ROUND(R37*(S12)/100,2) -> 0 | GL37: =ROUND(IF(AND(BH37=3,BI37=3,FS37<>0),P37,0),2) -> 0 | GM37: =ROUND(O37+X37+Y37+GK37,2)+GX37 -> 1214.48 | GN37: =IF(OR(BI37=0,BI37=1),ROUND(O37+X37+Y37+GK37,2),0) -> 1214.48 | GO37: =IF(BI37=2,ROUND(O37+X37+Y37+GK37,2),0) -> 0 | GP37: =IF(BI37=4,ROUND(O37+X37+Y37+GK37,2)+GX37,0) -> 0 | GR37: 0 | GS37: 3 | GT37: 0 | GV37: =ROUND(GT37,6) -> 0 | GW37: 1 | GX37: =ROUND(GV37*GW37*I37,2) -> 0 | HA37: 0 | HB37: 0 | IK37: 0
