Workbook

Sheet Смета 12 гр. по ФЕР
A1: =Source!B1 -> Smeta.RU (495) 974-1589 | I1: Приложение 1 к форме 6
B5: СМЕТА
B7: =IF(Source!G20<>"Новая локальная смета", Source!G20, "")
B9: =IF(Source!G12<>"Новый объект", Source!G12, "") -> на капитальный ремонт помещений № 17 (К-212), № 18 (К-213), № 19 (К-214), № 20 (К-215) 2-го этажа учебно-научного корпуса "К" НИЯУ МИФИ по адресу: г. Москва, Каширское шоссе, д. 31, стр. 46 | AD9: =IF(Source!G12<>"Новый объект", Source!G12, "") -> на капитальный ремонт помещений № 17 (К-212), № 18 (К-213), № 19 (К-214), № 20 (К-215) 2-го этажа учебно-научного корпуса "К" НИЯУ МИФИ по адресу: г. Москва, Каширское шоссе, д. 31, стр. 46
A12: =CONCATENATE("Основание: ", Source!J20) -> Основание:
G15: базовая цена | I15: текущая цена
C16: Сметная стоимость | G16: =SUM(O27:O732)/1000 -> 278.07889 | I16: =(Source!F378/1000) -> 2243.9375 | K16: тыс. руб.
C17: Строительные работы | G17: =SUM(W27:W732)/1000 -> 182.24137 | I17: =(Source!F365)/1000 -> 1223.1034 | K17: тыс. руб.
C18: Монтажные работы | G18: =SUM(X27:X732)/1000 -> 93.04026 | I18: =(Source!F366)/1000 -> 624.29968 | K18: тыс. руб.
C19: Оборудование | G19: =SUM(Y27:Y732)/1000 -> 0 | I19: =(Source!F357)/1000 -> 0 | K19: тыс. руб.
C20: Прочие работы | G20: =SUM(Z27:Z732)/1000 -> 2.79726 | I20: =(Source!F367+Source!F368)/1000 -> 54.2389 | K20: тыс. руб.
C21: Нормативная трудоемкость | G21: =I21 -> 1700.5197 | I21: =(Source!F370+Source!F371) -> 1700.5197 | K21: чел. -ч.
C22: Средства на оплату труда | G22: =SUM(R27:R732)/1000 -> 15.97219 | I22: =(Source!F363+ Source!F362)/1000 -> 124.47514 | K22: тыс. руб.
A24: Составлена в ценах III квартал 2018 года
A25: № п/п | B25: Шифр расценки и коды ресурсов | C25: Наименование работ и затрат | D25: Ед. изм. | E25: Кол-во единиц | F25: Цена на ед. изм. | G25: Попра-вочные коэфф. | H25: Стоимость в ценах 2001г. | I25: Пункт коэфф. пересчета | J25: Коэфф. пересчета | K25: Стоимость в текущих ценах | L25: ЗТР всего чел.-час
A26: 1 | B26: 2 | C26: 3 | D26: 4 | E26: 5 | F26: 6 | G26: 7 | H26: 8 | I26: 9 | J26: 10 | K26: 11 | L26: 12
A28: =CONCATENATE("Раздел: ",IF(Source!G24<>"Новый раздел", Source!G24, "")) -> Раздел: 1 Общестроительные работы
A29: =Source!E28 -> 1 | B29: =Source!F28 -> 46-04-012-03 | C29: =Source!G28 -> Разборка деревянных заполнений проемов дверных и воротных (отбивка штукатурки откосов 24,86м2 входит в состав работ) | D29: =Source!H28 -> 100 м2 | E29: =Source!I28 -> 0.0936 | F29: =Source!AL28+Source!AM28+Source!AO28 -> 1082.58 | I29: =Source!BO28 | S29: =ROUND((Source!FX28/100)*((ROUND(Source!AF28*Source!I28, 2)+ROUND(Source!AE28*Source!I28, 2))), 2) -> 87.58 | T29: =Source!X28 -> 587.65 | U29: =ROUND((Source!FY28/100)*((ROUND(Source!AF28*Source!I28, 2)+ROUND(Source!AE28*Source!I28, 2))), 2) -> 52.63 | V29: =Source!Y28 -> 356.15
C30: ="Объем: "&Source!I28&"=9,36/"&"100" -> Объем: 0,0936=9,36/100
C31: Зарплата | F31: =Source!AO28 -> 840.63 | G31: =Source!DG28 | H31: =ROUND(Source!AF28*Source!I28, 2) -> 78.68 | J31: =IF(Source!BA28<> 0, Source!BA28, 1) -> 6.71 | K31: =Source!S28 -> 527.96 | R31: =H31 -> 78.68
C32: Эксплуатация машин | F32: =Source!AM28 -> 241.95 | G32: =Source!DE28 | H32: =ROUND(Source!AD28*Source!I28, 2) -> 22.65 | J32: =IF(Source!BB28<> 0, Source!BB28, 1) -> 6.71 | K32: =Source!Q28 -> 151.96
C33: в т.ч. зарплата машинистов | F33: =Source!AN28 -> 104.49 | G33: =Source!DF28 | H33: =ROUND(Source!AE28*Source!I28, 2) -> 9.78 | J33: =IF(Source!BS28<> 0, Source!BS28, 1) -> 6.71 | K33: =Source!R28 -> 65.63 | R33: =H33 -> 9.78
C34: НР от ФОТ | D34: % | E34: =Source!BZ28 -> 110 | F34: =CONCATENATE(" )", Source!DL28, Source!FT28, "=", Source!FX28) -> )*0,9=99 | H34: =SUM(S29:S36) -> 87.58 | J34: =Source!AT28 -> 99 | K34: =SUM(T29:T36) -> 587.65
C35: СП от ФОТ | D35: % | E35: =Source!CA28 -> 70 | F35: =CONCATENATE(" )", Source!DM28, Source!FU28, "=", Source!FY28) -> )*0,85=59,5 | H35: =SUM(U29:U36) -> 52.63 | J35: =Source!AU28 -> 60 | K35: =SUM(V29:V36) -> 356.15
C36: Затраты труда | D36: чел-ч | E36: =Source!AQ28 -> 103.91 | G36: =Source!DI28 | L36: =Source!U28 -> 9.725976
G37: =H31+H32+H34+H35 -> 241.54 | J37: =K31+K32+K34+K35 -> 1623.72 | L37: =Source!U28 -> 9.725976 | O37: =G37 -> 241.54 | P37: =J37 -> 1623.72 | Q37: =L37 -> 9.725976 | W37: =IF(Source!BI28<=1,H31+H32+H34+H35, 0) -> 241.54 | X37: =IF(Source!BI28=2,H31+H32+H34+H35, 0) -> 0 | Y37: =IF(Source!BI28=3,H31+H32+H34+H35, 0) -> 0 | Z37: =IF(Source!BI28=4,H31+H32+H34+H35, 0) -> 0
A38: =Source!E29 -> 2 | B38: =Source!F29 -> 09-04-012-01 | C38: =Source!G29 -> Демонтаж: Установка металлических дверных блоков в готовые проемы | D38: =Source!H29 -> м2 | E38: =Source!I29 -> 8.74 | F38: =Source!AL29+Source!AM29+Source!AO29 -> 63.94 | I38: =Source!BO29 | S38: =ROUND((Source!FX29/100)*((ROUND(Source!AF29*Source!I29, 2)+ROUND(Source!AE29*Source!I29, 2))), 2) -> 127.79 | T38: =Source!X29 -> 857.43 | U38: =ROUND((Source!FY29/100)*((ROUND(Source!AF29*Source!I29, 2)+ROUND(Source!AE29*Source!I29, 2))), 2) -> 113.98 | V38: =Source!Y29 -> 762.16
C39: Зарплата | F39: =Source!AO29 -> 23.81 | G39: =Source!DG29 -> )*0,7 | H39: =ROUND(Source!AF29*Source!I29, 2) -> 145.7 | J39: =IF(Source!BA29<> 0, Source!BA29, 1) -> 6.71 | K39: =Source!S29 -> 977.62 | R39: =H39 -> 145.7
C40: Эксплуатация машин | F40: =Source!AM29 -> 14.41 | G40: =Source!DE29 -> )*0,7 | H40: =ROUND(Source!AD29*Source!I29, 2) -> 88.19 | J40: =IF(Source!BB29<> 0, Source!BB29, 1) -> 6.71 | K40: =Source!Q29 -> 591.73
C41: в т.ч. зарплата машинистов | F41: =Source!AN29 -> 1.97 | G41: =Source!DF29 -> )*0,7 | H41: =ROUND(Source!AE29*Source!I29, 2) -> 12.06 | J41: =IF(Source!BS29<> 0, Source!BS29, 1) -> 6.71 | K41: =Source!R29 -> 80.93 | R41: =H41 -> 12.06
C42: НР от ФОТ | D42: % | E42: =Source!BZ29 -> 90 | F42: =CONCATENATE(" )", Source!DL29, Source!FT29, "=", Source!FX29) -> )*0,9=81 | H42: =SUM(S38:S44) -> 127.79 | J42: =Source!AT29 -> 81 | K42: =SUM(T38:T44) -> 857.43
C43: СП от ФОТ | D43: % | E43: =Source!CA29 -> 85 | F43: =CONCATENATE(" )", Source!DM29, Source!FU29, "=", Source!FY29) -> )*0,85=72,25 | H43: =SUM(U38:U44) -> 113.98 | J43: =Source!AU29 -> 72 | K43: =SUM(V38:V44) -> 762.16
C44: Затраты труда | D44: чел-ч | E44: =Source!AQ29 -> 2.4 | G44: =Source!DI29 -> )*0,7 | L44: =Source!U29 -> 14.6832
G45: =H39+H40+H42+H43 -> 475.66 | J45: =K39+K40+K42+K43 -> 3188.94 | L45: =Source!U29 -> 14.6832 | O45: =G45 -> 475.66 | P45: =J45 -> 3188.94 | Q45: =L45 -> 14.6832 | W45: =IF(Source!BI29<=1,H39+H40+H42+H43, 0) -> 475.66 | X45: =IF(Source!BI29=2,H39+H40+H42+H43, 0) -> 0 | Y45: =IF(Source!BI29=3,H39+H40+H42+H43, 0) -> 0 | Z45: =IF(Source!BI29=4,H39+H40+H42+H43, 0) -> 0
A46: =Source!E30 -> 3 | B46: =Source!F30 -> 57-3-1 | C46: =Source!G30 -> Разборка плинтусов деревянных и из пластмассовых материалов | D46: =Source!H30 -> 100 м | E46: =Source!I30 -> 0.956 | F46: =Source!AL30+Source!AM30+Source!AO30 -> 29.41 | I46: =Source!BO30 | S46: =ROUND((Source!FX30/100)*((ROUND(Source!AF30*Source!I30, 2)+ROUND(Source!AE30*Source!I30, 2))), 2) -> 22.5 | T46: =Source!X30 -> 150.93 | U46: =ROUND((Source!FY30/100)*((ROUND(Source!AF30*Source!I30, 2)+ROUND(Source!AE30*Source!I30, 2))), 2) -> 19.12 | V46: =Source!Y30 -> 128.29
C47: ="Объем: "&Source!I30&"=95,6/"&"100" -> Объем: 0,956=95,6/100
C48: Зарплата | F48: =Source!AO30 -> 29.41 | G48: =Source!DG30 | H48: =ROUND(Source!AF30*Source!I30, 2) -> 28.12 | J48: =IF(Source!BA30<> 0, Source!BA30, 1) -> 6.71 | K48: =Source!S30 -> 188.66 | R48: =H48 -> 28.12
C49: НР от ФОТ | D49: % | E49: =Source!BZ30 -> 80 | H49: =SUM(S46:S51) -> 22.5 | J49: =Source!AT30 -> 80 | K49: =SUM(T46:T51) -> 150.93
C50: СП от ФОТ | D50: % | E50: =Source!CA30 -> 68 | H50: =SUM(U46:U51) -> 19.12 | J50: =Source!AU30 -> 68 | K50: =SUM(V46:V51) -> 128.29
C51: Затраты труда | D51: чел-ч | E51: =Source!AQ30 -> 3.77 | G51: =Source!DI30 | L51: =Source!U30 -> 3.60412
...

Sheet Акт КС-2 c НР и СП
A1: =Source!B1 -> Smeta.RU (495) 974-1589
E2: Унифицированная форма № КС-2
E3: Утверждена постановлением Госкомстата России
E4: от 11.11.99. № 100
G6: Код
F7: Форма по ОКУД | G7: 0322005
G8: =IF(Source!AT15 <> "", Source!AT15, "")
A9: Инвестор | C9: =IF(Source!BA15 <> "", Source!BA15, IF(Source!AU15 <> "", Source!AU15, "")) | F9: по ОКПО
C10: организация, адрес, телефон, факс | G10: =IF(Source!AK15 <> "", Source!AK15, "")
A11: Заказчик | C11: =IF(Source!AX12<> "", Source!AX12, IF(Source!AJ12 <> "", Source!AJ12, "")) | F11: по ОКПО
C12: организация, адрес, телефон, факс | G12: =IF(Source!AO15 <> "", Source!AO15, "")
A13: Подрядчик | C13: =IF(Source!AY12<> "", Source!AY12, IF(Source!AN12 <> "", Source!AN12, "")) | F13: по ОКПО
C14: организация, адрес, телефон, факс | G14: =IF(Source!CO15 <> "", Source!CO15, "")
A15: Стройка | C15: на капитальный ремонт помещений №212,213,214,215 2-го этажа Корпуса К НИЯУ МИФИ по адресу: г.Москва,Каширское шоссе,д.31,стр.46_(Копия) | AE15: на капитальный ремонт помещений №212,213,214,215 2-го этажа Корпуса К НИЯУ МИФИ по адресу: г.Москва,Каширское шоссе,д.31,стр.46_(Копия)
C16: наименование, адрес | G16: =IF(Source!CP15 <> "", Source!CP15, "")
A17: Объект | C17: =IF(Source!G12<>"Новый объект", Source!G12, "") -> на капитальный ремонт помещений № 17 (К-212), № 18 (К-213), № 19 (К-214), № 20 (К-215) 2-го этажа учебно-научного корпуса "К" НИЯУ МИФИ по адресу: г. Москва, Каширское шоссе, д. 31, стр. 46 | AE17: =IF(Source!G12<>"Новый объект", Source!G12, "") -> на капитальный ремонт помещений № 17 (К-212), № 18 (К-213), № 19 (К-214), № 20 (К-215) 2-го этажа учебно-научного корпуса "К" НИЯУ МИФИ по адресу: г. Москва, Каширское шоссе, д. 31, стр. 46
C18: наименование
D19: Вид деятельности по ОКДП | G19: =IF(Source!CQ15 <> "", Source!CQ15, "")
D20: Договор подряда | F20: номер | G20: =IF(Source!CR15 <> "", Source!CR15, "")
F21: дата | G21: =IF(Source!CS15 <> 0, Source!CS15, "")
F22: Вид операции | G22: =IF(Source!CT15 <> "", Source!CT15, "")
D24: Номер документа | E24: Дата составления | F24: Отчетный период
F25: с | G25: по
D26: =IF(Source!CN15 <> "", Source!CN15, "") | E26: 43389.433
A28: AKT
A29: О ПРИЕМКЕ ВЫПОЛНЕННЫХ РАБОТ
A31: Сметная (договорная) стоимость в соответствии с договором подряда (субподряда) | F31: =(Source!F407/1000) -> 1901.642 | H31: тыс.руб
A33: Номер | C33: Наименование работ | D33: Номер единичной расценки | E33: Единица измерения | F33: Выполнено работ
A34: по порядку | B34: поз. по смете | F34: Количество | G34: цена за единицу, руб | H34: стоимость, руб
A35: 1 | B35: 2 | C35: 3 | D35: 4 | E35: 5 | F35: 6 | G35: 7 | H35: 8
A37: =CONCATENATE("Локальная смета: ",IF(Source!G20<>"Новая локальная смета", Source!G20, "")) -> Локальная смета:
A39: =CONCATENATE("Раздел: ",IF(Source!G24<>"Новый раздел", Source!G24, "")) -> Раздел: 1 Общестроительные работы
A40: 1 | B40: =Source!E28 -> 1 | C40: =Source!G28 -> Разборка деревянных заполнений проемов дверных и воротных (отбивка штукатурки откосов 24,86м2 входит в состав работ) | D40: =Source!F28 -> 46-04-012-03 | E40: =Source!H28 -> 100 м2 | F40: =Source!I28 -> 0.0936 | G40: =Source!AB28 -> 1082.58 | H40: =Source!O28 -> 679.92 | T40: =Source!O28+Source!X28+Source!Y28 -> 1623.72 | U40: =Source!P28 -> 0 | V40: =Source!S28 -> 527.96 | W40: =Source!Q28 -> 151.96 | X40: =Source!R28 -> 65.63 | Y40: =Source!U28 -> 9.725976 | Z40: =Source!V28 -> 0.724464 | AA40: =Source!X28 -> 587.65 | AB40: =Source!Y28 -> 356.15
C41: ="Объем: "&Source!I28&"=9,36/"&"100" -> Объем: 0,0936=9,36/100
C42: Коэфф. к ОЗП | D42: =Source!BA28 -> 6.71
C43: Коэфф. к эксплуатации машин | D43: =Source!BB28 -> 6.71
C44: Коэфф. к материалам | D44: =Source!BC28 -> 6.71
C45: Коэфф. к ЗПМ | D45: =Source!BS28 -> 6.71
C46: % НР | F46: =Source!BZ28 -> 110 | G46: =(Source!AF28+Source!AE28)*Source!FX28/100 -> 935.6688 | H46: =Source!X28 -> 587.65
C47: % НР с поправкой | G47: =CONCATENATE(Source!DL28,Source!FT28, "=", Source!FX28, "%") -> *0,9=99% | H47: =CONCATENATE(Source!AT28) -> 99
...

Sheet Макет форма-3
A1: =Source!B1 -> Smeta.RU (495) 974-1589 | H1: Унифицированная форма № КС-3
H2: Утверждена постановлением Госкомстата России
H3: от 11.11.99. № 100
K4: Коды
I5: Форма по ОКУД | K5: 322001
A6: Инвестор | J6: по ОКПО
C7: организация, адрес, телефон, факс
A8: Заказчик (генподрядчик) | J8: по ОКПО
C9: организация, адрес, телефон, факс
A10: Подрядчик (субподрядчик) | J10: по ОКПО
C11: организация, адрес, телефон, факс
A12: Стройка | J12: по ОКПО
C13: наименование, адрес | H13: Вид деятельности по ОКДП
E14: Договор подряда (контракт) | I14: номер
I15: дата
I16: Вид операции
C19: Номер документа | E19: Дата составления | I19: Отчетный период
I20: с | K20: по
A24: СПРАВКА
A25: СТОИМОСТИ ВЫПОЛНЕННЫХ РАБОТ И ЗАТРАТ
A28: № п/п | B28: Наименование пусковых комплексов, объектов, видов работ, оборудования, затрат | F28: Код | G28: Стоимость выполненных работ и затрат
G29: с начала проведения работ | I29: с начала года по отчетный период включительно | K29: в том числе за отчетный месяц
A33: 1 | B33: 2 | F33: 3 | G33: 4 | I33: 5 | K33: 6
B34: Всего работ и затрат, включаемых в стоимость
B35: В том числе:
A36: Итого
A37: Сумма НДС
A38: Всего с учетом НДС
A42: Заказчик (генподрядчик)
C43: должность | G43: подпись | J43: расшифровка подпись
A45: МП
A49: Подрядчик (субподрядчик)
C50: должность | G50: подпись | J50: расшифровка подпись
A52: МП

Sheet Source
A1: 0 | B1: Smeta.RU (495) 974-1589 | D1: _PS_ | F1: 0 | G1: 0 | H1: 0 | I1: Smeta.RU | J1: НИЯУ МИФИ Доп. раб. место MCCS-0027251 | K1: 0 | L1: 27251 | M1: 10 | N1: 10 | O1: 1 | P1: 0 | Q1: 8
A12: 1 | B12: 438 | C12: 0 | D12: =ROW(A380) -> 380 | E12: 0 | F12: Новый объект_(Копия)_(Копия)_(Копия) | G12: на капитальный ремонт помещений № 17 (К-212), № 18 (К-213), № 19 (К-214), № 20 (К-215) 2-го этажа учебно-научного корпуса "К" НИЯУ МИФИ по адресу: г. Москва, Каширское шоссе, д. 31, стр. 46 | I12: 0 | K12: 0 | O12: 0 | P12: 0 | Q12: 0 | R12: 0 | V12: 0 | BH12: Сметные нормы списания | BI12: Коды ценников | BJ12: 1 | BK12: 1 | BL12: 0 | BM12: 0 | BN12: 1 | BO12: 0 | BP12: 2 | BQ12: 2 | BR12: 1 | BS12: 1 | BT12: 0 | BU12: 0 | BV12: 0 | BW12: 0 | BX12: 0 | BY12: ФЕР-2017 | BZ12: ТР для Версии 10: Центральные регионы (с учетом п-ма 2536-ИП/12/ГС от 22.03.2017 г | CA12: ФЕР-2017 | CB12: ФЕР-2017 | CC12: ФЕР-2017 | CD12: ФЕР-2017 | CE12: Поправки для ГСН 2017 от 31.03.2017 г | CF12: 0 | CG12: 0 | CH12: 524296 | CK12: 4 | EC12: 0
A15: 15 | B15: 1
A18: 52 | B18: =B380 -> 438 | C18: =C380 -> 1 | D18: =D380 -> 12 | E18: =E380 -> 0 | F18: =F380 -> Новый объект_(Копия)_(Копия)_(Копия) | G18: =G380 -> на капитальный ремонт помещений № 17 (К-212), № 18 (К-213), № 19 (К-214), № 20 (К-215) 2-го этажа учебно-научного корпуса "К" НИЯУ МИФИ по адресу: г. Москва, Каширское шоссе, д. 31, стр. 46 | O18: =O380 -> 1719506.6 | P18: =P380 -> 1586245.8 | Q18: =Q380 -> 10602.66 | R18: =R380 -> 1816.96 | S18: =S380 -> 122658.18 | T18: =T380 -> 0 | U18: =U380 -> 1678.3632 | V18: =V380 -> 22.156505 | ... GX18: =GX380 -> 0
A20: 3 | B20: 1 | D20: =ROW(A348) -> 348 | F20: Новая локальная смета | G20: Новая локальная смета | I20: 0 | K20: 0 | V20: 0 | BX20: 0 | CF20: 0 | CG20: 0
A22: 52 | B22: =B348 -> 1 | C22: =C348 -> 3 | D22: =D348 -> 20 | E22: =E348 -> 0 | F22: =F348 -> Новая локальная смета | G22: =G348 -> Новая локальная смета | O22: =O348 -> 1719506.6 | P22: =P348 -> 1586245.8 | Q22: =Q348 -> 10602.66 | R22: =R348 -> 1816.96 | S22: =S348 -> 122658.18 | T22: =T348 -> 0 | U22: =U348 -> 1678.3632 | V22: =V348 -> 22.156505 | ... GX22: =GX348 -> 0
A24: 4 | B24: 1 | D24: =ROW(A108) -> 108 | F24: Новый раздел | G24: 1 Общестроительные работы | I24: 0 | K24: 0 | V24: 0 | BX24: 0 | CJ24: 0
A26: 52 | B26: =B108 -> 1 | C26: =C108 -> 4 | D26: =D108 -> 24 | E26: =E108 -> 0 | F26: =F108 -> Новый раздел | G26: =G108 -> 1 Общестроительные работы | O26: =O108 -> 995743.89 | P26: =P108 -> 935402.41 | Q26: =Q108 -> 7073.06 | R26: =R108 -> 1401.4 | S26: =S108 -> 53268.42 | T26: =T108 -> 0 | U26: =U108 -> 888.24003 | V26: =V108 -> 17.226777 | ... GX26: =GX108 -> 0
A28: 17 | B28: 1 | C28: =ROW(SmtRes!A3) -> 3 | D28: =ROW(EtalonRes!A3) -> 3 | E28: 1 | F28: 46-04-012-03 | G28: Разборка деревянных заполнений проемов дверных и воротных (отбивка штукатурки откосов 24,86м2 входит в состав работ) | H28: 100 м2 | I28: =ROUND(9.36/100,9) -> 0.0936 | J28: 0 | O28: =ROUND(CP28,2) -> 679.92 | P28: =ROUND(CQ28*I28,2) -> 0 | Q28: =ROUND(CR28*I28,2) -> 151.96 | R28: =ROUND(CS28*I28,2) -> 65.63 | S28: =ROUND(CT28*I28,2) -> 527.96 | T28: =ROUND(CU28*I28,2) -> 0 | U28: =CV28*I28 -> 9.725976 | V28: =CW28*I28 -> 0.724464 | W28: =ROUND(CX28*I28,2) -> 0 | X28: =ROUND(CY28,2) -> 587.65 | Y28: =ROUND(CZ28,2) -> 356.15 | AA28: 16812721 | AB28: =ROUND((AC28+AD28+AF28),2) -> 1082.58 | AC28: =ROUND((ES28),2) -> 0 | AD28: =ROUND((((ET28)-(EU28))+AE28),2) -> 241.95 | AE28: =ROUND((EU28),2) -> 104.49 | AF28: =ROUND((EV28),2) -> 840.63 | AG28: =ROUND((AP28),2) -> 0 | AH28: =(EW28) -> 103.91 | AI28: =(EX28) -> 7.74 | AJ28: =(AS28) -> 0 | AK28: 1082.58 | AL28: 0 | AM28: 241.95 | AN28: 104.49 | AO28: 840.63 | AP28: 0 | AQ28: 103.91 | AR28: 7.74 | AS28: 0 | AT28: 99 | AU28: 60 | AV28: 1 | AW28: 1 | AZ28: 6.71 | BA28: 6.71 | BB28: 6.71 | BC28: 6.71 | BH28: 0 | BI28: 1 | BJ28: ФЕР-2001, 46-04-012-03, приказ Минстроя России №1039/пр от 30.12.2016г. | BM28: 46001 | BN28: 0 | BP28: 0 | BQ28: 2 | BR28: 0 | BS28: 6.71 | BT28: 1 | BU28: 1 | BV28: 1 | BW28: 1 | BX28: 1 | BZ28: 110 | CA28: 70 | CE28: 0 | CF28: 0 | CG28: 0 | CM28: 0 | CO28: 0 | CP28: =(P28+Q28+S28) -> 679.92 | CQ28: =AC28*BC28 -> 0 | CR28: =AD28*BB28 -> 1623.4845 | CS28: =AE28*BS28 -> 701.1279 | CT28: =AF28*BA28 -> 5640.6273 | CU28: =AG28 -> 0 | CV28: =AH28 -> 103.91 | CW28: =AI28 -> 7.74 | CX28: =AJ28 -> 0 | CY28: =(((S28+R28)*AT28)/100) -> 587.6541 | CZ28: =(((S28+R28)*AU28)/100) -> 356.154 | DN28: 0 | DO28: 0 | DP28: 1 | DQ28: 1 | DU28: 1005 | DV28: 100 м2 | DW28: 100 м2 | DX28: 100 | EE28: 16510555 | EF28: 2 | EG28: Общестроительные работы | EH28: 0 | EJ28: 1 | EK28: 46001 | EL28: Реконструкция зданий и сооружений | EM28: ФЕР-46 | EQ28: 131072 | ER28: 1082.58 | ES28: 0 | ET28: 241.95 | EU28: 104.49 | EV28: 840.63 | EW28: 103.91 | EX28: 7.74 | EY28: 0 | FQ28: 0 | FR28: =ROUND(IF(AND(BH28=3,BI28=3),P28,0),2) -> 0 | FS28: 0 | FT28: *0,9 | FU28: *0,85 | FX28: 99 | FY28: 59.5 | GD28: 0 | GF28: 714913370 | GG28: 1 | GH28: 1 | GI28: 4 | GJ28: 0 | GK28: =ROUND(R28*(R12)/100,2) -> 0 | GL28: =ROUND(IF(AND(BH28=3,BI28=3,FS28<>0),P28,0),2) -> 0 | GM28: =ROUND(O28+X28+Y28+GK28,2)+GX28 -> 1623.72 | GN28: =IF(OR(BI28=0,BI28=1),ROUND(O28+X28+Y28+GK28,2),0) -> 1623.72 | GO28: =IF(BI28=2,ROUND(O28+X28+Y28+GK28,2),0) -> 0 | GP28: =IF(BI28=4,ROUND(O28+X28+Y28+GK28,2)+GX28,0) -> 0 | GR28: 0 | GS28: 3 | GT28: 0 | GV28: =ROUND((GT28),2) -> 0 | GW28: 1 | GX28: =ROUND(HC28*I28,2) -> 0 | HA28: 0 | HB28: 0 | HC28: =GV28*GW28 -> 0 | IK28: 0
A29: 17 | B29: 1 | C29: =ROW(SmtRes!A10) -> 10 | D29: =ROW(EtalonRes!A12) -> 12 | E29: 2 | F29: 09-04-012-01 | G29: Демонтаж: Установка металлических дверных блоков в готовые проемы | H29: м2 | I29: 8.74 | J29: 0 | O29: =ROUND(CP29,2) -> 1569.35 | P29: =ROUND(CQ29*I29,2) -> 0 | Q29: =ROUND(CR29*I29,2) -> 591.73 | R29: =ROUND(CS29*I29,2) -> 80.93 | S29: =ROUND(CT29*I29,2) -> 977.62 | T29: =ROUND(CU29*I29,2) -> 0 | U29: =CV29*I29 -> 14.6832 | V29: =CW29*I29 -> 1.04006 | W29: =ROUND(CX29*I29,2) -> 0 | X29: =ROUND(CY29,2) -> 857.43 | Y29: =ROUND(CZ29,2) -> 762.16 | AA29: 16812721 | AB29: =ROUND((AC29+AD29+AF29),2) -> 26.76 | AC29: =ROUND(((ES29*0)),2) -> 0 | AD29: =ROUND(((((ET29*0.7))-((EU29*0.7)))+AE29),2) -> 10.09 | AE29: =ROUND(((EU29*0.7)),2) -> 1.38 | AF29: =ROUND(((EV29*0.7)),2) -> 16.67 | AG29: =ROUND((AP29),2) -> 0 | AH29: =((EW29*0.7)) -> 1.68 | AI29: =((EX29*0.7)) -> 0.119 | AJ29: =(AS29) -> 0 | AK29: 63.94 | AL29: 25.72 | AM29: 14.41 | AN29: 1.97 | AO29: 23.81 | AP29: 0 | AQ29: 2.4 | AR29: 0.17 | AS29: 0 | AT29: 81 | AU29: 72 | AV29: 1 | AW29: 1 | AZ29: 6.71 | BA29: 6.71 | BB29: 6.71 | BC29: 6.71 | BH29: 0 | BI29: 1 | BJ29: ФЕР-2001, 09-04-012-01, приказ Минстроя России №1039/пр от 30.12.2016г. | BM29: 9001 | BN29: 0 | BP29: 0 | BQ29: 2 | BR29: 0 | BS29: 6.71 | BT29: 1 | BU29: 1 | BV29: 1 | BW29: 1 | BX29: 1 | BZ29: 90 | CA29: 85 | CE29: 0 | CF29: 0 | CG29: 0 | CM29: 0 | CN29: Поправка: Прил. 9.3, п.5 Наименование: Разборка (демонтаж) металлических конструкций | CO29: 0 | CP29: =(P29+Q29+S29) -> 1569.35 | CQ29: =AC29*BC29 -> 0 | CR29: =AD29*BB29 -> 67.7039 | CS29: =AE29*BS29 -> 9.2598 | CT29: =AF29*BA29 -> 111.8557 | CU29: =AG29 -> 0 | CV29: =AH29 -> 1.68 | CW29: =AI29 -> 0.119 | CX29: =AJ29 -> 0 | CY29: =(((S29+R29)*AT29)/100) -> 857.4255 | CZ29: =(((S29+R29)*AU29)/100) -> 762.156 | DD29: )*0 | DE29: )*0,7 | DF29: )*0,7 | DG29: )*0,7 | DI29: )*0,7 | DJ29: )*0,7 | DN29: 0 | DO29: 0 | DP29: 1 | DQ29: 1 | DU29: 1005 | DV29: м2 | DW29: м2 | DX29: 1 | EE29: 16510486 | EF29: 2 | EG29: Общестроительные работы | EH29: 0 | EJ29: 1 | EK29: 9001 | EL29: Металлические конструкции | EM29: ФЕР-09 | EO29: Поправка: Прил. 9.3, п.5 | EQ29: 0 | ER29: 63.94 | ES29: 25.72 | ET29: 14.41 | EU29: 1.97 | EV29: 23.81 | EW29: 2.4 | EX29: 0.17 | EY29: 0 | FQ29: 0 | FR29: =ROUND(IF(AND(BH29=3,BI29=3),P29,0),2) -> 0 | FS29: 0 | FT29: *0,9 | FU29: *0,85 | FX29: 81 | FY29: 72.25 | GD29: 0 | GF29: -1162533564 | GG29: 1 | GH29: 1 | GI29: 4 | GJ29: 0 | GK29: =ROUND(R29*(R12)/100,2) -> 0 | GL29: =ROUND(IF(AND(BH29=3,BI29=3,FS29<>0),P29,0),2) -> 0 | GM29: =ROUND(O29+X29+Y29+GK29,2)+GX29 -> 3188.94 | GN29: =IF(OR(BI29=0,BI29=1),ROUND(O29+X29+Y29+GK29,2),0) -> 3188.94 | GO29: =IF(BI29=2,ROUND(O29+X29+Y29+GK29,2),0) -> 0 | GP29: =IF(BI29=4,ROUND(O29+X29+Y29+GK29,2)+GX29,0) -> 0 | GR29: 0 | GS29: 3 | GT29: 0 | GV29: =ROUND((GT29),2) -> 0 | GW29: 1 | GX29: =ROUND(HC29*I29,2) -> 0 | HA29: 0 | HB29: 0 | HC29: =GV29*GW29 -> 0 | IK29: 0
A30: 17 | B30: 1 | C30: =ROW(SmtRes!A11) -> 11 | D30: =ROW(EtalonRes!A14) -> 14 | E30: 3 | F30: 57-3-1 | G30: Разборка плинтусов деревянных и из пластмассовых материалов | H30: 100 м | I30: =ROUND(95.6/100,9) -> 0.956 | J30: 0 | O30: =ROUND(CP30,2) -> 188.66 | P30: =ROUND(CQ30*I30,2) -> 0 | Q30: =ROUND(CR30*I30,2) -> 0 | R30: =ROUND(CS30*I30,2) -> 0 | S30: =ROUND(CT30*I30,2) -> 188.66 | T30: =ROUND(CU30*I30,2) -> 0 | U30: =CV30*I30 -> 3.60412 | V30: =CW30*I30 -> 0 | W30: =ROUND(CX30*I30,2) -> 0 | X30: =ROUND(CY30,2) -> 150.93 | Y30: =ROUND(CZ30,2) -> 128.29 | AA30: 16812721 | AB30: =ROUND((AC30+AD30+AF30),2) -> 29.41 | AC30: =ROUND((ES30),2) -> 0 | AD30: =ROUND((((ET30)-(EU30))+AE30),2) -> 0 | AE30: =ROUND((EU30),2) -> 0 | AF30: =ROUND((EV30),2) -> 29.41 | AG30: =ROUND((AP30),2) -> 0 | AH30: =(EW30) -> 3.77 | AI30: =(EX30) -> 0 | AJ30: =(AS30) -> 0 | AK30: 29.41 | AL30: 0 | AM30: 0 | AN30: 0 | AO30: 29.41 | AP30: 0 | AQ30: 3.77 | AR30: 0 | AS30: 0 | AT30: 80 | AU30: 68 | AV30: 1 | AW30: 1 | AZ30: 6.71 | BA30: 6.71 | BB30: 6.71 | BC30: 6.71 | BH30: 0 | BI30: 1 | BJ30: ФЕР-2001, 57-3-1, приказ Минстроя России №1039/пр от 30.12.2016г. | BM30: 57001 | BN30: 0 | BP30: 0 | BQ30: 6 | BR30: 0 | BS30: 6.71 | BT30: 1 | BU30: 1 | BV30: 1 | BW30: 1 | BX30: 1 | BZ30: 80 | CA30: 68 | CE30: 0 | CF30: 0 | CG30: 0 | CM30: 0 | CO30: 0 | CP30: =(P30+Q30+S30) -> 188.66 | CQ30: =AC30*BC30 -> 0 | CR30: =AD30*BB30 -> 0 | CS30: =AE30*BS30 -> 0 | CT30: =AF30*BA30 -> 197.3411 | CU30: =AG30 -> 0 | CV30: =AH30 -> 3.77 | CW30: =AI30 -> 0 | CX30: =AJ30 -> 0 | CY30: =(((S30+R30)*AT30)/100) -> 150.928 | CZ30: =(((S30+R30)*AU30)/100) -> 128.2888 | DN30: 0 | DO30: 0 | DP30: 1 | DQ30: 1 | DU30: 1003 | DV30: 100 м | DW30: 100 м | DX30: 100 | EE30: 16510566 | EF30: 6 | EG30: Ремонтно-строительные работы | EH30: 0 | EJ30: 1 | EK30: 57001 | EL30: Полы | EM30: рФЕР-57 | EQ30: 131072 | ER30: 29.41 | ES30: 0 | ET30: 0 | EU30: 0 | EV30: 29.41 | EW30: 3.77 | EX30: 0 | EY30: 0 | FQ30: 0 | FR30: =ROUND(IF(AND(BH30=3,BI30=3),P30,0),2) -> 0 | FS30: 0 | FX30: 80 | FY30: 68 | GD30: 0 | GF30: -1431764135 | GG30: 1 | GH30: 1 | GI30: 4 | GJ30: 0 | GK30: =ROUND(R30*(R12)/100,2) -> 0 | GL30: =ROUND(IF(AND(BH30=3,BI30=3,FS30<>0),P30,0),2) -> 0 | GM30: =ROUND(O30+X30+Y30+GK30,2)+GX30 -> 467.88 | GN30: =IF(OR(BI30=0,BI30=1),ROUND(O30+X30+Y30+GK30,2),0) -> 467.88 | GO30: =IF(BI30=2,ROUND(O30+X30+Y30+GK30,2),0) -> 0 | GP30: =IF(BI30=4,ROUND(O30+X30+Y30+GK30,2)+GX30,0) -> 0 | GR30: 0 | GS30: 0 | GT30: 0 | GV30: =ROUND((GT30),2) -> 0 | GW30: 1 | GX30: =ROUND(HC30*I30,2) -> 0 | HA30: 0 | HB30: 0 | HC30: =GV30*GW30 -> 0 | IK30: 0
A31: 17 | B31: 1 | C31: =ROW(SmtRes!A14) -> 14 | D31: =ROW(EtalonRes!A18) -> 18 | E31: 4 | F31: 57-2-1 | G31: Разборка покрытий полов из линолеума и релина | H31: 100 м2 | I31: =ROUND(133.16/100,9) -> 1.3316 | J31: 0 | O31: =ROUND(CP31,2) -> 830.07 | P31: =ROUND(CQ31*I31,2) -> 0 | Q31: =ROUND(CR31*I31,2) -> 36.28 | R31: =ROUND(CS31*I31,2) -> 15.73 | S31: =ROUND(CT31*I31,2) -> 793.79 | T31: =ROUND(CU31*I31,2) -> 0 | U31: =CV31*I31 -> 15.166924 | V31: =CW31*I31 -> 0.173108 | W31: =ROUND(CX31*I31,2) -> 0 | X31: =ROUND(CY31,2) -> 647.62 | Y31: =ROUND(CZ31,2) -> 550.47 | AA31: 16812721 | AB31: =ROUND((AC31+AD31+AF31),2) -> 92.9 | AC31: =ROUND((ES31),2) -> 0 | AD31: =ROUND((((ET31)-(EU31))+AE31),2) -> 4.06 | AE31: =ROUND((EU31),2) -> 1.76 | AF31: =ROUND((EV31),2) -> 88.84 | AG31: =ROUND((AP31),2) -> 0 | AH31: =(EW31) -> 11.39 | AI31: =(EX31) -> 0.13 | AJ31: =(AS31) -> 0 | AK31: 92.9 | AL31: 0 | AM31: 4.06 | AN31: 1.76 | AO31: 88.84 | AP31: 0 | AQ31: 11.39 | AR31: 0.13 | AS31: 0 | AT31: 80 | AU31: 68 | AV31: 1 | AW31: 1 | AZ31: 6.71 | BA31: 6.71 | BB31: 6.71 | BC31: 6.71 | BH31: 0 | BI31: 1 | BJ31: ФЕРр-2001, 57-2-1, приказ Минстроя России №1039/пр от 30.12.2016г. | BM31: 57001 | BN31: 0 | BP31: 0 | BQ31: 6 | BR31: 0 | BS31: 6.71 | BT31: 1 | BU31: 1 | BV31: 1 | BW31: 1 | BX31: 1 | BZ31: 80 | CA31: 68 | CE31: 0 | CF31: 0 | CG31: 0 | CM31: 0 | CO31: 0 | CP31: =(P31+Q31+S31) -> 830.07 | CQ31: =AC31*BC31 -> 0 | CR31: =AD31*BB31 -> 27.2426 | CS31: =AE31*BS31 -> 11.8096 | CT31: =AF31*BA31 -> 596.1164 | CU31: =AG31 -> 0 | CV31: =AH31 -> 11.39 | CW31: =AI31 -> 0.13 | CX31: =AJ31 -> 0 | CY31: =(((S31+R31)*AT31)/100) -> 647.616 | CZ31: =(((S31+R31)*AU31)/100) -> 550.4736 | DN31: 0 | DO31: 0 | DP31: 1 | DQ31: 1 | DU31: 1005 | DV31: 100 м2 | DW31: 100 м2 | DX31: 100 | EE31: 16510566 | EF31: 6 | EG31: Ремонтно-строительные работы | EH31: 0 | EJ31: 1 | EK31: 57001 | EL31: Полы | EM31: рФЕР-57 | EQ31: 131072 | ER31: 92.9 | ES31: 0 | ET31: 4.06 | EU31: 1.76 | EV31: 88.84 | EW31: 11.39 | EX31: 0.13 | EY31: 0 | FQ31: 0 | FR31: =ROUND(IF(AND(BH31=3,BI31=3),P31,0),2) -> 0 | FS31: 0 | FX31: 80 | FY31: 68 | GD31: 0 | GF31: 537707280 | GG31: 1 | GH31: 1 | GI31: 4 | GJ31: 0 | GK31: =ROUND(R31*(R12)/100,2) -> 0 | GL31: =ROUND(IF(AND(BH31=3,BI31=3,FS31<>0),P31,0),2) -> 0 | GM31: =ROUND(O31+X31+Y31+GK31,2)+GX31 -> 2028.16 | GN31: =IF(OR(BI31=0,BI31=1),ROUND(O31+X31+Y31+GK31,2),0) -> 2028.16 | GO31: =IF(BI31=2,ROUND(O31+X31+Y31+GK31,2),0) -> 0 | GP31: =IF(BI31=4,ROUND(O31+X31+Y31+GK31,2)+GX31,0) -> 0 | GR31: 0 | GS31: 3 | GT31: 0 | GV31: =ROUND((GT31),2) -> 0 | GW31: 1 | GX31: =ROUND(HC31*I31,2) -> 0 | HA31: 0 | HB31: 0 | HC31: =GV31*GW31 -> 0 | IK31: 0
A32: 17 | B32: 1 | C32: =ROW(SmtRes!A17) -> 17 | D32: =ROW(EtalonRes!A21) -> 21 | E32: 5 | F32: 46-04-010-03 | G32: Разборка покрытий полов паркетных | H32: 100 м2 | I32: =ROUND(1.26/100,9) -> 0.0126 | J32: 0 | O32: =ROUND(CP32,2) -> 34.99 | P32: =ROUND(CQ32*I32,2) -> 0 | Q32: =ROUND(CR32*I32,2) -> 4.65 | R32: =ROUND(CS32*I32,2) -> 2.01 | S32: =ROUND(CT32*I32,2) -> 30.34 | T32: =ROUND(CU32*I32,2) -> 0 | U32: =CV32*I32 -> 0.579726 | V32: =CW32*I32 -> 0.022176 | W32: =ROUND(CX32*I32,2) -> 0 | X32: =ROUND(CY32,2) -> 32.03 | Y32: =ROUND(CZ32,2) -> 19.41 | AA32: 16812721 | AB32: =ROUND((AC32+AD32+AF32),2) -> 413.9 | AC32: =ROUND((ES32),2) -> 0 | AD32: =ROUND((((ET32)-(EU32))+AE32),2) -> 55.02 | AE32: =ROUND((EU32),2) -> 23.76 | AF32: =ROUND((EV32),2) -> 358.88 | AG32: =ROUND((AP32),2) -> 0 | AH32: =(EW32) -> 46.01 | AI32: =(EX32) -> 1.76 | AJ32: =(AS32) -> 0 | AK32: 413.9 | AL32: 0 | AM32: 55.02 | AN32: 23.76 | AO32: 358.88 | AP32: 0 | AQ32: 46.01 | AR32: 1.76 | AS32: 0 | AT32: 99 | AU32: 60 | AV32: 1 | AW32: 1 | AZ32: 6.71 | BA32: 6.71 | BB32: 6.71 | BC32: 6.71 | BH32: 0 | BI32: 1 | BJ32: ФЕР-2001, 46-04-010-03, приказ Минстроя России №1039/пр от 30.12.2016г. | BM32: 46001 | BN32: 0 | BP32: 0 | BQ32: 2 | BR32: 0 | BS32: 6.71 | BT32: 1 | BU32: 1 | BV32: 1 | BW32: 1 | BX32: 1 | BZ32: 110 | CA32: 70 | CE32: 0 | CF32: 0 | CG32: 0 | CM32: 0 | CO32: 0 | CP32: =(P32+Q32+S32) -> 34.99 | CQ32: =AC32*BC32 -> 0 | CR32: =AD32*BB32 -> 369.1842 | CS32: =AE32*BS32 -> 159.4296 | CT32: =AF32*BA32 -> 2408.0848 | CU32: =AG32 -> 0 | CV32: =AH32 -> 46.01 | CW32: =AI32 -> 1.76 | CX32: =AJ32 -> 0 | CY32: =(((S32+R32)*AT32)/100) -> 32.0265 | CZ32: =(((S32+R32)*AU32)/100) -> 19.41 | DN32: 0 | DO32: 0 | DP32: 1 | DQ32: 1 | DU32: 1005 | DV32: 100 м2 | DW32: 100 м2 | DX32: 100 | EE32: 16510555 | EF32: 2 | EG32: Общестроительные работы | EH32: 0 | EJ32: 1 | EK32: 46001 | EL32: Реконструкция зданий и сооружений | EM32: ФЕР-46 | EQ32: 0 | ER32: 413.9 | ES32: 0 | ET32: 55.02 | EU32: 23.76 | EV32: 358.88 | EW32: 46.01 | EX32: 1.76 | EY32: 0 | FQ32: 0 | FR32: =ROUND(IF(AND(BH32=3,BI32=3),P32,0),2) -> 0 | FS32: 0 | FT32: *0,9 | FU32: *0,85 | FX32: 99 | FY32: 59.5 | GD32: 0 | GF32: -96571562 | GG32: 1 | GH32: 1 | GI32: 4 | GJ32: 0 | GK32: =ROUND(R32*(R12)/100,2) -> 0 | GL32: =ROUND(IF(AND(BH32=3,BI32=3,FS32<>0),P32,0),2) -> 0 | GM32: =ROUND(O32+X32+Y32+GK32,2)+GX32 -> 86.43 | GN32: =IF(OR(BI32=0,BI32=1),ROUND(O32+X32+Y32+GK32,2),0) -> 86.43 | GO32: =IF(BI32=2,ROUND(O32+X32+Y32+GK32,2),0) -> 0 | GP32: =IF(BI32=4,ROUND(O32+X32+Y32+GK32,2)+GX32,0) -> 0 | GR32: 0 | GS32: 3 | GT32: 0 | GV32: =ROUND((GT32),2) -> 0 | GW32: 1 | GX32: =ROUND(HC32*I32,2) -> 0 | HA32: 0 | HB32: 0 | HC32: =GV32*GW32 -> 0 | IK32: 0
A33: 17 | B33: 1 | C33: =ROW(SmtRes!A23) -> 23 | D33: =ROW(EtalonRes!A28) -> 28 | E33: 6 | F33: 65-33-1 | G33: Смена жалюзийных решеток | H33: 100 ШТ | I33: =ROUND(8/100,9) -> 0.08 | J33: 0 | O33: =ROUND(CP33,2) -> 231.29 | P33: =ROUND(CQ33*I33,2) -> 19.62 | Q33: =ROUND(CR33*I33,2) -> 0.17 | R33: =ROUND(CS33*I33,2) -> 0.08 | S33: =ROUND(CT33*I33,2) -> 211.5 | T33: =ROUND(CU33*I33,2) -> 0 | U33: =CV33*I33 -> 3.6952 | V33: =CW33*I33 -> 0.0008 | W33: =ROUND(CX33*I33,2) -> 0 | X33: =ROUND(CY33,2) -> 217.93 | Y33: =ROUND(CZ33,2) -> 126.95 | AA33: 16812721 | AB33: =ROUND((AC33+AD33+AF33),2) -> 430.86 | AC33: =ROUND((ES33),2) -> 36.55 | AD33: =ROUND((((ET33)-(EU33))+AE33),2) -> 0.31 | AE33: =ROUND((EU33),2) -> 0.14 | AF33: =ROUND((EV33),2) -> 394 | AG33: =ROUND((AP33),2) -> 0 | AH33: =(EW33) -> 46.19 | AI33: =(EX33) -> 0.01 | AJ33: =(AS33) -> 0 | AK33: 430.86 | AL33: 36.55 | AM33: 0.31 | AN33: 0.14 | AO33: 394 | AP33: 0 | AQ33: 46.19 | AR33: 0.01 | AS33: 0 | AT33: 103 | AU33: 60 | AV33: 1 | AW33: 1 | AZ33: 6.71 | BA33: 6.71 | BB33: 6.71 | BC33: 6.71 | BH33: 0 | BI33: 1 | BJ33: ФЕР-2001, 65-33-1, приказ Минстроя России №1039/пр от 30.12.2016г. | BM33: 65010 | BN33: 0 | BP33: 0 | BQ33: 6 | BR33: 0 | BS33: 6.71 | BT33: 1 | BU33: 1 | BV33: 1 | BW33: 1 | BX33: 1 | BZ33: 103 | CA33: 60 | CE33: 0 | CF33: 0 | CG33: 0 | CM33: 0 | CO33: 0 | CP33: =(P33+Q33+S33) -> 231.29 | CQ33: =AC33*BC33 -> 245.2505 | CR33: =AD33*BB33 -> 2.0801 | CS33: =AE33*BS33 -> 0.9394 | CT33: =AF33*BA33 -> 2643.74 | CU33: =AG33 -> 0 | CV33: =AH33 -> 46.19 | CW33: =AI33 -> 0.01 | CX33: =AJ33 -> 0 | CY33: =(((S33+R33)*AT33)/100) -> 217.9274 | CZ33: =(((S33+R33)*AU33)/100) -> 126.948 | DN33: 0 | DO33: 0 | DP33: 1 | DQ33: 1 | DU33: 1013 | DV33: 100 ШТ | DW33: 100 ШТ | DX33: 1 | EE33: 16510589 | EF33: 6 | EG33: Ремонтно-строительные работы | EH33: 0 | EJ33: 1 | EK33: 65010 | EL33: Внтуренниие с/техработы: смена труб | EM33: рФЕР-65 | EQ33: 131072 | ER33: 430.86 | ES33: 36.55 | ET33: 0.31 | EU33: 0.14 | EV33: 394 | EW33: 46.19 | EX33: 0.01 | EY33: 0 | FQ33: 0 | FR33: =ROUND(IF(AND(BH33=3,BI33=3),P33,0),2) -> 0 | FS33: 0 | FX33: 103 | FY33: 60 | GD33: 0 | GF33: -2051527918 | GG33: 1 | GH33: 1 | GI33: 4 | GJ33: 0 | GK33: =ROUND(R33*(R12)/100,2) -> 0 | GL33: =ROUND(IF(AND(BH33=3,BI33=3,FS33<>0),P33,0),2) -> 0 | GM33: =ROUND(O33+X33+Y33+GK33,2)+GX33 -> 576.17 | GN33: =IF(OR(BI33=0,BI33=1),ROUND(O33+X33+Y33+GK33,2),0) -> 576.17 | GO33: =IF(BI33=2,ROUND(O33+X33+Y33+GK33,2),0) -> 0 | GP33: =IF(BI33=4,ROUND(O33+X33+Y33+GK33,2)+GX33,0) -> 0 | GR33: 0 | GS33: 0 | GT33: 0 | GV33: =ROUND((GT33),2) -> 0 | GW33: 1 | GX33: =ROUND(HC33*I33,2) -> 0 | HA33: 0 | HB33: 0 | HC33: =GV33*GW33 -> 0 | IK33: 0
A34: 18 | B34: 1 | C34: 23 | E34: 6,1 | F34: 19.2.03.07-0028 | G34: Решетки пластиковые вентиляционные прим.(согласно тех.заданию) | H34: шт. | I34: =I33*J34 -> 8 | J34: 100 | O34: =ROUND(CP34,2) -> 51333.65 | P34: =ROUND(CQ34*I34,2) -> 51333.65 | Q34: =ROUND(CR34*I34,2) -> 0 | R34: =ROUND(CS34*I34,2) -> 0 | S34: =ROUND(CT34*I34,2) -> 0 | T34: =ROUND(CU34*I34,2) -> 0 | U34: =CV34*I34 -> 0 | V34: =CW34*I34 -> 0 | W34: =ROUND(CX34*I34,2) -> 0 | X34: =ROUND(CY34,2) -> 0 | Y34: =ROUND(CZ34,2) -> 0 | AA34: 16812721 | AB34: =ROUND((AC34+AD34+AF34),2) -> 956.29 | AC34: =ROUND((ES34),2) -> 956.29 | AD34: =ROUND((((ET34)-(EU34))+AE34),2) -> 0 | AE34: =ROUND((EU34),2) -> 0 | AF34: =ROUND((EV34),2) -> 0 | AG34: =ROUND((AP34),2) -> 0 | AH34: =(EW34) -> 0 | AI34: =(EX34) -> 0 | AJ34: =(AS34) -> 0 | AK34: 956.29 | AL34: 956.29 | AM34: 0 | AN34: 0 | AO34: 0 | AP34: 0 | AQ34: 0 | AR34: 0 | AS34: 0 | AT34: 103 | AU34: 60 | AV34: 1 | AW34: 1 | AZ34: 6.71 | BA34: 1 | BB34: 1 | BC34: 6.71 | BH34: 3 | BI34: 1 | BJ34: ФССЦ-2001, 19.2.03.07-0028, приказ Минстроя России №1039/пр от 30.12.2016г. | BM34: 65010 | BN34: 0 | BP34: 0 | BQ34: 6 | BR34: 0 | BS34: 1 | BT34: 1 | BU34: 1 | BV34: 1 | BW34: 1 | BX34: 1 | BZ34: 103 | CA34: 60 | CE34: 0 | CF34: 0 | CG34: 0 | CM34: 0 | CO34: 0 | CP34: =(P34+Q34+S34) -> 51333.65 | CQ34: =AC34*BC34 -> 6416.7059 | CR34: =AD34*BB34 -> 0 | CS34: =AE34*BS34 -> 0 | CT34: =AF34*BA34 -> 0 | CU34: =AG34 -> 0 | CV34: =AH34 -> 0 | CW34: =AI34 -> 0 | CX34: =AJ34 -> 0 | CY34: =(((S34+R34)*AT34)/100) -> 0 | CZ34: =(((S34+R34)*AU34)/100) -> 0 | DN34: 0 | DO34: 0 | DP34: 1 | DQ34: 1 | DU34: 1010 | DV34: шт. | DW34: шт. | DX34: 1 | EE34: 16510589 | EF34: 6 | EG34: Ремонтно-строительные работы | EH34: 0 | EJ34: 1 | EK34: 65010 | EL34: Внтуренниие с/техработы: смена труб | EM34: рФЕР-65 | EQ34: 0 | ER34: 956.29 | ES34: 956.29 | ET34: 0 | EU34: 0 | EV34: 0 | EW34: 0 | EX34: 0 | FQ34: 0 | FR34: =ROUND(IF(AND(BH34=3,BI34=3),P34,0),2) -> 0 | FS34: 0 | FX34: 103 | FY34: 60 | GD34: 0 | GF34: 128350836 | GG34: 1 | GH34: 1 | GI34: 4 | GJ34: 0 | GK34: =ROUND(R34*(R12)/100,2) -> 0 | GL34: =ROUND(IF(AND(BH34=3,BI34=3,FS34<>0),P34,0),2) -> 0 | GM34: =ROUND(O34+X34+Y34+GK34,2)+GX34 -> 51333.65 | GN34: =IF(OR(BI34=0,BI34=1),ROUND(O34+X34+Y34+GK34,2),0) -> 51333.65 | GO34: =IF(BI34=2,ROUND(O34+X34+Y34+GK34,2),0) -> 0 | GP34: =IF(BI34=4,ROUND(O34+X34+Y34+GK34,2)+GX34,0) -> 0 | GR34: 0 | GS34: 3 | GT34: 0 | GV34: =ROUND((GT34),2) -> 0 | GW34: 1 | GX34: =ROUND(HC34*I34,2) -> 0 | HA34: 0 | HB34: 0 | HC34: =GV34*GW34 -> 0 | IK34: 0
A35: 17 | B35: 1 | C35: =ROW(SmtRes!A24) -> 24 | D35: =ROW(EtalonRes!A29) -> 29 | E35: 7 | F35: 46-02-009-02 | G35: Отбивка штукатурки с поверхностей стен | H35: 100 м2 | I35: =ROUND(148/100,9) -> 1.48 | J35: 0 | O35: =ROUND(CP35,2) -> 1767.68 | P35: =ROUND(CQ35*I35,2) -> 0 | Q35: =ROUND(CR35*I35,2) -> 0 | R35: =ROUND(CS35*I35,2) -> 0 | S35: =ROUND(CT35*I35,2) -> 1767.68 | T35: =ROUND(CU35*I35,2) -> 0 | U35: =CV35*I35 -> 33.7736 | V35: =CW35*I35 -> 0 | W35: =ROUND(CX35*I35,2) -> 0 | X35: =ROUND(CY35,2) -> 1750 | Y35: =ROUND(CZ35,2) -> 1060.61 | AA35: 16812721 | AB35: =ROUND((AC35+AD35+AF35),2) -> 178 | AC35: =ROUND((ES35),2) -> 0 | AD35: =ROUND((((ET35)-(EU35))+AE35),2) -> 0 | AE35: =ROUND((EU35),2) -> 0 | AF35: =ROUND((EV35),2) -> 178 | AG35: =ROUND((AP35),2) -> 0 | AH35: =(EW35) -> 22.82 | AI35: =(EX35) -> 0 | AJ35: =(AS35) -> 0 | AK35: 178 | AL35: 0 | AM35: 0 | AN35: 0 | AO35: 178 | AP35: 0 | AQ35: 22.82 | AR35: 0 | AS35: 0 | AT35: 99 | AU35: 60 | AV35: 1 | AW35: 1 | AZ35: 6.71 | BA35: 6.71 | BB35: 6.71 | BC35: 6.71 | BH35: 0 | BI35: 1 | BJ35: ФЕР-2001, 46-02-009-02, приказ Минстроя России №1039/пр от 30.12.2016г. | BM35: 46001 | BN35: 0 | BP35: 0 | BQ35: 2 | BR35: 0 | BS35: 6.71 | BT35: 1 | BU35: 1 | BV35: 1 | BW35: 1 | BX35: 1 | BZ35: 110 | CA35: 70 | CE35: 0 | CF35: 0 | CG35: 0 | CM35: 0 | CO35: 0 | CP35: =(P35+Q35+S35) -> 1767.68 | CQ35: =AC35*BC35 -> 0 | CR35: =AD35*BB35 -> 0 | CS35: =AE35*BS35 -> 0 | CT35: =AF35*BA35 -> 1194.38 | CU35: =AG35 -> 0 | CV35: =AH35 -> 22.82 | CW35: =AI35 -> 0 | CX35: =AJ35 -> 0 | CY35: =(((S35+R35)*AT35)/100) -> 1750.0032 | CZ35: =(((S35+R35)*AU35)/100) -> 1060.608 | DN35: 0 | DO35: 0 | DP35: 1 | DQ35: 1 | DU35: 1005 | DV35: 100 м2 | DW35: 100 м2 | DX35: 100 | EE35: 16510555 | EF35: 2 | EG35: Общестроительные работы | EH35: 0 | EJ35: 1 | EK35: 46001 | EL35: Реконструкция зданий и сооружений | EM35: ФЕР-46 | EQ35: 131072 | ER35: 178 | ES35: 0 | ET35: 0 | EU35: 0 | EV35: 178 | EW35: 22.82 | EX35: 0 | EY35: 0 | FQ35: 0 | FR35: =ROUND(IF(AND(BH35=3,BI35=3),P35,0),2) -> 0 | FS35: 0 | FT35: *0,9 | FU35: *0,85 | FX35: 99 | FY35: 59.5 | GD35: 0 | GF35: 232532105 | GG35: 1 | GH35: 1 | GI35: 4 | GJ35: 0 | GK35: =ROUND(R35*(R12)/100,2) -> 0 | GL35: =ROUND(IF(AND(BH35=3,BI35=3,FS35<>0),P35,0),2) -> 0 | GM35: =ROUND(O35+X35+Y35+GK35,2)+GX35 -> 4578.29 | GN35: =IF(OR(BI35=0,BI35=1),ROUND(O35+X35+Y35+GK35,2),0) -> 4578.29 | GO35: =IF(BI35=2,ROUND(O35+X35+Y35+GK35,2),0) -> 0 | GP35: =IF(BI35=4,ROUND(O35+X35+Y35+GK35,2)+GX35,0) -> 0 | GR35: 0 | GS35: 0 | GT35: 0 | GV35: =ROUND((GT35),2) -> 0 | GW35: 1 | GX35: =ROUND(HC35*I35,2) -> 0 | HA35: 0 | HB35: 0 | HC35: =GV35*GW35 -> 0 | IK35: 0
A36: 17 | B36: 1 | C36: =ROW(SmtRes!A30) -> 30 | D36: =ROW(EtalonRes!A35) -> 35 | E36: 8 | F36: 20-06-001-01 | G36: Демонтаж: Установка кондиционеров доводчиков эжекционных | H36: 10 ШТ | I36: =ROUND(1/10,9) -> 0.1 | J36: 0 | O36: =ROUND(CP36,2) -> 54.12 | P36: =ROUND(CQ36*I36,2) -> 0 | Q36: =ROUND(CR36*I36,2) -> 3.53 | R36: =ROUND(CS36*I36,2) -> 0.62 | S36: =ROUND(CT36*I36,2) -> 50.59 | T36: =ROUND(CU36*I36,2) -> 0 | U36: =CV36*I36 -> 0.76 | V36: =CW36*I36 -> 0.008 | W36: =ROUND(CX36*I36,2) -> 0 | X36: =ROUND(CY36,2) -> 58.89 | Y36: =ROUND(CZ36,2) -> 36.36 | AA36: 16812721 | AB36: =ROUND((AC36+AD36+AF36),2) -> 80.65 | AC36: =ROUND(((ES36*0)),2) -> 0 | AD36: =ROUND(((((ET36*0.4))-((EU36*0.4)))+AE36),2) -> 5.26 | AE36: =ROUND(((EU36*0.4)),2) -> 0.93 | AF36: =ROUND(((EV36*0.4)),2) -> 75.39 | AG36: =ROUND((AP36),2) -> 0 | AH36: =((EW36*0.4)) -> 7.6 | AI36: =((EX36*0.4)) -> 0.08 | AJ36: =(AS36) -> 0 | AK36: 203.31 | AL36: 1.69 | AM36: 13.14 | AN36: 2.32 | AO36: 188.48 | AP36: 0 | AQ36: 19 | AR36: 0.2 | AS36: 0 | AT36: 115 | AU36: 71 | AV36: 1 | AW36: 1 | AZ36: 6.71 | BA36: 6.71 | BB36: 6.71 | BC36: 6.71 | BH36: 0 | BI36: 1 | BJ36: ФЕР-2001, 20-06-001-01, приказ Минстроя России №1039/пр от 30.12.2016г. | BM36: 20001 | BN36: 0 | BP36: 0 | BQ36: 2 | BR36: 0 | BS36: 6.71 | BT36: 1 | BU36: 1 | BV36: 1 | BW36: 1 | BX36: 1 | BZ36: 128 | CA36: 83 | CE36: 0 | CF36: 0 | CG36: 0 | CM36: 0 | CN36: Поправка: Табл.2, п.3 Наименование: При демонтаже (разборке) систем инженерно-технического обеспечения | CO36: 0 | CP36: =(P36+Q36+S36) -> 54.12 | CQ36: =AC36*BC36 -> 0 | CR36: =AD36*BB36 -> 35.2946 | CS36: =AE36*BS36 -> 6.2403 | CT36: =AF36*BA36 -> 505.8669 | CU36: =AG36 -> 0 | CV36: =AH36 -> 7.6 | CW36: =AI36 -> 0.08 | CX36: =AJ36 -> 0 | CY36: =(((S36+R36)*AT36)/100) -> 58.8915 | CZ36: =(((S36+R36)*AU36)/100) -> 36.3591 | DD36: )*0 | DE36: )*0,4 | DF36: )*0,4 | DG36: )*0,4 | DI36: )*0,4 | DJ36: )*0,4 | DN36: 0 | DO36: 0 | DP36: 1 | DQ36: 1 | DU36: 1013 | DV36: 10 ШТ | DW36: 10 ШТ | DX36: 1 | EE36: 16510518 | EF36: 2 | EG36: Общестроительные работы | EH36: 0 | EJ36: 1 | EK36: 20001 | EL36: Вентиляция и кондиционирование | EM36: ФЕР-20 | EO36: Поправка: Табл.2, п.3 | EQ36: 0 | ER36: 203.31 | ES36: 1.69 | ET36: 13.14 | EU36: 2.32 | EV36: 188.48 | EW36: 19 | EX36: 0.2 | EY36: 0 | FQ36: 0 | FR36: =ROUND(IF(AND(BH36=3,BI36=3),P36,0),2) -> 0 | FS36: 0 | FT36: *0,9 | FU36: *0,85 | FX36: 115.2 | FY36: 70.55 | GD36: 0 | GF36: 950093922 | GG36: 1 | GH36: 1 | GI36: 4 | GJ36: 0 | GK36: =ROUND(R36*(R12)/100,2) -> 0 | GL36: =ROUND(IF(AND(BH36=3,BI36=3,FS36<>0),P36,0),2) -> 0 | GM36: =ROUND(O36+X36+Y36+GK36,2)+GX36 -> 149.37 | GN36: =IF(OR(BI36=0,BI36=1),ROUND(O36+X36+Y36+GK36,2),0) -> 149.37 | GO36: =IF(BI36=2,ROUND(O36+X36+Y36+GK36,2),0) -> 0 | GP36: =IF(BI36=4,ROUND(O36+X36+Y36+GK36,2)+GX36,0) -> 0 | GR36: 0 | GS36: 3 | GT36: 0 | GV36: =ROUND((GT36),2) -> 0 | GW36: 1 | GX36: =ROUND(HC36*I36,2) -> 0 | HA36: 0 | HB36: 0 | HC36: =GV36*GW36 -> 0 | IK36: 0
A37: 17 | B37: 1 | C37: =ROW(SmtRes!A39) -> 39 | D37: =ROW(EtalonRes!A45) -> 45 | E37: 9 | F37: 15-01-049-04 прим | G37: Демонтаж школьной доски: Облицовка стен по готовому каркасу щитами-картинами из древесностружечных плит фанерованных шпоном | H37: 100 м2 | I37: =ROUND(15/100,9) -> 0.15 | J37: 0 | O37: =ROUND(CP37,2) -> 456.5 | P37: =ROUND(CQ37*I37,2) -> 0 | Q37: =ROUND(CR37*I37,2) -> 69.03 | R37: =ROUND(CS37*I37,2) -> 13.6 | S37: =ROUND(CT37*I37,2) -> 387.47 | T37: =ROUND(CU37*I37,2) -> 0 | U37: =CV37*I37 -> 6.072 | V37: =CW37*I37 -> 0.1704 | W37: =ROUND(CX37*I37,2) -> 0 | X37: =ROUND(CY37,2) -> 381.02 | Y37: =ROUND(CZ37,2) -> 188.5 | AA37: 16812721 | AB37: =ROUND((AC37+AD37+AF37),2) -> 453.55 | AC37: =ROUND(((ES37*0)),2) -> 0 | AD37: =ROUND(((((ET37*0.8))-((EU37*0.8)))+AE37),2) -> 68.58 | AE37: =ROUND(((EU37*0.8)),2) -> 13.51 | AF37: =ROUND(((EV37*0.8)),2) -> 384.97 | AG37: =ROUND((AP37),2) -> 0 | AH37: =((EW37*0.8)) -> 40.48 | AI37: =((EX37*0.8)) -> 1.136 | AJ37: =(AS37) -> 0 | AK37: 686.77 | AL37: 119.83 | AM37: 85.73 | AN37: 16.89 | AO37: 481.21 | AP37: 0 | AQ37: 50.6 | AR37: 1.42 | AS37: 0 | AT37: 95 | AU37: 47 | AV37: 1 | AW37: 1 | AZ37: 6.71 | BA37: 6.71 | BB37: 6.71 | BC37: 6.71 | BH37: 0 | BI37: 1 | BJ37: ФЕР-2001, 15-01-049-04, приказ Минстроя России №1039/пр от 30.12.2016г. | BM37: 15001 | BN37: 0 | BP37: 0 | BQ37: 2 | BR37: 0 | BS37: 6.71 | BT37: 1 | BU37: 1 | BV37: 1 | BW37: 1 | BX37: 1 | BZ37: 105 | CA37: 55 | CE37: 0 | CF37: 0 | CG37: 0 | CM37: 0 | CN37: Поправка: Табл.2, п.2 Наименование: При демонтаже (разборке) сборных деревянных конструкций | CO37: 0 | CP37: =(P37+Q37+S37) -> 456.5 | CQ37: =AC37*BC37 -> 0 | CR37: =AD37*BB37 -> 460.1718 | CS37: =AE37*BS37 -> 90.6521 | CT37: =AF37*BA37 -> 2583.1487 | CU37: =AG37 -> 0 | CV37: =AH37 -> 40.48 | CW37: =AI37 -> 1.136 | CX37: =AJ37 -> 0 | CY37: =(((S37+R37)*AT37)/100) -> 381.0165 | CZ37: =(((S37+R37)*AU37)/100) -> 188.5029 | DD37: )*0 | DE37: )*0,8 | DF37: )*0,8 | DG37: )*0,8 | DI37: )*0,8 | DJ37: )*0,8 | DN37: 0 | DO37: 0 | DP37: 1 | DQ37: 1 | DU37: 1005 | DV37: 100 м2 | DW37: 100 м2 | DX37: 100 | EE37: 16510513 | EF37: 2 | EG37: Общестроительные работы | EH37: 0 | EJ37: 1 | EK37: 15001 | EL37: Отделочные работы | EM37: ФЕР-15 | EO37: Поправка: Табл.2, п.2 | EQ37: 131072 | ER37: 686.77 | ES37: 119.83 | ET37: 85.73 | EU37: 16.89 | EV37: 481.21 | EW37: 50.6 | EX37: 1.42 | EY37: 0 | FQ37: 0 | FR37: =ROUND(IF(AND(BH37=3,BI37=3),P37,0),2) -> 0 | FS37: 0 | FT37: *0,9 | FU37: *0,85 | FX37: 94.5 | FY37: 46.75 | GD37: 0 | GF37: -1924098841 | GG37: 1 | GH37: 1 | GI37: 4 | GJ37: 0 | GK37: =ROUND(R37*(R12)/100,2) -> 0 | GL37: =ROUND(IF(AND(BH37=3,BI37=3,FS37<>0),P37,0),2) -> 0 | GM37: =ROUND(O37+X37+Y37+GK37,2)+GX37 -> 1026.02 | GN37: =IF(OR(BI37=0,BI37=1),ROUND(O37+X37+Y37+GK37,2),0) -> 1026.02 | GO37: =IF(BI37=2,ROUND(O37+X37+Y37+GK37,2),0) -> 0 | GP37: =IF(BI37=4,ROUND(O37+X37+Y37+GK37,2)+GX37,0) -> 0 | GR37: 0 | GS37: 3 | GT37: 0 | GV37: =ROUND((GT37),2) -> 0 | GW37: 1 | GX37: =ROUND(HC37*I37,2) -> 0 | HA37: 0 | HB37: 0 | HC37: =GV37*GW37 -> 0 | IK37: 0
A38: 17 | B38: 1 | C38: =ROW(SmtRes!A41) -> 41 | D38: =ROW(EtalonRes!A50) -> 50 | E38: 10 | F38: 17-01-002-04 прим. | G38: Демонтаж :Установка гарнитуры туалетной: вешалок, подстаканников, поручней для ванн и т.д. | H38: 10 ШТ | I38: =ROUND(1/10,9) -> 0.1 | J38: 0 | O38: =ROUND(CP38,2) -> 7.23 | P38: =ROUND(CQ38*I38,2) -> 0 | Q38: =ROUND(CR38*I38,2) -> 0 | R38: =ROUND(CS38*I38,2) -> 0 | S38: =ROUND(CT38*I38,2) -> 7.23 | T38: =ROUND(CU38*I38,2) -> 0 | U38: =CV38*I38 -> 0.112 | V38: =CW38*I38 -> 0 | W38: =ROUND(CX38*I38,2) -> 0 | X38: =ROUND(CY38,2) -> 8.31 | Y38: =ROUND(CZ38,2) -> 5.13 | AA38: 16812721 | AB38: =ROUND((AC38+AD38+AF38),2) -> 10.78 | AC38: =ROUND(((ES38*0)),2) -> 0 | AD38: =ROUND(((((ET38*0.4))-((EU38*0.4)))+AE38),2) -> 0 | AE38: =ROUND(((EU38*0.4)),2) -> 0 | AF38: =ROUND(((EV38*0.4)),2) -> 10.78 | AG38: =ROUND((AP38),2) -> 0 | AH38: =((EW38*0.4)) -> 1.12 | AI38: =((EX38*0.4)) -> 0 | AJ38: =(AS38) -> 0 | AK38: 27.54 | AL38: 0.6 | AM38: 0 | AN38: 0 | AO38: 26.94 | AP38: 0 | AQ38: 2.8 | AR38: 0 | AS38: 0 | AT38: 115 | AU38: 71 | AV38: 1 | AW38: 1 | AZ38: 6.71 | BA38: 6.71 | BB38: 6.71 | BC38: 6.71 | BH38: 0 | BI38: 1 | BJ38: ФЕР-2001, 17-01-002-04, приказ Минстроя России №1039/пр от 30.12.2016г. | BM38: 17001 | BN38: 0 | BP38: 0 | BQ38: 2 | BR38: 0 | BS38: 6.71 | BT38: 1 | BU38: 1 | BV38: 1 | BW38: 1 | BX38: 1 | BZ38: 128 | CA38: 83 | CE38: 0 | CF38: 0 | CG38: 0 | CM38: 0 | CN38: Поправка: МДС 81-36.2004, п.3.3.1.в Наименование: При демонтаже внутренних санитарно-технических устройств (водопровода, газопровода, канализации, водостоков, отопления, вентиляции) | CO38: 0 | CP38: =(P38+Q38+S38) -> 7.23 | CQ38: =AC38*BC38 -> 0 | CR38: =AD38*BB38 -> 0 | CS38: =AE38*BS38 -> 0 | CT38: =AF38*BA38 -> 72.3338 | CU38: =AG38 -> 0 | CV38: =AH38 -> 1.12 | CW38: =AI38 -> 0 | CX38: =AJ38 -> 0 | CY38: =(((S38+R38)*AT38)/100) -> 8.3145 | CZ38: =(((S38+R38)*AU38)/100) -> 5.1333 | DD38: )*0 | DE38: )*0,4 | DF38: )*0,4 | DG38: )*0,4 | DI38: )*0,4 | DJ38: )*0,4 | DN38: 0 | DO38: 0 | DP38: 1 | DQ38: 1 | DU38: 1013 | DV38: 10 ШТ | DW38: 10 ШТ | DX38: 1 | EE38: 16510515 | EF38: 2 | EG38: Общестроительные работы | EH38: 0 | EJ38: 1 | EK38: 17001 | EL38: Водопровод и канализация - внутренние устройства | EM38: ФЕР-17 | EO38: Поправка: МДС 81-36.2004, п.3.3.1.в | EQ38: 131072 | ER38: 27.54 | ES38: 0.6 | ET38: 0 | EU38: 0 | EV38: 26.94 | EW38: 2.8 | EX38: 0 | EY38: 0 | FQ38: 0 | FR38: =ROUND(IF(AND(BH38=3,BI38=3),P38,0),2) -> 0 | FS38: 0 | FT38: *0,9 | FU38: *0,85 | FX38: 115.2 | FY38: 70.55 | GD38: 0 | GF38: -1335911278 | GG38: 1 | GH38: 1 | GI38: 4 | GJ38: 0 | GK38: =ROUND(R38*(R12)/100,2) -> 0 | GL38: =ROUND(IF(AND(BH38=3,BI38=3,FS38<>0),P38,0),2) -> 0 | GM38: =ROUND(O38+X38+Y38+GK38,2)+GX38 -> 20.67 | GN38: =IF(OR(BI38=0,BI38=1),ROUND(O38+X38+Y38+GK38,2),0) -> 20.67 | GO38: =IF(BI38=2,ROUND(O38+X38+Y38+GK38,2),0) -> 0 | GP38: =IF(BI38=4,ROUND(O38+X38+Y38+GK38,2)+GX38,0) -> 0 | GR38: 0 | GS38: 3 | GT38: 0 | GV38: =ROUND((GT38),2) -> 0 | GW38: 1 | GX38: =ROUND(HC38*I38,2) -> 0 | HA38: 0 | HB38: 0 | HC38: =GV38*GW38 -> 0 | IK38: 0
A39: 17 | B39: 1 | C39: =ROW(SmtRes!A44) -> 44 | D39: =ROW(EtalonRes!A55) -> 55 | E39: 11 | F39: 17-01-002-04 прим. | G39: Установка гарнитуры туалетной: вешалок, подстаканников, поручней для ванн и т.д. | H39: 10 ШТ | I39: =ROUND(2/10,9) -> 0.2 | J39: 0 | O39: =ROUND(CP39,2) -> 36.96 | P39: =ROUND(CQ39*I39,2) -> 0.81 | Q39: =ROUND(CR39*I39,2) -> 0 | R39: =ROUND(CS39*I39,2) -> 0 | S39: =ROUND(CT39*I39,2) -> 36.15 | T39: =ROUND(CU39*I39,2) -> 0 | U39: =CV39*I39 -> 0.56 | V39: =CW39*I39 -> 0 | W39: =ROUND(CX39*I39,2) -> 0 | X39: =ROUND(CY39,2) -> 41.57 | Y39: =ROUND(CZ39,2) -> 25.67 | AA39: 16812721 | AB39: =ROUND((AC39+AD39+AF39),2) -> 27.54 | AC39: =ROUND((ES39),2) -> 0.6 | AD39: =ROUND((((ET39)-(EU39))+AE39),2) -> 0 | AE39: =ROUND((EU39),2) -> 0 | AF39: =ROUND((EV39),2) -> 26.94 | AG39: =ROUND((AP39),2) -> 0 | AH39: =(EW39) -> 2.8 | AI39: =(EX39) -> 0 | AJ39: =(AS39) -> 0 | AK39: 27.54 | AL39: 0.6 | AM39: 0 | AN39: 0 | AO39: 26.94 | AP39: 0 | AQ39: 2.8 | AR39: 0 | AS39: 0 | AT39: 115 | AU39: 71 | AV39: 1 | AW39: 1 | AZ39: 6.71 | BA39: 6.71 | BB39: 6.71 | BC39: 6.71 | BH39: 0 | BI39: 1 | BJ39: ФЕР-2001, 17-01-002-04, приказ Минстроя России №1039/пр от 30.12.2016г. | BM39: 17001 | BN39: 0 | BP39: 0 | BQ39: 2 | BR39: 0 | BS39: 6.71 | BT39: 1 | BU39: 1 | BV39: 1 | BW39: 1 | BX39: 1 | BZ39: 128 | CA39: 83 | CE39: 0 | CF39: 0 | CG39: 0 | CM39: 0 | CO39: 0 | CP39: =(P39+Q39+S39) -> 36.96 | CQ39: =AC39*BC39 -> 4.026 | CR39: =AD39*BB39 -> 0 | CS39: =AE39*BS39 -> 0 | CT39: =AF39*BA39 -> 180.7674 | CU39: =AG39 -> 0 | CV39: =AH39 -> 2.8 | CW39: =AI39 -> 0 | CX39: =AJ39 -> 0 | CY39: =(((S39+R39)*AT39)/100) -> 41.5725 | CZ39: =(((S39+R39)*AU39)/100) -> 25.6665 | DN39: 0 | DO39: 0 | DP39: 1 | DQ39: 1 | DU39: 1013 | DV39: 10 ШТ | DW39: 10 ШТ | DX39: 1 | EE39: 16510515 | EF39: 2 | EG39: Общестроительные работы | EH39: 0 | EJ39: 1 | EK39: 17001 | EL39: Водопровод и канализация - внутренние устройства | EM39: ФЕР-17 | EQ39: 131072 | ER39: 27.54 | ES39: 0.6 | ET39: 0 | EU39: 0 | EV39: 26.94 | EW39: 2.8 | EX39: 0 | EY39: 0 | FQ39: 0 | FR39: =ROUND(IF(AND(BH39=3,BI39=3),P39,0),2) -> 0 | FS39: 0 | FT39: *0,9 | FU39: *0,85 | FX39: 115.2 | FY39: 70.55 | GD39: 0 | GF39: -201499009 | GG39: 1 | GH39: 1 | GI39: 4 | GJ39: 0 | GK39: =ROUND(R39*(R12)/100,2) -> 0 | GL39: =ROUND(IF(AND(BH39=3,BI39=3,FS39<>0),P39,0),2) -> 0 | GM39: =ROUND(O39+X39+Y39+GK39,2)+GX39 -> 104.2 | GN39: =IF(OR(BI39=0,BI39=1),ROUND(O39+X39+Y39+GK39,2),0) -> 104.2 | GO39: =IF(BI39=2,ROUND(O39+X39+Y39+GK39,2),0) -> 0 | GP39: =IF(BI39=4,ROUND(O39+X39+Y39+GK39,2)+GX39,0) -> 0 | GR39: 0 | GS39: 3 | GT39: 0 | GV39: =ROUND((GT39),2) -> 0 | GW39: 1 | GX39: =ROUND(HC39*I39,2) -> 0 | HA39: 0 | HB39: 0 | HC39: =GV39*GW39 -> 0 | IK39: 0
A40: 18 | B40: 1 | C40: 44 | E40: 11,1 | F40: 18.2.06.03-0001 | G40: Вешалки-крючки однорожковые В-К стальные с гальванопокрытием 20 крючков прим. | H40: шт. | I40: =I39*J40 -> 2 | J40: 10 | O40: =ROUND(CP40,2) -> 50.19 | P40: =ROUND(CQ40*I40,2) -> 50.19 | Q40: =ROUND(CR40*I40,2) -> 0 | R40: =ROUND(CS40*I40,2) -> 0 | S40: =ROUND(CT40*I40,2) -> 0 | T40: =ROUND(CU40*I40,2) -> 0 | U40: =CV40*I40 -> 0 | V40: =CW40*I40 -> 0 | W40: =ROUND(CX40*I40,2) -> 0 | X40: =ROUND(CY40,2) -> 0 | Y40: =ROUND(CZ40,2) -> 0 | AA40: 16812721 | AB40: =ROUND((AC40+AD40+AF40),2) -> 3.74 | AC40: =ROUND((ES40),2) -> 3.74 | AD40: =ROUND((((ET40)-(EU40))+AE40),2) -> 0 | AE40: =ROUND((EU40),2) -> 0 | AF40: =ROUND((EV40),2) -> 0 | AG40: =ROUND((AP40),2) -> 0 | AH40: =(EW40) -> 0 | AI40: =(EX40) -> 0 | AJ40: =(AS40) -> 0 | AK40: 3.74 | AL40: 3.74 | AM40: 0 | AN40: 0 | AO40: 0 | AP40: 0 | AQ40: 0 | AR40: 0 | AS40: 0 | AT40: 115 | AU40: 71 | AV40: 1 | AW40: 1 | AZ40: 6.71 | BA40: 1 | BB40: 1 | BC40: 6.71 | BH40: 3 | BI40: 1 | BJ40: ФССЦ-2001, 18.2.06.03-0001, приказ Минстроя России №1039/пр от 30.12.2016г. | BM40: 17001 | BN40: 0 | BP40: 0 | BQ40: 2 | BR40: 0 | BS40: 1 | BT40: 1 | BU40: 1 | BV40: 1 | BW40: 1 | BX40: 1 | BZ40: 128 | CA40: 83 | CE40: 0 | CF40: 0 | CG40: 0 | CM40: 0 | CO40: 0 | CP40: =(P40+Q40+S40) -> 50.19 | CQ40: =AC40*BC40 -> 25.0954 | CR40: =AD40*BB40 -> 0 | CS40: =AE40*BS40 -> 0 | CT40: =AF40*BA40 -> 0 | CU40: =AG40 -> 0 | CV40: =AH40 -> 0 | CW40: =AI40 -> 0 | CX40: =AJ40 -> 0 | CY40: =(((S40+R40)*AT40)/100) -> 0 | CZ40: =(((S40+R40)*AU40)/100) -> 0 | DN40: 0 | DO40: 0 | DP40: 1 | DQ40: 1 | DU40: 1010 | DV40: шт. | DW40: шт. | DX40: 1 | EE40: 16510515 | EF40: 2 | EG40: Общестроительные работы | EH40: 0 | EJ40: 1 | EK40: 17001 | EL40: Водопровод и канализация - внутренние устройства | EM40: ФЕР-17 | EQ40: 0 | ER40: 3.74 | ES40: 3.74 | ET40: 0 | EU40: 0 | EV40: 0 | EW40: 0 | EX40: 0 | FQ40: 0 | FR40: =ROUND(IF(AND(BH40=3,BI40=3),P40,0),2) -> 0 | FS40: 0 | FT40: *0,9 | FU40: *0,85 | FX40: 115.2 | FY40: 70.55 | GD40: 0 | GF40: 2053814225 | GG40: 1 | GH40: 1 | GI40: 4 | GJ40: 0 | GK40: =ROUND(R40*(R12)/100,2) -> 0 | GL40: =ROUND(IF(AND(BH40=3,BI40=3,FS40<>0),P40,0),2) -> 0 | GM40: =ROUND(O40+X40+Y40+GK40,2)+GX40 -> 50.19 | GN40: =IF(OR(BI40=0,BI40=1),ROUND(O40+X40+Y40+GK40,2),0) -> 50.19 | GO40: =IF(BI40=2,ROUND(O40+X40+Y40+GK40,2),0) -> 0 | GP40: =IF(BI40=4,ROUND(O40+X40+Y40+GK40,2)+GX40,0) -> 0 | GR40: 0 | GS40: 0 | GT40: 0 | GV40: =ROUND((GT40),2) -> 0 | GW40: 1 | GX40: =ROUND(HC40*I40,2) -> 0 | HA40: 0 | HB40: 0 | HC40: =GV40*GW40 -> 0 | IK40: 0
A41: 17 | B41: 1 | C41: =ROW(SmtRes!A54) -> 54 | D41: =ROW(EtalonRes!A64) -> 64 | E41: 12 | F41: 09-04-012-01 | G41: Установка металлических дверных блоков в готовые проемы | H41: м2 | I41: 11.43 | J41: 0 | O41: =ROUND(CP41,2) -> 5453.8 | P41: =ROUND(CQ41*I41,2) -> 1972.6 | Q41: =ROUND(CR41*I41,2) -> 1381.28 | R41: =ROUND(CS41*I41,2) -> 188.67 | S41: =ROUND(CT41*I41,2) -> 2099.92 | T41: =ROUND(CU41*I41,2) -> 0 | U41: =CV41*I41 -> 31.5468 | V41: =CW41*I41 -> 2.428875 | W41: =ROUND(CX41*I41,2) -> 0 | X41: =ROUND(CY41,2) -> 1853.76 | Y41: =ROUND(CZ41,2) -> 1647.78 | AA41: 16812721 | AB41: =ROUND((AC41+AD41+AF41),2) -> 71.11 | AC41: =ROUND((ES41),2) -> 25.72 | AD41: =ROUND(((((ET41*1.25))-((EU41*1.25)))+AE41),2) -> 18.01 | AE41: =ROUND(((EU41*1.25)),2) -> 2.46 | AF41: =ROUND(((EV41*1.15)),2) -> 27.38 | AG41: =ROUND((AP41),2) -> 0 | AH41: =((EW41*1.15)) -> 2.76 | AI41: =((EX41*1.25)) -> 0.2125 | AJ41: =(AS41) -> 0 | AK41: 63.94 | AL41: 25.72 | AM41: 14.41 | AN41: 1.97 | AO41: 23.81 | AP41: 0 | AQ41: 2.4 | AR41: 0.17 | AS41: 0 | AT41: 81 | AU41: 72 | AV41: 1 | AW41: 1 | AZ41: 6.71 | BA41: 6.71 | BB41: 6.71 | BC41: 6.71 | BH41: 0 | BI41: 1 | BJ41: ФЕР-2001, 09-04-012-01, приказ Минстроя России №1039/пр от 30.12.2016г. | BM41: 9001 | BN41: 0 | BP41: 0 | BQ41: 2 | BR41: 0 | BS41: 6.71 | BT41: 1 | BU41: 1 | BV41: 1 | BW41: 1 | BX41: 1 | BZ41: 90 | CA41: 85 | CE41: 0 | CF41: 0 | CG41: 0 | CM41: 0 | CN41: Поправка: МДС 81-35.2004, п.4.7 Наименование: Работы, выполняемые при реконструкции зданий и сооружений работы, аналогичные технологическим процессам в новом строительстве (в том числе возведение новых конструктивных элементов) стоимость которых определена по соответствующим сборникам ФЕР, кроме сборника № 46 «Работы при реконструкции зданий и сооружений» | CO41: 0 | CP41: =(P41+Q41+S41) -> 5453.8 | CQ41: =AC41*BC41 -> 172.5812 | CR41: =AD41*BB41 -> 120.8471 | CS41: =AE41*BS41 -> 16.5066 | CT41: =AF41*BA41 -> 183.7198 | CU41: =AG41 -> 0 | CV41: =AH41 -> 2.76 | CW41: =AI41 -> 0.2125 | CX41: =AJ41 -> 0 | CY41: =(((S41+R41)*AT41)/100) -> 1853.7579 | CZ41: =(((S41+R41)*AU41)/100) -> 1647.7848 | DE41: )*1,25 | DF41: )*1,25 | DG41: )*1,15 | DI41: )*1,15 | DJ41: )*1,25 | DN41: 0 | DO41: 0 | DP41: 1 | DQ41: 1 | DU41: 1005 | DV41: м2 | DW41: м2 | DX41: 1 | EE41: 16510486 | EF41: 2 | EG41: Общестроительные работы | EH41: 0 | EJ41: 1 | EK41: 9001 | EL41: Металлические конструкции | EM41: ФЕР-09 | EO41: Поправка: МДС 81-35.2004, п.4.7 | EQ41: 131072 | ER41: 63.94 | ES41: 25.72 | ET41: 14.41 | EU41: 1.97 | EV41: 23.81 | EW41: 2.4 | EX41: 0.17 | EY41: 0 | FQ41: 0 | FR41: =ROUND(IF(AND(BH41=3,BI41=3),P41,0),2) -> 0 | FS41: 0 | FT41: *0,9 | FU41: *0,85 | FX41: 81 | FY41: 72.25 | GD41: 0 | GF41: 1555078569 | GG41: 1 | GH41: 1 | GI41: 4 | GJ41: 0 | GK41: =ROUND(R41*(R12)/100,2) -> 0 | GL41: =ROUND(IF(AND(BH41=3,BI41=3,FS41<>0),P41,0),2) -> 0 | GM41: =ROUND(O41+X41+Y41+GK41,2)+GX41 -> 8955.34 | GN41: =IF(OR(BI41=0,BI41=1),ROUND(O41+X41+Y41+GK41,2),0) -> 8955.34 | GO41: =IF(BI41=2,ROUND(O41+X41+Y41+GK41,2),0) -> 0 | GP41: =IF(BI41=4,ROUND(O41+X41+Y41+GK41,2)+GX41,0) -> 0 | GR41: 0 | GS41: 0 | GT41: 0 | GV41: =ROUND((GT41),2) -> 0 | GW41: 1 | GX41: =ROUND(HC41*I41,2) -> 0 | HA41: 0 | HB41: 0 | HC41: =GV41*GW41 -> 0 | IK41: 0
A42: 18 | B42: 1 | C42: 52 | E42: 12,1 | F42: 07.1.01.01-0020 | G42: Дверь противопожарная металлическая однопольная ДПМ-01/60, размером 2300х900 мм прим. | H42: шт. | I42: =I41*J42 -> 1 | J42: 0.087489064 | O42: =ROUND(CP42,2) -> 20834.28 | P42: =ROUND(CQ42*I42,2) -> 20834.28 | Q42: =ROUND(CR42*I42,2) -> 0 | R42: =ROUND(CS42*I42,2) -> 0 | S42: =ROUND(CT42*I42,2) -> 0 | T42: =ROUND(CU42*I42,2) -> 0 | U42: =CV42*I42 -> 0 | V42: =CW42*I42 -> 0 | W42: =ROUND(CX42*I42,2) -> 0 | X42: =ROUND(CY42,2) -> 0 | Y42: =ROUND(CZ42,2) -> 0 | AA42: 16812721 | AB42: =ROUND((AC42+AD42+AF42),2) -> 3104.96 | AC42: =ROUND((ES42),2) -> 3104.96 | AD42: =ROUND((((ET42)-(EU42))+AE42),2) -> 0 | AE42: =ROUND((EU42),2) -> 0 | AF42: =ROUND((EV42),2) -> 0 | AG42: =ROUND((AP42),2) -> 0 | AH42: =(EW42) -> 0 | AI42: =(EX42) -> 0 | AJ42: =(AS42) -> 0 | AK42: 3104.96 | AL42: 3104.96 | AM42: 0 | AN42: 0 | AO42: 0 | AP42: 0 | AQ42: 0 | AR42: 0 | AS42: 0 | AT42: 81 | AU42: 72 | AV42: 1 | AW42: 1 | AZ42: 6.71 | BA42: 1 | BB42: 1 | BC42: 6.71 | BH42: 3 | BI42: 1 | BJ42: ФССЦ-2001, 07.1.01.01-0020, приказ Минстроя России №1039/пр от 30.12.2016г. | BM42: 9001 | BN42: 0 | BP42: 0 | BQ42: 2 | BR42: 0 | BS42: 1 | BT42: 1 | BU42: 1 | BV42: 1 | BW42: 1 | BX42: 1 | BZ42: 90 | CA42: 85 | CE42: 0 | CF42: 0 | CG42: 0 | CM42: 0 | CO42: 0 | CP42: =(P42+Q42+S42) -> 20834.28 | CQ42: =AC42*BC42 -> 20834.282 | CR42: =AD42*BB42 -> 0 | CS42: =AE42*BS42 -> 0 | CT42: =AF42*BA42 -> 0 | CU42: =AG42 -> 0 | CV42: =AH42 -> 0 | CW42: =AI42 -> 0 | CX42: =AJ42 -> 0 | CY42: =(((S42+R42)*AT42)/100) -> 0 | CZ42: =(((S42+R42)*AU42)/100) -> 0 | DN42: 0 | DO42: 0 | DP42: 1 | DQ42: 1 | DU42: 1010 | DV42: шт. | DW42: шт. | DX42: 1 | EE42: 16510486 | EF42: 2 | EG42: Общестроительные работы | EH42: 0 | EJ42: 1 | EK42: 9001 | EL42: Металлические конструкции | EM42: ФЕР-09 | EQ42: 0 | ER42: 3104.96 | ES42: 3104.96 | ET42: 0 | EU42: 0 | EV42: 0 | EW42: 0 | EX42: 0 | FQ42: 0 | FR42: =ROUND(IF(AND(BH42=3,BI42=3),P42,0),2) -> 0 | FS42: 0 | FT42: *0,9 | FU42: *0,85 | FX42: 81 | FY42: 72.25 | GD42: 0 | GF42: -1282337098 | GG42: 1 | GH42: 1 | GI42: 4 | GJ42: 0 | GK42: =ROUND(R42*(R12)/100,2) -> 0 | GL42: =ROUND(IF(AND(BH42=3,BI42=3,FS42<>0),P42,0),2) -> 0 | GM42: =ROUND(O42+X42+Y42+GK42,2)+GX42 -> 20834.28 | GN42: =IF(OR(BI42=0,BI42=1),ROUND(O42+X42+Y42+GK42,2),0) -> 20834.28 | GO42: =IF(BI42=2,ROUND(O42+X42+Y42+GK42,2),0) -> 0 | GP42: =IF(BI42=4,ROUND(O42+X42+Y42+GK42,2)+GX42,0) -> 0 | GR42: 0 | GS42: 3 | GT42: 0 | GV42: =ROUND((GT42),2) -> 0 | GW42: 1 | GX42: =ROUND(HC42*I42,2) -> 0 | HA42: 0 | HB42: 0 | HC42: =GV42*GW42 -> 0 | IK42: 0
