Workbook

Sheet Смета 12 гр. по ФЕР
A1: =Source!B1 -> Smeta.RU (495) 974-1589
H2: Приложение 1 к ФОРМЕ 6
B4: СМЕТА
B6: =IF(Source!G20<>"Новая локальная смета", Source!G20, "")
B8: =IF(Source!G12<>"Новый объект", Source!G12, "") -> Капитальный ремонт актового зала Технологического института - филиала НИЯУ МИФИ (ТИ НИЯУ МИФИ) по адресу: Свердловская обл., г. Лесной, Коммунистический проспект, д.36
A11: =CONCATENATE("Основание: ", Source!J20) -> Основание:
G14: базовая цена | I14: текущая цена
C15: Сметная стоимость | G15: =SUM(O26:O669)/1000 -> 335.43989 | I15: =(Source!P655/1000) -> 2636.7009 | K15: тыс. руб.
C16: Строительные работы | G16: =SUM(W26:W669)/1000 -> 259.26807 | I16: =(Source!P642)/1000 -> 1727.1884 | K16: тыс. руб.
C17: Монтажные работы | G17: =SUM(X26:X669)/1000 -> 76.17182 | I17: =(Source!P643)/1000 -> 507.30391 | K17: тыс. руб.
C18: Оборудование | G18: =SUM(Y26:Y669)/1000 -> 0 | I18: =(Source!P634)/1000 -> 0 | K18: тыс. руб.
C19: Прочие работы | G19: =SUM(Z26:Z669)/1000 -> 0 | I19: =(Source!P644+Source!P645)/1000 -> 0 | K19: тыс. руб.
C20: Нормативная трудоемкость | G20: =I20 -> 2840.0242 | I20: =(Source!P647+Source!P648) -> 2840.0242 | K20: чел. -ч.
C21: Средства на оплату труда | G21: =SUM(R26:R669)/1000 -> 25.53739 | I21: =((Source!P640 + Source!P639)/1000) -> 170.07888 | K21: тыс. руб.
A23: Составлена в ценах I квартал 2018 года
A24: № п/п | B24: Шифр расценки и коды ресурсов | C24: Наименование работ и затрат | D24: Ед. изм. | E24: Кол-во единиц | F24: Цена на ед. изм. | G24: Попра-вочные коэфф. | H24: Стоимость в ценах 2001г. | I24: Пункт коэфф. пересчета | J24: Коэфф. пересчета | K24: Стоимость в текущих ценах | L24: ЗТР всего чел.-час
A25: 1 | B25: 2 | C25: 3 | D25: 4 | E25: 5 | F25: 6 | G25: 7 | H25: 8 | I25: 9 | J25: 10 | K25: 11 | L25: 12
A27: =CONCATENATE("Раздел: ",IF(Source!G24<>"Новый раздел", Source!G24, "")) -> Раздел: Раздел 1: Демонтажные работы
A28: =Source!E29 -> 1 | B28: =Source!F29 -> 67-4-5 | C28: =Source!G29 -> Демонтаж светильников для люминесцентных ламп | D28: =Source!H29 -> 100 ШТ | E28: =Source!I29 -> 0.6 | F28: =Source!AL29+Source!AM29+Source!AO29 -> 145.98 | I28: =Source!BO29 | S28: =ROUND((Source!FX29/100)*((ROUND(Source!AF29*Source!I29, 2)+ROUND(Source!AE29*Source!I29, 2))), 2) -> 73.73 | T28: =Source!X29 -> 491.02 | U28: =ROUND((Source!FY29/100)*((ROUND(Source!AF29*Source!I29, 2)+ROUND(Source!AE29*Source!I29, 2))), 2) -> 56.38 | V28: =Source!Y29 -> 375.49
C29: ="Объем: "&Source!I29&"=60/"&"100" -> Объем: 0,6=60/100
C30: Зарплата | F30: =Source!AO29 -> 143.48 | G30: =Source!DG29 | H30: =ROUND(Source!AF29*Source!I29, 2) -> 86.09 | J30: =IF(Source!BA29<> 0, Source!BA29, 1) -> 6.66 | K30: =Source!S29 -> 573.35 | R30: =H30 -> 86.09
C31: Эксплуатация машин | F31: =Source!AM29 -> 2.5 | G31: =Source!DE29 | H31: =ROUND(Source!AD29*Source!I29, 2) -> 1.5 | J31: =IF(Source!BB29<> 0, Source!BB29, 1) -> 6.66 | K31: =Source!Q29 -> 9.99
C32: в т.ч. зарплата машинистов | F32: =Source!AN29 -> 1.08 | G32: =Source!DF29 | H32: =ROUND(Source!AE29*Source!I29, 2) -> 0.65 | J32: =IF(Source!BS29<> 0, Source!BS29, 1) -> 6.66 | K32: =Source!R29 -> 4.32 | R32: =H32 -> 0.65
C33: НР от ФОТ | D33: % | E33: =Source!BZ29 -> 85 | H33: =SUM(S28:S35) -> 73.73 | J33: =Source!AT29 -> 85 | K33: =SUM(T28:T35) -> 491.02
C34: СП от ФОТ | D34: % | E34: =Source!CA29 -> 65 | H34: =SUM(U28:U35) -> 56.38 | J34: =Source!AU29 -> 65 | K34: =SUM(V28:V35) -> 375.49
C35: Затраты труда | D35: чел-ч | E35: =Source!AQ29 -> 17.89 | G35: =Source!DI29 | L35: =Source!U29 -> 10.734
G36: =H30+H31+H33+H34 -> 217.7 | J36: =K30+K31+K33+K34 -> 1449.85 | L36: =Source!U29 -> 10.734 | O36: =G36 -> 217.7 | P36: =J36 -> 1449.85 | Q36: =L36 -> 10.734 | W36: =IF(Source!BI29<=1,H30+H31+H33+H34, 0) -> 217.7 | X36: =IF(Source!BI29=2,H30+H31+H33+H34, 0) -> 0 | Y36: =IF(Source!BI29=3,H30+H31+H33+H34, 0) -> 0 | Z36: =IF(Source!BI29=4,H30+H31+H33+H34, 0) -> 0
A37: =Source!E31 -> 2 | B37: =Source!F31 -> 67-4-1 | C37: =Source!G31 -> Демонтаж выключателей, розеток | D37: =Source!H31 -> 100 ШТ | E37: =Source!I31 -> 0.2 | F37: =Source!AL31+Source!AM31+Source!AO31 -> 45.55 | I37: =Source!BO31 | S37: =ROUND((Source!FX31/100)*((ROUND(Source!AF31*Source!I31, 2)+ROUND(Source!AE31*Source!I31, 2))), 2) -> 7.74 | T37: =Source!X31 -> 51.57 | U37: =ROUND((Source!FY31/100)*((ROUND(Source!AF31*Source!I31, 2)+ROUND(Source!AE31*Source!I31, 2))), 2) -> 5.92 | V37: =Source!Y31 -> 39.44
C38: ="Объем: "&Source!I31&"=20/"&"100" -> Объем: 0,2=20/100
C39: Зарплата | F39: =Source!AO31 -> 45.55 | G39: =Source!DG31 | H39: =ROUND(Source!AF31*Source!I31, 2) -> 9.11 | J39: =IF(Source!BA31<> 0, Source!BA31, 1) -> 6.66 | K39: =Source!S31 -> 60.67 | R39: =H39 -> 9.11
C40: НР от ФОТ | D40: % | E40: =Source!BZ31 -> 85 | H40: =SUM(S37:S42) -> 7.74 | J40: =Source!AT31 -> 85 | K40: =SUM(T37:T42) -> 51.57
C41: СП от ФОТ | D41: % | E41: =Source!CA31 -> 65 | H41: =SUM(U37:U42) -> 5.92 | J41: =Source!AU31 -> 65 | K41: =SUM(V37:V42) -> 39.44
C42: Затраты труда | D42: чел-ч | E42: =Source!AQ31 -> 5.84 | G42: =Source!DI31 | L42: =Source!U31 -> 1.168
G43: =H39+H40+H41 -> 22.77 | J43: =K39+K40+K41 -> 151.68 | L43: =Source!U31 -> 1.168 | O43: =G43 -> 22.77 | P43: =J43 -> 151.68 | Q43: =L43 -> 1.168 | W43: =IF(Source!BI31<=1,H39+H40+H41, 0) -> 22.77 | X43: =IF(Source!BI31=2,H39+H40+H41, 0) -> 0 | Y43: =IF(Source!BI31=3,H39+H40+H41, 0) -> 0 | Z43: =IF(Source!BI31=4,H39+H40+H41, 0) -> 0
A44: =Source!E33 -> 3 | B44: =Source!F33 -> 67-3-1 | C44: =Source!G33 -> Демонтаж кабеля | D44: =Source!H33 -> 100 м | E44: =Source!I33 -> 4.5 | F44: =Source!AL33+Source!AM33+Source!AO33 -> 75.5 | I44: =Source!BO33 | S44: =ROUND((Source!FX33/100)*((ROUND(Source!AF33*Source!I33, 2)+ROUND(Source!AE33*Source!I33, 2))), 2) -> 288.14 | T44: =Source!X33 -> 1918.99 | U44: =ROUND((Source!FY33/100)*((ROUND(Source!AF33*Source!I33, 2)+ROUND(Source!AE33*Source!I33, 2))), 2) -> 220.34 | V44: =Source!Y33 -> 1467.47
C45: ="Объем: "&Source!I33&"=450/"&"100" -> Объем: 4,5=450/100
C46: Зарплата | F46: =Source!AO33 -> 75.19 | G46: =Source!DG33 | H46: =ROUND(Source!AF33*Source!I33, 2) -> 338.36 | J46: =IF(Source!BA33<> 0, Source!BA33, 1) -> 6.66 | K46: =Source!S33 -> 2253.44 | R46: =H46 -> 338.36
C47: Эксплуатация машин | F47: =Source!AM33 -> 0.31 | G47: =Source!DE33 | H47: =ROUND(Source!AD33*Source!I33, 2) -> 1.4 | J47: =IF(Source!BB33<> 0, Source!BB33, 1) -> 6.66 | K47: =Source!Q33 -> 9.29
C48: в т.ч. зарплата машинистов | F48: =Source!AN33 -> 0.14 | G48: =Source!DF33 | H48: =ROUND(Source!AE33*Source!I33, 2) -> 0.63 | J48: =IF(Source!BS33<> 0, Source!BS33, 1) -> 6.66 | K48: =Source!R33 -> 4.2 | R48: =H48 -> 0.63
C49: НР от ФОТ | D49: % | E49: =Source!BZ33 -> 85 | H49: =SUM(S44:S51) -> 288.14 | J49: =Source!AT33 -> 85 | K49: =SUM(T44:T51) -> 1918.99
...

Sheet Акт КС-2 c НР и СП
A1: =Source!B1 -> Smeta.RU (495) 974-1589
E2: Унифицированная форма № КС-2
E3: Утверждена постановлением Госкомстата России
E4: от 11.11.99. № 100
G6: Код
F7: Форма по ОКУД | G7: 0322005
G8: =IF(Source!AT15 <> "", Source!AT15, "")
A9: Инвестор | C9: =IF(Source!BA15 <> "", Source!BA15, IF(Source!AU15 <> "", Source!AU15, "")) | F9: по ОКПО
C10: организация, адрес, телефон, факс | G10: =IF(Source!AK15 <> "", Source!AK15, "")
A11: Заказчик | C11: =IF(Source!AX12<> "", Source!AX12, IF(Source!AJ12 <> "", Source!AJ12, "")) | F11: по ОКПО
C12: организация, адрес, телефон, факс | G12: =IF(Source!AO15 <> "", Source!AO15, "")
A13: Подрядчик | C13: =IF(Source!AY12<> "", Source!AY12, IF(Source!AN12 <> "", Source!AN12, "")) | F13: по ОКПО
C14: организация, адрес, телефон, факс | G14: =IF(Source!CO15 <> "", Source!CO15, "")
A15: Стройка | C15: Капитальный ремонт актового зала ТИ НИЯУ МИФИ | AE15: Капитальный ремонт актового зала ТИ НИЯУ МИФИ
C16: наименование, адрес | G16: =IF(Source!CP15 <> "", Source!CP15, "")
A17: Объект | C17: =IF(Source!G12<>"Новый объект", Source!G12, "") -> Капитальный ремонт актового зала Технологического института - филиала НИЯУ МИФИ (ТИ НИЯУ МИФИ) по адресу: Свердловская обл., г. Лесной, Коммунистический проспект, д.36 | AE17: =IF(Source!G12<>"Новый объект", Source!G12, "") -> Капитальный ремонт актового зала Технологического института - филиала НИЯУ МИФИ (ТИ НИЯУ МИФИ) по адресу: Свердловская обл., г. Лесной, Коммунистический проспект, д.36
C18: наименование
D19: Вид деятельности по ОКДП | G19: =IF(Source!CQ15 <> "", Source!CQ15, "")
D20: Договор подряда | F20: номер | G20: =IF(Source!CR15 <> "", Source!CR15, "")
F21: дата | G21: =IF(Source!CS15 <> 0, Source!CS15, "")
F22: Вид операции | G22: =IF(Source!CT15 <> "", Source!CT15, "")
D24: Номер документа | E24: Дата составления | F24: Отчетный период
F25: с | G25: по
D26: =IF(Source!CN15 <> "", Source!CN15, "") | E26: 43363.432
A28: AKT
A29: О ПРИЕМКЕ ВЫПОЛНЕННЫХ РАБОТ
A31: Сметная (договорная) стоимость в соответствии с договором подряда (субподряда) | F31: =(Source!P687/1000) -> 2636.7009 | H31: тыс.руб
A33: Номер | C33: Наименование работ | D33: Номер единичной расценки | E33: Единица измерения | F33: Выполнено работ
A34: по порядку | B34: поз. по смете | F34: Количество | G34: цена за единицу, руб | H34: стоимость, руб
A35: 1 | B35: 2 | C35: 3 | D35: 4 | E35: 5 | F35: 6 | G35: 7 | H35: 8
A37: =CONCATENATE("Локальная смета: ",IF(Source!G20<>"Новая локальная смета", Source!G20, "")) -> Локальная смета:
A39: =CONCATENATE("Раздел: ",IF(Source!G24<>"Новый раздел", Source!G24, "")) -> Раздел: Раздел 1: Демонтажные работы
A40: 1 | B40: =Source!E29 -> 1 | C40: =Source!G29 -> Демонтаж светильников для люминесцентных ламп | D40: =Source!F29 -> 67-4-5 | E40: =Source!H29 -> 100 ШТ | F40: =Source!I29 -> 0.6 | G40: =Source!AB29 -> 145.98 | H40: =Source!O29 -> 583.34 | T40: =Source!O29+Source!X29+Source!Y29 -> 1449.85 | U40: =Source!P29 -> 0 | V40: =Source!S29 -> 573.35 | W40: =Source!Q29 -> 9.99 | X40: =Source!R29 -> 4.32 | Y40: =Source!U29 -> 10.734 | Z40: =Source!V29 -> 0.048 | AA40: =Source!X29 -> 491.02 | AB40: =Source!Y29 -> 375.49
C41: ="Объем: "&Source!I29&"=60/"&"100" -> Объем: 0,6=60/100
C42: Коэфф. к ОЗП | D42: =Source!BA29 -> 6.66
C43: Коэфф. к эксплуатации машин | D43: =Source!BB29 -> 6.66
C44: Коэфф. к материалам | D44: =Source!BC29 -> 6.66
C45: Коэфф. к ЗПМ | D45: =Source!BS29 -> 6.66
C46: % НР | F46: =Source!BZ29 -> 85 | G46: =(Source!AF29+Source!AE29)*Source!FX29/100 -> 122.876 | H46: =Source!X29 -> 491.02
C47: % СП | F47: =Source!CA29 -> 65 | G47: =(Source!AF29+Source!AE29)*Source!FY29/100 -> 93.964 | H47: =Source!Y29 -> 375.49
...

Sheet Макет форма-3
A1: =Source!B1 -> Smeta.RU (495) 974-1589 | H1: Унифицированная форма № КС-3
H2: Утверждена постановлением Госкомстата России
H3: от 11.11.99. № 100
K4: Коды
I5: Форма по ОКУД | K5: 322001
A6: Инвестор | J6: по ОКПО
C7: организация, адрес, телефон, факс
A8: Заказчик (генподрядчик) | J8: по ОКПО
C9: организация, адрес, телефон, факс
A10: Подрядчик (субподрядчик) | J10: по ОКПО
C11: организация, адрес, телефон, факс
A12: Стройка | J12: по ОКПО
C13: наименование, адрес | H13: Вид деятельности по ОКДП
E14: Договор подряда (контракт) | I14: номер
I15: дата
I16: Вид операции
C19: Номер документа | E19: Дата составления | I19: Отчетный период
I20: с | K20: по
A24: СПРАВКА
A25: СТОИМОСТИ ВЫПОЛНЕННЫХ РАБОТ И ЗАТРАТ
A28: № п/п | B28: Наименование пусковых комплексов, объектов, видов работ, оборудования, затрат | F28: Код | G28: Стоимость выполненных работ и затрат
G29: с начала проведения работ | I29: с начала года по отчетный период включительно | K29: в том числе за отчетный месяц
A33: 1 | B33: 2 | F33: 3 | G33: 4 | I33: 5 | K33: 6
B34: Всего работ и затрат, включаемых в стоимость
B35: В том числе:
A36: Итого
A37: Сумма НДС
A38: Всего с учетом НДС
A42: Заказчик (генподрядчик)
C43: должность | G43: подпись | J43: расшифровка подпись
A45: МП
A49: Подрядчик (субподрядчик)
C50: должность | G50: подпись | J50: расшифровка подпись
A52: МП

Sheet Source
A1: 0 | B1: Smeta.RU (495) 974-1589 | D1: _PS_ | F1: 0 | G1: 0 | H1: 0 | I1: Smeta.RU | J1: НИЯУ МИФИ Доп. раб. место MCCS-0027251 | K1: 0 | L1: 27251 | M1: 10 | N1: 10 | O1: 1 | P1: 0 | Q1: 8
A12: 1 | B12: 718 | C12: 0 | D12: =ROW(A657) -> 657 | E12: 0 | F12: Новый объект | G12: Капитальный ремонт актового зала Технологического института - филиала НИЯУ МИФИ (ТИ НИЯУ МИФИ) по адресу: Свердловская обл., г. Лесной, Коммунистический проспект, д.36 | I12: 0 | K12: 0 | O12: 0 | P12: 0 | Q12: 0 | R12: 0 | S12: 0 | V12: 0 | BH12: Сметные нормы списания | BI12: Коды ценников | BJ12: 1 | BK12: 1 | BL12: 0 | BM12: 0 | BN12: 1 | BO12: 0 | BP12: 6 | BQ12: 2 | BR12: 1 | BS12: 1 | BT12: 0 | BU12: 0 | BV12: 0 | BW12: 0 | BX12: 0 | BY12: ФЕР-2017 | BZ12: ТР для Версии 10: Центральные регионы (с учетом п-ма 2536-ИП/12/ГС от 22.03.2017 г | CA12: ФЕР-2017 | CB12: ФЕР-2017 | CC12: ФЕР-2017 | CD12: ФЕР-2017 | CE12: Поправки для ГСН 2017 от 31.03.2017 г | CF12: 0 | CG12: 0 | CH12: 524296 | CK12: 4 | EC12: 0
A15: 15 | B15: 1
A18: 52 | B18: =B657 -> 718 | C18: =C657 -> 1 | D18: =D657 -> 12 | E18: =E657 -> 0 | F18: =F657 -> Новый объект | G18: =G657 -> Капитальный ремонт актового зала Технологического института - филиала НИЯУ МИФИ (ТИ НИЯУ МИФИ) по адресу: Свердловская обл., г. Лесной, Коммунистический проспект, д.36 | O18: =O657 -> 265474.66 | P18: =P657 -> 234451.16 | Q18: =Q657 -> 6363.62 | R18: =R657 -> 877.51 | S18: =S657 -> 24659.88 | T18: =T657 -> 0 | U18: =U657 -> 2762.8964 | V18: =V657 -> 77.127801 | ... GX18: =GX657 -> 0
A20: 3 | B20: 1 | D20: =ROW(A625) -> 625 | F20: Новая локальная смета | G20: Новая локальная смета | I20: 0 | K20: 0 | V20: 0 | BX20: 0 | CF20: 0 | CG20: 0
A22: 52 | B22: =B625 -> 1 | C22: =C625 -> 3 | D22: =D625 -> 20 | E22: =E625 -> 0 | F22: =F625 -> Новая локальная смета | G22: =G625 -> Новая локальная смета | O22: =O625 -> 265474.66 | P22: =P625 -> 234451.16 | Q22: =Q625 -> 6363.62 | R22: =R625 -> 877.51 | S22: =S625 -> 24659.88 | T22: =T625 -> 0 | U22: =U625 -> 2762.8964 | V22: =V625 -> 77.127801 | ... GX22: =GX625 -> 0
A24: 4 | B24: 1 | D24: =ROW(A59) -> 59 | F24: Новый раздел | G24: Раздел 1: Демонтажные работы | I24: 0 | K24: 0 | V24: 0 | BX24: 0 | CJ24: 0
A26: 52 | B26: =B59 -> 1 | C26: =C59 -> 4 | D26: =D59 -> 24 | E26: =E59 -> 0 | F26: =F59 -> Новый раздел | G26: =G59 -> Раздел 1: Демонтажные работы | O26: =O59 -> 7241.76 | P26: =P59 -> 0 | Q26: =Q59 -> 579.12 | R26: =R59 -> 58.58 | S26: =S59 -> 6662.64 | T26: =T59 -> 0 | U26: =U59 -> 755.43033 | V26: =V59 -> 4.7937502 | ... GX26: =GX59 -> 0
A28: 17 | B28: 1 | C28: =ROW(SmtRes!A3) -> 3 | D28: =ROW(EtalonRes!A3) -> 3 | E28: 1 | F28: 67-4-5 | G28: Демонтаж светильников для люминесцентных ламп | H28: 100 ШТ | I28: =ROUND(60/100,9) -> 0.6 | J28: 0 | O28: =ROUND(CP28,2) -> 87.59 | P28: =ROUND(CQ28*I28,2) -> 0 | Q28: =ROUND(CR28*I28,2) -> 1.5 | R28: =ROUND(CS28*I28,2) -> 0.65 | S28: =ROUND(CT28*I28,2) -> 86.09 | T28: =ROUND(CU28*I28,2) -> 0 | U28: =CV28*I28 -> 10.734 | V28: =CW28*I28 -> 0.048 | W28: =ROUND(CX28*I28,2) -> 0 | X28: =ROUND(CY28,2) -> 73.73 | Y28: =ROUND(CZ28,2) -> 56.38 | AA28: 16781625 | AB28: =ROUND((AC28+AD28+AF28),6) -> 145.98 | AC28: =ROUND((ES28),6) -> 0 | AD28: =ROUND((((ET28)-(EU28))+AE28),6) -> 2.5 | AE28: =ROUND((EU28),6) -> 1.08 | AF28: =ROUND((EV28),6) -> 143.48 | AG28: =ROUND((AP28),6) -> 0 | AH28: =(EW28) -> 17.89 | AI28: =(EX28) -> 0.08 | AJ28: =(AS28) -> 0 | AK28: 145.98 | AL28: 0 | AM28: 2.5 | AN28: 1.08 | AO28: 143.48 | AP28: 0 | AQ28: 17.89 | AR28: 0.08 | AS28: 0 | AT28: 85 | AU28: 65 | AV28: 1 | AW28: 1 | AZ28: 1 | BA28: 1 | BB28: 1 | BC28: 1 | BH28: 0 | BI28: 1 | BJ28: ФЕРр-2001, 67-4-5, приказ Минстроя России №1039/пр от 30.12.2016г. | BM28: 67001 | BN28: 0 | BP28: 0 | BQ28: 6 | BR28: 0 | BS28: 1 | BT28: 1 | BU28: 1 | BV28: 1 | BW28: 1 | BX28: 1 | BZ28: 85 | CA28: 65 | CE28: 0 | CF28: 0 | CG28: 0 | CM28: 0 | CO28: 0 | CP28: =(P28+Q28+S28) -> 87.59 | CQ28: =AC28*BC28 -> 0 | CR28: =AD28*BB28 -> 2.5 | CS28: =AE28*BS28 -> 1.08 | CT28: =AF28*BA28 -> 143.48 | CU28: =AG28 -> 0 | CV28: =AH28 -> 17.89 | CW28: =AI28 -> 0.08 | CX28: =AJ28 -> 0 | CY28: =(((S28+R28)*AT28)/100) -> 73.729 | CZ28: =(((S28+R28)*AU28)/100) -> 56.381 | DN28: 0 | DO28: 0 | DP28: 1 | DQ28: 1 | DU28: 1013 | DV28: 100 ШТ | DW28: 100 ШТ | DX28: 1 | EE28: 16510612 | EF28: 6 | EG28: Ремонтно-строительные работы | EH28: 0 | EJ28: 1 | EK28: 67001 | EL28: Электромонтажные работы | EM28: рФЕР-67 | EQ28: 0 | ER28: 145.98 | ES28: 0 | ET28: 2.5 | EU28: 1.08 | EV28: 143.48 | EW28: 17.89 | EX28: 0.08 | EY28: 0 | FQ28: 0 | FR28: =ROUND(IF(AND(BH28=3,BI28=3),P28,0),2) -> 0 | FS28: 0 | FX28: 85 | FY28: 65 | GD28: 0 | GF28: 1077668203 | GG28: 2 | GH28: 1 | GI28: -2 | GJ28: 0 | GK28: =ROUND(R28*(R12)/100,2) -> 0 | GL28: =ROUND(IF(AND(BH28=3,BI28=3,FS28<>0),P28,0),2) -> 0 | GM28: =ROUND(O28+X28+Y28+GK28,2)+GX28 -> 217.7 | GN28: =IF(OR(BI28=0,BI28=1),ROUND(O28+X28+Y28+GK28,2),0) -> 217.7 | GO28: =IF(BI28=2,ROUND(O28+X28+Y28+GK28,2),0) -> 0 | GP28: =IF(BI28=4,ROUND(O28+X28+Y28+GK28,2)+GX28,0) -> 0 | GR28: 0 | GS28: 3 | GT28: 0 | GV28: =ROUND((GT28),6) -> 0 | GW28: 1 | GX28: =ROUND(HC28*I28,2) -> 0 | HA28: 0 | HB28: 0 | HC28: =GV28*GW28 -> 0 | IK28: 0
A29: 17 | B29: 1 | C29: =ROW(SmtRes!A6) -> 6 | D29: =ROW(EtalonRes!A6) -> 6 | E29: 1 | F29: 67-4-5 | G29: Демонтаж светильников для люминесцентных ламп | H29: 100 ШТ | I29: =ROUND(60/100,9) -> 0.6 | J29: 0 | O29: =ROUND(CP29,2) -> 583.34 | P29: =ROUND(CQ29*I29,2) -> 0 | Q29: =ROUND(CR29*I29,2) -> 9.99 | R29: =ROUND(CS29*I29,2) -> 4.32 | S29: =ROUND(CT29*I29,2) -> 573.35 | T29: =ROUND(CU29*I29,2) -> 0 | U29: =CV29*I29 -> 10.734 | V29: =CW29*I29 -> 0.048 | W29: =ROUND(CX29*I29,2) -> 0 | X29: =ROUND(CY29,2) -> 491.02 | Y29: =ROUND(CZ29,2) -> 375.49 | AA29: 16781639 | AB29: =ROUND((AC29+AD29+AF29),6) -> 145.98 | AC29: =ROUND((ES29),6) -> 0 | AD29: =ROUND((((ET29)-(EU29))+AE29),6) -> 2.5 | AE29: =ROUND((EU29),6) -> 1.08 | AF29: =ROUND((EV29),6) -> 143.48 | AG29: =ROUND((AP29),6) -> 0 | AH29: =(EW29) -> 17.89 | AI29: =(EX29) -> 0.08 | AJ29: =(AS29) -> 0 | AK29: 145.98 | AL29: 0 | AM29: 2.5 | AN29: 1.08 | AO29: 143.48 | AP29: 0 | AQ29: 17.89 | AR29: 0.08 | AS29: 0 | AT29: 85 | AU29: 65 | AV29: 1 | AW29: 1 | AZ29: 6.66 | BA29: 6.66 | BB29: 6.66 | BC29: 6.66 | BH29: 0 | BI29: 1 | BJ29: ФЕРр-2001, 67-4-5, приказ Минстроя России №1039/пр от 30.12.2016г. | BM29: 67001 | BN29: 0 | BP29: 0 | BQ29: 6 | BR29: 0 | BS29: 6.66 | BT29: 1 | BU29: 1 | BV29: 1 | BW29: 1 | BX29: 1 | BZ29: 85 | CA29: 65 | CE29: 0 | CF29: 0 | CG29: 0 | CM29: 0 | CO29: 0 | CP29: =(P29+Q29+S29) -> 583.34 | CQ29: =AC29*BC29 -> 0 | CR29: =AD29*BB29 -> 16.65 | CS29: =AE29*BS29 -> 7.1928 | CT29: =AF29*BA29 -> 955.5768 | CU29: =AG29 -> 0 | CV29: =AH29 -> 17.89 | CW29: =AI29 -> 0.08 | CX29: =AJ29 -> 0 | CY29: =(((S29+R29)*AT29)/100) -> 491.0195 | CZ29: =(((S29+R29)*AU29)/100) -> 375.4855 | DN29: 0 | DO29: 0 | DP29: 1 | DQ29: 1 | DU29: 1013 | DV29: 100 ШТ | DW29: 100 ШТ | DX29: 1 | EE29: 16510612 | EF29: 6 | EG29: Ремонтно-строительные работы | EH29: 0 | EJ29: 1 | EK29: 67001 | EL29: Электромонтажные работы | EM29: рФЕР-67 | EQ29: 0 | ER29: 145.98 | ES29: 0 | ET29: 2.5 | EU29: 1.08 | EV29: 143.48 | EW29: 17.89 | EX29: 0.08 | EY29: 0 | FQ29: 0 | FR29: =ROUND(IF(AND(BH29=3,BI29=3),P29,0),2) -> 0 | FS29: 0 | FX29: 85 | FY29: 65 | GD29: 0 | GF29: 1077668203 | GG29: 1 | GH29: 1 | GI29: 4 | GJ29: 0 | GK29: =ROUND(R29*(S12)/100,2) -> 0 | GL29: =ROUND(IF(AND(BH29=3,BI29=3,FS29<>0),P29,0),2) -> 0 | GM29: =ROUND(O29+X29+Y29+GK29,2)+GX29 -> 1449.85 | GN29: =IF(OR(BI29=0,BI29=1),ROUND(O29+X29+Y29+GK29,2),0) -> 1449.85 | GO29: =IF(BI29=2,ROUND(O29+X29+Y29+GK29,2),0) -> 0 | GP29: =IF(BI29=4,ROUND(O29+X29+Y29+GK29,2)+GX29,0) -> 0 | GR29: 0 | GS29: 3 | GT29: 0 | GV29: =ROUND((GT29),6) -> 0 | GW29: 1 | GX29: =ROUND(HC29*I29,2) -> 0 | HA29: 0 | HB29: 0 | HC29: =GV29*GW29 -> 0 | IK29: 0
A30: 17 | B30: 1 | C30: =ROW(SmtRes!A7) -> 7 | D30: =ROW(EtalonRes!A7) -> 7 | E30: 2 | F30: 67-4-1 | G30: Демонтаж выключателей, розеток | H30: 100 ШТ | I30: =ROUND(20/100,9) -> 0.2 | J30: 0 | O30: =ROUND(CP30,2) -> 9.11 | P30: =ROUND(CQ30*I30,2) -> 0 | Q30: =ROUND(CR30*I30,2) -> 0 | R30: =ROUND(CS30*I30,2) -> 0 | S30: =ROUND(CT30*I30,2) -> 9.11 | T30: =ROUND(CU30*I30,2) -> 0 | U30: =CV30*I30 -> 1.168 | V30: =CW30*I30 -> 0 | W30: =ROUND(CX30*I30,2) -> 0 | X30: =ROUND(CY30,2) -> 7.74 | Y30: =ROUND(CZ30,2) -> 5.92 | AA30: 16781625 | AB30: =ROUND((AC30+AD30+AF30),6) -> 45.55 | AC30: =ROUND((ES30),6) -> 0 | AD30: =ROUND((((ET30)-(EU30))+AE30),6) -> 0 | AE30: =ROUND((EU30),6) -> 0 | AF30: =ROUND((EV30),6) -> 45.55 | AG30: =ROUND((AP30),6) -> 0 | AH30: =(EW30) -> 5.84 | AI30: =(EX30) -> 0 | AJ30: =(AS30) -> 0 | AK30: 45.55 | AL30: 0 | AM30: 0 | AN30: 0 | AO30: 45.55 | AP30: 0 | AQ30: 5.84 | AR30: 0 | AS30: 0 | AT30: 85 | AU30: 65 | AV30: 1 | AW30: 1 | AZ30: 1 | BA30: 1 | BB30: 1 | BC30: 1 | BH30: 0 | BI30: 1 | BJ30: ФЕРр-2001, 67-4-1, приказ Минстроя России №1039/пр от 30.12.2016г. | BM30: 67001 | BN30: 0 | BP30: 0 | BQ30: 6 | BR30: 0 | BS30: 1 | BT30: 1 | BU30: 1 | BV30: 1 | BW30: 1 | BX30: 1 | BZ30: 85 | CA30: 65 | CE30: 0 | CF30: 0 | CG30: 0 | CM30: 0 | CO30: 0 | CP30: =(P30+Q30+S30) -> 9.11 | CQ30: =AC30*BC30 -> 0 | CR30: =AD30*BB30 -> 0 | CS30: =AE30*BS30 -> 0 | CT30: =AF30*BA30 -> 45.55 | CU30: =AG30 -> 0 | CV30: =AH30 -> 5.84 | CW30: =AI30 -> 0 | CX30: =AJ30 -> 0 | CY30: =(((S30+R30)*AT30)/100) -> 7.7435 | CZ30: =(((S30+R30)*AU30)/100) -> 5.9215 | DN30: 0 | DO30: 0 | DP30: 1 | DQ30: 1 | DU30: 1013 | DV30: 100 ШТ | DW30: 100 ШТ | DX30: 1 | EE30: 16510612 | EF30: 6 | EG30: Ремонтно-строительные работы | EH30: 0 | EJ30: 1 | EK30: 67001 | EL30: Электромонтажные работы | EM30: рФЕР-67 | EQ30: 0 | ER30: 45.55 | ES30: 0 | ET30: 0 | EU30: 0 | EV30: 45.55 | EW30: 5.84 | EX30: 0 | EY30: 0 | FQ30: 0 | FR30: =ROUND(IF(AND(BH30=3,BI30=3),P30,0),2) -> 0 | FS30: 0 | FX30: 85 | FY30: 65 | GD30: 0 | GF30: -729058478 | GG30: 2 | GH30: 1 | GI30: -2 | GJ30: 0 | GK30: =ROUND(R30*(R12)/100,2) -> 0 | GL30: =ROUND(IF(AND(BH30=3,BI30=3,FS30<>0),P30,0),2) -> 0 | GM30: =ROUND(O30+X30+Y30+GK30,2)+GX30 -> 22.77 | GN30: =IF(OR(BI30=0,BI30=1),ROUND(O30+X30+Y30+GK30,2),0) -> 22.77 | GO30: =IF(BI30=2,ROUND(O30+X30+Y30+GK30,2),0) -> 0 | GP30: =IF(BI30=4,ROUND(O30+X30+Y30+GK30,2)+GX30,0) -> 0 | GR30: 0 | GS30: 3 | GT30: 0 | GV30: =ROUND((GT30),6) -> 0 | GW30: 1 | GX30: =ROUND(HC30*I30,2) -> 0 | HA30: 0 | HB30: 0 | HC30: =GV30*GW30 -> 0 | IK30: 0
A31: 17 | B31: 1 | C31: =ROW(SmtRes!A8) -> 8 | D31: =ROW(EtalonRes!A8) -> 8 | E31: 2 | F31: 67-4-1 | G31: Демонтаж выключателей, розеток | H31: 100 ШТ | I31: =ROUND(20/100,9) -> 0.2 | J31: 0 | O31: =ROUND(CP31,2) -> 60.67 | P31: =ROUND(CQ31*I31,2) -> 0 | Q31: =ROUND(CR31*I31,2) -> 0 | R31: =ROUND(CS31*I31,2) -> 0 | S31: =ROUND(CT31*I31,2) -> 60.67 | T31: =ROUND(CU31*I31,2) -> 0 | U31: =CV31*I31 -> 1.168 | V31: =CW31*I31 -> 0 | W31: =ROUND(CX31*I31,2) -> 0 | X31: =ROUND(CY31,2) -> 51.57 | Y31: =ROUND(CZ31,2) -> 39.44 | AA31: 16781639 | AB31: =ROUND((AC31+AD31+AF31),6) -> 45.55 | AC31: =ROUND((ES31),6) -> 0 | AD31: =ROUND((((ET31)-(EU31))+AE31),6) -> 0 | AE31: =ROUND((EU31),6) -> 0 | AF31: =ROUND((EV31),6) -> 45.55 | AG31: =ROUND((AP31),6) -> 0 | AH31: =(EW31) -> 5.84 | AI31: =(EX31) -> 0 | AJ31: =(AS31) -> 0 | AK31: 45.55 | AL31: 0 | AM31: 0 | AN31: 0 | AO31: 45.55 | AP31: 0 | AQ31: 5.84 | AR31: 0 | AS31: 0 | AT31: 85 | AU31: 65 | AV31: 1 | AW31: 1 | AZ31: 6.66 | BA31: 6.66 | BB31: 6.66 | BC31: 6.66 | BH31: 0 | BI31: 1 | BJ31: ФЕРр-2001, 67-4-1, приказ Минстроя России №1039/пр от 30.12.2016г. | BM31: 67001 | BN31: 0 | BP31: 0 | BQ31: 6 | BR31: 0 | BS31: 6.66 | BT31: 1 | BU31: 1 | BV31: 1 | BW31: 1 | BX31: 1 | BZ31: 85 | CA31: 65 | CE31: 0 | CF31: 0 | CG31: 0 | CM31: 0 | CO31: 0 | CP31: =(P31+Q31+S31) -> 60.67 | CQ31: =AC31*BC31 -> 0 | CR31: =AD31*BB31 -> 0 | CS31: =AE31*BS31 -> 0 | CT31: =AF31*BA31 -> 303.363 | CU31: =AG31 -> 0 | CV31: =AH31 -> 5.84 | CW31: =AI31 -> 0 | CX31: =AJ31 -> 0 | CY31: =(((S31+R31)*AT31)/100) -> 51.5695 | CZ31: =(((S31+R31)*AU31)/100) -> 39.4355 | DN31: 0 | DO31: 0 | DP31: 1 | DQ31: 1 | DU31: 1013 | DV31: 100 ШТ | DW31: 100 ШТ | DX31: 1 | EE31: 16510612 | EF31: 6 | EG31: Ремонтно-строительные работы | EH31: 0 | EJ31: 1 | EK31: 67001 | EL31: Электромонтажные работы | EM31: рФЕР-67 | EQ31: 0 | ER31: 45.55 | ES31: 0 | ET31: 0 | EU31: 0 | EV31: 45.55 | EW31: 5.84 | EX31: 0 | EY31: 0 | FQ31: 0 | FR31: =ROUND(IF(AND(BH31=3,BI31=3),P31,0),2) -> 0 | FS31: 0 | FX31: 85 | FY31: 65 | GD31: 0 | GF31: -729058478 | GG31: 1 | GH31: 1 | GI31: 4 | GJ31: 0 | GK31: =ROUND(R31*(S12)/100,2) -> 0 | GL31: =ROUND(IF(AND(BH31=3,BI31=3,FS31<>0),P31,0),2) -> 0 | GM31: =ROUND(O31+X31+Y31+GK31,2)+GX31 -> 151.68 | GN31: =IF(OR(BI31=0,BI31=1),ROUND(O31+X31+Y31+GK31,2),0) -> 151.68 | GO31: =IF(BI31=2,ROUND(O31+X31+Y31+GK31,2),0) -> 0 | GP31: =IF(BI31=4,ROUND(O31+X31+Y31+GK31,2)+GX31,0) -> 0 | GR31: 0 | GS31: 3 | GT31: 0 | GV31: =ROUND((GT31),6) -> 0 | GW31: 1 | GX31: =ROUND(HC31*I31,2) -> 0 | HA31: 0 | HB31: 0 | HC31: =GV31*GW31 -> 0 | IK31: 0
A32: 17 | B32: 1 | C32: =ROW(SmtRes!A11) -> 11 | D32: =ROW(EtalonRes!A11) -> 11 | E32: 3 | F32: 67-3-1 | G32: Демонтаж кабеля | H32: 100 м | I32: =ROUND(450/100,9) -> 4.5 | J32: 0 | O32: =ROUND(CP32,2) -> 339.76 | P32: =ROUND(CQ32*I32,2) -> 0 | Q32: =ROUND(CR32*I32,2) -> 1.4 | R32: =ROUND(CS32*I32,2) -> 0.63 | S32: =ROUND(CT32*I32,2) -> 338.36 | T32: =ROUND(CU32*I32,2) -> 0 | U32: =CV32*I32 -> 43.38 | V32: =CW32*I32 -> 0.045 | W32: =ROUND(CX32*I32,2) -> 0 | X32: =ROUND(CY32,2) -> 288.14 | Y32: =ROUND(CZ32,2) -> 220.34 | AA32: 16781625 | AB32: =ROUND((AC32+AD32+AF32),6) -> 75.5 | AC32: =ROUND((ES32),6) -> 0 | AD32: =ROUND((((ET32)-(EU32))+AE32),6) -> 0.31 | AE32: =ROUND((EU32),6) -> 0.14 | AF32: =ROUND((EV32),6) -> 75.19 | AG32: =ROUND((AP32),6) -> 0 | AH32: =(EW32) -> 9.64 | AI32: =(EX32) -> 0.01 | AJ32: =(AS32) -> 0 | AK32: 75.5 | AL32: 0 | AM32: 0.31 | AN32: 0.14 | AO32: 75.19 | AP32: 0 | AQ32: 9.64 | AR32: 0.01 | AS32: 0 | AT32: 85 | AU32: 65 | AV32: 1 | AW32: 1 | AZ32: 1 | BA32: 1 | BB32: 1 | BC32: 1 | BH32: 0 | BI32: 1 | BJ32: ФЕРр-2001, 67-3-1, приказ Минстроя России №1039/пр от 30.12.2016г. | BM32: 67001 | BN32: 0 | BP32: 0 | BQ32: 6 | BR32: 0 | BS32: 1 | BT32: 1 | BU32: 1 | BV32: 1 | BW32: 1 | BX32: 1 | BZ32: 85 | CA32: 65 | CE32: 0 | CF32: 0 | CG32: 0 | CM32: 0 | CO32: 0 | CP32: =(P32+Q32+S32) -> 339.76 | CQ32: =AC32*BC32 -> 0 | CR32: =AD32*BB32 -> 0.31 | CS32: =AE32*BS32 -> 0.14 | CT32: =AF32*BA32 -> 75.19 | CU32: =AG32 -> 0 | CV32: =AH32 -> 9.64 | CW32: =AI32 -> 0.01 | CX32: =AJ32 -> 0 | CY32: =(((S32+R32)*AT32)/100) -> 288.1415 | CZ32: =(((S32+R32)*AU32)/100) -> 220.3435 | DN32: 0 | DO32: 0 | DP32: 1 | DQ32: 1 | DU32: 1003 | DV32: 100 м | DW32: 100 м | DX32: 100 | EE32: 16510612 | EF32: 6 | EG32: Ремонтно-строительные работы | EH32: 0 | EJ32: 1 | EK32: 67001 | EL32: Электромонтажные работы | EM32: рФЕР-67 | EQ32: 0 | ER32: 75.5 | ES32: 0 | ET32: 0.31 | EU32: 0.14 | EV32: 75.19 | EW32: 9.64 | EX32: 0.01 | EY32: 0 | FQ32: 0 | FR32: =ROUND(IF(AND(BH32=3,BI32=3),P32,0),2) -> 0 | FS32: 0 | FX32: 85 | FY32: 65 | GD32: 0 | GF32: 994189354 | GG32: 2 | GH32: 1 | GI32: -2 | GJ32: 0 | GK32: =ROUND(R32*(R12)/100,2) -> 0 | GL32: =ROUND(IF(AND(BH32=3,BI32=3,FS32<>0),P32,0),2) -> 0 | GM32: =ROUND(O32+X32+Y32+GK32,2)+GX32 -> 848.24 | GN32: =IF(OR(BI32=0,BI32=1),ROUND(O32+X32+Y32+GK32,2),0) -> 848.24 | GO32: =IF(BI32=2,ROUND(O32+X32+Y32+GK32,2),0) -> 0 | GP32: =IF(BI32=4,ROUND(O32+X32+Y32+GK32,2)+GX32,0) -> 0 | GR32: 0 | GS32: 3 | GT32: 0 | GV32: =ROUND((GT32),6) -> 0 | GW32: 1 | GX32: =ROUND(HC32*I32,2) -> 0 | HA32: 0 | HB32: 0 | HC32: =GV32*GW32 -> 0 | IK32: 0
A33: 17 | B33: 1 | C33: =ROW(SmtRes!A14) -> 14 | D33: =ROW(EtalonRes!A14) -> 14 | E33: 3 | F33: 67-3-1 | G33: Демонтаж кабеля | H33: 100 м | I33: =ROUND(450/100,9) -> 4.5 | J33: 0 | O33: =ROUND(CP33,2) -> 2262.73 | P33: =ROUND(CQ33*I33,2) -> 0 | Q33: =ROUND(CR33*I33,2) -> 9.29 | R33: =ROUND(CS33*I33,2) -> 4.2 | S33: =ROUND(CT33*I33,2) -> 2253.44 | T33: =ROUND(CU33*I33,2) -> 0 | U33: =CV33*I33 -> 43.38 | V33: =CW33*I33 -> 0.045 | W33: =ROUND(CX33*I33,2) -> 0 | X33: =ROUND(CY33,2) -> 1918.99 | Y33: =ROUND(CZ33,2) -> 1467.47 | AA33: 16781639 | AB33: =ROUND((AC33+AD33+AF33),6) -> 75.5 | AC33: =ROUND((ES33),6) -> 0 | AD33: =ROUND((((ET33)-(EU33))+AE33),6) -> 0.31 | AE33: =ROUND((EU33),6) -> 0.14 | AF33: =ROUND((EV33),6) -> 75.19 | AG33: =ROUND((AP33),6) -> 0 | AH33: =(EW33) -> 9.64 | AI33: =(EX33) -> 0.01 | AJ33: =(AS33) -> 0 | AK33: 75.5 | AL33: 0 | AM33: 0.31 | AN33: 0.14 | AO33: 75.19 | AP33: 0 | AQ33: 9.64 | AR33: 0.01 | AS33: 0 | AT33: 85 | AU33: 65 | AV33: 1 | AW33: 1 | AZ33: 6.66 | BA33: 6.66 | BB33: 6.66 | BC33: 6.66 | BH33: 0 | BI33: 1 | BJ33: ФЕРр-2001, 67-3-1, приказ Минстроя России №1039/пр от 30.12.2016г. | BM33: 67001 | BN33: 0 | BP33: 0 | BQ33: 6 | BR33: 0 | BS33: 6.66 | BT33: 1 | BU33: 1 | BV33: 1 | BW33: 1 | BX33: 1 | BZ33: 85 | CA33: 65 | CE33: 0 | CF33: 0 | CG33: 0 | CM33: 0 | CO33: 0 | CP33: =(P33+Q33+S33) -> 2262.73 | CQ33: =AC33*BC33 -> 0 | CR33: =AD33*BB33 -> 2.0646 | CS33: =AE33*BS33 -> 0.9324 | CT33: =AF33*BA33 -> 500.7654 | CU33: =AG33 -> 0 | CV33: =AH33 -> 9.64 | CW33: =AI33 -> 0.01 | CX33: =AJ33 -> 0 | CY33: =(((S33+R33)*AT33)/100) -> 1918.994 | CZ33: =(((S33+R33)*AU33)/100) -> 1467.466 | DN33: 0 | DO33: 0 | DP33: 1 | DQ33: 1 | DU33: 1003 | DV33: 100 м | DW33: 100 м | DX33: 100 | EE33: 16510612 | EF33: 6 | EG33: Ремонтно-строительные работы | EH33: 0 | EJ33: 1 | EK33: 67001 | EL33: Электромонтажные работы | EM33: рФЕР-67 | EQ33: 0 | ER33: 75.5 | ES33: 0 | ET33: 0.31 | EU33: 0.14 | EV33: 75.19 | EW33: 9.64 | EX33: 0.01 | EY33: 0 | FQ33: 0 | FR33: =ROUND(IF(AND(BH33=3,BI33=3),P33,0),2) -> 0 | FS33: 0 | FX33: 85 | FY33: 65 | GD33: 0 | GF33: 994189354 | GG33: 1 | GH33: 1 | GI33: 4 | GJ33: 0 | GK33: =ROUND(R33*(S12)/100,2) -> 0 | GL33: =ROUND(IF(AND(BH33=3,BI33=3,FS33<>0),P33,0),2) -> 0 | GM33: =ROUND(O33+X33+Y33+GK33,2)+GX33 -> 5649.19 | GN33: =IF(OR(BI33=0,BI33=1),ROUND(O33+X33+Y33+GK33,2),0) -> 5649.19 | GO33: =IF(BI33=2,ROUND(O33+X33+Y33+GK33,2),0) -> 0 | GP33: =IF(BI33=4,ROUND(O33+X33+Y33+GK33,2)+GX33,0) -> 0 | GR33: 0 | GS33: 3 | GT33: 0 | GV33: =ROUND((GT33),6) -> 0 | GW33: 1 | GX33: =ROUND(HC33*I33,2) -> 0 | HA33: 0 | HB33: 0 | HC33: =GV33*GW33 -> 0 | IK33: 0
A34: 17 | B34: 1 | C34: =ROW(SmtRes!A24) -> 24 | D34: =ROW(EtalonRes!A24) -> 24 | E34: 4 | F34: м08-03-572-01 | G34: Демонтаж: Блок управления открытого исполнения высотой и шириной до 1000х800 мм, устанавливаемый на стене | H34: ШТ | I34: 2 | J34: 0 | O34: =ROUND(CP34,2) -> 32.72 | P34: =ROUND(CQ34*I34,2) -> 0 | Q34: =ROUND(CR34*I34,2) -> 18.91 | R34: =ROUND(CS34*I34,2) -> 2.11 | S34: =ROUND(CT34*I34,2) -> 13.81 | T34: =ROUND(CU34*I34,2) -> 0 | U34: =CV34*I34 -> 1.392 | V34: =CW34*I34 -> 0.168 | W34: =ROUND(CX34*I34,2) -> 0 | X34: =ROUND(CY34,2) -> 15.12 | Y34: =ROUND(CZ34,2) -> 10.35 | AA34: 16781625 | AB34: =ROUND((AC34+AD34+AF34),6) -> 16.359 | AC34: =ROUND(((ES34*0)),6) -> 0 | AD34: =ROUND(((((ET34*0.3))-((EU34*0.3)))+AE34),6) -> 9.456 | AE34: =ROUND(((EU34*0.3)),6) -> 1.053 | AF34: =ROUND(((EV34*0.3)),6) -> 6.903 | AG34: =ROUND((AP34),6) -> 0 | AH34: =((EW34*0.3)) -> 0.696 | AI34: =((EX34*0.3)) -> 0.084 | AJ34: =(AS34) -> 0 | AK34: 230.95 | AL34: 176.42 | AM34: 31.52 | AN34: 3.51 | AO34: 23.01 | AP34: 0 | AQ34: 2.32 | AR34: 0.28 | AS34: 0 | AT34: 95 | AU34: 65 | AV34: 1 | AW34: 1 | AZ34: 1 | BA34: 1 | BB34: 1 | BC34: 1 | BH34: 0 | BI34: 2 | BJ34: ФЕРм-2001, м08-03-572-01, приказ Минстроя России №1039/пр от 30.12.2016г. | BM34: 108001 | BN34: 0 | BP34: 0 | BQ34: 3 | BR34: 0 | BS34: 1 | BT34: 1 | BU34: 1 | BV34: 1 | BW34: 1 | BX34: 1 | BZ34: 95 | CA34: 65 | CE34: 0 | CF34: 0 | CG34: 0 | CM34: 0 | CN34: Поправка: Табл.3, п.4 Наименование: Демонтаж: Оборудование, не пригодное для дальнейшего использования, (предназначено в лом) без разборки и резки | CO34: 0 | CP34: =(P34+Q34+S34) -> 32.72 | CQ34: =AC34*BC34 -> 0 | CR34: =AD34*BB34 -> 9.456 | CS34: =AE34*BS34 -> 1.053 | CT34: =AF34*BA34 -> 6.903 | CU34: =AG34 -> 0 | CV34: =AH34 -> 0.696 | CW34: =AI34 -> 0.084 | CX34: =AJ34 -> 0 | CY34: =(((S34+R34)*AT34)/100) -> 15.124 | CZ34: =(((S34+R34)*AU34)/100) -> 10.348 | DD34: )*0 | DE34: )*0,3 | DF34: )*0,3 | DG34: )*0,3 | DI34: )*0,3 | DJ34: )*0,3 | DN34: 0 | DO34: 0 | DP34: 1 | DQ34: 1 | DU34: 1013 | DV34: ШТ | DW34: ШТ | DX34: 1 | EE34: 16510370 | EF34: 3 | EG34: Монтажные работы | EH34: 0 | EJ34: 2 | EK34: 108001 | EL34: Электромонтажные работы , отдел 01-03 : ( на АЭС НР = 110% ) - (работы по упр. авиа.- движением: СП=55% ( {АВИА}=1; обычные работы : СП=65 - {AВИА}=0), при работе на АЭС СП= 68% ) | EM34: мФЕР-08 | EO34: Поправка: Табл.3, п.4 | EQ34: 0 | ER34: 230.95 | ES34: 176.42 | ET34: 31.52 | EU34: 3.51 | EV34: 23.01 | EW34: 2.32 | EX34: 0.28 | EY34: 0 | FQ34: 0 | FR34: =ROUND(IF(AND(BH34=3,BI34=3),P34,0),2) -> 0 | FS34: 0 | FX34: 95 | FY34: 65 | GD34: 0 | GF34: 1068479520 | GG34: 2 | GH34: 1 | GI34: -2 | GJ34: 0 | GK34: =ROUND(R34*(R12)/100,2) -> 0 | GL34: =ROUND(IF(AND(BH34=3,BI34=3,FS34<>0),P34,0),2) -> 0 | GM34: =ROUND(O34+X34+Y34+GK34,2)+GX34 -> 58.19 | GN34: =IF(OR(BI34=0,BI34=1),ROUND(O34+X34+Y34+GK34,2),0) -> 0 | GO34: =IF(BI34=2,ROUND(O34+X34+Y34+GK34,2),0) -> 58.19 | GP34: =IF(BI34=4,ROUND(O34+X34+Y34+GK34,2)+GX34,0) -> 0 | GR34: 0 | GS34: 3 | GT34: 0 | GV34: =ROUND((GT34),6) -> 0 | GW34: 1 | GX34: =ROUND(HC34*I34,2) -> 0 | HA34: 0 | HB34: 0 | HC34: =GV34*GW34 -> 0 | IK34: 0
A35: 17 | B35: 1 | C35: =ROW(SmtRes!A34) -> 34 | D35: =ROW(EtalonRes!A34) -> 34 | E35: 4 | F35: м08-03-572-01 | G35: Демонтаж: Блок управления открытого исполнения высотой и шириной до 1000х800 мм, устанавливаемый на стене | H35: ШТ | I35: 2 | J35: 0 | O35: =ROUND(CP35,2) -> 217.9 | P35: =ROUND(CQ35*I35,2) -> 0 | Q35: =ROUND(CR35*I35,2) -> 125.95 | R35: =ROUND(CS35*I35,2) -> 14.03 | S35: =ROUND(CT35*I35,2) -> 91.95 | T35: =ROUND(CU35*I35,2) -> 0 | U35: =CV35*I35 -> 1.392 | V35: =CW35*I35 -> 0.168 | W35: =ROUND(CX35*I35,2) -> 0 | X35: =ROUND(CY35,2) -> 100.68 | Y35: =ROUND(CZ35,2) -> 68.89 | AA35: 16781639 | AB35: =ROUND((AC35+AD35+AF35),6) -> 16.359 | AC35: =ROUND(((ES35*0)),6) -> 0 | AD35: =ROUND(((((ET35*0.3))-((EU35*0.3)))+AE35),6) -> 9.456 | AE35: =ROUND(((EU35*0.3)),6) -> 1.053 | AF35: =ROUND(((EV35*0.3)),6) -> 6.903 | AG35: =ROUND((AP35),6) -> 0 | AH35: =((EW35*0.3)) -> 0.696 | AI35: =((EX35*0.3)) -> 0.084 | AJ35: =(AS35) -> 0 | AK35: 230.95 | AL35: 176.42 | AM35: 31.52 | AN35: 3.51 | AO35: 23.01 | AP35: 0 | AQ35: 2.32 | AR35: 0.28 | AS35: 0 | AT35: 95 | AU35: 65 | AV35: 1 | AW35: 1 | AZ35: 6.66 | BA35: 6.66 | BB35: 6.66 | BC35: 6.66 | BH35: 0 | BI35: 2 | BJ35: ФЕРм-2001, м08-03-572-01, приказ Минстроя России №1039/пр от 30.12.2016г. | BM35: 108001 | BN35: 0 | BP35: 0 | BQ35: 3 | BR35: 0 | BS35: 6.66 | BT35: 1 | BU35: 1 | BV35: 1 | BW35: 1 | BX35: 1 | BZ35: 95 | CA35: 65 | CE35: 0 | CF35: 0 | CG35: 0 | CM35: 0 | CN35: Поправка: Табл.3, п.4 Наименование: Демонтаж: Оборудование, не пригодное для дальнейшего использования, (предназначено в лом) без разборки и резки | CO35: 0 | CP35: =(P35+Q35+S35) -> 217.9 | CQ35: =AC35*BC35 -> 0 | CR35: =AD35*BB35 -> 62.97696 | CS35: =AE35*BS35 -> 7.01298 | CT35: =AF35*BA35 -> 45.97398 | CU35: =AG35 -> 0 | CV35: =AH35 -> 0.696 | CW35: =AI35 -> 0.084 | CX35: =AJ35 -> 0 | CY35: =(((S35+R35)*AT35)/100) -> 100.681 | CZ35: =(((S35+R35)*AU35)/100) -> 68.887 | DD35: )*0 | DE35: )*0,3 | DF35: )*0,3 | DG35: )*0,3 | DI35: )*0,3 | DJ35: )*0,3 | DN35: 0 | DO35: 0 | DP35: 1 | DQ35: 1 | DU35: 1013 | DV35: ШТ | DW35: ШТ | DX35: 1 | EE35: 16510370 | EF35: 3 | EG35: Монтажные работы | EH35: 0 | EJ35: 2 | EK35: 108001 | EL35: Электромонтажные работы , отдел 01-03 : ( на АЭС НР = 110% ) - (работы по упр. авиа.- движением: СП=55% ( {АВИА}=1; обычные работы : СП=65 - {AВИА}=0), при работе на АЭС СП= 68% ) | EM35: мФЕР-08 | EO35: Поправка: Табл.3, п.4 | EQ35: 0 | ER35: 230.95 | ES35: 176.42 | ET35: 31.52 | EU35: 3.51 | EV35: 23.01 | EW35: 2.32 | EX35: 0.28 | EY35: 0 | FQ35: 0 | FR35: =ROUND(IF(AND(BH35=3,BI35=3),P35,0),2) -> 0 | FS35: 0 | FX35: 95 | FY35: 65 | GD35: 0 | GF35: 1068479520 | GG35: 1 | GH35: 1 | GI35: 4 | GJ35: 0 | GK35: =ROUND(R35*(S12)/100,2) -> 0 | GL35: =ROUND(IF(AND(BH35=3,BI35=3,FS35<>0),P35,0),2) -> 0 | GM35: =ROUND(O35+X35+Y35+GK35,2)+GX35 -> 387.47 | GN35: =IF(OR(BI35=0,BI35=1),ROUND(O35+X35+Y35+GK35,2),0) -> 0 | GO35: =IF(BI35=2,ROUND(O35+X35+Y35+GK35,2),0) -> 387.47 | GP35: =IF(BI35=4,ROUND(O35+X35+Y35+GK35,2)+GX35,0) -> 0 | GR35: 0 | GS35: 3 | GT35: 0 | GV35: =ROUND((GT35),6) -> 0 | GW35: 1 | GX35: =ROUND(HC35*I35,2) -> 0 | HA35: 0 | HB35: 0 | HC35: =GV35*GW35 -> 0 | IK35: 0
A36: 17 | B36: 1 | C36: =ROW(SmtRes!A39) -> 39 | D36: =ROW(EtalonRes!A39) -> 39 | E36: 5 | F36: 15-01-047-15 | G36: Демонтаж:Устройство подвесных потолков типа <Армстронг> по каркасу из оцинкованного профиля | H36: 100 м2 | I36: =ROUND(51.392/100,9) -> 0.51392 | J36: 0 | O36: =ROUND(CP36,2) -> 529.47 | P36: =ROUND(CQ36*I36,2) -> 0 | Q36: =ROUND(CR36*I36,2) -> 133.5 | R36: =ROUND(CS36*I36,2) -> 26.06 | S36: =ROUND(CT36*I36,2) -> 395.97 | T36: =ROUND(CU36*I36,2) -> 0 | U36: =CV36*I36 -> 42.124995 | V36: =CW36*I36 -> 2.1954662 | W36: =ROUND(CX36*I36,2) -> 0 | X36: =ROUND(CY36,2) -> 400.93 | Y36: =ROUND(CZ36,2) -> 198.35 | AA36: 16781625 | AB36: =ROUND((AC36+AD36+AF36),6) -> 1030.264 | AC36: =ROUND(((ES36*0)),6) -> 0 | AD36: =ROUND(((((ET36*0.8))-((EU36*0.8)))+AE36),6) -> 259.768 | AE36: =ROUND(((EU36*0.8)),6) -> 50.712 | AF36: =ROUND(((EV36*0.8)),6) -> 770.496 | AG36: =ROUND((AP36),6) -> 0 | AH36: =((EW36*0.8)) -> 81.968 | AI36: =((EX36*0.8)) -> 4.272 | AJ36: =(AS36) -> 0 | AK36: 6623.23 | AL36: 5335.4 | AM36: 324.71 | AN36: 63.39 | AO36: 963.12 | AP36: 0 | AQ36: 102.46 | AR36: 5.34 | AS36: 0 | AT36: 95 | AU36: 47 | AV36: 1 | AW36: 1 | AZ36: 1 | BA36: 1 | BB36: 1 | BC36: 1 | BH36: 0 | BI36: 1 | BJ36: ФЕР-2001, 15-01-047-15, приказ Минстроя России №1039/пр от 30.12.2016г. | BM36: 15001 | BN36: 0 | BP36: 0 | BQ36: 2 | BR36: 0 | BS36: 1 | BT36: 1 | BU36: 1 | BV36: 1 | BW36: 1 | BX36: 1 | BZ36: 105 | CA36: 55 | CE36: 0 | CF36: 0 | CG36: 0 | CM36: 0 | CN36: Поправка: Табл.2, п.2 Наименование: При демонтаже (разборке) сборных деревянных конструкций | CO36: 0 | CP36: =(P36+Q36+S36) -> 529.47 | CQ36: =AC36*BC36 -> 0 | CR36: =AD36*BB36 -> 259.768 | CS36: =AE36*BS36 -> 50.712 | CT36: =AF36*BA36 -> 770.496 | CU36: =AG36 -> 0 | CV36: =AH36 -> 81.968 | CW36: =AI36 -> 4.272 | CX36: =AJ36 -> 0 | CY36: =(((S36+R36)*AT36)/100) -> 400.9285 | CZ36: =(((S36+R36)*AU36)/100) -> 198.3541 | DD36: )*0 | DE36: )*0,8 | DF36: )*0,8 | DG36: )*0,8 | DI36: )*0,8 | DJ36: )*0,8 | DN36: 0 | DO36: 0 | DP36: 1 | DQ36: 1 | DU36: 1005 | DV36: 100 м2 | DW36: 100 м2 | DX36: 100 | EE36: 16510513 | EF36: 2 | EG36: Общестроительные работы | EH36: 0 | EJ36: 1 | EK36: 15001 | EL36: Отделочные работы | EM36: ФЕР-15 | EO36: Поправка: Табл.2, п.2 | EQ36: 0 | ER36: 6623.23 | ES36: 5335.4 | ET36: 324.71 | EU36: 63.39 | EV36: 963.12 | EW36: 102.46 | EX36: 5.34 | EY36: 0 | FQ36: 0 | FR36: =ROUND(IF(AND(BH36=3,BI36=3),P36,0),2) -> 0 | FS36: 0 | FT36: *0,9 | FU36: *0,85 | FX36: 94.5 | FY36: 46.75 | GD36: 0 | GF36: 2124409249 | GG36: 2 | GH36: 1 | GI36: -2 | GJ36: 0 | GK36: =ROUND(R36*(R12)/100,2) -> 0 | GL36: =ROUND(IF(AND(BH36=3,BI36=3,FS36<>0),P36,0),2) -> 0 | GM36: =ROUND(O36+X36+Y36+GK36,2)+GX36 -> 1128.75 | GN36: =IF(OR(BI36=0,BI36=1),ROUND(O36+X36+Y36+GK36,2),0) -> 1128.75 | GO36: =IF(BI36=2,ROUND(O36+X36+Y36+GK36,2),0) -> 0 | GP36: =IF(BI36=4,ROUND(O36+X36+Y36+GK36,2)+GX36,0) -> 0 | GR36: 0 | GS36: 3 | GT36: 0 | GV36: =ROUND((GT36),6) -> 0 | GW36: 1 | GX36: =ROUND(HC36*I36,2) -> 0 | HA36: 0 | HB36: 0 | HC36: =GV36*GW36 -> 0 | IK36: 0
A37: 17 | B37: 1 | C37: =ROW(SmtRes!A44) -> 44 | D37: =ROW(EtalonRes!A44) -> 44 | E37: 5 | F37: 15-01-047-15 | G37: Демонтаж:Устройство подвесных потолков типа <Армстронг> по каркасу из оцинкованного профиля | H37: 100 м2 | I37: =ROUND(51.392/100,9) -> 0.51392 | J37: 0 | O37: =ROUND(CP37,2) -> 3526.29 | P37: =ROUND(CQ37*I37,2) -> 0 | Q37: =ROUND(CR37*I37,2) -> 889.11 | R37: =ROUND(CS37*I37,2) -> 173.57 | S37: =ROUND(CT37*I37,2) -> 2637.18 | T37: =ROUND(CU37*I37,2) -> 0 | U37: =CV37*I37 -> 42.124995 | V37: =CW37*I37 -> 2.1954662 | W37: =ROUND(CX37*I37,2) -> 0 | X37: =ROUND(CY37,2) -> 2670.21 | Y37: =ROUND(CZ37,2) -> 1321.05 | AA37: 16781639 | AB37: =ROUND((AC37+AD37+AF37),6) -> 1030.264 | AC37: =ROUND(((ES37*0)),6) -> 0 | AD37: =ROUND(((((ET37*0.8))-((EU37*0.8)))+AE37),6) -> 259.768 | AE37: =ROUND(((EU37*0.8)),6) -> 50.712 | AF37: =ROUND(((EV37*0.8)),6) -> 770.496 | AG37: =ROUND((AP37),6) -> 0 | AH37: =((EW37*0.8)) -> 81.968 | AI37: =((EX37*0.8)) -> 4.272 | AJ37: =(AS37) -> 0 | AK37: 6623.23 | AL37: 5335.4 | AM37: 324.71 | AN37: 63.39 | AO37: 963.12 | AP37: 0 | AQ37: 102.46 | AR37: 5.34 | AS37: 0 | AT37: 95 | AU37: 47 | AV37: 1 | AW37: 1 | AZ37: 6.66 | BA37: 6.66 | BB37: 6.66 | BC37: 6.66 | BH37: 0 | BI37: 1 | BJ37: ФЕР-2001, 15-01-047-15, приказ Минстроя России №1039/пр от 30.12.2016г. | BM37: 15001 | BN37: 0 | BP37: 0 | BQ37: 2 | BR37: 0 | BS37: 6.66 | BT37: 1 | BU37: 1 | BV37: 1 | BW37: 1 | BX37: 1 | BZ37: 105 | CA37: 55 | CE37: 0 | CF37: 0 | CG37: 0 | CM37: 0 | CN37: Поправка: Табл.2, п.2 Наименование: При демонтаже (разборке) сборных деревянных конструкций | CO37: 0 | CP37: =(P37+Q37+S37) -> 3526.29 | CQ37: =AC37*BC37 -> 0 | CR37: =AD37*BB37 -> 1730.0549 | CS37: =AE37*BS37 -> 337.74192 | CT37: =AF37*BA37 -> 5131.5034 | CU37: =AG37 -> 0 | CV37: =AH37 -> 81.968 | CW37: =AI37 -> 4.272 | CX37: =AJ37 -> 0 | CY37: =(((S37+R37)*AT37)/100) -> 2670.2125 | CZ37: =(((S37+R37)*AU37)/100) -> 1321.0525 | DD37: )*0 | DE37: )*0,8 | DF37: )*0,8 | DG37: )*0,8 | DI37: )*0,8 | DJ37: )*0,8 | DN37: 0 | DO37: 0 | DP37: 1 | DQ37: 1 | DU37: 1005 | DV37: 100 м2 | DW37: 100 м2 | DX37: 100 | EE37: 16510513 | EF37: 2 | EG37: Общестроительные работы | EH37: 0 | EJ37: 1 | EK37: 15001 | EL37: Отделочные работы | EM37: ФЕР-15 | EO37: Поправка: Табл.2, п.2 | EQ37: 0 | ER37: 6623.23 | ES37: 5335.4 | ET37: 324.71 | EU37: 63.39 | EV37: 963.12 | EW37: 102.46 | EX37: 5.34 | EY37: 0 | FQ37: 0 | FR37: =ROUND(IF(AND(BH37=3,BI37=3),P37,0),2) -> 0 | FS37: 0 | FT37: *0,9 | FU37: *0,85 | FX37: 94.5 | FY37: 46.75 | GD37: 0 | GF37: 2124409249 | GG37: 1 | GH37: 1 | GI37: 4 | GJ37: 0 | GK37: =ROUND(R37*(S12)/100,2) -> 0 | GL37: =ROUND(IF(AND(BH37=3,BI37=3,FS37<>0),P37,0),2) -> 0 | GM37: =ROUND(O37+X37+Y37+GK37,2)+GX37 -> 7517.55 | GN37: =IF(OR(BI37=0,BI37=1),ROUND(O37+X37+Y37+GK37,2),0) -> 7517.55 | GO37: =IF(BI37=2,ROUND(O37+X37+Y37+GK37,2),0) -> 0 | GP37: =IF(BI37=4,ROUND(O37+X37+Y37+GK37,2)+GX37,0) -> 0 | GR37: 0 | GS37: 3 | GT37: 0 | GV37: =ROUND((GT37),6) -> 0 | GW37: 1 | GX37: =ROUND(HC37*I37,2) -> 0 | HA37: 0 | HB37: 0 | HC37: =GV37*GW37 -> 0 | IK37: 0
A38: 17 | B38: 1 | C38: =ROW(SmtRes!A61) -> 61 | D38: =ROW(EtalonRes!A63) -> 63 | E38: 6 | F38: 09-03-048-02 | G38: Демонтаж: Монтаж потолков подвесных алюминиевых панельных перфорированных (при расходе алюминия на 1 м2 потолка до 2,4 кг) | H38: 100 м2 | I38: =ROUND(192.72/100,9) -> 1.9272 | J38: 0 | O38: =ROUND(CP38,2) -> 4078.25 | P38: =ROUND(CQ38*I38,2) -> 0 | Q38: =ROUND(CR38*I38,2) -> 303.88 | R38: =ROUND(CS38*I38,2) -> 6.75 | S38: =ROUND(CT38*I38,2) -> 3774.37 | T38: =ROUND(CU38*I38,2) -> 0 | U38: =CV38*I38 -> 416.13837 | V38: =CW38*I38 -> 0.5261256 | W38: =ROUND(CX38*I38,2) -> 0 | X38: =ROUND(CY38,2) -> 3062.71 | Y38: =ROUND(CZ38,2) -> 2722.41 | AA38: 16781625 | AB38: =ROUND((AC38+AD38+AF38),6) -> 2116.156 | AC38: =ROUND(((ES38*0)),6) -> 0 | AD38: =ROUND(((((ET38*0.7))-((EU38*0.7)))+AE38),6) -> 157.682 | AE38: =ROUND(((EU38*0.7)),6) -> 3.5 | AF38: =ROUND(((EV38*0.7)),6) -> 1958.474 | AG38: =ROUND((AP38),6) -> 0 | AH38: =((EW38*0.7)) -> 215.929 | AI38: =((EX38*0.7)) -> 0.273 | AJ38: =(AS38) -> 0 | AK38: 3654.8 | AL38: 631.72 | AM38: 225.26 | AN38: 5 | AO38: 2797.82 | AP38: 0 | AQ38: 308.47 | AR38: 0.39 | AS38: 0 | AT38: 81 | AU38: 72 | AV38: 1 | AW38: 1 | AZ38: 1 | BA38: 1 | BB38: 1 | BC38: 1 | BH38: 0 | BI38: 1 | BJ38: ФЕР-2001, 09-03-048-02, приказ Минстроя России №1039/пр от 30.12.2016г. | BM38: 9001 | BN38: 0 | BP38: 0 | BQ38: 2 | BR38: 0 | BS38: 1 | BT38: 1 | BU38: 1 | BV38: 1 | BW38: 1 | BX38: 1 | BZ38: 90 | CA38: 85 | CE38: 0 | CF38: 0 | CG38: 0 | CM38: 0 | CN38: Поправка: Прил. 9.3, п.5 Наименование: Разборка (демонтаж) металлических конструкций | CO38: 0 | CP38: =(P38+Q38+S38) -> 4078.25 | CQ38: =AC38*BC38 -> 0 | CR38: =AD38*BB38 -> 157.682 | CS38: =AE38*BS38 -> 3.5 | CT38: =AF38*BA38 -> 1958.474 | CU38: =AG38 -> 0 | CV38: =AH38 -> 215.929 | CW38: =AI38 -> 0.273 | CX38: =AJ38 -> 0 | CY38: =(((S38+R38)*AT38)/100) -> 3062.7072 | CZ38: =(((S38+R38)*AU38)/100) -> 2722.4064 | DD38: )*0 | DE38: )*0,7 | DF38: )*0,7 | DG38: )*0,7 | DI38: )*0,7 | DJ38: )*0,7 | DN38: 0 | DO38: 0 | DP38: 1 | DQ38: 1 | DU38: 1005 | DV38: 100 м2 | DW38: 100 м2 | DX38: 100 | EE38: 16510486 | EF38: 2 | EG38: Общестроительные работы | EH38: 0 | EJ38: 1 | EK38: 9001 | EL38: Металлические конструкции | EM38: ФЕР-09 | EO38: Поправка: Прил. 9.3, п.5 | EQ38: 0 | ER38: 3654.8 | ES38: 631.72 | ET38: 225.26 | EU38: 5 | EV38: 2797.82 | EW38: 308.47 | EX38: 0.39 | EY38: 0 | FQ38: 0 | FR38: =ROUND(IF(AND(BH38=3,BI38=3),P38,0),2) -> 0 | FS38: 0 | FT38: *0,9 | FU38: *0,85 | FX38: 81 | FY38: 72.25 | GD38: 0 | GF38: 254739207 | GG38: 2 | GH38: 1 | GI38: -2 | GJ38: 0 | GK38: =ROUND(R38*(R12)/100,2) -> 0 | GL38: =ROUND(IF(AND(BH38=3,BI38=3,FS38<>0),P38,0),2) -> 0 | GM38: =ROUND(O38+X38+Y38+GK38,2)+GX38 -> 9863.37 | GN38: =IF(OR(BI38=0,BI38=1),ROUND(O38+X38+Y38+GK38,2),0) -> 9863.37 | GO38: =IF(BI38=2,ROUND(O38+X38+Y38+GK38,2),0) -> 0 | GP38: =IF(BI38=4,ROUND(O38+X38+Y38+GK38,2)+GX38,0) -> 0 | GR38: 0 | GS38: 3 | GT38: 0 | GV38: =ROUND((GT38),6) -> 0 | GW38: 1 | GX38: =ROUND(HC38*I38,2) -> 0 | HA38: 0 | HB38: 0 | HC38: =GV38*GW38 -> 0 | IK38: 0
A39: 17 | B39: 1 | C39: =ROW(SmtRes!A78) -> 78 | D39: =ROW(EtalonRes!A82) -> 82 | E39: 6 | F39: 09-03-048-02 | G39: Демонтаж: Монтаж потолков подвесных алюминиевых панельных перфорированных (при расходе алюминия на 1 м2 потолка до 2,4 кг) | H39: 100 м2 | I39: =ROUND(192.72/100,9) -> 1.9272 | J39: 0 | O39: =ROUND(CP39,2) -> 27161.18 | P39: =ROUND(CQ39*I39,2) -> 0 | Q39: =ROUND(CR39*I39,2) -> 2023.87 | R39: =ROUND(CS39*I39,2) -> 44.92 | S39: =ROUND(CT39*I39,2) -> 25137.31 | T39: =ROUND(CU39*I39,2) -> 0 | U39: =CV39*I39 -> 416.13837 | V39: =CW39*I39 -> 0.5261256 | W39: =ROUND(CX39*I39,2) -> 0 | X39: =ROUND(CY39,2) -> 20397.61 | Y39: =ROUND(CZ39,2) -> 18131.21 | AA39: 16781639 | AB39: =ROUND((AC39+AD39+AF39),6) -> 2116.156 | AC39: =ROUND(((ES39*0)),6) -> 0 | AD39: =ROUND(((((ET39*0.7))-((EU39*0.7)))+AE39),6) -> 157.682 | AE39: =ROUND(((EU39*0.7)),6) -> 3.5 | AF39: =ROUND(((EV39*0.7)),6) -> 1958.474 | AG39: =ROUND((AP39),6) -> 0 | AH39: =((EW39*0.7)) -> 215.929 | AI39: =((EX39*0.7)) -> 0.273 | AJ39: =(AS39) -> 0 | AK39: 3654.8 | AL39: 631.72 | AM39: 225.26 | AN39: 5 | AO39: 2797.82 | AP39: 0 | AQ39: 308.47 | AR39: 0.39 | AS39: 0 | AT39: 81 | AU39: 72 | AV39: 1 | AW39: 1 | AZ39: 6.66 | BA39: 6.66 | BB39: 6.66 | BC39: 6.66 | BH39: 0 | BI39: 1 | BJ39: ФЕР-2001, 09-03-048-02, приказ Минстроя России №1039/пр от 30.12.2016г. | BM39: 9001 | BN39: 0 | BP39: 0 | BQ39: 2 | BR39: 0 | BS39: 6.66 | BT39: 1 | BU39: 1 | BV39: 1 | BW39: 1 | BX39: 1 | BZ39: 90 | CA39: 85 | CE39: 0 | CF39: 0 | CG39: 0 | CM39: 0 | CN39: Поправка: Прил. 9.3, п.5 Наименование: Разборка (демонтаж) металлических конструкций | CO39: 0 | CP39: =(P39+Q39+S39) -> 27161.18 | CQ39: =AC39*BC39 -> 0 | CR39: =AD39*BB39 -> 1050.1621 | CS39: =AE39*BS39 -> 23.31 | CT39: =AF39*BA39 -> 13043.437 | CU39: =AG39 -> 0 | CV39: =AH39 -> 215.929 | CW39: =AI39 -> 0.273 | CX39: =AJ39 -> 0 | CY39: =(((S39+R39)*AT39)/100) -> 20397.606 | CZ39: =(((S39+R39)*AU39)/100) -> 18131.206 | DD39: )*0 | DE39: )*0,7 | DF39: )*0,7 | DG39: )*0,7 | DI39: )*0,7 | DJ39: )*0,7 | DN39: 0 | DO39: 0 | DP39: 1 | DQ39: 1 | DU39: 1005 | DV39: 100 м2 | DW39: 100 м2 | DX39: 100 | EE39: 16510486 | EF39: 2 | EG39: Общестроительные работы | EH39: 0 | EJ39: 1 | EK39: 9001 | EL39: Металлические конструкции | EM39: ФЕР-09 | EO39: Поправка: Прил. 9.3, п.5 | EQ39: 0 | ER39: 3654.8 | ES39: 631.72 | ET39: 225.26 | EU39: 5 | EV39: 2797.82 | EW39: 308.47 | EX39: 0.39 | EY39: 0 | FQ39: 0 | FR39: =ROUND(IF(AND(BH39=3,BI39=3),P39,0),2) -> 0 | FS39: 0 | FT39: *0,9 | FU39: *0,85 | FX39: 81 | FY39: 72.25 | GD39: 0 | GF39: 254739207 | GG39: 1 | GH39: 1 | GI39: 4 | GJ39: 0 | GK39: =ROUND(R39*(S12)/100,2) -> 0 | GL39: =ROUND(IF(AND(BH39=3,BI39=3,FS39<>0),P39,0),2) -> 0 | GM39: =ROUND(O39+X39+Y39+GK39,2)+GX39 -> 65690 | GN39: =IF(OR(BI39=0,BI39=1),ROUND(O39+X39+Y39+GK39,2),0) -> 65690 | GO39: =IF(BI39=2,ROUND(O39+X39+Y39+GK39,2),0) -> 0 | GP39: =IF(BI39=4,ROUND(O39+X39+Y39+GK39,2)+GX39,0) -> 0 | GR39: 0 | GS39: 3 | GT39: 0 | GV39: =ROUND((GT39),6) -> 0 | GW39: 1 | GX39: =ROUND(HC39*I39,2) -> 0 | HA39: 0 | HB39: 0 | HC39: =GV39*GW39 -> 0 | IK39: 0
A40: 17 | B40: 1 | C40: =ROW(SmtRes!A96) -> 96 | D40: =ROW(EtalonRes!A101) -> 101 | E40: 7 | F40: 10-04-010-04 | G40: Демонтаж: Устройство перегородок в жилых зданиях на однорядном металлическом каркасе с двухсторонней обшивкой гипсокартонными листами или гипсоволокнистыми плитами в два слоя с изоляцией | H40: 100 м2 | I40: =ROUND(38.5/100,9) -> 0.385 | J40: 0 | O40: =ROUND(CP40,2) -> 1017.28 | P40: =ROUND(CQ40*I40,2) -> 0 | Q40: =ROUND(CR40*I40,2) -> 67.24 | R40: =ROUND(CS40*I40,2) -> 9.86 | S40: =ROUND(CT40*I40,2) -> 950.04 | T40: =ROUND(CU40*I40,2) -> 0 | U40: =CV40*I40 -> 104.74464 | V40: =CW40*I40 -> 0.79772 | W40: =ROUND(CX40*I40,2) -> 0 | X40: =ROUND(CY40,2) -> 1017.49 | Y40: =ROUND(CZ40,2) -> 518.35 | AA40: 16781625 | AB40: =ROUND((AC40+AD40+AF40),6) -> 2642.28 | AC40: =ROUND(((ES40*0)),6) -> 0 | AD40: =ROUND(((((ET40*0.8))-((EU40*0.8)))+AE40),6) -> 174.656 | AE40: =ROUND(((EU40*0.8)),6) -> 25.616 | AF40: =ROUND(((EV40*0.8)),6) -> 2467.624 | AG40: =ROUND((AP40),6) -> 0 | AH40: =((EW40*0.8)) -> 272.064 | AI40: =((EX40*0.8)) -> 2.072 | AJ40: =(AS40) -> 0 | AK40: 10807.78 | AL40: 7504.93 | AM40: 218.32 | AN40: 32.02 | AO40: 3084.53 | AP40: 0 | AQ40: 340.08 | AR40: 2.59 | AS40: 0 | AT40: 106 | AU40: 54 | AV40: 1 | AW40: 1 | AZ40: 1 | BA40: 1 | BB40: 1 | BC40: 1 | BH40: 0 | BI40: 1 | BJ40: ФЕР-2001, 10-04-010-04, приказ Минстроя России №1039/пр от 30.12.2016г. | BM40: 10001 | BN40: 0 | BP40: 0 | BQ40: 2 | BR40: 0 | BS40: 1 | BT40: 1 | BU40: 1 | BV40: 1 | BW40: 1 | BX40: 1 | BZ40: 118 | CA40: 63 | CE40: 0 | CF40: 0 | CG40: 0 | CM40: 0 | CN40: Поправка: Табл.2, п.2 Наименование: При демонтаже (разборке) сборных деревянных конструкций | CO40: 0 | CP40: =(P40+Q40+S40) -> 1017.28 | CQ40: =AC40*BC40 -> 0 | CR40: =AD40*BB40 -> 174.656 | CS40: =AE40*BS40 -> 25.616 | CT40: =AF40*BA40 -> 2467.624 | CU40: =AG40 -> 0 | CV40: =AH40 -> 272.064 | CW40: =AI40 -> 2.072 | CX40: =AJ40 -> 0 | CY40: =(((S40+R40)*AT40)/100) -> 1017.494 | CZ40: =(((S40+R40)*AU40)/100) -> 518.346 | DD40: )*0 | DE40: )*0,8 | DF40: )*0,8 | DG40: )*0,8 | DI40: )*0,8 | DJ40: )*0,8 | DN40: 0 | DO40: 0 | DP40: 1 | DQ40: 1 | DU40: 1005 | DV40: 100 м2 | DW40: 100 м2 | DX40: 100 | EE40: 16510487 | EF40: 2 | EG40: Общестроительные работы | EH40: 0 | EJ40: 1 | EK40: 10001 | EL40: Деревянные конструкции | EM40: ФЕР-10 | EO40: Поправка: Табл.2, п.2 | EQ40: 0 | ER40: 10807.78 | ES40: 7504.93 | ET40: 218.32 | EU40: 32.02 | EV40: 3084.53 | EW40: 340.08 | EX40: 2.59 | EY40: 0 | FQ40: 0 | FR40: =ROUND(IF(AND(BH40=3,BI40=3),P40,0),2) -> 0 | FS40: 0 | FT40: *0,9 | FU40: *0,85 | FX40: 106.2 | FY40: 53.55 | GD40: 0 | GF40: 1651547278 | GG40: 2 | GH40: 1 | GI40: -2 | GJ40: 0 | GK40: =ROUND(R40*(R12)/100,2) -> 0 | GL40: =ROUND(IF(AND(BH40=3,BI40=3,FS40<>0),P40,0),2) -> 0 | GM40: =ROUND(O40+X40+Y40+GK40,2)+GX40 -> 2553.12 | GN40: =IF(OR(BI40=0,BI40=1),ROUND(O40+X40+Y40+GK40,2),0) -> 2553.12 | GO40: =IF(BI40=2,ROUND(O40+X40+Y40+GK40,2),0) -> 0 | GP40: =IF(BI40=4,ROUND(O40+X40+Y40+GK40,2)+GX40,0) -> 0 | GR40: 0 | GS40: 3 | GT40: 0 | GV40: =ROUND((GT40),6) -> 0 | GW40: 1 | GX40: =ROUND(HC40*I40,2) -> 0 | HA40: 0 | HB40: 0 | HC40: =GV40*GW40 -> 0 | IK40: 0
A41: 17 | B41: 1 | C41: =ROW(SmtRes!A114) -> 114 | D41: =ROW(EtalonRes!A120) -> 120 | E41: 7 | F41: 10-04-010-04 | G41: Демонтаж: Устройство перегородок в жилых зданиях на однорядном металлическом каркасе с двухсторонней обшивкой гипсокартонными листами или гипсоволокнистыми плитами в два слоя с изоляцией | H41: 100 м2 | I41: =ROUND(38.5/100,9) -> 0.385 | J41: 0 | O41: =ROUND(CP41,2) -> 6775.07 | P41: =ROUND(CQ41*I41,2) -> 0 | Q41: =ROUND(CR41*I41,2) -> 447.84 | R41: =ROUND(CS41*I41,2) -> 65.68 | S41: =ROUND(CT41*I41,2) -> 6327.23 | T41: =ROUND(CU41*I41,2) -> 0 | U41: =CV41*I41 -> 104.74464 | V41: =CW41*I41 -> 0.79772 | W41: =ROUND(CX41*I41,2) -> 0 | X41: =ROUND(CY41,2) -> 6776.48 | Y41: =ROUND(CZ41,2) -> 3452.17 | AA41: 16781639 | AB41: =ROUND((AC41+AD41+AF41),6) -> 2642.28 | AC41: =ROUND(((ES41*0)),6) -> 0 | AD41: =ROUND(((((ET41*0.8))-((EU41*0.8)))+AE41),6) -> 174.656 | AE41: =ROUND(((EU41*0.8)),6) -> 25.616 | AF41: =ROUND(((EV41*0.8)),6) -> 2467.624 | AG41: =ROUND((AP41),6) -> 0 | AH41: =((EW41*0.8)) -> 272.064 | AI41: =((EX41*0.8)) -> 2.072 | AJ41: =(AS41) -> 0 | AK41: 10807.78 | AL41: 7504.93 | AM41: 218.32 | AN41: 32.02 | AO41: 3084.53 | AP41: 0 | AQ41: 340.08 | AR41: 2.59 | AS41: 0 | AT41: 106 | AU41: 54 | AV41: 1 | AW41: 1 | AZ41: 6.66 | BA41: 6.66 | BB41: 6.66 | BC41: 6.66 | BH41: 0 | BI41: 1 | BJ41: ФЕР-2001, 10-04-010-04, приказ Минстроя России №1039/пр от 30.12.2016г. | BM41: 10001 | BN41: 0 | BP41: 0 | BQ41: 2 | BR41: 0 | BS41: 6.66 | BT41: 1 | BU41: 1 | BV41: 1 | BW41: 1 | BX41: 1 | BZ41: 118 | CA41: 63 | CE41: 0 | CF41: 0 | CG41: 0 | CM41: 0 | CN41: Поправка: Табл.2, п.2 Наименование: При демонтаже (разборке) сборных деревянных конструкций | CO41: 0 | CP41: =(P41+Q41+S41) -> 6775.07 | CQ41: =AC41*BC41 -> 0 | CR41: =AD41*BB41 -> 1163.209 | CS41: =AE41*BS41 -> 170.60256 | CT41: =AF41*BA41 -> 16434.376 | CU41: =AG41 -> 0 | CV41: =AH41 -> 272.064 | CW41: =AI41 -> 2.072 | CX41: =AJ41 -> 0 | CY41: =(((S41+R41)*AT41)/100) -> 6776.4846 | CZ41: =(((S41+R41)*AU41)/100) -> 3452.1714 | DD41: )*0 | DE41: )*0,8 | DF41: )*0,8 | DG41: )*0,8 | DI41: )*0,8 | DJ41: )*0,8 | DN41: 0 | DO41: 0 | DP41: 1 | DQ41: 1 | DU41: 1005 | DV41: 100 м2 | DW41: 100 м2 | DX41: 100 | EE41: 16510487 | EF41: 2 | EG41: Общестроительные работы | EH41: 0 | EJ41: 1 | EK41: 10001 | EL41: Деревянные конструкции | EM41: ФЕР-10 | EO41: Поправка: Табл.2, п.2 | EQ41: 0 | ER41: 10807.78 | ES41: 7504.93 | ET41: 218.32 | EU41: 32.02 | EV41: 3084.53 | EW41: 340.08 | EX41: 2.59 | EY41: 0 | FQ41: 0 | FR41: =ROUND(IF(AND(BH41=3,BI41=3),P41,0),2) -> 0 | FS41: 0 | FT41: *0,9 | FU41: *0,85 | FX41: 106.2 | FY41: 53.55 | GD41: 0 | GF41: 1651547278 | GG41: 1 | GH41: 1 | GI41: 4 | GJ41: 0 | GK41: =ROUND(R41*(S12)/100,2) -> 0 | GL41: =ROUND(IF(AND(BH41=3,BI41=3,FS41<>0),P41,0),2) -> 0 | GM41: =ROUND(O41+X41+Y41+GK41,2)+GX41 -> 17003.72 | GN41: =IF(OR(BI41=0,BI41=1),ROUND(O41+X41+Y41+GK41,2),0) -> 17003.72 | GO41: =IF(BI41=2,ROUND(O41+X41+Y41+GK41,2),0) -> 0 | GP41: =IF(BI41=4,ROUND(O41+X41+Y41+GK41,2)+GX41,0) -> 0 | GR41: 0 | GS41: 3 | GT41: 0 | GV41: =ROUND((GT41),6) -> 0 | GW41: 1 | GX41: =ROUND(HC41*I41,2) -> 0 | HA41: 0 | HB41: 0 | HC41: =GV41*GW41 -> 0 | IK41: 0
A42: 17 | B42: 1 | C42: =ROW(SmtRes!A122) -> 122 | D42: =ROW(EtalonRes!A129) -> 129 | E42: 8 | F42: 15-01-049-01 прим. | G42: Демонтаж:Облицовка стен по готовому каркасу щитами-картинами из древесностружечных плит покрытых эмалями (экраны на дадиаторы) | H42: 100 м2 | I42: =ROUND(17.84/100,9) -> 0.1784 | J42: 0 | O42: =ROUND(CP42,2) -> 79.33 | P42: =ROUND(CQ42*I42,2) -> 0 | Q42: =ROUND(CR42*I42,2) -> 12.24 | R42: =ROUND(CS42*I42,2) -> 2.41 | S42: =ROUND(CT42*I42,2) -> 67.09 | T42: =ROUND(CU42*I42,2) -> 0 | U42: =CV42*I42 -> 7.221632 | V42: =CW42*I42 -> 0.2026624 | W42: =ROUND(CX42*I42,2) -> 0 | X42: =ROUND(CY42,2) -> 66.03 | Y42: =ROUND(CZ42,2) -> 32.67 | AA42: 16781625 | AB42: =ROUND((AC42+AD42+AF42),6) -> 444.64 | AC42: =ROUND(((ES42*0)),6) -> 0 | AD42: =ROUND(((((ET42*0.8))-((EU42*0.8)))+AE42),6) -> 68.584 | AE42: =ROUND(((EU42*0.8)),6) -> 13.512 | AF42: =ROUND(((EV42*0.8)),6) -> 376.056 | AG42: =ROUND((AP42),6) -> 0 | AH42: =((EW42*0.8)) -> 40.48 | AI42: =((EX42*0.8)) -> 1.136 | AJ42: =(AS42) -> 0 | AK42: 783.58 | AL42: 227.78 | AM42: 85.73 | AN42: 16.89 | AO42: 470.07 | AP42: 0 | AQ42: 50.6 | AR42: 1.42 | AS42: 0 | AT42: 95 | AU42: 47 | AV42: 1 | AW42: 1 | AZ42: 1 | BA42: 1 | BB42: 1 | BC42: 1 | BH42: 0 | BI42: 1 | BJ42: ФЕР-2001, 15-01-049-01, приказ Минстроя России №1039/пр от 30.12.2016г. | BM42: 15001 | BN42: 0 | BP42: 0 | BQ42: 2 | BR42: 0 | BS42: 1 | BT42: 1 | BU42: 1 | BV42: 1 | BW42: 1 | BX42: 1 | BZ42: 105 | CA42: 55 | CE42: 0 | CF42: 0 | CG42: 0 | CM42: 0 | CN42: Поправка: Табл.2, п.2 Наименование: При демонтаже (разборке) сборных деревянных конструкций | CO42: 0 | CP42: =(P42+Q42+S42) -> 79.33 | CQ42: =AC42*BC42 -> 0 | CR42: =AD42*BB42 -> 68.584 | CS42: =AE42*BS42 -> 13.512 | CT42: =AF42*BA42 -> 376.056 | CU42: =AG42 -> 0 | CV42: =AH42 -> 40.48 | CW42: =AI42 -> 1.136 | CX42: =AJ42 -> 0 | CY42: =(((S42+R42)*AT42)/100) -> 66.025 | CZ42: =(((S42+R42)*AU42)/100) -> 32.665 | DD42: )*0 | DE42: )*0,8 | DF42: )*0,8 | DG42: )*0,8 | DI42: )*0,8 | DJ42: )*0,8 | DN42: 0 | DO42: 0 | DP42: 1 | DQ42: 1 | DU42: 1005 | DV42: 100 м2 | DW42: 100 м2 | DX42: 100 | EE42: 16510513 | EF42: 2 | EG42: Общестроительные работы | EH42: 0 | EJ42: 1 | EK42: 15001 | EL42: Отделочные работы | EM42: ФЕР-15 | EO42: Поправка: Табл.2, п.2 | EQ42: 0 | ER42: 783.58 | ES42: 227.78 | ET42: 85.73 | EU42: 16.89 | EV42: 470.07 | EW42: 50.6 | EX42: 1.42 | EY42: 0 | FQ42: 0 | FR42: =ROUND(IF(AND(BH42=3,BI42=3),P42,0),2) -> 0 | FS42: 0 | FT42: *0,9 | FU42: *0,85 | FX42: 94.5 | FY42: 46.75 | GD42: 0 | GF42: 505599027 | GG42: 2 | GH42: 1 | GI42: -2 | GJ42: 0 | GK42: =ROUND(R42*(R12)/100,2) -> 0 | GL42: =ROUND(IF(AND(BH42=3,BI42=3,FS42<>0),P42,0),2) -> 0 | GM42: =ROUND(O42+X42+Y42+GK42,2)+GX42 -> 178.03 | GN42: =IF(OR(BI42=0,BI42=1),ROUND(O42+X42+Y42+GK42,2),0) -> 178.03 | GO42: =IF(BI42=2,ROUND(O42+X42+Y42+GK42,2),0) -> 0 | GP42: =IF(BI42=4,ROUND(O42+X42+Y42+GK42,2)+GX42,0) -> 0 | GR42: 0 | GS42: 3 | GT42: 0 | GV42: =ROUND((GT42),6) -> 0 | GW42: 1 | GX42: =ROUND(HC42*I42,2) -> 0 | HA42: 0 | HB42: 0 | HC42: =GV42*GW42 -> 0 | IK42: 0
