Workbook

Sheet Средств НИАЭП
A1: ЛОТ №798
A3: Таблица расчета начальной (максимальной) цены договора подряда
A4: выполнения комплекса строительно-монтажных работ по объекту:
A5: "Энергоблок №4 Ростовской АЭС. Дизельгенераторные, насосные ответственных потребителей и компрессорные пневмоприводов отсечной арматуры (РДЭС). Ячейки 2, 3: Дополнительные затраты по транспортировке дизель-генераторных установок ADRIA40"
A8: № п/п | B8: № ЛСР, ОСР | C8: Наименование работ и затрат | D8: Сметная стоимость в ССР, руб.
D9: Строительных работ | E9: Монтажных работ | F9: Оборудования, приспособлений и производств инвентаря | G9: Прочих затрат | H9: Всего, руб.
A10: 1 | B10: 2 | C10: 3 | D10: 4 | E10: 5 | F10: 6 | G10: 7 | H10: 8
A11: ГЛАВА 3. Объекты подсобного и обслуживающего назначения
A12: 1 | C12: Дизельгенераторные, насосные ответственных потребителей и компрессорные пневмоприводов отсечной арматуры (РДЭС), в том числе:
A13: 1.1 | B13: Локальный сметный расчет №01.12.14 | C13: Дополнительные затраты по транспортировке дизель-генераторных установок ADRIA40 | D13: 0 | E13: 157342.66 | F13: 0 | G13: 0 | H13: =D13+E13+F13+G13 -> 157343
C14: Состав лота:
A15: 2 | B15: =B13 -> Локальный сметный расчет №01.12.14 | C15: =C13 -> Дополнительные затраты по транспортировке дизель-генераторных установок ADRIA40 | D15: =D13+E13 -> 157342.66 | F15: 0 | G15: 0 | H15: =D15+E15+F15+G15 -> 157343 | I15: 1612822
A16: 2.1 | C16: Объем работ по заключенным договорам на момент проведения закупки, в том числе: | D16: 0 | F16: 0 | G16: 0 | H16: =D16+E16+F16+G16 -> 0
A17: 2.2 | C17: в том числе Освоено СМР на момент проведения закупки | D17: 0 | F17: 0 | G17: 0 | H17: =D17+E17+F17+G17 -> 0
A18: 3 | C18: Итого по Комплексу работ по объекту: "Энергоблок №4 Ростовской АЭС. Дизельгенераторные, насосные ответственных потребителей и компрессорные пневмоприводов отсечной арматуры (РДЭС). Ячейки 2, 3: Дополнительные затраты по транспортировке дизель-генераторных установок ADRIA40" | D18: =D15 -> 157342.66 | F18: 0 | G18: 0 | H18: =D18+F18+G18 -> 157343
A19: 4 | C19: ИТОГО в лот №798: | D19: =D18 -> 157342.66 | F19: 0 | G19: 0 | H19: =D19+F19+G19 -> 157343
A20: 5 | C20: ИТОГО в базисном уровне цен 2000г. по главе 3: | D20: =D19 -> 157342.66 | F20: 0 | G20: 0 | H20: =D20 -> 157343
A21: 6 | C21: Пересчет в текущие цены СМР на 4 кв. 2014 года. (Служебная записка ВФ АО "НИАЭП" №40-50/62825 от 15.10.2014г. Региональный индекс №128 Ксмр=5,72 ) | D21: =D20*5.72 -> 900000 | H21: =D21 -> 900000
A22: 7 | C22: ИТОГО в текущих ценах без НДС | H22: =H21 -> 900000
A23: 8 | C23: НДС 18% | H23: =ROUND(0.18*H22,2) -> 162000
A24: 9 | C24: ВСЕГО с НДС | H24: =H22+H23 -> 1062000
B27: Директор по строительству Ростовской АЭС - директор ВФ АО "НИАЭП" | G27: В.Н. Медяков
B30: Начальник ПЭУ ВФ АО "НИАЭП" | G30: В.А. Трофименко
B37: Исп. Марецкая С.М.
B38: 8(8639) 24-37-93

Sheet ССР 
A1: ='Средств НИАЭП'!A1 -> ЛОТ №798
A4: Сводный сметный расчет начальной (максимальной) цены
A5: договора подряда по объекту:
A6: ='Средств НИАЭП'!A5:H5 -> "Энергоблок №4 Ростовской АЭС. Дизельгенераторные, насосные ответственных потребителей и компрессорные пневмоприводов отсечной арматуры (РДЭС). Ячейки 2, 3: Дополнительные затраты по транспортировке дизель-генераторных установок ADRIA40"
A8: Наименование глав ССР, объектных сметных расчетов, локальных сметных расчетов, видов прочих затрат | B8: Сметная стоимость строительства в базисных ценах на 01.01.2000г., руб. | C8: Текущая стоимость на момент определения начальной (максимальной) цены, руб. | D8: № обосновывающего расчета
A9: 1 | B9: 2 | C9: 3 | D9: 4
A10: ='[1]Глава 2 средств НИАЭП'!A11:H11 -> ГЛАВА 2. Основные объекты строительства
A11: ='Средств НИАЭП'!C18 -> Итого по Комплексу работ по объекту: "Энергоблок №4 Ростовской АЭС. Дизельгенераторные, насосные ответственных потребителей и компрессорные пневмоприводов отсечной арматуры (РДЭС). Ячейки 2, 3: Дополнительные затраты по транспортировке дизель-генераторных установок ADRIA40" | B11: ='Средств НИАЭП'!H18 -> 157343 | C11: ='Средств НИАЭП'!H21 -> 900000
A12: Пересчет в текущие цены СМР на 4 кв. 2014 года | B12: =B11 -> 157343 | C12: =C11 -> 900000
A13: ИТОГО в текущих ценах без НДС: | C13: =C12 -> 900000
A14: НДС 18% | C14: =0.18*C13 -> 162000
A15: ВСЕГО с НДС | C15: =C13+C14 -> 1062000
A20: Директор по строительству Ростовской АЭС - директор ВФ АО "НИАЭП" | D20: В.Н. Медяков
A22: Начальник ПЭУ ВФ АО "НИАЭП" | D22: В.А. Трофименко
A25: Исп. Марецкая С.М.
A26: 8(8639) 24-37-93

Sheet Приложение к заявке
E1: Приложение № ___________
E2: к заявке № ___________
A4: Определение начальной (максимальной) цены договора подряда
A5: по объекту:
A6: ='ССР '!A6:D6 -> "Энергоблок №4 Ростовской АЭС. Дизельгенераторные, насосные ответственных потребителей и компрессорные пневмоприводов отсечной арматуры (РДЭС). Ячейки 2, 3: Дополнительные затраты по транспортировке дизель-генераторных установок ADRIA40"
A8: Наименование услуг и работ (затрат) | B8: Сметная стоимость строительства в базисных ценах на 01.01.2000г. | C8: Сметная стоимость строительства в текущем уровне цен по утвержденному ССР | D8: Сметная стоимость строительства в текущем уровне цен на момент определения начальной (максимальной) цены | E8: Начальная (максимальная) цена, руб.
A9: 1 | B9: 2 | C9: 3 | D9: 4 | E9: 5
A10: По главе 3: | B10: ='ССР '!B11 -> 157343 | C10: ='ССР '!C11 -> 900000 | D10: =C10 -> 900000 | E10: =C10 -> 900000
A11: ИТОГО: | B11: =B10 -> 157343 | C11: ='ССР '!C13 -> 900000 | D11: =C11 -> 900000 | E11: =C11 -> 900000
A12: НДС 18% | C12: =0.18*C11 -> 162000 | D12: =C12 -> 162000 | E12: =0.18*E11 -> 162000
A13: ВСЕГО с НДС | C13: =C11+C12 -> 1062000 | D13: =C13 -> 1062000 | E13: =E11+E12 -> 1062000
A15: Порядок определения НМЦ по Лоту №798
A16: НМЦ= ((СМР *региональный индекс на 4 кв.2014г.) + НДС (18%), где:
A17: НМЦ - начальная (максимальная) цена в текущих ценах с НДС;
A18: СМР - сметная стоимость строительно - монтажных работ в базисных ценах на 01.01.2000г;
A19: Индекс пересчета сметной стоимости СМР на 4 квартал 2014г. - региональный индекс пересчета сметной стоимости СМР, выполняемых на объектах атомной энергетики Ростовской области на 4 квартал 2014 года, к уровню цен СНБ ТЕР-2001;
A20: НДС (18%) - налог на добавленную стоимость.
A21: Стоимость СМР в базисных ценах определена на основании локального сметного расчета №01.12.14.
A22: Для пересчета стоимости лота в текущие цены, произведены следующие действия.
A23: К сметной стоимости строительных и монтажных работ в базисном уровне цен по объекту "Энергоблок №4 Ростовской АЭС. Дизельгенераторные, насосные ответственных потребителей и компрессорные пневмоприводов отсечной арматуры (РДЭС). Ячейки 2, 3: Дополнительные затраты по транспортировке дизель-генераторных установок ADRIA40" применен региональный индекс пересчета сметной стоимости СМР, выполняемых на объектах атомной энергетики Ростовской области на 4 квартал 2014 года, к уровню цен СНБ ТЕР-2001 на основании служебной записки ВФ АО "НИАЭП" №40-50/62825 от 15.10.2014г.
A24: К полученному результату добавлен налог на добавленную стоимость (НДС).
A27: Директор по строительству Ростовской АЭС - директор ВФ АО "НИАЭП" | E27: В.Н. Медяков
A30: Начальник ПЭУ ВФ АО "НИАЭП" | E30: В.А. Трофименко
A75: Исп. Марецкая С.М.
A76: 8(8639) 24-37-93
