Workbook

Sheet Смета 12 гр. по ФЕР
A1: =Source!B1 -> Smeta.RU (495) 974-1589
B3: "СОГЛАСОВАНО" | H3: "УТВЕРЖДАЮ"
B6: Директор УрТК НИЯУ МИФИ / О.Н. Арефьев | H6: =CONCATENATE("______________________ ", IF(Source!AH12<>"", Source!AH12, "")) -> ______________________
B7: "_____"________________ 2018 г. | H7: "_____"________________ 2018 г.
B11: СМЕТА
B12: =IF(Source!G20<>"Новая локальная смета", Source!G20, "")
B14: =IF(Source!G12<>"Новый объект", Source!G12, "") -> на капитальный ремонт оконных проемов с заменой деревянных оконных блоков на оконные блоки из ПВХ в помещениях № 1, № 2 ,№ 21, № 22, № 24, № 25, № 26 1-го этажа, №10, №11, №13, №14, №15 2-го этажа, № 3-№ 7 3-го этажа, №3-№7 4-го этажа в здании учебного корпуса Уральского технологического колледжа-филиала НИЯУ МИФИ ( УрТК НИЯУ МИФИ) по адресу: Свердловская обл., г. Заречный, ул. Ленина 27 | AD14: =IF(Source!G12<>"Новый объект", Source!G12, "") -> на капитальный ремонт оконных проемов с заменой деревянных оконных блоков на оконные блоки из ПВХ в помещениях № 1, № 2 ,№ 21, № 22, № 24, № 25, № 26 1-го этажа, №10, №11, №13, №14, №15 2-го этажа, № 3-№ 7 3-го этажа, №3-№7 4-го этажа в здании учебного корпуса Уральского технологического колледжа-филиала НИЯУ МИФИ ( УрТК НИЯУ МИФИ) по адресу: Свердловская обл., г. Заречный, ул. Ленина 27
G15: базовая цена | I15: текущая цена
C16: Сметная стоимость | G16: =SUM(O27:O105)/1000 -> 268.58411 | I16: =(Source!F73/1000) -> 2095.3224 | K16: тыс. руб.
C17: Строительные работы | G17: =SUM(W27:W105)/1000 -> 268.58411 | I17: =(Source!F60)/1000 -> 1775.697 | K17: тыс. руб.
C18: Монтажные работы | G18: =SUM(X27:X105)/1000 -> 0 | I18: =(Source!F61)/1000 -> 0 | K18: тыс. руб.
C19: Оборудование | G19: =SUM(Y27:Y105)/1000 -> 0 | I19: =(Source!F52)/1000 -> 0 | K19: тыс. руб.
C20: Прочие работы | G20: =SUM(Z27:Z105)/1000 -> 0 | I20: =(Source!F62+Source!F63)/1000 -> 0 | K20: тыс. руб.
C21: Нормативная трудоемкость | G21: =I21 -> 1355.2957 | I21: =(Source!F65+Source!F66) -> 1355.2957 | K21: чел. -ч.
C22: Средства на оплату труда | G22: =SUM(R27:R105)/1000 -> 11.81834 | I22: =(Source!F58+ Source!F57)/1000 -> 78.1192 | K22: тыс. руб.
A24: Составлена в ценах IV квартал 2017 года
A25: № п/п | B25: Шифр расценки и коды ресурсов | C25: Наименование работ и затрат | D25: Ед. изм. | E25: Кол-во единиц | F25: Цена на ед. изм. | G25: Попра-вочные коэфф. | H25: Стоимость в ценах 2001г. | I25: Пункт коэфф. пересчета | J25: Коэфф. пересчета | K25: Стоимость в текущих ценах | L25: ЗТР всего чел.-час
A26: 1 | B26: 2 | C26: 3 | D26: 4 | E26: 5 | F26: 6 | G26: 7 | H26: 8 | I26: 9 | J26: 10 | K26: 11 | L26: 12
A27: =Source!E24 -> 1 | B27: =Source!F24 -> 46-04-012-01 | C27: =Source!G24 -> Разборка деревянных заполнений проемов оконных с подоконными досками | D27: =Source!H24 -> 100 м2 | E27: =Source!I24 -> 2.4675 | F27: =Source!AL24+Source!AM24+Source!AO24 -> 1767.24 | I27: =Source!BO24 | S27: =ROUND((Source!FX24/100)*((ROUND(Source!AF24*Source!I24, 2)+ROUND(Source!AE24*Source!I24, 2))), 2) -> 3981.27 | T27: =Source!X24 -> 26316.18 | U27: =ROUND((Source!FY24/100)*((ROUND(Source!AF24*Source!I24, 2)+ROUND(Source!AE24*Source!I24, 2))), 2) -> 2392.78 | V27: =Source!Y24 -> 15949.2
C28: ="Объем: "&Source!I24&"=246,75/"&"100" -> Объем: 2,4675=246,75/100
C29: Зарплата | F29: =Source!AO24 -> 1525.29 | G29: =Source!DG24 | H29: =ROUND(Source!AF24*Source!I24, 2) -> 3763.65 | J29: =IF(Source!BA24<> 0, Source!BA24, 1) -> 6.61 | K29: =Source!S24 -> 24877.75 | R29: =H29 -> 3763.65
C30: Эксплуатация машин | F30: =Source!AM24 -> 241.95 | G30: =Source!DE24 | H30: =ROUND(Source!AD24*Source!I24, 2) -> 597.01 | J30: =IF(Source!BB24<> 0, Source!BB24, 1) -> 6.61 | K30: =Source!Q24 -> 3946.25
C31: в т.ч. зарплата машинистов | F31: =Source!AN24 -> 104.49 | G31: =Source!DF24 | H31: =ROUND(Source!AE24*Source!I24, 2) -> 257.83 | J31: =IF(Source!BS24<> 0, Source!BS24, 1) -> 6.61 | K31: =Source!R24 -> 1704.25 | R31: =H31 -> 257.83
C32: НР от ФОТ | D32: % | E32: =Source!BZ24 -> 110 | F32: =CONCATENATE(" )", Source!DL24, Source!FT24, "=", Source!FX24) -> )*0,9=99 | H32: =SUM(S27:S34) -> 3981.27 | J32: =Source!AT24 -> 99 | K32: =SUM(T27:T34) -> 26316.18
C33: СП от ФОТ | D33: % | E33: =Source!CA24 -> 70 | F33: =CONCATENATE(" )", Source!DM24, Source!FU24, "=", Source!FY24) -> )*0,85=59,5 | H33: =SUM(U27:U34) -> 2392.78 | J33: =Source!AU24 -> 60 | K33: =SUM(V27:V34) -> 15949.2
C34: Затраты труда | D34: чел-ч | E34: =Source!AQ24 -> 188.54 | G34: =Source!DI24 | L34: =Source!U24 -> 465.22245
G35: =H29+H30+H32+H33 -> 10734.71 | J35: =K29+K30+K32+K33 -> 71089.38 | L35: =Source!U24 -> 465.22245 | O35: =G35 -> 10734.71 | P35: =J35 -> 71089.38 | Q35: =L35 -> 465.22245 | W35: =IF(Source!BI24<=1,H29+H30+H32+H33, 0) -> 10734.71 | X35: =IF(Source!BI24=2,H29+H30+H32+H33, 0) -> 0 | Y35: =IF(Source!BI24=3,H29+H30+H32+H33, 0) -> 0 | Z35: =IF(Source!BI24=4,H29+H30+H32+H33, 0) -> 0
A36: =Source!E25 -> 2 | B36: =Source!F25 -> 10-01-034-08 | C36: =Source!G25 -> Установка в жилых и общественных зданиях оконных блоков из ПВХ профилей поворотных (откидных, поворотно-откидных) с площадью проема более 2 м2 трехстворчатых, в том числе при наличии створок глухого остекления | D36: =Source!H25 -> 100 м2 | E36: =Source!I25 -> 2.4675 | F36: =Source!AL25+Source!AM25+Source!AO25 -> 10107.89 | I36: =Source!BO25 | S36: =ROUND((Source!FX25/100)*((ROUND(Source!AF25*Source!I25, 2)+ROUND(Source!AE25*Source!I25, 2))), 2) -> 4093.49 | T36: =Source!X25 -> 27006.99 | U36: =ROUND((Source!FY25/100)*((ROUND(Source!AF25*Source!I25, 2)+ROUND(Source!AE25*Source!I25, 2))), 2) -> 2064.09 | V36: =Source!Y25 -> 13758.28
C37: ="Объем: "&Source!I25&"=246,75/"&"100" -> Объем: 2,4675=246,75/100
C38: Зарплата | F38: =Source!AO25 -> 1303.66 | G38: =Source!DG25 -> )*1,15 | H38: =ROUND(Source!AF25*Source!I25, 2) -> 3699.3 | J38: =IF(Source!BA25<> 0, Source!BA25, 1) -> 6.61 | K38: =Source!S25 -> 24452.38 | R38: =H38 -> 3699.3
C39: Эксплуатация машин | F39: =Source!AM25 -> 255.21 | G39: =Source!DE25 -> )*1,25 | H39: =ROUND(Source!AD25*Source!I25, 2) -> 787.16 | J39: =IF(Source!BB25<> 0, Source!BB25, 1) -> 6.61 | K39: =Source!Q25 -> 5203.11
C40: в т.ч. зарплата машинистов | F40: =Source!AN25 -> 50.32 | G40: =Source!DF25 -> )*1,25 | H40: =ROUND(Source!AE25*Source!I25, 2) -> 155.21 | J40: =IF(Source!BS25<> 0, Source!BS25, 1) -> 6.61 | K40: =Source!R25 -> 1025.91 | R40: =H40 -> 155.21
C41: Материальные ресурсы | F41: =Source!AL25 -> 8549.02 | G41: =Source!DD25 | H41: =ROUND(Source!AC25*Source!I25, 2) -> 21094.71 | J41: =IF(Source!BC25<> 0, Source!BC25, 1) -> 6.61 | K41: =Source!P25 -> 139436.01
C42: НР от ФОТ | D42: % | E42: =Source!BZ25 -> 118 | F42: =CONCATENATE(" )", Source!DL25, Source!FT25, "=", Source!FX25) -> )*0,9=106,2 | H42: =SUM(S36:S46) -> 4093.49 | J42: =Source!AT25 -> 106 | K42: =SUM(T36:T46) -> 27006.99
C43: СП от ФОТ | D43: % | E43: =Source!CA25 -> 63 | F43: =CONCATENATE(" )", Source!DM25, Source!FU25, "=", Source!FY25) -> )*0,85=53,55 | H43: =SUM(U36:U46) -> 2064.09 | J43: =Source!AU25 -> 54 | K43: =SUM(V36:V46) -> 13758.28
C44: Затраты труда | D44: чел-ч | E44: =Source!AQ25 -> 149.16 | G44: =Source!DI25 -> )*1,15 | L44: =Source!U25 -> 423.26014
A45: =Source!E26 -> 2,1 | B45: =Source!F26 -> Средняя коммерческая цена | C45: Оконный блок из ПВХ 2500х2100мм Базисная стоимость: 604,50 = [4 715 / 1,18 / 6,61] | D45: =Source!H26 -> м2 | E45: =Source!I26 -> 246.75 | F45: =Source!AL26+Source!AM26+Source!AO26 -> 604.5 | H45: =ROUND(Source!AC26*Source!I26, 2)+ROUND(Source!AD26*Source!I26, 2)+ROUND(Source!AF26*Source!I26, 2) -> 149160.38 | J45: =IF(Source!BC26<> 0, Source!BC26, 1) -> 6.61 | K45: =Source!O26 -> 985950.08 | S45: =ROUND((Source!FX26/100)*((ROUND(Source!AF26*Source!I26, 2)+ROUND(Source!AE26*Source!I26, 2))), 2) -> 0 | T45: =Source!X26 -> 0 | U45: =ROUND((Source!FY26/100)*((ROUND(Source!AF26*Source!I26, 2)+ROUND(Source!AE26*Source!I26, 2))), 2) -> 0 | V45: =Source!Y26 -> 0 | W45: =IF(Source!BI26<=1,H45, 0) -> 149160.38 | X45: =IF(Source!BI26=2,H45, 0) -> 0 | Y45: =IF(Source!BI26=3,H45, 0) -> 0 | Z45: =IF(Source!BI26=4,H45, 0) -> 0
A46: =Source!E27 -> 2,2 | B46: =Source!F27 -> 11.3.02.03 | C46: =Source!G27 -> Блоки оконные пластиковые | D46: =Source!H27 -> м2 | E46: =Source!I27 -> 246.75 | F46: =Source!AL27+Source!AM27+Source!AO27 -> 0 | H46: =ROUND(Source!AC27*Source!I27, 2)+ROUND(Source!AD27*Source!I27, 2)+ROUND(Source!AF27*Source!I27, 2) -> 0 | J46: =IF(Source!BC27<> 0, Source!BC27, 1) -> 6.61 | K46: =Source!O27 -> 0 | S46: =ROUND((Source!FX27/100)*((ROUND(Source!AF27*Source!I27, 2)+ROUND(Source!AE27*Source!I27, 2))), 2) -> 0 | T46: =Source!X27 -> 0 | U46: =ROUND((Source!FY27/100)*((ROUND(Source!AF27*Source!I27, 2)+ROUND(Source!AE27*Source!I27, 2))), 2) -> 0 | V46: =Source!Y27 -> 0 | W46: =IF(Source!BI27<=1,H46, 0) -> 0 | X46: =IF(Source!BI27=2,H46, 0) -> 0 | Y46: =IF(Source!BI27=3,H46, 0) -> 0 | Z46: =IF(Source!BI27=4,H46, 0) -> 0
G47: =H38+H39+H41+H42+H43+SUM(H45:H46) -> 180899.13 | J47: =K38+K39+K41+K42+K43+SUM(K45:K46) -> 1195806.8 | L47: =Source!U25 -> 423.26014 | O47: =G47 -> 180899.13 | P47: =J47 -> 1195806.8 | Q47: =L47 -> 423.26014 | W47: =IF(Source!BI25<=1,H38+H39+H41+H42+H43, 0) -> 31738.75 | X47: =IF(Source!BI25=2,H38+H39+H41+H42+H43, 0) -> 0 | Y47: =IF(Source!BI25=3,H38+H39+H41+H42+H43, 0) -> 0 | Z47: =IF(Source!BI25=4,H38+H39+H41+H42+H43, 0) -> 0
A48: =Source!E28 -> 3 | B48: =Source!F28 -> 10-01-035-03 | C48: =Source!G28 -> Установка подоконных досок из ПВХ в каменных стенах толщиной свыше 0,51 м | D48: =Source!H28 -> 100 м | E48: =Source!I28 -> 1.175 | F48: =Source!AL28+Source!AM28+Source!AO28 -> 6481.17 | I48: =Source!BO28 | S48: =ROUND((Source!FX28/100)*((ROUND(Source!AF28*Source!I28, 2)+ROUND(Source!AE28*Source!I28, 2))), 2) -> 268.62 | T48: =Source!X28 -> 1772.27 | U48: =ROUND((Source!FY28/100)*((ROUND(Source!AF28*Source!I28, 2)+ROUND(Source!AE28*Source!I28, 2))), 2) -> 135.45 | V48: =Source!Y28 -> 902.85
...

Sheet Акт КС-2 c НР и СП
A1: =Source!B1 -> Smeta.RU (495) 974-1589
E2: Унифицированная форма № КС-2
E3: Утверждена постановлением Госкомстата России
E4: от 11.11.99. № 100
G6: Код
F7: Форма по ОКУД | G7: 0322005
G8: =IF(Source!AT15 <> "", Source!AT15, "")
A9: Инвестор | C9: =IF(Source!BA15 <> "", Source!BA15, IF(Source!AU15 <> "", Source!AU15, "")) | F9: по ОКПО
C10: организация, адрес, телефон, факс | G10: =IF(Source!AK15 <> "", Source!AK15, "")
A11: Заказчик | C11: =IF(Source!AX12<> "", Source!AX12, IF(Source!AJ12 <> "", Source!AJ12, "")) | F11: по ОКПО
C12: организация, адрес, телефон, факс | G12: =IF(Source!AO15 <> "", Source!AO15, "")
A13: Подрядчик | C13: =IF(Source!AY12<> "", Source!AY12, IF(Source!AN12 <> "", Source!AN12, "")) | F13: по ОКПО
C14: организация, адрес, телефон, факс | G14: =IF(Source!CO15 <> "", Source!CO15, "")
A15: Стройка | C15: на капитальный ремонт оконных проёмов с заменой деревянных оконных блоков на оконные блоки в помещениях №1,№2,№22,№24,№25,№26 1 этажа,№10,№11,№13,№14,№15 2 этажа,№3,№4,№5,№6,№7 3 этажа,4 этажа№3,№4,№5,№6,№7 4 этажа в здании учебного корпуса Уральского технологического колледжа -филиала НИЯУ МИФИ (УрТК НИЯУ МИФИ) по адресу: 624250,Свердловская обл.,г.Заречный,ул.Ленина,д.27 | AE15: на капитальный ремонт оконных проёмов с заменой деревянных оконных блоков на оконные блоки в помещениях №1,№2,№22,№24,№25,№26 1 этажа,№10,№11,№13,№14,№15 2 этажа,№3,№4,№5,№6,№7 3 этажа,4 этажа№3,№4,№5,№6,№7 4 этажа в здании учебного корпуса Уральского технологического колледжа -филиала НИЯУ МИФИ (УрТК НИЯУ МИФИ) по адресу: 624250,Свердловская обл.,г.Заречный,ул.Ленина,д.27
C16: наименование, адрес | G16: =IF(Source!CP15 <> "", Source!CP15, "")
A17: Объект | C17: =IF(Source!G12<>"Новый объект", Source!G12, "") -> на капитальный ремонт оконных проемов с заменой деревянных оконных блоков на оконные блоки из ПВХ в помещениях № 1, № 2 ,№ 21, № 22, № 24, № 25, № 26 1-го этажа, №10, №11, №13, №14, №15 2-го этажа, № 3-№ 7 3-го этажа, №3-№7 4-го этажа в здании учебного корпуса Уральского технологического колледжа-филиала НИЯУ МИФИ ( УрТК НИЯУ МИФИ) по адресу: Свердловская обл., г. Заречный, ул. Ленина 27 | AE17: =IF(Source!G12<>"Новый объект", Source!G12, "") -> на капитальный ремонт оконных проемов с заменой деревянных оконных блоков на оконные блоки из ПВХ в помещениях № 1, № 2 ,№ 21, № 22, № 24, № 25, № 26 1-го этажа, №10, №11, №13, №14, №15 2-го этажа, № 3-№ 7 3-го этажа, №3-№7 4-го этажа в здании учебного корпуса Уральского технологического колледжа-филиала НИЯУ МИФИ ( УрТК НИЯУ МИФИ) по адресу: Свердловская обл., г. Заречный, ул. Ленина 27
C18: наименование
D19: Вид деятельности по ОКДП | G19: =IF(Source!CQ15 <> "", Source!CQ15, "")
D20: Договор подряда | F20: номер | G20: =IF(Source!CR15 <> "", Source!CR15, "")
F21: дата | G21: =IF(Source!CS15 <> 0, Source!CS15, "")
F22: Вид операции | G22: =IF(Source!CT15 <> "", Source!CT15, "")
D24: Номер документа | E24: Дата составления | F24: Отчетный период
F25: с | G25: по
D26: =IF(Source!CN15 <> "", Source!CN15, "") | E26: 43195.697
A28: AKT
A29: О ПРИЕМКЕ ВЫПОЛНЕННЫХ РАБОТ
A31: Сметная (договорная) стоимость в соответствии с договором подряда (субподряда) | F31: =(Source!F73/1000) -> 2095.3224 | H31: тыс.руб
A33: Номер | C33: Наименование работ | D33: Номер единичной расценки | E33: Единица измерения | F33: Выполнено работ
A34: по порядку | B34: поз. по смете | F34: Количество | G34: цена за единицу, руб | H34: стоимость, руб
A35: 1 | B35: 2 | C35: 3 | D35: 4 | E35: 5 | F35: 6 | G35: 7 | H35: 8
A36: 1 | B36: =Source!E24 -> 1 | C36: =Source!G24 -> Разборка деревянных заполнений проемов оконных с подоконными досками | D36: =Source!F24 -> 46-04-012-01 | E36: =Source!H24 -> 100 м2 | F36: =Source!I24 -> 2.4675 | G36: =Source!AB24 -> 1767.24 | H36: =Source!O24 -> 28824 | T36: =Source!O24+Source!X24+Source!Y24 -> 71089.38 | U36: =Source!P24 -> 0 | V36: =Source!S24 -> 24877.75 | W36: =Source!Q24 -> 3946.25 | X36: =Source!R24 -> 1704.25 | Y36: =Source!U24 -> 465.22245 | Z36: =Source!V24 -> 19.09845 | AA36: =Source!X24 -> 26316.18 | AB36: =Source!Y24 -> 15949.2
C37: Коэфф. к ОЗП | D37: =Source!BA24 -> 6.61
C38: Коэфф. к эксплуатации машин | D38: =Source!BB24 -> 6.61
C39: Коэфф. к материалам | D39: =Source!BC24 -> 6.61
C40: Коэфф. к ЗПМ | D40: =Source!BS24 -> 6.61
C41: % НР | F41: =Source!BZ24 -> 110 | G41: =(Source!AF24+Source!AE24)*Source!FX24/100 -> 1613.4822 | H41: =Source!X24 -> 26316.18
C42: % НР с поправкой | G42: =CONCATENATE(Source!DL24,Source!FT24, "=", Source!FX24, "%") -> *0,9=99% | H42: =CONCATENATE(Source!AT24) -> 99
C43: % СП | F43: =Source!CA24 -> 70 | G43: =(Source!AF24+Source!AE24)*Source!FY24/100 -> 969.7191 | H43: =Source!Y24 -> 15949.2
C44: СП с поправкой | G44: =CONCATENATE(Source!DM24,Source!FU24, "=", Source!FY24, "%") -> *0,85=59,5% | H44: =CONCATENATE(Source!AU24) -> 60
C45: Итого с НР и СП | G45: =((Source!AF24+Source!AE24)*Source!FX24/100)+((Source!AF24+Source!AE24)*Source!FY24/100)+Source!AB24 -> 4350.4413 | H45: =Source!O24+Source!X24+Source!Y24 -> 71089.38
...

Sheet Макет форма-3
A1: =Source!B1 -> Smeta.RU (495) 974-1589 | H1: Унифицированная форма № КС-3
H2: Утверждена постановлением Госкомстата России
H3: от 11.11.99. № 100
K4: Коды
I5: Форма по ОКУД | K5: 322001
A6: Инвестор | J6: по ОКПО
C7: организация, адрес, телефон, факс
A8: Заказчик (генподрядчик) | J8: по ОКПО
C9: организация, адрес, телефон, факс
A10: Подрядчик (субподрядчик) | J10: по ОКПО
C11: организация, адрес, телефон, факс
A12: Стройка | J12: по ОКПО
C13: наименование, адрес | H13: Вид деятельности по ОКДП
E14: Договор подряда (контракт) | I14: номер
I15: дата
I16: Вид операции
C19: Номер документа | E19: Дата составления | I19: Отчетный период
I20: с | K20: по
A24: СПРАВКА
A25: СТОИМОСТИ ВЫПОЛНЕННЫХ РАБОТ И ЗАТРАТ
A28: № п/п | B28: Наименование пусковых комплексов, объектов, видов работ, оборудования, затрат | F28: Код | G28: Стоимость выполненных работ и затрат
G29: с начала проведения работ | I29: с начала года по отчетный период включительно | K29: в том числе за отчетный месяц
A33: 1 | B33: 2 | F33: 3 | G33: 4 | I33: 5 | K33: 6
B34: Всего работ и затрат, включаемых в стоимость
B35: В том числе:
A36: Итого
A37: Сумма НДС
A38: Всего с учетом НДС
A42: Заказчик (генподрядчик)
C43: должность | G43: подпись | J43: расшифровка подпись
A45: МП
A49: Подрядчик (субподрядчик)
C50: должность | G50: подпись | J50: расшифровка подпись
A52: МП

Sheet Source
A1: 0 | B1: Smeta.RU (495) 974-1589 | D1: _PS_ | F1: 0 | G1: 0 | H1: 0 | I1: Smeta.RU | K1: 0 | L1: 13277 | M1: 10
A12: 1 | B12: 133 | C12: 0 | D12: =ROW(A75) -> 75 | E12: 0 | F12: Новый объект | G12: на капитальный ремонт оконных проемов с заменой деревянных оконных блоков на оконные блоки из ПВХ в помещениях № 1, № 2 ,№ 21, № 22, № 24, № 25, № 26 1-го этажа, №10, №11, №13, №14, №15 2-го этажа, № 3-№ 7 3-го этажа, №3-№7 4-го этажа в здании учебного корпуса Уральского технологического колледжа-филиала НИЯУ МИФИ ( УрТК НИЯУ МИФИ) по адресу: Свердловская обл., г. Заречный, ул. Ленина 27 | I12: 0 | K12: 0 | O12: 0 | P12: 0 | Q12: 0 | R12: 0 | V12: 0 | BH12: Сметные нормы списания | BI12: Коды ценников | BJ12: 1 | BK12: 1 | BL12: 0 | BM12: 0 | BN12: 1 | BO12: 0 | BP12: 2 | BQ12: 2 | BR12: 1 | BS12: 1 | BT12: 0 | BU12: 0 | BV12: 0 | BW12: 0 | BX12: 0 | BY12: ФЕР-2017 | BZ12: ТР для Версии 10: Центральные регионы (с учетом п-ма 2536-ИП/12/ГС от 22.03.2017 г | CA12: ФЕР-2017 | CB12: ФЕР-2017 | CC12: ФЕР-2017 | CD12: ФЕР-2017 | CE12: Поправки для ГСН 2017 от 31.03.2017 г | CF12: 0 | CG12: 0 | CH12: 8 | CK12: 4 | EC12: 0
A15: 15 | B15: 1
A18: 52 | B18: =B75 -> 133 | C18: =C75 -> 1 | D18: =D75 -> 12 | E18: =E75 -> 0 | F18: =F75 -> Новый объект | G18: =G75 -> на капитальный ремонт оконных проемов с заменой деревянных оконных блоков на оконные блоки из ПВХ в помещениях № 1, № 2 ,№ 21, № 22, № 24, № 25, № 26 1-го этажа, №10, №11, №13, №14, №15 2-го этажа, № 3-№ 7 3-го этажа, №3-№7 4-го этажа в здании учебного корпуса Уральского технологического колледжа-филиала НИЯУ МИФИ ( УрТК НИЯУ МИФИ) по адресу: Свердловская обл., г. Заречный, ул. Ленина 27 | O18: =O75 -> 1654950.1 | P18: =P75 -> 1569827.5 | Q18: =Q75 -> 9882.88 | R18: =R75 -> 2879.44 | S18: =S75 -> 75239.76 | T18: =T75 -> 0 | U18: =U75 -> 1321.2654 | V18: =V75 -> 34.03035 | ... GX18: =GX75 -> 0
A20: 3 | B20: 1 | D20: =ROW(A43) -> 43 | F20: Новая локальная смета | G20: Новая локальная смета | I20: 0 | K20: 0 | V20: 0 | BX20: 0 | CF20: 0 | CG20: 0
A22: 52 | B22: =B43 -> 1 | C22: =C43 -> 3 | D22: =D43 -> 20 | E22: =E43 -> 0 | F22: =F43 -> Новая локальная смета | G22: =G43 -> Новая локальная смета | O22: =O43 -> 1654950.1 | P22: =P43 -> 1569827.5 | Q22: =Q43 -> 9882.88 | R22: =R43 -> 2879.44 | S22: =S43 -> 75239.76 | T22: =T43 -> 0 | U22: =U43 -> 1321.2654 | V22: =V43 -> 34.03035 | ... GX22: =GX43 -> 0
A24: 17 | B24: 1 | C24: =ROW(SmtRes!A3) -> 3 | D24: =ROW(EtalonRes!A3) -> 3 | E24: 1 | F24: 46-04-012-01 | G24: Разборка деревянных заполнений проемов оконных с подоконными досками | H24: 100 м2 | I24: =ROUND(246.75/100,9) -> 2.4675 | J24: 0 | O24: =ROUND(CP24,2) -> 28824 | P24: =ROUND(CQ24*I24,2) -> 0 | Q24: =ROUND(CR24*I24,2) -> 3946.25 | R24: =ROUND(CS24*I24,2) -> 1704.25 | S24: =ROUND(CT24*I24,2) -> 24877.75 | T24: =ROUND(CU24*I24,2) -> 0 | U24: =CV24*I24 -> 465.22245 | V24: =CW24*I24 -> 19.09845 | W24: =ROUND(CX24*I24,2) -> 0 | X24: =ROUND(CY24,2) -> 26316.18 | Y24: =ROUND(CZ24,2) -> 15949.2 | AA24: 39107596 | AB24: =ROUND((AC24+AD24+AF24),2) -> 1767.24 | AC24: =ROUND((ES24),2) -> 0 | AD24: =ROUND((((ET24)-(EU24))+AE24),2) -> 241.95 | AE24: =ROUND((EU24),2) -> 104.49 | AF24: =ROUND((EV24),2) -> 1525.29 | AG24: =ROUND((AP24),2) -> 0 | AH24: =(EW24) -> 188.54 | AI24: =(EX24) -> 7.74 | AJ24: =ROUND((AS24),2) -> 0 | AK24: 1767.24 | AL24: 0 | AM24: 241.95 | AN24: 104.49 | AO24: 1525.29 | AP24: 0 | AQ24: 188.54 | AR24: 7.74 | AS24: 0 | AT24: 99 | AU24: 60 | AV24: 1 | AW24: 1 | AZ24: 6.61 | BA24: 6.61 | BB24: 6.61 | BC24: 6.61 | BH24: 0 | BI24: 1 | BJ24: ФЕР-2001, 46-04-012-01, приказ Минстроя России №1039/пр от 30.12.2016г. | BM24: 46001 | BN24: 0 | BP24: 0 | BQ24: 2 | BR24: 0 | BS24: 6.61 | BT24: 1 | BU24: 1 | BV24: 1 | BW24: 1 | BX24: 1 | BZ24: 110 | CA24: 70 | CF24: 0 | CG24: 0 | CM24: 0 | CO24: 0 | CP24: =(P24+Q24+S24) -> 28824 | CQ24: =AC24*BC24 -> 0 | CR24: =AD24*BB24 -> 1599.2895 | CS24: =AE24*BS24 -> 690.6789 | CT24: =AF24*BA24 -> 10082.167 | CU24: =AG24 -> 0 | CV24: =AH24 -> 188.54 | CW24: =AI24 -> 7.74 | CX24: =AJ24 -> 0 | CY24: =(((S24+R24)*AT24)/100) -> 26316.18 | CZ24: =(((S24+R24)*AU24)/100) -> 15949.2 | DN24: 0 | DO24: 0 | DP24: 1 | DQ24: 1 | DU24: 1005 | DV24: 100 м2 | DW24: 100 м2 | DX24: 100 | EE24: 39174571 | EF24: 2 | EG24: Общестроительные работы | EH24: 0 | EJ24: 1 | EK24: 46001 | EL24: Реконструкция зданий и сооружений | EM24: ФЕР-46 | EQ24: 0 | ER24: 1767.24 | ES24: 0 | ET24: 241.95 | EU24: 104.49 | EV24: 1525.29 | EW24: 188.54 | EX24: 7.74 | EY24: 0 | FQ24: 0 | FR24: =ROUND(IF(AND(BH24=3,BI24=3),P24,0),2) -> 0 | FS24: 0 | FT24: *0,9 | FU24: *0,85 | FX24: 99 | FY24: 59.5 | GD24: 0 | GF24: 1630687704 | GG24: 1 | GH24: 1 | GI24: 4 | GJ24: 0 | GK24: =ROUND(R24*(R12)/100,2) -> 0 | GL24: =ROUND(IF(AND(BH24=3,BI24=3,FS24<>0),P24,0),2) -> 0 | GM24: =ROUND(O24+X24+Y24+GK24,2)+GX24 -> 71089.38 | GN24: =IF(OR(BI24=0,BI24=1),ROUND(O24+X24+Y24+GK24,2),0) -> 71089.38 | GO24: =IF(BI24=2,ROUND(O24+X24+Y24+GK24,2),0) -> 0 | GP24: =IF(BI24=4,ROUND(O24+X24+Y24+GK24,2)+GX24,0) -> 0 | GR24: 0 | GS24: 3 | GT24: 0 | GV24: =ROUND(GT24,2) -> 0 | GW24: 1 | GX24: =ROUND(GV24*GW24*I24,2) -> 0 | HA24: 0 | HB24: 0 | IK24: 0
A25: 17 | B25: 1 | C25: =ROW(SmtRes!A15) -> 15 | D25: =ROW(EtalonRes!A14) -> 14 | E25: 2 | F25: 10-01-034-08 | G25: Установка в жилых и общественных зданиях оконных блоков из ПВХ профилей поворотных (откидных, поворотно-откидных) с площадью проема более 2 м2 трехстворчатых, в том числе при наличии створок глухого остекления | H25: 100 м2 | I25: =ROUND(246.75/100,9) -> 2.4675 | J25: 0 | O25: =ROUND(CP25,2) -> 169091.5 | P25: =ROUND(CQ25*I25,2) -> 139436.01 | Q25: =ROUND(CR25*I25,2) -> 5203.11 | R25: =ROUND(CS25*I25,2) -> 1025.91 | S25: =ROUND(CT25*I25,2) -> 24452.38 | T25: =ROUND(CU25*I25,2) -> 0 | U25: =CV25*I25 -> 423.26014 | V25: =CW25*I25 -> 13.046906 | W25: =ROUND(CX25*I25,2) -> 0 | X25: =ROUND(CY25,2) -> 27006.99 | Y25: =ROUND(CZ25,2) -> 13758.28 | AA25: 39107596 | AB25: =ROUND((AC25+AD25+AF25),2) -> 10367.24 | AC25: =ROUND((ES25),2) -> 8549.02 | AD25: =ROUND(((((ET25*1.25))-((EU25*1.25)))+AE25),2) -> 319.01 | AE25: =ROUND(((EU25*1.25)),2) -> 62.9 | AF25: =ROUND(((EV25*1.15)),2) -> 1499.21 | AG25: =ROUND((AP25),2) -> 0 | AH25: =((EW25*1.15)) -> 171.534 | AI25: =((EX25*1.25)) -> 5.2875 | AJ25: =ROUND((AS25),2) -> 0 | AK25: 10107.89 | AL25: 8549.02 | AM25: 255.21 | AN25: 50.32 | AO25: 1303.66 | AP25: 0 | AQ25: 149.16 | AR25: 4.23 | AS25: 0 | AT25: 106 | AU25: 54 | AV25: 1 | AW25: 1 | AZ25: 6.61 | BA25: 6.61 | BB25: 6.61 | BC25: 6.61 | BH25: 0 | BI25: 1 | BJ25: ФЕР-2001, 10-01-034-08, приказ Минстроя России №1039/пр от 30.12.2016г. | BM25: 10001 | BN25: 0 | BP25: 0 | BQ25: 2 | BR25: 0 | BS25: 6.61 | BT25: 1 | BU25: 1 | BV25: 1 | BW25: 1 | BX25: 1 | BZ25: 118 | CA25: 63 | CF25: 0 | CG25: 0 | CM25: 0 | CN25: Поправка: МДС 81-35.2004, п.4.7 Наименование: Работы, выполняемые при реконструкции зданий и сооружений работы, аналогичные технологическим процессам в новом строительстве (в том числе возведение новых конструктивных элементов) стоимость которых определена по соответствующим сборникам ФЕР, кроме сборника № 46 «Работы при реконструкции зданий и сооружений» | CO25: 0 | CP25: =(P25+Q25+S25) -> 169091.5 | CQ25: =AC25*BC25 -> 56509.022 | CR25: =AD25*BB25 -> 2108.6561 | CS25: =AE25*BS25 -> 415.769 | CT25: =AF25*BA25 -> 9909.7781 | CU25: =AG25 -> 0 | CV25: =AH25 -> 171.534 | CW25: =AI25 -> 5.2875 | CX25: =AJ25 -> 0 | CY25: =(((S25+R25)*AT25)/100) -> 27006.987 | CZ25: =(((S25+R25)*AU25)/100) -> 13758.277 | DE25: )*1,25 | DF25: )*1,25 | DG25: )*1,15 | DI25: )*1,15 | DJ25: )*1,25 | DN25: 0 | DO25: 0 | DP25: 1 | DQ25: 1 | DU25: 1005 | DV25: 100 м2 | DW25: 100 м2 | DX25: 100 | EE25: 39174503 | EF25: 2 | EG25: Общестроительные работы | EH25: 0 | EJ25: 1 | EK25: 10001 | EL25: Деревянные конструкции | EM25: ФЕР-10 | EO25: Поправка: МДС 81-35.2004, п.4.7 | EQ25: 0 | ER25: 10107.89 | ES25: 8549.02 | ET25: 255.21 | EU25: 50.32 | EV25: 1303.66 | EW25: 149.16 | EX25: 4.23 | EY25: 0 | FQ25: 0 | FR25: =ROUND(IF(AND(BH25=3,BI25=3),P25,0),2) -> 0 | FS25: 0 | FT25: *0,9 | FU25: *0,85 | FX25: 106.2 | FY25: 53.55 | GD25: 0 | GF25: -330529066 | GG25: 1 | GH25: 1 | GI25: 4 | GJ25: 0 | GK25: =ROUND(R25*(R12)/100,2) -> 0 | GL25: =ROUND(IF(AND(BH25=3,BI25=3,FS25<>0),P25,0),2) -> 0 | GM25: =ROUND(O25+X25+Y25+GK25,2)+GX25 -> 209856.77 | GN25: =IF(OR(BI25=0,BI25=1),ROUND(O25+X25+Y25+GK25,2),0) -> 209856.77 | GO25: =IF(BI25=2,ROUND(O25+X25+Y25+GK25,2),0) -> 0 | GP25: =IF(BI25=4,ROUND(O25+X25+Y25+GK25,2)+GX25,0) -> 0 | GR25: 0 | GS25: 3 | GT25: 0 | GV25: =ROUND(GT25,2) -> 0 | GW25: 1 | GX25: =ROUND(GV25*GW25*I25,2) -> 0 | HA25: 0 | HB25: 0 | IK25: 0
A26: 18 | B26: 1 | C26: 15 | E26: 2,1 | F26: Средняя коммерческая цена | G26: Оконный блок из ПВХ 2500х2100мм | H26: м2 | I26: =I25*J26 -> 246.75 | J26: 100 | O26: =ROUND(CP26,2) -> 985950.08 | P26: =ROUND(CQ26*I26,2) -> 985950.08 | Q26: =ROUND(CR26*I26,2) -> 0 | R26: =ROUND(CS26*I26,2) -> 0 | S26: =ROUND(CT26*I26,2) -> 0 | T26: =ROUND(CU26*I26,2) -> 0 | U26: =CV26*I26 -> 0 | V26: =CW26*I26 -> 0 | W26: =ROUND(CX26*I26,2) -> 0 | X26: =ROUND(CY26,2) -> 0 | Y26: =ROUND(CZ26,2) -> 0 | AA26: 39107596 | AB26: =ROUND((AC26+AD26+AF26),2) -> 604.5 | AC26: =ROUND((ES26),2) -> 604.5 | AD26: =ROUND((((ET26)-(EU26))+AE26),2) -> 0 | AE26: =ROUND((EU26),2) -> 0 | AF26: =ROUND((EV26),2) -> 0 | AG26: =ROUND((AP26),2) -> 0 | AH26: =(EW26) -> 0 | AI26: =(EX26) -> 0 | AJ26: =ROUND((AS26),2) -> 0 | AK26: 604.5 | AL26: 604.5 | AM26: 0 | AN26: 0 | AO26: 0 | AP26: 0 | AQ26: 0 | AR26: 0 | AS26: 0 | AT26: 106 | AU26: 54 | AV26: 1 | AW26: 1 | AZ26: 6.61 | BA26: 1 | BB26: 1 | BC26: 6.61 | BH26: 3 | BI26: 1 | BM26: 10001 | BN26: 0 | BP26: 0 | BQ26: 2 | BR26: 0 | BS26: 1 | BT26: 1 | BU26: 1 | BV26: 1 | BW26: 1 | BX26: 1 | BZ26: 118 | CA26: 63 | CF26: 0 | CG26: 0 | CM26: 0 | CO26: 0 | CP26: =(P26+Q26+S26) -> 985950.08 | CQ26: =AC26*BC26 -> 3995.745 | CR26: =AD26*BB26 -> 0 | CS26: =AE26*BS26 -> 0 | CT26: =AF26*BA26 -> 0 | CU26: =AG26 -> 0 | CV26: =AH26 -> 0 | CW26: =AI26 -> 0 | CX26: =AJ26 -> 0 | CY26: =(((S26+R26)*AT26)/100) -> 0 | CZ26: =(((S26+R26)*AU26)/100) -> 0 | DN26: 0 | DO26: 0 | DP26: 1 | DQ26: 1 | DU26: 1005 | DV26: м2 | DW26: м2 | DX26: 1 | EE26: 39174503 | EF26: 2 | EG26: Общестроительные работы | EH26: 0 | EJ26: 1 | EK26: 10001 | EL26: Деревянные конструкции | EM26: ФЕР-10 | EQ26: 0 | ER26: 604.5 | ES26: 604.5 | ET26: 0 | EU26: 0 | EV26: 0 | EW26: 0 | EX26: 0 | EZ26: 5 | FC26: 1 | FD26: 18 | FF26: 4715 | FQ26: 0 | FR26: =ROUND(IF(AND(BH26=3,BI26=3),P26,0),2) -> 0 | FS26: 0 | FT26: *0,9 | FU26: *0,85 | FX26: 106.2 | FY26: 53.55 | GA26: [4 715 / 1,18 / 6,61] | GD26: 0 | GF26: 1819601786 | GG26: 1 | GH26: 3 | GI26: 4 | GJ26: 0 | GK26: =ROUND(R26*(R12)/100,2) -> 0 | GL26: =ROUND(IF(AND(BH26=3,BI26=3,FS26<>0),P26,0),2) -> 0 | GM26: =ROUND(O26+X26+Y26+GK26,2)+GX26 -> 985950.08 | GN26: =IF(OR(BI26=0,BI26=1),ROUND(O26+X26+Y26+GK26,2),0) -> 985950.08 | GO26: =IF(BI26=2,ROUND(O26+X26+Y26+GK26,2),0) -> 0 | GP26: =IF(BI26=4,ROUND(O26+X26+Y26+GK26,2)+GX26,0) -> 0 | GR26: 1 | GS26: 1 | GT26: 0 | GV26: =ROUND(GT26,2) -> 0 | GW26: 1 | GX26: =ROUND(GV26*GW26*I26,2) -> 0 | HA26: 0 | HB26: 0 | IK26: 0
A27: 18 | B27: 1 | C27: 12 | E27: 2,2 | F27: 11.3.02.03 | G27: Блоки оконные пластиковые | H27: м2 | I27: =I25*J27 -> 246.75 | J27: 100 | O27: =ROUND(CP27,2) -> 0 | P27: =ROUND(CQ27*I27,2) -> 0 | Q27: =ROUND(CR27*I27,2) -> 0 | R27: =ROUND(CS27*I27,2) -> 0 | S27: =ROUND(CT27*I27,2) -> 0 | T27: =ROUND(CU27*I27,2) -> 0 | U27: =CV27*I27 -> 0 | V27: =CW27*I27 -> 0 | W27: =ROUND(CX27*I27,2) -> 0 | X27: =ROUND(CY27,2) -> 0 | Y27: =ROUND(CZ27,2) -> 0 | AA27: 39107596 | AB27: =ROUND((AC27+AD27+AF27),2) -> 0 | AC27: =ROUND((ES27),2) -> 0 | AD27: =ROUND((((ET27)-(EU27))+AE27),2) -> 0 | AE27: =ROUND((EU27),2) -> 0 | AF27: =ROUND((EV27),2) -> 0 | AG27: =ROUND((AP27),2) -> 0 | AH27: =(EW27) -> 0 | AI27: =(EX27) -> 0 | AJ27: =ROUND((AS27),2) -> 0 | AK27: 0 | AL27: 0 | AM27: 0 | AN27: 0 | AO27: 0 | AP27: 0 | AQ27: 0 | AR27: 0 | AS27: 0 | AT27: 106 | AU27: 54 | AV27: 1 | AW27: 1 | AZ27: 6.61 | BA27: 1 | BB27: 1 | BC27: 6.61 | BH27: 3 | BI27: 1 | BM27: 10001 | BN27: 0 | BP27: 0 | BQ27: 2 | BR27: 0 | BS27: 1 | BT27: 1 | BU27: 1 | BV27: 1 | BW27: 1 | BX27: 1 | BZ27: 118 | CA27: 63 | CF27: 0 | CG27: 0 | CM27: 0 | CO27: 0 | CP27: =(P27+Q27+S27) -> 0 | CQ27: =AC27*BC27 -> 0 | CR27: =AD27*BB27 -> 0 | CS27: =AE27*BS27 -> 0 | CT27: =AF27*BA27 -> 0 | CU27: =AG27 -> 0 | CV27: =AH27 -> 0 | CW27: =AI27 -> 0 | CX27: =AJ27 -> 0 | CY27: =(((S27+R27)*AT27)/100) -> 0 | CZ27: =(((S27+R27)*AU27)/100) -> 0 | DN27: 0 | DO27: 0 | DP27: 1 | DQ27: 1 | DU27: 1005 | DV27: м2 | DW27: м2 | DX27: 1 | EE27: 39174503 | EF27: 2 | EG27: Общестроительные работы | EH27: 0 | EJ27: 1 | EK27: 10001 | EL27: Деревянные конструкции | EM27: ФЕР-10 | EQ27: 0 | ER27: 0 | ES27: 0 | ET27: 0 | EU27: 0 | EV27: 0 | EW27: 0 | EX27: 0 | FQ27: 0 | FR27: =ROUND(IF(AND(BH27=3,BI27=3),P27,0),2) -> 0 | FS27: 0 | FT27: *0,9 | FU27: *0,85 | FX27: 106.2 | FY27: 53.55 | GA27: занесена вручную | GD27: 0 | GF27: 1219964505 | GG27: 1 | GH27: 1 | GI27: 4 | GJ27: 0 | GK27: =ROUND(R27*(R12)/100,2) -> 0 | GL27: =ROUND(IF(AND(BH27=3,BI27=3,FS27<>0),P27,0),2) -> 0 | GM27: =ROUND(O27+X27+Y27+GK27,2)+GX27 -> 0 | GN27: =IF(OR(BI27=0,BI27=1),ROUND(O27+X27+Y27+GK27,2),0) -> 0 | GO27: =IF(BI27=2,ROUND(O27+X27+Y27+GK27,2),0) -> 0 | GP27: =IF(BI27=4,ROUND(O27+X27+Y27+GK27,2)+GX27,0) -> 0 | GR27: 0 | GS27: 4 | GT27: 0 | GV27: =ROUND(GT27,2) -> 0 | GW27: 1 | GX27: =ROUND(GV27*GW27*I27,2) -> 0 | HA27: 0 | HB27: 0 | IK27: 0
A28: 17 | B28: 1 | C28: =ROW(SmtRes!A22) -> 22 | D28: =ROW(EtalonRes!A21) -> 21 | E28: 3 | F28: 10-01-035-03 | G28: Установка подоконных досок из ПВХ в каменных стенах толщиной свыше 0,51 м | H28: 100 м | I28: =ROUND(117.5/100,9) -> 1.175 | J28: 0 | O28: =ROUND(CP28,2) -> 50592.68 | P28: =ROUND(CQ28*I28,2) -> 48751.11 | Q28: =ROUND(CR28*I28,2) -> 212.65 | R28: =ROUND(CS28*I28,2) -> 43.03 | S28: =ROUND(CT28*I28,2) -> 1628.92 | T28: =ROUND(CU28*I28,2) -> 0 | U28: =CV28*I28 -> 28.889725 | V28: =CW28*I28 -> 0.5434375 | W28: =ROUND(CX28*I28,2) -> 0 | X28: =ROUND(CY28,2) -> 1772.27 | Y28: =ROUND(CZ28,2) -> 902.85 | AA28: 39107596 | AB28: =ROUND((AC28+AD28+AF28),2) -> 6514.01 | AC28: =ROUND((ES28),2) -> 6276.9 | AD28: =ROUND(((((ET28*1.25))-((EU28*1.25)))+AE28),2) -> 27.38 | AE28: =ROUND(((EU28*1.25)),2) -> 5.54 | AF28: =ROUND(((EV28*1.15)),2) -> 209.73 | AG28: =ROUND((AP28),2) -> 0 | AH28: =((EW28*1.15)) -> 24.587 | AI28: =((EX28*1.25)) -> 0.4625 | AJ28: =ROUND((AS28),2) -> 0 | AK28: 6481.17 | AL28: 6276.9 | AM28: 21.9 | AN28: 4.43 | AO28: 182.37 | AP28: 0 | AQ28: 21.38 | AR28: 0.37 | AS28: 0 | AT28: 106 | AU28: 54 | AV28: 1 | AW28: 1 | AZ28: 6.61 | BA28: 6.61 | BB28: 6.61 | BC28: 6.61 | BH28: 0 | BI28: 1 | BJ28: ФЕР-2001, 10-01-035-03, приказ Минстроя России №1039/пр от 30.12.2016г. | BM28: 10001 | BN28: 0 | BP28: 0 | BQ28: 2 | BR28: 0 | BS28: 6.61 | BT28: 1 | BU28: 1 | BV28: 1 | BW28: 1 | BX28: 1 | BZ28: 118 | CA28: 63 | CF28: 0 | CG28: 0 | CM28: 0 | CN28: Поправка: МДС 81-35.2004, п.4.7 Наименование: Работы, выполняемые при реконструкции зданий и сооружений работы, аналогичные технологическим процессам в новом строительстве (в том числе возведение новых конструктивных элементов) стоимость которых определена по соответствующим сборникам ФЕР, кроме сборника № 46 «Работы при реконструкции зданий и сооружений» | CO28: 0 | CP28: =(P28+Q28+S28) -> 50592.68 | CQ28: =AC28*BC28 -> 41490.309 | CR28: =AD28*BB28 -> 180.9818 | CS28: =AE28*BS28 -> 36.6194 | CT28: =AF28*BA28 -> 1386.3153 | CU28: =AG28 -> 0 | CV28: =AH28 -> 24.587 | CW28: =AI28 -> 0.4625 | CX28: =AJ28 -> 0 | CY28: =(((S28+R28)*AT28)/100) -> 1772.267 | CZ28: =(((S28+R28)*AU28)/100) -> 902.853 | DE28: )*1,25 | DF28: )*1,25 | DG28: )*1,15 | DI28: )*1,15 | DJ28: )*1,25 | DN28: 0 | DO28: 0 | DP28: 1 | DQ28: 1 | DU28: 1003 | DV28: 100 м | DW28: 100 м | DX28: 100 | EE28: 39174503 | EF28: 2 | EG28: Общестроительные работы | EH28: 0 | EJ28: 1 | EK28: 10001 | EL28: Деревянные конструкции | EM28: ФЕР-10 | EO28: Поправка: МДС 81-35.2004, п.4.7 | EQ28: 0 | ER28: 6481.17 | ES28: 6276.9 | ET28: 21.9 | EU28: 4.43 | EV28: 182.37 | EW28: 21.38 | EX28: 0.37 | EY28: 0 | FQ28: 0 | FR28: =ROUND(IF(AND(BH28=3,BI28=3),P28,0),2) -> 0 | FS28: 0 | FT28: *0,9 | FU28: *0,85 | FX28: 106.2 | FY28: 53.55 | GD28: 0 | GF28: -1968498593 | GG28: 1 | GH28: 1 | GI28: 4 | GJ28: 0 | GK28: =ROUND(R28*(R12)/100,2) -> 0 | GL28: =ROUND(IF(AND(BH28=3,BI28=3,FS28<>0),P28,0),2) -> 0 | GM28: =ROUND(O28+X28+Y28+GK28,2)+GX28 -> 53267.8 | GN28: =IF(OR(BI28=0,BI28=1),ROUND(O28+X28+Y28+GK28,2),0) -> 53267.8 | GO28: =IF(BI28=2,ROUND(O28+X28+Y28+GK28,2),0) -> 0 | GP28: =IF(BI28=4,ROUND(O28+X28+Y28+GK28,2)+GX28,0) -> 0 | GR28: 0 | GS28: 3 | GT28: 0 | GV28: =ROUND(GT28,2) -> 0 | GW28: 1 | GX28: =ROUND(GV28*GW28*I28,2) -> 0 | HA28: 0 | HB28: 0 | IK28: 0
A29: 18 | B29: 1 | C29: 22 | E29: 3,1 | F29: Средняя коммерческая цена | G29: Подоконная доска из ПВХ шириной 600мм | H29: м | I29: =I28*J29 -> 117.5 | J29: 100 | O29: =ROUND(CP29,2) -> 247479.72 | P29: =ROUND(CQ29*I29,2) -> 247479.72 | Q29: =ROUND(CR29*I29,2) -> 0 | R29: =ROUND(CS29*I29,2) -> 0 | S29: =ROUND(CT29*I29,2) -> 0 | T29: =ROUND(CU29*I29,2) -> 0 | U29: =CV29*I29 -> 0 | V29: =CW29*I29 -> 0 | W29: =ROUND(CX29*I29,2) -> 0 | X29: =ROUND(CY29,2) -> 0 | Y29: =ROUND(CZ29,2) -> 0 | AA29: 39107596 | AB29: =ROUND((AC29+AD29+AF29),2) -> 318.64 | AC29: =ROUND((ES29),2) -> 318.64 | AD29: =ROUND((((ET29)-(EU29))+AE29),2) -> 0 | AE29: =ROUND((EU29),2) -> 0 | AF29: =ROUND((EV29),2) -> 0 | AG29: =ROUND((AP29),2) -> 0 | AH29: =(EW29) -> 0 | AI29: =(EX29) -> 0 | AJ29: =ROUND((AS29),2) -> 0 | AK29: 318.64 | AL29: 318.64 | AM29: 0 | AN29: 0 | AO29: 0 | AP29: 0 | AQ29: 0 | AR29: 0 | AS29: 0 | AT29: 106 | AU29: 54 | AV29: 1 | AW29: 1 | AZ29: 6.61 | BA29: 1 | BB29: 1 | BC29: 6.61 | BH29: 3 | BI29: 1 | BM29: 10001 | BN29: 0 | BP29: 0 | BQ29: 2 | BR29: 0 | BS29: 1 | BT29: 1 | BU29: 1 | BV29: 1 | BW29: 1 | BX29: 1 | BZ29: 118 | CA29: 63 | CF29: 0 | CG29: 0 | CM29: 0 | CO29: 0 | CP29: =(P29+Q29+S29) -> 247479.72 | CQ29: =AC29*BC29 -> 2106.2104 | CR29: =AD29*BB29 -> 0 | CS29: =AE29*BS29 -> 0 | CT29: =AF29*BA29 -> 0 | CU29: =AG29 -> 0 | CV29: =AH29 -> 0 | CW29: =AI29 -> 0 | CX29: =AJ29 -> 0 | CY29: =(((S29+R29)*AT29)/100) -> 0 | CZ29: =(((S29+R29)*AU29)/100) -> 0 | DN29: 0 | DO29: 0 | DP29: 1 | DQ29: 1 | DU29: 1003 | DV29: м | DW29: м | DX29: 1 | EE29: 39174503 | EF29: 2 | EG29: Общестроительные работы | EH29: 0 | EJ29: 1 | EK29: 10001 | EL29: Деревянные конструкции | EM29: ФЕР-10 | EQ29: 0 | ER29: 318.64 | ES29: 318.64 | ET29: 0 | EU29: 0 | EV29: 0 | EW29: 0 | EX29: 0 | EZ29: 5 | FC29: 1 | FD29: 18 | FF29: 2485.33 | FQ29: 0 | FR29: =ROUND(IF(AND(BH29=3,BI29=3),P29,0),2) -> 0 | FS29: 0 | FT29: *0,9 | FU29: *0,85 | FX29: 106.2 | FY29: 53.55 | GA29: [2 485,33 / 1,18 / 6,61] | GD29: 0 | GF29: -1329279680 | GG29: 1 | GH29: 3 | GI29: 4 | GJ29: 0 | GK29: =ROUND(R29*(R12)/100,2) -> 0 | GL29: =ROUND(IF(AND(BH29=3,BI29=3,FS29<>0),P29,0),2) -> 0 | GM29: =ROUND(O29+X29+Y29+GK29,2)+GX29 -> 247479.72 | GN29: =IF(OR(BI29=0,BI29=1),ROUND(O29+X29+Y29+GK29,2),0) -> 247479.72 | GO29: =IF(BI29=2,ROUND(O29+X29+Y29+GK29,2),0) -> 0 | GP29: =IF(BI29=4,ROUND(O29+X29+Y29+GK29,2)+GX29,0) -> 0 | GR29: 1 | GS29: 1 | GT29: 0 | GV29: =ROUND(GT29,2) -> 0 | GW29: 1 | GX29: =ROUND(GV29*GW29*I29,2) -> 0 | HA29: 0 | HB29: 0 | IK29: 0
A30: 17 | B30: 1 | C30: =ROW(SmtRes!A30) -> 30 | D30: =ROW(EtalonRes!A29) -> 29 | E30: 4 | F30: 58-20-1 | G30: Смена обделок из листовой стали (поясков, сандриков, отливов, карнизов) шириной до 0,4 м | H30: 100 м | I30: =ROUND(117.5/100,9) -> 1.175 | J30: 0 | O30: =ROUND(CP30,2) -> 3529.29 | P30: =ROUND(CQ30*I30,2) -> 746 | Q30: =ROUND(CR30*I30,2) -> 39.84 | R30: =ROUND(CS30*I30,2) -> 11.96 | S30: =ROUND(CT30*I30,2) -> 2743.45 | T30: =ROUND(CU30*I30,2) -> 0 | U30: =CV30*I30 -> 48.65675 | V30: =CW30*I30 -> 0.141 | W30: =ROUND(CX30*I30,2) -> 0 | X30: =ROUND(CY30,2) -> 2286.99 | Y30: =ROUND(CZ30,2) -> 1791.02 | AA30: 39107596 | AB30: =ROUND((AC30+AD30+AF30),2) -> 454.41 | AC30: =ROUND((ES30),2) -> 96.05 | AD30: =ROUND((((ET30)-(EU30))+AE30),2) -> 5.13 | AE30: =ROUND((EU30),2) -> 1.54 | AF30: =ROUND((EV30),2) -> 353.23 | AG30: =ROUND((AP30),2) -> 0 | AH30: =(EW30) -> 41.41 | AI30: =(EX30) -> 0.12 | AJ30: =ROUND((AS30),2) -> 0 | AK30: 454.41 | AL30: 96.05 | AM30: 5.13 | AN30: 1.54 | AO30: 353.23 | AP30: 0 | AQ30: 41.41 | AR30: 0.12 | AS30: 0 | AT30: 83 | AU30: 65 | AV30: 1 | AW30: 1 | AZ30: 6.61 | BA30: 6.61 | BB30: 6.61 | BC30: 6.61 | BH30: 0 | BI30: 1 | BJ30: ФЕР-2001, 58-20-1, приказ Минстроя России №1039/пр от 30.12.2016г. | BM30: 58001 | BN30: 0 | BP30: 0 | BQ30: 6 | BR30: 0 | BS30: 6.61 | BT30: 1 | BU30: 1 | BV30: 1 | BW30: 1 | BX30: 1 | BZ30: 83 | CA30: 65 | CF30: 0 | CG30: 0 | CM30: 0 | CO30: 0 | CP30: =(P30+Q30+S30) -> 3529.29 | CQ30: =AC30*BC30 -> 634.8905 | CR30: =AD30*BB30 -> 33.9093 | CS30: =AE30*BS30 -> 10.1794 | CT30: =AF30*BA30 -> 2334.8503 | CU30: =AG30 -> 0 | CV30: =AH30 -> 41.41 | CW30: =AI30 -> 0.12 | CX30: =AJ30 -> 0 | CY30: =(((S30+R30)*AT30)/100) -> 2286.9903 | CZ30: =(((S30+R30)*AU30)/100) -> 1791.0165 | DN30: 0 | DO30: 0 | DP30: 1 | DQ30: 1 | DU30: 1003 | DV30: 100 м | DW30: 100 м | DX30: 100 | EE30: 39174583 | EF30: 6 | EG30: Ремонтно-строительные работы | EH30: 0 | EJ30: 1 | EK30: 58001 | EL30: Крыши, кровля | EM30: рФЕР-58 | EQ30: 0 | ER30: 454.41 | ES30: 96.05 | ET30: 5.13 | EU30: 1.54 | EV30: 353.23 | EW30: 41.41 | EX30: 0.12 | EY30: 0 | FQ30: 0 | FR30: =ROUND(IF(AND(BH30=3,BI30=3),P30,0),2) -> 0 | FS30: 0 | FX30: 83 | FY30: 65 | GD30: 0 | GF30: -58071427 | GG30: 1 | GH30: 1 | GI30: 4 | GJ30: 0 | GK30: =ROUND(R30*(R12)/100,2) -> 0 | GL30: =ROUND(IF(AND(BH30=3,BI30=3,FS30<>0),P30,0),2) -> 0 | GM30: =ROUND(O30+X30+Y30+GK30,2)+GX30 -> 7607.3 | GN30: =IF(OR(BI30=0,BI30=1),ROUND(O30+X30+Y30+GK30,2),0) -> 7607.3 | GO30: =IF(BI30=2,ROUND(O30+X30+Y30+GK30,2),0) -> 0 | GP30: =IF(BI30=4,ROUND(O30+X30+Y30+GK30,2)+GX30,0) -> 0 | GR30: 0 | GS30: 3 | GT30: 0 | GV30: =ROUND(GT30,2) -> 0 | GW30: 1 | GX30: =ROUND(GV30*GW30*I30,2) -> 0 | HA30: 0 | HB30: 0 | IK30: 0
A31: 18 | B31: 1 | C31: 30 | E31: 4,1 | F31: Средняя коммерческая цена | G31: Отлив из оцинкованной стали с полимерным покрытием шириной 250мм | H31: м | I31: =I30*J31 -> 117.5 | J31: 100 | O31: =ROUND(CP31,2) -> 30134.99 | P31: =ROUND(CQ31*I31,2) -> 30134.99 | Q31: =ROUND(CR31*I31,2) -> 0 | R31: =ROUND(CS31*I31,2) -> 0 | S31: =ROUND(CT31*I31,2) -> 0 | T31: =ROUND(CU31*I31,2) -> 0 | U31: =CV31*I31 -> 0 | V31: =CW31*I31 -> 0 | W31: =ROUND(CX31*I31,2) -> 0 | X31: =ROUND(CY31,2) -> 0 | Y31: =ROUND(CZ31,2) -> 0 | AA31: 39107596 | AB31: =ROUND((AC31+AD31+AF31),2) -> 38.8 | AC31: =ROUND((ES31),2) -> 38.8 | AD31: =ROUND((((ET31)-(EU31))+AE31),2) -> 0 | AE31: =ROUND((EU31),2) -> 0 | AF31: =ROUND((EV31),2) -> 0 | AG31: =ROUND((AP31),2) -> 0 | AH31: =(EW31) -> 0 | AI31: =(EX31) -> 0 | AJ31: =ROUND((AS31),2) -> 0 | AK31: 38.8 | AL31: 38.8 | AM31: 0 | AN31: 0 | AO31: 0 | AP31: 0 | AQ31: 0 | AR31: 0 | AS31: 0 | AT31: 83 | AU31: 65 | AV31: 1 | AW31: 1 | AZ31: 6.61 | BA31: 1 | BB31: 1 | BC31: 6.61 | BH31: 3 | BI31: 1 | BM31: 58001 | BN31: 0 | BP31: 0 | BQ31: 6 | BR31: 0 | BS31: 1 | BT31: 1 | BU31: 1 | BV31: 1 | BW31: 1 | BX31: 1 | BZ31: 83 | CA31: 65 | CF31: 0 | CG31: 0 | CM31: 0 | CO31: 0 | CP31: =(P31+Q31+S31) -> 30134.99 | CQ31: =AC31*BC31 -> 256.468 | CR31: =AD31*BB31 -> 0 | CS31: =AE31*BS31 -> 0 | CT31: =AF31*BA31 -> 0 | CU31: =AG31 -> 0 | CV31: =AH31 -> 0 | CW31: =AI31 -> 0 | CX31: =AJ31 -> 0 | CY31: =(((S31+R31)*AT31)/100) -> 0 | CZ31: =(((S31+R31)*AU31)/100) -> 0 | DN31: 0 | DO31: 0 | DP31: 1 | DQ31: 1 | DU31: 1003 | DV31: м | DW31: м | DX31: 1 | EE31: 39174583 | EF31: 6 | EG31: Ремонтно-строительные работы | EH31: 0 | EJ31: 1 | EK31: 58001 | EL31: Крыши, кровля | EM31: рФЕР-58 | EQ31: 0 | ER31: 38.8 | ES31: 38.8 | ET31: 0 | EU31: 0 | EV31: 0 | EW31: 0 | EX31: 0 | EZ31: 5 | FC31: 1 | FD31: 18 | FF31: 302.67 | FQ31: 0 | FR31: =ROUND(IF(AND(BH31=3,BI31=3),P31,0),2) -> 0 | FS31: 0 | FX31: 83 | FY31: 65 | GA31: [302,67 / 1,18 / 6,61] | GD31: 0 | GF31: -42574877 | GG31: 1 | GH31: 3 | GI31: 4 | GJ31: 0 | GK31: =ROUND(R31*(R12)/100,2) -> 0 | GL31: =ROUND(IF(AND(BH31=3,BI31=3,FS31<>0),P31,0),2) -> 0 | GM31: =ROUND(O31+X31+Y31+GK31,2)+GX31 -> 30134.99 | GN31: =IF(OR(BI31=0,BI31=1),ROUND(O31+X31+Y31+GK31,2),0) -> 30134.99 | GO31: =IF(BI31=2,ROUND(O31+X31+Y31+GK31,2),0) -> 0 | GP31: =IF(BI31=4,ROUND(O31+X31+Y31+GK31,2)+GX31,0) -> 0 | GR31: 1 | GS31: 1 | GT31: 0 | GV31: =ROUND(GT31,2) -> 0 | GW31: 1 | GX31: =ROUND(GV31*GW31*I31,2) -> 0 | HA31: 0 | HB31: 0 | IK31: 0
A32: 18 | B32: 1 | C32: 29 | E32: 4,2 | F32: 08.3.05.05 | G32: Сталь листовая оцинкованная | H32: т | I32: =I30*J32 -> 0.2162 | J32: 0.184 | O32: =ROUND(CP32,2) -> 0 | P32: =ROUND(CQ32*I32,2) -> 0 | Q32: =ROUND(CR32*I32,2) -> 0 | R32: =ROUND(CS32*I32,2) -> 0 | S32: =ROUND(CT32*I32,2) -> 0 | T32: =ROUND(CU32*I32,2) -> 0 | U32: =CV32*I32 -> 0 | V32: =CW32*I32 -> 0 | W32: =ROUND(CX32*I32,2) -> 0 | X32: =ROUND(CY32,2) -> 0 | Y32: =ROUND(CZ32,2) -> 0 | AA32: 39107596 | AB32: =ROUND((AC32+AD32+AF32),2) -> 0 | AC32: =ROUND((ES32),2) -> 0 | AD32: =ROUND((((ET32)-(EU32))+AE32),2) -> 0 | AE32: =ROUND((EU32),2) -> 0 | AF32: =ROUND((EV32),2) -> 0 | AG32: =ROUND((AP32),2) -> 0 | AH32: =(EW32) -> 0 | AI32: =(EX32) -> 0 | AJ32: =ROUND((AS32),2) -> 0 | AK32: 0 | AL32: 0 | AM32: 0 | AN32: 0 | AO32: 0 | AP32: 0 | AQ32: 0 | AR32: 0 | AS32: 0 | AT32: 83 | AU32: 65 | AV32: 1 | AW32: 1 | AZ32: 6.61 | BA32: 1 | BB32: 1 | BC32: 6.61 | BH32: 3 | BI32: 1 | BM32: 58001 | BN32: 0 | BP32: 0 | BQ32: 6 | BR32: 0 | BS32: 1 | BT32: 1 | BU32: 1 | BV32: 1 | BW32: 1 | BX32: 1 | BZ32: 83 | CA32: 65 | CF32: 0 | CG32: 0 | CM32: 0 | CO32: 0 | CP32: =(P32+Q32+S32) -> 0 | CQ32: =AC32*BC32 -> 0 | CR32: =AD32*BB32 -> 0 | CS32: =AE32*BS32 -> 0 | CT32: =AF32*BA32 -> 0 | CU32: =AG32 -> 0 | CV32: =AH32 -> 0 | CW32: =AI32 -> 0 | CX32: =AJ32 -> 0 | CY32: =(((S32+R32)*AT32)/100) -> 0 | CZ32: =(((S32+R32)*AU32)/100) -> 0 | DN32: 0 | DO32: 0 | DP32: 1 | DQ32: 1 | DU32: 1009 | DV32: т | DW32: т | DX32: 1000 | EE32: 39174583 | EF32: 6 | EG32: Ремонтно-строительные работы | EH32: 0 | EJ32: 1 | EK32: 58001 | EL32: Крыши, кровля | EM32: рФЕР-58 | EQ32: 0 | ER32: 0 | ES32: 0 | ET32: 0 | EU32: 0 | EV32: 0 | EW32: 0 | EX32: 0 | FQ32: 0 | FR32: =ROUND(IF(AND(BH32=3,BI32=3),P32,0),2) -> 0 | FS32: 0 | FX32: 83 | FY32: 65 | GA32: занесена вручную | GD32: 0 | GF32: 789990620 | GG32: 1 | GH32: 1 | GI32: 4 | GJ32: 0 | GK32: =ROUND(R32*(R12)/100,2) -> 0 | GL32: =ROUND(IF(AND(BH32=3,BI32=3,FS32<>0),P32,0),2) -> 0 | GM32: =ROUND(O32+X32+Y32+GK32,2)+GX32 -> 0 | GN32: =IF(OR(BI32=0,BI32=1),ROUND(O32+X32+Y32+GK32,2),0) -> 0 | GO32: =IF(BI32=2,ROUND(O32+X32+Y32+GK32,2),0) -> 0 | GP32: =IF(BI32=4,ROUND(O32+X32+Y32+GK32,2)+GX32,0) -> 0 | GR32: 0 | GS32: 4 | GT32: 0 | GV32: =ROUND(GT32,2) -> 0 | GW32: 1 | GX32: =ROUND(GV32*GW32*I32,2) -> 0 | HA32: 0 | HB32: 0 | IK32: 0
A33: 17 | B33: 1 | C33: =ROW(SmtRes!A37) -> 37 | D33: =ROW(EtalonRes!A35) -> 35 | E33: 5 | F33: 15-04-006-04 | G33: Покрытие поверхностей грунтовкой глубокого проникновения за 2 раза стен | H33: 100 м2 | I33: =ROUND(157.45/100,9) -> 1.5745 | J33: 0 | O33: =ROUND(CP33,2) -> 1903.83 | P33: =ROUND(CQ33*I33,2) -> 3.75 | Q33: =ROUND(CR33*I33,2) -> 21.02 | R33: =ROUND(CS33*I33,2) -> 4.79 | S33: =ROUND(CT33*I33,2) -> 1879.06 | T33: =ROUND(CU33*I33,2) -> 0 | U33: =CV33*I33 -> 29.550216 | V33: =CW33*I33 -> 0.05904375 | W33: =ROUND(CX33*I33,2) -> 0 | X33: =ROUND(CY33,2) -> 1789.66 | Y33: =ROUND(CZ33,2) -> 885.41 | AA33: 39107596 | AB33: =ROUND((AC33+AD33+AF33),2) -> 182.93 | AC33: =ROUND((ES33),2) -> 0.36 | AD33: =ROUND(((((ET33*1.25))-((EU33*1.25)))+AE33),2) -> 2.02 | AE33: =ROUND(((EU33*1.25)),2) -> 0.46 | AF33: =ROUND(((EV33*1.15)),2) -> 180.55 | AG33: =ROUND((AP33),2) -> 0 | AH33: =((EW33*1.15)) -> 18.768 | AI33: =((EX33*1.25)) -> 0.0375 | AJ33: =ROUND((AS33),2) -> 0 | AK33: 158.98 | AL33: 0.36 | AM33: 1.62 | AN33: 0.37 | AO33: 157 | AP33: 0 | AQ33: 16.32 | AR33: 0.03 | AS33: 0 | AT33: 95 | AU33: 47 | AV33: 1 | AW33: 1 | AZ33: 6.61 | BA33: 6.61 | BB33: 6.61 | BC33: 6.61 | BH33: 0 | BI33: 1 | BJ33: ФЕР-2001, 15-04-006-04, приказ Минстроя России №1039/пр от 30.12.2016г. | BM33: 15001 | BN33: 0 | BP33: 0 | BQ33: 2 | BR33: 0 | BS33: 6.61 | BT33: 1 | BU33: 1 | BV33: 1 | BW33: 1 | BX33: 1 | BZ33: 105 | CA33: 55 | CF33: 0 | CG33: 0 | CM33: 0 | CN33: Поправка: МДС 81-35.2004, п.4.7 Наименование: Работы, выполняемые при реконструкции зданий и сооружений работы, аналогичные технологическим процессам в новом строительстве (в том числе возведение новых конструктивных элементов) стоимость которых определена по соответствующим сборникам ФЕР, кроме сборника № 46 «Работы при реконструкции зданий и сооружений» | CO33: 0 | CP33: =(P33+Q33+S33) -> 1903.83 | CQ33: =AC33*BC33 -> 2.3796 | CR33: =AD33*BB33 -> 13.3522 | CS33: =AE33*BS33 -> 3.0406 | CT33: =AF33*BA33 -> 1193.4355 | CU33: =AG33 -> 0 | CV33: =AH33 -> 18.768 | CW33: =AI33 -> 0.0375 | CX33: =AJ33 -> 0 | CY33: =(((S33+R33)*AT33)/100) -> 1789.6575 | CZ33: =(((S33+R33)*AU33)/100) -> 885.4095 | DE33: )*1,25 | DF33: )*1,25 | DG33: )*1,15 | DI33: )*1,15 | DJ33: )*1,25 | DN33: 0 | DO33: 0 | DP33: 1 | DQ33: 1 | DU33: 1005 | DV33: 100 м2 | DW33: 100 м2 | DX33: 100 | EE33: 39174529 | EF33: 2 | EG33: Общестроительные работы | EH33: 0 | EJ33: 1 | EK33: 15001 | EL33: Отделочные работы | EM33: ФЕР-15 | EO33: Поправка: МДС 81-35.2004, п.4.7 | EQ33: 0 | ER33: 158.98 | ES33: 0.36 | ET33: 1.62 | EU33: 0.37 | EV33: 157 | EW33: 16.32 | EX33: 0.03 | EY33: 0 | FQ33: 0 | FR33: =ROUND(IF(AND(BH33=3,BI33=3),P33,0),2) -> 0 | FS33: 0 | FT33: *0,9 | FU33: *0,85 | FX33: 94.5 | FY33: 46.75 | GD33: 0 | GF33: -816382651 | GG33: 1 | GH33: 1 | GI33: 4 | GJ33: 0 | GK33: =ROUND(R33*(R12)/100,2) -> 0 | GL33: =ROUND(IF(AND(BH33=3,BI33=3,FS33<>0),P33,0),2) -> 0 | GM33: =ROUND(O33+X33+Y33+GK33,2)+GX33 -> 4578.9 | GN33: =IF(OR(BI33=0,BI33=1),ROUND(O33+X33+Y33+GK33,2),0) -> 4578.9 | GO33: =IF(BI33=2,ROUND(O33+X33+Y33+GK33,2),0) -> 0 | GP33: =IF(BI33=4,ROUND(O33+X33+Y33+GK33,2)+GX33,0) -> 0 | GR33: 0 | GS33: 3 | GT33: 0 | GV33: =ROUND(GT33,2) -> 0 | GW33: 1 | GX33: =ROUND(GV33*GW33*I33,2) -> 0 | HA33: 0 | HB33: 0 | IK33: 0
A34: 18 | B34: 1 | C34: 36 | E34: 5,1 | F34: 14.3.01.02-0104 | G34: Грунтовка колерующая CERESIT CT 16 | H34: л | I34: =I33*J34 -> 31.49 | J34: 20 | O34: =ROUND(CP34,2) -> 3946.5 | P34: =ROUND(CQ34*I34,2) -> 3946.5 | Q34: =ROUND(CR34*I34,2) -> 0 | R34: =ROUND(CS34*I34,2) -> 0 | S34: =ROUND(CT34*I34,2) -> 0 | T34: =ROUND(CU34*I34,2) -> 0 | U34: =CV34*I34 -> 0 | V34: =CW34*I34 -> 0 | W34: =ROUND(CX34*I34,2) -> 0 | X34: =ROUND(CY34,2) -> 0 | Y34: =ROUND(CZ34,2) -> 0 | AA34: 39107596 | AB34: =ROUND((AC34+AD34+AF34),2) -> 18.96 | AC34: =ROUND((ES34),2) -> 18.96 | AD34: =ROUND((((ET34)-(EU34))+AE34),2) -> 0 | AE34: =ROUND((EU34),2) -> 0 | AF34: =ROUND((EV34),2) -> 0 | AG34: =ROUND((AP34),2) -> 0 | AH34: =(EW34) -> 0 | AI34: =(EX34) -> 0 | AJ34: =ROUND((AS34),2) -> 0 | AK34: 18.96 | AL34: 18.96 | AM34: 0 | AN34: 0 | AO34: 0 | AP34: 0 | AQ34: 0 | AR34: 0 | AS34: 0 | AT34: 95 | AU34: 47 | AV34: 1 | AW34: 1 | AZ34: 6.61 | BA34: 1 | BB34: 1 | BC34: 6.61 | BH34: 3 | BI34: 1 | BJ34: ФССЦ-2001, 14.3.01.02-0104, приказ Минстроя России №1039/пр от 30.12.2016г. | BM34: 15001 | BN34: 0 | BP34: 0 | BQ34: 2 | BR34: 0 | BS34: 1 | BT34: 1 | BU34: 1 | BV34: 1 | BW34: 1 | BX34: 1 | BZ34: 105 | CA34: 55 | CF34: 0 | CG34: 0 | CM34: 0 | CO34: 0 | CP34: =(P34+Q34+S34) -> 3946.5 | CQ34: =AC34*BC34 -> 125.3256 | CR34: =AD34*BB34 -> 0 | CS34: =AE34*BS34 -> 0 | CT34: =AF34*BA34 -> 0 | CU34: =AG34 -> 0 | CV34: =AH34 -> 0 | CW34: =AI34 -> 0 | CX34: =AJ34 -> 0 | CY34: =(((S34+R34)*AT34)/100) -> 0 | CZ34: =(((S34+R34)*AU34)/100) -> 0 | DN34: 0 | DO34: 0 | DP34: 1 | DQ34: 1 | DU34: 1002 | DV34: л | DW34: л | DX34: 1 | EE34: 39174529 | EF34: 2 | EG34: Общестроительные работы | EH34: 0 | EJ34: 1 | EK34: 15001 | EL34: Отделочные работы | EM34: ФЕР-15 | EQ34: 0 | ER34: 18.96 | ES34: 18.96 | ET34: 0 | EU34: 0 | EV34: 0 | EW34: 0 | EX34: 0 | FQ34: 0 | FR34: =ROUND(IF(AND(BH34=3,BI34=3),P34,0),2) -> 0 | FS34: 0 | FT34: *0,9 | FU34: *0,85 | FX34: 94.5 | FY34: 46.75 | GD34: 0 | GF34: -171317358 | GG34: 1 | GH34: 1 | GI34: 4 | GJ34: 0 | GK34: =ROUND(R34*(R12)/100,2) -> 0 | GL34: =ROUND(IF(AND(BH34=3,BI34=3,FS34<>0),P34,0),2) -> 0 | GM34: =ROUND(O34+X34+Y34+GK34,2)+GX34 -> 3946.5 | GN34: =IF(OR(BI34=0,BI34=1),ROUND(O34+X34+Y34+GK34,2),0) -> 3946.5 | GO34: =IF(BI34=2,ROUND(O34+X34+Y34+GK34,2),0) -> 0 | GP34: =IF(BI34=4,ROUND(O34+X34+Y34+GK34,2)+GX34,0) -> 0 | GR34: 0 | GS34: 3 | GT34: 0 | GV34: =ROUND(GT34,2) -> 0 | GW34: 1 | GX34: =ROUND(GV34*GW34*I34,2) -> 0 | HA34: 0 | HB34: 0 | IK34: 0
A35: 18 | B35: 1 | C35: 37 | E35: 5,2 | F35: 14.4.01.21 | G35: Грунтовка | H35: т | I35: =I33*J35 -> 0.03149 | J35: 0.02 | O35: =ROUND(CP35,2) -> 0 | P35: =ROUND(CQ35*I35,2) -> 0 | Q35: =ROUND(CR35*I35,2) -> 0 | R35: =ROUND(CS35*I35,2) -> 0 | S35: =ROUND(CT35*I35,2) -> 0 | T35: =ROUND(CU35*I35,2) -> 0 | U35: =CV35*I35 -> 0 | V35: =CW35*I35 -> 0 | W35: =ROUND(CX35*I35,2) -> 0 | X35: =ROUND(CY35,2) -> 0 | Y35: =ROUND(CZ35,2) -> 0 | AA35: 39107596 | AB35: =ROUND((AC35+AD35+AF35),2) -> 0 | AC35: =ROUND((ES35),2) -> 0 | AD35: =ROUND((((ET35)-(EU35))+AE35),2) -> 0 | AE35: =ROUND((EU35),2) -> 0 | AF35: =ROUND((EV35),2) -> 0 | AG35: =ROUND((AP35),2) -> 0 | AH35: =(EW35) -> 0 | AI35: =(EX35) -> 0 | AJ35: =ROUND((AS35),2) -> 0 | AK35: 0 | AL35: 0 | AM35: 0 | AN35: 0 | AO35: 0 | AP35: 0 | AQ35: 0 | AR35: 0 | AS35: 0 | AT35: 95 | AU35: 47 | AV35: 1 | AW35: 1 | AZ35: 6.61 | BA35: 1 | BB35: 1 | BC35: 6.61 | BH35: 3 | BI35: 1 | BM35: 15001 | BN35: 0 | BP35: 0 | BQ35: 2 | BR35: 0 | BS35: 1 | BT35: 1 | BU35: 1 | BV35: 1 | BW35: 1 | BX35: 1 | BZ35: 105 | CA35: 55 | CF35: 0 | CG35: 0 | CM35: 0 | CO35: 0 | CP35: =(P35+Q35+S35) -> 0 | CQ35: =AC35*BC35 -> 0 | CR35: =AD35*BB35 -> 0 | CS35: =AE35*BS35 -> 0 | CT35: =AF35*BA35 -> 0 | CU35: =AG35 -> 0 | CV35: =AH35 -> 0 | CW35: =AI35 -> 0 | CX35: =AJ35 -> 0 | CY35: =(((S35+R35)*AT35)/100) -> 0 | CZ35: =(((S35+R35)*AU35)/100) -> 0 | DN35: 0 | DO35: 0 | DP35: 1 | DQ35: 1 | DU35: 1009 | DV35: т | DW35: т | DX35: 1000 | EE35: 39174529 | EF35: 2 | EG35: Общестроительные работы | EH35: 0 | EJ35: 1 | EK35: 15001 | EL35: Отделочные работы | EM35: ФЕР-15 | EQ35: 0 | ER35: 0 | ES35: 0 | ET35: 0 | EU35: 0 | EV35: 0 | EW35: 0 | EX35: 0 | FQ35: 0 | FR35: =ROUND(IF(AND(BH35=3,BI35=3),P35,0),2) -> 0 | FS35: 0 | FT35: *0,9 | FU35: *0,85 | FX35: 94.5 | FY35: 46.75 | GA35: занесена вручную | GD35: 0 | GF35: -1212923053 | GG35: 1 | GH35: 1 | GI35: 4 | GJ35: 0 | GK35: =ROUND(R35*(R12)/100,2) -> 0 | GL35: =ROUND(IF(AND(BH35=3,BI35=3,FS35<>0),P35,0),2) -> 0 | GM35: =ROUND(O35+X35+Y35+GK35,2)+GX35 -> 0 | GN35: =IF(OR(BI35=0,BI35=1),ROUND(O35+X35+Y35+GK35,2),0) -> 0 | GO35: =IF(BI35=2,ROUND(O35+X35+Y35+GK35,2),0) -> 0 | GP35: =IF(BI35=4,ROUND(O35+X35+Y35+GK35,2)+GX35,0) -> 0 | GR35: 0 | GS35: 4 | GT35: 0 | GV35: =ROUND(GT35,2) -> 0 | GW35: 1 | GX35: =ROUND(GV35*GW35*I35,2) -> 0 | HA35: 0 | HB35: 0 | IK35: 0
A36: 17 | B36: 1 | C36: =ROW(SmtRes!A44) -> 44 | D36: =ROW(EtalonRes!A43) -> 43 | E36: 6 | F36: 15-01-050-04 | G36: Облицовка оконных и дверных откосов декоративным бумажно-слоистым пластиком или листами из синтетических материалов | H36: 100 м2 | I36: =ROUND(157.45/100,9) -> 1.5745 | J36: 0 | O36: =ROUND(CP36,2) -> 18754.01 | P36: =ROUND(CQ36*I36,2) -> 3.75 | Q36: =ROUND(CR36*I36,2) -> 460.01 | R36: =ROUND(CS36*I36,2) -> 89.5 | S36: =ROUND(CT36*I36,2) -> 18290.25 | T36: =ROUND(CU36*I36,2) -> 0 | U36: =CV36*I36 -> 301.42307 | V36: =CW36*I36 -> 1.1415125 | W36: =ROUND(CX36*I36,2) -> 0 | X36: =ROUND(CY36,2) -> 17460.76 | Y36: =ROUND(CZ36,2) -> 8638.48 | AA36: 39107596 | AB36: =ROUND((AC36+AD36+AF36),2) -> 1801.98 | AC36: =ROUND((ES36),2) -> 0.36 | AD36: =ROUND(((((ET36*1.25))-((EU36*1.25)))+AE36),2) -> 44.2 | AE36: =ROUND(((EU36*1.25)),2) -> 8.6 | AF36: =ROUND(((EV36*1.15)),2) -> 1757.42 | AG36: =ROUND((AP36),2) -> 0 | AH36: =((EW36*1.15)) -> 191.4405 | AI36: =((EX36*1.25)) -> 0.725 | AJ36: =ROUND((AS36),2) -> 0 | AK36: 1563.91 | AL36: 0.36 | AM36: 35.36 | AN36: 6.88 | AO36: 1528.19 | AP36: 0 | AQ36: 166.47 | AR36: 0.58 | AS36: 0 | AT36: 95 | AU36: 47 | AV36: 1 | AW36: 1 | AZ36: 6.61 | BA36: 6.61 | BB36: 6.61 | BC36: 6.61 | BH36: 0 | BI36: 1 | BJ36: ФЕР-2001, 15-01-050-04, приказ Минстроя России №1039/пр от 30.12.2016г. | BM36: 15001 | BN36: 0 | BP36: 0 | BQ36: 2 | BR36: 0 | BS36: 6.61 | BT36: 1 | BU36: 1 | BV36: 1 | BW36: 1 | BX36: 1 | BZ36: 105 | CA36: 55 | CF36: 0 | CG36: 0 | CM36: 0 | CN36: Поправка: МДС 81-35.2004, п.4.7 Наименование: Работы, выполняемые при реконструкции зданий и сооружений работы, аналогичные технологическим процессам в новом строительстве (в том числе возведение новых конструктивных элементов) стоимость которых определена по соответствующим сборникам ФЕР, кроме сборника № 46 «Работы при реконструкции зданий и сооружений» | CO36: 0 | CP36: =(P36+Q36+S36) -> 18754.01 | CQ36: =AC36*BC36 -> 2.3796 | CR36: =AD36*BB36 -> 292.162 | CS36: =AE36*BS36 -> 56.846 | CT36: =AF36*BA36 -> 11616.546 | CU36: =AG36 -> 0 | CV36: =AH36 -> 191.4405 | CW36: =AI36 -> 0.725 | CX36: =AJ36 -> 0 | CY36: =(((S36+R36)*AT36)/100) -> 17460.763 | CZ36: =(((S36+R36)*AU36)/100) -> 8638.4825 | DE36: )*1,25 | DF36: )*1,25 | DG36: )*1,15 | DI36: )*1,15 | DJ36: )*1,25 | DN36: 0 | DO36: 0 | DP36: 1 | DQ36: 1 | DU36: 1005 | DV36: 100 м2 | DW36: 100 м2 | DX36: 100 | EE36: 39174529 | EF36: 2 | EG36: Общестроительные работы | EH36: 0 | EJ36: 1 | EK36: 15001 | EL36: Отделочные работы | EM36: ФЕР-15 | EO36: Поправка: МДС 81-35.2004, п.4.7 | EQ36: 0 | ER36: 1563.91 | ES36: 0.36 | ET36: 35.36 | EU36: 6.88 | EV36: 1528.19 | EW36: 166.47 | EX36: 0.58 | EY36: 0 | FQ36: 0 | FR36: =ROUND(IF(AND(BH36=3,BI36=3),P36,0),2) -> 0 | FS36: 0 | FT36: *0,9 | FU36: *0,85 | FX36: 94.5 | FY36: 46.75 | GD36: 0 | GF36: 802970418 | GG36: 1 | GH36: 1 | GI36: 4 | GJ36: 0 | GK36: =ROUND(R36*(R12)/100,2) -> 0 | GL36: =ROUND(IF(AND(BH36=3,BI36=3,FS36<>0),P36,0),2) -> 0 | GM36: =ROUND(O36+X36+Y36+GK36,2)+GX36 -> 44853.25 | GN36: =IF(OR(BI36=0,BI36=1),ROUND(O36+X36+Y36+GK36,2),0) -> 44853.25 | GO36: =IF(BI36=2,ROUND(O36+X36+Y36+GK36,2),0) -> 0 | GP36: =IF(BI36=4,ROUND(O36+X36+Y36+GK36,2)+GX36,0) -> 0 | GR36: 0 | GS36: 3 | GT36: 0 | GV36: =ROUND(GT36,2) -> 0 | GW36: 1 | GX36: =ROUND(GV36*GW36*I36,2) -> 0 | HA36: 0 | HB36: 0 | IK36: 0
A37: 18 | B37: 1 | C37: 44 | E37: 6,1 | F37: Средняя коммерческая цена | G37: Сандвич панели толщиной 10мм | H37: м2 | I37: =I36*J37 -> 165.3225 | J37: 105 | O37: =ROUND(CP37,2) -> 96536.34 | P37: =ROUND(CQ37*I37,2) -> 96536.34 | Q37: =ROUND(CR37*I37,2) -> 0 | R37: =ROUND(CS37*I37,2) -> 0 | S37: =ROUND(CT37*I37,2) -> 0 | T37: =ROUND(CU37*I37,2) -> 0 | U37: =CV37*I37 -> 0 | V37: =CW37*I37 -> 0 | W37: =ROUND(CX37*I37,2) -> 0 | X37: =ROUND(CY37,2) -> 0 | Y37: =ROUND(CZ37,2) -> 0 | AA37: 39107596 | AB37: =ROUND((AC37+AD37+AF37),2) -> 88.34 | AC37: =ROUND((ES37),2) -> 88.34 | AD37: =ROUND((((ET37)-(EU37))+AE37),2) -> 0 | AE37: =ROUND((EU37),2) -> 0 | AF37: =ROUND((EV37),2) -> 0 | AG37: =ROUND((AP37),2) -> 0 | AH37: =(EW37) -> 0 | AI37: =(EX37) -> 0 | AJ37: =ROUND((AS37),2) -> 0 | AK37: 88.34 | AL37: 88.34 | AM37: 0 | AN37: 0 | AO37: 0 | AP37: 0 | AQ37: 0 | AR37: 0 | AS37: 0 | AT37: 95 | AU37: 47 | AV37: 1 | AW37: 1 | AZ37: 6.61 | BA37: 1 | BB37: 1 | BC37: 6.61 | BH37: 3 | BI37: 1 | BM37: 15001 | BN37: 0 | BP37: 0 | BQ37: 2 | BR37: 0 | BS37: 1 | BT37: 1 | BU37: 1 | BV37: 1 | BW37: 1 | BX37: 1 | BZ37: 105 | CA37: 55 | CF37: 0 | CG37: 0 | CM37: 0 | CO37: 0 | CP37: =(P37+Q37+S37) -> 96536.34 | CQ37: =AC37*BC37 -> 583.9274 | CR37: =AD37*BB37 -> 0 | CS37: =AE37*BS37 -> 0 | CT37: =AF37*BA37 -> 0 | CU37: =AG37 -> 0 | CV37: =AH37 -> 0 | CW37: =AI37 -> 0 | CX37: =AJ37 -> 0 | CY37: =(((S37+R37)*AT37)/100) -> 0 | CZ37: =(((S37+R37)*AU37)/100) -> 0 | DN37: 0 | DO37: 0 | DP37: 1 | DQ37: 1 | DU37: 1005 | DV37: м2 | DW37: м2 | DX37: 1 | EE37: 39174529 | EF37: 2 | EG37: Общестроительные работы | EH37: 0 | EJ37: 1 | EK37: 15001 | EL37: Отделочные работы | EM37: ФЕР-15 | EQ37: 0 | ER37: 88.34 | ES37: 88.34 | ET37: 0 | EU37: 0 | EV37: 0 | EW37: 0 | EX37: 0 | EZ37: 5 | FC37: 1 | FD37: 18 | FF37: 689 | FQ37: 0 | FR37: =ROUND(IF(AND(BH37=3,BI37=3),P37,0),2) -> 0 | FS37: 0 | FT37: *0,9 | FU37: *0,85 | FX37: 94.5 | FY37: 46.75 | GA37: [689 / 1,18 / 6,61] | GD37: 0 | GF37: 776745865 | GG37: 1 | GH37: 3 | GI37: 4 | GJ37: 0 | GK37: =ROUND(R37*(R12)/100,2) -> 0 | GL37: =ROUND(IF(AND(BH37=3,BI37=3,FS37<>0),P37,0),2) -> 0 | GM37: =ROUND(O37+X37+Y37+GK37,2)+GX37 -> 96536.34 | GN37: =IF(OR(BI37=0,BI37=1),ROUND(O37+X37+Y37+GK37,2),0) -> 96536.34 | GO37: =IF(BI37=2,ROUND(O37+X37+Y37+GK37,2),0) -> 0 | GP37: =IF(BI37=4,ROUND(O37+X37+Y37+GK37,2)+GX37,0) -> 0 | GR37: 1 | GS37: 1 | GT37: 0 | GV37: =ROUND(GT37,2) -> 0 | GW37: 1 | GX37: =ROUND(GV37*GW37*I37,2) -> 0 | HA37: 0 | HB37: 0 | IK37: 0
A38: 18 | B38: 1 | C38: 42 | E38: 6,2 | F38: 01.6.01.11 | G38: Листы облицовочные декоративные | H38: м2 | I38: =I36*J38 -> 165.3225 | J38: 105 | O38: =ROUND(CP38,2) -> 0 | P38: =ROUND(CQ38*I38,2) -> 0 | Q38: =ROUND(CR38*I38,2) -> 0 | R38: =ROUND(CS38*I38,2) -> 0 | S38: =ROUND(CT38*I38,2) -> 0 | T38: =ROUND(CU38*I38,2) -> 0 | U38: =CV38*I38 -> 0 | V38: =CW38*I38 -> 0 | W38: =ROUND(CX38*I38,2) -> 0 | X38: =ROUND(CY38,2) -> 0 | Y38: =ROUND(CZ38,2) -> 0 | AA38: 39107596 | AB38: =ROUND((AC38+AD38+AF38),2) -> 0 | AC38: =ROUND((ES38),2) -> 0 | AD38: =ROUND((((ET38)-(EU38))+AE38),2) -> 0 | AE38: =ROUND((EU38),2) -> 0 | AF38: =ROUND((EV38),2) -> 0 | AG38: =ROUND((AP38),2) -> 0 | AH38: =(EW38) -> 0 | AI38: =(EX38) -> 0 | AJ38: =ROUND((AS38),2) -> 0 | AK38: 0 | AL38: 0 | AM38: 0 | AN38: 0 | AO38: 0 | AP38: 0 | AQ38: 0 | AR38: 0 | AS38: 0 | AT38: 95 | AU38: 47 | AV38: 1 | AW38: 1 | AZ38: 6.61 | BA38: 1 | BB38: 1 | BC38: 6.61 | BH38: 3 | BI38: 1 | BM38: 15001 | BN38: 0 | BP38: 0 | BQ38: 2 | BR38: 0 | BS38: 1 | BT38: 1 | BU38: 1 | BV38: 1 | BW38: 1 | BX38: 1 | BZ38: 105 | CA38: 55 | CF38: 0 | CG38: 0 | CM38: 0 | CO38: 0 | CP38: =(P38+Q38+S38) -> 0 | CQ38: =AC38*BC38 -> 0 | CR38: =AD38*BB38 -> 0 | CS38: =AE38*BS38 -> 0 | CT38: =AF38*BA38 -> 0 | CU38: =AG38 -> 0 | CV38: =AH38 -> 0 | CW38: =AI38 -> 0 | CX38: =AJ38 -> 0 | CY38: =(((S38+R38)*AT38)/100) -> 0 | CZ38: =(((S38+R38)*AU38)/100) -> 0 | DN38: 0 | DO38: 0 | DP38: 1 | DQ38: 1 | DU38: 1005 | DV38: м2 | DW38: м2 | DX38: 1 | EE38: 39174529 | EF38: 2 | EG38: Общестроительные работы | EH38: 0 | EJ38: 1 | EK38: 15001 | EL38: Отделочные работы | EM38: ФЕР-15 | EQ38: 0 | ER38: 0 | ES38: 0 | ET38: 0 | EU38: 0 | EV38: 0 | EW38: 0 | EX38: 0 | FQ38: 0 | FR38: =ROUND(IF(AND(BH38=3,BI38=3),P38,0),2) -> 0 | FS38: 0 | FT38: *0,9 | FU38: *0,85 | FX38: 94.5 | FY38: 46.75 | GA38: занесена вручную | GD38: 0 | GF38: -112006704 | GG38: 1 | GH38: 1 | GI38: 4 | GJ38: 0 | GK38: =ROUND(R38*(R12)/100,2) -> 0 | GL38: =ROUND(IF(AND(BH38=3,BI38=3,FS38<>0),P38,0),2) -> 0 | GM38: =ROUND(O38+X38+Y38+GK38,2)+GX38 -> 0 | GN38: =IF(OR(BI38=0,BI38=1),ROUND(O38+X38+Y38+GK38,2),0) -> 0 | GO38: =IF(BI38=2,ROUND(O38+X38+Y38+GK38,2),0) -> 0 | GP38: =IF(BI38=4,ROUND(O38+X38+Y38+GK38,2)+GX38,0) -> 0 | GR38: 0 | GS38: 4 | GT38: 0 | GV38: =ROUND(GT38,2) -> 0 | GW38: 1 | GX38: =ROUND(GV38*GW38*I38,2) -> 0 | HA38: 0 | HB38: 0 | IK38: 0
