Workbook
Name Constr: '24802'!#REF!
Name Constr: '24818'!#REF!
Name Constr: '24820'!$A$1
Name Constr: '24831'!$A$7
Name Constr: '24841'!$A$7
Name FOT: '24802'!$D$14
Name FOT: '24818'!$D$12
Name FOT: '24820'!$D$15
Name FOT: '24831'!$D$14
Name FOT: '24841'!$D$14
Name Ind: '24802'!#REF!
Name Ind: '24818'!#REF!
Name Ind: '24820'!#REF!
Name Ind: '24831'!$H$9
Name Ind: '24841'!$H$9
Name Obj: '24802'!$E$7
Name Obj: '24818'!$E$7
Name Obj: '24820'!$D$7
Name Obj: '24831'!$E$12
Name Obj: '24841'!#REF!
Name Obosn: '24802'!$D$10
Name Obosn: '24818'!$D$10
Name Obosn: '24820'!$D$10
Name Obosn: '24831'!#REF!
Name Obosn: '24841'!$D$12
Name SmPr: '24802'!$D$11
Name SmPr: '24818'!$D$11
Name SmPr: '24820'!$D$11
Name SmPr: '24831'!$D$13
Name SmPr: '24841'!$D$13
Name аааааппппппрррппппппп: #REF!
Name аааааппппппрррппппппп: #REF!
Name аараооооооооооооо: #REF!
Name аараооооооооооооо: #REF!
Name автом: #REF!
Name автом: #REF!
Name алшрльоплварл: #REF!
Name алшрльоплварл: #REF!
Name аолвлддддддддддддддддввввввввв: #REF!
Name аолвлддддддддддддддддввввввввв: #REF!
Name апарв: #REF!
Name апарв: #REF!
Name апрлдджаоырыфрпопрлпрлпрлп: #REF!
Name апрлдджаоырыфрпопрлпрлпрлп: #REF!
Name арлггаджаш: #REF!
Name арлггаджаш: #REF!
Name ароррбллтблпроорапииас: #REF!
Name ароррбллтблпроорапииас: #REF!
Name арррррблллпдрлдддддддддд: #REF!
Name арррррблллпдрлдддддддддд: #REF!
Name варпаааааааааа: #REF!
Name варпаааааааааа: #REF!
Name ввпьььььлднд: #REF!
Name ввпьььььлднд: #REF!
Name вед: #REF!
Name вед: #REF!
Name вертикальная: #REF!
Name вертикальная: #REF!
Name вертикплан: #REF!
Name вертикплан: #REF!

Sheet 24802
A1: СОГЛАСОВАНО: | E1: ФГУП "Комбинат "Электрохимприбор" | M1: УТВЕРЖДАЮ:
G2: (наименование стройки) | M2: Зам. генерального директора
A3: _____________________________ | M3: Е.В.Гордеев
A4: " _____ " ________________ 2013г. | G4: ЛОКАЛЬНЫЙ СМЕТНЫЙ РАСЧЕТ № 24802
G5: (локальная смета) | M5: "______ " __________2013 г.
C7: на | D7: Теплосеть. Поселок Горный. Насосно-фильтровальная станция.Отстойник-осветлитель промывных вод
H8: (наименование работ и затрат, наименование объекта)
D10: Основание: Проект № 24555-13-ТС
D11: Сметная стоимость _______________________________________________________________________________________________ | J11: ___________________________113,355 | L11: тыс. руб.
D12: строительных работ _______________________________________________________________________________________________ | J12: _______________________________________________________________________________________________106,612 | L12: тыс. руб.
D13: монтажных работ _______________________________________________________________________________________________ | J13: _______________________________________________________________________________________________6,743 | L13: тыс. руб.
D14: Средства на оплату труда _______________________________________________________________________________________________ | J14: ___________________________10,519 | L14: тыс. руб.
D15: Сметная трудоемкость _______________________________________________________________________________________________ | J15: _______________________________________________________________________________________________723,04 | L15: чел.час
D16: Материалы ___________________________________________________________ | J16: =J120/1000 -> 77.579 | L16: тыс.руб.
D17: Составлен(а) в базовых ценах 2001г. в редакции 2009г.
A19: № пп | B19: Обоснование | C19: Наименование | D19: Ед. изм. | E19: Кол. | F19: Стоимость единицы, руб. | J19: Общая стоимость, руб. | N19: Т/з осн. раб.на ед. | O19: Т/з осн. раб. Всего | P19: Т/з мех. на ед. | Q19: Т/з мех. Всего
F20: Всего | G20: В том числе | J20: Всего | K20: В том числе
G21: Осн.З/п | H21: Эк.Маш | I21: З/пМех | K21: Осн.З/п | L21: Эк.Маш | M21: З/пМех
A22: 1 | B22: 2 | C22: 3 | D22: 4 | E22: 5 | F22: 6 | G22: 7 | H22: 8 | I22: 9 | J22: 10 | K22: 11 | L22: 12 | M22: 13 | N22: 14 | O22: 15 | P22: 16 | Q22: 17
A23: Раздел 1. Разборка.
A24: 1 | B24: ТЕР24-01-004-02 прим. | C24: Разборка трубопроводов диаметр труб до 70 мм по существующим опорам. КОЭФ. К ПОЗИЦИИ: Разборка ОЗП=0,6; МАТ=0 | D24: 1 км | E24: 0.042 | F24: 10562.84 | G24: 3739.97 | H24: 6822.87 | I24: 735.07 | J24: 444 | K24: 157 | L24: 287 | M24: 31 | N24: 271.8 | O24: 11.42 | P24: 44.02 | Q24: 1.85
A25: 2 | B25: ТЕР24-01-004-01 прим. | C25: Разборка трубопроводов диаметр труб 50 мм по существующим опорам. КОЭФ. К ПОЗИЦИИ: Разборка. ОЗП=0,6; МАТ=0 | D25: 1 км | E25: 0.042 | F25: 10303.52 | G25: 3566.59 | H25: 6736.93 | I25: 722.84 | J25: 433 | K25: 150 | L25: 283 | M25: 30 | N25: 259.2 | O25: 10.89 | P25: 43.03 | Q25: 1.81
A26: 3 | B26: ТЕР09-03-039-01 прим. | C26: Разборка опорных конструкций массой: до 0,1 т КОЭФ. К ПОЗИЦИИ: 5.Прил.9.3 Разборка (демонтаж) металлических конструкций ОЗП=0,7; МАТ=0 | D26: 1 т | E26: 0.257 | F26: 988.25 | G26: 717.65 | H26: 270.6 | I26: 1.4 | J26: 254 | K26: 184 | L26: 70 | N26: 56.15 | O26: 14.43 | P26: 0.08 | Q26: 0.02
A27: Раздел 2. Теплосеть.
A28: 4 | B28: ТЕР16-02-005-01 | C28: Прокладка трубопроводов отопления и водоснабжения из стальных электросварных труб диаметром до 40 мм | D28: 100 м | E28: 0.08 | F28: 1042.84 | G28: 837.02 | H28: 157.48 | I28: 3.46 | J28: 83 | K28: 67 | L28: 13 | N28: 60.83 | O28: 4.87 | P28: 0.19 | Q28: 0.02
A29: Уд | B29: 1. 302-1331 | C29: Трубопроводы из стальных электросварных труб с гильзами для отопления и водоснабжения, наружный диаметр 45 мм, толщина стенки 3,5 мм | D29: м | E29: 100 8 | F29: 49.71 | J29: 397.68
A30: 5 | B30: ТСЦ-103-0129 прим. | C30: Трубы стальные электросварные прямошовные со снятой фаской из стали марок БСт2кп-БСт4кп и БСт2пс-БСт4пс наружный диаметр 18 мм, толщина стенки 2 мм | D30: м | E30: 7 | F30: 10.16 | J30: 71
A31: 6 | B31: ТСЦ-103-0130 | C31: Трубы стальные электросварные прямошовные со снятой фаской из стали марок БСт2кп-БСт4кп и БСт2пс-БСт4пс наружный диаметр 32 мм, толщина стенки 2,2 мм | D31: м | E31: 1 | F31: 15.83 | J31: 16
A32: 7 | B32: ТЕР24-01-004-01 | C32: Надземная прокладка трубопроводов при условном давлении 1,6 МПа, температуре 150°С, диаметр труб 50 мм (конденсатопровод) | D32: 1 км | E32: 0.075 | F32: 17726.99 | G32: 5944.32 | H32: 11228.22 | I32: 1204.73 | J32: 1330 | K32: 446 | L32: 842 | M32: 90 | N32: 432 | O32: 32.4 | P32: 71.71 | Q32: 5.38
A33: Уд | B33: 1. 103-0357 | C33: Трубы стальные бесшовные, горячедеформированные со снятой фаской из стали марок 15, 20, 25, наружным диаметром 57 мм, толщина стенки 3,5 мм | D33: м | E33: 1010 75,75 | F33: 46.39 | J33: 3514.04
A34: Уд | B34: 2. 201-0888 | C34: Опоры скользящие и катковые, крепежные детали, хомуты | D34: т | E34: 0,29 0,02175 | F34: 12993 | J34: 282.6
A35: Уд | B35: 3. 201-0889 | C35: Опоры неподвижные из горячекатаных профилей для трубопроводов | D35: т | E35: 0,06 0,0045 | F35: 9785 | J35: 44.03
A36: 8 | B36: ТСЦ-103-0138 | C36: Трубы стальные электросварные прямошовные со снятой фаской из стали марок БСт2кп-БСт4кп и БСт2пс-БСт4пс наружный диаметр 57 мм, толщина стенки 3 мм | D36: м | E36: 75 | F36: 36.78 | J36: 2759
A37: 9 | B37: ТЕР24-01-007-01 прим. | C37: Надземная прокладка трубопроводов при условном давлении до 2,5 МПа, температуре до 300°С, диаметр труб до 300 мм (паропровод) | D37: 1 км | E37: 0.075 | F37: 44597.15 | G37: 12678.71 | H37: 27021.25 | I37: 2967.19 | J37: 3345 | K37: 951 | L37: 2027 | M37: 223 | N37: 869 | O37: 65.18 | P37: 177.04 | Q37: 13.28
A38: Уд | B38: 1. 103-0485 | C38: Трубы стальные бесшовные, горячедеформированные со снятой фаской из стали марок 15, 20, 25, наружным диаметром 325 мм, толщина стенки 8 мм | D38: м | E38: 1000 75 | F38: 623.68 | J38: 46776
A39: Уд | B39: 2. 201-0888 | C39: Опоры скользящие и катковые, крепежные детали, хомуты | D39: т | E39: 3,54 0,2655 | F39: 12993 | J39: 3449.64
A40: Уд | B40: 3. 201-0889 | C40: Опоры неподвижные из горячекатаных профилей для трубопроводов | D40: т | E40: 0,14 0,0105 | F40: 9785 | J40: 102.74
A41: 10 | B41: ТСЦ-103-0372 | C41: Трубы стальные бесшовные, горячедеформированные со снятой фаской из стали марок 15, 20, 25, наружным диаметром 76 мм, толщина стенки 3 мм | D41: м | E41: 75 | F41: 54.02 | J41: 4052
A42: 11 | B42: ТСЦ-201-0888 | C42: Опоры скользящие и катковые, крепежные детали, хомуты | D42: т | E42: 0.055 | F42: 12993 | J42: 715
A43: 12 | B43: ТСЦ-201-0889 | C43: Опоры неподвижные из горячекатаных профилей для трубопроводов | D43: т | E43: 0.007 | F43: 9785 | J43: 68
...

Sheet 24818
A1: СОГЛАСОВАНО: | E1: ФГУП "Комбинат "Электрохимприбор" | M1: УТВЕРЖДАЮ:
G2: (наименование стройки) | M2: Зам. генерального директора
A3: _____________________________ | M3: Е.В.Гордеев
A4: " _____ " ________________ 2013г. | G4: ЛОКАЛЬНЫЙ СМЕТНЫЙ РАСЧЕТ № 24818
G5: (локальная смета) | M5: "______ " __________2013 г.
C7: на | D7: Реконструкцию наружной канализации. Поселок Горный Насосно-фильтровальная станция.
H8: (наименование работ и затрат, наименование объекта)
D10: Основание: Проект № 24540-13-НК
D11: Сметная стоимость строительных работ _______________________________________________________________________________________________ | J11: ___________________________59,432 | L11: тыс. руб.
D12: Средства на оплату труда _______________________________________________________________________________________________ | J12: ___________________________2,985 | L12: тыс. руб.
D13: Сметная трудоемкость _______________________________________________________________________________________________ | J13: _______________________________________________________________________________________________201,67 | L13: чел.час
D14: Материалы ___________________________________________________________ | J14: =J82/1000 -> 47.745 | L14: тыс.руб.
D15: Составлен(а) в базовых ценах 2001г. в редакции 2009г.
A17: № пп | B17: Обоснование | C17: Наименование | D17: Ед. изм. | E17: Кол. | F17: Стоимость единицы, руб. | J17: Общая стоимость, руб. | N17: Т/з осн. раб.на ед. | O17: Т/з осн. раб. Всего | P17: Т/з мех. на ед. | Q17: Т/з мех. Всего
F18: Всего | G18: В том числе | J18: Всего | K18: В том числе
G19: Осн.З/п | H19: Эк.Маш | I19: З/пМех | K19: Осн.З/п | L19: Эк.Маш | M19: З/пМех
A20: 1 | B20: 2 | C20: 3 | D20: 4 | E20: 5 | F20: 6 | G20: 7 | H20: 8 | I20: 9 | J20: 10 | K20: 11 | L20: 12 | M20: 13 | N20: 14 | O20: 15 | P20: 16 | Q20: 17
A21: Раздел 1. Земляные работы.
A22: 1 | B22: ТЕР01-01-003-08 | C22: Разработка грунта в отвал экскаваторами «драглайн» или «обратная лопата» с ковшом вместимостью 0,65 (0,5-1) м3, группа грунтов 2 | D22: 1000 м3 | E22: 0.154 | F22: 3778.42 | G22: 115.18 | H22: 3663.24 | I22: 385.27 | J22: 582 | K22: 18 | L22: 564 | M22: 59 | N22: 10.48 | O22: 1.61 | P22: 22.77 | Q22: 3.51
A23: 2 | B23: ТЕР01-02-055-08 | C23: Разработка грунта вручную с креплениями в траншеях шириной до 2 м, глубиной до 3 м, группа грунтов 2 | D23: 100 м3 | E23: 0.05 | F23: 3117.84 | G23: 3117.84 | J23: 156 | K23: 156 | N23: 264 | O23: 13.2
A24: 3 | B24: ТЕР01-01-013-08 | C24: Разработка грунта с погрузкой на автомобили-самосвалы экскаваторами с ковшом вместимостью 0,65 (0,5-1) м3, группа грунтов 2 | D24: 1000 м3 | E24: 0.028 | F24: 5028.78 | G24: 125.4 | H24: 4898.28 | I24: 559.88 | J24: 141 | K24: 4 | L24: 137 | M24: 16 | N24: 11.41 | O24: 0.32 | P24: 33.09 | Q24: 0.93
A25: 4 | B25: СЦП3-3-5-1 | C25: Перевозка грузов автомобилями-самосвалами (работающими вне карьеров): расстояние 5 км, класс груза I (лишний грунт) КОЭФ. К ПОЗИЦИИ: п.17.Доп1 При перевозке грузов к провозной плате (тарифам) применять поправочный коэффициент ПЗ=1,37 | D25: т | E25: 56 | F25: 10.58 | H25: 10.58 | J25: 592 | L25: 592
A26: 5 | B26: ТЕР01-01-033-02 | C26: Засыпка траншей и котлованов с перемещением грунта до 5 м бульдозерами мощностью 59 кВт (80 л.с.), группа грунтов 2 | D26: 1000 м3 | E26: 0.127 | F26: 822.69 | H26: 822.69 | I26: 138.55 | J26: 104 | L26: 104 | M26: 18 | P26: 8.87 | Q26: 1.13
A27: 6 | B27: ТЕР01-02-061-02 | C27: Засыпка вручную траншей, пазух котлованов и ям, группа грунтов 2 | D27: 100 м3 | E27: 0.039 | F27: 1027.4 | G27: 1027.4 | J27: 40 | K27: 40 | N27: 97.2 | O27: 3.79
A28: Раздел 2. Наружная канализация.
A29: Устройство прямоугольных канализационных колодцев
A30: 7 | B30: ТЕР23-03-006-04 | C30: Устройство прямоугольных бетонных монолитных канализационных колодцев площадью более 3м2 в сухих грунтах | D30: 10 м3 | E30: 1.32 | F30: 8597.5 | G30: 773.64 | H30: 772.42 | I30: 126.93 | J30: 11349 | K30: 1021 | L30: 1020 | M30: 168 | N30: 61.99 | O30: 81.83 | P30: 8.53 | Q30: 11.26
A31: Уд | B31: 1. 403-3110 | C31: Плиты железобетонные покрытий и перекрытий ребристые | D31: м3 | E31: 0,73 0,9636 | F31: 2570.7 | J31: 2477.13
A32: 8 | B32: ТСЦ-403-3120 | C32: Плиты железобетонные покрытий, перекрытий и днищ | D32: м3 | E32: 7.3 | F32: 2580.06 | J32: 18834
A33: 9 | B33: ТСЦ-101-2535 | C33: Люки чугунные легкий | D33: шт. | E33: 1 | F33: 511.7 | J33: 512
A34: 10 | B34: ТСЦ-101-2536 | C34: Люки чугунные тяжелый | D34: шт. | E34: 1 | F34: 611.67 | J34: 612
A35: 11 | B35: ТСЦ-201-0650 прим. | C35: Стремянка С-2, Стремянка С-6 | D35: т | E35: 0.05 | F35: 13627.82 | J35: 681
A36: Колодец КК-1
A37: 12 | B37: ТЕР16-02-005-12 | C37: Прокладка трубопроводов отопления и водоснабжения из стальных электросварных труб диаметром 400 мм (с учетом фасонных частей) | D37: 100 м | E37: 0.03 | F37: 14262.76 | G37: 4328.33 | H37: 1827.7 | I37: 50.23 | J37: 428 | K37: 130 | L37: 55 | M37: 2 | N37: 323.01 | O37: 9.69 | P37: 2.76 | Q37: 0.08
A38: Уд | B38: 1. 103-0218 | C38: Трубы стальные электросварные прямошовные и спирально-шовные группы А и Б с сопротивлением по разрыву 38 кгс/мм2, наружный диаметр 426 мм, толщина стенки 7 мм | D38: м | E38: 95 2,85 | F38: 906.78 | J38: 2584.32
A39: 13 | B39: ТСЦ-103-0223 | C39: Трубы стальные электросварные прямошовные диаметр 426 мм, толщина стенки 12 мм (патрубок с учетом фасонных частей) | D39: м | E39: 3 | F39: 1186.79 | J39: 3560
A40: 14 | B40: ТЕР16-02-007-11 | C40: Установка фланцевых соединений на стальных трубопроводах диаметром 400 мм | D40: 1 соединение | E40: 5 | F40: 1154.33 | G40: 89.13 | H40: 36.45 | I40: 0.18 | J40: 5772 | K40: 446 | L40: 182 | M40: 1 | N40: 6.38 | O40: 31.9 | P40: 0.01 | Q40: 0.05
A41: 15 | B41: ТСЦ-507-0976 | C41: Фланцы стальные плоские приварные из стали ВСт3сп2, ВСт3сп3, давлением 0,6 МПа (6 кгс/см2), диаметром 400 мм | D41: шт. | E41: 5 | F41: 325.2 | J41: 1626
A42: 16 | B42: ТЕР23-04-008-02 | C42: Присоединение канализационных трубопроводов к существующей сети в грунтах мокрых | D42: 1 врезка | E42: 1 | F42: 313.71 | G42: 217.39 | J42: 314 | K42: 217 | N42: 17.01 | O42: 17.01
A43: 17 | B43: ТЕР13-03-002-04 | C43: Огрунтовка металлических поверхностей за один раз грунтовкой ГФ-021 | D43: 100 м2 | E43: 0.038 | F43: 417.46 | G43: 79.65 | H43: 10.15 | I43: 0.16 | J43: 16 | K43: 3 | N43: 5.31 | O43: 0.2 | P43: 0.01
...

Sheet 24820
A1: СОГЛАСОВАНО: | E1: ФГУП "Комбинат "Электрохимприбор" | M1: УТВЕРЖДАЮ:
G2: (наименование стройки) | M2: Зам. генерального директора
A3: _____________________________ | M3: Е.В.Гордеев
A4: " _____ " ________________ 2013г. | G4: ЛОКАЛЬНЫЙ СМЕТНЫЙ РАСЧЕТ № 24820
G5: (локальная смета) | M5: "______ " __________2013 г.
C7: на | D7: Реконструкцию. Поселок Горный. Насосно-фильтровальная станция. Перенос канализации
G8: (наименование работ и затрат, наименование объекта)
D10: Основание: Проект № 24526-13-НК
D11: Сметная стоимость _______________________________________________________________________________________________ | J11: ___________________________157,322 | L11: тыс. руб.
D12: строительных работ _______________________________________________________________________________________________ | J12: _______________________________________________________________________________________________144,699 | L12: тыс. руб.
D13: монтажных работ _______________________________________________________________________________________________ | J13: _______________________________________________________________________________________________1,362 | L13: тыс. руб.
D14: оборудования _______________________________________________________________________________________________ | J14: _______________________________________________________________________________________________11,261 | L14: тыс. руб.
D15: Средства на оплату труда _______________________________________________________________________________________________ | J15: ___________________________5,222 | L15: тыс. руб.
D16: Сметная трудоемкость _______________________________________________________________________________________________ | J16: _______________________________________________________________________________________________335,6 | L16: чел.час
D17: Материалы ___________________________________________________________ | J17: =K71/1000 -> 121.284 | L17: тыс.руб.
D18: Составлен(а) в базовых ценах 2001г. в редакции 2009г.
A20: № пп | B20: Обоснова-ние | C20: Наименование | D20: Ед. изм. | E20: Кол. | F20: Стоимость единицы, руб. | J20: Общая стоимость, руб. | O20: Т/з осн. раб.на ед. | P20: Т/з осн. раб. Всего | Q20: Общая масса обору-дования, т
F21: Всего | G21: В том числе | J21: Обору-дование | K21: Всего | L21: В том числе
G22: Осн.З/п | H22: Эк.Маш | I22: З/пМех | L22: Осн.З/п | M22: Эк.Маш | N22: З/пМех
A23: 1 | B23: 2 | C23: 3 | D23: 4 | E23: 5 | F23: 6 | G23: 7 | H23: 8 | I23: 9 | J23: 10 | K23: 11 | L23: 12 | M23: 13 | N23: 14 | O23: 15 | P23: 16 | Q23: 17
A24: Раздел 1. Земляные работы.
A25: 1 | B25: ТЕР01-01-003-08 | C25: Разработка грунта в отвал экскаваторами «драглайн» или «обратная лопата» с ковшом вместимостью 0,65 (0,5-1) м3, группа грунтов 2 | D25: 1000 м3 | E25: 0.385 | F25: 3778.42 | G25: 115.18 | H25: 3663.24 | I25: 385.27 | K25: 1455 | L25: 44 | M25: 1411 | N25: 148 | O25: 10.48 | P25: 4.03
A26: 2 | B26: ТЕР01-02-055-08 | C26: Разработка грунта вручную с креплениями в траншеях шириной до 2 м, глубиной до 3 м, группа грунтов 2 | D26: 100 м3 | E26: 0.119 | F26: 3117.84 | G26: 3117.84 | K26: 371 | L26: 371 | O26: 264 | P26: 31.42
A27: 3 | B27: ТЕР01-01-013-08 | C27: Разработка грунта с погрузкой на автомобили-самосвалы экскаваторами с ковшом вместимостью 0,65 (0,5-1) м3, группа грунтов 2 | D27: 1000 м3 | E27: 0.102 | F27: 5028.78 | G27: 125.4 | H27: 4898.28 | I27: 559.88 | K27: 513 | L27: 13 | M27: 500 | N27: 57 | O27: 11.41 | P27: 1.16
A28: 4 | B28: СЦП3-3-5-1 | C28: Перевозка грузов автомобилями-самосвалами (работающими вне карьеров): расстояние 5 км, класс груза I (лишний грунт) КОЭФ. К ПОЗИЦИИ: п.17.Доп1 При перевозке грузов к провозной плате (тарифам) применять поправочный коэффициент ПЗ=1,37 | D28: т | E28: 204.38 | F28: 10.58 | H28: 10.58 | K28: 2162 | M28: 2162
A29: 5 | B29: ТЕР01-01-033-02 | C29: Засыпка траншей и котлованов с перемещением грунта до 5 м бульдозерами мощностью 59 кВт (80 л.с.), группа грунтов 2 | D29: 1000 м3 | E29: 0.286 | F29: 822.69 | H29: 822.69 | I29: 138.55 | K29: 235 | M29: 235 | N29: 40
A30: 6 | B30: ТЕР01-02-061-02 | C30: Засыпка вручную траншей, пазух котлованов и ям, группа грунтов 2 | D30: 100 м3 | E30: 0.088 | F30: 1027.4 | G30: 1027.4 | K30: 90 | L30: 90 | O30: 97.2 | P30: 8.55
A31: Раздел 2. Канализация.
A32: Канализационные колодцы.
A33: 7 | B33: ТЕР23-03-001-06 | C33: Устройство круглых сборных железобетонных канализационных колодцев диаметром 1,5 м в мокрых грунтах | D33: 10 м3 | E33: 1.763 | F33: 21552.69 | G33: 1426.25 | H33: 2193.39 | I33: 209.12 | K33: 37997 | L33: 2514 | M33: 3867 | N33: 369 | O33: 111.6 | P33: 196.75
A34: 8 | B34: ТЕР08-02-001-09 прим. | C34: Кладка круглых кирпичных горловин в канализационных колодцах | D34: 1 м3 кладки | E34: 0.111 | F34: 730.19 | G34: 82.91 | H34: 92.15 | I34: 6.55 | K34: 81 | L34: 9 | M34: 10 | N34: 1 | O34: 7.08 | P34: 0.79
A35: 9 | B35: ТСЦ-101-2535 | C35: Люки чугунные легкий | D35: шт. | E35: 4 | F35: 511.7 | K35: 2047
A36: 10 | B36: ТСЦ-509-3905 | C36: Скобы ходовые | D36: кг | E36: 36 | F36: 9.12 | K36: 328
A37: Канализация.
A38: 11 | B38: ТЕР23-01-001-01 | C38: Устройство основания под трубопроводы песчаного | D38: 10 м3 | E38: 0.167 | F38: 1636.02 | G38: 117.4 | H38: 26.91 | I38: 5.47 | K38: 273 | L38: 20 | M38: 4 | N38: 1 | O38: 10.2 | P38: 1.7
A39: 12 | B39: ТЕР22-01-021-13 | C39: Укладка трубопроводов из полиэтиленовых труб диаметром до 600 мм | D39: 1 км | E39: 0.037 | F39: 39122.91 | G39: 9881.5 | H39: 25932.77 | I39: 2226.37 | K39: 1448 | L39: 366 | M39: 960 | N39: 82 | O39: 773.2 | P39: 28.61
A40: 13 | B40: ТСЦ-507-2022 прим. | C40: Труба ПЭ 63 SDR 26, наружный диаметр до 500 мм (ГОСТ 18599-2001) | D40: 10 м | E40: 3.737 | F40: 22421.88 | K40: 83791
A41: 14 | B41: ТЕРм12-12-001-17 | C41: Арматура фланцевая с ручным приводом или без привода водопроводная на условное давление до 4 МПа, диаметр условного прохода 400 мм | D41: 1 шт. | E41: 1 | F41: 956.85 | G41: 214.23 | H41: 573.95 | I41: 55.51 | K41: 957 | L41: 214 | M41: 574 | N41: 56 | O41: 15.81 | P41: 15.81
A42: 15 | B42: Цена поставщика. | C42: Затвор чугунный поворотный дисковый (диск-чугун) ЕРДМ фланцевый Ру-1.0МПа, Ду-400 с ручным редуктором. (Цена:53414,00:1,18:4,19*1,012*1,03=11261,00) | D42: шт | E42: 1 | J42: 11261 | K42: 11261
A43: 16 | B43: ТЕР16-02-007-11 | C43: Установка фланцевых соединений на стальных трубопроводах диаметром 400 мм | D43: 1 соединение | E43: 2 | F43: 1154.33 | G43: 89.13 | H43: 36.45 | I43: 0.18 | K43: 2309 | L43: 178 | M43: 73 | O43: 6.38 | P43: 12.76
...

Sheet 24831
A1: СОГЛАСОВАНО: | E1: ФГУП "Комбинат "Электрохимприбор" | M1: УТВЕРЖДАЮ:
G2: (наименование стройки) | M2: Зам.генерального директора
A3: _________________ | N3: Е.В. Гордеев
A4: " _____ " ________________ 2013 г. | M4: __________________
G5: ЛОКАЛЬНЫЙ СМЕТНЫЙ РАСЧЕТ № 24831 | M5: "______ " __________2013 г.
G6: (локальная смета)
C8: на | D8: реконструкцию. Поселок Горный. Насосно-фильтровальная станция.
E9: Отстойник-осветлитель промывных вод
E10: (наименование работ и затрат, наименование объекта)
D12: Основание: проект № 24547-13-КЖ
D13: Сметная стоимость строительных работ _______________________________________________________________________________________________ | J13: ___________________________862,647 | L13: тыс. руб.
D14: Средства на оплату труда _______________________________________________________________________________________________ | J14: ___________________________98,152 | L14: тыс. руб.
D15: Сметная трудоемкость _______________________________________________________________________________________________ | J15: _______________________________________________________________________________________________6328,86 | L15: чел.час
D16: Материалы _________________________________________________________ | K16: 543,794 тыс.руб.
D17: Составлен(а) в базовых ценах 2001г. в редакции 2009г.
A19: № пп | B19: Обоснование | C19: Наименование | D19: Ед. изм. | E19: Кол. | F19: Стоимость единицы, руб. | J19: Общая стоимость, руб. | N19: Т/з осн. раб.на ед. | O19: Т/з осн. раб. Всего | P19: Т/з мех. на ед. | Q19: Т/з мех. Всего
F20: Всего | G20: В том числе | J20: Всего | K20: В том числе
G21: Осн.З/п | H21: Эк.Маш | I21: З/пМех | K21: Осн.З/п | L21: Эк.Маш | M21: З/пМех
A22: 1 | B22: 2 | C22: 3 | D22: 4 | E22: 5 | F22: 6 | G22: 7 | H22: 8 | I22: 9 | J22: 10 | K22: 11 | L22: 12 | M22: 13 | N22: 14 | O22: 15 | P22: 16 | Q22: 17
A23: 1 | B23: ТЕР06-01-062-05 | C23: Устройство железобетонных конструкций отстойников, резервуаров и прочих сооружений при днищах бункерного типа | D23: 100 м3 | E23: 2.24 | F23: 76007.6 | G23: 36483.1 | H23: 26791.46 | I23: 3722.81 | J23: 170257 | K23: 81722 | L23: 60013 | M23: 8339 | N23: 2692.48 | O23: 6031.16 | P23: 204.55 | Q23: 458.19
A24: 2 | B24: ТСЦ-401-0229 | C24: Бетон гидротехнический (на сульфатостойком портландцементе), класс В25 (М350) | D24: м3 | E24: 227.4 | F24: 703.49 | J24: 159974
A25: 3 | B25: ТСЦ-204-0825 | C25: Каркасы металлические | D25: т | E25: 17.307 | F25: 7470.18 | J25: 129286
A26: 4 | B26: ТСЦ-204-0039 | C26: Надбавки к ценам заготовок за сборку и сварку каркасов и сеток плоских, диаметром 12-16 мм | D26: т | E26: 17.307 | F26: 1743.8 | J26: 30180
A27: 5 | B27: ТЕР06-01-015-07 | C27: Установка закладных деталей весом до 4 кг | D27: 1 т | E27: 0.043 | F27: 9942.61 | G27: 2758.18 | H27: 42.05 | I27: 2.73 | J27: 428 | K27: 119 | L27: 2 | N27: 215.82 | O27: 9.28 | P27: 0.15 | Q27: 0.01
A28: 6 | B28: ТЕР06-01-015-09 | C28: Установка закладных деталей весом более 20 кг | D28: 1 т | E28: 0.131 | F28: 7463.03 | G28: 278.6 | H28: 42.05 | I28: 2.73 | J28: 978 | K28: 36 | L28: 6 | N28: 21.8 | O28: 2.86 | P28: 0.15 | Q28: 0.02
A29: 7 | B29: ТЕР09-03-040-01 | C29: Монтаж защитных ограждений | D29: т | E29: 0.557 | F29: 1553.99 | G29: 1176.74 | H29: 74.63 | I29: 2.18 | J29: 866 | K29: 655 | L29: 42 | M29: 1 | N29: 94.29 | O29: 52.52 | P29: 0.12 | Q29: 0.07
A30: 8 | B30: ТСЦ-201-0778 | C30: Прочие индивидуальные сварные конструкции, масса сборочной единицы до 0,1 т | D30: т | E30: 0.557 | F30: 13506.5 | J30: 7523
A31: 9 | B31: ТЕР13-03-002-04 | C31: Огрунтовка металлических поверхностей за один раз грунтовкой ГФ-021 КОЭФ. К ПОЗИЦИИ: за 2 раза ПЗ=2 (ОЗП=2; ЭМ=2 к расх.; ЗПМ=2; МАТ=2 к расх.; ТЗ=2; ТЗМ=2) | D31: 100 м2 | E31: 0.242 | F31: 834.92 | G31: 159.3 | H31: 20.3 | I31: 0.32 | J31: 202 | K31: 39 | L31: 5 | N31: 10.62 | O31: 2.57 | P31: 0.02
A32: 10 | B32: ТЕР08-01-003-07 | C32: Гидроизоляция обмазочная битумная в 2 слоя по бетону | D32: 100 м2 | E32: 4.37 | F32: 1496.69 | G32: 284.08 | H32: 104.01 | J32: 6541 | K32: 1241 | L32: 455 | N32: 21.2 | O32: 92.64
A33: 11 | B33: ФЕР08-01-005-01 | C33: Устройство гидроизоляции "Пенетрон": толщиной слоя 2 мм КОЭФ. К ПОЗИЦИИ: Приведение расценок ФЕР к территориальному уровню (Письмо УРЦЦС Ц-297 от 12.04.2011) ОЗП=1,41; ЭМ=1,242; ЗПМ=1,41; МАТ=1,052 | D33: 100 м2 | E33: 4.38 | F33: 147.29 | G33: 122.25 | H33: 24.36 | I33: 1.85 | J33: 645 | K33: 535 | L33: 107 | M33: 8 | N33: 10.92 | O33: 47.83 | P33: 0.13 | Q33: 0.57
A34: 12 | B34: ТСЦ-402-0195 | C34: Смесь сухая гидроизоляционная проникающая капиллярная марка "Пенетрон" | D34: кг | E34: 1380 | F34: 77.87 | J34: 107461
A35: 13 | B35: ФЕР08-01-006-01 прим. | C35: Устройство штукатурной гидроизоляции механизированным способом толщиной слоя 10 мм (из расчета 17,5 кг/м2) КОЭФ. К ПОЗИЦИИ: Приведение расценок ФЕР к территориальному уровню (Письмо УРЦЦС Ц-297 от 12.04.2011) ОЗП=1,41; ЭМ=1,242; ЗПМ=1,41; МАТ=1,052 | D35: 100 м2 | E35: 3.82 | F35: 491.77 | G35: 283.37 | H35: 207.28 | I35: 85.81 | J35: 1879 | K35: 1082 | L35: 792 | M35: 328 | N35: 23.56 | O35: 90 | P35: 6.05 | Q35: 23.11
A36: 14 | B36: ФССЦ-101-5363 | C36: Мастика битумная гидроизоляционная холодная КОЭФ. К ПОЗИЦИИ: Приведение расценок ФЕР к территориальному уровню (Письмо УРЦЦС Ц-297 от 12.04.2011) МАТ=1,052 к расх. | D36: т | E36: 6.685 | F36: 11133.06 | J36: 74425
A37: Итого прямые затраты по смете в ценах 2001г. | J37: 690645 | K37: 85429 | L37: 61422 | M37: 8676 | O37: 6328.86 | Q37: 481.97
A38: Итого прямые затраты по смете с учетом коэффициентов к итогам | J38: 694692 | K38: 89103 | L38: 61795 | M38: 9049 | O38: 6328.86 | Q38: 481.97
A39: В том числе, справочно:
A40: Районный к-т 4,3% (Поз. 1-14) | J40: 4047 | K40: 3673 | L40: 373 | M40: 373
A41: Накладные расходы | J41: 103518
A42: В том числе, справочно:
A43: 90% ФОТ (от 725) (Поз. 7-9) | J43: 653
...

Sheet 24841
A1: СОГЛАСОВАНО: | E1: ФГУП "Комбинат "Электрохимприбор" | M1: УТВЕРЖДАЮ:
G2: (наименование стройки) | M2: Зам.генерального директора
A3: _________________ | N3: Е.В. Гордеев
A4: " _____ " ________________ 2013 г. | M4: __________________
G5: ЛОКАЛЬНЫЙ СМЕТНЫЙ РАСЧЕТ № 24841 | M5: "______ " __________2013 г.
G6: (локальная смета)
C8: на | D8: реконструкцию. Поселок Горный. Насосно-фильтровальная станция.
E9: Отстойник-осветлитель промывных вод
E10: (наименование работ и затрат, наименование объекта)
D12: Основание: № 24550-13-ГП
D13: Сметная стоимость строительных работ _______________________________________________________________________________________________ | J13: ___________________________206,251 | L13: тыс. руб.
D14: Средства на оплату труда _______________________________________________________________________________________________ | J14: ___________________________6,128 | L14: тыс. руб.
D15: Сметная трудоемкость _______________________________________________________________________________________________ | J15: _______________________________________________________________________________________________232,17 | L15: чел.час
D16: Материалы _________________________________________________________ | K16: 129,281 тыс.руб.
D17: Составлен(а) в базовых ценах 2001г. в редакции 2009г.
A20: № пп | B20: Обоснование | C20: Наименование | D20: Ед. изм. | E20: Кол. | F20: Стоимость единицы, руб. | J20: Общая стоимость, руб. | N20: Т/з осн. раб.на ед. | O20: Т/з осн. раб. Всего | P20: Т/з мех. на ед. | Q20: Т/з мех. Всего
F21: Всего | G21: В том числе | J21: Всего | K21: В том числе
G22: Осн.З/п | H22: Эк.Маш | I22: З/пМех | K22: Осн.З/п | L22: Эк.Маш | M22: З/пМех
A23: 1 | B23: 2 | C23: 3 | D23: 4 | E23: 5 | F23: 6 | G23: 7 | H23: 8 | I23: 9 | J23: 10 | K23: 11 | L23: 12 | M23: 13 | N23: 14 | O23: 15 | P23: 16 | Q23: 17
A24: Раздел 1. Работы по устройству отстойника-накопителя и канализационных колодцев
A25: Земляные работы
A26: 1 | B26: ТЕР01-02-113-01 | C26: Срезка кустарника и мелколесья в торфяных и переувлажненных грунтах кусторезами на тракторе мощностью 79 кВт (108 л.с.), кустарник и мелколесье густые | D26: 1 га | E26: 0.016 | F26: 567.22 | H26: 567.22 | I26: 94.46 | J26: 9 | L26: 9 | M26: 2 | P26: 5.19 | Q26: 0.08
A27: 2 | B27: ТЕР01-02-116-01 | C27: Сгребание срезанного или выкорчеванного кустарника и мелколесья кустарниковыми граблями на тракторе мощностью 79 кВт (108 л.с.) с перемещением до 20 м, кустарник и мелколесье густые | D27: 1 га | E27: 0.016 | F27: 374.37 | H27: 374.37 | I27: 57.19 | J27: 6 | L27: 6 | M27: 1 | P27: 3.38 | Q27: 0.05
A28: 3 | B28: ТЕР01-02-120-04 | C28: Сжигание с перетряхиванием валов из кустарников, мелколесья и корней корчевателями-собирателями на тракторе мощностью 79 кВт (108 л.с.), кустарник и мелколесье густые | D28: 1 га | E28: 0.016 | F28: 1343.84 | G28: 576.24 | H28: 256.1 | I28: 34.36 | J28: 22 | K28: 9 | L28: 4 | M28: 1 | N28: 51.04 | O28: 0.82 | P28: 2.35 | Q28: 0.04
A29: 4 | B29: ТЕР01-02-121-04 | C29: Повторное сжигание с перетряхиванием валов из кустарников, мелколесья и корней корчевателями-собирателями на тракторе мощностью 79 кВт (108 л.с.), кустарник и мелколесье густое | D29: 1 га | E29: 0.016 | F29: 1012.59 | G29: 345.25 | H29: 155.84 | I29: 20.91 | J29: 16 | K29: 6 | L29: 2 | N29: 30.58 | O29: 0.49 | P29: 1.43 | Q29: 0.02
A30: 5 | B30: ТЕР01-01-030-06 | C30: Разработка грунта с перемещением до 10 м бульдозерами мощностью 79 кВт (108 л.с.), группа грунтов 2 (снятие растительного слоя) | D30: 1000 м3 | E30: 0.0476 | F30: 798.73 | H30: 798.73 | I30: 126.73 | J30: 38 | L30: 38 | M30: 6 | P30: 7.49 | Q30: 0.36
A31: 6 | B31: ТЕР01-02-091-03 | C31: Механизированная разработка скальных грунтов с зачисткой недобора и выкидкой грунтов на бровку, группа грунтов 6 | D31: 100 м3 | E31: 0.9724 | F31: 10755.78 | G31: 292.26 | H31: 10463.52 | I31: 1086.69 | J31: 10459 | K31: 284 | L31: 10175 | M31: 1057 | N31: 23.14 | O31: 22.5 | P31: 66.02 | Q31: 64.2
A32: 7 | B32: ТЕР01-02-002-03 | C32: Уплотнение грунта прицепными кулачковыми катками 8 т на первый проход по одному следу при толщине слоя 20 см | D32: 1000 м3 | E32: 0.059 | F32: 2463.05 | H32: 2463.05 | I32: 385.1 | J32: 145 | L32: 145 | M32: 23 | P32: 22.76 | Q32: 1.34
A33: 8 | B33: ТЕР01-02-002-06 | C33: На каждый последующий проход по одному следу добавлять к расценке 01-02-002-03 КОЭФ. К ПОЗИЦИИ: Новый коэффициент ПЗ=7 (ОЗП=7; ЭМ=7 к расх.; ЗПМ=7; МАТ=7 к расх.; ТЗ=7; ТЗМ=7) | D33: 1000 м3 | E33: 0.059 | F33: 550.13 | H33: 550.13 | I33: 79.38 | J33: 32 | L33: 32 | M33: 5 | P33: 4.69 | Q33: 0.28
A34: 9 | B34: ТЕР01-01-037-01 | C34: Засыпка траншей и котлованов предварительно разрыхленным скальным грунтом с перемещением до 10 м бульдозерами мощностью 79 кВт (108 л.с.) | D34: 1000 м3 | E34: 0.4435 | F34: 2346.08 | H34: 2346.08 | I34: 372.24 | J34: 1040 | L34: 1040 | M34: 165 | P34: 22 | Q34: 9.76
A35: 10 | B35: ТЕР01-01-037-04 | C35: При перемещении грунта на каждые 10 м добавлять к расценке 01-01-037-01 КОЭФ. К ПОЗИЦИИ: ПЗ=2 (ОЗП=2; ЭМ=2 к расх.; ЗПМ=2; МАТ=2 к расх.; ТЗ=2; ТЗМ=2) | D35: 1000 м3 грунта | E35: 0.4435 | F35: 1876.86 | H35: 1876.86 | I35: 297.8 | J35: 832 | L35: 832 | M35: 132 | P35: 17.6 | Q35: 7.81
A36: 11 | B36: ТЕР01-01-044-08 | C36: Возведение насыпей из резервов экскаваторами «драглайн» с ковшом вместимостью 0,65 м3, группа грунтов 4 | D36: 1000 м3 грунта | E36: 0.1479 | F36: 7436.68 | G36: 83.19 | H36: 7353.49 | I36: 876.29 | J36: 1100 | K36: 12 | L36: 1088 | M36: 130 | N36: 7.57 | O36: 1.12 | P36: 51.79 | Q36: 7.66
A37: 12 | B37: ТЕР01-02-002-03 | C37: Уплотнение грунта прицепными кулачковыми катками 8 т на первый проход по одному следу при толщине слоя 20 см | D37: 1000 м3 | E37: 0.1479 | F37: 2463.05 | H37: 2463.05 | I37: 385.1 | J37: 364 | L37: 364 | M37: 57 | P37: 22.76 | Q37: 3.37
A38: 13 | B38: ТЕР01-02-002-06 | C38: На каждый последующий проход по одному следу добавлять к расценке 01-02-002-03 КОЭФ. К ПОЗИЦИИ: Новый коэффициент ПЗ=8 (ОЗП=8; ЭМ=8 к расх.; ЗПМ=8; МАТ=8 к расх.; ТЗ=8; ТЗМ=8) | D38: 1000 м3 | E38: 0.1479 | F38: 628.72 | H38: 628.72 | I38: 90.72 | J38: 93 | L38: 93 | M38: 13 | P38: 5.36 | Q38: 0.79
A39: 14 | B39: ТЕР01-01-013-11 | C39: Разработка грунта с погрузкой на автомобили-самосвалы экскаваторами с ковшом вместимостью 0,65 (0,5-1) м3, группа грунтов 5 (лишний грунт) | D39: 1000 м3 | E39: 0.381 | F39: 10996.76 | G39: 274.09 | H39: 10713.74 | I39: 1224.67 | J39: 4190 | K39: 104 | L39: 4082 | M39: 467 | N39: 24.94 | O39: 9.5 | P39: 72.38 | Q39: 27.58
A40: 15 | B40: СЦП3-3-18-1 | C40: Перевозка грузов автомобилями-самосвалами (работающими вне карьеров): расстояние 18 км, класс груза I КОЭФ. К ПОЗИЦИИ: При перевозке грузов к провозной плате (тарифам) применять поправочный коэффициент ПЗ=1,37 (ОЗП=1,37; ЭМ=1,37 к расх.; ЗПМ=1,37; МАТ=1,37 к расх.; ТЗ=1,37; ТЗМ=1,37) | D40: т | E40: 762 | F40: 30.85 | H40: 30.85 | J40: 23508 | L40: 23508
A41: 16 | B41: ТЕР01-01-036-02 | C41: Планировка площадей бульдозерами мощностью 79 кВт (108 л.с.) (лишний растительный грунт) | D41: 1000 м2 | E41: 0.24 | F41: 26.66 | H41: 26.66 | I41: 4.23 | J41: 6 | L41: 6 | M41: 1 | P41: 0.25 | Q41: 0.06
A42: 17 | B42: ТЕР01-02-040-02 | C42: Укрепление откосов земляных сооружений посевом многолетних трав механизированным способом | D42: 100 м2 | E42: 1.927 | F42: 447.88 | H42: 441 | I42: 43.04 | J42: 863 | L42: 850 | M42: 83 | P42: 2.55 | Q42: 4.91
A43: 18 | B43: ТСЦ-414-0137 | C43: Семена газонных трав (смесь) | D43: кг | E43: 5.2 | F43: 95.2 | J43: 495
A44: Устройство подготовки под фундаменты
...

Sheet НМЦ
A1: г. Лесной ФГУП "Комбинат "Электрохимприбор"
A3: Расчет начальной (максимальной) цены
A5: Строительство отстойника-осветлителя промывных вод насосно-фильтровальной станции поселка Горный
A6: ФГУП «Комбинат «Электрохимприбор»
A9: Составлен в ценах по состоянию на 01.01.2000 г. с переводом в текущие | D9: руб.
A10: Наименование глав ССР, объектных сметных расчетов, локальных сметных расчетов, видов работ | B10: Сметная стоимость в базисных ценах на 01.01.2000 | C10: Текущая стоимость на момент определения начальной (максимальной) цены | D10: № обосновывающего расчета
A14: 1 | B14: 2 | C14: 3 | D14: 4
A15: Теплосеть | B15: ='Сводка затрат'!H13 -> 113355 | C15: =ROUND('Сводка затрат'!D13*5.56+'Сводка затрат'!E13*5.56+'Сводка затрат'!F13*4.19,0) -> 630254 | D15: 24802
A16: Реконструкция наружной канализации | B16: ='Сводка затрат'!H14 -> 59432 | C16: =ROUND('Сводка затрат'!D14*5.56+'Сводка затрат'!E14*5.56+'Сводка затрат'!F14*4.19,0) -> 330442 | D16: 24818
A17: Перенос канализации | B17: ='Сводка затрат'!H15 -> 157322 | C17: =ROUND('Сводка затрат'!D15*5.56+'Сводка затрат'!E15*5.56+'Сводка затрат'!F15*4.19,0) -> 859283 | D17: 24820
A18: Реконструкция | B18: ='Сводка затрат'!H16 -> 862647 | C18: =ROUND('Сводка затрат'!D16*5.56+'Сводка затрат'!E16*5.56+'Сводка затрат'!F16*4.19,0) -> 4796317 | D18: 24831
A19: Реконструкция | B19: ='Сводка затрат'!H17 -> 206251 | C19: =ROUND('Сводка затрат'!D17*5.56+'Сводка затрат'!E17*5.56+'Сводка затрат'!F17*4.19,0) -> 1146756 | D19: 24841
A20: Итого | B20: =SUM(B15:B19) -> 1399007 | C20: =SUM(C15:C19) -> 7763052
A22: НДС 18% | C22: =ROUND(C20*18%,2) -> 1397349.4
A24: Всего | C24: =SUM(C20:C23) -> 9160401.4
A27: Начальник отдела
A28: капитального строительства | C28: В.В. Моляков
A30: Инженер по проектно-сметной работе | C30: Т.Ш. Ковязина
A33: Согласовано | C33: отдел 028

Sheet Сводка затрат
A1: Приложение №__ к договору от "__"______2013 №_______
A3: г. Лесной. ФГУП "Комбинат "Электрохимприбор"
A5: Сводка затрат
A7: Строительство отстойника-осветлителя промывных вод насосно-фильтровальной станции поселка Горный
A9: Составлен в ценах по состоянию на 01.01.2000 г.
A10: № п/п | B10: Номера сметных расчетов и смет | C10: Наименование работ и затрат | D10: Сметная стоимость | H10: Общая сметная стоимость, руб.
D11: строительных работ | E11: монтажных работ | F11: оборудования, мебели, инвентаря | G11: прочих затрат
A12: 1 | B12: 2 | C12: 3 | D12: 4 | E12: 5 | F12: 6 | G12: 7 | H12: 8
A13: 1 | B13: 24802 | C13: Теплосеть | D13: ='24802'!J116 -> 106612 | E13: ='24802'!J117 -> 6743 | F13: 0 | G13: 0 | H13: =SUM(D13:G13) -> 113355
A14: 2 | B14: 24818 | C14: Реконструкция наружной канализации | D14: ='24818'!J87 -> 59432 | E14: 0 | F14: 0 | G14: 0 | H14: =SUM(D14:G14) -> 59432
A15: 3 | B15: 24820 | C15: Перенос канализации | D15: ='24820'!K66 -> 144699 | E15: ='24820'!K67 -> 1362 | F15: ='24820'!K68 -> 11261 | G15: 0 | H15: =SUM(D15:G15) -> 157322
A16: 4 | B16: 24831 | C16: Реконструкция | D16: ='24831'!J64 -> 862647 | E16: 0 | F16: 0 | G16: 0 | H16: =SUM(D16:G16) -> 862647
A17: 5 | B17: 24841 | C17: Реконструкция | D17: ='24841'!J118 -> 206251 | E17: 0 | F17: 0 | G17: 0 | H17: =SUM(D17:G17) -> 206251
C18: Итого в базисных ценах 2001 г. | D18: =SUM(D13:D17) -> 1379641 | E18: =SUM(E13:E17) -> 8105 | F18: =SUM(F13:F17) -> 11261 | G18: =SUM(G13:G17) -> 0 | H18: =SUM(D18:G18) -> 1399007
C19: Всего в ценах 2013 (Ксмр=5,56, Коб.=4,19) | D19: =ROUND(D18*5.56,0) -> 7670804 | E19: =ROUND(E18*5.56,0) -> 45064 | F19: =ROUND(F18*4.19,0) -> 47184 | G19: =ROUND(G18*9.32,0) -> 0 | H19: =SUM(D19:G19) -> 7763052
C20: НДС 18% | D20: =ROUND(D19*18%,2) -> 1380744.7 | E20: =ROUND(E19*18%,2) -> 8111.52 | F20: =ROUND(F19*18%,2) -> 8493.12 | G20: =ROUND(G19*18%,2) -> 0 | H20: =SUM(D20:G20) -> 1397349.4
C21: Всего в ценах 2013 с НДС | D21: =SUM(D19:D20) -> 9051548.7 | E21: =SUM(E19:E20) -> 53175.52 | F21: =SUM(F19:F20) -> 55677.12 | G21: =SUM(G19:G20) -> 0 | H21: =SUM(D21:G21) -> 9160401.4
C25: ЗАКАЗЧИК: | F25: ПОДРЯДЧИК:
C26: Генеральный директор
C27: ФГУП "Комбинат "Электрохимприбор"
C29: __________________ А.В. Новиков
