Workbook
Name аааааппппппрррппппппп: #REF!
Name аараооооооооооооо: #REF!
Name автом: #REF!
Name алшрльоплварл: #REF!
Name аолвлддддддддддддддддввввввввв: #REF!
Name апарв: #REF!
Name апрлдджаоырыфрпопрлпрлпрлп: #REF!
Name арлггаджаш: #REF!
Name ароррбллтблпроорапииас: #REF!
Name арррррблллпдрлдддддддддд: #REF!
Name варпаааааааааа: #REF!
Name ввпьььььлднд: #REF!
Name вед: #REF!
Name вертикальная: #REF!
Name вертикплан: #REF!
Name волен: #REF!
Name вп: #REF!
Name впырпфдыпл: #REF!
Name впьглорьтитттттттттт: #REF!
Name всввввввввввввввввввввввввв: #REF!
Name выб: #REF!
Name выпуск: #REF!
Name выьлепвввввпмп: #REF!
Name еваопродолжэрщэрзшщщх: #REF!
Name измен: #REF!
Name итого: #REF!
Name итого_сантех: #REF!
Name итого_стр: #REF!
Name итого_строит: #REF!
Name итого_технол: #REF!
Name итого_электр: #REF!
Name квота: #REF!
Name кккккккккк: #REF!
Name корек: #REF!
Name корект: #REF!
Name корректир: #REF!
Name лен: #REF!
Name лот: #REF!
Name мамиааааааааааааааааааааааааааааа: #REF!
Name ммпоослччччччччччрччапппппппппр: #REF!
Name мрол: #REF!
Name оз: #REF!
Name озелен: #REF!
Name озеленение: #REF!
Name озеленение2: #REF!
Name ОСР: #REF!
Name ОСР110: #REF!
Name ОСР111: #REF!
Name план: #REF!
Name планировка: #REF!
Name плдщхэж.юрббдлююбо: #REF!
Name площадки: #REF!
Name пос: #REF!
Name прав: #REF!
Name прлппппппппппппппрррррррр: #REF!
Name провбп: #REF!
Name проект: #REF!
Name пропппп: #REF!
Name рпоолллллбрюююююююююююю: #REF!
Name сааповвыыыыыеееееггггггггг: #REF!

Sheet Расчет СМР с ПНР "вхолостую"
A1: Расчет начальной (максимальной) цены
A2: на "Реконструкцию системы технологической водоподготовки бассейна профилактория комбината"
X3: руб.
A4: Наименование глав ССР, объектный сметных расчетов, локальных сметных расчетов, видов прочих работ | B4: Сметная стоимость строительства в базисном уровне цен на 01.01.2000г. по ССР | F4: Остаток сметной стоимости в базисном уровне цен на дату проведения процедуры закупки | J4: Сметная стоимость строительства в базисном уровне цен на 01.01.2000г., выставленная на конкурс | Q4: Текущая стоимость на момент определения начальной (максимальной) цены | R4: № обосновывающего расчета | S4: В том числе по годам строительства
J5: 2015г. | M5: 2016г. | P5: Всего | S5: 2015 г. | V5: 2016 г.
B6: СМР | C6: Оборуд. | D6: Прочие | E6: Всего | F6: СМР | G6: Оборуд. | H6: Прочие | I6: Всего | J6: СМР | K6: Оборуд. | L6: Прочие | M6: СМР | N6: Оборуд. | O6: Прочие | S6: СМР | T6: Оборуд. | U6: Прочие | V6: СМР | W6: Оборуд. | X6: Прочие
A7: 1 | B7: 2 | C7: 3 | D7: 4 | E7: 5 | F7: 6 | G7: 7 | H7: 8 | I7: 9 | J7: 10 | K7: 11 | L7: 12 | M7: 13 | N7: 14 | O7: 15 | P7: 16 | Q7: 17 | R7: 18 | S7: 19 | T7: 20 | U7: 21 | V7: 22 | W7: 23 | X7: 24
A8: Глава 2. Основные объекты строительства
A9: ОСР 02-01
A10: Демонтажные работы. Общестроительные работы | B10: 44353 | C10: 0 | D10: 0 | E10: =SUM(B10:D10) -> 44353 | F10: =B10 -> 44353 | G10: =C10 -> 0 | H10: =D10 -> 0 | I10: =SUM(F10:H10) -> 44353 | J10: =F10 -> 44353 | K10: =G10 -> 0 | L10: =H10 -> 0 | M10: 0 | N10: =G10 -> 0 | O10: =H10 -> 0 | P10: =SUM(J10:L10,M10:O10) -> 44353 | Q10: =SUM(S10:U10,V10:X10) -> 254586 | R10: 01-01-01 (14-057-АР. Дем. СМ) | S10: =ROUND(J10*5.74,0) -> 254586 | T10: =ROUND(K10*4.04,0) -> 0 | U10: =ROUND(L10*10.05,0) -> 0 | V10: =ROUND(M10*5.74*1.053,0) -> 0 | W10: =ROUND(N10*4.04*1.053,0) -> 0 | X10: =ROUND(O10*10.05*1.053,0) -> 0
A11: Демонтажные работы. Технологическая часть | B11: =16089+9449 -> 25538 | C11: 0 | D11: 0 | E11: =SUM(B11:D11) -> 25538 | F11: =B11 -> 25538 | G11: =C11 -> 0 | H11: =D11 -> 0 | I11: =SUM(F11:H11) -> 25538 | J11: 0 | K11: =G11 -> 0 | L11: =H11 -> 0 | M11: =F11 -> 25538 | N11: =G11 -> 0 | O11: =H11 -> 0 | P11: =SUM(J11:L11,M11:O11) -> 25538 | Q11: =SUM(S11:U11,V11:X11) -> 154357 | R11: 01-01-02 (14-057-ТХ. Дем. СМ) | S11: =ROUND(J11*5.74,0) -> 0 | T11: =ROUND(K11*4.04,0) -> 0 | U11: =ROUND(L11*10.05,0) -> 0 | V11: =ROUND(M11*5.74*1.053,0) -> 154357 | W11: =ROUND(N11*4.04*1.053,0) -> 0 | X11: =ROUND(O11*10.05*1.053,0) -> 0
A12: Демонтажные работы. Отопление | B12: 784 | C12: 0 | D12: 0 | E12: =SUM(B12:D12) -> 784 | F12: =B12 -> 784 | G12: =C12 -> 0 | H12: =D12 -> 0 | I12: =SUM(F12:H12) -> 784 | J12: =F12 -> 784 | K12: =G12 -> 0 | L12: =H12 -> 0 | M12: 0 | N12: =G12 -> 0 | O12: =H12 -> 0 | P12: =SUM(J12:L12,M12:O12) -> 784 | Q12: =SUM(S12:U12,V12:X12) -> 4500 | R12: 01-01-03 (14-057-ОВ. Дем. СМ) | S12: =ROUND(J12*5.74,0) -> 4500 | T12: =ROUND(K12*4.04,0) -> 0 | U12: =ROUND(L12*10.05,0) -> 0 | V12: =ROUND(M12*5.74*1.053,0) -> 0 | W12: =ROUND(N12*4.04*1.053,0) -> 0 | X12: =ROUND(O12*10.05*1.053,0) -> 0
A13: Демонтажные работы. Электрооборудование | B13: =14+1128 -> 1142 | C13: 0 | D13: 0 | E13: =SUM(B13:D13) -> 1142 | F13: =B13 -> 1142 | G13: =C13 -> 0 | H13: =D13 -> 0 | I13: =SUM(F13:H13) -> 1142 | J13: =F13 -> 1142 | K13: =G13 -> 0 | L13: =H13 -> 0 | M13: 0 | N13: =G13 -> 0 | O13: =H13 -> 0 | P13: =SUM(J13:L13,M13:O13) -> 1142 | Q13: =SUM(S13:U13,V13:X13) -> 6555 | R13: 01-01-04 (14-057-ЭМ. Дем. СМ) | S13: =ROUND(J13*5.74,0) -> 6555 | T13: =ROUND(K13*4.04,0) -> 0 | U13: =ROUND(L13*10.05,0) -> 0 | V13: =ROUND(M13*5.74*1.053,0) -> 0 | W13: =ROUND(N13*4.04*1.053,0) -> 0 | X13: =ROUND(O13*10.05*1.053,0) -> 0
A14: Демонтажные работы. Электроосвещение | B14: =8+1215 -> 1223 | C14: 0 | D14: 0 | E14: =SUM(B14:D14) -> 1223 | F14: =B14 -> 1223 | G14: =C14 -> 0 | H14: =D14 -> 0 | I14: =SUM(F14:H14) -> 1223 | J14: 0 | K14: =G14 -> 0 | L14: =H14 -> 0 | M14: =F14 -> 1223 | N14: =G14 -> 0 | O14: =H14 -> 0 | P14: =SUM(J14:L14,M14:O14) -> 1223 | Q14: =SUM(S14:U14,V14:X14) -> 7392 | R14: 01-01-04 (14-057-ЭО. Дем. СМ) | S14: =ROUND(J14*5.74,0) -> 0 | T14: =ROUND(K14*4.04,0) -> 0 | U14: =ROUND(L14*10.05,0) -> 0 | V14: =ROUND(M14*5.74*1.053,0) -> 7392 | W14: =ROUND(N14*4.04*1.053,0) -> 0 | X14: =ROUND(O14*10.05*1.053,0) -> 0
A15: Общестроительные работы | B15: =197820+13006 -> 210826 | C15: 0 | D15: 0 | E15: =SUM(B15:D15) -> 210826 | F15: =B15 -> 210826 | G15: =C15 -> 0 | H15: =D15 -> 0 | I15: =SUM(F15:H15) -> 210826 | J15: 0 | K15: =G15 -> 0 | L15: =H15 -> 0 | M15: =F15 -> 210826 | N15: =G15 -> 0 | O15: =H15 -> 0 | P15: =SUM(J15:L15,M15:O15) -> 210826 | Q15: =SUM(S15:U15,V15:X15) -> 1274279 | R15: 02-01-01 (14-057-АР. СМ) | S15: =ROUND(J15*5.74,0) -> 0 | T15: =ROUND(K15*4.04,0) -> 0 | U15: =ROUND(L15*10.05,0) -> 0 | V15: =ROUND(M15*5.74*1.053,0) -> 1274279 | W15: =ROUND(N15*4.04*1.053,0) -> 0 | X15: =ROUND(O15*10.05*1.053,0) -> 0
A16: Технологическая часть | B16: =251013+52130 -> 303143 | C16: 768498 | D16: 0 | E16: =SUM(B16:D16) -> 1071641 | F16: =B16 -> 303143 | G16: =C16 -> 768498 | H16: =D16 -> 0 | I16: =SUM(F16:H16) -> 1071641 | J16: 0 | K16: 0 | L16: =H16 -> 0 | M16: =F16 -> 303143 | N16: =G16 -> 768498 | O16: =H16 -> 0 | P16: =SUM(J16:L16,M16:O16) -> 1071641 | Q16: =SUM(S16:U16,V16:X16) -> 5101546 | R16: 02-01-02 (14-057-ТХ. СМ) | S16: =ROUND(J16*5.74,0) -> 0 | T16: =ROUND(K16*4.04,0) -> 0 | U16: =ROUND(L16*10.05,0) -> 0 | V16: =ROUND(M16*5.74*1.053,0) -> 1832263 | W16: =ROUND(N16*4.04*1.053,0) -> 3269283 | X16: =ROUND(O16*10.05*1.053,0) -> 0
A17: Отопление | B17: =125329+7135 -> 132464 | C17: 50960 | D17: 0 | E17: =SUM(B17:D17) -> 183424 | F17: =B17 -> 132464 | G17: =C17 -> 50960 | H17: =D17 -> 0 | I17: =SUM(F17:H17) -> 183424 | J17: 0 | K17: 0 | L17: =H17 -> 0 | M17: =F17 -> 132464 | N17: =G17 -> 50960 | O17: =H17 -> 0 | P17: =SUM(J17:L17,M17:O17) -> 183424 | Q17: =SUM(S17:U17,V17:X17) -> 1017432 | R17: 02-01-03 (14-057-ОВ. СМ) | S17: =ROUND(J17*5.74,0) -> 0 | T17: =ROUND(K17*4.04,0) -> 0 | U17: =ROUND(L17*10.05,0) -> 0 | V17: =ROUND(M17*5.74*1.053,0) -> 800642 | W17: =ROUND(N17*4.04*1.053,0) -> 216790 | X17: =ROUND(O17*10.05*1.053,0) -> 0
A18: Электрооборудование | B18: 21110 | C18: 9444 | D18: 0 | E18: =SUM(B18:D18) -> 30554 | F18: =B18 -> 21110 | G18: =C18 -> 9444 | H18: =D18 -> 0 | I18: =SUM(F18:H18) -> 30554 | J18: 0 | K18: 0 | L18: =H18 -> 0 | M18: =F18 -> 21110 | N18: =G18 -> 9444 | O18: =H18 -> 0 | P18: =SUM(J18:L18,M18:O18) -> 30554 | Q18: =SUM(S18:U18,V18:X18) -> 167769 | R18: 02-01-04 (14-057-ЭМ. СМ) | S18: =ROUND(J18*5.74,0) -> 0 | T18: =ROUND(K18*4.04,0) -> 0 | U18: =ROUND(L18*10.05,0) -> 0 | V18: =ROUND(M18*5.74*1.053,0) -> 127593 | W18: =ROUND(N18*4.04*1.053,0) -> 40176 | X18: =ROUND(O18*10.05*1.053,0) -> 0
A19: Электроосвещение | B19: =1157+30262 -> 31419 | C19: 0 | D19: 0 | E19: =SUM(B19:D19) -> 31419 | F19: =B19 -> 31419 | G19: =C19 -> 0 | H19: =D19 -> 0 | I19: =SUM(F19:H19) -> 31419 | J19: 0 | K19: =G19 -> 0 | L19: =H19 -> 0 | M19: =F19 -> 31419 | N19: =G19 -> 0 | O19: =H19 -> 0 | P19: =SUM(J19:L19,M19:O19) -> 31419 | Q19: =SUM(S19:U19,V19:X19) -> 189903 | R19: 02-01-05 (14-057-ЭО. СМ) | S19: =ROUND(J19*5.74,0) -> 0 | T19: =ROUND(K19*4.04,0) -> 0 | U19: =ROUND(L19*10.05,0) -> 0 | V19: =ROUND(M19*5.74*1.053,0) -> 189903 | W19: =ROUND(N19*4.04*1.053,0) -> 0 | X19: =ROUND(O19*10.05*1.053,0) -> 0
A20: Конструкции металлические. Опоры | B20: 2139 | C20: 0 | D20: 0 | E20: =SUM(B20:D20) -> 2139 | F20: =B20 -> 2139 | G20: =C20 -> 0 | H20: =D20 -> 0 | I20: =SUM(F20:H20) -> 2139 | J20: 0 | K20: =G20 -> 0 | L20: =H20 -> 0 | M20: =F20 -> 2139 | N20: =G20 -> 0 | O20: =H20 -> 0 | P20: =SUM(J20:L20,M20:O20) -> 2139 | Q20: =SUM(S20:U20,V20:X20) -> 12929 | R20: 02-01-06 (14-057-КМ. СМ) | S20: =ROUND(J20*5.74,0) -> 0 | T20: =ROUND(K20*4.04,0) -> 0 | U20: =ROUND(L20*10.05,0) -> 0 | V20: =ROUND(M20*5.74*1.053,0) -> 12929 | W20: =ROUND(N20*4.04*1.053,0) -> 0 | X20: =ROUND(O20*10.05*1.053,0) -> 0
A21: Итого по главе 2: | B21: =SUM(B10:B20) -> 774141 | C21: =SUM(C10:C20) -> 828902 | D21: =SUM(D10:D20) -> 0 | E21: =SUM(E10:E20) -> 1603043 | F21: =SUM(F10:F20) -> 774141 | G21: =SUM(G10:G20) -> 828902 | H21: =SUM(H10:H20) -> 0 | I21: =SUM(I10:I20) -> 1603043 | ... Q21: =SUM(Q10:Q20) -> 8191248 | S21: =SUM(S10:S20) -> 265641 | T21: =SUM(T10:T20) -> 0 | U21: =SUM(U10:U20) -> 0 | V21: =SUM(V10:V20) -> 4399358 | W21: =SUM(W10:W20) -> 3526249 | X21: =SUM(X10:X20) -> 0
A22: Глава 9. Прочие работы и затраты
A23: ОСР 09
A24: Пусконаладочные работы "вхолостую". Технологическая часть | B24: 0 | C24: 0 | D24: =35990-22044 -> 13946 | E24: =SUM(B24:D24) -> 13946 | F24: =B24 -> 0 | G24: =C24 -> 0 | H24: =D24 -> 13946 | I24: =SUM(F24:H24) -> 13946 | J24: =F24 -> 0 | K24: =G24 -> 0 | L24: 0 | M24: =F24 -> 0 | N24: =G24 -> 0 | O24: =H24 -> 13946 | P24: =SUM(J24:L24,M24:O24) -> 13946 | Q24: =SUM(S24:U24,V24:X24) -> 147586 | R24: 09-01 (14-057-ПНР.ТХ) | S24: =ROUND(J24*5.74,0) -> 0 | T24: =ROUND(K24*4.04,0) -> 0 | U24: =ROUND(L24*10.05,0) -> 0 | V24: =ROUND(M24*5.74*1.053,0) -> 0 | W24: =ROUND(N24*4.04*1.053,0) -> 0 | X24: =ROUND(O24*10.05*1.053,0) -> 147586
A25: Пусконаладочные работы "вхолостую". Отопление | B25: 0 | C25: 0 | D25: =303-227 -> 76 | E25: =SUM(B25:D25) -> 76 | F25: =B25 -> 0 | G25: =C25 -> 0 | H25: =D25 -> 76 | I25: =SUM(F25:H25) -> 76 | J25: =F25 -> 0 | K25: =G25 -> 0 | L25: 0 | M25: =F25 -> 0 | N25: =G25 -> 0 | O25: =H25 -> 76 | P25: =SUM(J25:L25,M25:O25) -> 76 | Q25: =SUM(S25:U25,V25:X25) -> 804 | R25: 09-02 (14-057-ПНР.ОВ) | S25: =ROUND(J25*5.74,0) -> 0 | T25: =ROUND(K25*4.04,0) -> 0 | U25: =ROUND(L25*10.05,0) -> 0 | V25: =ROUND(M25*5.74*1.053,0) -> 0 | W25: =ROUND(N25*4.04*1.053,0) -> 0 | X25: =ROUND(O25*10.05*1.053,0) -> 804
A26: Пусконаладочные работы "вхолостую". Автоматика | B26: 0 | C26: 0 | D26: =2399-1919 -> 480 | E26: =SUM(B26:D26) -> 480 | F26: =B26 -> 0 | G26: =C26 -> 0 | H26: =D26 -> 480 | I26: =SUM(F26:H26) -> 480 | J26: =F26 -> 0 | K26: =G26 -> 0 | L26: 0 | M26: =F26 -> 0 | N26: =G26 -> 0 | O26: =H26 -> 480 | P26: =SUM(J26:L26,M26:O26) -> 480 | Q26: =SUM(S26:U26,V26:X26) -> 5080 | R26: 09-03 (14-057-ПНР.АТМ) | S26: =ROUND(J26*5.74,0) -> 0 | T26: =ROUND(K26*4.04,0) -> 0 | U26: =ROUND(L26*10.05,0) -> 0 | V26: =ROUND(M26*5.74*1.053,0) -> 0 | W26: =ROUND(N26*4.04*1.053,0) -> 0 | X26: =ROUND(O26*10.05*1.053,0) -> 5080
A27: Пусконаладочные работы "вхолостую". Электрооборудование | B27: 0 | C27: 0 | D27: 47046 | E27: =SUM(B27:D27) -> 47046 | F27: =B27 -> 0 | G27: =C27 -> 0 | H27: =D27 -> 47046 | I27: =SUM(F27:H27) -> 47046 | J27: =F27 -> 0 | K27: =G27 -> 0 | L27: 0 | M27: =F27 -> 0 | N27: =G27 -> 0 | O27: =H27 -> 47046 | P27: =SUM(J27:L27,M27:O27) -> 47046 | Q27: =SUM(S27:U27,V27:X27) -> 497871 | R27: 7086/1 | S27: =ROUND(J27*5.74,0) -> 0 | T27: =ROUND(K27*4.04,0) -> 0 | U27: =ROUND(L27*10.05,0) -> 0 | V27: =ROUND(M27*5.74*1.053,0) -> 0 | W27: =ROUND(N27*4.04*1.053,0) -> 0 | X27: =ROUND(O27*10.05*1.053,0) -> 497871
A28: Пусконаладочные работы "вхолостую". Автоматика | B28: 0 | C28: 0 | D28: 5162 | E28: =SUM(B28:D28) -> 5162 | F28: =B28 -> 0 | G28: =C28 -> 0 | H28: =D28 -> 5162 | I28: =SUM(F28:H28) -> 5162 | J28: =F28 -> 0 | K28: =G28 -> 0 | L28: 0 | M28: =F28 -> 0 | N28: =G28 -> 0 | O28: =H28 -> 5162 | P28: =SUM(J28:L28,M28:O28) -> 5162 | Q28: =SUM(S28:U28,V28:X28) -> 54628 | R28: 7162 (к смете 12-027-АТХ1.СМ) | S28: =ROUND(J28*5.74,0) -> 0 | T28: =ROUND(K28*4.04,0) -> 0 | U28: =ROUND(L28*10.05,0) -> 0 | V28: =ROUND(M28*5.74*1.053,0) -> 0 | W28: =ROUND(N28*4.04*1.053,0) -> 0 | X28: =ROUND(O28*10.05*1.053,0) -> 54628
A29: Итого по главе 9: | B29: =SUM(B24:B28) -> 0 | C29: =SUM(C24:C28) -> 0 | D29: =SUM(D24:D28) -> 66710 | E29: =SUM(E24:E28) -> 66710 | F29: =SUM(F24:F28) -> 0 | G29: =SUM(G24:G28) -> 0 | H29: =SUM(H24:H28) -> 66710 | I29: =SUM(I24:I28) -> 66710 | ... Q29: =SUM(Q24:Q28) -> 705969 | S29: =SUM(S24:S28) -> 0 | T29: =SUM(T24:T28) -> 0 | U29: =SUM(U24:U28) -> 0 | V29: =SUM(V24:V28) -> 0 | W29: =SUM(W24:W28) -> 0 | X29: =SUM(X24:X28) -> 705969
A30: Итого по гл. 2-9: | B30: =B21+B29 -> 774141 | C30: =C21+C29 -> 828902 | D30: =D21+D29 -> 66710 | E30: =E21+E29 -> 1669753 | F30: =F21+F29 -> 774141 | G30: =G21+G29 -> 828902 | H30: =H21+H29 -> 66710 | I30: =I21+I29 -> 1669753 | ... Q30: =Q21+Q29 -> 8897217 | S30: =S21+S29 -> 265641 | T30: =T21+T29 -> 0 | U30: =U21+U29 -> 0 | V30: =V21+V29 -> 4399358 | W30: =W21+W29 -> 3526249 | X30: =X21+X29 -> 705969
A31: Итого в ценах 2000 года: | B31: =SUM(B21,B29) -> 774141 | C31: =SUM(C21,C29) -> 828902 | D31: =SUM(D21,D29) -> 66710 | E31: =SUM(E21,E29) -> 1669753 | F31: =SUM(F21,F29) -> 774141 | G31: =SUM(G21,G29) -> 828902 | H31: =SUM(H21,H29) -> 66710 | I31: =SUM(I21,I29) -> 1669753 | ... P31: =SUM(P21,P29) -> 1669753
A32: Итого в текущих ценах*: | Q32: =SUM(S32:U32,V32:X32) -> 8897217 | S32: =S30 -> 265641 | T32: =T30 -> 0 | U32: =U30 -> 0 | V32: =V30 -> 4399358 | W32: =W30 -> 3526249 | X32: =X30 -> 705969
A33: Итого с индексом инфляции**: | Q33: =Q32 -> 8897217 | V33: =V32 -> 4399358 | W33: =W32 -> 3526249 | X33: =X32 -> 705969
A34: НДС 18% | Q34: =SUM(S34:U34,V34:X34) -> 1601499.1 | S34: =ROUND(S32*18%,2) -> 47815.38 | T34: =ROUND(T32*18%,2) -> 0 | U34: =ROUND(U32*18%,2) -> 0 | V34: =ROUND(V32*18%,2) -> 791884.44 | W34: =ROUND(W32*18%,2) -> 634724.82 | X34: =ROUND(X32*18%,2) -> 127074.42
A35: Всего с НДС: | Q35: =SUM(S35:U35,V35:X35) -> 10498716 | S35: =S32+S34 -> 313456.38 | T35: =T32+T34 -> 0 | U35: =U32+U34 -> 0 | V35: =V32+V34 -> 5191242.4 | W35: =W32+W34 -> 4160973.8 | X35: =X32+X34 -> 833043.42
A37: * В расчете использованы индексы:
A38: - 5,74 индекс изменения сметной стоимости СМР к ТЕР 2001 (письмо Минстроя России от 26.06.2015 № 19823/ЮР-08 приложение 1, "Прочие объекты")
A39: - 4,04 индекс изменения сметной стоимости оборудования (письмо Минстроя России от от 26.06.2015 № 19823/ЮР-08 приложение 5, "Электроэнергетика")
A40: - 10,05 индекс изменения сметной стоимости ПНР к ТЕР 2001 (письмо Минстроя России от 26.06.2015 № 19823/ЮР-08 приложение 1, пусконаладочные работы)
A42: ** В расчете использован индекс-дефлятор по инвестициям в основной капитал 2016/2015 - 1,053 по письму Госкорпорации "Росатом" от 09.09.2014 № 1-12.8/34083
...

Sheet Расчет ПНР "под нагрузкой"
A1: Расчет начальной (максимальной) цены
A2: на "Реконструкцию системы технологической водоподготовки бассейна профилактория комбината"
X3: руб.
A4: Наименование глав ССР, объектный сметных расчетов, локальных сметных расчетов, видов прочих работ | B4: Сметная стоимость строительства в базисном уровне цен на 01.01.2000г. по ССР | F4: Остаток сметной стоимости в базисном уровне цен на дату проведения процедуры закупки | J4: Сметная стоимость строительства в базисном уровне цен на 01.01.2000г., выставленная на конкурс | Q4: Текущая стоимость на момент определения начальной (максимальной) цены | R4: № обосновывающего расчета | S4: В том числе по годам строительства
J5: 2015г. | M5: 2016г. | P5: Всего | S5: 2015 г. | V5: 2016 г.
B6: СМР | C6: Оборуд. | D6: Прочие | E6: Всего | F6: СМР | G6: Оборуд. | H6: Прочие | I6: Всего | J6: СМР | K6: Оборуд. | L6: Прочие | M6: СМР | N6: Оборуд. | O6: Прочие | S6: СМР | T6: Оборуд. | U6: Прочие | V6: СМР | W6: Оборуд. | X6: Прочие
A7: 1 | B7: 2 | C7: 3 | D7: 4 | E7: 5 | F7: 6 | G7: 7 | H7: 8 | I7: 9 | J7: 10 | K7: 11 | L7: 12 | M7: 13 | N7: 14 | O7: 15 | P7: 16 | Q7: 17 | R7: 18 | S7: 19 | T7: 20 | U7: 21 | V7: 22 | W7: 23 | X7: 24
A8: Прочие работы и затраты
A10: Пусконаладочные работы "под нагрузкой". Технологическая часть | B10: 0 | C10: 0 | D10: =35990-13946 -> 22044 | E10: =SUM(B10:D10) -> 22044 | F10: =B10 -> 0 | G10: =C10 -> 0 | H10: =D10 -> 22044 | I10: =SUM(F10:H10) -> 22044 | J10: =F10 -> 0 | K10: =G10 -> 0 | L10: 0 | M10: =F10 -> 0 | N10: =G10 -> 0 | O10: =H10 -> 22044 | P10: =SUM(J10:L10,M10:O10) -> 22044 | Q10: =SUM(S10:U10,V10:X10) -> 233284 | R10: 09-01 (14-057-ПНР.ТХ) | S10: =ROUND(J10*5.74,0) -> 0 | T10: =ROUND(K10*4.04,0) -> 0 | U10: =ROUND(L10*10.05,0) -> 0 | V10: =ROUND(M10*5.74*1.053,0) -> 0 | W10: =ROUND(N10*4.04*1.053,0) -> 0 | X10: =ROUND(O10*10.05*1.053,0) -> 233284
A11: Пусконаладочные работы "под нагрузкой". Отопление | B11: 0 | C11: 0 | D11: =303-76 -> 227 | E11: =SUM(B11:D11) -> 227 | F11: =B11 -> 0 | G11: =C11 -> 0 | H11: =D11 -> 227 | I11: =SUM(F11:H11) -> 227 | J11: =F11 -> 0 | K11: =G11 -> 0 | L11: 0 | M11: =F11 -> 0 | N11: =G11 -> 0 | O11: =H11 -> 227 | P11: =SUM(J11:L11,M11:O11) -> 227 | Q11: =SUM(S11:U11,V11:X11) -> 2402 | R11: 09-02 (14-057-ПНР.ОВ) | S11: =ROUND(J11*5.74,0) -> 0 | T11: =ROUND(K11*4.04,0) -> 0 | U11: =ROUND(L11*10.05,0) -> 0 | V11: =ROUND(M11*5.74*1.053,0) -> 0 | W11: =ROUND(N11*4.04*1.053,0) -> 0 | X11: =ROUND(O11*10.05*1.053,0) -> 2402
A12: Пусконаладочные работы "под нагрузкой". Автоматика | B12: 0 | C12: 0 | D12: =2399-480 -> 1919 | E12: =SUM(B12:D12) -> 1919 | F12: =B12 -> 0 | G12: =C12 -> 0 | H12: =D12 -> 1919 | I12: =SUM(F12:H12) -> 1919 | J12: =F12 -> 0 | K12: =G12 -> 0 | L12: 0 | M12: =F12 -> 0 | N12: =G12 -> 0 | O12: =H12 -> 1919 | P12: =SUM(J12:L12,M12:O12) -> 1919 | Q12: =SUM(S12:U12,V12:X12) -> 20308 | R12: 09-03 (14-057-ПНР.АТМ) | S12: =ROUND(J12*5.74,0) -> 0 | T12: =ROUND(K12*4.04,0) -> 0 | U12: =ROUND(L12*10.05,0) -> 0 | V12: =ROUND(M12*5.74*1.053,0) -> 0 | W12: =ROUND(N12*4.04*1.053,0) -> 0 | X12: =ROUND(O12*10.05*1.053,0) -> 20308
A13: Пусконаладочные работы "под нагрузкой". Автоматика | B13: 0 | C13: 0 | D13: 15483 | E13: =SUM(B13:D13) -> 15483 | F13: =B13 -> 0 | G13: =C13 -> 0 | H13: =D13 -> 15483 | I13: =SUM(F13:H13) -> 15483 | J13: =F13 -> 0 | K13: =G13 -> 0 | L13: 0 | M13: =F13 -> 0 | N13: =G13 -> 0 | O13: =H13 -> 15483 | P13: =SUM(J13:L13,M13:O13) -> 15483 | Q13: =SUM(S13:U13,V13:X13) -> 163851 | R13: 7162/1 (к смете 12-027-АТХ1.СМ) | S13: =ROUND(J13*5.74,0) -> 0 | T13: =ROUND(K13*4.04,0) -> 0 | U13: =ROUND(L13*10.05,0) -> 0 | V13: =ROUND(M13*5.74*1.053,0) -> 0 | W13: =ROUND(N13*4.04*1.053,0) -> 0 | X13: =ROUND(O13*10.05*1.053,0) -> 163851
A14: Итого : | B14: =SUM(B10:B13) -> 0 | C14: =SUM(C10:C13) -> 0 | D14: =SUM(D10:D13) -> 39673 | E14: =SUM(E10:E13) -> 39673 | F14: =SUM(F10:F13) -> 0 | G14: =SUM(G10:G13) -> 0 | H14: =SUM(H10:H13) -> 39673 | I14: =SUM(I10:I13) -> 39673 | ... Q14: =SUM(Q10:Q13) -> 419845 | S14: =SUM(S10:S13) -> 0 | T14: =SUM(T10:T13) -> 0 | U14: =SUM(U10:U13) -> 0 | V14: =SUM(V10:V13) -> 0 | W14: =SUM(W10:W13) -> 0 | X14: =SUM(X10:X13) -> 419845
A15: Итого в ценах 2000 года: | B15: =B14 -> 0 | C15: =C14 -> 0 | D15: =D14 -> 39673 | E15: =E14 -> 39673 | F15: =F14 -> 0 | G15: =G14 -> 0 | H15: =H14 -> 39673 | I15: =I14 -> 39673 | ... P15: =P14 -> 39673
A16: Итого в текущих ценах*: | Q16: =SUM(S16:U16,V16:X16) -> 419845 | S16: =S14 -> 0 | T16: =T14 -> 0 | U16: =U14 -> 0 | V16: =V14 -> 0 | W16: =W14 -> 0 | X16: =X14 -> 419845
A17: Итого с индексом инфляции**: | Q17: =Q16 -> 419845 | V17: =V16 -> 0 | W17: =W16 -> 0 | X17: =X16 -> 419845
A18: НДС 18% | Q18: =SUM(S18:U18,V18:X18) -> 75572.1 | S18: =ROUND(S16*18%,2) -> 0 | T18: =ROUND(T16*18%,2) -> 0 | U18: =ROUND(U16*18%,2) -> 0 | V18: =ROUND(V16*18%,2) -> 0 | W18: =ROUND(W16*18%,2) -> 0 | X18: =ROUND(X16*18%,2) -> 75572.1
A19: Всего с НДС: | Q19: =SUM(S19:U19,V19:X19) -> 495417.1 | S19: =S16+S18 -> 0 | T19: =T16+T18 -> 0 | U19: =U16+U18 -> 0 | V19: =V16+V18 -> 0 | W19: =W16+W18 -> 0 | X19: =X16+X18 -> 495417.1
A21: * В расчете использованы индексы:
A22: - 10,05 индекс изменения сметной стоимости ПНР к ТЕР 2001 (письмо Минстроя России от 26.06.2015 № 19823/ЮР-08 приложение 1, пусконаладочные работы)
A24: ** В расчете использован индекс-дефлятор по инвестициям в основной капитал 2016/2015 - 1,053 по письму Госкорпорации "Росатом" от 09.09.2014 № 1-12.8/34083
A27: Начальник отдела капитального строительства ФГУП "Комбинат "Электрохимприбор"
A29: Инженер по проектно-сметной работе
A31: Согласовано отд. 028

Sheet НМЦ
G1: Приложение №1
G2: к извещению на размещение заказа
G3: на выполнение комплекса работ
G4: по строительству объекта
A6: Определение начальной (максимальной) цены договора генерального подряда
A7: ='Расчет СМР с ПНР "вхолостую"'!A2 -> на "Реконструкцию системы технологической водоподготовки бассейна профилактория комбината"
A8: на 2015 - 2016 год
A10: Способ закупки: запрос предложений
H11: ц.2000г./текущие цены, руб.
A12: Наименование услуг и работ (затрат) | C12: Сметная стоимость строительства в базисном уровне цен на 01.01.2000 г. | D12: Сметная стоимость строительства в текущем уровне цен, пресчитанная на момент проведения процедуры закупки | F12: Начальная (максимальная) цена | G12: в том числе по годам строительства
G15: 2015 г. | H15: 2016 г.
A19: 1 | C19: 2 | D19: 3 | F19: 4 | G19: 5 | H19: 6
A20: СМР | C20: ='Расчет СМР с ПНР "вхолостую"'!J31+'Расчет СМР с ПНР "вхолостую"'!M31 -> 774141 | D20: ='Расчет СМР с ПНР "вхолостую"'!S32+'Расчет СМР с ПНР "вхолостую"'!V32 -> 4664999 | F20: =SUM(G20:H20) -> 4664999 | G20: ='Расчет СМР с ПНР "вхолостую"'!S32 -> 265641 | H20: ='Расчет СМР с ПНР "вхолостую"'!V32 -> 4399358
A21: Оборудование | C21: ='Расчет СМР с ПНР "вхолостую"'!K31+'Расчет СМР с ПНР "вхолостую"'!N31 -> 828902 | D21: ='Расчет СМР с ПНР "вхолостую"'!T32+'Расчет СМР с ПНР "вхолостую"'!W32 -> 3526249 | F21: =SUM(G21:H21) -> 3526249 | G21: ='Расчет СМР с ПНР "вхолостую"'!T32 -> 0 | H21: ='Расчет СМР с ПНР "вхолостую"'!W32 -> 3526249
A22: Прочие затраты | C22: =SUM(C24:C25) -> 106383 | D22: =SUM(D24:E25) -> 1125814 | F22: =SUM(G22:H22) -> 1125814 | G22: ='Расчет СМР с ПНР "вхолостую"'!U32+'Расчет ПНР "под нагрузкой"'!U16 -> 0 | H22: ='Расчет СМР с ПНР "вхолостую"'!U32+'Расчет СМР с ПНР "вхолостую"'!X32+'Расчет ПНР "под нагрузкой"'!U16+'Расчет ПНР "под нагрузкой"'!X16 -> 1125814
A23: в том числе:
A24: ПНР "вхолостую" | C24: ='Расчет СМР с ПНР "вхолостую"'!L31+'Расчет СМР с ПНР "вхолостую"'!O31 -> 66710 | D24: ='Расчет СМР с ПНР "вхолостую"'!U32+'Расчет СМР с ПНР "вхолостую"'!X32 -> 705969 | F24: =SUM(G24:H24) -> 705969 | G24: ='Расчет СМР с ПНР "вхолостую"'!U30 -> 0 | H24: ='Расчет СМР с ПНР "вхолостую"'!X30 -> 705969
A25: ПНР "под нагрузкой" | C25: ='Расчет ПНР "под нагрузкой"'!L15+'Расчет ПНР "под нагрузкой"'!O15 -> 39673 | D25: ='Расчет ПНР "под нагрузкой"'!U16+'Расчет ПНР "под нагрузкой"'!X16 -> 419845 | F25: =SUM(G25:H25) -> 419845 | G25: ='Расчет ПНР "под нагрузкой"'!U16 -> 0 | H25: ='Расчет ПНР "под нагрузкой"'!X16 -> 419845
A26: Всего: | C26: =SUM(C20:C22) -> 1709426 | D26: =SUM(D20:E22) -> 9317062 | F26: =SUM(F20:F22) -> 9317062 | G26: =SUM(G20:G22) -> 265641 | H26: =SUM(H20:H22) -> 9051421
A27: НДС | D27: =ROUND(D26*18%,2) -> 1677071.2 | F27: =ROUND(F26*18%,2) -> 1677071.2 | G27: =ROUND(G26*18%,2) -> 47815.38 | H27: =ROUND(H26*18%,2) -> 1629255.8
A28: Итого с НДС | D28: =SUM(D26:E27) -> 10994133 | F28: =SUM(F26:F27) -> 10994133 | G28: =SUM(G26:G27) -> 313456.38 | H28: =SUM(H26:H27) -> 10680677
A30: * В расчете использованы индексы:
A31: ='Расчет СМР с ПНР "вхолостую"'!A38 -> - 5,74 индекс изменения сметной стоимости СМР к ТЕР 2001 (письмо Минстроя России от 26.06.2015 № 19823/ЮР-08 приложение 1, "Прочие объекты")
A32: ='Расчет СМР с ПНР "вхолостую"'!A39 -> - 4,04 индекс изменения сметной стоимости оборудования (письмо Минстроя России от от 26.06.2015 № 19823/ЮР-08 приложение 5, "Электроэнергетика")
A33: ='Расчет СМР с ПНР "вхолостую"'!A40 -> - 10,05 индекс изменения сметной стоимости ПНР к ТЕР 2001 (письмо Минстроя России от 26.06.2015 № 19823/ЮР-08 приложение 1, пусконаладочные работы)
A34: ='Расчет СМР с ПНР "вхолостую"'!A42 -> ** В расчете использован индекс-дефлятор по инвестициям в основной капитал 2016/2015 - 1,053 по письму Госкорпорации "Росатом" от 09.09.2014 № 1-12.8/34083
A36: Начальник отдела капитального строительства
A37: ФГУП "Комбинат "Электрохимприбор"
A39: Инженер по проектно-сметной работе | G39: Ю.А. Воеводина
A41: Согласовано отд. 028

Sheet 01-01-01
A1: СОГЛАСОВАНО: | M1: УТВЕРЖДАЮ:
A4: _________________ | M4: _________________
A5: " _____ " ________________ 2013 г. | M5: "____" ______________2013 г.
H6: ФГУП "Комбинат "Электрохимприбор" г. Лесной, Свердловской области
H7: (наименование стройки)
H9: ЛОКАЛЬНЫЙ СМЕТНЫЙ РАСЧЕТ № 01-01-01 (14-057-АР.Дем.СМ)
H10: (локальная смета)
F12: на Демонтажные работы. Общестроительные работы к проекту: Реконструкция системы технологической водоподготовки бассейна профилактория комбината
H13: (наименование работ и затрат, наименование объекта)
D15: Основание: Ведомомость демонтажных работ №1
D16: Сметная стоимость строительных работ _______________________________________________________________________________________________ | J16: ___________________________44,353 | L16: тыс. руб.
D17: Средства на оплату труда _______________________________________________________________________________________________ | J17: ___________________________13,323 | L17: тыс. руб.
D18: Сметная трудоемкость _______________________________________________________________________________________________ | J18: _______________________________________________________________________________________________649,03 | L18: чел.час
D19: Составлен(а) в текущих (прогнозных) ценах по состоянию на 2001г.
A22: № пп | B22: Обосно- вание | C22: Наименование | D22: Ед. изм. | E22: Кол. на ед./ всего | F22: Стоимость единицы, руб. | J22: Общая стоимость, руб. | N22: Т/з осн. раб.на ед. | O22: Т/з осн. раб. Всего | P22: Т/з мех. на ед. | Q22: Т/з мех. Всего
F23: Всего | G23: В том числе | J23: Всего | K23: В том числе
G24: Осн.З/п | H24: Эк.Маш | I24: З/пМех | K24: Осн.З/п | L24: Эк.Маш | M24: З/пМех
A25: 1 | B25: 2 | C25: 3 | D25: 4 | E25: 5 | F25: 6 | G25: 7 | H25: 8 | I25: 9 | J25: 10 | K25: 11 | L25: 12 | M25: 13 | N25: 14 | O25: 15 | P25: 16 | Q25: 17
A26: Раздел 1. Демонтажные работы. Общестроительные работы. Помещение бассейна
A27: Существующее напольное покрытие бассейнов:
A28: 1 | B28: ТЕРр57-2-3 | C28: Разборка покрытий полов из керамических плиток (мусор=11,09т) НР (1470 руб.): 80% от ФОТ (1837 руб.) СП (1249 руб.): 68% от ФОТ (1837 руб.) | D28: 100 м2 покрытия | E28: 2,132 213,2 / 100 | F28: 897.17 | G28: 839.14 | H28: 58.03 | I28: 22.49 | J28: 1913 | K28: 1789 | L28: 124 | M28: 48 | N28: 69.87 | O28: 148.96 | P28: 1.44 | Q28: 3.07
C29: Затраты труда рабочих (ср 3) | D29: чел.час | E29: 69,87 148,96 | F29: 12.01 | G29: 12.01 | J29: 1789.01 | K29: 1789.01
B30: 1. 030954 | C30: Подъемники грузоподъемностью до 500 кг одномачтовые, высота подъема 45 м | D30: маш.-ч | E30: 1,44 3,07 | F30: 40.3 | H30: 40.3 | I30: 15.62 | J30: 123.72 | L30: 123.72 | M30: 47.95
A31: 2 | B31: ТЕР46-04-009-01 | C31: Разборка полов керамзитобетонных 33 мм (мусор= 213,2*0,033*1,2=8,443т) НР (1036 руб.): 99%=110%*0.9 от ФОТ (1046 руб.) СП (628 руб.): 60%=70%*0.85 от ФОТ (1046 руб.) | D31: 1 м3 | E31: 7 213,2*0,033 | F31: 495.3 | G31: 114.13 | H31: 381.17 | I31: 35.3 | J31: 3467 | K31: 799 | L31: 2668 | M31: 247 | N31: 8.93 | O31: 62.51 | P31: 2.26 | Q31: 15.82
C32: Затраты труда рабочих (ср 3,5) | D32: чел.час | E32: 8,93 62,51 | F32: 12.78 | G32: 12.78 | J32: 798.88 | K32: 798.88
B33: 1. 050102 | C33: Компрессоры передвижные с двигателем внутреннего сгорания давлением до 686 кПа (7 ат), производительность 5 м3/мин | D33: маш.-ч | E33: 2,26 15,82 | F33: 103.34 | H33: 103.34 | I33: 15.62 | J33: 1634.84 | L33: 1634.84 | M33: 247.11
B34: 2. 330804 | C34: Молотки при работе от передвижных компрессорных станций отбойные пневматические | D34: маш.-ч | E34: 4,52 31,64 | F34: 32.66 | H34: 32.66 | J34: 1033.36 | L34: 1033.36
A35: Нижний ряд стен
A36: 3 | B36: ТЕРр63-7-5 | C36: Разборка облицовки стен из керамических глазурованных плиток (мусор=20,6*30=0,618т) НР (136 руб.): 77% от ФОТ (176 руб.) СП (88 руб.): 50% от ФОТ (176 руб.) | D36: 100 м2 поверхности облицовки | E36: 0,206 (41,2*0,5) / 100 | F36: 1081.91 | G36: 823.99 | H36: 257.92 | I36: 27.68 | J36: 223 | K36: 170 | L36: 53 | M36: 6 | N36: 74.3 | O36: 15.31 | P36: 1.99 | Q36: 0.41
C37: Затраты труда рабочих (ср 2,1) | D37: чел.час | E37: 74,3 15,31 | F37: 11.09 | G37: 11.09 | J37: 169.79 | K37: 169.79
B38: 1. 030954 | C38: Подъемники грузоподъемностью до 500 кг одномачтовые, высота подъема 45 м | D38: маш.-ч | E38: 0,35 0,07 | F38: 40.3 | H38: 40.3 | I38: 15.62 | J38: 2.82 | L38: 2.82 | M38: 1.09
B39: 2. 050101 | C39: Компрессоры передвижные с двигателем внутреннего сгорания давлением до 686 кПа (7 ат), производительность 2,2 м3/мин | D39: маш.-ч | E39: 1,64 0,34 | F39: 83.35 | H39: 83.35 | I39: 13.55 | J39: 28.34 | L39: 28.34 | M39: 4.61
B40: 3. 330804 | C40: Молотки при работе от передвижных компрессорных станций отбойные пневматические | D40: маш.-ч | E40: 3,28 0,68 | F40: 32.66 | H40: 32.66 | J40: 22.21 | L40: 22.21
A41: Приборы отопления
A42: 4 | B42: ТЕРр65-19-1 | C42: Демонтаж радиаторов весом до 80 кг (мусор=0,04т) НР (47 руб.): 74% от ФОТ (63 руб.) СП (32 руб.): 50% от ФОТ (63 руб.) | D42: 100 шт. | E42: 0,05 5 / 100 | F42: 1310.17 | G42: 1219.9 | H42: 90.27 | I42: 34.99 | J42: 66 | K42: 61 | L42: 5 | M42: 2 | N42: 110 | O42: 5.5 | P42: 2.24 | Q42: 0.11
C43: Затраты труда рабочих (ср 2,1) | D43: чел.час | E43: 110 5,5 | F43: 11.09 | G43: 11.09 | J43: 61 | K43: 61
B44: 1. 030954 | C44: Подъемники грузоподъемностью до 500 кг одномачтовые, высота подъема 45 м | D44: маш.-ч | E44: 2,24 0,11 | F44: 40.3 | H44: 40.3 | I44: 15.62 | J44: 4.43 | L44: 4.43 | M44: 1.72
A45: Лестницы, поручни
A46: 5 | B46: ТЕР09-03-029-01 | C46: Демонтаж лестниц с поручнями Л-1(вес 80 кг), Л-2(вес - 46 кг), поручни П-1 (вес – 42,9 кг), П-2 (вес - 35,3 кг), П-3(вес - 5,9 кг). (мусор=0,2101т) (5.Прил.9.3Разборка (демонтаж) металлических конструкций ОЗП=0,7; ЭМ=0,7 к расх.; ЗПМ=0,7; МАТ=0 к расх.; ТЗ=0,7; ТЗМ=0,7) НР (63 руб.): 81%=90%*0.9 от ФОТ (78 руб.) СП (56 руб.): 72%=85%*0.85 от ФОТ (78 руб.) | D46: 1 т конструкций | E46: 0,2101 0,08+0,046+0,0429+0,0353+0,0059 | F46: 895.29 | G46: 300.23 | H46: 595.06 | I46: 71.93 | J46: 188 | K46: 63 | L46: 125 | M46: 15 | N46: 22.659 | O46: 4.76 | P46: 3.948 | Q46: 0.83
C47: Затраты труда рабочих (ср 3,8) | D47: чел.час | E47: 22,659 4,76 | F47: 13.25 | G47: 13.25 | J47: 63.07 | K47: 63.07
...

Sheet 01-01-02
A1: СОГЛАСОВАНО: | M1: УТВЕРЖДАЮ:
A4: _________________ | M4: _________________
A5: " _____ " ________________ 2013 г. | M5: "____" ______________2013 г.
H6: ФГУП "Комбинат "Электрохимприбор" г. Лесной, Свердловской области
H7: (наименование стройки)
H9: ЛОКАЛЬНЫЙ СМЕТНЫЙ РАСЧЕТ № 01-01-02 (14-057-ТХ.Дем.СМ)
H10: (локальная смета)
G12: на Демонтажные работы. Технологическая часть к проекту: Реконструкция системы технологической водоподготовки бассейна профилактория комбината
H13: (наименование работ и затрат, наименование объекта)
D15: Основание: Ведомость демонтажных работ №2
D16: Сметная стоимость _______________________________________________________________________________________________ | J16: ___________________________25,538 | L16: тыс. руб.
D17: строительных работ _______________________________________________________________________________________________ | J17: _______________________________________________________________________________________________16,089 | L17: тыс. руб.
D18: монтажных работ _______________________________________________________________________________________________ | J18: _______________________________________________________________________________________________9,449 | L18: тыс. руб.
D19: Средства на оплату труда _______________________________________________________________________________________________ | J19: ___________________________7,991 | L19: тыс. руб.
D20: Сметная трудоемкость _______________________________________________________________________________________________ | J20: _______________________________________________________________________________________________494,21 | L20: чел.час
D21: Составлен(а) в текущих (прогнозных) ценах по состоянию на 2001г.
A24: № пп | B24: Обосно- вание | C24: Наименование | D24: Ед. изм. | E24: Кол. на ед./ всего | F24: Стоимость единицы, руб. | J24: Общая стоимость, руб. | N24: Т/з осн. раб.на ед. | O24: Т/з осн. раб. Всего | P24: Т/з мех. на ед. | Q24: Т/з мех. Всего
F25: Всего | G25: В том числе | J25: Всего | K25: В том числе
G26: Осн.З/п | H26: Эк.Маш | I26: З/пМех | K26: Осн.З/п | L26: Эк.Маш | M26: З/пМех
A27: 1 | B27: 2 | C27: 3 | D27: 4 | E27: 5 | F27: 6 | G27: 7 | H27: 8 | I27: 9 | J27: 10 | K27: 11 | L27: 12 | M27: 13 | N27: 14 | O27: 15 | P27: 16 | Q27: 17
A28: Раздел 1. Демонтажные работы. Технологическая часть
A29: 1 | B29: ТЕР18-05-001-01 | C29: Демонтаж насосов центробежных с электродвигателем, масса агрегата до 0,1 т (мусор=80*3+145+15+1=401 кг) (МДС 81-36.2004 п.п.3.3.1.Демонтаж (разборка) внутренних санитарно-технических устройств (водопровода, газопровода, канализации, водостоков, отопления, вентиляции) ОЗП=0,4; ЭМ=0,4 к расх.; ЗПМ=0,4; МАТ=0 к расх.; ТЗ=0,4; ТЗМ=0,4) НР (515 руб.): 115%=128%*0.9 от ФОТ (448 руб.) СП (318 руб.): 71%=83%*0.85 от ФОТ (448 руб.) | D29: 1 насос | E29: 6 3+1+1+1 | F29: 79.92 | G29: 74.2 | H29: 5.72 | I29: 0.36 | J29: 480 | K29: 446 | L29: 34 | M29: 2 | N29: 5.668 | O29: 34.01 | P29: 0.02 | Q29: 0.12
C30: Затраты труда рабочих (ср 3,7) | D30: чел.час | E30: 5,668 34,01 | F30: 13.09 | G30: 13.09 | J30: 445.19 | K30: 445.19
B31: 1. 021141 | C31: Краны на автомобильном ходу при работе на других видах строительства 10 т | D31: маш.-ч | E31: 0,02 0,12 | F31: 127.47 | H31: 127.47 | I31: 18.2 | J31: 15.3 | L31: 15.3 | M31: 2.18
B32: 2. 040502 | C32: Установки для сварки ручной дуговой (постоянного тока) | D32: маш.-ч | E32: 0,208 1,25 | F32: 8.97 | H32: 8.97 | J32: 11.21 | L32: 11.21
B33: 3. 400001 | C33: Автомобили бортовые, грузоподъемность до 5 т | D33: маш.-ч | E33: 0,012 0,07 | F33: 109.17 | H33: 109.17 | J33: 7.64 | L33: 7.64
B34: 4. 101-1522 | C34: Электроды диаметром 5 мм Э42А | D34: т | E34: 0 | F34: 11130.07
B35: 5. 101-1703 | C35: Прокладки резиновые (пластина техническая прессованная) | D35: кг | E35: 0 | F35: 24.75
B36: 6. 101-2575 | C36: Болты с гайками и шайбами для санитарно-технических работ диаметром 12 мм | D36: т | E36: 0 | F36: 16456.01
B37: 7. 204-0059 | C37: Анкерные детали из прямых или гнутых круглых стержней с резьбой (в комплекте с шайбами и гайками или без них), поставляемые отдельно | D37: т | E37: 0 | F37: 10820
B38: 8. 301-1494 | C38: Насосы центробежные 8/18 с электродвигателем 4А 180 А2 массой агрегата до 0,1 т | D38: компл. | E38: 0 | F38: 2635.77
B39: 9. 402-0002 | C39: Раствор готовый кладочный цементный марки 50 | D39: м3 | E39: 0 | F39: 613.29
B40: 10. 507-0982 | C40: Фланцы стальные плоские приварные из стали ВСт3сп2, ВСт3сп3, давлением 1,0 МПа (10 кгс/см2), диаметром 40 мм | D40: шт. | E40: 0 | F40: 30.94
B41: 11. 507-0983 | C41: Фланцы стальные плоские приварные из стали ВСт3сп2, ВСт3сп3, давлением 1,0 МПа (10 кгс/см2), диаметром 50 мм | D41: шт. | E41: 0 | F41: 44.03
A42: 2 | B42: ТЕР09-06-001-02 Применительно | C42: Демонтаж металлического смесителя (мусор=20 кг) (5.Прил.9.3Разборка (демонтаж) металлических конструкций ОЗП=0,7; ЭМ=0,7 к расх.; ЗПМ=0,7; МАТ=0 к расх.; ТЗ=0,7; ТЗМ=0,7) НР (7 руб.): 81%=90%*0.9 от ФОТ (9 руб.) СП (6 руб.): 72%=85%*0.85 от ФОТ (9 руб.) | D42: 1 т конструкций | E42: 0.02 | F42: 533.68 | G42: 426.99 | H42: 106.69 | I42: 1.53 | J42: 11 | K42: 9 | L42: 2 | N42: 35.553 | O42: 0.71 | P42: 0.084
C43: Затраты труда рабочих (ср 3) | D43: чел.час | E43: 35,553 0,71 | F43: 12.01 | G43: 12.01 | J43: 8.53 | K43: 8.53
B44: 1. 021141 | C44: Краны на автомобильном ходу при работе на других видах строительства 10 т | D44: маш.-ч | E44: 0,084 | F44: 127.47 | H44: 127.47 | I44: 18.2
B45: 2. 030404 | C45: Лебедки электрические тяговым усилием до 31,39 кН (3,2 т) | D45: маш.-ч | E45: 7,371 0,15 | F45: 7.34 | H45: 7.34 | J45: 1.1 | L45: 1.1
B46: 3. 040504 | C46: Аппарат для газовой сварки и резки | D46: маш.-ч | E46: 1,302 0,03 | F46: 1.24 | H46: 1.24 | J46: 0.04 | L46: 0.04
B47: 4. 041000 | C47: Преобразователи сварочные с номинальным сварочным током 315-500 А | D47: маш.-ч | E47: 1,421 0,03 | F47: 16.43 | H47: 16.43 | J47: 0.49 | L47: 0.49
...

Sheet 01-01-03
A1: СОГЛАСОВАНО: | M1: УТВЕРЖДАЮ:
A4: _________________ | M4: _________________
A5: " _____ " ________________ 2013 г. | M5: "____" ______________2013 г.
H6: ФГУП "Комбинат "Электрохимприбор" г. Лесной, Свердловской области
H7: (наименование стройки)
H9: ЛОКАЛЬНЫЙ СМЕТНЫЙ РАСЧЕТ № 01-01-03 (14-057-ОВ.Дем.СМ)
H10: (локальная смета)
G12: на Демонтажные работы. Отопление к проекту: Реконструкция системы технологической водоподготовки бассейна профилактория комбината
H13: (наименование работ и затрат, наименование объекта)
D15: Основание: Ведомомость демонтажных работ №3
D16: Сметная стоимость строительных работ _______________________________________________________________________________________________ | J16: ___________________________0,784 | L16: тыс. руб.
D17: Средства на оплату труда _______________________________________________________________________________________________ | J17: ___________________________0,275 | L17: тыс. руб.
D18: Сметная трудоемкость _______________________________________________________________________________________________ | J18: _______________________________________________________________________________________________18,67 | L18: чел.час
D19: Составлен(а) в текущих (прогнозных) ценах по состоянию на 2001г.
A22: № пп | B22: Обосно- вание | C22: Наименование | D22: Ед. изм. | E22: Кол. на ед./ всего | F22: Стоимость единицы, руб. | J22: Общая стоимость, руб. | N22: Т/з осн. раб.на ед. | O22: Т/з осн. раб. Всего | P22: Т/з мех. на ед. | Q22: Т/з мех. Всего
F23: Всего | G23: В том числе | J23: Всего | K23: В том числе
G24: Осн.З/п | H24: Эк.Маш | I24: З/пМех | K24: Осн.З/п | L24: Эк.Маш | M24: З/пМех
A25: 1 | B25: 2 | C25: 3 | D25: 4 | E25: 5 | F25: 6 | G25: 7 | H25: 8 | I25: 9 | J25: 10 | K25: 11 | L25: 12 | M25: 13 | N25: 14 | O25: 15 | P25: 16 | Q25: 17
A26: Раздел 1. Демонтажные работы. Отопление
A27: 1 | B27: ТЕР17-01-008-01 | C27: Демонтаж водонагревателя (мусор=136 кг) (МДС 81-36.2004 п.п.3.3.1.Демонтаж (разборка) внутренних санитарно-технических устройств (водопровода, газопровода, канализации, водостоков, отопления, вентиляции) ОЗП=0,4; ЭМ=0,4 к расх.; ЗПМ=0,4; МАТ=0 к расх.; ТЗ=0,4; ТЗМ=0,4) НР (54 руб.): 115%=128%*0.9 от ФОТ (47 руб.) СП (33 руб.): 71%=83%*0.85 от ФОТ (47 руб.) | D27: 10 компл. | E27: 0,1 1 / 10 | F27: 514.32 | G27: 463.01 | H27: 51.31 | I27: 6.54 | J27: 51 | K27: 46 | L27: 5 | M27: 1 | N27: 34.944 | O27: 3.49 | P27: 0.396 | Q27: 0.04
C28: Затраты труда рабочих (ср 3,8) | D28: чел.час | E28: 34,944 3,49 | F28: 13.25 | G28: 13.25 | J28: 46.24 | K28: 46.24
B29: 1. 021141 | C29: Краны на автомобильном ходу при работе на других видах строительства 10 т | D29: маш.-ч | E29: 0,14 0,01 | F29: 127.47 | H29: 127.47 | I29: 18.2 | J29: 1.27 | L29: 1.27 | M29: 0.18
B30: 2. 030954 | C30: Подъемники грузоподъемностью до 500 кг одномачтовые, высота подъема 45 м | D30: маш.-ч | E30: 0,256 0,03 | F30: 40.3 | H30: 40.3 | I30: 15.62 | J30: 1.21 | L30: 1.21 | M30: 0.47
B31: 3. 400001 | C31: Автомобили бортовые, грузоподъемность до 5 т | D31: маш.-ч | E31: 0,212 0,02 | F31: 109.17 | H31: 109.17 | J31: 2.18 | L31: 2.18
B32: 4. 101-0388 | C32: Краски масляные земляные марки МА-0115 мумия, сурик железный | D32: т | E32: 0 | F32: 16871.82
B33: 5. 101-0628 | C33: Олифа комбинированная, марки К-3 | D33: т | E33: 0 | F33: 20706
B34: 6. 101-1669 | C34: Очес льняной | D34: кг | E34: 0 | F34: 40.45
B35: 7. 301-1513 | C35: Нагреватель индивидуальный водоводяной наружный диаметр корпуса 273 мм, длина 1,25 (со змеевиком диаметром 25х2 мм длиной 19,2 м, число витков 30), поверхность нагрева 1,6 м2 | D35: компл. | E35: 0 | F35: 2545.78
B36: 8. 402-0004 | C36: Раствор готовый кладочный цементный марки 100 | D36: м3 | E36: 0 | F36: 673.2
A37: 2 | B37: ТЕРр66-24-2 | C37: Разборка тепловой изоляции из ваты минеральной (40кг/м3=7*0,04=0,28м3*40= 11,2кг) НР (12 руб.): 74% от ФОТ (16 руб.) СП (8 руб.): 50% от ФОТ (16 руб.) | D37: 100 м2 наружной площади разобранной изоляции | E37: 0,07 (0,108*3,14*20) / 100 | F37: 223.66 | G37: 223.66 | J37: 16 | K37: 16 | N37: 19.1 | O37: 1.34
C38: Затраты труда рабочих (ср 2,7) | D38: чел.час | E38: 19,1 1,34 | F38: 11.71 | G38: 11.71 | J38: 15.69 | K38: 15.69
A39: 3 | B39: ТЕР16-02-005-05 | C39: Демонтаж трубопроводов отопления и водоснабжения из стальных электросварных труб диаметром 100 мм (мусор=11,48*20=230 кг) (МДС 81-36.2004 п.п.3.3.1.Демонтаж (разборка) внутренних санитарно-технических устройств (водопровода, газопровода, канализации, водостоков, отопления, вентиляции) ОЗП=0,4; ЭМ=0,4 к расх.; ЗПМ=0,4; МАТ=0 к расх.; ТЗ=0,4; ТЗМ=0,4) НР (102 руб.): 115%=128%*0.9 от ФОТ (89 руб.) СП (63 руб.): 71%=83%*0.85 от ФОТ (89 руб.) | D39: 100 м трубопровода | E39: 0,2 20 / 100 | F39: 550.14 | G39: 438.94 | H39: 111.2 | I39: 2.69 | J39: 110 | K39: 88 | L39: 22 | M39: 1 | N39: 31.9 | O39: 6.38 | P39: 0.148 | Q39: 0.03
C40: Затраты труда рабочих (ср 4,1) | D40: чел.час | E40: 31,9 6,38 | F40: 13.76 | G40: 13.76 | J40: 87.79 | K40: 87.79
B41: 1. 020129 | C41: Краны башенные при работе на других видах строительства 8 т | D41: маш.-ч | E41: 0,108 0,02 | F41: 255.96 | H41: 255.96 | I41: 18.2 | J41: 5.12 | L41: 5.12 | M41: 0.36
B42: 2. 021141 | C42: Краны на автомобильном ходу при работе на других видах строительства 10 т | D42: маш.-ч | E42: 0,04 0,01 | F42: 127.47 | H42: 127.47 | I42: 18.2 | J42: 1.27 | L42: 1.27 | M42: 0.18
B43: 3. 040504 | C43: Аппарат для газовой сварки и резки | D43: маш.-ч | E43: 13,968 2,79 | F43: 1.24 | H43: 1.24 | J43: 3.46 | L43: 3.46
B44: 4. 400001 | C44: Автомобили бортовые, грузоподъемность до 5 т | D44: маш.-ч | E44: 0,56 0,11 | F44: 109.17 | H44: 109.17 | J44: 12.01 | L44: 12.01
B45: 5. 101-0324 | C45: Кислород технический газообразный | D45: м3 | E45: 0 | F45: 11.89
B46: 6. 101-0807 | C46: Проволока сварочная легированная диаметром 4 мм | D46: т | E46: 0 | F46: 11328.8
B47: 7. 101-1602 | C47: Ацетилен газообразный технический | D47: м3 | E47: 0 | F47: 85
...

Sheet 01-01-04
A1: СОГЛАСОВАНО: | M1: УТВЕРЖДАЮ:
A4: _________________ | M4: _________________
A5: " _____ " ________________ 2013 г. | M5: "____" ______________2013 г.
H6: ФГУП "Комбинат "Электрохимприбор" г. Лесной, Свердловской области
H7: (наименование стройки)
H9: ЛОКАЛЬНЫЙ СМЕТНЫЙ РАСЧЕТ № 01-01-04 (14-057-ЭМ.Дем.СМ)
H10: (локальная смета)
G12: на Демонтажные работы. Электрооборудование к проекту: Реконструкция системы технологической водоподготовки бассейна профилактория комбината
H13: (наименование работ и затрат, наименование объекта)
D15: Основание: Ведомость демонтажных работ №4
D16: Сметная стоимость _______________________________________________________________________________________________ | J16: ___________________________1,142 | L16: тыс. руб.
D17: строительных работ _______________________________________________________________________________________________ | J17: _______________________________________________________________________________________________0,014 | L17: тыс. руб.
D18: монтажных работ _______________________________________________________________________________________________ | J18: _______________________________________________________________________________________________1,128 | L18: тыс. руб.
D19: Средства на оплату труда _______________________________________________________________________________________________ | J19: ___________________________0,430 | L19: тыс. руб.
D20: Сметная трудоемкость _______________________________________________________________________________________________ | J20: _______________________________________________________________________________________________35,69 | L20: чел.час
D21: Составлен(а) в текущих (прогнозных) ценах по состоянию на 2001г.
A24: № пп | B24: Обосно- вание | C24: Наименование | D24: Ед. изм. | E24: Кол. на ед./ всего | F24: Стоимость единицы, руб. | J24: Общая стоимость, руб. | N24: Т/з осн. раб.на ед. | O24: Т/з осн. раб. Всего | P24: Т/з мех. на ед. | Q24: Т/з мех. Всего
F25: Всего | G25: В том числе | J25: Всего | K25: В том числе
G26: Осн.З/п | H26: Эк.Маш | I26: З/пМех | K26: Осн.З/п | L26: Эк.Маш | M26: З/пМех
A27: 1 | B27: 2 | C27: 3 | D27: 4 | E27: 5 | F27: 6 | G27: 7 | H27: 8 | I27: 9 | J27: 10 | K27: 11 | L27: 12 | M27: 13 | N27: 14 | O27: 15 | P27: 16 | Q27: 17
A28: Раздел 1. Демонтажные работы. Электрооборудование
A29: 1 | B29: ТЕРм08-03-573-04 | C29: Демонтаж. Шкаф управления насосами (мусор=4*20=80 кг) (МДС 81-37.2004 п.п.3.2.1.Демонтаж оборудования, которое не подлежит дальнейшему использованию (предназначено в лом) без разборки и резки ОЗП=0,3; ЭМ=0,3 к расх.; ЗПМ=0,3; МАТ=0 к расх.; ТЗ=0,3; ТЗМ=0,3) НР (44 руб.): 95% от ФОТ (46 руб.) СП (30 руб.): 65% от ФОТ (46 руб.) | D29: 1 шт. | E29: 4 | F29: 28.55 | G29: 9.93 | H29: 18.62 | I29: 1.41 | J29: 114 | K29: 40 | L29: 74 | M29: 6 | N29: 0.711 | O29: 2.84 | P29: 0.087 | Q29: 0.35
C30: Затраты труда рабочих (ср 4,2) | D30: чел.час | E30: 0,711 2,84 | F30: 13.97 | G30: 13.97 | J30: 39.67 | K30: 39.67
B31: 1. 021102 | C31: Краны на автомобильном ходу при работе на монтаже технологического оборудования 10 т | D31: маш.-ч | E31: 0,021 0,08 | F31: 172.79 | H31: 172.79 | I31: 18.2 | J31: 13.82 | L31: 13.82 | M31: 1.46
B32: 2. 040502 | C32: Установки для сварки ручной дуговой (постоянного тока) | D32: маш.-ч | E32: 0,213 0,85 | F32: 8.97 | H32: 8.97 | J32: 7.62 | L32: 7.62
B33: 3. 050102 | C33: Компрессоры передвижные с двигателем внутреннего сгорания давлением до 686 кПа (7 ат), производительность 5 м3/мин | D33: маш.-ч | E33: 0,066 0,26 | F33: 103.34 | H33: 103.34 | I33: 15.62 | J33: 26.87 | L33: 26.87 | M33: 4.06
B34: 4. 100602 | C34: Молотки бурильные легкие при работе от передвижных компрессорных станций | D34: маш.-ч | E34: 0,066 0,26 | F34: 56.77 | H34: 56.77 | J34: 14.76 | L34: 14.76
B35: 5. 400002 | C35: Автомобили бортовые, грузоподъемность до 8 т | D35: маш.-ч | E35: 0,021 0,08 | F35: 119.46 | H35: 119.46 | J35: 9.56 | L35: 9.56
B36: 6. 101-1924 | C36: Электроды диаметром 4 мм Э42А | D36: кг | E36: 0 | F36: 11.66
B37: 7. 101-1977 | C37: Болты с гайками и шайбами строительные | D37: кг | E37: 0 | F37: 16.8
B38: 8. 101-2143 | C38: Краска | D38: кг | E38: 0 | F38: 29.75
B39: 9. 999-9950 | C39: Вспомогательные ненормируемые ресурсы | D39: руб. | E39: 0 | F39: 1
A40: 2 | B40: ТЕРр67-3-1 | C40: Демонтаж кабеля (мусор=0,15*150=22,5 кг) НР (135 руб.): 85% от ФОТ (159 руб.) СП (103 руб.): 65% от ФОТ (159 руб.) | D40: 100 м | E40: 1,5 150 / 100 | F40: 106.34 | G40: 105.94 | H40: 0.4 | I40: 0.16 | J40: 160 | K40: 159 | L40: 1 | N40: 9.64 | O40: 14.46 | P40: 0.01 | Q40: 0.02
C41: Затраты труда рабочих (ср 2) | D41: чел.час | E41: 9,64 14,46 | F41: 10.99 | G41: 10.99 | J41: 158.92 | K41: 158.92
B42: 1. 030954 | C42: Подъемники грузоподъемностью до 500 кг одномачтовые, высота подъема 45 м | D42: маш.-ч | E42: 0,01 0,02 | F42: 40.3 | H42: 40.3 | I42: 15.62 | J42: 0.81 | L42: 0.81 | M42: 0.31
A43: 3 | B43: ТЕРр67-2-7 | C43: Демонтаж труб, проложенных на скобах диаметром 50 мм (мусор=2,5*50=125 кг) НР (182 руб.): 85% от ФОТ (214 руб.) СП (139 руб.): 65% от ФОТ (214 руб.) | D43: 100 м труб | E43: 0,5 50 / 100 | F43: 441.17 | G43: 423.22 | H43: 11.1 | I43: 3.59 | J43: 221 | K43: 212 | L43: 6 | M43: 2 | N43: 36.77 | O43: 18.39 | P43: 0.23 | Q43: 0.12
C44: Затраты труда рабочих (ср 2,5) | D44: чел.час | E44: 36,77 18,39 | F44: 11.51 | G44: 11.51 | J44: 211.67 | K44: 211.67
B45: 1. 030954 | C45: Подъемники грузоподъемностью до 500 кг одномачтовые, высота подъема 45 м | D45: маш.-ч | E45: 0,23 0,12 | F45: 40.3 | H45: 40.3 | I45: 15.62 | J45: 4.84 | L45: 4.84 | M45: 1.87
B46: 2. 040504 | C46: Аппарат для газовой сварки и резки | D46: маш.-ч | E46: 1,48 0,74 | F46: 1.24 | H46: 1.24 | J46: 0.92 | L46: 0.92
B47: 3. 101-0324 | C47: Кислород технический газообразный | D47: м3 | E47: 0,29 0,145 | F47: 11.89 | J47: 1.72
...

Sheet 01-01-05
A1: СОГЛАСОВАНО: | M1: УТВЕРЖДАЮ:
A4: _________________ | M4: _________________
A5: " _____ " ________________ 2013 г. | M5: "____" ______________2013 г.
H6: ФГУП "Комбинат "Электрохимприбор" г. Лесной, Свердловской области
H7: (наименование стройки)
H9: ЛОКАЛЬНЫЙ СМЕТНЫЙ РАСЧЕТ № 01-01-05 (14-057-ЭО.Дем.СМ)
H10: (локальная смета)
G12: на Демонтажные работы. Электроосвещение к проекту: Реконструкция системы технологической водоподготовки бассейна профилактория комбината
H13: (наименование работ и затрат, наименование объекта)
D15: Основание: Ведомость демонтажных работ №5
D16: Сметная стоимость _______________________________________________________________________________________________ | J16: ___________________________1,223 | L16: тыс. руб.
D17: строительных работ _______________________________________________________________________________________________ | J17: _______________________________________________________________________________________________0,008 | L17: тыс. руб.
D18: монтажных работ _______________________________________________________________________________________________ | J18: _______________________________________________________________________________________________1,215 | L18: тыс. руб.
D19: Средства на оплату труда _______________________________________________________________________________________________ | J19: ___________________________0,486 | L19: тыс. руб.
D20: Сметная трудоемкость _______________________________________________________________________________________________ | J20: _______________________________________________________________________________________________42,19 | L20: чел.час
D21: Составлен(а) в текущих (прогнозных) ценах по состоянию на 2001г.
A24: № пп | B24: Обосно- вание | C24: Наименование | D24: Ед. изм. | E24: Кол. на ед./ всего | F24: Стоимость единицы, руб. | J24: Общая стоимость, руб. | N24: Т/з осн. раб.на ед. | O24: Т/з осн. раб. Всего | P24: Т/з мех. на ед. | Q24: Т/з мех. Всего
F25: Всего | G25: В том числе | J25: Всего | K25: В том числе
G26: Осн.З/п | H26: Эк.Маш | I26: З/пМех | K26: Осн.З/п | L26: Эк.Маш | M26: З/пМех
A27: 1 | B27: 2 | C27: 3 | D27: 4 | E27: 5 | F27: 6 | G27: 7 | H27: 8 | I27: 9 | J27: 10 | K27: 11 | L27: 12 | M27: 13 | N27: 14 | O27: 15 | P27: 16 | Q27: 17
A28: Раздел 1. Демонтажные работы. Электроосвещение
A29: 1 | B29: ТЕРр67-4-3 | C29: Демонтаж светильников с лампами накаливания (мусор=3,5*22=77 кг) НР (14 руб.): 85% от ФОТ (16 руб.) СП (10 руб.): 65% от ФОТ (16 руб.) | D29: 100 шт. | E29: 0,22 22 / 100 | F29: 70.67 | G29: 69.46 | H29: 1.21 | I29: 0.47 | J29: 16 | K29: 16 | N29: 6.32 | O29: 1.39 | P29: 0.03 | Q29: 0.01
C30: Затраты труда рабочих (ср 2) | D30: чел.час | E30: 6,32 1,39 | F30: 10.99 | G30: 10.99 | J30: 15.28 | K30: 15.28
B31: 1. 030954 | C31: Подъемники грузоподъемностью до 500 кг одномачтовые, высота подъема 45 м | D31: маш.-ч | E31: 0,03 0,01 | F31: 40.3 | H31: 40.3 | I31: 15.62 | J31: 0.4 | L31: 0.4 | M31: 0.16
A32: 2 | B32: ТЕРр67-4-1 | C32: Демонтаж выключателей (мусор=0,1*2=0,2 кг) НР (1 руб.): 85% от ФОТ (1 руб.) СП (1 руб.): 65% от ФОТ (1 руб.) | D32: 100 шт. | E32: 0,02 2 / 100 | F32: 64.18 | G32: 64.18 | J32: 1 | K32: 1 | N32: 5.84 | O32: 0.12
C33: Затраты труда рабочих (ср 2) | D33: чел.час | E33: 5,84 0,12 | F33: 10.99 | G33: 10.99 | J33: 1.32 | K33: 1.32
A34: 3 | B34: ТЕРр67-3-1 | C34: Демонтаж кабеля (мусор=0,15*160=24 кг) НР (145 руб.): 85% от ФОТ (170 руб.) СП (111 руб.): 65% от ФОТ (170 руб.) | D34: 100 м | E34: 1,6 160 / 100 | F34: 106.34 | G34: 105.94 | H34: 0.4 | I34: 0.16 | J34: 170 | K34: 170 | N34: 9.64 | O34: 15.42 | P34: 0.01 | Q34: 0.02
C35: Затраты труда рабочих (ср 2) | D35: чел.час | E35: 9,64 15,42 | F35: 10.99 | G35: 10.99 | J35: 169.47 | K35: 169.47
B36: 1. 030954 | C36: Подъемники грузоподъемностью до 500 кг одномачтовые, высота подъема 45 м | D36: маш.-ч | E36: 0,01 0,02 | F36: 40.3 | H36: 40.3 | I36: 15.62 | J36: 0.81 | L36: 0.81 | M36: 0.31
A37: 4 | B37: ТЕРр67-2-5 | C37: Демонтаж труб, проложенных на скобах диаметром до 25 мм (мусор=1,5*150=30 кг) НР (249 руб.): 85% от ФОТ (293 руб.) СП (190 руб.): 65% от ФОТ (293 руб.) | D37: 100 м труб | E37: 1,5 150 / 100 | F37: 205.34 | G37: 193.83 | H37: 4.66 | I37: 1.09 | J37: 308 | K37: 291 | L37: 7 | M37: 2 | N37: 16.84 | O37: 25.26 | P37: 0.07 | Q37: 0.11
C38: Затраты труда рабочих (ср 2,5) | D38: чел.час | E38: 16,84 25,26 | F38: 11.51 | G38: 11.51 | J38: 290.74 | K38: 290.74
B39: 1. 030954 | C39: Подъемники грузоподъемностью до 500 кг одномачтовые, высота подъема 45 м | D39: маш.-ч | E39: 0,07 0,11 | F39: 40.3 | H39: 40.3 | I39: 15.62 | J39: 4.43 | L39: 4.43 | M39: 1.72
B40: 2. 040504 | C40: Аппарат для газовой сварки и резки | D40: маш.-ч | E40: 1,48 2,22 | F40: 1.24 | H40: 1.24 | J40: 2.75 | L40: 2.75
B41: 3. 101-0324 | C41: Кислород технический газообразный | D41: м3 | E41: 0,29 0,435 | F41: 11.89 | J41: 5.17
B42: 4. 101-1602 | C42: Ацетилен газообразный технический | D42: м3 | E42: 0,04 0,06 | F42: 85 | J42: 5.1
A43: 5 | B43: ФССЦпг01-01-01-041 | C43: Погрузочные работы при автомобильных перевозках: мусора строительного с погрузкой вручную (ОП п.1.1.9 Прил.1 Прил.1Поясной коэффициент: Свердловская область ПЗ=1,1 (ОЗП=1,1; ЭМ=1,1; ЗПМ=1,1; МАТ=1,1)) НР 0% от ФОТ СП 0% от ФОТ | D43: 1 т груза | E43: 0,131 0,077+0,0002+0,024+0,03 | F43: 47.28 | G43: 47.28 | J43: 6 | K43: 6
A44: 6 | B44: ФССЦпг03-21-01-015 | C44: Перевозка грузов автомобилями-самосвалами грузоподъемностью 10 т, работающих вне карьера, на расстояние: до 15 км I класс груза (ОП п.1.1.9 Прил.1Поясные коэффициенты к сметным ценам на перевозку грузов автомобильным транспортом: Свердловская область ПЗ=1,1 (ОЗП=1,1; ЭМ=1,1; ЗПМ=1,1; МАТ=1,1)) НР 0% от ФОТ СП 0% от ФОТ | D44: 1 т груза | E44: 0,131 М | F44: 14.72 | H44: 14.72 | J44: 2 | L44: 2
A45: Итого прямые затраты по разделу в ценах 2001г. | J45: 503 | K45: 484 | L45: 9 | M45: 2 | O45: 42.19 | Q45: 0.14
A46: Накладные расходы | J46: 408
A47: Сметная прибыль | J47: 312
...

Sheet 02-01-01
A1: СОГЛАСОВАНО: | M1: УТВЕРЖДАЮ:
A4: _________________ | M4: _________________
A5: " _____ " ________________ 2013 г. | M5: "____" ______________2013 г.
H6: ФГУП "Комбинат "Электрохимприбор" г. Лесной, Свердловской области
H7: (наименование стройки)
H9: ЛОКАЛЬНЫЙ СМЕТНЫЙ РАСЧЕТ № 02-01-01 (14-057-АР.СМ)
H10: (локальная смета)
H12: на Общестроительные работы к проекту: Реконструкция системы технологической водоподготовки бассейна профилактория комбината
H13: (наименование работ и затрат, наименование объекта)
D15: Основание: 14-057-АР
D16: Сметная стоимость _______________________________________________________________________________________________ | J16: ___________________________210,826 | L16: тыс. руб.
D17: строительных работ _______________________________________________________________________________________________ | J17: _______________________________________________________________________________________________197,820 | L17: тыс. руб.
D18: монтажных работ _______________________________________________________________________________________________ | J18: _______________________________________________________________________________________________13,006 | L18: тыс. руб.
D19: Средства на оплату труда _______________________________________________________________________________________________ | J19: ___________________________32,011 | L19: тыс. руб.
D20: Сметная трудоемкость _______________________________________________________________________________________________ | J20: _______________________________________________________________________________________________2484,29 | L20: чел.час
D21: Составлен(а) в текущих (прогнозных) ценах по состоянию на 2001г.
A24: № пп | B24: Обосно- вание | C24: Наименование | D24: Ед. изм. | E24: Кол. на ед./ всего | F24: Стоимость единицы, руб. | J24: Общая стоимость, руб. | N24: Т/з осн. раб.на ед. | O24: Т/з осн. раб. Всего | P24: Т/з мех. на ед. | Q24: Т/з мех. Всего
F25: Всего | G25: В том числе | J25: Всего | K25: В том числе
G26: Осн.З/п | H26: Эк.Маш | I26: З/пМех | K26: Осн.З/п | L26: Эк.Маш | M26: З/пМех
A27: 1 | B27: 2 | C27: 3 | D27: 4 | E27: 5 | F27: 6 | G27: 7 | H27: 8 | I27: 9 | J27: 10 | K27: 11 | L27: 12 | M27: 13 | N27: 14 | O27: 15 | P27: 16 | Q27: 17
A28: Раздел 1. План полов на отм. -4,200 м, лист 2, Помещение 005 Насосная
A29: Тип 1
A30: 55 | B30: ТЕР26-01-021-01 | C30: Изоляция плоских и криволинейных поверхностей из пенополиуретана методом напыления = Технопрок (МАТ=0 к расх.) НР (140 руб.): 90%=100%*0.9 от ФОТ (155 руб.) СП (93 руб.): 60%=70%*0.85 от ФОТ (155 руб.) | D30: 1 м3 изоляции | E30: 0,34628 173,14*0,002 | F30: 801.93 | G30: 447.46 | H30: 354.47 | J30: 278 | K30: 155 | L30: 123 | N30: 32.03 | O30: 11.09
C31: Затраты труда рабочих (ср 4,2) | D31: чел.час | E31: 32,03 11,09 | F31: 13.97 | G31: 13.97 | J31: 154.93 | K31: 154.93
B32: 1. 050401 | C32: Компрессоры передвижные с электродвигателем давлением 600 кПа (6 ат), производительность 0,5 м3/мин | D32: маш.-ч | E32: 8,02 2,78 | F32: 3.96 | H32: 3.96 | J32: 11.01 | L32: 11.01
B33: 2. 332141 | C33: Установки для заливки пенополиуретана | D33: маш.-ч | E33: 8,02 2,78 | F33: 35.61 | H33: 35.61 | J33: 99 | L33: 99
B34: 3. 400001 | C34: Автомобили бортовые, грузоподъемность до 5 т | D34: маш.-ч | E34: 0,34 0,12 | F34: 109.17 | H34: 109.17 | J34: 13.1 | L34: 13.1
B35: 4. 101-1986 | C35: Проволока стальная низкоуглеродистая общего назначения диаметром 0,8 мм | D35: кг | E35: 0 | F35: 11.39
B36: 5. 101-3594 | C36: Лента полиэтиленовая с липким слоем А50 | D36: кг | E36: 0 | F36: 59.5
B37: 6. 104-0126 | C37: Диоктилфталат | D37: кг | E37: 0 | F37: 29.8
B38: 7. 104-0127 | C38: Хлорметилен | D38: кг | E38: 0 | F38: 13.04
B39: 8. 104-0133 | C39: Компонент А системы жидких компонентов для напыления ППУ | D39: кг | E39: 0 | F39: 62.4
B40: 9. 104-0134 | C40: Компонент Б системы жидких компонентов для напыления ППУ | D40: кг | E40: 0 | F40: 55.64
B41: 10. 113-0307 | C41: Пленка полиэтиленовая толщиной 0,2-0,5 мм | D41: т | E41: 0 | F41: 25241.99
A42: 2 | B42: Материалы, НПО Геополимер | C42: Гидроизоляция Технопрок 2 мм (расход 3 кг/м2) (Транспортные расходы на МАТ по прайсам МАТ=0,3% к расх.; Заготовительно-складские расходы на МАТ по прайсам МАТ=2% к расх.) | D42: кг | E42: 519,4 173,14*3 | F42: 23,6 156,00/1,18/ИндексСМР | J42: 12258
