Workbook
Name Constr: '24340'!#REF!
Name Constr: '24356'!$A$1
Name Constr: '24359'!#REF!
Name Constr: '24360-И'!$A$1
Name Constr: '24364'!#REF!
Name Constr: '24368'!#REF!
Name Constr: '24379'!#REF!
Name Constr: '24406'!#REF!
Name Constr: '24481'!$A$7
Name Constr: '24493'!$A$1
Name Constr: '24496'!#REF!
Name Constr: '24505'!$A$7
Name Constr: '24523'!$A$1
Name Constr: '24532'!$A$7
Name Constr: '24533'!$A$7
Name Constr: '24556'!$A$7
Name FOT: '24340'!$D$13
Name FOT: '24356'!$D$17
Name FOT: '24359'!$D$15
Name FOT: '24360-И'!$D$17
Name FOT: '24364'!$D$14
Name FOT: '24368'!$D$12
Name FOT: '24379'!$D$12
Name FOT: '24406'!$D$12
Name FOT: '24481'!$D$13
Name FOT: '24493'!$D$16
Name FOT: '24496'!$D$12
Name FOT: '24505'!$D$14
Name FOT: '24523'!$D$14
Name FOT: '24532'!$D$14
Name FOT: '24533'!$D$14
Name FOT: '24556'!$D$13
Name Ind: '24340'!#REF!
Name Ind: '24356'!#REF!
Name Ind: '24359'!#REF!
Name Ind: '24360-И'!#REF!
Name Ind: '24364'!#REF!
Name Ind: '24368'!#REF!
Name Ind: '24379'!#REF!
Name Ind: '24406'!#REF!
Name Ind: '24481'!$H$9
Name Ind: '24493'!#REF!
Name Ind: '24496'!#REF!
Name Ind: '24505'!$H$9
Name Ind: '24523'!$G$9
Name Ind: '24532'!#REF!
Name Ind: '24533'!$H$10
Name Ind: '24556'!$H$9
Name Obj: '24340'!$E$8
Name Obj: '24356'!#REF!
Name Obj: '24359'!$D$7
Name Obj: '24360-И'!$D$9
Name Obj: '24364'!$E$7
Name Obj: '24368'!$E$7
Name Obj: '24379'!$E$7
Name Obj: '24406'!$E$7
Name Obj: '24481'!#REF!
Name Obj: '24493'!$D$9
Name Obj: '24496'!$E$7
Name Obj: '24505'!#REF!

Sheet 24340
A1: СОГЛАСОВАНО: | E1: ФГУП "Комбинат "Электрохимприбор" | M1: УТВЕРЖДАЮ:
G2: (наименование стройки)
A3: _________________ | M3: _________________
A4: " _____ " ________________ 2012 г. | M4: "______ " __________2012 г.
G5: ЛОКАЛЬНЫЙ СМЕТНЫЙ РАСЧЕТ № 24340
G6: (локальная смета)
D8: архитектурно-строительные решения. Площадка 2. Здание 234Г.
H9: (наименование работ и затрат, наименование объекта)
D11: Основание: Проект № 24151-11-АС Тема КПМ Ж6268.220
D12: Сметная стоимость строительных работ _______________________________________________________________________________________________ | J12: ___________________________9593,389 | L12: тыс. руб.
D13: Средства на оплату труда _______________________________________________________________________________________________ | J13: =244.843*4.42 -> 1082.2061 | L13: тыс. руб.
D14: Сметная трудоемкость _______________________________________________________________________________________________ | J14: _______________________________________________________________________________________________17769,71 | L14: чел.час
D15: Материалы ______________________________________ | K15: =J346*4.42/1000 -> 6105.6289 | L15: тыс.руб.
D16: Составлен(а) в базовых ценах 2001г. в редакции 2009г. с переводом в текущие с К=4,42
A18: № пп | B18: Обоснование | C18: Наименование | D18: Ед. изм. | E18: Кол. | F18: Стоимость единицы, руб. | J18: Общая стоимость, руб. | N18: Т/з осн. раб.на ед. | O18: Т/з осн. раб. Всего | P18: Т/з мех. на ед. | Q18: Т/з мех. Всего
F19: Всего | G19: В том числе | J19: Всего | K19: В том числе
G20: Осн.З/п | H20: Эк.Маш | I20: З/пМех | K20: Осн.З/п | L20: Эк.Маш | M20: З/пМех
A21: 1 | B21: 2 | C21: 3 | D21: 4 | E21: 5 | F21: 6 | G21: 7 | H21: 8 | I21: 9 | J21: 10 | K21: 11 | L21: 12 | M21: 13 | N21: 14 | O21: 15 | P21: 16 | Q21: 17
A22: Раздел 1. Разборка конструкций
A23: 1 | B23: ТЕР46-04-001-04 | C23: Разборка кирпичных стен | D23: 1 м3 | E23: 32 | F23: 296.8 | G23: 102.84 | H23: 193.96 | I23: 17.96 | J23: 9498 | K23: 3291 | L23: 6207 | M23: 575 | N23: 8.24 | O23: 263.68 | P23: 1.15 | Q23: 36.8
A24: 2 | B24: ТЕР46-04-012-01 | C24: Разборка деревянных заполнений проемов оконных с подоконными досками | D24: 100 м2 | E24: 0.249 | F24: 2461.28 | G24: 2149.36 | H24: 311.92 | I24: 120.9 | J24: 613 | K24: 535 | L24: 78 | M24: 30 | N24: 188.54 | O24: 46.95 | P24: 7.74 | Q24: 1.93
A25: 3 | B25: ТЕР46-04-012-03 | C25: Разборка деревянных заполнений проемов дверных и воротных | D25: 100 м2 | E25: 0.423 | F25: 1496.49 | G25: 1184.57 | H25: 311.92 | I25: 120.9 | J25: 633 | K25: 501 | L25: 132 | M25: 51 | N25: 103.91 | O25: 43.95 | P25: 7.74 | Q25: 3.27
A26: 4 | B26: ТЕР46-04-008-01 | C26: Разборка покрытий кровель из рулонных материалов | D26: 100 м2 | E26: 1.92 | F26: 202.89 | G26: 158.04 | H26: 44.85 | J26: 390 | K26: 304 | L26: 86 | N26: 14.38 | O26: 27.61
A27: 5 | B27: ТЕР12-01-017-01 | C27: Разборка выравнивающих стяжек цементно-песчаных толщиной 15 мм КОЭФ. К ПОЗИЦИИ: разборка ОЗП=0,8; ЭМ=0,8 к расх.; ЗПМ=0,8; МАТ=0 к расх.; ТЗ=0,8; ТЗМ=0,8 | D27: 100 м2 | E27: 1.92 | F27: 493.74 | G27: 265.02 | H27: 228.72 | I27: 25.64 | J27: 948 | K27: 509 | L27: 439 | M27: 49 | N27: 21.78 | O27: 41.82 | P27: 1.55 | Q27: 2.98
A28: 6 | B28: ТЕР46-04-011-02 | C28: Разборка в зданиях и сооружения с агрессивными средами покрытий полов из плиток, уложенных на растворе | D28: 100 м2 покрытия | E28: 1.5304 | F28: 541.99 | G28: 464.41 | H28: 77.58 | I28: 7.19 | J28: 829 | K28: 711 | L28: 118 | M28: 11 | N28: 36.77 | O28: 56.27 | P28: 0.46 | Q28: 0.7
A29: 7 | B29: ТЕРр57-2-4 | C29: Разборка покрытий полов цементных | D29: 100 м2 покрытия | E29: 1.5304 | F29: 4262.51 | G29: 1335.51 | H29: 2927 | I29: 288.33 | J29: 6523 | K29: 2044 | L29: 4479 | M29: 441 | N29: 111.2 | O29: 170.18 | P29: 21 | Q29: 32.14
A30: 8 | B30: СЦП1-1-27-А | C30: Погрузочные работы при автомобильных перевозках: мусор строительный КОЭФ. К ПОЗИЦИИ: Коэффициент техн.часть п.3 ПЗ=1,025 | D30: т | E30: 135.6 | F30: 2.77 | G30: 2.77 | J30: 376 | K30: 376
A31: 9 | B31: СЦП3-3-40-1 | C31: Перевозка грузов (грунта и мусора) автомобилями-самосвалами (работающими вне карьеров): расстояние 40 км, класс груза I КОЭФ. К ПОЗИЦИИ: 17 При перевозке грузов к провозной плате (тарифам) применять поправочный коэффициент ПЗ=1,37 | D31: т | E31: 135.6 | F31: 52.85 | H31: 52.85 | J31: 7166 | L31: 7166
A32: Раздел 2. Фундаменты
A33: Земляные работы
A34: 10 | B34: ТЕР01-01-003-09 | C34: Разработка грунта в отвал экскаваторами «драглайн» или «обратная лопата» с ковшом вместимостью 0,65 (0,5-1) м3, группа грунтов 3 | D34: 1000 м3 грунта | E34: 0.349 | F34: 4796.33 | G34: 145.29 | H34: 4651.04 | I34: 489.16 | J34: 1674 | K34: 51 | L34: 1623 | M34: 171 | N34: 13.22 | O34: 4.61 | P34: 28.91 | Q34: 10.09
A35: 11 | B35: ТЕР01-02-056-08 | C35: Разработка грунта вручную в траншеях шириной более 2 м и котлованах площадью сечения до 5 м2 с креплениями, глубина траншей и котлованов до 3 м, группа грунтов 2 КОЭФ. К ПОЗИЦИИ: 3.187 Доработка вручную, зачистка дна и стенок с выкидкой грунта в котлованах и траншеях, разработанных механизированным способом ОЗП=1,2; ТЗ=1,2 | D35: 100 м3 грунта | E35: 0.105 | F35: 4194.91 | G35: 4194.91 | J35: 440 | K35: 440 | N35: 355.2 | O35: 37.3
A36: 12 | B36: ТЕР01-01-033-01 | C36: Засыпка траншей и котлованов с перемещением грунта до 5 м бульдозерами мощностью 59 кВт (80 л.с.), группа грунтов 1 | D36: 1000 м3 грунта | E36: 0.268 | F36: 704.9 | H36: 704.9 | I36: 118.71 | J36: 189 | L36: 189 | M36: 32 | P36: 7.6 | Q36: 2.04
A37: 13 | B37: ТЕР01-02-061-02 | C37: Засыпка вручную траншей, пазух котлованов и ям, группа грунтов 2 | D37: 100 м3 грунта | E37: 0.105 | F37: 1027.4 | G37: 1027.4 | J37: 108 | K37: 108 | N37: 97.2 | O37: 10.21
A38: 14 | B38: ТЕР01-01-013-01 | C38: Разработка грунта с погрузкой на автомобили-самосвалы экскаваторами с ковшом вместимостью 1 (1-1,2) м3, группа грунтов 1 | D38: 1000 м3 грунта | E38: 0.081 | F38: 3222.6 | G38: 70.34 | H38: 3148.43 | I38: 524.17 | J38: 261 | K38: 6 | L38: 255 | M38: 42 | N38: 6.4 | O38: 0.52 | P38: 32.72 | Q38: 2.65
A39: 15 | B39: СЦП3-3-10-1 | C39: Перевозка грузов автомобилями-самосвалами (работающими вне карьеров): расстояние 10 км, класс груза I КОЭФ. К ПОЗИЦИИ: 17 При перевозке грузов к провозной плате (тарифам) применять поправочный коэффициент ПЗ=1,37 | D39: т | E39: 162 | F39: 18.37 | H39: 18.37 | J39: 2976 | L39: 2976
A40: 16 | B40: ТЕР01-01-016-01 | C40: Работа на отвале, группа грунтов 1 | D40: 1000 м3 грунта | E40: 0.081 | F40: 391.87 | G40: 32.86 | H40: 356.46 | I40: 55.16 | J40: 32 | K40: 3 | L40: 29 | M40: 4 | N40: 2.99 | O40: 0.24 | P40: 3.26 | Q40: 0.26
A41: под кирпичные перегородки
A42: 17 | B42: ТЕРр51-2-3 | C42: Разработка грунта при подводке, смене или усилении фундаментов, грунты 1-2 группы, без крепления | D42: 100 м3 грунта | E42: 0.06 | F42: 3878.43 | G42: 3877.34 | H42: 1.09 | J42: 233 | K42: 233 | N42: 346.5 | O42: 20.79
A43: 18 | B43: ТЕР08-01-002-02 | C43: Устройство основания под фундаменты щебеночного | D43: 1 м3 основания | E43: 6 | F43: 288.26 | G43: 27.62 | H43: 67.69 | I43: 7.48 | J43: 1730 | K43: 166 | L43: 406 | M43: 45 | N43: 2.4 | O43: 14.4 | P43: 0.54 | Q43: 3.24
...

Sheet 24356
A1: СОГЛАСОВАНО: | E1: ФГУП "Комбинат "Электрохимприбор" | M1: УТВЕРЖДАЮ:
G2: (наименование стройки)
A3: _________________ | M3: _________________
A4: " _____ " ________________ 2012 г. | M4: "______ " __________2012 г.
G5: ЛОКАЛЬНЫЙ СМЕТНЫЙ РАСЧЕТ № 24356
G6: (локальная смета)
C8: на | D8: Система автоматической пожарной сигнализации и СОУЭ. Площадка 2. Здание 234Г.
H9: (наименование работ и затрат, наименование объекта)
D11: Основание: проект №24244-12-ПС | H11: Тема КПМ Ж 6268.220
D12: Сметная стоимость _______________________________________________________________________________________________ | J12: ___________________________959,813 | L12: тыс. руб.
D13: строительных работ _______________________________________________________________________________________________ | J13: _______________________________________________________________________________________________195,329 | L13: тыс. руб.
D14: монтажных работ _______________________________________________________________________________________________ | J14: _______________________________________________________________________________________________550,153 | L14: тыс. руб.
D15: прочих (ПНР "в холостую") _______________________________________________________________________________________________ | J15: _______________________________________________________________________________________________39,700 | L15: тыс. руб.
D16: оборудования _______________________________________________________________________________________________ | J16: _______________________________________________________________________________________________174,631 | L16: тыс. руб.
D17: Средства на оплату труда _______________________________________________________________________________________________ | J17: =((K164-K158)*4.42+K159)/1000 -> 147.81762 | L17: тыс. руб.
D18: Сметная трудоемкость _______________________________________________________________________________________________ | J18: _______________________________________________________________________________________________2265,35 | L18: чел.час
D19: Материалы ______________________________________ | K19: =K162*4.42/1000 -> 408.50524 | L19: тыс.руб.
D20: Составлен(а) в базовых ценах 2001г. в редакции 2009г. с переводом в текущие с К=4,42; 4,19
A22: № пп | B22: Обоснова-ние | C22: Наименование | D22: Ед. изм. | E22: Кол. | F22: Стоимость единицы, руб. | J22: Общая стоимость, руб. | O22: Т/з осн. раб.на ед. | P22: Т/з осн. раб. Всего | Q22: Общая масса обору-дования, т
F23: Всего | G23: В том числе | J23: Обору-дование | K23: Всего | L23: В том числе
G24: Осн.З/п | H24: Эк.Маш | I24: З/пМех | L24: Осн.З/п | M24: Эк.Маш | N24: З/пМех
A25: 1 | B25: 2 | C25: 3 | D25: 4 | E25: 5 | F25: 6 | G25: 7 | H25: 8 | I25: 9 | J25: 10 | K25: 11 | L25: 12 | M25: 13 | N25: 14 | O25: 15 | P25: 16 | Q25: 17
A26: Раздел 1. Монтажные работы
A27: 1 | B27: Цена поставщика | C27: РИП-12 исп. 01 (Ц:3120руб :1,18:4,19) | D27: шт | E27: 1 | J27: 631 | K27: 631
A28: 2 | B28: Цена поставщика | C28: АКБ 7,0А/ч (Ц:700руб:1,18:4,19) | D28: шт | E28: 1 | J28: 142 | K28: 142
A29: 3 | B29: Цена поставщика | C29: АКБ 2,0А/ч (Ц:360руб:1,18:4,19) | D29: шт | E29: 1 | J29: 73 | K29: 73
A30: 4 | B30: ТЕРм10-02-016-06 | C30: Отдельно устанавливаемый преобразователь или блок питания | D30: 1 шт. | E30: 1 | F30: 256.7 | G30: 157.76 | H30: 33.83 | I30: 6.87 | K30: 257 | L30: 158 | M30: 34 | N30: 7 | O30: 10.1 | P30: 10.1
A31: 5 | B31: Цена поставщика | C31: Бокс под АКБ 2*17 А/ч, 12В, 24В (металл), габарит. 222х356х96 (Ц:1300руб :1,18:4,42) | D31: шт | E31: 1 | F31: 249.03 | K31: 249
A32: 6 | B32: ТЕРм10-06-037-09 | C32: Монтаж: бокс под АКБ навесной 222х356х96 мм | D32: 1 шт. | E32: 1 | F32: 32.23 | G32: 26.18 | H32: 1.91 | K32: 32 | L32: 26 | M32: 2 | O32: 2.18 | P32: 2.18
A33: 7 | B33: Цена поставщика | C33: Блок защиты от скачков напряжения "Альбатрос-500" (Ц:506руб :1,18:4,19) | D33: шт | E33: 1 | J33: 102 | K33: 102
A34: 8 | B34: ТЕРм10-08-003-03 прим. | C34: Монтаж: блок защиты от скачков напряжения "АЛЬБАТРОС-500" | D34: 1 шт. | E34: 1 | F34: 59.97 | G34: 51.77 | H34: 0.37 | K34: 60 | L34: 52 | O34: 3.6 | P34: 3.6
A35: 9 | B35: Цена поставщика | C35: Ответвительная коробка ЕС 400 под блок защиты от скачков напряжения "Альбатрос-500" (Ц:250руб:1,18:4,42) | D35: шт | E35: 1 | F35: 47.93 | K35: 48
A36: 10 | B36: ТЕРм10-08-019-01 | C36: Коробка ответвительная на стене | D36: 1 шт. | E36: 1 | F36: 7.32 | G36: 6.88 | K36: 7 | L36: 7 | O36: 0.5 | P36: 0.5
A37: 11 | B37: Цена поставщика | C37: ПКУ "С2000-М" (Ц:6550руб :1,18:4,19) | D37: шт | E37: 1 | J37: 1325 | K37: 1325
A38: 12 | B38: ТЕРм10-08-001-13 | C38: Монтаж: релейный блок С2000М | D38: 1 шт. | E38: 1 | F38: 64.92 | G38: 57.52 | H38: 0.37 | K38: 65 | L38: 58 | O38: 4 | P38: 4
A39: 13 | B39: Цена поставщика | C39: Автодозвонщик С2000-ИТ с пульта С2000 (Ц:4475руб :1,18:4,19) | D39: шт | E39: 1 | J39: 905 | K39: 905
A40: 14 | B40: ТЕРм10-08-001-13 прим. | C40: Монтаж: информатор телефонный С2000-ИТ | D40: 1 шт. | E40: 1 | F40: 64.92 | G40: 57.52 | H40: 0.37 | K40: 65 | L40: 58 | O40: 4 | P40: 4
A41: 15 | B41: Цена поставщика | C41: Контроллер двухпроводный "С2000-КДЛ" (Ц:2190руб :1,18:4,19) | D41: шт | E41: 1 | J41: 443 | K41: 443
A42: 16 | B42: ТЕРм10-08-001-13 | C42: Монтаж: контроллер С2000-КДЛ | D42: 1 шт. | E42: 1 | F42: 64.92 | G42: 57.52 | H42: 0.37 | K42: 65 | L42: 58 | O42: 4 | P42: 4
A43: 17 | B43: Цена поставщика | C43: Релейный блок "С2000-СП1" исп 01 (Ц:1970руб :1,18:4,19) | D43: шт | E43: 1 | J43: 398 | K43: 398
...

Sheet 24359
A1: СОГЛАСОВАНО: | E1: ФГУП "Комбинат "Электрохимприбор" | M1: УТВЕРЖДАЮ:
G2: (наименование стройки)
A3: _____________________________ | M3: _____________________________
A4: " _____ " ________________ 2012г. | G4: ЛОКАЛЬНЫЙ СМЕТНЫЙ РАСЧЕТ № 24359 | M4: "______ " _______________2012г.
G5: (локальная смета)
C7: на | D7: Реконструкцию вентиляции. Площадка 2. Здание 234Г.
G8: (наименование работ и затрат, наименование объекта)
D10: Основание: № 24241-12-ОВ КПМ Ж 6268.220
D11: Сметная стоимость _______________________________________________________________________________________________ | J11: ___________________________1428,464 | L11: тыс. руб.
D12: строительных работ _______________________________________________________________________________________________ | J12: _______________________________________________________________________________________________801,832 | L12: тыс. руб.
D13: монтажных работ _______________________________________________________________________________________________ | J13: _______________________________________________________________________________________________6,466 | L13: тыс. руб.
D14: оборудования _______________________________________________________________________________________________ | J14: _______________________________________________________________________________________________620,166 | L14: тыс. руб.
D15: Средства на оплату труда _______________________________________________________________________________________________ | J15: =14.588*4.42 -> 64.47896 | L15: тыс. руб.
D16: Сметная трудоемкость _______________________________________________________________________________________________ | J16: _______________________________________________________________________________________________1070,64 | L16: чел.час
D17: Материалы ___________________________________________________________ | J17: =K306*4.42/1000 -> 625.86758 | L17: тыс.руб.
D18: Составлен(а) (в редакции 2009г) в ценах 2001года с переводом в текущие с К=4,42; К=4,19
A21: № пп | B21: Обоснова-ние | C21: Наименование | D21: Ед. изм. | E21: Кол. | F21: Стоимость единицы, руб. | J21: Общая стоимость, руб. | O21: Т/з осн. раб.на ед. | P21: Т/з осн. раб. Всего | Q21: Общая масса обору-дования, т
F22: Всего | G22: В том числе | J22: Обору-дование | K22: Всего | L22: В том числе
G23: Осн.З/п | H23: Эк.Маш | I23: З/пМех | L23: Осн.З/п | M23: Эк.Маш | N23: З/пМех
A24: 1 | B24: 2 | C24: 3 | D24: 4 | E24: 5 | F24: 6 | G24: 7 | H24: 8 | I24: 9 | J24: 10 | K24: 11 | L24: 12 | M24: 13 | N24: 14 | O24: 15 | P24: 16 | Q24: 17
A25: Раздел 1. П-1
A26: 1 | B26: ТЕР20-06-002-01 прим. | C26: Установка кондиционера КЦКП-5-С1-У3 с комплектом автоматики и оборудованием. | D26: 1 компл. | E26: 1 | F26: 965.62 | G26: 565.61 | H26: 115.2 | I26: 4 | K26: 966 | L26: 566 | M26: 115 | N26: 4 | O26: 43.71 | P26: 43.71
A27: 2 | B27: ТЕРм08-01-102-01 прим. | C27: Монтаж комплекта автоматики. | D27: 1 компл. | E27: 1 | F27: 569.9 | G27: 197.83 | H27: 233.8 | I27: 14.56 | K27: 570 | L27: 198 | M27: 234 | N27: 15 | O27: 14.6 | P27: 14.6
A28: 3 | B28: ТЕР20-02-006-06 | C28: Установка клапанов воздушных с электрическим или пневматическим приводом периметром до 1000 мм | D28: 1 шт. | E28: 1 | F28: 39.9 | G28: 20.59 | H28: 2.09 | K28: 40 | L28: 21 | M28: 2 | O28: 1.63 | P28: 1.63
A29: 4 | B29: ТЕР20-06-005-01 | C29: Установка фильтров воздушных (сухих) производительностью до 10 тыс.м3/час | D29: 1 фильтр | E29: 1 | F29: 189.88 | G29: 137.67 | H29: 13.46 | I29: 0.36 | K29: 190 | L29: 138 | M29: 13 | O29: 10.16 | P29: 10.16
A30: 5 | B30: ТЕР20-06-006-01 | C30: Установка воздухонагревателей однорядных для обводного канала производительностью до 10 тыс.м3/час | D30: 1 воздухонагреватель | E30: 1 | F30: 241.84 | G30: 108.4 | H30: 17.96 | I30: 0.73 | K30: 242 | L30: 108 | M30: 18 | N30: 1 | O30: 8 | P30: 8
A31: 6 | B31: ТЕР20-03-001-01 | C31: Установка вентиляторов радиальных массой до 0,05 т | D31: 1 вентилятор | E31: 1 | F31: 100.35 | G31: 78.55 | H31: 6.66 | I31: 0.18 | K31: 100 | L31: 79 | M31: 7 | O31: 6.54 | P31: 6.54
A32: 7 | B32: ТЕР20-02-016-02 | C32: Установка глушителей шума вентиляционных установок пластинчатых типа ПП 1-2, ВП 1-2, размер пластин 100х500х1000 мм | D32: 1 пластина | E32: 1 | F32: 18.01 | G32: 10.48 | H32: 2.71 | K32: 18 | L32: 10 | M32: 3 | O32: 0.84 | P32: 0.84
A33: 8 | B33: Цена поставщика. | C33: Стоимость приточной установки КЦКП-5-С1-У3 с комплектом автоматики и доп. оборудованием. (Цена:(379367,10+79863,11+235874,41): 1,18:4,19*1,012*1,03*1,01=148010,75) | D33: компл. | E33: 1 | J33: 148011 | K33: 148011
A34: 9 | B34: ТЕР20-01-001-03 | C34: Прокладка воздуховодов из листовой стали класса Н (нормальные) толщиной 0,5 мм, периметром 800, 1000 мм | D34: 100 м2 | E34: 0.222 | F34: 2601.53 | G34: 1893.46 | H34: 136.2 | I34: 7.46 | K34: 578 | L34: 420 | M34: 30 | N34: 2 | O34: 153.69 | P34: 34.12
A35: 10 | B35: ТСЦ-301-1773 | C35: Воздуховоды из листовой стали толщиной 0,5 мм, периметром до 1000 мм | D35: м2 | E35: 22.2 | F35: 221.7 | K35: 4922
A36: 11 | B36: ТЕР20-01-001-10 | C36: Прокладка воздуховодов из листовой стали класса Н (нормальные) толщиной 0,7 мм, периметром от 1100 до 1600 мм | D36: 100 м2 | E36: 0.224 | F36: 2260.48 | G36: 1638.31 | H36: 127.29 | I36: 6.92 | K36: 506 | L36: 367 | M36: 29 | N36: 2 | O36: 132.98 | P36: 29.79
A37: 12 | B37: ТСЦ-301-1779 | C37: Воздуховоды из листовой стали толщиной 0,7 мм, периметром от 1100 до 1600 мм | D37: м2 | E37: 22.4 | F37: 199.53 | K37: 4469
A38: 13 | B38: ТЕР20-01-001-11 | C38: Прокладка воздуховодов из листовой стали класса Н (нормальные) толщиной 0,7 мм, периметром до 2400 мм | D38: 100 м2 | E38: 0.214 | F38: 1821 | G38: 1232.74 | H38: 124.57 | I38: 5.1 | K38: 390 | L38: 264 | M38: 27 | N38: 1 | O38: 100.06 | P38: 21.41
A39: 14 | B39: ТСЦ-301-1780 | C39: Воздуховоды из листовой стали толщиной 0,7 мм, периметром от 1700 до 4000 мм | D39: м2 | E39: 21.4 | F39: 213.09 | K39: 4560
A40: 15 | B40: ТЕР20-01-002-11 прим. | C40: Прокладка воздуховодов из листовой стали толщиной 2мм, периметром до 2400 мм | D40: 100 м2 | E40: 0.017 | F40: 2027.04 | G40: 1232.74 | H40: 124.57 | I40: 5.1 | K40: 34 | L40: 21 | M40: 2 | O40: 100.06 | P40: 1.7
A41: 16 | B41: ТСЦ-301-1780 прим. | C41: Воздуховоды из листовой стали толщиной 2 мм, периметром от 1700 до 4000 мм | D41: м2 | E41: 1.7 | F41: 213.09 | K41: 362
A42: 17 | B42: ТЕР20-01-005-09 прим. | C42: Установка короба из листовой стали толщиной 2 мм, 600х1600х2600h | D42: 100 м2 | E42: 0.114 | F42: 3427.49 | G42: 1334.58 | H42: 1127.39 | I42: 137.65 | K42: 391 | L42: 152 | M42: 129 | N42: 16 | O42: 96.99 | P42: 11.06
A43: 18 | B43: ТСЦ-301-1814 прим. | C43: Короб из листовой стали толщиной 2 мм, 600х1600х2600h | D43: м2 | E43: 11.4 | F43: 409.01 | K43: 4663
A44: 19 | B44: ТЕР20-01-001-08 | C44: Прокладка воздуховодов из листовой стали толщиной 0,7 мм, диаметром до 800 мм | D44: 100 м2 | E44: 0.04 | F44: 1854.16 | G44: 1232.74 | H44: 157.73 | I44: 6.55 | K44: 74 | L44: 49 | M44: 6 | O44: 100.06 | P44: 4
...

Sheet 24360-И
A1: СОГЛАСОВАНО: | E1: ФГУП "Комбинат "Электрохимприбор" | M1: УТВЕРЖДАЮ:
G2: (наименование стройки) | M2: Зам. генерального директора
M3: Е.В.Гордеев
A4: _________________ | M4: _________________
A5: " _____ " ________________ 2012 г. | M5: "______ " __________2012 г.
G6: ЛОКАЛЬНЫЙ СМЕТНЫЙ РАСЧЕТ № 24360 -И
G7: (взамен сметы № 24360)
C9: на | D9: Реконструкцию внутренних электрических сетей. Площадка 2. Здание 234Г.
G10: (наименование работ и затрат, наименование объекта)
D12: Основание: проект № 24236-12-ЭМ "И" Тема КПМ Ж6268.220 | N12: Справочно, в тыс.руб. :
D13: Сметная стоимость _______________________________________________________________________________________________ | J13: ___________________________246,479 | L13: тыс. руб. | N13: с К=4,42 | P13: =P14+P15+P16 -> 1085.33
D14: строительных работ _______________________________________________________________________________________________ | J14: _______________________________________________________________________________________________13,160 | L14: тыс. руб. | N14: с К=4,42 | P14: =ROUND(13.16*4.42,3) -> 58.167
D15: монтажных работ _______________________________________________________________________________________________ | J15: _______________________________________________________________________________________________215,407 | L15: тыс. руб. | N15: с К=4,42 | P15: =ROUND(215.407*4.42,3) -> 952.099
D16: оборудования _______________________________________________________________________________________________ | J16: _______________________________________________________________________________________________17,912 | L16: тыс. руб. | N16: с К=4,19 | P16: =ROUND(17.915*4.19,3) -> 75.064
D17: Средства на оплату труда _______________________________________________________________________________________________ | J17: ___________________________24,858 | L17: тыс. руб. | N17: с К=4,42 | P17: =ROUND(24.858*4.42,3) -> 109.872
D18: Сметная трудоемкость _______________________________________________________________________________________________ | J18: _______________________________________________________________________________________________1382,77 | L18: чел.час
D19: Материалы ______________________________________ | K19: =K150/1000 -> 152.99 | L19: тыс.руб. | N19: с К=4,42 | P19: =K19*4.42 -> 676.2158
D20: Составлен(а) в базовых ценах 2001г. в редакции 2009г.
A22: № пп | B22: Обоснова-ние | C22: Наименование | D22: Ед. изм. | E22: Кол. | F22: Стоимость единицы, руб. | J22: Общая стоимость, руб. | O22: Т/з осн. раб.на ед. | P22: Т/з осн. раб. Всего | Q22: Общая масса обору-дования, т
F23: Всего | G23: В том числе | J23: Обору-дование | K23: Всего | L23: В том числе
G24: Осн.З/п | H24: Эк.Маш | I24: З/пМех | L24: Осн.З/п | M24: Эк.Маш | N24: З/пМех
A25: 1 | B25: 2 | C25: 3 | D25: 4 | E25: 5 | F25: 6 | G25: 7 | H25: 8 | I25: 9 | J25: 10 | K25: 11 | L25: 12 | M25: 13 | N25: 14 | O25: 15 | P25: 16 | Q25: 17
A26: Раздел 1. Демонтажные работы
A27: 1 | B27: ТЕРм08-03-572-07 | C27: Демонтаж: блок управления шкафного исполнения или распределительный пункт (шкаф), устанавливаемый на полу, высота и ширина до 1700х1100 мм КОЭФ. К ПОЗИЦИИ: демонтаж ОЗП=0,3; ЭМ=0,3 к расх.; ЗПМ=0,3; МАТ=0 к расх.; ТЗ=0,3; ТЗМ=0,3 | D27: 1 шт. | E27: 3 | F27: 58.28 | G27: 19.53 | H27: 38.75 | I27: 2.24 | K27: 175 | L27: 59 | M27: 116 | N27: 7 | O27: 1.4 | P27: 4.2
A28: 2 | B28: ТЕРр67-3-1 | C28: Демонтаж кабеля | D28: 100 м | E28: 8 | F28: 106.34 | G28: 105.94 | H28: 0.4 | I28: 0.16 | K28: 851 | L28: 848 | M28: 3 | N28: 1 | O28: 9.64 | P28: 77.12
A29: 3 | B29: ТЕРр67-4-1 | C29: Демонтаж выключателей, розеток | D29: 100 шт. | E29: 0.35 | F29: 64.18 | G29: 64.18 | K29: 22 | L29: 22 | O29: 5.84 | P29: 2.04
A30: 4 | B30: ТЕРр67-4-5 | C30: Демонтаж светильников для люминесцентных ламп | D30: 100 шт. | E30: 0.4 | F30: 205.2 | G30: 201.98 | H30: 3.22 | I30: 1.25 | K30: 82 | L30: 81 | M30: 1 | N30: 1 | O30: 17.89 | P30: 7.16
A31: Раздел 2. Монтажные работы
A32: 5 | B32: ТЕРм08-03-572-07 | C32: Блок управления шкафного исполнения или распределительный пункт (шкаф), устанавливаемый на полу, высота и ширина до 1700х1100 мм | D32: 1 шт. | E32: 2 | F32: 685.88 | G32: 65.1 | H32: 129.15 | I32: 7.46 | K32: 1372 | L32: 130 | M32: 258 | N32: 15 | O32: 4.66 | P32: 9.32
A33: 6 | B33: ТСЦ-110-0251 | C33: Вводное устройство ВРУ 1-11 КОЭФ. К ПОЗИЦИИ: Заготовительно-складские расходы на оборудование - согласно п.4.64 из МДС 81-35.2004 ПЗ=1,012 (ОЗП=1,012; ЭМ=1,012; МАТ=1,012); Транспортные расходы на оборудование - согласно п.4.60 из МДС 81-35.2004 ПЗ=1,03 (ОЗП=1,03; ЭМ=1,03; МАТ=1,03) | D33: шт. | E33: 1 | J33: 10242 | K33: 10242
A34: 7 | B34: ТСЦ-110-0252 прим. | C34: Вводное устройство ВРУ 1-50 КОЭФ. К ПОЗИЦИИ: Заготовительно-складские расходы на оборудование - согласно п.4.64 из МДС 81-35.2004 ПЗ=1,012 (ОЗП=1,012; ЭМ=1,012; МАТ=1,012); Транспортные расходы на оборудование - согласно п.4.60 из МДС 81-35.2004 ПЗ=1,03 (ОЗП=1,03; ЭМ=1,03; МАТ=1,03) | D34: шт. | E34: 1 | J34: 7670 | K34: 7670
A35: 8 | B35: ТЕРм08-03-599-10 | C35: Монтаж: бокс ЩРН-12модулей навесной , устанавливаемый на стене распорными дюбелями, масса щитка до 15 кг | D35: 1 шт. | E35: 1 | F35: 128.26 | G35: 58.25 | H35: 7.85 | I35: 0.36 | K35: 128 | L35: 58 | M35: 8 | O35: 4.17 | P35: 4.17
A36: 9 | B36: цена поставщика | C36: Бокс ЩРН-12модулей навесной пластик IP54 ИЭК MKP11-N-12-54-Z (Ц:346,12руб:1,18:4,42) КОЭФ. К ПОЗИЦИИ: Заготовительно-складские расходы на материалы - согласно п.4.64 из МДС 81-35.2004 МАТ=1,02 | D36: шт. | E36: 1 | F36: 67.69 | K36: 68
A37: 10 | B37: ТЕРм08-03-526-01 | C37: Автомат одно-, двух-, трехполюсный, устанавливаемый в боксе, на ток до 25 А | D37: 1 шт. | E37: 7 | F37: 174.77 | G37: 20.9 | H37: 1.28 | K37: 1223 | L37: 146 | M37: 9 | O37: 1.56 | P37: 10.92
A38: 11 | B38: цена поставщика | C38: Авт. выкл. ВА47-29 1Р 16А 4,5кА х-ка В ИЭК MVA20-1-016-B (Ц:54,78руб:1,18:4,42) КОЭФ. К ПОЗИЦИИ: Заготовительно-складские расходы на материалы - согласно п.4.64 из МДС 81-35.2004 МАТ=1,02 | D38: шт. | E38: 7 | F38: 10.71 | K38: 75
A39: 12 | B39: ТЕРм08-03-599-10 | C39: Монтаж: КМПн 2/5 навесной, устанавливаемый на стене распорными дюбелями, масса щитка до 15 кг | D39: 1 шт. | E39: 1 | F39: 128.26 | G39: 58.25 | H39: 7.85 | I39: 0.36 | K39: 128 | L39: 58 | M39: 8 | O39: 4.17 | P39: 4.17
A40: 13 | B40: цена поставщика | C40: КМПн 2/5 - ИЭК IP 55 корпус пластиковый навесной для 5 модульных автомат. выкл. MKP72-N-05-55(Ц:379,67руб:1,18:4,42) КОЭФ. К ПОЗИЦИИ: Заготовительно-складские расходы на материалы - согласно п.4.64 из МДС 81-35.2004 МАТ=1,02 | D40: шт. | E40: 1 | F40: 74.26 | K40: 74
A41: 14 | B41: ТЕРм08-03-526-01 | C41: Автомат одно-, двух-, трехполюсный, устанавливаемый в боксе, на ток до 25 А | D41: 1 шт. | E41: 3 | F41: 174.77 | G41: 20.9 | H41: 1.28 | K41: 524 | L41: 63 | M41: 4 | O41: 1.56 | P41: 4.68
A42: 15 | B42: цена поставщика | C42: Авт. выкл. ВА47-29 1Р 10А 4,5кА х-ка В ИЭК MVA20-1-010-B (Ц:54,78руб:1,18:4,42) КОЭФ. К ПОЗИЦИИ: Заготовительно-складские расходы на материалы - согласно п.4.64 из МДС 81-35.2004 МАТ=1,02 | D42: шт. | E42: 1 | F42: 10.71 | K42: 11
A43: 16 | B43: цена поставщика | C43: Авт. выкл. ВА47-29 1Р 5А 4,5кА х-ка В ИЭК MVA20-1-005-B (Ц:72,24руб:1,18:4,42) КОЭФ. К ПОЗИЦИИ: Заготовительно-складские расходы на материалы - согласно п.4.64 из МДС 81-35.2004 МАТ=1,02 | D43: шт. | E43: 1 | F43: 14.13 | K43: 14
...

Sheet 24364
A1: СОГЛАСОВАНО: | E1: ФГУП "Комбинат "Электрохимприбор" | M1: УТВЕРЖДАЮ:
G2: (наименование стройки)
A3: _____________________________ | M3: _____________________________
A4: " _____ " ________________ 2012г. | G4: ЛОКАЛЬНЫЙ СМЕТНЫЙ РАСЧЕТ № 24364 | M4: "______ " _______________2012г.
G5: (локальная смета)
C7: на | D7: Реконструкцию водопровода и канализации. Площадка 2 Здание 234 Г
H8: (наименование работ и затрат, наименование объекта)
D10: Основание: № 24240-12-ВК КПМ Ж 6268.220
D11: Сметная стоимость _______________________________________________________________________________________________ | J11: ___________________________141,727 | L11: тыс. руб.
D12: строительных работ _______________________________________________________________________________________________ | J12: =31.627*4.42 -> 139.79134 | L12: тыс. руб.
D13: монтажных работ _______________________________________________________________________________________________ | J13: =0.438*4.42 -> 1.93596 | L13: тыс. руб.
D14: Средства на оплату труда _______________________________________________________________________________________________ | J14: =2.78*4.42 -> 12.2876 | L14: тыс. руб.
D15: Сметная трудоемкость _______________________________________________________________________________________________ | J15: _______________________________________________________________________________________________199,68 | L15: чел.час
D16: Материалы ___________________________________________________________ | J16: =J97*4.42/1000 -> 105.69988 | L16: тыс.руб.
D17: Составлен(а) (в редакции 2009г) в ценах 2001года с переводом в текущие с К=4,42
A20: № пп | B20: Обоснование | C20: Наименование | D20: Ед. изм. | E20: Кол. | F20: Стоимость единицы, руб. | J20: Общая стоимость, руб. | N20: Т/з осн. раб.на ед. | O20: Т/з осн. раб. Всего | P20: Т/з мех. на ед. | Q20: Т/з мех. Всего
F21: Всего | G21: В том числе | J21: Всего | K21: В том числе
G22: Осн.З/п | H22: Эк.Маш | I22: З/пМех | K22: Осн.З/п | L22: Эк.Маш | M22: З/пМех
A23: 1 | B23: 2 | C23: 3 | D23: 4 | E23: 5 | F23: 6 | G23: 7 | H23: 8 | I23: 9 | J23: 10 | K23: 11 | L23: 12 | M23: 13 | N23: 14 | O23: 15 | P23: 16 | Q23: 17
A24: Раздел 1. Разборка.
A25: 1 | B25: ТЕРр65-1-2 | C25: Разборка трубопроводов из водогазопроводных труб диаметром до 63 мм | D25: 100 м | E25: 0.5 | F25: 831.21 | G25: 698.15 | H25: 13.92 | I25: 2.66 | J25: 416 | K25: 349 | L25: 7 | M25: 1 | N25: 59.62 | O25: 29.81 | P25: 0.17 | Q25: 0.09
A26: 2 | B26: ТЕРр65-2-1 | C26: Разборка трубопроводов из чугунных канализационных труб диаметром 50 мм | D26: 100 м | E26: 0.025 | F26: 825.86 | G26: 819.41 | H26: 6.45 | I26: 2.5 | J26: 21 | K26: 21 | N26: 68.8 | O26: 1.72 | P26: 0.16
A27: 3 | B27: ТЕРр65-2-2 | C27: Разборка трубопроводов из чугунных канализационных труб диаметром 100 мм | D27: 100 м | E27: 0.025 | F27: 1028.82 | G27: 1015.92 | H27: 12.9 | I27: 5 | J27: 26 | K27: 26 | N27: 85.3 | O27: 2.13 | P27: 0.32 | Q27: 0.01
A28: 4 | B28: ТЕРр65-4-2 | C28: Разборка унитазов и писсуаров | D28: 100 приборов | E28: 0.01 | F28: 778.41 | G28: 766.72 | H28: 11.69 | I28: 4.53 | J28: 8 | K28: 8 | N28: 63.84 | O28: 0.64 | P28: 0.29
A29: 5 | B29: ТЕРр65-4-8 | C29: Разборка смывных бачков чугунных или фаянсовых на стене | D29: 100 приборов | E29: 0.01 | F29: 570.65 | G29: 520.27 | H29: 50.38 | I29: 19.53 | J29: 6 | K29: 5 | L29: 1 | N29: 43.32 | O29: 0.43 | P29: 1.25 | Q29: 0.01
A30: 6 | B30: ТЕРр65-4-1 | C30: Разборка умывальников и раковин | D30: 100 приборов | E30: 0.01 | F30: 626.59 | G30: 616.11 | H30: 10.48 | I30: 4.06 | J30: 6 | K30: 6 | N30: 51.3 | O30: 0.51 | P30: 0.26
A31: 7 | B31: ТЕР17-01-001-18 прим. | C31: Разборка поддонов душевых КОЭФ. К ПОЗИЦИИ: Разборка. ОЗП=0,4; МАТ=0 | D31: 10 компл. | E31: 0.1 | F31: 135.97 | G31: 59.02 | H31: 76.95 | I31: 3.59 | J31: 14 | K31: 6 | L31: 8 | N31: 4.36 | O31: 0.44 | P31: 0.23 | Q31: 0.02
A32: Раздел 2. Водопровод.
A33: 8 | B33: ТЕР16-02-002-02 | C33: Прокладка трубопроводов водоснабжения из стальных водогазопроводных оцинкованных труб диаметром 20 мм | D33: 100 м | E33: 0.2 | F33: 5654.2 | G33: 502.3 | H33: 79.16 | I33: 2.73 | J33: 1131 | K33: 100 | L33: 16 | M33: 1 | N33: 37.07 | O33: 7.41 | P33: 0.15 | Q33: 0.03
A34: 9 | B34: ТЕР16-02-002-01 | C34: Прокладка трубопроводов водоснабжения из стальных водогазопроводных оцинкованных труб диаметром 15 мм | D34: 100 м | E34: 0.7 | F34: 5020.27 | G34: 502.3 | H34: 79.16 | I34: 2.73 | J34: 3514 | K34: 352 | L34: 55 | M34: 2 | N34: 37.07 | O34: 25.95 | P34: 0.15 | Q34: 0.11
A35: 10 | B35: ТСЦ-302-1832 | C35: Кран шаровой муфтовый 11Б27П1, диаметром 20 мм | D35: шт. | E35: 4 | F35: 39.32 | J35: 157
A36: 11 | B36: ТСЦ-302-1831 | C36: Кран шаровой муфтовый 11Б27П1, диаметром 15 мм | D36: шт. | E36: 12 | F36: 25.14 | J36: 302
A37: 12 | B37: ТСЦ-301-1224 | C37: Крепления для трубопроводов: кронштейны, планки, хомуты | D37: кг | E37: 18 | F37: 17.02 | J37: 306
A38: 13 | B38: ТЕР17-01-008-01 | C38: Установка нагревателей индивидуальных водоводяных | D38: 10 компл. | E38: 0.2 | F38: 1309.83 | G38: 1157.52 | H38: 128.27 | I38: 16.36 | J38: 262 | K38: 232 | L38: 26 | M38: 3 | N38: 87.36 | O38: 17.47 | P38: 0.99 | Q38: 0.2
A39: Уд | B39: 1. 301-1513 | C39: Нагреватель индивидуальный водоводяной наружный диаметр корпуса 273 мм, длина 1,25 (со змеевиком диаметром 25х2 мм длиной 19,2 м, число витков 30), поверхность нагрева 1,6 м2 | D39: компл. | E39: 10 2 | F39: 2545.78 | J39: 5091.56
A40: 14 | B40: Цена поставщика. | C40: Стоитмость водонагревателя Ariston ABS Shuttle 80V (Цена:13790,00:1,18:4,42*1,02=2696,87) | D40: шт | E40: 2 | F40: 2696.87 | J40: 5394
A41: 15 | B41: ТСЦ-301-1224 прим. | C41: Крепления для электроводонагревательного котла. | D41: кг | E41: 9.58 | F41: 17.02 | J41: 163
A42: 16 | B42: ТЕР13-03-004-26 прим. | C42: Окраска крепления для электроводонагревательного котла эмалью | D42: 100 м2 | E42: 0.001 | F42: 630.91 | G42: 48.95 | H42: 6.68 | I42: 0.16 | J42: 1 | N42: 3.83 | P42: 0.01
A43: 17 | B43: ТЕРр65-6-10 прим. | C43: Установка гибких подводок | D43: 100 приборов | E43: 0.12 | F43: 677.14 | G43: 669.67 | H43: 7.47 | I43: 0.78 | J43: 81 | K43: 80 | L43: 1 | N43: 52.4 | O43: 6.29 | P43: 0.05 | Q43: 0.01
A44: Уд | B44: 1. 301-1520 | C44: Подводка гибкая армированная резиновая 500 мм | D44: шт. | E44: 100 12 | F44: 33.31 | J44: 399.72
...

Sheet 24368
A1: СОГЛАСОВАНО: | E1: ФГУП "Комбинат "Электрохимприбор" | M1: УТВЕРЖДАЮ:
G2: (наименование стройки)
A3: _____________________________ | M3: _____________________________
A4: " _____ " ________________ 2012г. | G4: ЛОКАЛЬНЫЙ СМЕТНЫЙ РАСЧЕТ № 24368 | M4: "______ " _______________2012г.
G5: (локальная смета)
C7: на | D7: Реконструкцию отопления. Площадка 2 Здание 234 Г
H8: (наименование работ и затрат, наименование объекта)
D10: Основание: № 24248-12-ОВ КПМ Ж 6268.220
D11: Сметная стоимость строительных работ _______________________________________________________________________________________________ | J11: ___________________________266,318 | L11: тыс. руб.
D12: Средства на оплату труда _______________________________________________________________________________________________ | J12: =7.543*4.42 -> 33.34006 | L12: тыс. руб.
D13: Сметная трудоемкость _______________________________________________________________________________________________ | J13: _______________________________________________________________________________________________553,75 | L13: чел.час
D14: Материалы ___________________________________________________________ | J14: =J98*4.42/1000 -> 170.45288 | L14: тыс.руб.
D15: Составлен(а) (в редакции 2009г) в ценах 2001года с переводом в текущие с К=4,42
A18: № пп | B18: Обоснование | C18: Наименование | D18: Ед. изм. | E18: Кол. | F18: Стоимость единицы, руб. | J18: Общая стоимость, руб. | N18: Т/з осн. раб.на ед. | O18: Т/з осн. раб. Всего | P18: Т/з мех. на ед. | Q18: Т/з мех. Всего
F19: Всего | G19: В том числе | J19: Всего | K19: В том числе
G20: Осн.З/п | H20: Эк.Маш | I20: З/пМех | K20: Осн.З/п | L20: Эк.Маш | M20: З/пМех
A21: 1 | B21: 2 | C21: 3 | D21: 4 | E21: 5 | F21: 6 | G21: 7 | H21: 8 | I21: 9 | J21: 10 | K21: 11 | L21: 12 | M21: 13 | N21: 14 | O21: 15 | P21: 16 | Q21: 17
A22: Раздел 1. Разборка.
A23: Отопление.
A24: 1 | B24: ТЕРр65-14-5 прим. | C24: Разборка регистров из стальных сварных труб | D24: 100 м | E24: 0.818 | F24: 1518.39 | G24: 1414.78 | H24: 22.69 | J24: 1242 | K24: 1157 | L24: 19 | N24: 117.8 | O24: 96.36
A25: 2 | B25: ТЕРр65-19-01 | C25: Разборка радиаторов весом до: 80 кг | D25: 100 шт. | E25: 0.04 | F25: 1267.86 | G25: 1219.9 | H25: 47.96 | I25: 26.9 | J25: 51 | K25: 49 | L25: 2 | M25: 1 | N25: 110 | O25: 4.4 | P25: 2.24 | Q25: 0.09
A26: 3 | B26: ТЕР16-05-001-01 прим. | C26: Разборка вентилей диаметром: до 25 мм КОЭФ. К ПОЗИЦИИ: Разборка. ОЗП=0,4; МАТ=0 | D26: 1 шт. | E26: 19 | F26: 9.21 | G26: 7.52 | H26: 1.69 | J26: 175 | K26: 143 | L26: 32 | N26: 0.59 | O26: 11.21
A27: 4 | B27: ТЕР16-05-001-02 прим. | C27: Разборка вентилей диаметром: до 50 мм КОЭФ. К ПОЗИЦИИ: Разборка ОЗП=0,4; МАТ=0 | D27: 1 шт. | E27: 2 | F27: 9.64 | G27: 7.52 | H27: 2.12 | J27: 19 | K27: 15 | L27: 4 | N27: 0.59 | O27: 1.18
A28: 5 | B28: ТЕРр65-13-1 | C28: Разборка воздухосборников | D28: 100 шт. | E28: 0.01 | F28: 589.69 | G28: 589.69 | J28: 6 | K28: 6 | N28: 49.1 | O28: 0.49
A29: 6 | B29: ТЕР16-05-001-01 прим. | C29: Разборка пробко-спускных кранов КОЭФ. К ПОЗИЦИИ: Разборка. ОЗП=0,4; МАТ=0 | D29: 1 шт. | E29: 5 | F29: 9.21 | G29: 7.52 | H29: 1.69 | J29: 46 | K29: 38 | L29: 8 | N29: 0.59 | O29: 2.95
A30: 7 | B30: ТЕРр65-14-1 | C30: Разборка трубопроводов из водогазопроводных труб в зданиях и сооружениях на резьбе диаметром до 32 мм | D30: 100 м | E30: 1.7 | F30: 453.98 | G30: 453.98 | J30: 772 | K30: 772 | N30: 37.8 | O30: 64.26
A31: 8 | B31: ТЕРр65-14-2 | C31: Разборка трубопроводов из водогазопроводных труб в зданиях и сооружениях на резьбе диаметром до 50 мм | D31: 100 м | E31: 0.32 | F31: 656.95 | G31: 656.95 | J31: 210 | K31: 210 | N31: 54.7 | O31: 17.5
A32: Узел управления.
A33: 9 | B33: ТЕР16-05-001-02 прим. | C33: Разборка вентилей диаметром: до 50 мм КОЭФ. К ПОЗИЦИИ: Разборка ОЗП=0,4; МАТ=0 | D33: 1 шт. | E33: 4 | F33: 9.64 | G33: 7.52 | H33: 2.12 | J33: 39 | K33: 31 | L33: 8 | N33: 0.59 | O33: 2.36
A34: 10 | B34: ТЕР18-07-001-02 прим. | C34: Разборка манометров с трехходовым краном КОЭФ. К ПОЗИЦИИ: Разборка ОЗП=0,4; МАТ=0 | D34: 1 компл. | E34: 3 | F34: 1.23 | G34: 1.23 | J34: 4 | K34: 4 | N34: 0.09 | O34: 0.27
A35: 11 | B35: ТЕР18-07-001-04 прим. | C35: Разборка термометров в оправе прямых и угловых КОЭФ. К ПОЗИЦИИ: Разборка ОЗП=0,4; МАТ=0 | D35: 1 компл. | E35: 3 | F35: 1.64 | G35: 1.64 | J35: 5 | K35: 5 | N35: 0.12 | O35: 0.36
A36: 12 | B36: ТЕРр65-13-2 | C36: Разборка грязевиков | D36: 100 шт. | E36: 0.01 | F36: 1909.59 | G36: 1909.59 | J36: 19 | K36: 19 | N36: 159 | O36: 1.59
A37: 13 | B37: ТЕР16-05-001-01 прим. | C37: Разборка вентилей диаметром: до 25 мм КОЭФ. К ПОЗИЦИИ: Разборка. ОЗП=0,4; МАТ=0 | D37: 1 шт. | E37: 3 | F37: 9.21 | G37: 7.52 | H37: 1.69 | J37: 28 | K37: 23 | L37: 5 | N37: 0.59 | O37: 1.77
A38: Раздел 2. Отопление.
A39: 14 | B39: ТЕР18-03-001-01 | C39: Установка радиаторов чугунных | D39: 100 кВт | E39: 0.208 | F39: 23624.42 | G39: 956.09 | H39: 487.05 | I39: 42.84 | J39: 4914 | K39: 199 | L39: 101 | M39: 9 | N39: 75.7 | O39: 15.75 | P39: 2.72 | Q39: 0.57
A40: 15 | B40: ТЕР16-02-005-06 | C40: Установка регистров диаметром до 125 мм | D40: 100 м | E40: 0.249 | F40: 16399.57 | G40: 1546.9 | H40: 393.58 | I40: 11.83 | J40: 4083 | K40: 385 | L40: 98 | M40: 3 | N40: 115.44 | O40: 28.74 | P40: 0.65 | Q40: 0.16
A41: 16 | B41: ТЕР16-02-005-07 | C41: Установка регистров диаметром до 150 мм | D41: 100 м | E41: 0.17 | F41: 19494.65 | G41: 1546.9 | H41: 378.69 | I41: 11.83 | J41: 3314 | K41: 263 | L41: 64 | M41: 2 | N41: 115.44 | O41: 19.62 | P41: 0.65 | Q41: 0.11
A42: 17 | B42: ТСЦ-302-0469 | C42: Краны регулирующие двойной регулировки пробковые КРДП латунные, диаметром 15 мм | D42: шт. | E42: 17 | F42: 36.65 | J42: 623
A43: 18 | B43: ТСЦ-302-1831 | C43: Кран шаровой муфтовый 11Б27П1, диаметром 15 мм | D43: шт. | E43: 4 | F43: 25.14 | J43: 101
A44: 19 | B44: ТСЦ-302-1832 | C44: Кран шаровой муфтовый 11Б27П1, диаметром 20 мм | D44: шт. | E44: 2 | F44: 39.32 | J44: 79
...

Sheet 24379
A1: СОГЛАСОВАНО: | E1: ФГУП "Комбинат "Электрохимприбор" | M1: УТВЕРЖДАЮ:
G2: (наименование стройки)
A3: _____________________________ | M3: _____________________________
A4: " _____ " ________________ 2012г. | G4: ЛОКАЛЬНЫЙ СМЕТНЫЙ РАСЧЕТ № 24379 | M4: "______ " _______________2012г.
G5: (локальная смета)
C7: на | D7: Реконструкцию теплоснабжения. Площадка 2 Здание 234 Г
H8: (наименование работ и затрат, наименование объекта)
D10: Основание: № 24250-12-ОВ КПМ Ж 6268.220 | N10: Справочно, в тыс.руб. :
D11: Сметная стоимость строительных работ _______________________________________________________________________________________________ | J11: ___________________________7,968 | L11: тыс. руб. | N11: с К=4,42 | P11: =7.968*4.42 -> 35.21856
D12: Средства на оплату труда _______________________________________________________________________________________________ | J12: ___________________________0,669 | L12: тыс. руб. | N12: с К=4,42 | P12: =0.669*4.42 -> 2.95698
D13: Сметная трудоемкость _______________________________________________________________________________________________ | J13: _______________________________________________________________________________________________46,91 | L13: чел.час
D14: Материалы ______________________________________ | K14: =J62/1000 -> 5.876 | L14: тыс.руб. | N14: с К=4,42 | P14: =5.876*4.42 -> 25.97192
D15: Составлен(а) в базовых ценах 2001г. в редакции 2009г.
A17: № пп | B17: Обоснование | C17: Наименование | D17: Ед. изм. | E17: Кол. | F17: Стоимость единицы, руб. | J17: Общая стоимость, руб. | N17: Т/з осн. раб.на ед. | O17: Т/з осн. раб. Всего | P17: Т/з мех. на ед. | Q17: Т/з мех. Всего
F18: Всего | G18: В том числе | J18: Всего | K18: В том числе
G19: Осн.З/п | H19: Эк.Маш | I19: З/пМех | K19: Осн.З/п | L19: Эк.Маш | M19: З/пМех
A20: 1 | B20: 2 | C20: 3 | D20: 4 | E20: 5 | F20: 6 | G20: 7 | H20: 8 | I20: 9 | J20: 10 | K20: 11 | L20: 12 | M20: 13 | N20: 14 | O20: 15 | P20: 16 | Q20: 17
A21: Раздел 1. Теплоснабжение.
A22: 1 | B22: ТЕР16-05-001-02 | C22: Установка вентилей на трубопроводах из стальных труб диаметром до 50 мм | D22: 1 шт. | E22: 1 | F22: 138.58 | G22: 18.79 | H22: 5.32 | J22: 139 | K22: 19 | L22: 5 | N22: 1.47 | O22: 1.47
A23: 2 | B23: ТЕР16-05-001-01 | C23: Установка вентилей на трубопроводах из стальных труб диаметром до 25 мм | D23: 1 шт. | E23: 2 | F23: 84.1 | G23: 18.79 | H23: 4.23 | J23: 168 | K23: 38 | L23: 8 | N23: 1.47 | O23: 2.94
A24: 3 | B24: ТСЦ-302-1262 прим. | C24: Вентили проходные фланцевые 15С22НЖ диаметром до 40 мм | D24: шт. | E24: 2 | F24: 495 | J24: 990
A25: 4 | B25: ТСЦ-302-1267 | C25: Вентили проходные фланцевые 15КЧ19П1 для воды, давлением 1,6 МПа (16 кгс/см2), диаметром 25 мм | D25: шт. | E25: 1 | F25: 49.27 | J25: 49
A26: 5 | B26: ТСЦ-302-1831 | C26: Кран шаровой муфтовый 11Б27П1, диаметром 15 мм | D26: шт. | E26: 11 | F26: 25.14 | J26: 277
A27: 6 | B27: ТЕР16-05-003-01 прим. | C27: Установка клапанов диаметром 25 мм | D27: 1 шт. | E27: 1 | F27: 75 | G27: 24.35 | H27: 3.71 | J27: 75 | K27: 24 | L27: 4 | N27: 1.86 | O27: 1.86
A28: Уд | B28: 1. 301-1666 | C28: Клапаны предохранительные малоподъемные однорычажные фланцевые 17ч3бр1 диаметром 25 мм | D28: шт. | E28: 1 1 | F28: 125.13 | J28: 125.13
A29: 7 | B29: ТСЦ-301-1488 | C29: Клапаны обратные В-В размером 1" | D29: шт. | E29: 1 | F29: 81.57 | J29: 82
A30: 8 | B30: Цена поставщика. | C30: Конденсатоотводчик ф 15 (Цена: 190,00:1,18:4,42*1,02=37,16) | D30: шт | E30: 1 | F30: 37.16 | J30: 37
A31: 9 | B31: ТЕР18-07-001-04 | C31: Установка термометров в оправе прямых и угловых | D31: 1 компл. | E31: 2 | F31: 365.03 | G31: 4.11 | J31: 730 | K31: 8 | N31: 0.31 | O31: 0.62
A32: 10 | B32: ТЕР18-07-001-02 | C32: Установка манометров с трехходовым краном | D32: 1 компл. | E32: 2 | F32: 244.31 | G32: 3.07 | J32: 489 | K32: 6 | N32: 0.22 | O32: 0.44
A33: 11 | B33: Цена поставщика. | C33: Отборное устройство (Цена: 470,00:1,18:4,42*1,02=91,92) | D33: шт | E33: 2 | F33: 91.92 | J33: 184
A34: 12 | B34: ТЕР16-05-003-01 | C34: Установка клапанов предохранительных однорычажных диаметром 25 мм | D34: 1 шт. | E34: 1 | F34: 200.13 | G34: 24.35 | H34: 3.71 | J34: 200 | K34: 24 | L34: 4 | N34: 1.86 | O34: 1.86
A35: 13 | B35: ТЕР16-02-005-01 | C35: Прокладка трубопроводов отопления и водоснабжения из стальных электросварных труб диаметром до 40 мм | D35: 100 м | E35: 0.05 | F35: 6013.84 | G35: 837.02 | H35: 157.48 | I35: 3.46 | J35: 301 | K35: 42 | L35: 8 | N35: 60.83 | O35: 3.04 | P35: 0.19 | Q35: 0.01
A36: 14 | B36: ТЕР16-02-001-05 | C36: Прокладка трубопроводов отопления из стальных водогазопроводных неоцинкованных труб диаметром 40 мм | D36: 100 м | E36: 0.07 | F36: 6103.76 | G36: 446.74 | H36: 69.04 | I36: 2.73 | J36: 427 | K36: 31 | L36: 5 | N36: 32.97 | O36: 2.31 | P36: 0.15 | Q36: 0.01
A37: 15 | B37: ТЕР16-02-001-03 | C37: Прокладка трубопроводов отопления из стальных водогазопроводных неоцинкованных труб диаметром 25 мм | D37: 100 м | E37: 0.195 | F37: 4893.53 | G37: 446.74 | H37: 69.04 | I37: 2.73 | J37: 954 | K37: 87 | L37: 13 | M37: 1 | N37: 32.97 | O37: 6.43 | P37: 0.15 | Q37: 0.03
A38: 16 | B38: ТЕР16-02-001-01 | C38: Прокладка трубопроводов отопления из стальных водогазопроводных неоцинкованных труб диаметром 15 мм | D38: 100 м | E38: 0.22 | F38: 3897.38 | G38: 446.74 | H38: 69.04 | I38: 2.73 | J38: 857 | K38: 98 | L38: 15 | M38: 1 | N38: 32.97 | O38: 7.25 | P38: 0.15 | Q38: 0.03
A39: 17 | B39: ТСЦ-301-1224 | C39: Крепления для трубопроводов: кронштейны, планки, хомуты | D39: кг | E39: 10.7 | F39: 17.02 | J39: 182
A40: 18 | B40: ТЕР16-07-005-01 | C40: Гидравлическое испытание трубопроводов систем отопления, водопровода и горячего водоснабжения диаметром до 50 мм | D40: 100 м | E40: 0.535 | F40: 104.4 | G40: 82.16 | H40: 15.29 | J40: 56 | K40: 44 | L40: 8 | N40: 5.01 | O40: 2.68
A41: 19 | B41: ТЕР13-03-004-26 прим. | C41: Антикоррозийнное покрытие трубопроводов. | D41: 100 м2 | E41: 0.05 | F41: 65.66 | G41: 48.95 | H41: 6.68 | I41: 0.16 | J41: 3 | K41: 2 | N41: 3.83 | O41: 0.19 | P41: 0.01
A42: Уд | B42: 1. 113-0246 | C42: Эмаль ПФ-115 серая | D42: т | E42: 0,019 0,00095 | F42: 29750 | J42: 28.26
A43: 20 | B43: ТСЦ-113-0427 | C43: Антикоррозийный состав "ГЕРМОКРОН-ГИДРО" | D43: кг | E43: 0.95 | F43: 48.31 | J43: 46
...

Sheet 24406
A1: СОГЛАСОВАНО: | E1: ФГУП "Комбинат "Электрохимприбор" | M1: УТВЕРЖДАЮ:
G2: (наименование стройки) | M2: Зам. генерального директора
A3: _____________________________ | M3: Е.В.Гордеев
A4: " _____ " ________________ 2012г. | G4: ЛОКАЛЬНЫЙ СМЕТНЫЙ РАСЧЕТ № 24406
G5: (локальная смета) | M5: "______ " __________2012 г.
C7: на | D7: Наружные сети водопровода и канализации. Площадка 2 Здание 234 Г
H8: (наименование работ и затрат, наименование объекта)
D10: Основание: пр. № 24279-12-НВК КПМ Ж 6268.220 | N10: Справочно, в тыс.руб. :
D11: Сметная стоимость строительных работ _______________________________________________________________________________________________ | J11: ___________________________33,312 | L11: тыс. руб. | N11: с К=4,42 | P11: =33.312*4.42 -> 147.23904
D12: Средства на оплату труда _______________________________________________________________________________________________ | J12: ___________________________3,282 | L12: тыс. руб. | N12: с К=4,42 | P12: =3.282*4.42 -> 14.50644
D13: Сметная трудоемкость _______________________________________________________________________________________________ | J13: _______________________________________________________________________________________________225,3 | L13: чел.час
D14: Материалы ______________________________________ | K14: =J75/1000 -> 21.738 | L14: тыс.руб. | N14: с К=4,42 | P14: =21.738*4.42 -> 96.08196
D15: Составлен(а) в базовых ценах 2001г. в редакции 2009г.
A18: № пп | B18: Обоснование | C18: Наименование | D18: Ед. изм. | E18: Кол. | F18: Стоимость единицы, руб. | J18: Общая стоимость, руб. | N18: Т/з осн. раб.на ед. | O18: Т/з осн. раб. Всего | P18: Т/з мех. на ед. | Q18: Т/з мех. Всего
F19: Всего | G19: В том числе | J19: Всего | K19: В том числе
G20: Осн.З/п | H20: Эк.Маш | I20: З/пМех | K20: Осн.З/п | L20: Эк.Маш | M20: З/пМех
A21: 1 | B21: 2 | C21: 3 | D21: 4 | E21: 5 | F21: 6 | G21: 7 | H21: 8 | I21: 9 | J21: 10 | K21: 11 | L21: 12 | M21: 13 | N21: 14 | O21: 15 | P21: 16 | Q21: 17
A22: Раздел 1. Водопровод.
A23: 1 | B23: ТЕР01-01-003-08 | C23: Разработка грунта в отвал экскаваторами «драглайн» или «обратная лопата» с ковшом вместимостью 0,65 (0,5-1) м3, группа грунтов 2 | D23: 1000 м3 | E23: 0.178 | F23: 3778.42 | G23: 115.18 | H23: 3663.24 | I23: 385.27 | J23: 673 | K23: 21 | L23: 652 | M23: 69 | N23: 10.48 | O23: 1.87 | P23: 22.77 | Q23: 4.05
A24: 2 | B24: ТЕР01-02-055-08 | C24: Разработка грунта вручную с креплениями в траншеях шириной до 2 м, глубиной до 3 м, группа грунтов 2 | D24: 100 м3 | E24: 0.198 | F24: 3117.84 | G24: 3117.84 | J24: 617 | K24: 617 | N24: 264 | O24: 52.27
A25: 3 | B25: ТЕР01-01-013-08 | C25: Разработка грунта с погрузкой на автомобили-самосвалы экскаваторами с ковшом вместимостью 0,65 (0,5-1) м3, группа грунтов 2 | D25: 1000 м3 | E25: 0.001 | F25: 5028.78 | G25: 125.4 | H25: 4898.28 | I25: 559.88 | J25: 5 | L25: 5 | M25: 1 | N25: 11.41 | O25: 0.01 | P25: 33.09 | Q25: 0.03
A26: 4 | B26: СЦП3-3-5-1 | C26: Перевозка грузов автомобилями-самосвалами (работающими вне карьеров): расстояние 5 км, класс груза I КОЭФ. К ПОЗИЦИИ: п.17.Доп1 При перевозке грузов к провозной плате (тарифам) применять поправочный коэффициент ПЗ=1,37 | D26: т | E26: 2.398 | F26: 10.58 | H26: 10.58 | J26: 25 | L26: 25
A27: 5 | B27: ТЕР23-01-001-01 | C27: Устройство основания под трубопроводы песчаного | D27: 10 м3 | E27: 0.0885 | F27: 1636.02 | G27: 117.4 | H27: 26.91 | I27: 5.47 | J27: 145 | K27: 10 | L27: 2 | N27: 10.2 | O27: 0.9 | P27: 0.35 | Q27: 0.03
A28: 6 | B28: ТЕР01-01-033-02 | C28: Засыпка траншей и котлованов с перемещением грунта до 5 м бульдозерами мощностью 59 кВт (80 л.с.), группа грунтов 2 | D28: 1000 м3 | E28: 0.177 | F28: 822.69 | H28: 822.69 | I28: 138.55 | J28: 146 | L28: 146 | M28: 25 | P28: 8.87 | Q28: 1.57
A29: 7 | B29: ТЕР01-02-061-02 | C29: Засыпка вручную траншей, пазух котлованов и ям, группа грунтов 2 | D29: 100 м3 | E29: 0.197 | F29: 1027.4 | G29: 1027.4 | J29: 202 | K29: 202 | N29: 97.2 | O29: 19.15
A30: 8 | B30: ТЕР01-02-005-01 | C30: Уплотнение грунта пневматическими трамбовками, группа грунтов 1-2 | D30: 100 м3 | E30: 1.97 | F30: 604.71 | G30: 150.49 | H30: 454.22 | I30: 47.48 | J30: 1191 | K30: 296 | L30: 895 | M30: 94 | N30: 12.53 | O30: 24.68 | P30: 3.04 | Q30: 5.99
A31: 9 | B31: ТЕР16-04-002-11 | C31: Прокладка трубопроводов водоснабжения из напорных полиэтиленовых труб низкого давления среднего типа наружным диаметром 160 мм | D31: 100 м | E31: 0.16 | F31: 17436.34 | G31: 1772.02 | H31: 1458.43 | I31: 218.17 | J31: 2790 | K31: 284 | L31: 233 | M31: 35 | N31: 132.24 | O31: 21.16 | P31: 12.51 | Q31: 2
A32: 10 | B32: ТЕР16-04-002-09 | C32: Прокладка трубопроводов водоснабжения из напорных полиэтиленовых труб низкого давления среднего типа наружным диаметром 110 мм | D32: 100 м | E32: 0.14 | F32: 10198.41 | G32: 1725.38 | H32: 1636.42 | I32: 252.18 | J32: 1428 | K32: 242 | L32: 229 | M32: 35 | N32: 128.76 | O32: 18.03 | P32: 14.46 | Q32: 2.02
A33: 11 | B33: ТЕР16-04-002-05 | C33: Прокладка трубопроводов водоснабжения из напорных полиэтиленовых труб низкого давления среднего типа наружным диаметром 50 мм | D33: 100 м | E33: 0.005 | F33: 5227.97 | G33: 1977.03 | H33: 1502.26 | I33: 234.74 | J33: 26 | K33: 10 | L33: 8 | M33: 1 | N33: 141.52 | O33: 0.71 | P33: 13.46 | Q33: 0.07
A34: 12 | B34: ТСЦ-507-0900 прим. | C34: Тройник литой полиэтиленовый диаметр 160 мм | D34: шт. | E34: 1 | F34: 1414.27 | J34: 1414
A35: 13 | B35: ТСЦ-507-0783 | C35: Переход полиэтиленовый , 160х110 | D35: шт. | E35: 2 | F35: 266.77 | J35: 534
A36: 14 | B36: ТСЦ-507-0782 | C36: Переход полиэтиленовый 110х63 | D36: шт. | E36: 1 | F36: 124.27 | J36: 124
A37: 15 | B37: ТЕР16-05-001-05 | C37: Установка задвижек, на трубопроводах диаметром до 150 мм | D37: 1 шт. | E37: 1 | F37: 492.19 | G37: 85.88 | H37: 20.84 | I37: 0.73 | J37: 492 | K37: 86 | L37: 21 | M37: 1 | N37: 6.72 | O37: 6.72 | P37: 0.04 | Q37: 0.04
A38: 16 | B38: ТСЦ-302-1179 | C38: Задвижки 30ч6бр диаметром 150 мм | D38: шт. | E38: 1 | F38: 911.96 | J38: 912
A39: 17 | B39: ТСЦ-507-0971 | C39: Фланцы стальные плоские приварные из стали ВСт3сп2, ВСт3сп3, давлением 0,6 МПа (6 кгс/см2), диаметром 150 мм | D39: шт. | E39: 1 | F39: 101.48 | J39: 101
A40: 18 | B40: ТЕР16-05-001-03 | C40: Установка задвижек, на трубопроводах диаметром до 100 мм | D40: 1 шт. | E40: 1 | F40: 278.39 | G40: 37.19 | H40: 11.67 | I40: 0.36 | J40: 278 | K40: 37 | L40: 12 | N40: 2.91 | O40: 2.91 | P40: 0.02 | Q40: 0.02
A41: 19 | B41: Цена поставщика. | C41: Задвижки фланцевая 4000Е2 диаметром 100 мм (Цена: 11539,30:4,42*1,02=2662,91) | D41: шт. | E41: 1 | F41: 2662.91 | J41: 2663
A42: 20 | B42: ТЕР16-05-001-02 | C42: Установка задвижек, на трубопроводах диаметром до 50 мм | D42: 1 шт. | E42: 1 | F42: 138.58 | G42: 18.79 | H42: 5.32 | J42: 139 | K42: 19 | L42: 5 | N42: 1.47 | O42: 1.47
A43: 21 | B43: Цена поставщика. | C43: Задвижки фланцевая 4000Е2 диаметром 50 мм (Цена: 6734,83:4,42*1,02=1554,19) | D43: шт. | E43: 1 | F43: 1554.19 | J43: 1554
A44: 22 | B44: Цена поставщика. | C44: Фланец "Система 2000" диаметром 110мм (Цена: 4197,83:4,42*1,02=968,73) | D44: шт. | E44: 2 | F44: 968.73 | J44: 1937
...

Sheet 24481
A1: СОГЛАСОВАНО: | E1: ФГУП "Комбинат "Электрохимприбор" | M1: УТВЕРЖДАЮ:
G2: (наименование стройки) | M2: Зам.генерального директора
A3: _________________ | N3: Е.В. Гордеев
A4: " _____ " ________________ 2012 г. | M4: __________________
G5: ЛОКАЛЬНЫЙ СМЕТНЫЙ РАСЧЕТ № 24481 | M5: "______ " __________2012 г.
G6: (локальная смета)
C8: на | D8: реконструкцию баллонной. Площадка 2. Здание 234Г
H9: (наименование работ и затрат, наименование объекта)
D11: Основание: проект №24329-12-АС тема КПМ Ж6268.220 | N11: Справочно, в тыс.руб. :
D12: Сметная стоимость строительных работ _______________________________________________________________________________________________ | J12: ___________________________51,063 | L12: тыс. руб. | N12: с К=4,42 | P12: 225.698
D13: Средства на оплату труда _______________________________________________________________________________________________ | J13: ___________________________2,107 | L13: тыс. руб. | N13: с К=4,42 | P13: 9.313
D14: Сметная трудоемкость _______________________________________________________________________________________________ | J14: _______________________________________________________________________________________________145,58 | L14: чел.час
D15: Материалы _________________________________________________________ | K15: 43,828 тыс.руб. | N15: с К=4,42 | P15: 193.72
D16: Составлен(а) в базовых ценах 2001г. в редакции 2009г.
A18: № пп | B18: Обоснование | C18: Наименование | D18: Ед. изм. | E18: Кол. | F18: Стоимость единицы, руб. | J18: Общая стоимость, руб. | N18: Т/з осн. раб.на ед. | O18: Т/з осн. раб. Всего | P18: Т/з мех. на ед. | Q18: Т/з мех. Всего
F19: Всего | G19: В том числе | J19: Всего | K19: В том числе
G20: Осн.З/п | H20: Эк.Маш | I20: З/пМех | K20: Осн.З/п | L20: Эк.Маш | M20: З/пМех
A21: 1 | B21: 2 | C21: 3 | D21: 4 | E21: 5 | F21: 6 | G21: 7 | H21: 8 | I21: 9 | J21: 10 | K21: 11 | L21: 12 | M21: 13 | N21: 14 | O21: 15 | P21: 16 | Q21: 17
A22: Раздел 1. Монолитная опорная плита
A23: 1 | B23: ТЕР08-01-002-02 | C23: Устройство основания под фундаменты щебеночного | D23: 1 м3 | E23: 0.794 | F23: 288.26 | G23: 27.62 | H23: 67.69 | I23: 7.48 | J23: 229 | K23: 22 | L23: 54 | M23: 6 | N23: 2.4 | O23: 1.91 | P23: 0.54 | Q23: 0.43
A24: 2 | B24: ТЕР06-01-001-01 | C24: Устройство бетонной подготовки | D24: 100 м3 | E24: 0.02 | F24: 9627.53 | G24: 1978.2 | H24: 4648.35 | I24: 327.6 | J24: 193 | K24: 40 | L24: 93 | M24: 7 | N24: 180 | O24: 3.6 | P24: 18 | Q24: 0.36
A25: 3 | B25: ТСЦ-401-0066 | C25: Бетон тяжелый, крупность заполнителя 20 мм, класс В15 (М200) | D25: м3 | E25: 2.04 | F25: 593.48 | J25: 1211
A26: 4 | B26: ТЕР06-01-015-10 | C26: Армирование подстилающих слоев и набетонок | D26: 1 т | E26: 0.119 | F26: 438.07 | G26: 157.75 | H26: 44.41 | I26: 2.91 | J26: 52 | K26: 19 | L26: 5 | N26: 12.64 | O26: 1.5 | P26: 0.16 | Q26: 0.02
A27: 5 | B27: ТСЦ-204-0066 | C27: Арматура-сетка из арматурной стали диаметром 12-14 мм | D27: т | E27: 0.119 | F27: 6299.31 | J27: 750
A28: 6 | B28: ТСЦ-204-0037 | C28: Надбавки к ценам заготовок за сборку и сварку каркасов и сеток плоских, диаметром 12 мм | D28: т | E28: 0.119 | F28: 2069.7 | J28: 246
A29: Раздел 2. Монтаж металлических конструкций
A30: 7 | B30: ТЕР09-01-001-01 | C30: Монтаж каркасов одноэтажных производственных зданий одно- и многопролетных без фонарей пролетом до 24 м, высотой до 15 м без кранов | D30: 1 т конструкций | E30: 1.203 | F30: 1137.76 | G30: 303.52 | H30: 535.13 | I30: 53.33 | J30: 1369 | K30: 365 | L30: 644 | M30: 64 | N30: 22.4 | O30: 26.95 | P30: 2.81 | Q30: 3.38
A31: 8 | B31: ТСЦ-201-0778 | C31: Прочие индивидуальные сварные конструкции, масса сборочной единицы до 0,1 т | D31: т | E31: 1.203 | F31: 13506.5 | J31: 16248
A32: 9 | B32: ТЕР46-03-009-02 | C32: Пробивка в кирпичных стенах гнезд размером до 260х260 мм | D32: 100 шт. | E32: 0.02 | F32: 3359.59 | G32: 689.7 | H32: 2669.89 | I32: 247.26 | J32: 67 | K32: 14 | L32: 53 | M32: 5 | N32: 53.3 | O32: 1.07 | P32: 15.83 | Q32: 0.32
A33: 10 | B33: ТЕР46-03-017-05 | C33: Заделка отверстий, гнезд и борозд в стенах бетоном | D33: 1 м3 заделки | E33: 0.01 | F33: 2078.32 | G33: 857.51 | H33: 44.07 | J33: 21 | K33: 9 | N33: 75.22 | O33: 0.75
A34: 11 | B34: ТЕР13-03-002-04 | C34: Огрунтовка металлических поверхностей за один раз грунтовкой ГФ-021 | D34: 100 м2 | E34: 0.18 | F34: 417.46 | G34: 79.65 | H34: 10.15 | I34: 0.16 | J34: 75 | K34: 14 | L34: 2 | N34: 5.31 | O34: 0.96 | P34: 0.01
A35: 12 | B35: ТЕР26-02-009-01 | C35: Огнезащитное покрытие металлических огрунтованных (грунтом ГФ-021) поверхностей балок покрытия материалом огнезащитным терморасширяющимся | D35: 100 м2 покрытия | E35: 0.096 | F35: 2788.4 | G35: 2296.32 | H35: 323.21 | J35: 268 | K35: 220 | L35: 31 | N35: 184 | O35: 17.66
A36: 13 | B36: ТСЦ-113-0519 | C36: Материал огнезащитный терморасширяющийся | D36: кг | E36: 21.12 | F36: 85 | J36: 1795
A37: 14 | B37: ТЕР13-03-004-26 | C37: Окраска прочих металлических огрунтованных поверхностей эмалью ПФ КОЭФ. К ПОЗИЦИИ: за 2 раза ПЗ=2 (ОЗП=2; ЭМ=2 к расх.; ЗПМ=2; МАТ=2 к расх.; ТЗ=2; ТЗМ=2) | D37: 100 м2 | E37: 0.084 | F37: 1261.82 | G37: 97.9 | H37: 13.36 | I37: 0.32 | J37: 106 | K37: 8 | L37: 1 | N37: 7.66 | O37: 0.64 | P37: 0.02
A38: Раздел 3. Облицовка каркаса сэндвич-панелями. Проемы
A39: 15 | B39: ТЕР11-01-004-05 | C39: Устройство гидроизоляции обмазочной в один слой толщиной 2 мм | D39: 100 м2 | E39: 0.017 | F39: 1498.8 | G39: 415.88 | H39: 223.72 | I39: 2.81 | J39: 25 | K39: 7 | L39: 4 | N39: 26.97 | O39: 0.46 | P39: 0.18
