Workbook

Sheet Смета 12 гр. по ФЕР
A1: =Source!B1 -> Smeta.RU (495) 974-1589
B3: "СОГЛАСОВАНО" | H3: "УТВЕРЖДАЮ"
B6: =CONCATENATE("______________________ ", IF(Source!AL12<>"", Source!AL12, "")) -> ______________________ | H6: =CONCATENATE("______________________ ", IF(Source!AH12<>"", Source!AH12, "")) -> ______________________
B7: "_____"________________ 2018 г. | H7: "_____"________________ 2018 г.
B11: СМЕТА
B12: =IF(Source!G20<>"Новая локальная смета", Source!G20, "")
B14: Выполнение работ по ремонту системы водоснабжения в загородном учебно-спортивном комплексе "база отдыха Волга" НИЯУ МИФИ по адресу: Тверская область, Калининский район, п/о Лисицкий бор, деревня Видогощи.
G17: базовая цена | I17: текущая цена
C18: Сметная стоимость | G18: =SUM(O29:O373)/1000 -> 326.70593 | I18: =(Source!P235/1000) -> 1985.3166 | K18: тыс. руб.
C19: Строительные работы | G19: =SUM(W29:W373)/1000 -> 326.70593 | I19: =(Source!P222)/1000 -> 1682.4717 | K19: тыс. руб.
C20: Монтажные работы | G20: =SUM(X29:X373)/1000 -> 0 | I20: =(Source!P223)/1000 -> 0 | K20: тыс. руб.
C21: Оборудование | G21: =SUM(Y29:Y373)/1000 -> 0 | I21: =(Source!P214)/1000 -> 0 | K21: тыс. руб.
C22: Прочие работы | G22: =SUM(Z29:Z373)/1000 -> 0 | I22: =(Source!P224+Source!P225)/1000 -> 0 | K22: тыс. руб.
C23: Нормативная трудоемкость | G23: =I23 -> 6327.503 | I23: =(Source!P227+Source!P228) -> 6327.503 | K23: чел. -ч.
C24: Средства на оплату труда | G24: =SUM(R29:R373)/1000 -> 54.12987 | I24: =((Source!P220 + Source!P219)/1000) -> 278.76885 | K24: тыс. руб.
A26: Составлена в ценах III квартал 2018 года
A27: № п/п | B27: Шифр расценки и коды ресурсов | C27: Наименование работ и затрат | D27: Ед. изм. | E27: Кол-во единиц | F27: Цена на ед. изм. | G27: Попра-вочные коэфф. | H27: Стоимость в ценах 2001г. | I27: Пункт коэфф. пересчета | J27: Коэфф. пересчета | K27: Стоимость в текущих ценах | L27: ЗТР всего чел.-час
A28: 1 | B28: 2 | C28: 3 | D28: 4 | E28: 5 | F28: 6 | G28: 7 | H28: 8 | I28: 9 | J28: 10 | K28: 11 | L28: 12
A29: =Source!E25 -> 1 | B29: =Source!F25 -> 01-02-055-02 | C29: =Source!G25 -> Разработка грунта вручную с креплениями в траншеях шириной до 2 м, глубиной до 2 м, группа грунтов 2 | D29: =Source!H25 -> 100 м3 | E29: =Source!I25 -> 11.85 | F29: =Source!AL25+Source!AM25+Source!AO25 -> 1583.82 | I29: =Source!BO25 | S29: =ROUND((Source!FX25/100)*((ROUND(Source!AF25*Source!I25, 2)+ROUND(Source!AE25*Source!I25, 2))), 2) -> 15540.13 | T29: =Source!X25 -> 80031.64 | U29: =ROUND((Source!FY25/100)*((ROUND(Source!AF25*Source!I25, 2)+ROUND(Source!AE25*Source!I25, 2))), 2) -> 8255.69 | V29: =Source!Y25 -> 42238.92
C30: ="Объем: "&Source!I25&"=1185/"&"100" -> Объем: 11,85=1185/100
C31: Зарплата | F31: =Source!AO25 -> 1583.82 | G31: =Source!DG25 -> )*1,15 | H31: =ROUND(Source!AF25*Source!I25, 2) -> 21583.51 | J31: =IF(Source!BA25<> 0, Source!BA25, 1) -> 5.15 | K31: =Source!S25 -> 111155.06 | R31: =H31 -> 21583.51
C32: НР от ФОТ | D32: % | E32: =Source!BZ25 -> 80 | F32: =CONCATENATE(" )", Source!DL25, Source!FT25, "=", Source!FX25) -> )*0,9=72 | H32: =SUM(S29:S34) -> 15540.13 | J32: =Source!AT25 -> 72 | K32: =SUM(T29:T34) -> 80031.64
C33: СП от ФОТ | D33: % | E33: =Source!CA25 -> 45 | F33: =CONCATENATE(" )", Source!DM25, Source!FU25, "=", Source!FY25) -> )*0,85=38,25 | H33: =SUM(U29:U34) -> 8255.69 | J33: =Source!AU25 -> 38 | K33: =SUM(V29:V34) -> 42238.92
C34: Затраты труда | D34: чел-ч | E34: =Source!AQ25 -> 189 | G34: =Source!DI25 -> )*1,15 | L34: =Source!U25 -> 2575.5975
G35: =H31+H32+H33 -> 45379.33 | J35: =K31+K32+K33 -> 233425.62 | L35: =Source!U25 -> 2575.5975 | O35: =G35 -> 45379.33 | P35: =J35 -> 233425.62 | Q35: =L35 -> 2575.5975 | W35: =IF(Source!BI25<=1,H31+H32+H33, 0) -> 45379.33 | X35: =IF(Source!BI25=2,H31+H32+H33, 0) -> 0 | Y35: =IF(Source!BI25=3,H31+H32+H33, 0) -> 0 | Z35: =IF(Source!BI25=4,H31+H32+H33, 0) -> 0
A36: =Source!E27 -> 2 | B36: =Source!F27 -> 66-3-1 | C36: =Source!G27 -> Разборка кирпичной кладки камер, каналов, компенсаторных ниш, углов поворота вручную без очистки кирпича (4 шт.) | D36: =Source!H27 -> м3 | E36: =Source!I27 -> 1.413 | F36: =Source!AL27+Source!AM27+Source!AO27 -> 50.23 | I36: =Source!BO27 | S36: =ROUND((Source!FX27/100)*((ROUND(Source!AF27*Source!I27, 2)+ROUND(Source!AE27*Source!I27, 2))), 2) -> 52.52 | T36: =Source!X27 -> 270.48 | U36: =ROUND((Source!FY27/100)*((ROUND(Source!AF27*Source!I27, 2)+ROUND(Source!AE27*Source!I27, 2))), 2) -> 35.49 | V36: =Source!Y27 -> 182.76
C37: Зарплата | F37: =Source!AO27 -> 50.23 | G37: =Source!DG27 | H37: =ROUND(Source!AF27*Source!I27, 2) -> 70.97 | J37: =IF(Source!BA27<> 0, Source!BA27, 1) -> 5.15 | K37: =Source!S27 -> 365.52 | R37: =H37 -> 70.97
C38: НР от ФОТ | D38: % | E38: =Source!BZ27 -> 74 | H38: =SUM(S36:S40) -> 52.52 | J38: =Source!AT27 -> 74 | K38: =SUM(T36:T40) -> 270.48
C39: СП от ФОТ | D39: % | E39: =Source!CA27 -> 50 | H39: =SUM(U36:U40) -> 35.49 | J39: =Source!AU27 -> 50 | K39: =SUM(V36:V40) -> 182.76
C40: Затраты труда | D40: чел-ч | E40: =Source!AQ27 -> 6.44 | G40: =Source!DI27 | L40: =Source!U27 -> 9.09972
G41: =H37+H38+H39 -> 158.98 | J41: =K37+K38+K39 -> 818.76 | L41: =Source!U27 -> 9.09972 | O41: =G41 -> 158.98 | P41: =J41 -> 818.76 | Q41: =L41 -> 9.09972 | W41: =IF(Source!BI27<=1,H37+H38+H39, 0) -> 158.98 | X41: =IF(Source!BI27=2,H37+H38+H39, 0) -> 0 | Y41: =IF(Source!BI27=3,H37+H38+H39, 0) -> 0 | Z41: =IF(Source!BI27=4,H37+H38+H39, 0) -> 0
A42: =Source!E29 -> 3 | B42: =Source!F29 -> 07-06-002-06 | C42: =Source!G29 -> Демонтаж: Устройство плит перекрытий каналов площадью до 1 м2 | D42: =Source!H29 -> 100 ШТ | E42: =Source!I29 -> 0.3 | F42: =Source!AL29+Source!AM29+Source!AO29 -> 6289.69 | I42: =Source!BO29 | S42: =ROUND((Source!FX29/100)*((ROUND(Source!AF29*Source!I29, 2)+ROUND(Source!AE29*Source!I29, 2))), 2) -> 485.64 | T42: =Source!X29 -> 2501.1 | U42: =ROUND((Source!FY29/100)*((ROUND(Source!AF29*Source!I29, 2)+ROUND(Source!AE29*Source!I29, 2))), 2) -> 299.9 | V42: =Source!Y29 -> 1539.14
C43: ="Объем: "&Source!I29&"=30/"&"100" -> Объем: 0,3=30/100
C44: Зарплата | F44: =Source!AO29 -> 1011.72 | G44: =Source!DG29 -> )*0,8 | H44: =ROUND(Source!AF29*Source!I29, 2) -> 242.81 | J44: =IF(Source!BA29<> 0, Source!BA29, 1) -> 5.15 | K44: =Source!S29 -> 1250.49 | R44: =H44 -> 242.81
C45: Эксплуатация машин | F45: =Source!AM29 -> 5151.64 | G45: =Source!DE29 -> )*0,8 | H45: =ROUND(Source!AD29*Source!I29, 2) -> 1236.39 | J45: =IF(Source!BB29<> 0, Source!BB29, 1) -> 5.15 | K45: =Source!Q29 -> 6367.43
C46: в т.ч. зарплата машинистов | F46: =Source!AN29 -> 717.8 | G46: =Source!DF29 -> )*0,8 | H46: =ROUND(Source!AE29*Source!I29, 2) -> 172.27 | J46: =IF(Source!BS29<> 0, Source!BS29, 1) -> 5.15 | K46: =Source!R29 -> 887.2 | R46: =H46 -> 172.27
C47: НР от ФОТ | D47: % | E47: =Source!BZ29 -> 130 | F47: =CONCATENATE(" )", Source!DL29, Source!FT29, "=", Source!FX29) -> )*0,9=117 | H47: =SUM(S42:S49) -> 485.64 | J47: =Source!AT29 -> 117 | K47: =SUM(T42:T49) -> 2501.1
C48: СП от ФОТ | D48: % | E48: =Source!CA29 -> 85 | F48: =CONCATENATE(" )", Source!DM29, Source!FU29, "=", Source!FY29) -> )*0,85=72,25 | H48: =SUM(U42:U49) -> 299.9 | J48: =Source!AU29 -> 72 | K48: =SUM(V42:V49) -> 1539.14
C49: Затраты труда | D49: чел-ч | E49: =Source!AQ29 -> 107.63 | G49: =Source!DI29 -> )*0,8 | L49: =Source!U29 -> 25.8312
G50: =H44+H45+H47+H48 -> 2264.74 | J50: =K44+K45+K47+K48 -> 11658.16 | L50: =Source!U29 -> 25.8312 | O50: =G50 -> 2264.74 | P50: =J50 -> 11658.16 | Q50: =L50 -> 25.8312 | W50: =IF(Source!BI29<=1,H44+H45+H47+H48, 0) -> 2264.74 | X50: =IF(Source!BI29=2,H44+H45+H47+H48, 0) -> 0 | Y50: =IF(Source!BI29=3,H44+H45+H47+H48, 0) -> 0 | Z50: =IF(Source!BI29=4,H44+H45+H47+H48, 0) -> 0
...

Sheet Source
A1: 0 | B1: Smeta.RU (495) 974-1589 | D1: _PS_ | F1: 0 | G1: 0 | H1: 0 | I1: Smeta.RU | K1: 0 | L1: 13277 | M1: 10
A12: 1 | B12: 298 | C12: 0 | D12: =ROW(A237) -> 237 | E12: 0 | F12: Новый объект | G12: на капитальный ремонт уличного водопровода загородного учебно-спортивного комплекса " база отдыха "Волга" НИЯУ МИФИ по адресу: Тверская область,Калининский район,п/о Лисицкий бор,деревня Видогощи. | I12: 0 | K12: 0 | O12: 0 | P12: 0 | Q12: 0 | R12: 0 | S12: 0 | V12: 0 | BH12: Сметные нормы списания | BI12: Коды ценников | BJ12: 1 | BK12: 1 | BL12: 0 | BM12: 0 | BN12: 1 | BO12: 0 | BP12: 6 | BQ12: 2 | BR12: 1 | BS12: 1 | BT12: 0 | BU12: 0 | BV12: 0 | BW12: 0 | BX12: 0 | BY12: ФЕР-2017 | BZ12: ТР для Версии 10: Центральные регионы (с учетом п-ма 2536-ИП/12/ГС от 22.03.2017 г | CA12: ФЕР-2017 | CB12: ФЕР-2017 | CC12: ФЕР-2017 | CD12: ФЕР-2017 | CE12: Поправки для ГСН 2017 от 31.03.2017 г | CF12: 0 | CG12: 0 | CH12: 524296 | CK12: 4 | EC12: 0
A15: 15 | B15: 1
A18: 52 | B18: =B237 -> 298 | C18: =C237 -> 1 | D18: =D237 -> 12 | E18: =E237 -> 0 | F18: =F237 -> Новый объект | G18: =G237 -> на капитальный ремонт уличного водопровода загородного учебно-спортивного комплекса " база отдыха "Волга" НИЯУ МИФИ по адресу: Тверская область,Калининский район,п/о Лисицкий бор,деревня Видогощи. | O18: =O237 -> 307841.67 | P18: =P237 -> 242420.07 | Q18: =Q237 -> 13329.69 | R18: =R237 -> 2037.96 | S18: =S237 -> 52091.91 | T18: =T237 -> 0 | U18: =U237 -> 6164.7402 | V18: =V237 -> 162.7628 | ... GX18: =GX237 -> 0
A20: 3 | B20: 1 | D20: =ROW(A205) -> 205 | F20: Новая локальная смета | G20: Новая локальная смета | I20: 0 | K20: 0 | V20: 0 | BX20: 0 | CF20: 0 | CG20: 0
A22: 52 | B22: =B205 -> 1 | C22: =C205 -> 3 | D22: =D205 -> 20 | E22: =E205 -> 0 | F22: =F205 -> Новая локальная смета | G22: =G205 -> Новая локальная смета | O22: =O205 -> 307841.67 | P22: =P205 -> 242420.07 | Q22: =Q205 -> 13329.69 | R22: =R205 -> 2037.96 | S22: =S205 -> 52091.91 | T22: =T205 -> 0 | U22: =U205 -> 6164.7402 | V22: =V205 -> 162.7628 | ... GX22: =GX205 -> 0
A24: 17 | B24: 1 | C24: =ROW(SmtRes!A1) -> 1 | D24: =ROW(EtalonRes!A1) -> 1 | E24: 1 | F24: 01-02-055-02 | G24: Разработка грунта вручную с креплениями в траншеях шириной до 2 м, глубиной до 2 м, группа грунтов 2 | H24: 100 м3 | I24: =ROUND(1185/100,9) -> 11.85 | J24: 0 | O24: =ROUND(CP24,2) -> 21583.51 | P24: =ROUND(CQ24*I24,2) -> 0 | Q24: =ROUND(CR24*I24,2) -> 0 | R24: =ROUND(CS24*I24,2) -> 0 | S24: =ROUND(CT24*I24,2) -> 21583.51 | T24: =ROUND(CU24*I24,2) -> 0 | U24: =CV24*I24 -> 2575.5975 | V24: =CW24*I24 -> 0 | W24: =ROUND(CX24*I24,2) -> 0 | X24: =ROUND(CY24,2) -> 15540.13 | Y24: =ROUND(CZ24,2) -> 8201.73 | AA24: 39612628 | AB24: =ROUND((AC24+AD24+AF24),6) -> 1821.393 | AC24: =ROUND((ES24),6) -> 0 | AD24: =ROUND(((((ET24*1.25))-((EU24*1.25)))+AE24),6) -> 0 | AE24: =ROUND(((EU24*1.25)),6) -> 0 | AF24: =ROUND(((EV24*1.15)),6) -> 1821.393 | AG24: =ROUND((AP24),6) -> 0 | AH24: =((EW24*1.15)) -> 217.35 | AI24: =((EX24*1.25)) -> 0 | AJ24: =ROUND((AS24),6) -> 0 | AK24: 1583.82 | AL24: 0 | AM24: 0 | AN24: 0 | AO24: 1583.82 | AP24: 0 | AQ24: 189 | AR24: 0 | AS24: 0 | AT24: 72 | AU24: 38 | AV24: 1 | AW24: 1 | AZ24: 1 | BA24: 1 | BB24: 1 | BC24: 1 | BH24: 0 | BI24: 1 | BJ24: ФЕР-2001, 01-02-055-02, приказ Минстроя России №1039/пр от 30.12.2016г. | BM24: 1003 | BN24: 0 | BP24: 0 | BQ24: 2 | BR24: 0 | BS24: 1 | BT24: 1 | BU24: 1 | BV24: 1 | BW24: 1 | BX24: 1 | BZ24: 80 | CA24: 45 | CF24: 0 | CG24: 0 | CM24: 0 | CN24: Поправка: МДС 81-35.2004, п.4.7 Наименование: Работы, выполняемые при реконструкции зданий и сооружений работы, аналогичные технологическим процессам в новом строительстве (в том числе возведение новых конструктивных элементов) стоимость которых определена по соответствующим сборникам ФЕР, кроме сборника № 46 «Работы при реконструкции зданий и сооружений» | CO24: 0 | CP24: =(P24+Q24+S24) -> 21583.51 | CQ24: =AC24*BC24 -> 0 | CR24: =AD24*BB24 -> 0 | CS24: =AE24*BS24 -> 0 | CT24: =AF24*BA24 -> 1821.393 | CU24: =AG24 -> 0 | CV24: =AH24 -> 217.35 | CW24: =AI24 -> 0 | CX24: =AJ24 -> 0 | CY24: =(((S24+R24)*AT24)/100) -> 15540.127 | CZ24: =(((S24+R24)*AU24)/100) -> 8201.7338 | DE24: )*1,25 | DF24: )*1,25 | DG24: )*1,15 | DI24: )*1,15 | DJ24: )*1,25 | DN24: 0 | DO24: 0 | DP24: 1 | DQ24: 1 | DU24: 1007 | DV24: 100 м3 | DW24: 100 м3 | DX24: 100 | EE24: 39174479 | EF24: 2 | EG24: Общестроительные работы | EH24: 0 | EJ24: 1 | EK24: 1003 | EL24: Земляные работы, выполняемые ручным способом | EM24: ФЕР-01 | EO24: Поправка: МДС 81-35.2004, п.4.7 | EQ24: 131072 | ER24: 1583.82 | ES24: 0 | ET24: 0 | EU24: 0 | EV24: 1583.82 | EW24: 189 | EX24: 0 | EY24: 0 | FQ24: 0 | FR24: =ROUND(IF(AND(BH24=3,BI24=3),P24,0),2) -> 0 | FS24: 0 | FT24: *0,9 | FU24: *0,85 | FX24: 72 | FY24: 38.25 | GD24: 0 | GF24: 1494300783 | GG24: 2 | GH24: 1 | GI24: -2 | GJ24: 0 | GK24: =ROUND(R24*(R12)/100,2) -> 0 | GL24: =ROUND(IF(AND(BH24=3,BI24=3,FS24<>0),P24,0),2) -> 0 | GM24: =ROUND(O24+X24+Y24+GK24,2)+GX24 -> 45325.37 | GN24: =IF(OR(BI24=0,BI24=1),ROUND(O24+X24+Y24+GK24,2),0) -> 45325.37 | GO24: =IF(BI24=2,ROUND(O24+X24+Y24+GK24,2),0) -> 0 | GP24: =IF(BI24=4,ROUND(O24+X24+Y24+GK24,2)+GX24,0) -> 0 | GR24: 0 | GS24: 3 | GT24: 0 | GV24: =ROUND(GT24,6) -> 0 | GW24: 1 | GX24: =ROUND(GV24*GW24*I24,2) -> 0 | HA24: 0 | HB24: 0 | IK24: 0
A25: 17 | B25: 1 | C25: =ROW(SmtRes!A2) -> 2 | D25: =ROW(EtalonRes!A2) -> 2 | E25: 1 | F25: 01-02-055-02 | G25: Разработка грунта вручную с креплениями в траншеях шириной до 2 м, глубиной до 2 м, группа грунтов 2 | H25: 100 м3 | I25: =ROUND(1185/100,9) -> 11.85 | J25: 0 | O25: =ROUND(CP25,2) -> 111155.06 | P25: =ROUND(CQ25*I25,2) -> 0 | Q25: =ROUND(CR25*I25,2) -> 0 | R25: =ROUND(CS25*I25,2) -> 0 | S25: =ROUND(CT25*I25,2) -> 111155.06 | T25: =ROUND(CU25*I25,2) -> 0 | U25: =CV25*I25 -> 2575.5975 | V25: =CW25*I25 -> 0 | W25: =ROUND(CX25*I25,2) -> 0 | X25: =ROUND(CY25,2) -> 80031.64 | Y25: =ROUND(CZ25,2) -> 42238.92 | AA25: 39612629 | AB25: =ROUND((AC25+AD25+AF25),6) -> 1821.393 | AC25: =ROUND((ES25),6) -> 0 | AD25: =ROUND(((((ET25*1.25))-((EU25*1.25)))+AE25),6) -> 0 | AE25: =ROUND(((EU25*1.25)),6) -> 0 | AF25: =ROUND(((EV25*1.15)),6) -> 1821.393 | AG25: =ROUND((AP25),6) -> 0 | AH25: =((EW25*1.15)) -> 217.35 | AI25: =((EX25*1.25)) -> 0 | AJ25: =ROUND((AS25),6) -> 0 | AK25: 1583.82 | AL25: 0 | AM25: 0 | AN25: 0 | AO25: 1583.82 | AP25: 0 | AQ25: 189 | AR25: 0 | AS25: 0 | AT25: 72 | AU25: 38 | AV25: 1 | AW25: 1 | AZ25: 5.15 | BA25: 5.15 | BB25: 5.15 | BC25: 5.15 | BH25: 0 | BI25: 1 | BJ25: ФЕР-2001, 01-02-055-02, приказ Минстроя России №1039/пр от 30.12.2016г. | BM25: 1003 | BN25: 0 | BP25: 0 | BQ25: 2 | BR25: 0 | BS25: 5.15 | BT25: 1 | BU25: 1 | BV25: 1 | BW25: 1 | BX25: 1 | BZ25: 80 | CA25: 45 | CF25: 0 | CG25: 0 | CM25: 0 | CN25: Поправка: МДС 81-35.2004, п.4.7 Наименование: Работы, выполняемые при реконструкции зданий и сооружений работы, аналогичные технологическим процессам в новом строительстве (в том числе возведение новых конструктивных элементов) стоимость которых определена по соответствующим сборникам ФЕР, кроме сборника № 46 «Работы при реконструкции зданий и сооружений» | CO25: 0 | CP25: =(P25+Q25+S25) -> 111155.06 | CQ25: =AC25*BC25 -> 0 | CR25: =AD25*BB25 -> 0 | CS25: =AE25*BS25 -> 0 | CT25: =AF25*BA25 -> 9380.174 | CU25: =AG25 -> 0 | CV25: =AH25 -> 217.35 | CW25: =AI25 -> 0 | CX25: =AJ25 -> 0 | CY25: =(((S25+R25)*AT25)/100) -> 80031.643 | CZ25: =(((S25+R25)*AU25)/100) -> 42238.923 | DE25: )*1,25 | DF25: )*1,25 | DG25: )*1,15 | DI25: )*1,15 | DJ25: )*1,25 | DN25: 0 | DO25: 0 | DP25: 1 | DQ25: 1 | DU25: 1007 | DV25: 100 м3 | DW25: 100 м3 | DX25: 100 | EE25: 39174479 | EF25: 2 | EG25: Общестроительные работы | EH25: 0 | EJ25: 1 | EK25: 1003 | EL25: Земляные работы, выполняемые ручным способом | EM25: ФЕР-01 | EO25: Поправка: МДС 81-35.2004, п.4.7 | EQ25: 131072 | ER25: 1583.82 | ES25: 0 | ET25: 0 | EU25: 0 | EV25: 1583.82 | EW25: 189 | EX25: 0 | EY25: 0 | FQ25: 0 | FR25: =ROUND(IF(AND(BH25=3,BI25=3),P25,0),2) -> 0 | FS25: 0 | FT25: *0,9 | FU25: *0,85 | FX25: 72 | FY25: 38.25 | GD25: 0 | GF25: 1494300783 | GG25: 1 | GH25: 1 | GI25: 4 | GJ25: 0 | GK25: =ROUND(R25*(S12)/100,2) -> 0 | GL25: =ROUND(IF(AND(BH25=3,BI25=3,FS25<>0),P25,0),2) -> 0 | GM25: =ROUND(O25+X25+Y25+GK25,2)+GX25 -> 233425.62 | GN25: =IF(OR(BI25=0,BI25=1),ROUND(O25+X25+Y25+GK25,2),0) -> 233425.62 | GO25: =IF(BI25=2,ROUND(O25+X25+Y25+GK25,2),0) -> 0 | GP25: =IF(BI25=4,ROUND(O25+X25+Y25+GK25,2)+GX25,0) -> 0 | GR25: 0 | GS25: 3 | GT25: 0 | GV25: =ROUND(GT25,6) -> 0 | GW25: 1 | GX25: =ROUND(GV25*GW25*I25,2) -> 0 | HA25: 0 | HB25: 0 | IK25: 0
A26: 17 | B26: 1 | C26: =ROW(SmtRes!A3) -> 3 | D26: =ROW(EtalonRes!A4) -> 4 | E26: 2 | F26: 66-3-1 | G26: Разборка кирпичной кладки камер, каналов, компенсаторных ниш, углов поворота вручную без очистки кирпича (4 шт.) | H26: м3 | I26: 1.413 | J26: 0 | O26: =ROUND(CP26,2) -> 70.97 | P26: =ROUND(CQ26*I26,2) -> 0 | Q26: =ROUND(CR26*I26,2) -> 0 | R26: =ROUND(CS26*I26,2) -> 0 | S26: =ROUND(CT26*I26,2) -> 70.97 | T26: =ROUND(CU26*I26,2) -> 0 | U26: =CV26*I26 -> 9.09972 | V26: =CW26*I26 -> 0 | W26: =ROUND(CX26*I26,2) -> 0 | X26: =ROUND(CY26,2) -> 52.52 | Y26: =ROUND(CZ26,2) -> 35.49 | AA26: 39612628 | AB26: =ROUND((AC26+AD26+AF26),6) -> 50.23 | AC26: =ROUND((ES26),6) -> 0 | AD26: =ROUND((((ET26)-(EU26))+AE26),6) -> 0 | AE26: =ROUND((EU26),6) -> 0 | AF26: =ROUND((EV26),6) -> 50.23 | AG26: =ROUND((AP26),6) -> 0 | AH26: =(EW26) -> 6.44 | AI26: =(EX26) -> 0 | AJ26: =ROUND((AS26),6) -> 0 | AK26: 50.23 | AL26: 0 | AM26: 0 | AN26: 0 | AO26: 50.23 | AP26: 0 | AQ26: 6.44 | AR26: 0 | AS26: 0 | AT26: 74 | AU26: 50 | AV26: 1 | AW26: 1 | AZ26: 1 | BA26: 1 | BB26: 1 | BC26: 1 | BH26: 0 | BI26: 1 | BJ26: ФЕРр-2001, 66-3-1, приказ Минстроя России №1039/пр от 30.12.2016г. | BM26: 66001 | BN26: 0 | BP26: 0 | BQ26: 6 | BR26: 0 | BS26: 1 | BT26: 1 | BU26: 1 | BV26: 1 | BW26: 1 | BX26: 1 | BZ26: 74 | CA26: 50 | CF26: 0 | CG26: 0 | CM26: 0 | CO26: 0 | CP26: =(P26+Q26+S26) -> 70.97 | CQ26: =AC26*BC26 -> 0 | CR26: =AD26*BB26 -> 0 | CS26: =AE26*BS26 -> 0 | CT26: =AF26*BA26 -> 50.23 | CU26: =AG26 -> 0 | CV26: =AH26 -> 6.44 | CW26: =AI26 -> 0 | CX26: =AJ26 -> 0 | CY26: =(((S26+R26)*AT26)/100) -> 52.5178 | CZ26: =(((S26+R26)*AU26)/100) -> 35.485 | DN26: 0 | DO26: 0 | DP26: 1 | DQ26: 1 | DU26: 1007 | DV26: м3 | DW26: м3 | DX26: 1 | EE26: 39174607 | EF26: 6 | EG26: Ремонтно-строительные работы | EH26: 0 | EJ26: 1 | EK26: 66001 | EL26: Наружные с/техработы : разборка, очистка... | EM26: рФЕР-66 | EQ26: 131072 | ER26: 50.23 | ES26: 0 | ET26: 0 | EU26: 0 | EV26: 50.23 | EW26: 6.44 | EX26: 0 | EY26: 0 | FQ26: 0 | FR26: =ROUND(IF(AND(BH26=3,BI26=3),P26,0),2) -> 0 | FS26: 0 | FX26: 74 | FY26: 50 | GD26: 0 | GF26: 1635173541 | GG26: 2 | GH26: 1 | GI26: -2 | GJ26: 0 | GK26: =ROUND(R26*(R12)/100,2) -> 0 | GL26: =ROUND(IF(AND(BH26=3,BI26=3,FS26<>0),P26,0),2) -> 0 | GM26: =ROUND(O26+X26+Y26+GK26,2)+GX26 -> 158.98 | GN26: =IF(OR(BI26=0,BI26=1),ROUND(O26+X26+Y26+GK26,2),0) -> 158.98 | GO26: =IF(BI26=2,ROUND(O26+X26+Y26+GK26,2),0) -> 0 | GP26: =IF(BI26=4,ROUND(O26+X26+Y26+GK26,2)+GX26,0) -> 0 | GR26: 0 | GS26: 3 | GT26: 0 | GV26: =ROUND(GT26,6) -> 0 | GW26: 1 | GX26: =ROUND(GV26*GW26*I26,2) -> 0 | HA26: 0 | HB26: 0 | IK26: 0
A27: 17 | B27: 1 | C27: =ROW(SmtRes!A4) -> 4 | D27: =ROW(EtalonRes!A6) -> 6 | E27: 2 | F27: 66-3-1 | G27: Разборка кирпичной кладки камер, каналов, компенсаторных ниш, углов поворота вручную без очистки кирпича (4 шт.) | H27: м3 | I27: 1.413 | J27: 0 | O27: =ROUND(CP27,2) -> 365.52 | P27: =ROUND(CQ27*I27,2) -> 0 | Q27: =ROUND(CR27*I27,2) -> 0 | R27: =ROUND(CS27*I27,2) -> 0 | S27: =ROUND(CT27*I27,2) -> 365.52 | T27: =ROUND(CU27*I27,2) -> 0 | U27: =CV27*I27 -> 9.09972 | V27: =CW27*I27 -> 0 | W27: =ROUND(CX27*I27,2) -> 0 | X27: =ROUND(CY27,2) -> 270.48 | Y27: =ROUND(CZ27,2) -> 182.76 | AA27: 39612629 | AB27: =ROUND((AC27+AD27+AF27),6) -> 50.23 | AC27: =ROUND((ES27),6) -> 0 | AD27: =ROUND((((ET27)-(EU27))+AE27),6) -> 0 | AE27: =ROUND((EU27),6) -> 0 | AF27: =ROUND((EV27),6) -> 50.23 | AG27: =ROUND((AP27),6) -> 0 | AH27: =(EW27) -> 6.44 | AI27: =(EX27) -> 0 | AJ27: =ROUND((AS27),6) -> 0 | AK27: 50.23 | AL27: 0 | AM27: 0 | AN27: 0 | AO27: 50.23 | AP27: 0 | AQ27: 6.44 | AR27: 0 | AS27: 0 | AT27: 74 | AU27: 50 | AV27: 1 | AW27: 1 | AZ27: 5.15 | BA27: 5.15 | BB27: 5.15 | BC27: 5.15 | BH27: 0 | BI27: 1 | BJ27: ФЕРр-2001, 66-3-1, приказ Минстроя России №1039/пр от 30.12.2016г. | BM27: 66001 | BN27: 0 | BP27: 0 | BQ27: 6 | BR27: 0 | BS27: 5.15 | BT27: 1 | BU27: 1 | BV27: 1 | BW27: 1 | BX27: 1 | BZ27: 74 | CA27: 50 | CF27: 0 | CG27: 0 | CM27: 0 | CO27: 0 | CP27: =(P27+Q27+S27) -> 365.52 | CQ27: =AC27*BC27 -> 0 | CR27: =AD27*BB27 -> 0 | CS27: =AE27*BS27 -> 0 | CT27: =AF27*BA27 -> 258.6845 | CU27: =AG27 -> 0 | CV27: =AH27 -> 6.44 | CW27: =AI27 -> 0 | CX27: =AJ27 -> 0 | CY27: =(((S27+R27)*AT27)/100) -> 270.4848 | CZ27: =(((S27+R27)*AU27)/100) -> 182.76 | DN27: 0 | DO27: 0 | DP27: 1 | DQ27: 1 | DU27: 1007 | DV27: м3 | DW27: м3 | DX27: 1 | EE27: 39174607 | EF27: 6 | EG27: Ремонтно-строительные работы | EH27: 0 | EJ27: 1 | EK27: 66001 | EL27: Наружные с/техработы : разборка, очистка... | EM27: рФЕР-66 | EQ27: 131072 | ER27: 50.23 | ES27: 0 | ET27: 0 | EU27: 0 | EV27: 50.23 | EW27: 6.44 | EX27: 0 | EY27: 0 | FQ27: 0 | FR27: =ROUND(IF(AND(BH27=3,BI27=3),P27,0),2) -> 0 | FS27: 0 | FX27: 74 | FY27: 50 | GD27: 0 | GF27: 1635173541 | GG27: 1 | GH27: 1 | GI27: 4 | GJ27: 0 | GK27: =ROUND(R27*(S12)/100,2) -> 0 | GL27: =ROUND(IF(AND(BH27=3,BI27=3,FS27<>0),P27,0),2) -> 0 | GM27: =ROUND(O27+X27+Y27+GK27,2)+GX27 -> 818.76 | GN27: =IF(OR(BI27=0,BI27=1),ROUND(O27+X27+Y27+GK27,2),0) -> 818.76 | GO27: =IF(BI27=2,ROUND(O27+X27+Y27+GK27,2),0) -> 0 | GP27: =IF(BI27=4,ROUND(O27+X27+Y27+GK27,2)+GX27,0) -> 0 | GR27: 0 | GS27: 3 | GT27: 0 | GV27: =ROUND(GT27,6) -> 0 | GW27: 1 | GX27: =ROUND(GV27*GW27*I27,2) -> 0 | HA27: 0 | HB27: 0 | IK27: 0
A28: 17 | B28: 1 | C28: =ROW(SmtRes!A8) -> 8 | D28: =ROW(EtalonRes!A11) -> 11 | E28: 3 | F28: 07-06-002-06 | G28: Демонтаж: Устройство плит перекрытий каналов площадью до 1 м2 | H28: 100 ШТ | I28: =ROUND(30/100,9) -> 0.3 | J28: 0 | O28: =ROUND(CP28,2) -> 1479.2 | P28: =ROUND(CQ28*I28,2) -> 0 | Q28: =ROUND(CR28*I28,2) -> 1236.39 | R28: =ROUND(CS28*I28,2) -> 172.27 | S28: =ROUND(CT28*I28,2) -> 242.81 | T28: =ROUND(CU28*I28,2) -> 0 | U28: =CV28*I28 -> 25.8312 | V28: =CW28*I28 -> 12.7608 | W28: =ROUND(CX28*I28,2) -> 0 | X28: =ROUND(CY28,2) -> 485.64 | Y28: =ROUND(CZ28,2) -> 298.86 | AA28: 39612628 | AB28: =ROUND((AC28+AD28+AF28),6) -> 4930.688 | AC28: =ROUND(((ES28*0)),6) -> 0 | AD28: =ROUND(((((ET28*0.8))-((EU28*0.8)))+AE28),6) -> 4121.312 | AE28: =ROUND(((EU28*0.8)),6) -> 574.24 | AF28: =ROUND(((EV28*0.8)),6) -> 809.376 | AG28: =ROUND((AP28),6) -> 0 | AH28: =((EW28*0.8)) -> 86.104 | AI28: =((EX28*0.8)) -> 42.536 | AJ28: =ROUND((AS28),6) -> 0 | AK28: 6289.69 | AL28: 126.33 | AM28: 5151.64 | AN28: 717.8 | AO28: 1011.72 | AP28: 0 | AQ28: 107.63 | AR28: 53.17 | AS28: 0 | AT28: 117 | AU28: 72 | AV28: 1 | AW28: 1 | AZ28: 1 | BA28: 1 | BB28: 1 | BC28: 1 | BH28: 0 | BI28: 1 | BJ28: ФЕР-2001, 07-06-002-06, приказ Минстроя России №1039/пр от 30.12.2016г. | BM28: 7006 | BN28: 0 | BP28: 0 | BQ28: 2 | BR28: 0 | BS28: 1 | BT28: 1 | BU28: 1 | BV28: 1 | BW28: 1 | BX28: 1 | BZ28: 130 | CA28: 85 | CF28: 0 | CG28: 0 | CM28: 0 | CN28: Поправка: МДС 81-36.2004, п.3.3.1.а Наименование: При демонтаже (разборке) сборных бетонных и железобетонных конструкций | CO28: 0 | CP28: =(P28+Q28+S28) -> 1479.2 | CQ28: =AC28*BC28 -> 0 | CR28: =AD28*BB28 -> 4121.312 | CS28: =AE28*BS28 -> 574.24 | CT28: =AF28*BA28 -> 809.376 | CU28: =AG28 -> 0 | CV28: =AH28 -> 86.104 | CW28: =AI28 -> 42.536 | CX28: =AJ28 -> 0 | CY28: =(((S28+R28)*AT28)/100) -> 485.6436 | CZ28: =(((S28+R28)*AU28)/100) -> 298.8576 | DD28: )*0 | DE28: )*0,8 | DF28: )*0,8 | DG28: )*0,8 | DI28: )*0,8 | DJ28: )*0,8 | DN28: 0 | DO28: 0 | DP28: 1 | DQ28: 1 | DU28: 1013 | DV28: 100 ШТ | DW28: 100 ШТ | DX28: 1 | EE28: 39174497 | EF28: 2 | EG28: Общестроительные работы | EH28: 0 | EJ28: 1 | EK28: 7006 | EL28: Сборные бетонные конструкции в промышленном строительстве ( тепловые сети ) | EM28: ФЕР-07 | EO28: Поправка: МДС 81-36.2004, п.3.3.1.а | EQ28: 131072 | ER28: 6289.69 | ES28: 126.33 | ET28: 5151.64 | EU28: 717.8 | EV28: 1011.72 | EW28: 107.63 | EX28: 53.17 | EY28: 0 | FQ28: 0 | FR28: =ROUND(IF(AND(BH28=3,BI28=3),P28,0),2) -> 0 | FS28: 0 | FT28: *0,9 | FU28: *0,85 | FX28: 117 | FY28: 72.25 | GD28: 0 | GF28: 1669395671 | GG28: 2 | GH28: 1 | GI28: -2 | GJ28: 0 | GK28: =ROUND(R28*(R12)/100,2) -> 0 | GL28: =ROUND(IF(AND(BH28=3,BI28=3,FS28<>0),P28,0),2) -> 0 | GM28: =ROUND(O28+X28+Y28+GK28,2)+GX28 -> 2263.7 | GN28: =IF(OR(BI28=0,BI28=1),ROUND(O28+X28+Y28+GK28,2),0) -> 2263.7 | GO28: =IF(BI28=2,ROUND(O28+X28+Y28+GK28,2),0) -> 0 | GP28: =IF(BI28=4,ROUND(O28+X28+Y28+GK28,2)+GX28,0) -> 0 | GR28: 0 | GS28: 3 | GT28: 0 | GV28: =ROUND(GT28,6) -> 0 | GW28: 1 | GX28: =ROUND(GV28*GW28*I28,2) -> 0 | HA28: 0 | HB28: 0 | IK28: 0
A29: 17 | B29: 1 | C29: =ROW(SmtRes!A12) -> 12 | D29: =ROW(EtalonRes!A16) -> 16 | E29: 3 | F29: 07-06-002-06 | G29: Демонтаж: Устройство плит перекрытий каналов площадью до 1 м2 | H29: 100 ШТ | I29: =ROUND(30/100,9) -> 0.3 | J29: 0 | O29: =ROUND(CP29,2) -> 7617.92 | P29: =ROUND(CQ29*I29,2) -> 0 | Q29: =ROUND(CR29*I29,2) -> 6367.43 | R29: =ROUND(CS29*I29,2) -> 887.2 | S29: =ROUND(CT29*I29,2) -> 1250.49 | T29: =ROUND(CU29*I29,2) -> 0 | U29: =CV29*I29 -> 25.8312 | V29: =CW29*I29 -> 12.7608 | W29: =ROUND(CX29*I29,2) -> 0 | X29: =ROUND(CY29,2) -> 2501.1 | Y29: =ROUND(CZ29,2) -> 1539.14 | AA29: 39612629 | AB29: =ROUND((AC29+AD29+AF29),6) -> 4930.688 | AC29: =ROUND(((ES29*0)),6) -> 0 | AD29: =ROUND(((((ET29*0.8))-((EU29*0.8)))+AE29),6) -> 4121.312 | AE29: =ROUND(((EU29*0.8)),6) -> 574.24 | AF29: =ROUND(((EV29*0.8)),6) -> 809.376 | AG29: =ROUND((AP29),6) -> 0 | AH29: =((EW29*0.8)) -> 86.104 | AI29: =((EX29*0.8)) -> 42.536 | AJ29: =ROUND((AS29),6) -> 0 | AK29: 6289.69 | AL29: 126.33 | AM29: 5151.64 | AN29: 717.8 | AO29: 1011.72 | AP29: 0 | AQ29: 107.63 | AR29: 53.17 | AS29: 0 | AT29: 117 | AU29: 72 | AV29: 1 | AW29: 1 | AZ29: 5.15 | BA29: 5.15 | BB29: 5.15 | BC29: 5.15 | BH29: 0 | BI29: 1 | BJ29: ФЕР-2001, 07-06-002-06, приказ Минстроя России №1039/пр от 30.12.2016г. | BM29: 7006 | BN29: 0 | BP29: 0 | BQ29: 2 | BR29: 0 | BS29: 5.15 | BT29: 1 | BU29: 1 | BV29: 1 | BW29: 1 | BX29: 1 | BZ29: 130 | CA29: 85 | CF29: 0 | CG29: 0 | CM29: 0 | CN29: Поправка: МДС 81-36.2004, п.3.3.1.а Наименование: При демонтаже (разборке) сборных бетонных и железобетонных конструкций | CO29: 0 | CP29: =(P29+Q29+S29) -> 7617.92 | CQ29: =AC29*BC29 -> 0 | CR29: =AD29*BB29 -> 21224.757 | CS29: =AE29*BS29 -> 2957.336 | CT29: =AF29*BA29 -> 4168.2864 | CU29: =AG29 -> 0 | CV29: =AH29 -> 86.104 | CW29: =AI29 -> 42.536 | CX29: =AJ29 -> 0 | CY29: =(((S29+R29)*AT29)/100) -> 2501.0973 | CZ29: =(((S29+R29)*AU29)/100) -> 1539.1368 | DD29: )*0 | DE29: )*0,8 | DF29: )*0,8 | DG29: )*0,8 | DI29: )*0,8 | DJ29: )*0,8 | DN29: 0 | DO29: 0 | DP29: 1 | DQ29: 1 | DU29: 1013 | DV29: 100 ШТ | DW29: 100 ШТ | DX29: 1 | EE29: 39174497 | EF29: 2 | EG29: Общестроительные работы | EH29: 0 | EJ29: 1 | EK29: 7006 | EL29: Сборные бетонные конструкции в промышленном строительстве ( тепловые сети ) | EM29: ФЕР-07 | EO29: Поправка: МДС 81-36.2004, п.3.3.1.а | EQ29: 131072 | ER29: 6289.69 | ES29: 126.33 | ET29: 5151.64 | EU29: 717.8 | EV29: 1011.72 | EW29: 107.63 | EX29: 53.17 | EY29: 0 | FQ29: 0 | FR29: =ROUND(IF(AND(BH29=3,BI29=3),P29,0),2) -> 0 | FS29: 0 | FT29: *0,9 | FU29: *0,85 | FX29: 117 | FY29: 72.25 | GD29: 0 | GF29: 1669395671 | GG29: 1 | GH29: 1 | GI29: 4 | GJ29: 0 | GK29: =ROUND(R29*(S12)/100,2) -> 0 | GL29: =ROUND(IF(AND(BH29=3,BI29=3,FS29<>0),P29,0),2) -> 0 | GM29: =ROUND(O29+X29+Y29+GK29,2)+GX29 -> 11658.16 | GN29: =IF(OR(BI29=0,BI29=1),ROUND(O29+X29+Y29+GK29,2),0) -> 11658.16 | GO29: =IF(BI29=2,ROUND(O29+X29+Y29+GK29,2),0) -> 0 | GP29: =IF(BI29=4,ROUND(O29+X29+Y29+GK29,2)+GX29,0) -> 0 | GR29: 0 | GS29: 3 | GT29: 0 | GV29: =ROUND(GT29,6) -> 0 | GW29: 1 | GX29: =ROUND(GV29*GW29*I29,2) -> 0 | HA29: 0 | HB29: 0 | IK29: 0
A30: 17 | B30: 1 | C30: =ROW(SmtRes!A18) -> 18 | D30: =ROW(EtalonRes!A23) -> 23 | E30: 4 | F30: 65-1-3 | G30: Разборка трубопроводов из водогазопроводных труб диаметром до 100 мм (диам.80мм) | H30: 100 м | I30: =ROUND(60/100,9) -> 0.6 | J30: 0 | O30: =ROUND(CP30,2) -> 430.18 | P30: =ROUND(CQ30*I30,2) -> 39.79 | Q30: =ROUND(CR30*I30,2) -> 9.56 | R30: =ROUND(CS30*I30,2) -> 2.11 | S30: =ROUND(CT30*I30,2) -> 380.83 | T30: =ROUND(CU30*I30,2) -> 0 | U30: =CV30*I30 -> 45.828 | V30: =CW30*I30 -> 0.156 | W30: =ROUND(CX30*I30,2) -> 0 | X30: =ROUND(CY30,2) -> 283.38 | Y30: =ROUND(CZ30,2) -> 191.47 | AA30: 39612628 | AB30: =ROUND((AC30+AD30+AF30),6) -> 716.97 | AC30: =ROUND((ES30),6) -> 66.32 | AD30: =ROUND((((ET30)-(EU30))+AE30),6) -> 15.93 | AE30: =ROUND((EU30),6) -> 3.51 | AF30: =ROUND((EV30),6) -> 634.72 | AG30: =ROUND((AP30),6) -> 0 | AH30: =(EW30) -> 76.38 | AI30: =(EX30) -> 0.26 | AJ30: =ROUND((AS30),6) -> 0 | AK30: 716.97 | AL30: 66.32 | AM30: 15.93 | AN30: 3.51 | AO30: 634.72 | AP30: 0 | AQ30: 76.38 | AR30: 0.26 | AS30: 0 | AT30: 74 | AU30: 50 | AV30: 1 | AW30: 1 | AZ30: 1 | BA30: 1 | BB30: 1 | BC30: 1 | BH30: 0 | BI30: 1 | BJ30: ФЕРр-2001, 65-1-3, приказ Минстроя России №1039/пр от 30.12.2016г. | BM30: 65001 | BN30: 0 | BP30: 0 | BQ30: 6 | BR30: 0 | BS30: 1 | BT30: 1 | BU30: 1 | BV30: 1 | BW30: 1 | BX30: 1 | BZ30: 74 | CA30: 50 | CF30: 0 | CG30: 0 | CM30: 0 | CO30: 0 | CP30: =(P30+Q30+S30) -> 430.18 | CQ30: =AC30*BC30 -> 66.32 | CR30: =AD30*BB30 -> 15.93 | CS30: =AE30*BS30 -> 3.51 | CT30: =AF30*BA30 -> 634.72 | CU30: =AG30 -> 0 | CV30: =AH30 -> 76.38 | CW30: =AI30 -> 0.26 | CX30: =AJ30 -> 0 | CY30: =(((S30+R30)*AT30)/100) -> 283.3756 | CZ30: =(((S30+R30)*AU30)/100) -> 191.47 | DN30: 0 | DO30: 0 | DP30: 1 | DQ30: 1 | DU30: 1003 | DV30: 100 м | DW30: 100 м | DX30: 100 | EE30: 39174590 | EF30: 6 | EG30: Ремонтно-строительные работы | EH30: 0 | EJ30: 1 | EK30: 65001 | EL30: Внтуренниие с/техработы: демонтаж, разборка, промывка | EM30: рФЕР-65 | EQ30: 0 | ER30: 716.97 | ES30: 66.32 | ET30: 15.93 | EU30: 3.51 | EV30: 634.72 | EW30: 76.38 | EX30: 0.26 | EY30: 0 | FQ30: 0 | FR30: =ROUND(IF(AND(BH30=3,BI30=3),P30,0),2) -> 0 | FS30: 0 | FX30: 74 | FY30: 50 | GD30: 0 | GF30: -894849141 | GG30: 2 | GH30: 1 | GI30: -2 | GJ30: 0 | GK30: =ROUND(R30*(R12)/100,2) -> 0 | GL30: =ROUND(IF(AND(BH30=3,BI30=3,FS30<>0),P30,0),2) -> 0 | GM30: =ROUND(O30+X30+Y30+GK30,2)+GX30 -> 905.03 | GN30: =IF(OR(BI30=0,BI30=1),ROUND(O30+X30+Y30+GK30,2),0) -> 905.03 | GO30: =IF(BI30=2,ROUND(O30+X30+Y30+GK30,2),0) -> 0 | GP30: =IF(BI30=4,ROUND(O30+X30+Y30+GK30,2)+GX30,0) -> 0 | GR30: 0 | GS30: 3 | GT30: 0 | GV30: =ROUND(GT30,6) -> 0 | GW30: 1 | GX30: =ROUND(GV30*GW30*I30,2) -> 0 | HA30: 0 | HB30: 0 | IK30: 0
A31: 17 | B31: 1 | C31: =ROW(SmtRes!A24) -> 24 | D31: =ROW(EtalonRes!A30) -> 30 | E31: 4 | F31: 65-1-3 | G31: Разборка трубопроводов из водогазопроводных труб диаметром до 100 мм (диам.80мм) | H31: 100 м | I31: =ROUND(60/100,9) -> 0.6 | J31: 0 | O31: =ROUND(CP31,2) -> 2215.43 | P31: =ROUND(CQ31*I31,2) -> 204.93 | Q31: =ROUND(CR31*I31,2) -> 49.22 | R31: =ROUND(CS31*I31,2) -> 10.85 | S31: =ROUND(CT31*I31,2) -> 1961.28 | T31: =ROUND(CU31*I31,2) -> 0 | U31: =CV31*I31 -> 45.828 | V31: =CW31*I31 -> 0.156 | W31: =ROUND(CX31*I31,2) -> 0 | X31: =ROUND(CY31,2) -> 1459.38 | Y31: =ROUND(CZ31,2) -> 986.07 | AA31: 39612629 | AB31: =ROUND((AC31+AD31+AF31),6) -> 716.97 | AC31: =ROUND((ES31),6) -> 66.32 | AD31: =ROUND((((ET31)-(EU31))+AE31),6) -> 15.93 | AE31: =ROUND((EU31),6) -> 3.51 | AF31: =ROUND((EV31),6) -> 634.72 | AG31: =ROUND((AP31),6) -> 0 | AH31: =(EW31) -> 76.38 | AI31: =(EX31) -> 0.26 | AJ31: =ROUND((AS31),6) -> 0 | AK31: 716.97 | AL31: 66.32 | AM31: 15.93 | AN31: 3.51 | AO31: 634.72 | AP31: 0 | AQ31: 76.38 | AR31: 0.26 | AS31: 0 | AT31: 74 | AU31: 50 | AV31: 1 | AW31: 1 | AZ31: 5.15 | BA31: 5.15 | BB31: 5.15 | BC31: 5.15 | BH31: 0 | BI31: 1 | BJ31: ФЕРр-2001, 65-1-3, приказ Минстроя России №1039/пр от 30.12.2016г. | BM31: 65001 | BN31: 0 | BP31: 0 | BQ31: 6 | BR31: 0 | BS31: 5.15 | BT31: 1 | BU31: 1 | BV31: 1 | BW31: 1 | BX31: 1 | BZ31: 74 | CA31: 50 | CF31: 0 | CG31: 0 | CM31: 0 | CO31: 0 | CP31: =(P31+Q31+S31) -> 2215.43 | CQ31: =AC31*BC31 -> 341.548 | CR31: =AD31*BB31 -> 82.0395 | CS31: =AE31*BS31 -> 18.0765 | CT31: =AF31*BA31 -> 3268.808 | CU31: =AG31 -> 0 | CV31: =AH31 -> 76.38 | CW31: =AI31 -> 0.26 | CX31: =AJ31 -> 0 | CY31: =(((S31+R31)*AT31)/100) -> 1459.3762 | CZ31: =(((S31+R31)*AU31)/100) -> 986.065 | DN31: 0 | DO31: 0 | DP31: 1 | DQ31: 1 | DU31: 1003 | DV31: 100 м | DW31: 100 м | DX31: 100 | EE31: 39174590 | EF31: 6 | EG31: Ремонтно-строительные работы | EH31: 0 | EJ31: 1 | EK31: 65001 | EL31: Внтуренниие с/техработы: демонтаж, разборка, промывка | EM31: рФЕР-65 | EQ31: 0 | ER31: 716.97 | ES31: 66.32 | ET31: 15.93 | EU31: 3.51 | EV31: 634.72 | EW31: 76.38 | EX31: 0.26 | EY31: 0 | FQ31: 0 | FR31: =ROUND(IF(AND(BH31=3,BI31=3),P31,0),2) -> 0 | FS31: 0 | FX31: 74 | FY31: 50 | GD31: 0 | GF31: -894849141 | GG31: 1 | GH31: 1 | GI31: 4 | GJ31: 0 | GK31: =ROUND(R31*(S12)/100,2) -> 0 | GL31: =ROUND(IF(AND(BH31=3,BI31=3,FS31<>0),P31,0),2) -> 0 | GM31: =ROUND(O31+X31+Y31+GK31,2)+GX31 -> 4660.88 | GN31: =IF(OR(BI31=0,BI31=1),ROUND(O31+X31+Y31+GK31,2),0) -> 4660.88 | GO31: =IF(BI31=2,ROUND(O31+X31+Y31+GK31,2),0) -> 0 | GP31: =IF(BI31=4,ROUND(O31+X31+Y31+GK31,2)+GX31,0) -> 0 | GR31: 0 | GS31: 3 | GT31: 0 | GV31: =ROUND(GT31,6) -> 0 | GW31: 1 | GX31: =ROUND(GV31*GW31*I31,2) -> 0 | HA31: 0 | HB31: 0 | IK31: 0
A32: 17 | B32: 1 | C32: =ROW(SmtRes!A25) -> 25 | D32: =ROW(EtalonRes!A32) -> 32 | E32: 5 | F32: 66-1-2 | G32: Разборка трубопроводов водоснабжения из чугунных труб диаметром 100 мм | H32: 100 м | I32: =ROUND(350/100,9) -> 3.5 | J32: 0 | O32: =ROUND(CP32,2) -> 2527.98 | P32: =ROUND(CQ32*I32,2) -> 0 | Q32: =ROUND(CR32*I32,2) -> 0 | R32: =ROUND(CS32*I32,2) -> 0 | S32: =ROUND(CT32*I32,2) -> 2527.98 | T32: =ROUND(CU32*I32,2) -> 0 | U32: =CV32*I32 -> 324.1 | V32: =CW32*I32 -> 0 | W32: =ROUND(CX32*I32,2) -> 0 | X32: =ROUND(CY32,2) -> 1870.71 | Y32: =ROUND(CZ32,2) -> 1263.99 | AA32: 39612628 | AB32: =ROUND((AC32+AD32+AF32),6) -> 722.28 | AC32: =ROUND((ES32),6) -> 0 | AD32: =ROUND((((ET32)-(EU32))+AE32),6) -> 0 | AE32: =ROUND((EU32),6) -> 0 | AF32: =ROUND((EV32),6) -> 722.28 | AG32: =ROUND((AP32),6) -> 0 | AH32: =(EW32) -> 92.6 | AI32: =(EX32) -> 0 | AJ32: =ROUND((AS32),6) -> 0 | AK32: 722.28 | AL32: 0 | AM32: 0 | AN32: 0 | AO32: 722.28 | AP32: 0 | AQ32: 92.6 | AR32: 0 | AS32: 0 | AT32: 74 | AU32: 50 | AV32: 1 | AW32: 1 | AZ32: 1 | BA32: 1 | BB32: 1 | BC32: 1 | BH32: 0 | BI32: 1 | BJ32: ФЕРр-2001, 66-1-2, приказ Минстроя России №1039/пр от 30.12.2016г. | BM32: 66001 | BN32: 0 | BP32: 0 | BQ32: 6 | BR32: 0 | BS32: 1 | BT32: 1 | BU32: 1 | BV32: 1 | BW32: 1 | BX32: 1 | BZ32: 74 | CA32: 50 | CF32: 0 | CG32: 0 | CM32: 0 | CO32: 0 | CP32: =(P32+Q32+S32) -> 2527.98 | CQ32: =AC32*BC32 -> 0 | CR32: =AD32*BB32 -> 0 | CS32: =AE32*BS32 -> 0 | CT32: =AF32*BA32 -> 722.28 | CU32: =AG32 -> 0 | CV32: =AH32 -> 92.6 | CW32: =AI32 -> 0 | CX32: =AJ32 -> 0 | CY32: =(((S32+R32)*AT32)/100) -> 1870.7052 | CZ32: =(((S32+R32)*AU32)/100) -> 1263.99 | DN32: 0 | DO32: 0 | DP32: 1 | DQ32: 1 | DU32: 1003 | DV32: 100 м | DW32: 100 м | DX32: 100 | EE32: 39174607 | EF32: 6 | EG32: Ремонтно-строительные работы | EH32: 0 | EJ32: 1 | EK32: 66001 | EL32: Наружные с/техработы : разборка, очистка... | EM32: рФЕР-66 | EQ32: 131072 | ER32: 722.28 | ES32: 0 | ET32: 0 | EU32: 0 | EV32: 722.28 | EW32: 92.6 | EX32: 0 | EY32: 0 | FQ32: 0 | FR32: =ROUND(IF(AND(BH32=3,BI32=3),P32,0),2) -> 0 | FS32: 0 | FX32: 74 | FY32: 50 | GD32: 0 | GF32: 1271648148 | GG32: 2 | GH32: 1 | GI32: -2 | GJ32: 0 | GK32: =ROUND(R32*(R12)/100,2) -> 0 | GL32: =ROUND(IF(AND(BH32=3,BI32=3,FS32<>0),P32,0),2) -> 0 | GM32: =ROUND(O32+X32+Y32+GK32,2)+GX32 -> 5662.68 | GN32: =IF(OR(BI32=0,BI32=1),ROUND(O32+X32+Y32+GK32,2),0) -> 5662.68 | GO32: =IF(BI32=2,ROUND(O32+X32+Y32+GK32,2),0) -> 0 | GP32: =IF(BI32=4,ROUND(O32+X32+Y32+GK32,2)+GX32,0) -> 0 | GR32: 0 | GS32: 3 | GT32: 0 | GV32: =ROUND(GT32,6) -> 0 | GW32: 1 | GX32: =ROUND(GV32*GW32*I32,2) -> 0 | HA32: 0 | HB32: 0 | IK32: 0
A33: 17 | B33: 1 | C33: =ROW(SmtRes!A26) -> 26 | D33: =ROW(EtalonRes!A34) -> 34 | E33: 5 | F33: 66-1-2 | G33: Разборка трубопроводов водоснабжения из чугунных труб диаметром 100 мм | H33: 100 м | I33: =ROUND(350/100,9) -> 3.5 | J33: 0 | O33: =ROUND(CP33,2) -> 13019.1 | P33: =ROUND(CQ33*I33,2) -> 0 | Q33: =ROUND(CR33*I33,2) -> 0 | R33: =ROUND(CS33*I33,2) -> 0 | S33: =ROUND(CT33*I33,2) -> 13019.1 | T33: =ROUND(CU33*I33,2) -> 0 | U33: =CV33*I33 -> 324.1 | V33: =CW33*I33 -> 0 | W33: =ROUND(CX33*I33,2) -> 0 | X33: =ROUND(CY33,2) -> 9634.13 | Y33: =ROUND(CZ33,2) -> 6509.55 | AA33: 39612629 | AB33: =ROUND((AC33+AD33+AF33),6) -> 722.28 | AC33: =ROUND((ES33),6) -> 0 | AD33: =ROUND((((ET33)-(EU33))+AE33),6) -> 0 | AE33: =ROUND((EU33),6) -> 0 | AF33: =ROUND((EV33),6) -> 722.28 | AG33: =ROUND((AP33),6) -> 0 | AH33: =(EW33) -> 92.6 | AI33: =(EX33) -> 0 | AJ33: =ROUND((AS33),6) -> 0 | AK33: 722.28 | AL33: 0 | AM33: 0 | AN33: 0 | AO33: 722.28 | AP33: 0 | AQ33: 92.6 | AR33: 0 | AS33: 0 | AT33: 74 | AU33: 50 | AV33: 1 | AW33: 1 | AZ33: 5.15 | BA33: 5.15 | BB33: 5.15 | BC33: 5.15 | BH33: 0 | BI33: 1 | BJ33: ФЕРр-2001, 66-1-2, приказ Минстроя России №1039/пр от 30.12.2016г. | BM33: 66001 | BN33: 0 | BP33: 0 | BQ33: 6 | BR33: 0 | BS33: 5.15 | BT33: 1 | BU33: 1 | BV33: 1 | BW33: 1 | BX33: 1 | BZ33: 74 | CA33: 50 | CF33: 0 | CG33: 0 | CM33: 0 | CO33: 0 | CP33: =(P33+Q33+S33) -> 13019.1 | CQ33: =AC33*BC33 -> 0 | CR33: =AD33*BB33 -> 0 | CS33: =AE33*BS33 -> 0 | CT33: =AF33*BA33 -> 3719.742 | CU33: =AG33 -> 0 | CV33: =AH33 -> 92.6 | CW33: =AI33 -> 0 | CX33: =AJ33 -> 0 | CY33: =(((S33+R33)*AT33)/100) -> 9634.134 | CZ33: =(((S33+R33)*AU33)/100) -> 6509.55 | DN33: 0 | DO33: 0 | DP33: 1 | DQ33: 1 | DU33: 1003 | DV33: 100 м | DW33: 100 м | DX33: 100 | EE33: 39174607 | EF33: 6 | EG33: Ремонтно-строительные работы | EH33: 0 | EJ33: 1 | EK33: 66001 | EL33: Наружные с/техработы : разборка, очистка... | EM33: рФЕР-66 | EQ33: 131072 | ER33: 722.28 | ES33: 0 | ET33: 0 | EU33: 0 | EV33: 722.28 | EW33: 92.6 | EX33: 0 | EY33: 0 | FQ33: 0 | FR33: =ROUND(IF(AND(BH33=3,BI33=3),P33,0),2) -> 0 | FS33: 0 | FX33: 74 | FY33: 50 | GD33: 0 | GF33: 1271648148 | GG33: 1 | GH33: 1 | GI33: 4 | GJ33: 0 | GK33: =ROUND(R33*(S12)/100,2) -> 0 | GL33: =ROUND(IF(AND(BH33=3,BI33=3,FS33<>0),P33,0),2) -> 0 | GM33: =ROUND(O33+X33+Y33+GK33,2)+GX33 -> 29162.78 | GN33: =IF(OR(BI33=0,BI33=1),ROUND(O33+X33+Y33+GK33,2),0) -> 29162.78 | GO33: =IF(BI33=2,ROUND(O33+X33+Y33+GK33,2),0) -> 0 | GP33: =IF(BI33=4,ROUND(O33+X33+Y33+GK33,2)+GX33,0) -> 0 | GR33: 0 | GS33: 3 | GT33: 0 | GV33: =ROUND(GT33,6) -> 0 | GW33: 1 | GX33: =ROUND(GV33*GW33*I33,2) -> 0 | HA33: 0 | HB33: 0 | IK33: 0
A34: 17 | B34: 1 | C34: =ROW(SmtRes!A27) -> 27 | D34: =ROW(EtalonRes!A36) -> 36 | E34: 6 | F34: 66-1-1 | G34: Разборка трубопроводов водоснабжения из чугунных труб диаметром 50 мм | H34: 100 м | I34: =ROUND(318/100,9) -> 3.18 | J34: 0 | O34: =ROUND(CP34,2) -> 1946.13 | P34: =ROUND(CQ34*I34,2) -> 0 | Q34: =ROUND(CR34*I34,2) -> 0 | R34: =ROUND(CS34*I34,2) -> 0 | S34: =ROUND(CT34*I34,2) -> 1946.13 | T34: =ROUND(CU34*I34,2) -> 0 | U34: =CV34*I34 -> 249.5028 | V34: =CW34*I34 -> 0 | W34: =ROUND(CX34*I34,2) -> 0 | X34: =ROUND(CY34,2) -> 1440.14 | Y34: =ROUND(CZ34,2) -> 973.07 | AA34: 39612628 | AB34: =ROUND((AC34+AD34+AF34),6) -> 611.99 | AC34: =ROUND((ES34),6) -> 0 | AD34: =ROUND((((ET34)-(EU34))+AE34),6) -> 0 | AE34: =ROUND((EU34),6) -> 0 | AF34: =ROUND((EV34),6) -> 611.99 | AG34: =ROUND((AP34),6) -> 0 | AH34: =(EW34) -> 78.46 | AI34: =(EX34) -> 0 | AJ34: =ROUND((AS34),6) -> 0 | AK34: 611.99 | AL34: 0 | AM34: 0 | AN34: 0 | AO34: 611.99 | AP34: 0 | AQ34: 78.46 | AR34: 0 | AS34: 0 | AT34: 74 | AU34: 50 | AV34: 1 | AW34: 1 | AZ34: 1 | BA34: 1 | BB34: 1 | BC34: 1 | BH34: 0 | BI34: 1 | BJ34: ФЕРр-2001, 66-1-1, приказ Минстроя России №1039/пр от 30.12.2016г. | BM34: 66001 | BN34: 0 | BP34: 0 | BQ34: 6 | BR34: 0 | BS34: 1 | BT34: 1 | BU34: 1 | BV34: 1 | BW34: 1 | BX34: 1 | BZ34: 74 | CA34: 50 | CF34: 0 | CG34: 0 | CM34: 0 | CO34: 0 | CP34: =(P34+Q34+S34) -> 1946.13 | CQ34: =AC34*BC34 -> 0 | CR34: =AD34*BB34 -> 0 | CS34: =AE34*BS34 -> 0 | CT34: =AF34*BA34 -> 611.99 | CU34: =AG34 -> 0 | CV34: =AH34 -> 78.46 | CW34: =AI34 -> 0 | CX34: =AJ34 -> 0 | CY34: =(((S34+R34)*AT34)/100) -> 1440.1362 | CZ34: =(((S34+R34)*AU34)/100) -> 973.065 | DN34: 0 | DO34: 0 | DP34: 1 | DQ34: 1 | DU34: 1003 | DV34: 100 м | DW34: 100 м | DX34: 100 | EE34: 39174607 | EF34: 6 | EG34: Ремонтно-строительные работы | EH34: 0 | EJ34: 1 | EK34: 66001 | EL34: Наружные с/техработы : разборка, очистка... | EM34: рФЕР-66 | EQ34: 131072 | ER34: 611.99 | ES34: 0 | ET34: 0 | EU34: 0 | EV34: 611.99 | EW34: 78.46 | EX34: 0 | EY34: 0 | FQ34: 0 | FR34: =ROUND(IF(AND(BH34=3,BI34=3),P34,0),2) -> 0 | FS34: 0 | FX34: 74 | FY34: 50 | GD34: 0 | GF34: 489480328 | GG34: 2 | GH34: 1 | GI34: -2 | GJ34: 0 | GK34: =ROUND(R34*(R12)/100,2) -> 0 | GL34: =ROUND(IF(AND(BH34=3,BI34=3,FS34<>0),P34,0),2) -> 0 | GM34: =ROUND(O34+X34+Y34+GK34,2)+GX34 -> 4359.34 | GN34: =IF(OR(BI34=0,BI34=1),ROUND(O34+X34+Y34+GK34,2),0) -> 4359.34 | GO34: =IF(BI34=2,ROUND(O34+X34+Y34+GK34,2),0) -> 0 | GP34: =IF(BI34=4,ROUND(O34+X34+Y34+GK34,2)+GX34,0) -> 0 | GR34: 0 | GS34: 3 | GT34: 0 | GV34: =ROUND(GT34,6) -> 0 | GW34: 1 | GX34: =ROUND(GV34*GW34*I34,2) -> 0 | HA34: 0 | HB34: 0 | IK34: 0
A35: 17 | B35: 1 | C35: =ROW(SmtRes!A28) -> 28 | D35: =ROW(EtalonRes!A38) -> 38 | E35: 6 | F35: 66-1-1 | G35: Разборка трубопроводов водоснабжения из чугунных труб диаметром 50 мм | H35: 100 м | I35: =ROUND(318/100,9) -> 3.18 | J35: 0 | O35: =ROUND(CP35,2) -> 10022.56 | P35: =ROUND(CQ35*I35,2) -> 0 | Q35: =ROUND(CR35*I35,2) -> 0 | R35: =ROUND(CS35*I35,2) -> 0 | S35: =ROUND(CT35*I35,2) -> 10022.56 | T35: =ROUND(CU35*I35,2) -> 0 | U35: =CV35*I35 -> 249.5028 | V35: =CW35*I35 -> 0 | W35: =ROUND(CX35*I35,2) -> 0 | X35: =ROUND(CY35,2) -> 7416.69 | Y35: =ROUND(CZ35,2) -> 5011.28 | AA35: 39612629 | AB35: =ROUND((AC35+AD35+AF35),6) -> 611.99 | AC35: =ROUND((ES35),6) -> 0 | AD35: =ROUND((((ET35)-(EU35))+AE35),6) -> 0 | AE35: =ROUND((EU35),6) -> 0 | AF35: =ROUND((EV35),6) -> 611.99 | AG35: =ROUND((AP35),6) -> 0 | AH35: =(EW35) -> 78.46 | AI35: =(EX35) -> 0 | AJ35: =ROUND((AS35),6) -> 0 | AK35: 611.99 | AL35: 0 | AM35: 0 | AN35: 0 | AO35: 611.99 | AP35: 0 | AQ35: 78.46 | AR35: 0 | AS35: 0 | AT35: 74 | AU35: 50 | AV35: 1 | AW35: 1 | AZ35: 5.15 | BA35: 5.15 | BB35: 5.15 | BC35: 5.15 | BH35: 0 | BI35: 1 | BJ35: ФЕРр-2001, 66-1-1, приказ Минстроя России №1039/пр от 30.12.2016г. | BM35: 66001 | BN35: 0 | BP35: 0 | BQ35: 6 | BR35: 0 | BS35: 5.15 | BT35: 1 | BU35: 1 | BV35: 1 | BW35: 1 | BX35: 1 | BZ35: 74 | CA35: 50 | CF35: 0 | CG35: 0 | CM35: 0 | CO35: 0 | CP35: =(P35+Q35+S35) -> 10022.56 | CQ35: =AC35*BC35 -> 0 | CR35: =AD35*BB35 -> 0 | CS35: =AE35*BS35 -> 0 | CT35: =AF35*BA35 -> 3151.7485 | CU35: =AG35 -> 0 | CV35: =AH35 -> 78.46 | CW35: =AI35 -> 0 | CX35: =AJ35 -> 0 | CY35: =(((S35+R35)*AT35)/100) -> 7416.6944 | CZ35: =(((S35+R35)*AU35)/100) -> 5011.28 | DN35: 0 | DO35: 0 | DP35: 1 | DQ35: 1 | DU35: 1003 | DV35: 100 м | DW35: 100 м | DX35: 100 | EE35: 39174607 | EF35: 6 | EG35: Ремонтно-строительные работы | EH35: 0 | EJ35: 1 | EK35: 66001 | EL35: Наружные с/техработы : разборка, очистка... | EM35: рФЕР-66 | EQ35: 131072 | ER35: 611.99 | ES35: 0 | ET35: 0 | EU35: 0 | EV35: 611.99 | EW35: 78.46 | EX35: 0 | EY35: 0 | FQ35: 0 | FR35: =ROUND(IF(AND(BH35=3,BI35=3),P35,0),2) -> 0 | FS35: 0 | FX35: 74 | FY35: 50 | GD35: 0 | GF35: 489480328 | GG35: 1 | GH35: 1 | GI35: 4 | GJ35: 0 | GK35: =ROUND(R35*(S12)/100,2) -> 0 | GL35: =ROUND(IF(AND(BH35=3,BI35=3,FS35<>0),P35,0),2) -> 0 | GM35: =ROUND(O35+X35+Y35+GK35,2)+GX35 -> 22450.53 | GN35: =IF(OR(BI35=0,BI35=1),ROUND(O35+X35+Y35+GK35,2),0) -> 22450.53 | GO35: =IF(BI35=2,ROUND(O35+X35+Y35+GK35,2),0) -> 0 | GP35: =IF(BI35=4,ROUND(O35+X35+Y35+GK35,2)+GX35,0) -> 0 | GR35: 0 | GS35: 3 | GT35: 0 | GV35: =ROUND(GT35,6) -> 0 | GW35: 1 | GX35: =ROUND(GV35*GW35*I35,2) -> 0 | HA35: 0 | HB35: 0 | IK35: 0
A36: 17 | B36: 1 | C36: =ROW(SmtRes!A31) -> 31 | D36: =ROW(EtalonRes!A41) -> 41 | E36: 7 | F36: 66-26-1 | G36: Демонтаж задвижек диаметром до 50 мм | H36: ШТ | I36: 5 | J36: 0 | O36: =ROUND(CP36,2) -> 59.2 | P36: =ROUND(CQ36*I36,2) -> 0 | Q36: =ROUND(CR36*I36,2) -> 32.85 | R36: =ROUND(CS36*I36,2) -> 5.8 | S36: =ROUND(CT36*I36,2) -> 26.35 | T36: =ROUND(CU36*I36,2) -> 0 | U36: =CV36*I36 -> 3.05 | V36: =CW36*I36 -> 0.5 | W36: =ROUND(CX36*I36,2) -> 0 | X36: =ROUND(CY36,2) -> 23.79 | Y36: =ROUND(CZ36,2) -> 16.08 | AA36: 39612628 | AB36: =ROUND((AC36+AD36+AF36),6) -> 11.84 | AC36: =ROUND((ES36),6) -> 0 | AD36: =ROUND((((ET36)-(EU36))+AE36),6) -> 6.57 | AE36: =ROUND((EU36),6) -> 1.16 | AF36: =ROUND((EV36),6) -> 5.27 | AG36: =ROUND((AP36),6) -> 0 | AH36: =(EW36) -> 0.61 | AI36: =(EX36) -> 0.1 | AJ36: =ROUND((AS36),6) -> 0 | AK36: 11.84 | AL36: 0 | AM36: 6.57 | AN36: 1.16 | AO36: 5.27 | AP36: 0 | AQ36: 0.61 | AR36: 0.1 | AS36: 0 | AT36: 74 | AU36: 50 | AV36: 1 | AW36: 1 | AZ36: 1 | BA36: 1 | BB36: 1 | BC36: 1 | BH36: 0 | BI36: 1 | BJ36: ФЕРр-2001, 66-26-1, приказ Минстроя России №1039/пр от 30.12.2016г. | BM36: 66004 | BN36: 0 | BP36: 0 | BQ36: 6 | BR36: 0 | BS36: 1 | BT36: 1 | BU36: 1 | BV36: 1 | BW36: 1 | BX36: 1 | BZ36: 74 | CA36: 50 | CF36: 0 | CG36: 0 | CM36: 0 | CO36: 0 | CP36: =(P36+Q36+S36) -> 59.2 | CQ36: =AC36*BC36 -> 0 | CR36: =AD36*BB36 -> 6.57 | CS36: =AE36*BS36 -> 1.16 | CT36: =AF36*BA36 -> 5.27 | CU36: =AG36 -> 0 | CV36: =AH36 -> 0.61 | CW36: =AI36 -> 0.1 | CX36: =AJ36 -> 0 | CY36: =(((S36+R36)*AT36)/100) -> 23.791 | CZ36: =(((S36+R36)*AU36)/100) -> 16.075 | DN36: 0 | DO36: 0 | DP36: 1 | DQ36: 1 | DU36: 1013 | DV36: ШТ | DW36: ШТ | DX36: 1 | EE36: 39174610 | EF36: 6 | EG36: Ремонтно-строительные работы | EH36: 0 | EJ36: 1 | EK36: 66004 | EL36: Наружные с/техработы : разборка, очистка... | EM36: рФЕР-66 | EQ36: 131072 | ER36: 11.84 | ES36: 0 | ET36: 6.57 | EU36: 1.16 | EV36: 5.27 | EW36: 0.61 | EX36: 0.1 | EY36: 0 | FQ36: 0 | FR36: =ROUND(IF(AND(BH36=3,BI36=3),P36,0),2) -> 0 | FS36: 0 | FX36: 74 | FY36: 50 | GD36: 0 | GF36: -767391233 | GG36: 2 | GH36: 1 | GI36: -2 | GJ36: 0 | GK36: =ROUND(R36*(R12)/100,2) -> 0 | GL36: =ROUND(IF(AND(BH36=3,BI36=3,FS36<>0),P36,0),2) -> 0 | GM36: =ROUND(O36+X36+Y36+GK36,2)+GX36 -> 99.07 | GN36: =IF(OR(BI36=0,BI36=1),ROUND(O36+X36+Y36+GK36,2),0) -> 99.07 | GO36: =IF(BI36=2,ROUND(O36+X36+Y36+GK36,2),0) -> 0 | GP36: =IF(BI36=4,ROUND(O36+X36+Y36+GK36,2)+GX36,0) -> 0 | GR36: 0 | GS36: 3 | GT36: 0 | GV36: =ROUND(GT36,6) -> 0 | GW36: 1 | GX36: =ROUND(GV36*GW36*I36,2) -> 0 | HA36: 0 | HB36: 0 | IK36: 0
A37: 17 | B37: 1 | C37: =ROW(SmtRes!A34) -> 34 | D37: =ROW(EtalonRes!A44) -> 44 | E37: 7 | F37: 66-26-1 | G37: Демонтаж задвижек диаметром до 50 мм | H37: ШТ | I37: 5 | J37: 0 | O37: =ROUND(CP37,2) -> 304.88 | P37: =ROUND(CQ37*I37,2) -> 0 | Q37: =ROUND(CR37*I37,2) -> 169.18 | R37: =ROUND(CS37*I37,2) -> 29.87 | S37: =ROUND(CT37*I37,2) -> 135.7 | T37: =ROUND(CU37*I37,2) -> 0 | U37: =CV37*I37 -> 3.05 | V37: =CW37*I37 -> 0.5 | W37: =ROUND(CX37*I37,2) -> 0 | X37: =ROUND(CY37,2) -> 122.52 | Y37: =ROUND(CZ37,2) -> 82.79 | AA37: 39612629 | AB37: =ROUND((AC37+AD37+AF37),6) -> 11.84 | AC37: =ROUND((ES37),6) -> 0 | AD37: =ROUND((((ET37)-(EU37))+AE37),6) -> 6.57 | AE37: =ROUND((EU37),6) -> 1.16 | AF37: =ROUND((EV37),6) -> 5.27 | AG37: =ROUND((AP37),6) -> 0 | AH37: =(EW37) -> 0.61 | AI37: =(EX37) -> 0.1 | AJ37: =ROUND((AS37),6) -> 0 | AK37: 11.84 | AL37: 0 | AM37: 6.57 | AN37: 1.16 | AO37: 5.27 | AP37: 0 | AQ37: 0.61 | AR37: 0.1 | AS37: 0 | AT37: 74 | AU37: 50 | AV37: 1 | AW37: 1 | AZ37: 5.15 | BA37: 5.15 | BB37: 5.15 | BC37: 5.15 | BH37: 0 | BI37: 1 | BJ37: ФЕРр-2001, 66-26-1, приказ Минстроя России №1039/пр от 30.12.2016г. | BM37: 66004 | BN37: 0 | BP37: 0 | BQ37: 6 | BR37: 0 | BS37: 5.15 | BT37: 1 | BU37: 1 | BV37: 1 | BW37: 1 | BX37: 1 | BZ37: 74 | CA37: 50 | CF37: 0 | CG37: 0 | CM37: 0 | CO37: 0 | CP37: =(P37+Q37+S37) -> 304.88 | CQ37: =AC37*BC37 -> 0 | CR37: =AD37*BB37 -> 33.8355 | CS37: =AE37*BS37 -> 5.974 | CT37: =AF37*BA37 -> 27.1405 | CU37: =AG37 -> 0 | CV37: =AH37 -> 0.61 | CW37: =AI37 -> 0.1 | CX37: =AJ37 -> 0 | CY37: =(((S37+R37)*AT37)/100) -> 122.5218 | CZ37: =(((S37+R37)*AU37)/100) -> 82.785 | DN37: 0 | DO37: 0 | DP37: 1 | DQ37: 1 | DU37: 1013 | DV37: ШТ | DW37: ШТ | DX37: 1 | EE37: 39174610 | EF37: 6 | EG37: Ремонтно-строительные работы | EH37: 0 | EJ37: 1 | EK37: 66004 | EL37: Наружные с/техработы : разборка, очистка... | EM37: рФЕР-66 | EQ37: 131072 | ER37: 11.84 | ES37: 0 | ET37: 6.57 | EU37: 1.16 | EV37: 5.27 | EW37: 0.61 | EX37: 0.1 | EY37: 0 | FQ37: 0 | FR37: =ROUND(IF(AND(BH37=3,BI37=3),P37,0),2) -> 0 | FS37: 0 | FX37: 74 | FY37: 50 | GD37: 0 | GF37: -767391233 | GG37: 1 | GH37: 1 | GI37: 4 | GJ37: 0 | GK37: =ROUND(R37*(S12)/100,2) -> 0 | GL37: =ROUND(IF(AND(BH37=3,BI37=3,FS37<>0),P37,0),2) -> 0 | GM37: =ROUND(O37+X37+Y37+GK37,2)+GX37 -> 510.19 | GN37: =IF(OR(BI37=0,BI37=1),ROUND(O37+X37+Y37+GK37,2),0) -> 510.19 | GO37: =IF(BI37=2,ROUND(O37+X37+Y37+GK37,2),0) -> 0 | GP37: =IF(BI37=4,ROUND(O37+X37+Y37+GK37,2)+GX37,0) -> 0 | GR37: 0 | GS37: 3 | GT37: 0 | GV37: =ROUND(GT37,6) -> 0 | GW37: 1 | GX37: =ROUND(GV37*GW37*I37,2) -> 0 | HA37: 0 | HB37: 0 | IK37: 0
A38: 17 | B38: 1 | C38: =ROW(SmtRes!A37) -> 37 | D38: =ROW(EtalonRes!A47) -> 47 | E38: 8 | F38: 66-26-2 | G38: Демонтаж задвижек диаметром до 100 мм | H38: ШТ | I38: 6 | J38: 0 | O38: =ROUND(CP38,2) -> 98.52 | P38: =ROUND(CQ38*I38,2) -> 0 | Q38: =ROUND(CR38*I38,2) -> 39.42 | R38: =ROUND(CS38*I38,2) -> 6.96 | S38: =ROUND(CT38*I38,2) -> 59.1 | T38: =ROUND(CU38*I38,2) -> 0 | U38: =CV38*I38 -> 6.84 | V38: =CW38*I38 -> 0.6 | W38: =ROUND(CX38*I38,2) -> 0 | X38: =ROUND(CY38,2) -> 48.88 | Y38: =ROUND(CZ38,2) -> 33.03 | AA38: 39612628 | AB38: =ROUND((AC38+AD38+AF38),6) -> 16.42 | AC38: =ROUND((ES38),6) -> 0 | AD38: =ROUND((((ET38)-(EU38))+AE38),6) -> 6.57 | AE38: =ROUND((EU38),6) -> 1.16 | AF38: =ROUND((EV38),6) -> 9.85 | AG38: =ROUND((AP38),6) -> 0 | AH38: =(EW38) -> 1.14 | AI38: =(EX38) -> 0.1 | AJ38: =ROUND((AS38),6) -> 0 | AK38: 16.42 | AL38: 0 | AM38: 6.57 | AN38: 1.16 | AO38: 9.85 | AP38: 0 | AQ38: 1.14 | AR38: 0.1 | AS38: 0 | AT38: 74 | AU38: 50 | AV38: 1 | AW38: 1 | AZ38: 1 | BA38: 1 | BB38: 1 | BC38: 1 | BH38: 0 | BI38: 1 | BJ38: ФЕРр-2001, 66-26-2, приказ Минстроя России №1039/пр от 30.12.2016г. | BM38: 66004 | BN38: 0 | BP38: 0 | BQ38: 6 | BR38: 0 | BS38: 1 | BT38: 1 | BU38: 1 | BV38: 1 | BW38: 1 | BX38: 1 | BZ38: 74 | CA38: 50 | CF38: 0 | CG38: 0 | CM38: 0 | CO38: 0 | CP38: =(P38+Q38+S38) -> 98.52 | CQ38: =AC38*BC38 -> 0 | CR38: =AD38*BB38 -> 6.57 | CS38: =AE38*BS38 -> 1.16 | CT38: =AF38*BA38 -> 9.85 | CU38: =AG38 -> 0 | CV38: =AH38 -> 1.14 | CW38: =AI38 -> 0.1 | CX38: =AJ38 -> 0 | CY38: =(((S38+R38)*AT38)/100) -> 48.8844 | CZ38: =(((S38+R38)*AU38)/100) -> 33.03 | DN38: 0 | DO38: 0 | DP38: 1 | DQ38: 1 | DU38: 1013 | DV38: ШТ | DW38: ШТ | DX38: 1 | EE38: 39174610 | EF38: 6 | EG38: Ремонтно-строительные работы | EH38: 0 | EJ38: 1 | EK38: 66004 | EL38: Наружные с/техработы : разборка, очистка... | EM38: рФЕР-66 | EQ38: 131072 | ER38: 16.42 | ES38: 0 | ET38: 6.57 | EU38: 1.16 | EV38: 9.85 | EW38: 1.14 | EX38: 0.1 | EY38: 0 | FQ38: 0 | FR38: =ROUND(IF(AND(BH38=3,BI38=3),P38,0),2) -> 0 | FS38: 0 | FX38: 74 | FY38: 50 | GD38: 0 | GF38: -2060399027 | GG38: 2 | GH38: 1 | GI38: -2 | GJ38: 0 | GK38: =ROUND(R38*(R12)/100,2) -> 0 | GL38: =ROUND(IF(AND(BH38=3,BI38=3,FS38<>0),P38,0),2) -> 0 | GM38: =ROUND(O38+X38+Y38+GK38,2)+GX38 -> 180.43 | GN38: =IF(OR(BI38=0,BI38=1),ROUND(O38+X38+Y38+GK38,2),0) -> 180.43 | GO38: =IF(BI38=2,ROUND(O38+X38+Y38+GK38,2),0) -> 0 | GP38: =IF(BI38=4,ROUND(O38+X38+Y38+GK38,2)+GX38,0) -> 0 | GR38: 0 | GS38: 3 | GT38: 0 | GV38: =ROUND(GT38,6) -> 0 | GW38: 1 | GX38: =ROUND(GV38*GW38*I38,2) -> 0 | HA38: 0 | HB38: 0 | IK38: 0
A39: 17 | B39: 1 | C39: =ROW(SmtRes!A40) -> 40 | D39: =ROW(EtalonRes!A50) -> 50 | E39: 8 | F39: 66-26-2 | G39: Демонтаж задвижек диаметром до 100 мм | H39: ШТ | I39: 6 | J39: 0 | O39: =ROUND(CP39,2) -> 507.38 | P39: =ROUND(CQ39*I39,2) -> 0 | Q39: =ROUND(CR39*I39,2) -> 203.01 | R39: =ROUND(CS39*I39,2) -> 35.84 | S39: =ROUND(CT39*I39,2) -> 304.37 | T39: =ROUND(CU39*I39,2) -> 0 | U39: =CV39*I39 -> 6.84 | V39: =CW39*I39 -> 0.6 | W39: =ROUND(CX39*I39,2) -> 0 | X39: =ROUND(CY39,2) -> 251.76 | Y39: =ROUND(CZ39,2) -> 170.11 | AA39: 39612629 | AB39: =ROUND((AC39+AD39+AF39),6) -> 16.42 | AC39: =ROUND((ES39),6) -> 0 | AD39: =ROUND((((ET39)-(EU39))+AE39),6) -> 6.57 | AE39: =ROUND((EU39),6) -> 1.16 | AF39: =ROUND((EV39),6) -> 9.85 | AG39: =ROUND((AP39),6) -> 0 | AH39: =(EW39) -> 1.14 | AI39: =(EX39) -> 0.1 | AJ39: =ROUND((AS39),6) -> 0 | AK39: 16.42 | AL39: 0 | AM39: 6.57 | AN39: 1.16 | AO39: 9.85 | AP39: 0 | AQ39: 1.14 | AR39: 0.1 | AS39: 0 | AT39: 74 | AU39: 50 | AV39: 1 | AW39: 1 | AZ39: 5.15 | BA39: 5.15 | BB39: 5.15 | BC39: 5.15 | BH39: 0 | BI39: 1 | BJ39: ФЕРр-2001, 66-26-2, приказ Минстроя России №1039/пр от 30.12.2016г. | BM39: 66004 | BN39: 0 | BP39: 0 | BQ39: 6 | BR39: 0 | BS39: 5.15 | BT39: 1 | BU39: 1 | BV39: 1 | BW39: 1 | BX39: 1 | BZ39: 74 | CA39: 50 | CF39: 0 | CG39: 0 | CM39: 0 | CO39: 0 | CP39: =(P39+Q39+S39) -> 507.38 | CQ39: =AC39*BC39 -> 0 | CR39: =AD39*BB39 -> 33.8355 | CS39: =AE39*BS39 -> 5.974 | CT39: =AF39*BA39 -> 50.7275 | CU39: =AG39 -> 0 | CV39: =AH39 -> 1.14 | CW39: =AI39 -> 0.1 | CX39: =AJ39 -> 0 | CY39: =(((S39+R39)*AT39)/100) -> 251.7554 | CZ39: =(((S39+R39)*AU39)/100) -> 170.105 | DN39: 0 | DO39: 0 | DP39: 1 | DQ39: 1 | DU39: 1013 | DV39: ШТ | DW39: ШТ | DX39: 1 | EE39: 39174610 | EF39: 6 | EG39: Ремонтно-строительные работы | EH39: 0 | EJ39: 1 | EK39: 66004 | EL39: Наружные с/техработы : разборка, очистка... | EM39: рФЕР-66 | EQ39: 131072 | ER39: 16.42 | ES39: 0 | ET39: 6.57 | EU39: 1.16 | EV39: 9.85 | EW39: 1.14 | EX39: 0.1 | EY39: 0 | FQ39: 0 | FR39: =ROUND(IF(AND(BH39=3,BI39=3),P39,0),2) -> 0 | FS39: 0 | FX39: 74 | FY39: 50 | GD39: 0 | GF39: -2060399027 | GG39: 1 | GH39: 1 | GI39: 4 | GJ39: 0 | GK39: =ROUND(R39*(S12)/100,2) -> 0 | GL39: =ROUND(IF(AND(BH39=3,BI39=3,FS39<>0),P39,0),2) -> 0 | GM39: =ROUND(O39+X39+Y39+GK39,2)+GX39 -> 929.25 | GN39: =IF(OR(BI39=0,BI39=1),ROUND(O39+X39+Y39+GK39,2),0) -> 929.25 | GO39: =IF(BI39=2,ROUND(O39+X39+Y39+GK39,2),0) -> 0 | GP39: =IF(BI39=4,ROUND(O39+X39+Y39+GK39,2)+GX39,0) -> 0 | GR39: 0 | GS39: 3 | GT39: 0 | GV39: =ROUND(GT39,6) -> 0 | GW39: 1 | GX39: =ROUND(GV39*GW39*I39,2) -> 0 | HA39: 0 | HB39: 0 | IK39: 0
A40: 17 | B40: 1 | C40: =ROW(SmtRes!A60) -> 60 | D40: =ROW(EtalonRes!A67) -> 67 | E40: 9 | F40: 23-03-001-05 | G40: Устройство круглых сборных железобетонных канализационных колодцев диаметром 1,5 м в сухих грунтах | H40: 10 м3 | I40: =ROUND(9/10,9) -> 0.9 | J40: 0 | O40: =ROUND(CP40,2) -> 8441.17 | P40: =ROUND(CQ40*I40,2) -> 5699.2 | Q40: =ROUND(CR40*I40,2) -> 1835.61 | R40: =ROUND(CS40*I40,2) -> 248.32 | S40: =ROUND(CT40*I40,2) -> 906.36 | T40: =ROUND(CU40*I40,2) -> 0 | U40: =CV40*I40 -> 99.92925 | V40: =CW40*I40 -> 19.4625 | W40: =ROUND(CX40*I40,2) -> 0 | X40: =ROUND(CY40,2) -> 1350.98 | Y40: =ROUND(CZ40,2) -> 877.56 | AA40: 39612628 | AB40: =ROUND((AC40+AD40+AF40),6) -> 9379.069 | AC40: =ROUND((ES40),6) -> 6332.44 | AD40: =ROUND(((((ET40*1.25))-((EU40*1.25)))+AE40),6) -> 2039.5625 | AE40: =ROUND(((EU40*1.25)),6) -> 275.9125 | AF40: =ROUND(((EV40*1.15)),6) -> 1007.0665 | AG40: =ROUND((AP40),6) -> 0 | AH40: =((EW40*1.15)) -> 111.0325 | AI40: =((EX40*1.25)) -> 21.625 | AJ40: =ROUND((AS40),6) -> 0 | AK40: 8839.8 | AL40: 6332.44 | AM40: 1631.65 | AN40: 220.73 | AO40: 875.71 | AP40: 0 | AQ40: 96.55 | AR40: 17.3 | AS40: 0 | AT40: 117 | AU40: 76 | AV40: 1 | AW40: 1 | AZ40: 1 | BA40: 1 | BB40: 1 | BC40: 1 | BH40: 0 | BI40: 1 | BJ40: ФЕР-2001, 23-03-001-05, приказ Минстроя России №1039/пр от 30.12.2016г. | BM40: 23001 | BN40: 0 | BP40: 0 | BQ40: 2 | BR40: 0 | BS40: 1 | BT40: 1 | BU40: 1 | BV40: 1 | BW40: 1 | BX40: 1 | BZ40: 130 | CA40: 89 | CF40: 0 | CG40: 0 | CM40: 0 | CN40: Поправка: МДС 81-35.2004, п.4.7 Наименование: Работы, выполняемые при реконструкции зданий и сооружений работы, аналогичные технологическим процессам в новом строительстве (в том числе возведение новых конструктивных элементов) стоимость которых определена по соответствующим сборникам ФЕР, кроме сборника № 46 «Работы при реконструкции зданий и сооружений» | CO40: 0 | CP40: =(P40+Q40+S40) -> 8441.17 | CQ40: =AC40*BC40 -> 6332.44 | CR40: =AD40*BB40 -> 2039.5625 | CS40: =AE40*BS40 -> 275.9125 | CT40: =AF40*BA40 -> 1007.0665 | CU40: =AG40 -> 0 | CV40: =AH40 -> 111.0325 | CW40: =AI40 -> 21.625 | CX40: =AJ40 -> 0 | CY40: =(((S40+R40)*AT40)/100) -> 1350.9756 | CZ40: =(((S40+R40)*AU40)/100) -> 877.5568 | DE40: )*1,25 | DF40: )*1,25 | DG40: )*1,15 | DI40: )*1,15 | DJ40: )*1,25 | DN40: 0 | DO40: 0 | DP40: 1 | DQ40: 1 | DU40: 1007 | DV40: 10 м3 | DW40: 10 м3 | DX40: 10 | EE40: 39174537 | EF40: 2 | EG40: Общестроительные работы | EH40: 0 | EJ40: 1 | EK40: 23001 | EL40: Канализация - наружные сети | EM40: ФЕР-23 | EO40: Поправка: МДС 81-35.2004, п.4.7 | EQ40: 131072 | ER40: 8839.8 | ES40: 6332.44 | ET40: 1631.65 | EU40: 220.73 | EV40: 875.71 | EW40: 96.55 | EX40: 17.3 | EY40: 0 | FQ40: 0 | FR40: =ROUND(IF(AND(BH40=3,BI40=3),P40,0),2) -> 0 | FS40: 0 | FT40: *0,9 | FU40: *0,85 | FX40: 117 | FY40: 75.65 | GD40: 0 | GF40: 613441697 | GG40: 2 | GH40: 1 | GI40: -2 | GJ40: 0 | GK40: =ROUND(R40*(R12)/100,2) -> 0 | GL40: =ROUND(IF(AND(BH40=3,BI40=3,FS40<>0),P40,0),2) -> 0 | GM40: =ROUND(O40+X40+Y40+GK40,2)+GX40 -> 10669.71 | GN40: =IF(OR(BI40=0,BI40=1),ROUND(O40+X40+Y40+GK40,2),0) -> 10669.71 | GO40: =IF(BI40=2,ROUND(O40+X40+Y40+GK40,2),0) -> 0 | GP40: =IF(BI40=4,ROUND(O40+X40+Y40+GK40,2)+GX40,0) -> 0 | GR40: 0 | GS40: 3 | GT40: 0 | GV40: =ROUND(GT40,6) -> 0 | GW40: 1 | GX40: =ROUND(GV40*GW40*I40,2) -> 0 | HA40: 0 | HB40: 0 | IK40: 0
