Workbook

Sheet Смета 12 гр. по ФЕР
A1: =Source!B1 -> Smeta.RU (495) 974-1589
I2: Приложение 1 к форме 7
B4: =CONCATENATE( "ЛОКАЛЬНАЯ СМЕТА ",IF(Source!F20<>"Новая локальная смета", Source!F20, "")) -> ЛОКАЛЬНАЯ СМЕТА
B6: =IF(Source!G12<>"Новый объект", Source!G12, "") -> На капитальный ремонт помещений № 1а, №17 - № 19, № 22 -№ 26 первого этажа и помещений № 22 - № 25 второго этажа для центра компетенций WorldSkills в здании НИЯУ МИФИ по адресу: г. Москва, Каширское шоссе, д. 64 | AD6: =IF(Source!G12<>"Новый объект", Source!G12, "") -> На капитальный ремонт помещений № 1а, №17 - № 19, № 22 -№ 26 первого этажа и помещений № 22 - № 25 второго этажа для центра компетенций WorldSkills в здании НИЯУ МИФИ по адресу: г. Москва, Каширское шоссе, д. 64
B7: (наименование работ и затрат, наименование объекта)
G9: базовая цена | I9: текущая цена
C10: Сметная стоимость | G10: =SUM(O20:O1159)/1000 -> 627.25126 | I10: =(Source!P811/1000) -> 4905.4513 | K10: тыс. руб.
C11: Строительные работы | G11: =SUM(W20:W1159)/1000 -> 470.73094 | I11: =(Source!P798)/1000 -> 3075.4839 | K11: тыс. руб.
C12: Монтажные работы | G12: =SUM(X20:X1159)/1000 -> 151.68259 | I12: =(Source!P799)/1000 -> 990.48728 | K12: тыс. руб.
C13: Прочие работы | G13: =SUM(Z20:Z1159)/1000 -> 4.83773 | I13: =(Source!P800+Source!P801)/1000 -> 91.19098 | K13: тыс. руб.
C14: Нормативная трудоемкость | G14: =I14 -> 7308.1581 | I14: =(Source!P803+Source!P804) -> 7308.1581 | K14: чел. -ч.
C15: Средства на оплату труда | G15: =SUM(R20:R1159)/1000 -> 65.6053 | I15: =((Source!P796 + Source!P795)/1000) -> 457.47631 | K15: тыс. руб.
A17: Составлена в ценах IV квартал 2017 года
A18: № п/п | B18: Шифр расценки и коды ресурсов | C18: Наименование работ и затрат | D18: Ед. изм. | E18: Кол-во единиц | F18: Цена на ед. изм. | G18: Попра-вочные коэфф. | H18: Стоимость в ценах 2001г. | I18: Пункт коэфф. пересчета | J18: Коэфф. пересчета | K18: Стоимость в текущих ценах | L18: ЗТР всего чел.-час
A19: 1 | B19: 2 | C19: 3 | D19: 4 | E19: 5 | F19: 6 | G19: 7 | H19: 8 | I19: 9 | J19: 10 | K19: 11 | L19: 12
A21: =CONCATENATE("Раздел: ",IF(Source!G24<>"Новый раздел", Source!G24, "")) -> Раздел: Первый этаж
A23: =CONCATENATE("Подраздел: ",IF(Source!G28<>"Новый подраздел", Source!G28, "")) -> Подраздел: Общестроительные работы
A24: =Source!E33 -> 1 | B24: =Source!F33 -> 46-04-012-01 | C24: =Source!G33 -> Разборка деревянных заполнений проемов оконных с подоконными досками | D24: =Source!H33 -> 100 м2 | E24: =Source!I33 -> 1.08042 | F24: =Source!AL33+Source!AM33+Source!AO33 -> 1767.24 | I24: =Source!BO33 | S24: =ROUND((Source!FX33/100)*((ROUND(Source!AF33*Source!I33, 2)+ROUND(Source!AE33*Source!I33, 2))), 2) -> 1743.23 | T24: =Source!X33 -> 11383.35 | U24: =ROUND((Source!FY33/100)*((ROUND(Source!AF33*Source!I33, 2)+ROUND(Source!AE33*Source!I33, 2))), 2) -> 1047.7 | V24: =Source!Y33 -> 6899
C25: ="Объем: "&Source!I33&"=(9,592+"&"47,96+"&"47,96+"&"2,53)/"&"100" -> Объем: 1,08042=(9,592+47,96+47,96+2,53)/100
C26: Зарплата | F26: =Source!AO33 -> 1525.29 | G26: =Source!DG33 | H26: =ROUND(Source!AF33*Source!I33, 2) -> 1647.95 | J26: =IF(Source!BA33<> 0, Source!BA33, 1) -> 6.53 | K26: =Source!S33 -> 10761.14 | R26: =H26 -> 1647.95
C27: Эксплуатация машин | F27: =Source!AM33 -> 241.95 | G27: =Source!DE33 | H27: =ROUND(Source!AD33*Source!I33, 2) -> 261.41 | J27: =IF(Source!BB33<> 0, Source!BB33, 1) -> 6.53 | K27: =Source!Q33 -> 1706.99
C28: в т.ч. зарплата машинистов | F28: =Source!AN33 -> 104.49 | G28: =Source!DF33 | H28: =ROUND(Source!AE33*Source!I33, 2) -> 112.89 | J28: =IF(Source!BS33<> 0, Source!BS33, 1) -> 6.53 | K28: =Source!R33 -> 737.19 | R28: =H28 -> 112.89
C29: НР от ФОТ | D29: % | E29: =Source!BZ33 -> 110 | F29: =CONCATENATE(" )", Source!DL33, Source!FT33, "=", Source!FX33) -> )*0,9=99 | H29: =SUM(S24:S31) -> 1743.23 | J29: =Source!AT33 -> 99 | K29: =SUM(T24:T31) -> 11383.35
C30: СП от ФОТ | D30: % | E30: =Source!CA33 -> 70 | F30: =CONCATENATE(" )", Source!DM33, Source!FU33, "=", Source!FY33) -> )*0,85=59,5 | H30: =SUM(U24:U31) -> 1047.7 | J30: =Source!AU33 -> 60 | K30: =SUM(V24:V31) -> 6899
C31: Затраты труда | D31: чел-ч | E31: =Source!AQ33 -> 188.54 | G31: =Source!DI33 | L31: =Source!U33 -> 203.70239
G32: =H26+H27+H29+H30 -> 4700.29 | J32: =K26+K27+K29+K30 -> 30750.48 | L32: =Source!U33 -> 203.70239 | O32: =G32 -> 4700.29 | P32: =J32 -> 30750.48 | Q32: =L32 -> 203.70239 | W32: =IF(Source!BI33<=1,H26+H27+H29+H30, 0) -> 4700.29 | X32: =IF(Source!BI33=2,H26+H27+H29+H30, 0) -> 0 | Y32: =IF(Source!BI33=3,H26+H27+H29+H30, 0) -> 0 | Z32: =IF(Source!BI33=4,H26+H27+H29+H30, 0) -> 0
A33: =Source!E35 -> 2 | B33: =Source!F35 -> 56-2-2 | C33: =Source!G35 -> Снятие оконных переплетов остекленных | D33: =Source!H35 -> 100 м2 | E33: =Source!I35 -> 0.0225 | F33: =Source!AL35+Source!AM35+Source!AO35 -> 398.87 | I33: =Source!BO35 | S33: =ROUND((Source!FX35/100)*((ROUND(Source!AF35*Source!I35, 2)+ROUND(Source!AE35*Source!I35, 2))), 2) -> 7.05 | T33: =Source!X35 -> 46.07 | U33: =ROUND((Source!FY35/100)*((ROUND(Source!AF35*Source!I35, 2)+ROUND(Source!AE35*Source!I35, 2))), 2) -> 5.33 | V33: =Source!Y35 -> 34.83
C34: ="Объем: "&Source!I35&"=2,25/"&"100" -> Объем: 0,0225=2,25/100
C35: Зарплата | F35: =Source!AO35 -> 369.8 | G35: =Source!DG35 | H35: =ROUND(Source!AF35*Source!I35, 2) -> 8.32 | J35: =IF(Source!BA35<> 0, Source!BA35, 1) -> 6.53 | K35: =Source!S35 -> 54.33 | R35: =H35 -> 8.32
C36: Эксплуатация машин | F36: =Source!AM35 -> 29.07 | G36: =Source!DE35 | H36: =ROUND(Source!AD35*Source!I35, 2) -> 0.65 | J36: =IF(Source!BB35<> 0, Source!BB35, 1) -> 6.53 | K36: =Source!Q35 -> 4.27
C37: в т.ч. зарплата машинистов | F37: =Source!AN35 -> 12.56 | G37: =Source!DF35 | H37: =ROUND(Source!AE35*Source!I35, 2) -> 0.28 | J37: =IF(Source!BS35<> 0, Source!BS35, 1) -> 6.53 | K37: =Source!R35 -> 1.85 | R37: =H37 -> 0.28
C38: НР от ФОТ | D38: % | E38: =Source!BZ35 -> 82 | H38: =SUM(S33:S41) -> 7.05 | J38: =Source!AT35 -> 82 | K38: =SUM(T33:T41) -> 46.07
C39: СП от ФОТ | D39: % | E39: =Source!CA35 -> 62 | H39: =SUM(U33:U41) -> 5.33 | J39: =Source!AU35 -> 62 | K39: =SUM(V33:V41) -> 34.83
C40: Затраты труда | D40: чел-ч | E40: =Source!AQ35 -> 46.11 | G40: =Source!DI35 | L40: =Source!U35 -> 1.037475
A41: =Source!E37 -> 2,1 | B41: =Source!F37 -> 01.7.07.07 | C41: =Source!G37 -> Строительный мусор | D41: =Source!H37 -> т | E41: =Source!I37 -> 0.07695 | F41: =Source!AL37+Source!AM37+Source!AO37 -> 0 | H41: =ROUND(Source!AC37*Source!I37, 2)+ROUND(Source!AD37*Source!I37, 2)+ROUND(Source!AF37*Source!I37, 2) -> 0 | J41: =IF(Source!BC37<> 0, Source!BC37, 1) -> 6.53 | K41: =Source!O37 -> 0 | S41: =ROUND((Source!FX37/100)*((ROUND(Source!AF37*Source!I37, 2)+ROUND(Source!AE37*Source!I37, 2))), 2) -> 0 | T41: =Source!X37 -> 0 | U41: =ROUND((Source!FY37/100)*((ROUND(Source!AF37*Source!I37, 2)+ROUND(Source!AE37*Source!I37, 2))), 2) -> 0 | V41: =Source!Y37 -> 0 | W41: =IF(Source!BI37<=1,H41, 0) -> 0 | X41: =IF(Source!BI37=2,H41, 0) -> 0 | Y41: =IF(Source!BI37=3,H41, 0) -> 0 | Z41: =IF(Source!BI37=4,H41, 0) -> 0
G42: =H35+H36+H38+H39+SUM(H41:H41) -> 21.35 | J42: =K35+K36+K38+K39+SUM(K41:K41) -> 139.5 | L42: =Source!U35 -> 1.037475 | O42: =G42 -> 21.35 | P42: =J42 -> 139.5 | Q42: =L42 -> 1.037475 | W42: =IF(Source!BI35<=1,H35+H36+H38+H39, 0) -> 21.35 | X42: =IF(Source!BI35=2,H35+H36+H38+H39, 0) -> 0 | Y42: =IF(Source!BI35=3,H35+H36+H38+H39, 0) -> 0 | Z42: =IF(Source!BI35=4,H35+H36+H38+H39, 0) -> 0
A43: =Source!E39 -> 3 | B43: =Source!F39 -> 58-3-1 | C43: =Source!G39 -> Разборка мелких покрытий и обделок из листовой стали поясков, сандриков, желобов, отливов, свесов и т.п. | D43: =Source!H39 -> 100 м | E43: =Source!I39 -> 0.495 | F43: =Source!AL39+Source!AM39+Source!AO39 -> 71.18 | I43: =Source!BO39 | S43: =ROUND((Source!FX39/100)*((ROUND(Source!AF39*Source!I39, 2)+ROUND(Source!AE39*Source!I39, 2))), 2) -> 29.17 | T43: =Source!X39 -> 190.43 | U43: =ROUND((Source!FY39/100)*((ROUND(Source!AF39*Source!I39, 2)+ROUND(Source!AE39*Source!I39, 2))), 2) -> 22.84 | V43: =Source!Y39 -> 149.13
C44: ="Объем: "&Source!I39&"=(4,4+"&"22+"&"22+"&"1,1)/"&"100" -> Объем: 0,495=(4,4+22+22+1,1)/100
C45: Зарплата | F45: =Source!AO39 -> 70.98 | G45: =Source!DG39 | H45: =ROUND(Source!AF39*Source!I39, 2) -> 35.14 | J45: =IF(Source!BA39<> 0, Source!BA39, 1) -> 6.53 | K45: =Source!S39 -> 229.43 | R45: =H45 -> 35.14
C46: Эксплуатация машин | F46: =Source!AM39 -> 0.2 | G46: =Source!DE39 | H46: =ROUND(Source!AD39*Source!I39, 2) -> 0.1 | J46: =IF(Source!BB39<> 0, Source!BB39, 1) -> 6.53 | K46: =Source!Q39 -> 0.65
...

Sheet Source
A1: 0 | B1: Smeta.RU (495) 974-1589 | D1: _PS_ | F1: 0 | G1: 0 | H1: 0 | I1: Smeta.RU | J1: НИЯУ МИФИ Доп. раб. место MCCS-0016187 | K1: 0 | L1: 16187 | M1: 10
A12: 1 | B12: 874 | C12: 0 | D12: =ROW(A813) -> 813 | E12: 0 | F12: Объедененная | G12: На капитальный ремонт помещений № 1а, №17 - № 19, № 22 -№ 26 первого этажа и помещений № 22 - № 25 второго этажа для центра компетенций WorldSkills в здании НИЯУ МИФИ по адресу: г. Москва, Каширское шоссе, д. 64 | I12: 0 | K12: 0 | O12: 0 | P12: 0 | Q12: 0 | R12: 0 | S12: 0 | V12: 0 | BH12: Сметные нормы списания | BI12: Коды ценников | BJ12: 1 | BK12: 1 | BL12: 0 | BM12: 0 | BN12: 1 | BO12: 0 | BP12: 2 | BQ12: 2 | BR12: 1 | BS12: 1 | BT12: 0 | BU12: 0 | BV12: 1 | BW12: 0 | BX12: 0 | BY12: ФЕР-2017 | BZ12: ТР для Версии 10: Центральные регионы (с учетом п-ма 2536-ИП/12/ГС от 22.03.2017 г | CA12: ФЕР-2017 | CB12: ФЕР-2017 | CC12: ФЕР-2017 | CD12: ФЕР-2017 | CE12: Поправки для ГСН 2017 от 31.03.2017 г | CF12: 0 | CG12: 0 | CH12: 524288 | CK12: 4 | EC12: 0
A15: 15 | B15: 1
A18: 52 | B18: =B813 -> 874 | C18: =C813 -> 1 | D18: =D813 -> 12 | E18: =E813 -> 0 | F18: =F813 -> Объедененная | G18: =G813 -> На капитальный ремонт помещений № 1а, №17 - № 19, № 22 -№ 26 первого этажа и помещений № 22 - № 25 второго этажа для центра компетенций WorldSkills в здании НИЯУ МИФИ по адресу: г. Москва, Каширское шоссе, д. 64 | O18: =O813 -> 527256.88 | P18: =P813 -> 450456.7 | Q18: =Q813 -> 13081.32 | R18: =R813 -> 1886.44 | S18: =S813 -> 63718.86 | T18: =T813 -> 0 | U18: =U813 -> 7144.5232 | V18: =V813 -> 163.63495 | ... GX18: =GX813 -> 0
A20: 3 | B20: 1 | D20: =ROW(A781) -> 781 | F20: Новая локальная смета | G20: Новая локальная смета | I20: 0 | K20: 0 | V20: 0 | BX20: 0 | CF20: 0 | CG20: 0
A22: 52 | B22: =B781 -> 1 | C22: =C781 -> 3 | D22: =D781 -> 20 | E22: =E781 -> 0 | F22: =F781 -> Новая локальная смета | G22: =G781 -> Новая локальная смета | O22: =O781 -> 527256.88 | P22: =P781 -> 450456.7 | Q22: =Q781 -> 13081.32 | R22: =R781 -> 1886.44 | S22: =S781 -> 63718.86 | T22: =T781 -> 0 | U22: =U781 -> 7144.5232 | V22: =V781 -> 163.63495 | ... GX22: =GX781 -> 0
A24: 4 | B24: 1 | D24: =ROW(A286) -> 286 | F24: Новый раздел | G24: Первый этаж | I24: 0 | K24: 0 | V24: 0 | BX24: 0 | CJ24: 0
A26: 52 | B26: =B286 -> 1 | C26: =C286 -> 4 | D26: =D286 -> 24 | E26: =E286 -> 0 | F26: =F286 -> Новый раздел | G26: =G286 -> Первый этаж | O26: =O286 -> 283213.37 | P26: =P286 -> 237547.18 | Q26: =Q286 -> 4498.32 | R26: =R286 -> 854.06 | S26: =S286 -> 41167.87 | T26: =T286 -> 0 | U26: =U286 -> 4723.1473 | V26: =V286 -> 75.481878 | ... GX26: =GX286 -> 0
A28: 5 | B28: 1 | D28: =ROW(A257) -> 257 | F28: Новый подраздел | G28: Общестроительные работы | I28: 0 | K28: 0 | V28: 0 | BX28: 0 | CJ28: 0
A30: 52 | B30: =B257 -> 1 | C30: =C257 -> 5 | D30: =D257 -> 28 | E30: =E257 -> 0 | F30: =F257 -> Новый подраздел | G30: =G257 -> Общестроительные работы | O30: =O257 -> 283213.37 | P30: =P257 -> 237547.18 | Q30: =Q257 -> 4498.32 | R30: =R257 -> 854.06 | S30: =S257 -> 41167.87 | T30: =T257 -> 0 | U30: =U257 -> 4723.1473 | V30: =V257 -> 75.481878 | ... GX30: =GX257 -> 0
A32: 17 | B32: 1 | C32: =ROW(SmtRes!A3) -> 3 | D32: =ROW(EtalonRes!A3) -> 3 | E32: 1 | F32: 46-04-012-01 | G32: Разборка деревянных заполнений проемов оконных с подоконными досками | H32: 100 м2 | I32: =ROUND((9.592+47.96+47.96+2.53)/100,9) -> 1.08042 | J32: 0 | O32: =ROUND(CP32,2) -> 1909.36 | P32: =ROUND(CQ32*I32,2) -> 0 | Q32: =ROUND(CR32*I32,2) -> 261.41 | R32: =ROUND(CS32*I32,2) -> 112.89 | S32: =ROUND(CT32*I32,2) -> 1647.95 | T32: =ROUND(CU32*I32,2) -> 0 | U32: =CV32*I32 -> 203.70239 | V32: =CW32*I32 -> 8.3624508 | W32: =ROUND(CX32*I32,2) -> 0 | X32: =ROUND(CY32,2) -> 1743.23 | Y32: =ROUND(CZ32,2) -> 1056.5 | AA32: 27737227 | AB32: =ROUND((AC32+AD32+AF32),2) -> 1767.24 | AC32: =ROUND((ES32),2) -> 0 | AD32: =ROUND((((ET32)-(EU32))+AE32),2) -> 241.95 | AE32: =ROUND((EU32),2) -> 104.49 | AF32: =ROUND((EV32),2) -> 1525.29 | AG32: =ROUND((AP32),2) -> 0 | AH32: =(EW32) -> 188.54 | AI32: =(EX32) -> 7.74 | AJ32: =ROUND((AS32),2) -> 0 | AK32: 1767.24 | AL32: 0 | AM32: 241.95 | AN32: 104.49 | AO32: 1525.29 | AP32: 0 | AQ32: 188.54 | AR32: 7.74 | AS32: 0 | AT32: 99 | AU32: 60 | AV32: 1 | AW32: 1 | AZ32: 1 | BA32: 1 | BB32: 1 | BC32: 1 | BH32: 0 | BI32: 1 | BJ32: ФЕР-2001, 46-04-012-01, приказ Минстроя России №1039/пр от 30.12.2016г. | BM32: 46001 | BN32: 0 | BP32: 0 | BQ32: 2 | BR32: 0 | BS32: 1 | BT32: 1 | BU32: 1 | BV32: 1 | BW32: 1 | BX32: 1 | BZ32: 110 | CA32: 70 | CF32: 0 | CG32: 0 | CM32: 0 | CO32: 0 | CP32: =(P32+Q32+S32) -> 1909.36 | CQ32: =AC32*BC32 -> 0 | CR32: =AD32*BB32 -> 241.95 | CS32: =AE32*BS32 -> 104.49 | CT32: =AF32*BA32 -> 1525.29 | CU32: =AG32 -> 0 | CV32: =AH32 -> 188.54 | CW32: =AI32 -> 7.74 | CX32: =AJ32 -> 0 | CY32: =(((S32+R32)*AT32)/100) -> 1743.2316 | CZ32: =(((S32+R32)*AU32)/100) -> 1056.504 | DN32: 0 | DO32: 0 | DP32: 1 | DQ32: 1 | DU32: 1005 | DV32: 100 м2 | DW32: 100 м2 | DX32: 100 | EE32: 27029091 | EF32: 2 | EG32: Общестроительные работы | EH32: 0 | EJ32: 1 | EK32: 46001 | EL32: Реконструкция зданий и сооружений | EM32: ФЕР-46 | EQ32: 0 | ER32: 1767.24 | ES32: 0 | ET32: 241.95 | EU32: 104.49 | EV32: 1525.29 | EW32: 188.54 | EX32: 7.74 | EY32: 0 | FQ32: 0 | FR32: =ROUND(IF(AND(BH32=3,BI32=3),P32,0),2) -> 0 | FS32: 0 | FT32: *0,9 | FU32: *0,85 | FX32: 99 | FY32: 59.5 | GD32: 0 | GF32: 1630687704 | GG32: 2 | GH32: 1 | GI32: -2 | GJ32: 0 | GK32: =ROUND(R32*(R12)/100,2) -> 0 | GL32: =ROUND(IF(AND(BH32=3,BI32=3,FS32<>0),P32,0),2) -> 0 | GM32: =ROUND(O32+X32+Y32+GK32,2)+GX32 -> 4709.09 | GN32: =IF(OR(BI32=0,BI32=1),ROUND(O32+X32+Y32+GK32,2),0) -> 4709.09 | GO32: =IF(BI32=2,ROUND(O32+X32+Y32+GK32,2),0) -> 0 | GP32: =IF(BI32=4,ROUND(O32+X32+Y32+GK32,2)+GX32,0) -> 0 | GR32: 0 | GS32: 3 | GT32: 0 | GV32: =ROUND(GT32,2) -> 0 | GW32: 1 | GX32: =ROUND(GV32*GW32*I32,2) -> 0 | HA32: 0 | HB32: 0 | IK32: 0
A33: 17 | B33: 1 | C33: =ROW(SmtRes!A6) -> 6 | D33: =ROW(EtalonRes!A6) -> 6 | E33: 1 | F33: 46-04-012-01 | G33: Разборка деревянных заполнений проемов оконных с подоконными досками | H33: 100 м2 | I33: =ROUND((9.592+47.96+47.96+2.53)/100,9) -> 1.08042 | J33: 0 | O33: =ROUND(CP33,2) -> 12468.13 | P33: =ROUND(CQ33*I33,2) -> 0 | Q33: =ROUND(CR33*I33,2) -> 1706.99 | R33: =ROUND(CS33*I33,2) -> 737.19 | S33: =ROUND(CT33*I33,2) -> 10761.14 | T33: =ROUND(CU33*I33,2) -> 0 | U33: =CV33*I33 -> 203.70239 | V33: =CW33*I33 -> 8.3624508 | W33: =ROUND(CX33*I33,2) -> 0 | X33: =ROUND(CY33,2) -> 11383.35 | Y33: =ROUND(CZ33,2) -> 6899 | AA33: 27737228 | AB33: =ROUND((AC33+AD33+AF33),2) -> 1767.24 | AC33: =ROUND((ES33),2) -> 0 | AD33: =ROUND((((ET33)-(EU33))+AE33),2) -> 241.95 | AE33: =ROUND((EU33),2) -> 104.49 | AF33: =ROUND((EV33),2) -> 1525.29 | AG33: =ROUND((AP33),2) -> 0 | AH33: =(EW33) -> 188.54 | AI33: =(EX33) -> 7.74 | AJ33: =ROUND((AS33),2) -> 0 | AK33: 1767.24 | AL33: 0 | AM33: 241.95 | AN33: 104.49 | AO33: 1525.29 | AP33: 0 | AQ33: 188.54 | AR33: 7.74 | AS33: 0 | AT33: 99 | AU33: 60 | AV33: 1 | AW33: 1 | AZ33: 6.53 | BA33: 6.53 | BB33: 6.53 | BC33: 6.53 | BH33: 0 | BI33: 1 | BJ33: ФЕР-2001, 46-04-012-01, приказ Минстроя России №1039/пр от 30.12.2016г. | BM33: 46001 | BN33: 0 | BP33: 0 | BQ33: 2 | BR33: 0 | BS33: 6.53 | BT33: 1 | BU33: 1 | BV33: 1 | BW33: 1 | BX33: 1 | BZ33: 110 | CA33: 70 | CF33: 0 | CG33: 0 | CM33: 0 | CO33: 0 | CP33: =(P33+Q33+S33) -> 12468.13 | CQ33: =AC33*BC33 -> 0 | CR33: =AD33*BB33 -> 1579.9335 | CS33: =AE33*BS33 -> 682.3197 | CT33: =AF33*BA33 -> 9960.1437 | CU33: =AG33 -> 0 | CV33: =AH33 -> 188.54 | CW33: =AI33 -> 7.74 | CX33: =AJ33 -> 0 | CY33: =(((S33+R33)*AT33)/100) -> 11383.347 | CZ33: =(((S33+R33)*AU33)/100) -> 6898.998 | DN33: 0 | DO33: 0 | DP33: 1 | DQ33: 1 | DU33: 1005 | DV33: 100 м2 | DW33: 100 м2 | DX33: 100 | EE33: 27029091 | EF33: 2 | EG33: Общестроительные работы | EH33: 0 | EJ33: 1 | EK33: 46001 | EL33: Реконструкция зданий и сооружений | EM33: ФЕР-46 | EQ33: 0 | ER33: 1767.24 | ES33: 0 | ET33: 241.95 | EU33: 104.49 | EV33: 1525.29 | EW33: 188.54 | EX33: 7.74 | EY33: 0 | FQ33: 0 | FR33: =ROUND(IF(AND(BH33=3,BI33=3),P33,0),2) -> 0 | FS33: 0 | FT33: *0,9 | FU33: *0,85 | FX33: 99 | FY33: 59.5 | GD33: 0 | GF33: 1630687704 | GG33: 1 | GH33: 1 | GI33: 4 | GJ33: 0 | GK33: =ROUND(R33*(S12)/100,2) -> 0 | GL33: =ROUND(IF(AND(BH33=3,BI33=3,FS33<>0),P33,0),2) -> 0 | GM33: =ROUND(O33+X33+Y33+GK33,2)+GX33 -> 30750.48 | GN33: =IF(OR(BI33=0,BI33=1),ROUND(O33+X33+Y33+GK33,2),0) -> 30750.48 | GO33: =IF(BI33=2,ROUND(O33+X33+Y33+GK33,2),0) -> 0 | GP33: =IF(BI33=4,ROUND(O33+X33+Y33+GK33,2)+GX33,0) -> 0 | GR33: 0 | GS33: 3 | GT33: 0 | GV33: =ROUND(GT33,2) -> 0 | GW33: 1 | GX33: =ROUND(GV33*GW33*I33,2) -> 0 | HA33: 0 | HB33: 0 | IK33: 0
A34: 17 | B34: 1 | C34: =ROW(SmtRes!A10) -> 10 | D34: =ROW(EtalonRes!A10) -> 10 | E34: 2 | F34: 56-2-2 | G34: Снятие оконных переплетов остекленных | H34: 100 м2 | I34: =ROUND(2.25/100,9) -> 0.0225 | J34: 0 | O34: =ROUND(CP34,2) -> 8.97 | P34: =ROUND(CQ34*I34,2) -> 0 | Q34: =ROUND(CR34*I34,2) -> 0.65 | R34: =ROUND(CS34*I34,2) -> 0.28 | S34: =ROUND(CT34*I34,2) -> 8.32 | T34: =ROUND(CU34*I34,2) -> 0 | U34: =CV34*I34 -> 1.037475 | V34: =CW34*I34 -> 0.020925 | W34: =ROUND(CX34*I34,2) -> 0 | X34: =ROUND(CY34,2) -> 7.05 | Y34: =ROUND(CZ34,2) -> 5.33 | AA34: 27737227 | AB34: =ROUND((AC34+AD34+AF34),2) -> 398.87 | AC34: =ROUND((ES34),2) -> 0 | AD34: =ROUND((((ET34)-(EU34))+AE34),2) -> 29.07 | AE34: =ROUND((EU34),2) -> 12.56 | AF34: =ROUND((EV34),2) -> 369.8 | AG34: =ROUND((AP34),2) -> 0 | AH34: =(EW34) -> 46.11 | AI34: =(EX34) -> 0.93 | AJ34: =ROUND((AS34),2) -> 0 | AK34: 398.87 | AL34: 0 | AM34: 29.07 | AN34: 12.56 | AO34: 369.8 | AP34: 0 | AQ34: 46.11 | AR34: 0.93 | AS34: 0 | AT34: 82 | AU34: 62 | AV34: 1 | AW34: 1 | AZ34: 1 | BA34: 1 | BB34: 1 | BC34: 1 | BH34: 0 | BI34: 1 | BJ34: ФЕРр-2001, 56-2-2, приказ Минстроя России №1039/пр от 30.12.2016г. | BM34: 56001 | BN34: 0 | BP34: 0 | BQ34: 6 | BR34: 0 | BS34: 1 | BT34: 1 | BU34: 1 | BV34: 1 | BW34: 1 | BX34: 1 | BZ34: 82 | CA34: 62 | CF34: 0 | CG34: 0 | CM34: 0 | CO34: 0 | CP34: =(P34+Q34+S34) -> 8.97 | CQ34: =AC34*BC34 -> 0 | CR34: =AD34*BB34 -> 29.07 | CS34: =AE34*BS34 -> 12.56 | CT34: =AF34*BA34 -> 369.8 | CU34: =AG34 -> 0 | CV34: =AH34 -> 46.11 | CW34: =AI34 -> 0.93 | CX34: =AJ34 -> 0 | CY34: =(((S34+R34)*AT34)/100) -> 7.052 | CZ34: =(((S34+R34)*AU34)/100) -> 5.332 | DN34: 0 | DO34: 0 | DP34: 1 | DQ34: 1 | DU34: 1005 | DV34: 100 м2 | DW34: 100 м2 | DX34: 100 | EE34: 27029101 | EF34: 6 | EG34: Ремонтно-строительные работы | EH34: 0 | EJ34: 1 | EK34: 56001 | EL34: Проемы | EM34: рФЕР-56 | EQ34: 0 | ER34: 398.87 | ES34: 0 | ET34: 29.07 | EU34: 12.56 | EV34: 369.8 | EW34: 46.11 | EX34: 0.93 | EY34: 0 | FQ34: 0 | FR34: =ROUND(IF(AND(BH34=3,BI34=3),P34,0),2) -> 0 | FS34: 0 | FX34: 82 | FY34: 62 | GD34: 0 | GF34: -1226665771 | GG34: 2 | GH34: 1 | GI34: -2 | GJ34: 0 | GK34: =ROUND(R34*(R12)/100,2) -> 0 | GL34: =ROUND(IF(AND(BH34=3,BI34=3,FS34<>0),P34,0),2) -> 0 | GM34: =ROUND(O34+X34+Y34+GK34,2)+GX34 -> 21.35 | GN34: =IF(OR(BI34=0,BI34=1),ROUND(O34+X34+Y34+GK34,2),0) -> 21.35 | GO34: =IF(BI34=2,ROUND(O34+X34+Y34+GK34,2),0) -> 0 | GP34: =IF(BI34=4,ROUND(O34+X34+Y34+GK34,2)+GX34,0) -> 0 | GR34: 0 | GS34: 3 | GT34: 0 | GV34: =ROUND(GT34,2) -> 0 | GW34: 1 | GX34: =ROUND(GV34*GW34*I34,2) -> 0 | HA34: 0 | HB34: 0 | IK34: 0
A35: 17 | B35: 1 | C35: =ROW(SmtRes!A14) -> 14 | D35: =ROW(EtalonRes!A14) -> 14 | E35: 2 | F35: 56-2-2 | G35: Снятие оконных переплетов остекленных | H35: 100 м2 | I35: =ROUND(2.25/100,9) -> 0.0225 | J35: 0 | O35: =ROUND(CP35,2) -> 58.6 | P35: =ROUND(CQ35*I35,2) -> 0 | Q35: =ROUND(CR35*I35,2) -> 4.27 | R35: =ROUND(CS35*I35,2) -> 1.85 | S35: =ROUND(CT35*I35,2) -> 54.33 | T35: =ROUND(CU35*I35,2) -> 0 | U35: =CV35*I35 -> 1.037475 | V35: =CW35*I35 -> 0.020925 | W35: =ROUND(CX35*I35,2) -> 0 | X35: =ROUND(CY35,2) -> 46.07 | Y35: =ROUND(CZ35,2) -> 34.83 | AA35: 27737228 | AB35: =ROUND((AC35+AD35+AF35),2) -> 398.87 | AC35: =ROUND((ES35),2) -> 0 | AD35: =ROUND((((ET35)-(EU35))+AE35),2) -> 29.07 | AE35: =ROUND((EU35),2) -> 12.56 | AF35: =ROUND((EV35),2) -> 369.8 | AG35: =ROUND((AP35),2) -> 0 | AH35: =(EW35) -> 46.11 | AI35: =(EX35) -> 0.93 | AJ35: =ROUND((AS35),2) -> 0 | AK35: 398.87 | AL35: 0 | AM35: 29.07 | AN35: 12.56 | AO35: 369.8 | AP35: 0 | AQ35: 46.11 | AR35: 0.93 | AS35: 0 | AT35: 82 | AU35: 62 | AV35: 1 | AW35: 1 | AZ35: 6.53 | BA35: 6.53 | BB35: 6.53 | BC35: 6.53 | BH35: 0 | BI35: 1 | BJ35: ФЕРр-2001, 56-2-2, приказ Минстроя России №1039/пр от 30.12.2016г. | BM35: 56001 | BN35: 0 | BP35: 0 | BQ35: 6 | BR35: 0 | BS35: 6.53 | BT35: 1 | BU35: 1 | BV35: 1 | BW35: 1 | BX35: 1 | BZ35: 82 | CA35: 62 | CF35: 0 | CG35: 0 | CM35: 0 | CO35: 0 | CP35: =(P35+Q35+S35) -> 58.6 | CQ35: =AC35*BC35 -> 0 | CR35: =AD35*BB35 -> 189.8271 | CS35: =AE35*BS35 -> 82.0168 | CT35: =AF35*BA35 -> 2414.794 | CU35: =AG35 -> 0 | CV35: =AH35 -> 46.11 | CW35: =AI35 -> 0.93 | CX35: =AJ35 -> 0 | CY35: =(((S35+R35)*AT35)/100) -> 46.0676 | CZ35: =(((S35+R35)*AU35)/100) -> 34.8316 | DN35: 0 | DO35: 0 | DP35: 1 | DQ35: 1 | DU35: 1005 | DV35: 100 м2 | DW35: 100 м2 | DX35: 100 | EE35: 27029101 | EF35: 6 | EG35: Ремонтно-строительные работы | EH35: 0 | EJ35: 1 | EK35: 56001 | EL35: Проемы | EM35: рФЕР-56 | EQ35: 0 | ER35: 398.87 | ES35: 0 | ET35: 29.07 | EU35: 12.56 | EV35: 369.8 | EW35: 46.11 | EX35: 0.93 | EY35: 0 | FQ35: 0 | FR35: =ROUND(IF(AND(BH35=3,BI35=3),P35,0),2) -> 0 | FS35: 0 | FX35: 82 | FY35: 62 | GD35: 0 | GF35: -1226665771 | GG35: 1 | GH35: 1 | GI35: 4 | GJ35: 0 | GK35: =ROUND(R35*(S12)/100,2) -> 0 | GL35: =ROUND(IF(AND(BH35=3,BI35=3,FS35<>0),P35,0),2) -> 0 | GM35: =ROUND(O35+X35+Y35+GK35,2)+GX35 -> 139.5 | GN35: =IF(OR(BI35=0,BI35=1),ROUND(O35+X35+Y35+GK35,2),0) -> 139.5 | GO35: =IF(BI35=2,ROUND(O35+X35+Y35+GK35,2),0) -> 0 | GP35: =IF(BI35=4,ROUND(O35+X35+Y35+GK35,2)+GX35,0) -> 0 | GR35: 0 | GS35: 3 | GT35: 0 | GV35: =ROUND(GT35,2) -> 0 | GW35: 1 | GX35: =ROUND(GV35*GW35*I35,2) -> 0 | HA35: 0 | HB35: 0 | IK35: 0
A36: 18 | B36: 1 | C36: 10 | E36: 2,1 | F36: 01.7.07.07 | G36: Строительный мусор | H36: т | I36: =I34*J36 -> 0.07695 | J36: 3.42 | O36: =ROUND(CP36,2) -> 0 | P36: =ROUND(CQ36*I36,2) -> 0 | Q36: =ROUND(CR36*I36,2) -> 0 | R36: =ROUND(CS36*I36,2) -> 0 | S36: =ROUND(CT36*I36,2) -> 0 | T36: =ROUND(CU36*I36,2) -> 0 | U36: =CV36*I36 -> 0 | V36: =CW36*I36 -> 0 | W36: =ROUND(CX36*I36,2) -> 0 | X36: =ROUND(CY36,2) -> 0 | Y36: =ROUND(CZ36,2) -> 0 | AA36: 27737227 | AB36: =ROUND((AC36+AD36+AF36),2) -> 0 | AC36: =ROUND((ES36),2) -> 0 | AD36: =ROUND((((ET36)-(EU36))+AE36),2) -> 0 | AE36: =ROUND((EU36),2) -> 0 | AF36: =ROUND((EV36),2) -> 0 | AG36: =ROUND((AP36),2) -> 0 | AH36: =(EW36) -> 0 | AI36: =(EX36) -> 0 | AJ36: =ROUND((AS36),2) -> 0 | AK36: 0 | AL36: 0 | AM36: 0 | AN36: 0 | AO36: 0 | AP36: 0 | AQ36: 0 | AR36: 0 | AS36: 0 | AT36: 82 | AU36: 62 | AV36: 1 | AW36: 1 | AZ36: 1 | BA36: 1 | BB36: 1 | BC36: 1 | BH36: 3 | BI36: 1 | BM36: 56001 | BN36: 0 | BP36: 0 | BQ36: 6 | BR36: 0 | BS36: 1 | BT36: 1 | BU36: 1 | BV36: 1 | BW36: 1 | BX36: 1 | BZ36: 82 | CA36: 62 | CF36: 0 | CG36: 0 | CM36: 0 | CO36: 0 | CP36: =(P36+Q36+S36) -> 0 | CQ36: =AC36*BC36 -> 0 | CR36: =AD36*BB36 -> 0 | CS36: =AE36*BS36 -> 0 | CT36: =AF36*BA36 -> 0 | CU36: =AG36 -> 0 | CV36: =AH36 -> 0 | CW36: =AI36 -> 0 | CX36: =AJ36 -> 0 | CY36: =(((S36+R36)*AT36)/100) -> 0 | CZ36: =(((S36+R36)*AU36)/100) -> 0 | DN36: 0 | DO36: 0 | DP36: 1 | DQ36: 1 | DU36: 1009 | DV36: т | DW36: т | DX36: 1000 | EE36: 27029101 | EF36: 6 | EG36: Ремонтно-строительные работы | EH36: 0 | EJ36: 1 | EK36: 56001 | EL36: Проемы | EM36: рФЕР-56 | EQ36: 0 | ER36: 0 | ES36: 0 | ET36: 0 | EU36: 0 | EV36: 0 | EW36: 0 | EX36: 0 | FQ36: 0 | FR36: =ROUND(IF(AND(BH36=3,BI36=3),P36,0),2) -> 0 | FS36: 0 | FX36: 82 | FY36: 62 | GD36: 0 | GF36: -179832266 | GG36: 2 | GH36: 1 | GI36: -2 | GJ36: 0 | GK36: =ROUND(R36*(R12)/100,2) -> 0 | GL36: =ROUND(IF(AND(BH36=3,BI36=3,FS36<>0),P36,0),2) -> 0 | GM36: =ROUND(O36+X36+Y36+GK36,2)+GX36 -> 0 | GN36: =IF(OR(BI36=0,BI36=1),ROUND(O36+X36+Y36+GK36,2),0) -> 0 | GO36: =IF(BI36=2,ROUND(O36+X36+Y36+GK36,2),0) -> 0 | GP36: =IF(BI36=4,ROUND(O36+X36+Y36+GK36,2)+GX36,0) -> 0 | GR36: 0 | GS36: 3 | GT36: 0 | GV36: =ROUND(GT36,2) -> 0 | GW36: 1 | GX36: =ROUND(GV36*GW36*I36,2) -> 0 | HA36: 0 | HB36: 0 | IK36: 0
A37: 18 | B37: 1 | C37: 14 | E37: 2,1 | F37: 01.7.07.07 | G37: Строительный мусор | H37: т | I37: =I35*J37 -> 0.07695 | J37: 3.42 | O37: =ROUND(CP37,2) -> 0 | P37: =ROUND(CQ37*I37,2) -> 0 | Q37: =ROUND(CR37*I37,2) -> 0 | R37: =ROUND(CS37*I37,2) -> 0 | S37: =ROUND(CT37*I37,2) -> 0 | T37: =ROUND(CU37*I37,2) -> 0 | U37: =CV37*I37 -> 0 | V37: =CW37*I37 -> 0 | W37: =ROUND(CX37*I37,2) -> 0 | X37: =ROUND(CY37,2) -> 0 | Y37: =ROUND(CZ37,2) -> 0 | AA37: 27737228 | AB37: =ROUND((AC37+AD37+AF37),2) -> 0 | AC37: =ROUND((ES37),2) -> 0 | AD37: =ROUND((((ET37)-(EU37))+AE37),2) -> 0 | AE37: =ROUND((EU37),2) -> 0 | AF37: =ROUND((EV37),2) -> 0 | AG37: =ROUND((AP37),2) -> 0 | AH37: =(EW37) -> 0 | AI37: =(EX37) -> 0 | AJ37: =ROUND((AS37),2) -> 0 | AK37: 0 | AL37: 0 | AM37: 0 | AN37: 0 | AO37: 0 | AP37: 0 | AQ37: 0 | AR37: 0 | AS37: 0 | AT37: 82 | AU37: 62 | AV37: 1 | AW37: 1 | AZ37: 6.53 | BA37: 1 | BB37: 1 | BC37: 6.53 | BH37: 3 | BI37: 1 | BM37: 56001 | BN37: 0 | BP37: 0 | BQ37: 6 | BR37: 0 | BS37: 1 | BT37: 1 | BU37: 1 | BV37: 1 | BW37: 1 | BX37: 1 | BZ37: 82 | CA37: 62 | CF37: 0 | CG37: 0 | CM37: 0 | CO37: 0 | CP37: =(P37+Q37+S37) -> 0 | CQ37: =AC37*BC37 -> 0 | CR37: =AD37*BB37 -> 0 | CS37: =AE37*BS37 -> 0 | CT37: =AF37*BA37 -> 0 | CU37: =AG37 -> 0 | CV37: =AH37 -> 0 | CW37: =AI37 -> 0 | CX37: =AJ37 -> 0 | CY37: =(((S37+R37)*AT37)/100) -> 0 | CZ37: =(((S37+R37)*AU37)/100) -> 0 | DN37: 0 | DO37: 0 | DP37: 1 | DQ37: 1 | DU37: 1009 | DV37: т | DW37: т | DX37: 1000 | EE37: 27029101 | EF37: 6 | EG37: Ремонтно-строительные работы | EH37: 0 | EJ37: 1 | EK37: 56001 | EL37: Проемы | EM37: рФЕР-56 | EQ37: 0 | ER37: 0 | ES37: 0 | ET37: 0 | EU37: 0 | EV37: 0 | EW37: 0 | EX37: 0 | FQ37: 0 | FR37: =ROUND(IF(AND(BH37=3,BI37=3),P37,0),2) -> 0 | FS37: 0 | FX37: 82 | FY37: 62 | GD37: 0 | GF37: -179832266 | GG37: 1 | GH37: 1 | GI37: 4 | GJ37: 0 | GK37: =ROUND(R37*(S12)/100,2) -> 0 | GL37: =ROUND(IF(AND(BH37=3,BI37=3,FS37<>0),P37,0),2) -> 0 | GM37: =ROUND(O37+X37+Y37+GK37,2)+GX37 -> 0 | GN37: =IF(OR(BI37=0,BI37=1),ROUND(O37+X37+Y37+GK37,2),0) -> 0 | GO37: =IF(BI37=2,ROUND(O37+X37+Y37+GK37,2),0) -> 0 | GP37: =IF(BI37=4,ROUND(O37+X37+Y37+GK37,2)+GX37,0) -> 0 | GR37: 0 | GS37: 3 | GT37: 0 | GV37: =ROUND(GT37,2) -> 0 | GW37: 1 | GX37: =ROUND(GV37*GW37*I37,2) -> 0 | HA37: 0 | HB37: 0 | IK37: 0
A38: 17 | B38: 1 | C38: =ROW(SmtRes!A17) -> 17 | D38: =ROW(EtalonRes!A17) -> 17 | E38: 3 | F38: 58-3-1 | G38: Разборка мелких покрытий и обделок из листовой стали поясков, сандриков, желобов, отливов, свесов и т.п. | H38: 100 м | I38: =ROUND((4.4+22+22+1.1)/100,9) -> 0.495 | J38: 0 | O38: =ROUND(CP38,2) -> 35.24 | P38: =ROUND(CQ38*I38,2) -> 0 | Q38: =ROUND(CR38*I38,2) -> 0.1 | R38: =ROUND(CS38*I38,2) -> 0 | S38: =ROUND(CT38*I38,2) -> 35.14 | T38: =ROUND(CU38*I38,2) -> 0 | U38: =CV38*I38 -> 4.5045 | V38: =CW38*I38 -> 0 | W38: =ROUND(CX38*I38,2) -> 0 | X38: =ROUND(CY38,2) -> 29.17 | Y38: =ROUND(CZ38,2) -> 22.84 | AA38: 27737227 | AB38: =ROUND((AC38+AD38+AF38),2) -> 71.18 | AC38: =ROUND((ES38),2) -> 0 | AD38: =ROUND((((ET38)-(EU38))+AE38),2) -> 0.2 | AE38: =ROUND((EU38),2) -> 0 | AF38: =ROUND((EV38),2) -> 70.98 | AG38: =ROUND((AP38),2) -> 0 | AH38: =(EW38) -> 9.1 | AI38: =(EX38) -> 0 | AJ38: =ROUND((AS38),2) -> 0 | AK38: 71.18 | AL38: 0 | AM38: 0.2 | AN38: 0 | AO38: 70.98 | AP38: 0 | AQ38: 9.1 | AR38: 0 | AS38: 0 | AT38: 83 | AU38: 65 | AV38: 1 | AW38: 1 | AZ38: 1 | BA38: 1 | BB38: 1 | BC38: 1 | BH38: 0 | BI38: 1 | BJ38: ФЕРр-2001, 58-3-1, приказ Минстроя России №1039/пр от 30.12.2016г. | BM38: 58001 | BN38: 0 | BP38: 0 | BQ38: 6 | BR38: 0 | BS38: 1 | BT38: 1 | BU38: 1 | BV38: 1 | BW38: 1 | BX38: 1 | BZ38: 83 | CA38: 65 | CF38: 0 | CG38: 0 | CM38: 0 | CO38: 0 | CP38: =(P38+Q38+S38) -> 35.24 | CQ38: =AC38*BC38 -> 0 | CR38: =AD38*BB38 -> 0.2 | CS38: =AE38*BS38 -> 0 | CT38: =AF38*BA38 -> 70.98 | CU38: =AG38 -> 0 | CV38: =AH38 -> 9.1 | CW38: =AI38 -> 0 | CX38: =AJ38 -> 0 | CY38: =(((S38+R38)*AT38)/100) -> 29.1662 | CZ38: =(((S38+R38)*AU38)/100) -> 22.841 | DN38: 0 | DO38: 0 | DP38: 1 | DQ38: 1 | DU38: 1003 | DV38: 100 м | DW38: 100 м | DX38: 100 | EE38: 27029103 | EF38: 6 | EG38: Ремонтно-строительные работы | EH38: 0 | EJ38: 1 | EK38: 58001 | EL38: Крыши, кровля | EM38: рФЕР-58 | EQ38: 0 | ER38: 71.18 | ES38: 0 | ET38: 0.2 | EU38: 0 | EV38: 70.98 | EW38: 9.1 | EX38: 0 | EY38: 0 | FQ38: 0 | FR38: =ROUND(IF(AND(BH38=3,BI38=3),P38,0),2) -> 0 | FS38: 0 | FX38: 83 | FY38: 65 | GD38: 0 | GF38: -902764851 | GG38: 2 | GH38: 1 | GI38: -2 | GJ38: 0 | GK38: =ROUND(R38*(R12)/100,2) -> 0 | GL38: =ROUND(IF(AND(BH38=3,BI38=3,FS38<>0),P38,0),2) -> 0 | GM38: =ROUND(O38+X38+Y38+GK38,2)+GX38 -> 87.25 | GN38: =IF(OR(BI38=0,BI38=1),ROUND(O38+X38+Y38+GK38,2),0) -> 87.25 | GO38: =IF(BI38=2,ROUND(O38+X38+Y38+GK38,2),0) -> 0 | GP38: =IF(BI38=4,ROUND(O38+X38+Y38+GK38,2)+GX38,0) -> 0 | GR38: 0 | GS38: 3 | GT38: 0 | GV38: =ROUND(GT38,2) -> 0 | GW38: 1 | GX38: =ROUND(GV38*GW38*I38,2) -> 0 | HA38: 0 | HB38: 0 | IK38: 0
A39: 17 | B39: 1 | C39: =ROW(SmtRes!A20) -> 20 | D39: =ROW(EtalonRes!A20) -> 20 | E39: 3 | F39: 58-3-1 | G39: Разборка мелких покрытий и обделок из листовой стали поясков, сандриков, желобов, отливов, свесов и т.п. | H39: 100 м | I39: =ROUND((4.4+22+22+1.1)/100,9) -> 0.495 | J39: 0 | O39: =ROUND(CP39,2) -> 230.08 | P39: =ROUND(CQ39*I39,2) -> 0 | Q39: =ROUND(CR39*I39,2) -> 0.65 | R39: =ROUND(CS39*I39,2) -> 0 | S39: =ROUND(CT39*I39,2) -> 229.43 | T39: =ROUND(CU39*I39,2) -> 0 | U39: =CV39*I39 -> 4.5045 | V39: =CW39*I39 -> 0 | W39: =ROUND(CX39*I39,2) -> 0 | X39: =ROUND(CY39,2) -> 190.43 | Y39: =ROUND(CZ39,2) -> 149.13 | AA39: 27737228 | AB39: =ROUND((AC39+AD39+AF39),2) -> 71.18 | AC39: =ROUND((ES39),2) -> 0 | AD39: =ROUND((((ET39)-(EU39))+AE39),2) -> 0.2 | AE39: =ROUND((EU39),2) -> 0 | AF39: =ROUND((EV39),2) -> 70.98 | AG39: =ROUND((AP39),2) -> 0 | AH39: =(EW39) -> 9.1 | AI39: =(EX39) -> 0 | AJ39: =ROUND((AS39),2) -> 0 | AK39: 71.18 | AL39: 0 | AM39: 0.2 | AN39: 0 | AO39: 70.98 | AP39: 0 | AQ39: 9.1 | AR39: 0 | AS39: 0 | AT39: 83 | AU39: 65 | AV39: 1 | AW39: 1 | AZ39: 6.53 | BA39: 6.53 | BB39: 6.53 | BC39: 6.53 | BH39: 0 | BI39: 1 | BJ39: ФЕРр-2001, 58-3-1, приказ Минстроя России №1039/пр от 30.12.2016г. | BM39: 58001 | BN39: 0 | BP39: 0 | BQ39: 6 | BR39: 0 | BS39: 6.53 | BT39: 1 | BU39: 1 | BV39: 1 | BW39: 1 | BX39: 1 | BZ39: 83 | CA39: 65 | CF39: 0 | CG39: 0 | CM39: 0 | CO39: 0 | CP39: =(P39+Q39+S39) -> 230.08 | CQ39: =AC39*BC39 -> 0 | CR39: =AD39*BB39 -> 1.306 | CS39: =AE39*BS39 -> 0 | CT39: =AF39*BA39 -> 463.4994 | CU39: =AG39 -> 0 | CV39: =AH39 -> 9.1 | CW39: =AI39 -> 0 | CX39: =AJ39 -> 0 | CY39: =(((S39+R39)*AT39)/100) -> 190.4269 | CZ39: =(((S39+R39)*AU39)/100) -> 149.1295 | DN39: 0 | DO39: 0 | DP39: 1 | DQ39: 1 | DU39: 1003 | DV39: 100 м | DW39: 100 м | DX39: 100 | EE39: 27029103 | EF39: 6 | EG39: Ремонтно-строительные работы | EH39: 0 | EJ39: 1 | EK39: 58001 | EL39: Крыши, кровля | EM39: рФЕР-58 | EQ39: 0 | ER39: 71.18 | ES39: 0 | ET39: 0.2 | EU39: 0 | EV39: 70.98 | EW39: 9.1 | EX39: 0 | EY39: 0 | FQ39: 0 | FR39: =ROUND(IF(AND(BH39=3,BI39=3),P39,0),2) -> 0 | FS39: 0 | FX39: 83 | FY39: 65 | GD39: 0 | GF39: -902764851 | GG39: 1 | GH39: 1 | GI39: 4 | GJ39: 0 | GK39: =ROUND(R39*(S12)/100,2) -> 0 | GL39: =ROUND(IF(AND(BH39=3,BI39=3,FS39<>0),P39,0),2) -> 0 | GM39: =ROUND(O39+X39+Y39+GK39,2)+GX39 -> 569.64 | GN39: =IF(OR(BI39=0,BI39=1),ROUND(O39+X39+Y39+GK39,2),0) -> 569.64 | GO39: =IF(BI39=2,ROUND(O39+X39+Y39+GK39,2),0) -> 0 | GP39: =IF(BI39=4,ROUND(O39+X39+Y39+GK39,2)+GX39,0) -> 0 | GR39: 0 | GS39: 3 | GT39: 0 | GV39: =ROUND(GT39,2) -> 0 | GW39: 1 | GX39: =ROUND(GV39*GW39*I39,2) -> 0 | HA39: 0 | HB39: 0 | IK39: 0
A40: 18 | B40: 1 | C40: 17 | E40: 3,1 | F40: 01.7.07.07 | G40: Строительный мусор | H40: т | I40: =I38*J40 -> 0.0594 | J40: 0.12 | O40: =ROUND(CP40,2) -> 0 | P40: =ROUND(CQ40*I40,2) -> 0 | Q40: =ROUND(CR40*I40,2) -> 0 | R40: =ROUND(CS40*I40,2) -> 0 | S40: =ROUND(CT40*I40,2) -> 0 | T40: =ROUND(CU40*I40,2) -> 0 | U40: =CV40*I40 -> 0 | V40: =CW40*I40 -> 0 | W40: =ROUND(CX40*I40,2) -> 0 | X40: =ROUND(CY40,2) -> 0 | Y40: =ROUND(CZ40,2) -> 0 | AA40: 27737227 | AB40: =ROUND((AC40+AD40+AF40),2) -> 0 | AC40: =ROUND((ES40),2) -> 0 | AD40: =ROUND((((ET40)-(EU40))+AE40),2) -> 0 | AE40: =ROUND((EU40),2) -> 0 | AF40: =ROUND((EV40),2) -> 0 | AG40: =ROUND((AP40),2) -> 0 | AH40: =(EW40) -> 0 | AI40: =(EX40) -> 0 | AJ40: =ROUND((AS40),2) -> 0 | AK40: 0 | AL40: 0 | AM40: 0 | AN40: 0 | AO40: 0 | AP40: 0 | AQ40: 0 | AR40: 0 | AS40: 0 | AT40: 83 | AU40: 65 | AV40: 1 | AW40: 1 | AZ40: 1 | BA40: 1 | BB40: 1 | BC40: 1 | BH40: 3 | BI40: 1 | BM40: 58001 | BN40: 0 | BP40: 0 | BQ40: 6 | BR40: 0 | BS40: 1 | BT40: 1 | BU40: 1 | BV40: 1 | BW40: 1 | BX40: 1 | BZ40: 83 | CA40: 65 | CF40: 0 | CG40: 0 | CM40: 0 | CO40: 0 | CP40: =(P40+Q40+S40) -> 0 | CQ40: =AC40*BC40 -> 0 | CR40: =AD40*BB40 -> 0 | CS40: =AE40*BS40 -> 0 | CT40: =AF40*BA40 -> 0 | CU40: =AG40 -> 0 | CV40: =AH40 -> 0 | CW40: =AI40 -> 0 | CX40: =AJ40 -> 0 | CY40: =(((S40+R40)*AT40)/100) -> 0 | CZ40: =(((S40+R40)*AU40)/100) -> 0 | DN40: 0 | DO40: 0 | DP40: 1 | DQ40: 1 | DU40: 1009 | DV40: т | DW40: т | DX40: 1000 | EE40: 27029103 | EF40: 6 | EG40: Ремонтно-строительные работы | EH40: 0 | EJ40: 1 | EK40: 58001 | EL40: Крыши, кровля | EM40: рФЕР-58 | EQ40: 0 | ER40: 0 | ES40: 0 | ET40: 0 | EU40: 0 | EV40: 0 | EW40: 0 | EX40: 0 | FQ40: 0 | FR40: =ROUND(IF(AND(BH40=3,BI40=3),P40,0),2) -> 0 | FS40: 0 | FX40: 83 | FY40: 65 | GD40: 0 | GF40: -179832266 | GG40: 2 | GH40: 1 | GI40: -2 | GJ40: 0 | GK40: =ROUND(R40*(R12)/100,2) -> 0 | GL40: =ROUND(IF(AND(BH40=3,BI40=3,FS40<>0),P40,0),2) -> 0 | GM40: =ROUND(O40+X40+Y40+GK40,2)+GX40 -> 0 | GN40: =IF(OR(BI40=0,BI40=1),ROUND(O40+X40+Y40+GK40,2),0) -> 0 | GO40: =IF(BI40=2,ROUND(O40+X40+Y40+GK40,2),0) -> 0 | GP40: =IF(BI40=4,ROUND(O40+X40+Y40+GK40,2)+GX40,0) -> 0 | GR40: 0 | GS40: 3 | GT40: 0 | GV40: =ROUND(GT40,2) -> 0 | GW40: 1 | GX40: =ROUND(GV40*GW40*I40,2) -> 0 | HA40: 0 | HB40: 0 | IK40: 0
A41: 18 | B41: 1 | C41: 20 | E41: 3,1 | F41: 01.7.07.07 | G41: Строительный мусор | H41: т | I41: =I39*J41 -> 0.0594 | J41: 0.12 | O41: =ROUND(CP41,2) -> 0 | P41: =ROUND(CQ41*I41,2) -> 0 | Q41: =ROUND(CR41*I41,2) -> 0 | R41: =ROUND(CS41*I41,2) -> 0 | S41: =ROUND(CT41*I41,2) -> 0 | T41: =ROUND(CU41*I41,2) -> 0 | U41: =CV41*I41 -> 0 | V41: =CW41*I41 -> 0 | W41: =ROUND(CX41*I41,2) -> 0 | X41: =ROUND(CY41,2) -> 0 | Y41: =ROUND(CZ41,2) -> 0 | AA41: 27737228 | AB41: =ROUND((AC41+AD41+AF41),2) -> 0 | AC41: =ROUND((ES41),2) -> 0 | AD41: =ROUND((((ET41)-(EU41))+AE41),2) -> 0 | AE41: =ROUND((EU41),2) -> 0 | AF41: =ROUND((EV41),2) -> 0 | AG41: =ROUND((AP41),2) -> 0 | AH41: =(EW41) -> 0 | AI41: =(EX41) -> 0 | AJ41: =ROUND((AS41),2) -> 0 | AK41: 0 | AL41: 0 | AM41: 0 | AN41: 0 | AO41: 0 | AP41: 0 | AQ41: 0 | AR41: 0 | AS41: 0 | AT41: 83 | AU41: 65 | AV41: 1 | AW41: 1 | AZ41: 6.53 | BA41: 1 | BB41: 1 | BC41: 6.53 | BH41: 3 | BI41: 1 | BM41: 58001 | BN41: 0 | BP41: 0 | BQ41: 6 | BR41: 0 | BS41: 1 | BT41: 1 | BU41: 1 | BV41: 1 | BW41: 1 | BX41: 1 | BZ41: 83 | CA41: 65 | CF41: 0 | CG41: 0 | CM41: 0 | CO41: 0 | CP41: =(P41+Q41+S41) -> 0 | CQ41: =AC41*BC41 -> 0 | CR41: =AD41*BB41 -> 0 | CS41: =AE41*BS41 -> 0 | CT41: =AF41*BA41 -> 0 | CU41: =AG41 -> 0 | CV41: =AH41 -> 0 | CW41: =AI41 -> 0 | CX41: =AJ41 -> 0 | CY41: =(((S41+R41)*AT41)/100) -> 0 | CZ41: =(((S41+R41)*AU41)/100) -> 0 | DN41: 0 | DO41: 0 | DP41: 1 | DQ41: 1 | DU41: 1009 | DV41: т | DW41: т | DX41: 1000 | EE41: 27029103 | EF41: 6 | EG41: Ремонтно-строительные работы | EH41: 0 | EJ41: 1 | EK41: 58001 | EL41: Крыши, кровля | EM41: рФЕР-58 | EQ41: 0 | ER41: 0 | ES41: 0 | ET41: 0 | EU41: 0 | EV41: 0 | EW41: 0 | EX41: 0 | FQ41: 0 | FR41: =ROUND(IF(AND(BH41=3,BI41=3),P41,0),2) -> 0 | FS41: 0 | FX41: 83 | FY41: 65 | GD41: 0 | GF41: -179832266 | GG41: 1 | GH41: 1 | GI41: 4 | GJ41: 0 | GK41: =ROUND(R41*(S12)/100,2) -> 0 | GL41: =ROUND(IF(AND(BH41=3,BI41=3,FS41<>0),P41,0),2) -> 0 | GM41: =ROUND(O41+X41+Y41+GK41,2)+GX41 -> 0 | GN41: =IF(OR(BI41=0,BI41=1),ROUND(O41+X41+Y41+GK41,2),0) -> 0 | GO41: =IF(BI41=2,ROUND(O41+X41+Y41+GK41,2),0) -> 0 | GP41: =IF(BI41=4,ROUND(O41+X41+Y41+GK41,2)+GX41,0) -> 0 | GR41: 0 | GS41: 3 | GT41: 0 | GV41: =ROUND(GT41,2) -> 0 | GW41: 1 | GX41: =ROUND(GV41*GW41*I41,2) -> 0 | HA41: 0 | HB41: 0 | IK41: 0
A42: 17 | B42: 1 | C42: =ROW(SmtRes!A23) -> 23 | D42: =ROW(EtalonRes!A23) -> 23 | E42: 4 | F42: 46-04-012-03 | G42: Разборка деревянных заполнений проемов дверных и воротных | H42: 100 м2 | I42: =ROUND((3.08+1.89+3.78+2.1+5.67)/100,9) -> 0.1652 | J42: 0 | O42: =ROUND(CP42,2) -> 178.84 | P42: =ROUND(CQ42*I42,2) -> 0 | Q42: =ROUND(CR42*I42,2) -> 39.97 | R42: =ROUND(CS42*I42,2) -> 17.26 | S42: =ROUND(CT42*I42,2) -> 138.87 | T42: =ROUND(CU42*I42,2) -> 0 | U42: =CV42*I42 -> 17.165932 | V42: =CW42*I42 -> 1.278648 | W42: =ROUND(CX42*I42,2) -> 0 | X42: =ROUND(CY42,2) -> 154.57 | Y42: =ROUND(CZ42,2) -> 93.68 | AA42: 27737227 | AB42: =ROUND((AC42+AD42+AF42),2) -> 1082.58 | AC42: =ROUND((ES42),2) -> 0 | AD42: =ROUND((((ET42)-(EU42))+AE42),2) -> 241.95 | AE42: =ROUND((EU42),2) -> 104.49 | AF42: =ROUND((EV42),2) -> 840.63 | AG42: =ROUND((AP42),2) -> 0 | AH42: =(EW42) -> 103.91 | AI42: =(EX42) -> 7.74 | AJ42: =ROUND((AS42),2) -> 0 | AK42: 1082.58 | AL42: 0 | AM42: 241.95 | AN42: 104.49 | AO42: 840.63 | AP42: 0 | AQ42: 103.91 | AR42: 7.74 | AS42: 0 | AT42: 99 | AU42: 60 | AV42: 1 | AW42: 1 | AZ42: 1 | BA42: 1 | BB42: 1 | BC42: 1 | BH42: 0 | BI42: 1 | BJ42: ФЕР-2001, 46-04-012-03, приказ Минстроя России №1039/пр от 30.12.2016г. | BM42: 46001 | BN42: 0 | BP42: 0 | BQ42: 2 | BR42: 0 | BS42: 1 | BT42: 1 | BU42: 1 | BV42: 1 | BW42: 1 | BX42: 1 | BZ42: 110 | CA42: 70 | CF42: 0 | CG42: 0 | CM42: 0 | CO42: 0 | CP42: =(P42+Q42+S42) -> 178.84 | CQ42: =AC42*BC42 -> 0 | CR42: =AD42*BB42 -> 241.95 | CS42: =AE42*BS42 -> 104.49 | CT42: =AF42*BA42 -> 840.63 | CU42: =AG42 -> 0 | CV42: =AH42 -> 103.91 | CW42: =AI42 -> 7.74 | CX42: =AJ42 -> 0 | CY42: =(((S42+R42)*AT42)/100) -> 154.5687 | CZ42: =(((S42+R42)*AU42)/100) -> 93.678 | DN42: 0 | DO42: 0 | DP42: 1 | DQ42: 1 | DU42: 1005 | DV42: 100 м2 | DW42: 100 м2 | DX42: 100 | EE42: 27029091 | EF42: 2 | EG42: Общестроительные работы | EH42: 0 | EJ42: 1 | EK42: 46001 | EL42: Реконструкция зданий и сооружений | EM42: ФЕР-46 | EQ42: 0 | ER42: 1082.58 | ES42: 0 | ET42: 241.95 | EU42: 104.49 | EV42: 840.63 | EW42: 103.91 | EX42: 7.74 | EY42: 0 | FQ42: 0 | FR42: =ROUND(IF(AND(BH42=3,BI42=3),P42,0),2) -> 0 | FS42: 0 | FT42: *0,9 | FU42: *0,85 | FX42: 99 | FY42: 59.5 | GD42: 0 | GF42: 309229644 | GG42: 2 | GH42: 1 | GI42: -2 | GJ42: 0 | GK42: =ROUND(R42*(R12)/100,2) -> 0 | GL42: =ROUND(IF(AND(BH42=3,BI42=3,FS42<>0),P42,0),2) -> 0 | GM42: =ROUND(O42+X42+Y42+GK42,2)+GX42 -> 427.09 | GN42: =IF(OR(BI42=0,BI42=1),ROUND(O42+X42+Y42+GK42,2),0) -> 427.09 | GO42: =IF(BI42=2,ROUND(O42+X42+Y42+GK42,2),0) -> 0 | GP42: =IF(BI42=4,ROUND(O42+X42+Y42+GK42,2)+GX42,0) -> 0 | GR42: 0 | GS42: 3 | GT42: 0 | GV42: =ROUND(GT42,2) -> 0 | GW42: 1 | GX42: =ROUND(GV42*GW42*I42,2) -> 0 | HA42: 0 | HB42: 0 | IK42: 0
A43: 17 | B43: 1 | C43: =ROW(SmtRes!A26) -> 26 | D43: =ROW(EtalonRes!A26) -> 26 | E43: 4 | F43: 46-04-012-03 | G43: Разборка деревянных заполнений проемов дверных и воротных | H43: 100 м2 | I43: =ROUND((3.08+1.89+3.78+2.1+5.67)/100,9) -> 0.1652 | J43: 0 | O43: =ROUND(CP43,2) -> 1167.84 | P43: =ROUND(CQ43*I43,2) -> 0 | Q43: =ROUND(CR43*I43,2) -> 261.01 | R43: =ROUND(CS43*I43,2) -> 112.72 | S43: =ROUND(CT43*I43,2) -> 906.83 | T43: =ROUND(CU43*I43,2) -> 0 | U43: =CV43*I43 -> 17.165932 | V43: =CW43*I43 -> 1.278648 | W43: =ROUND(CX43*I43,2) -> 0 | X43: =ROUND(CY43,2) -> 1009.35 | Y43: =ROUND(CZ43,2) -> 611.73 | AA43: 27737228 | AB43: =ROUND((AC43+AD43+AF43),2) -> 1082.58 | AC43: =ROUND((ES43),2) -> 0 | AD43: =ROUND((((ET43)-(EU43))+AE43),2) -> 241.95 | AE43: =ROUND((EU43),2) -> 104.49 | AF43: =ROUND((EV43),2) -> 840.63 | AG43: =ROUND((AP43),2) -> 0 | AH43: =(EW43) -> 103.91 | AI43: =(EX43) -> 7.74 | AJ43: =ROUND((AS43),2) -> 0 | AK43: 1082.58 | AL43: 0 | AM43: 241.95 | AN43: 104.49 | AO43: 840.63 | AP43: 0 | AQ43: 103.91 | AR43: 7.74 | AS43: 0 | AT43: 99 | AU43: 60 | AV43: 1 | AW43: 1 | AZ43: 6.53 | BA43: 6.53 | BB43: 6.53 | BC43: 6.53 | BH43: 0 | BI43: 1 | BJ43: ФЕР-2001, 46-04-012-03, приказ Минстроя России №1039/пр от 30.12.2016г. | BM43: 46001 | BN43: 0 | BP43: 0 | BQ43: 2 | BR43: 0 | BS43: 6.53 | BT43: 1 | BU43: 1 | BV43: 1 | BW43: 1 | BX43: 1 | BZ43: 110 | CA43: 70 | CF43: 0 | CG43: 0 | CM43: 0 | CO43: 0 | CP43: =(P43+Q43+S43) -> 1167.84 | CQ43: =AC43*BC43 -> 0 | CR43: =AD43*BB43 -> 1579.9335 | CS43: =AE43*BS43 -> 682.3197 | CT43: =AF43*BA43 -> 5489.3139 | CU43: =AG43 -> 0 | CV43: =AH43 -> 103.91 | CW43: =AI43 -> 7.74 | CX43: =AJ43 -> 0 | CY43: =(((S43+R43)*AT43)/100) -> 1009.3545 | CZ43: =(((S43+R43)*AU43)/100) -> 611.73 | DN43: 0 | DO43: 0 | DP43: 1 | DQ43: 1 | DU43: 1005 | DV43: 100 м2 | DW43: 100 м2 | DX43: 100 | EE43: 27029091 | EF43: 2 | EG43: Общестроительные работы | EH43: 0 | EJ43: 1 | EK43: 46001 | EL43: Реконструкция зданий и сооружений | EM43: ФЕР-46 | EQ43: 0 | ER43: 1082.58 | ES43: 0 | ET43: 241.95 | EU43: 104.49 | EV43: 840.63 | EW43: 103.91 | EX43: 7.74 | EY43: 0 | FQ43: 0 | FR43: =ROUND(IF(AND(BH43=3,BI43=3),P43,0),2) -> 0 | FS43: 0 | FT43: *0,9 | FU43: *0,85 | FX43: 99 | FY43: 59.5 | GD43: 0 | GF43: 309229644 | GG43: 1 | GH43: 1 | GI43: 4 | GJ43: 0 | GK43: =ROUND(R43*(S12)/100,2) -> 0 | GL43: =ROUND(IF(AND(BH43=3,BI43=3,FS43<>0),P43,0),2) -> 0 | GM43: =ROUND(O43+X43+Y43+GK43,2)+GX43 -> 2788.92 | GN43: =IF(OR(BI43=0,BI43=1),ROUND(O43+X43+Y43+GK43,2),0) -> 2788.92 | GO43: =IF(BI43=2,ROUND(O43+X43+Y43+GK43,2),0) -> 0 | GP43: =IF(BI43=4,ROUND(O43+X43+Y43+GK43,2)+GX43,0) -> 0 | GR43: 0 | GS43: 3 | GT43: 0 | GV43: =ROUND(GT43,2) -> 0 | GW43: 1 | GX43: =ROUND(GV43*GW43*I43,2) -> 0 | HA43: 0 | HB43: 0 | IK43: 0
A44: 17 | B44: 1 | C44: =ROW(SmtRes!A33) -> 33 | D44: =ROW(EtalonRes!A35) -> 35 | E44: 5 | F44: 09-04-012-01 | G44: Демонтаж металлических дверных блоков в готовые проемы | H44: м2 | I44: =ROUND((4.56*3)+6.72+2.1,9) -> 22.5 | J44: 0 | O44: =ROUND(CP44,2) -> 602.11 | P44: =ROUND(CQ44*I44,2) -> 0 | Q44: =ROUND(CR44*I44,2) -> 227.03 | R44: =ROUND(CS44*I44,2) -> 31.05 | S44: =ROUND(CT44*I44,2) -> 375.08 | T44: =ROUND(CU44*I44,2) -> 0 | U44: =CV44*I44 -> 37.8 | V44: =CW44*I44 -> 2.6775 | W44: =ROUND(CX44*I44,2) -> 0 | X44: =ROUND(CY44,2) -> 328.97 | Y44: =ROUND(CZ44,2) -> 292.41 | AA44: 27737227 | AB44: =ROUND((AC44+AD44+AF44),2) -> 26.76 | AC44: =ROUND(((ES44*0)),2) -> 0 | AD44: =ROUND(((((ET44*0.7))-((EU44*0.7)))+AE44),2) -> 10.09 | AE44: =ROUND(((EU44*0.7)),2) -> 1.38 | AF44: =ROUND(((EV44*0.7)),2) -> 16.67 | AG44: =ROUND((AP44),2) -> 0 | AH44: =((EW44*0.7)) -> 1.68 | AI44: =((EX44*0.7)) -> 0.119 | AJ44: =ROUND((AS44),2) -> 0 | AK44: 63.94 | AL44: 25.72 | AM44: 14.41 | AN44: 1.97 | AO44: 23.81 | AP44: 0 | AQ44: 2.4 | AR44: 0.17 | AS44: 0 | AT44: 81 | AU44: 72 | AV44: 1 | AW44: 1 | AZ44: 1 | BA44: 1 | BB44: 1 | BC44: 1 | BH44: 0 | BI44: 1 | BJ44: ФЕР-2001, 09-04-012-01, приказ Минстроя России №1039/пр от 30.12.2016г. | BM44: 9001 | BN44: 0 | BP44: 0 | BQ44: 2 | BR44: 0 | BS44: 1 | BT44: 1 | BU44: 1 | BV44: 1 | BW44: 1 | BX44: 1 | BZ44: 90 | CA44: 85 | CF44: 0 | CG44: 0 | CM44: 0 | CN44: Поправка: МДС 81-36.2004, п.3.3.1.д Наименование: При демонтаже металлических конструкций | CO44: 0 | CP44: =(P44+Q44+S44) -> 602.11 | CQ44: =AC44*BC44 -> 0 | CR44: =AD44*BB44 -> 10.09 | CS44: =AE44*BS44 -> 1.38 | CT44: =AF44*BA44 -> 16.67 | CU44: =AG44 -> 0 | CV44: =AH44 -> 1.68 | CW44: =AI44 -> 0.119 | CX44: =AJ44 -> 0 | CY44: =(((S44+R44)*AT44)/100) -> 328.9653 | CZ44: =(((S44+R44)*AU44)/100) -> 292.4136 | DD44: )*0 | DE44: )*0,7 | DF44: )*0,7 | DG44: )*0,7 | DI44: )*0,7 | DJ44: )*0,7 | DN44: 0 | DO44: 0 | DP44: 1 | DQ44: 1 | DU44: 1005 | DV44: м2 | DW44: м2 | DX44: 1 | EE44: 27029022 | EF44: 2 | EG44: Общестроительные работы | EH44: 0 | EJ44: 1 | EK44: 9001 | EL44: Металлические конструкции | EM44: ФЕР-09 | EO44: Поправка: МДС 81-36.2004, п.3.3.1.д | EQ44: 0 | ER44: 63.94 | ES44: 25.72 | ET44: 14.41 | EU44: 1.97 | EV44: 23.81 | EW44: 2.4 | EX44: 0.17 | EY44: 0 | FQ44: 0 | FR44: =ROUND(IF(AND(BH44=3,BI44=3),P44,0),2) -> 0 | FS44: 0 | FT44: *0,9 | FU44: *0,85 | FX44: 81 | FY44: 72.25 | GD44: 0 | GF44: 574798821 | GG44: 2 | GH44: 1 | GI44: -2 | GJ44: 0 | GK44: =ROUND(R44*(R12)/100,2) -> 0 | GL44: =ROUND(IF(AND(BH44=3,BI44=3,FS44<>0),P44,0),2) -> 0 | GM44: =ROUND(O44+X44+Y44+GK44,2)+GX44 -> 1223.49 | GN44: =IF(OR(BI44=0,BI44=1),ROUND(O44+X44+Y44+GK44,2),0) -> 1223.49 | GO44: =IF(BI44=2,ROUND(O44+X44+Y44+GK44,2),0) -> 0 | GP44: =IF(BI44=4,ROUND(O44+X44+Y44+GK44,2)+GX44,0) -> 0 | GR44: 0 | GS44: 3 | GT44: 0 | GV44: =ROUND(GT44,2) -> 0 | GW44: 1 | GX44: =ROUND(GV44*GW44*I44,2) -> 0 | HA44: 0 | HB44: 0 | IK44: 0
A45: 17 | B45: 1 | C45: =ROW(SmtRes!A40) -> 40 | D45: =ROW(EtalonRes!A44) -> 44 | E45: 5 | F45: 09-04-012-01 | G45: Демонтаж металлических дверных блоков в готовые проемы | H45: м2 | I45: =ROUND((4.56*3)+6.72+2.1,9) -> 22.5 | J45: 0 | O45: =ROUND(CP45,2) -> 3931.71 | P45: =ROUND(CQ45*I45,2) -> 0 | Q45: =ROUND(CR45*I45,2) -> 1482.47 | R45: =ROUND(CS45*I45,2) -> 202.76 | S45: =ROUND(CT45*I45,2) -> 2449.24 | T45: =ROUND(CU45*I45,2) -> 0 | U45: =CV45*I45 -> 37.8 | V45: =CW45*I45 -> 2.6775 | W45: =ROUND(CX45*I45,2) -> 0 | X45: =ROUND(CY45,2) -> 2148.12 | Y45: =ROUND(CZ45,2) -> 1909.44 | AA45: 27737228 | AB45: =ROUND((AC45+AD45+AF45),2) -> 26.76 | AC45: =ROUND(((ES45*0)),2) -> 0 | AD45: =ROUND(((((ET45*0.7))-((EU45*0.7)))+AE45),2) -> 10.09 | AE45: =ROUND(((EU45*0.7)),2) -> 1.38 | AF45: =ROUND(((EV45*0.7)),2) -> 16.67 | AG45: =ROUND((AP45),2) -> 0 | AH45: =((EW45*0.7)) -> 1.68 | AI45: =((EX45*0.7)) -> 0.119 | AJ45: =ROUND((AS45),2) -> 0 | AK45: 63.94 | AL45: 25.72 | AM45: 14.41 | AN45: 1.97 | AO45: 23.81 | AP45: 0 | AQ45: 2.4 | AR45: 0.17 | AS45: 0 | AT45: 81 | AU45: 72 | AV45: 1 | AW45: 1 | AZ45: 6.53 | BA45: 6.53 | BB45: 6.53 | BC45: 6.53 | BH45: 0 | BI45: 1 | BJ45: ФЕР-2001, 09-04-012-01, приказ Минстроя России №1039/пр от 30.12.2016г. | BM45: 9001 | BN45: 0 | BP45: 0 | BQ45: 2 | BR45: 0 | BS45: 6.53 | BT45: 1 | BU45: 1 | BV45: 1 | BW45: 1 | BX45: 1 | BZ45: 90 | CA45: 85 | CF45: 0 | CG45: 0 | CM45: 0 | CN45: Поправка: МДС 81-36.2004, п.3.3.1.д Наименование: При демонтаже металлических конструкций | CO45: 0 | CP45: =(P45+Q45+S45) -> 3931.71 | CQ45: =AC45*BC45 -> 0 | CR45: =AD45*BB45 -> 65.8877 | CS45: =AE45*BS45 -> 9.0114 | CT45: =AF45*BA45 -> 108.8551 | CU45: =AG45 -> 0 | CV45: =AH45 -> 1.68 | CW45: =AI45 -> 0.119 | CX45: =AJ45 -> 0 | CY45: =(((S45+R45)*AT45)/100) -> 2148.12 | CZ45: =(((S45+R45)*AU45)/100) -> 1909.44 | DD45: )*0 | DE45: )*0,7 | DF45: )*0,7 | DG45: )*0,7 | DI45: )*0,7 | DJ45: )*0,7 | DN45: 0 | DO45: 0 | DP45: 1 | DQ45: 1 | DU45: 1005 | DV45: м2 | DW45: м2 | DX45: 1 | EE45: 27029022 | EF45: 2 | EG45: Общестроительные работы | EH45: 0 | EJ45: 1 | EK45: 9001 | EL45: Металлические конструкции | EM45: ФЕР-09 | EO45: Поправка: МДС 81-36.2004, п.3.3.1.д | EQ45: 0 | ER45: 63.94 | ES45: 25.72 | ET45: 14.41 | EU45: 1.97 | EV45: 23.81 | EW45: 2.4 | EX45: 0.17 | EY45: 0 | FQ45: 0 | FR45: =ROUND(IF(AND(BH45=3,BI45=3),P45,0),2) -> 0 | FS45: 0 | FT45: *0,9 | FU45: *0,85 | FX45: 81 | FY45: 72.25 | GD45: 0 | GF45: 574798821 | GG45: 1 | GH45: 1 | GI45: 4 | GJ45: 0 | GK45: =ROUND(R45*(S12)/100,2) -> 0 | GL45: =ROUND(IF(AND(BH45=3,BI45=3,FS45<>0),P45,0),2) -> 0 | GM45: =ROUND(O45+X45+Y45+GK45,2)+GX45 -> 7989.27 | GN45: =IF(OR(BI45=0,BI45=1),ROUND(O45+X45+Y45+GK45,2),0) -> 7989.27 | GO45: =IF(BI45=2,ROUND(O45+X45+Y45+GK45,2),0) -> 0 | GP45: =IF(BI45=4,ROUND(O45+X45+Y45+GK45,2)+GX45,0) -> 0 | GR45: 0 | GS45: 3 | GT45: 0 | GV45: =ROUND(GT45,2) -> 0 | GW45: 1 | GX45: =ROUND(GV45*GW45*I45,2) -> 0 | HA45: 0 | HB45: 0 | IK45: 0
A46: 17 | B46: 1 | C46: =ROW(SmtRes!A45) -> 45 | D46: =ROW(EtalonRes!A49) -> 49 | E46: 6 | F46: 63-7-5 | G46: Разборка облицовки стен из керамических глазурованных плиток | H46: 100 м2 | I46: =ROUND(10.8/100,9) -> 0.108 | J46: 0 | O46: =ROUND(CP46,2) -> 70.63 | P46: =ROUND(CQ46*I46,2) -> 0 | Q46: =ROUND(CR46*I46,2) -> 7.48 | R46: =ROUND(CS46*I46,2) -> 0.51 | S46: =ROUND(CT46*I46,2) -> 63.15 | T46: =ROUND(CU46*I46,2) -> 0 | U46: =CV46*I46 -> 8.0244 | V46: =CW46*I46 -> 0.0378 | W46: =ROUND(CX46*I46,2) -> 0 | X46: =ROUND(CY46,2) -> 49.02 | Y46: =ROUND(CZ46,2) -> 31.83 | AA46: 27737227 | AB46: =ROUND((AC46+AD46+AF46),2) -> 654 | AC46: =ROUND((ES46),2) -> 0 | AD46: =ROUND((((ET46)-(EU46))+AE46),2) -> 69.26 | AE46: =ROUND((EU46),2) -> 4.73 | AF46: =ROUND((EV46),2) -> 584.74 | AG46: =ROUND((AP46),2) -> 0 | AH46: =(EW46) -> 74.3 | AI46: =(EX46) -> 0.35 | AJ46: =ROUND((AS46),2) -> 0 | AK46: 654 | AL46: 0 | AM46: 69.26 | AN46: 4.73 | AO46: 584.74 | AP46: 0 | AQ46: 74.3 | AR46: 0.35 | AS46: 0 | AT46: 77 | AU46: 50 | AV46: 1 | AW46: 1 | AZ46: 1 | BA46: 1 | BB46: 1 | BC46: 1 | BH46: 0 | BI46: 1 | BJ46: ФЕРр-2001, 63-7-5, приказ Минстроя России №1039/пр от 30.12.2016г. | BM46: 63001 | BN46: 0 | BP46: 0 | BQ46: 6 | BR46: 0 | BS46: 1 | BT46: 1 | BU46: 1 | BV46: 1 | BW46: 1 | BX46: 1 | BZ46: 77 | CA46: 50 | CF46: 0 | CG46: 0 | CM46: 0 | CO46: 0 | CP46: =(P46+Q46+S46) -> 70.63 | CQ46: =AC46*BC46 -> 0 | CR46: =AD46*BB46 -> 69.26 | CS46: =AE46*BS46 -> 4.73 | CT46: =AF46*BA46 -> 584.74 | CU46: =AG46 -> 0 | CV46: =AH46 -> 74.3 | CW46: =AI46 -> 0.35 | CX46: =AJ46 -> 0 | CY46: =(((S46+R46)*AT46)/100) -> 49.0182 | CZ46: =(((S46+R46)*AU46)/100) -> 31.83 | DN46: 0 | DO46: 0 | DP46: 1 | DQ46: 1 | DU46: 1005 | DV46: 100 м2 | DW46: 100 м2 | DX46: 100 | EE46: 27029108 | EF46: 6 | EG46: Ремонтно-строительные работы | EH46: 0 | EJ46: 1 | EK46: 63001 | EL46: Стекольные, обойные, облицовочные работы | EM46: рФЕР-63 | EQ46: 0 | ER46: 654 | ES46: 0 | ET46: 69.26 | EU46: 4.73 | EV46: 584.74 | EW46: 74.3 | EX46: 0.35 | EY46: 0 | FQ46: 0 | FR46: =ROUND(IF(AND(BH46=3,BI46=3),P46,0),2) -> 0 | FS46: 0 | FX46: 77 | FY46: 50 | GD46: 0 | GF46: 1410032296 | GG46: 2 | GH46: 1 | GI46: -2 | GJ46: 0 | GK46: =ROUND(R46*(R12)/100,2) -> 0 | GL46: =ROUND(IF(AND(BH46=3,BI46=3,FS46<>0),P46,0),2) -> 0 | GM46: =ROUND(O46+X46+Y46+GK46,2)+GX46 -> 151.48 | GN46: =IF(OR(BI46=0,BI46=1),ROUND(O46+X46+Y46+GK46,2),0) -> 151.48 | GO46: =IF(BI46=2,ROUND(O46+X46+Y46+GK46,2),0) -> 0 | GP46: =IF(BI46=4,ROUND(O46+X46+Y46+GK46,2)+GX46,0) -> 0 | GR46: 0 | GS46: 3 | GT46: 0 | GV46: =ROUND(GT46,2) -> 0 | GW46: 1 | GX46: =ROUND(GV46*GW46*I46,2) -> 0 | HA46: 0 | HB46: 0 | IK46: 0
A47: 17 | B47: 1 | C47: =ROW(SmtRes!A50) -> 50 | D47: =ROW(EtalonRes!A54) -> 54 | E47: 6 | F47: 63-7-5 | G47: Разборка облицовки стен из керамических глазурованных плиток | H47: 100 м2 | I47: =ROUND(10.8/100,9) -> 0.108 | J47: 0 | O47: =ROUND(CP47,2) -> 461.22 | P47: =ROUND(CQ47*I47,2) -> 0 | Q47: =ROUND(CR47*I47,2) -> 48.84 | R47: =ROUND(CS47*I47,2) -> 3.34 | S47: =ROUND(CT47*I47,2) -> 412.38 | T47: =ROUND(CU47*I47,2) -> 0 | U47: =CV47*I47 -> 8.0244 | V47: =CW47*I47 -> 0.0378 | W47: =ROUND(CX47*I47,2) -> 0 | X47: =ROUND(CY47,2) -> 320.1 | Y47: =ROUND(CZ47,2) -> 207.86 | AA47: 27737228 | AB47: =ROUND((AC47+AD47+AF47),2) -> 654 | AC47: =ROUND((ES47),2) -> 0 | AD47: =ROUND((((ET47)-(EU47))+AE47),2) -> 69.26 | AE47: =ROUND((EU47),2) -> 4.73 | AF47: =ROUND((EV47),2) -> 584.74 | AG47: =ROUND((AP47),2) -> 0 | AH47: =(EW47) -> 74.3 | AI47: =(EX47) -> 0.35 | AJ47: =ROUND((AS47),2) -> 0 | AK47: 654 | AL47: 0 | AM47: 69.26 | AN47: 4.73 | AO47: 584.74 | AP47: 0 | AQ47: 74.3 | AR47: 0.35 | AS47: 0 | AT47: 77 | AU47: 50 | AV47: 1 | AW47: 1 | AZ47: 6.53 | BA47: 6.53 | BB47: 6.53 | BC47: 6.53 | BH47: 0 | BI47: 1 | BJ47: ФЕРр-2001, 63-7-5, приказ Минстроя России №1039/пр от 30.12.2016г. | BM47: 63001 | BN47: 0 | BP47: 0 | BQ47: 6 | BR47: 0 | BS47: 6.53 | BT47: 1 | BU47: 1 | BV47: 1 | BW47: 1 | BX47: 1 | BZ47: 77 | CA47: 50 | CF47: 0 | CG47: 0 | CM47: 0 | CO47: 0 | CP47: =(P47+Q47+S47) -> 461.22 | CQ47: =AC47*BC47 -> 0 | CR47: =AD47*BB47 -> 452.2678 | CS47: =AE47*BS47 -> 30.8869 | CT47: =AF47*BA47 -> 3818.3522 | CU47: =AG47 -> 0 | CV47: =AH47 -> 74.3 | CW47: =AI47 -> 0.35 | CX47: =AJ47 -> 0 | CY47: =(((S47+R47)*AT47)/100) -> 320.1044 | CZ47: =(((S47+R47)*AU47)/100) -> 207.86 | DN47: 0 | DO47: 0 | DP47: 1 | DQ47: 1 | DU47: 1005 | DV47: 100 м2 | DW47: 100 м2 | DX47: 100 | EE47: 27029108 | EF47: 6 | EG47: Ремонтно-строительные работы | EH47: 0 | EJ47: 1 | EK47: 63001 | EL47: Стекольные, обойные, облицовочные работы | EM47: рФЕР-63 | EQ47: 0 | ER47: 654 | ES47: 0 | ET47: 69.26 | EU47: 4.73 | EV47: 584.74 | EW47: 74.3 | EX47: 0.35 | EY47: 0 | FQ47: 0 | FR47: =ROUND(IF(AND(BH47=3,BI47=3),P47,0),2) -> 0 | FS47: 0 | FX47: 77 | FY47: 50 | GD47: 0 | GF47: 1410032296 | GG47: 1 | GH47: 1 | GI47: 4 | GJ47: 0 | GK47: =ROUND(R47*(S12)/100,2) -> 0 | GL47: =ROUND(IF(AND(BH47=3,BI47=3,FS47<>0),P47,0),2) -> 0 | GM47: =ROUND(O47+X47+Y47+GK47,2)+GX47 -> 989.18 | GN47: =IF(OR(BI47=0,BI47=1),ROUND(O47+X47+Y47+GK47,2),0) -> 989.18 | GO47: =IF(BI47=2,ROUND(O47+X47+Y47+GK47,2),0) -> 0 | GP47: =IF(BI47=4,ROUND(O47+X47+Y47+GK47,2)+GX47,0) -> 0 | GR47: 0 | GS47: 3 | GT47: 0 | GV47: =ROUND(GT47,2) -> 0 | GW47: 1 | GX47: =ROUND(GV47*GW47*I47,2) -> 0 | HA47: 0 | HB47: 0 | IK47: 0
A48: 17 | B48: 1 | C48: =ROW(SmtRes!A53) -> 53 | D48: =ROW(EtalonRes!A57) -> 57 | E48: 7 | F48: 65-30-7 | G48: Разборка воздуховодов из листовой стали толщиной 1-2 мм диаметром/периметром до 320 мм /1000 мм | H48: 100 м2 | I48: =ROUND(8.48/100,9) -> 0.0848 | J48: 0 | O48: =ROUND(CP48,2) -> 36.78 | P48: =ROUND(CQ48*I48,2) -> 0 | Q48: =ROUND(CR48*I48,2) -> 1.99 | R48: =ROUND(CS48*I48,2) -> 0.86 | S48: =ROUND(CT48*I48,2) -> 34.79 | T48: =ROUND(CU48*I48,2) -> 0 | U48: =CV48*I48 -> 4.07888 | V48: =CW48*I48 -> 0.0636 | W48: =ROUND(CX48*I48,2) -> 0 | X48: =ROUND(CY48,2) -> 26.38 | Y48: =ROUND(CZ48,2) -> 17.83 | AA48: 27737227 | AB48: =ROUND((AC48+AD48+AF48),2) -> 433.74 | AC48: =ROUND((ES48),2) -> 0 | AD48: =ROUND((((ET48)-(EU48))+AE48),2) -> 23.45 | AE48: =ROUND((EU48),2) -> 10.13 | AF48: =ROUND((EV48),2) -> 410.29 | AG48: =ROUND((AP48),2) -> 0 | AH48: =(EW48) -> 48.1 | AI48: =(EX48) -> 0.75 | AJ48: =ROUND((AS48),2) -> 0 | AK48: 433.74 | AL48: 0 | AM48: 23.45 | AN48: 10.13 | AO48: 410.29 | AP48: 0 | AQ48: 48.1 | AR48: 0.75 | AS48: 0 | AT48: 74 | AU48: 50 | AV48: 1 | AW48: 1 | AZ48: 1 | BA48: 1 | BB48: 1 | BC48: 1 | BH48: 0 | BI48: 1 | BJ48: ФЕРр-2001, 65-30-7, приказ Минстроя России №1039/пр от 30.12.2016г. | BM48: 65005 | BN48: 0 | BP48: 0 | BQ48: 6 | BR48: 0 | BS48: 1 | BT48: 1 | BU48: 1 | BV48: 1 | BW48: 1 | BX48: 1 | BZ48: 74 | CA48: 50 | CF48: 0 | CG48: 0 | CM48: 0 | CO48: 0 | CP48: =(P48+Q48+S48) -> 36.78 | CQ48: =AC48*BC48 -> 0 | CR48: =AD48*BB48 -> 23.45 | CS48: =AE48*BS48 -> 10.13 | CT48: =AF48*BA48 -> 410.29 | CU48: =AG48 -> 0 | CV48: =AH48 -> 48.1 | CW48: =AI48 -> 0.75 | CX48: =AJ48 -> 0 | CY48: =(((S48+R48)*AT48)/100) -> 26.381 | CZ48: =(((S48+R48)*AU48)/100) -> 17.825 | DN48: 0 | DO48: 0 | DP48: 1 | DQ48: 1 | DU48: 1005 | DV48: 100 м2 | DW48: 100 м2 | DX48: 100 | EE48: 27029120 | EF48: 6 | EG48: Ремонтно-строительные работы | EH48: 0 | EJ48: 1 | EK48: 65005 | EL48: Внтуренниие с/техработы: демонтаж, разборка, промывка | EM48: рФЕР-65 | EQ48: 0 | ER48: 433.74 | ES48: 0 | ET48: 23.45 | EU48: 10.13 | EV48: 410.29 | EW48: 48.1 | EX48: 0.75 | EY48: 0 | FQ48: 0 | FR48: =ROUND(IF(AND(BH48=3,BI48=3),P48,0),2) -> 0 | FS48: 0 | FX48: 74 | FY48: 50 | GD48: 0 | GF48: -812239196 | GG48: 2 | GH48: 1 | GI48: -2 | GJ48: 0 | GK48: =ROUND(R48*(R12)/100,2) -> 0 | GL48: =ROUND(IF(AND(BH48=3,BI48=3,FS48<>0),P48,0),2) -> 0 | GM48: =ROUND(O48+X48+Y48+GK48,2)+GX48 -> 80.99 | GN48: =IF(OR(BI48=0,BI48=1),ROUND(O48+X48+Y48+GK48,2),0) -> 80.99 | GO48: =IF(BI48=2,ROUND(O48+X48+Y48+GK48,2),0) -> 0 | GP48: =IF(BI48=4,ROUND(O48+X48+Y48+GK48,2)+GX48,0) -> 0 | GR48: 0 | GS48: 3 | GT48: 0 | GV48: =ROUND(GT48,2) -> 0 | GW48: 1 | GX48: =ROUND(GV48*GW48*I48,2) -> 0 | HA48: 0 | HB48: 0 | IK48: 0
A49: 17 | B49: 1 | C49: =ROW(SmtRes!A56) -> 56 | D49: =ROW(EtalonRes!A60) -> 60 | E49: 7 | F49: 65-30-7 | G49: Разборка воздуховодов из листовой стали толщиной 1-2 мм диаметром/периметром до 320 мм /1000 мм | H49: 100 м2 | I49: =ROUND(8.48/100,9) -> 0.0848 | J49: 0 | O49: =ROUND(CP49,2) -> 240.19 | P49: =ROUND(CQ49*I49,2) -> 0 | Q49: =ROUND(CR49*I49,2) -> 12.99 | R49: =ROUND(CS49*I49,2) -> 5.61 | S49: =ROUND(CT49*I49,2) -> 227.2 | T49: =ROUND(CU49*I49,2) -> 0 | U49: =CV49*I49 -> 4.07888 | V49: =CW49*I49 -> 0.0636 | W49: =ROUND(CX49*I49,2) -> 0 | X49: =ROUND(CY49,2) -> 172.28 | Y49: =ROUND(CZ49,2) -> 116.41 | AA49: 27737228 | AB49: =ROUND((AC49+AD49+AF49),2) -> 433.74 | AC49: =ROUND((ES49),2) -> 0 | AD49: =ROUND((((ET49)-(EU49))+AE49),2) -> 23.45 | AE49: =ROUND((EU49),2) -> 10.13 | AF49: =ROUND((EV49),2) -> 410.29 | AG49: =ROUND((AP49),2) -> 0 | AH49: =(EW49) -> 48.1 | AI49: =(EX49) -> 0.75 | AJ49: =ROUND((AS49),2) -> 0 | AK49: 433.74 | AL49: 0 | AM49: 23.45 | AN49: 10.13 | AO49: 410.29 | AP49: 0 | AQ49: 48.1 | AR49: 0.75 | AS49: 0 | AT49: 74 | AU49: 50 | AV49: 1 | AW49: 1 | AZ49: 6.53 | BA49: 6.53 | BB49: 6.53 | BC49: 6.53 | BH49: 0 | BI49: 1 | BJ49: ФЕРр-2001, 65-30-7, приказ Минстроя России №1039/пр от 30.12.2016г. | BM49: 65005 | BN49: 0 | BP49: 0 | BQ49: 6 | BR49: 0 | BS49: 6.53 | BT49: 1 | BU49: 1 | BV49: 1 | BW49: 1 | BX49: 1 | BZ49: 74 | CA49: 50 | CF49: 0 | CG49: 0 | CM49: 0 | CO49: 0 | CP49: =(P49+Q49+S49) -> 240.19 | CQ49: =AC49*BC49 -> 0 | CR49: =AD49*BB49 -> 153.1285 | CS49: =AE49*BS49 -> 66.1489 | CT49: =AF49*BA49 -> 2679.1937 | CU49: =AG49 -> 0 | CV49: =AH49 -> 48.1 | CW49: =AI49 -> 0.75 | CX49: =AJ49 -> 0 | CY49: =(((S49+R49)*AT49)/100) -> 172.2794 | CZ49: =(((S49+R49)*AU49)/100) -> 116.405 | DN49: 0 | DO49: 0 | DP49: 1 | DQ49: 1 | DU49: 1005 | DV49: 100 м2 | DW49: 100 м2 | DX49: 100 | EE49: 27029120 | EF49: 6 | EG49: Ремонтно-строительные работы | EH49: 0 | EJ49: 1 | EK49: 65005 | EL49: Внтуренниие с/техработы: демонтаж, разборка, промывка | EM49: рФЕР-65 | EQ49: 0 | ER49: 433.74 | ES49: 0 | ET49: 23.45 | EU49: 10.13 | EV49: 410.29 | EW49: 48.1 | EX49: 0.75 | EY49: 0 | FQ49: 0 | FR49: =ROUND(IF(AND(BH49=3,BI49=3),P49,0),2) -> 0 | FS49: 0 | FX49: 74 | FY49: 50 | GD49: 0 | GF49: -812239196 | GG49: 1 | GH49: 1 | GI49: 4 | GJ49: 0 | GK49: =ROUND(R49*(S12)/100,2) -> 0 | GL49: =ROUND(IF(AND(BH49=3,BI49=3,FS49<>0),P49,0),2) -> 0 | GM49: =ROUND(O49+X49+Y49+GK49,2)+GX49 -> 528.88 | GN49: =IF(OR(BI49=0,BI49=1),ROUND(O49+X49+Y49+GK49,2),0) -> 528.88 | GO49: =IF(BI49=2,ROUND(O49+X49+Y49+GK49,2),0) -> 0 | GP49: =IF(BI49=4,ROUND(O49+X49+Y49+GK49,2)+GX49,0) -> 0 | GR49: 0 | GS49: 3 | GT49: 0 | GV49: =ROUND(GT49,2) -> 0 | GW49: 1 | GX49: =ROUND(GV49*GW49*I49,2) -> 0 | HA49: 0 | HB49: 0 | IK49: 0
