Workbook

Sheet стоимость
A1: Расчет стоимости помесячно (с 00.00 часов 01 января 2013 года по 24.00 часов 31 декабря 2013 года включительно):
A4: Месяц | B4: количество часов | D4: Итого, чел/час | E4: Ставка за 1 час услуги, руб. (*) | F4: Сумма, руб. (без НДС) | G4: Сумма, руб. ( с НДС)
B5: посты ЦСиП
B6: I пост (проходная, транспортные ворота) | C6: II пост (территория)
A7: янв | B7: ='кол-во часов'!C7 -> 744 | C7: =SUM('кол-во часов'!#REF!) -> #REF! | D7: =SUM(B7:C7) -> #REF! | E7: 64.65 | F7: =PRODUCT(D7:E7) -> #REF! | G7: =PRODUCT(F7,1.18) -> #REF!
A8: фев | B8: ='кол-во часов'!D7 -> 672 | C8: =SUM('кол-во часов'!#REF!) -> #REF! | D8: =SUM(B8:C8) -> #REF! | E8: 64.65 | F8: =PRODUCT(D8:E8) -> #REF! | G8: =PRODUCT(F8,1.18) -> #REF!
A9: мар | B9: ='кол-во часов'!E7 -> 744 | C9: =SUM('кол-во часов'!#REF!) -> #REF! | D9: =SUM(B9:C9) -> #REF! | E9: 64.65 | F9: =PRODUCT(D9:E9) -> #REF! | G9: =PRODUCT(F9,1.18) -> #REF!
A10: апр | B10: ='кол-во часов'!F7 -> 720 | C10: =SUM('кол-во часов'!#REF!) -> #REF! | D10: =SUM(B10:C10) -> #REF! | E10: 64.65 | F10: =PRODUCT(D10:E10) -> #REF! | G10: =PRODUCT(F10,1.18) -> #REF!
A11: май | B11: ='кол-во часов'!G7 -> 744 | C11: =SUM('кол-во часов'!#REF!) -> #REF! | D11: =SUM(B11:C11) -> #REF! | E11: 64.65 | F11: =PRODUCT(D11:E11) -> #REF! | G11: =PRODUCT(F11,1.18) -> #REF!
A12: июн | B12: ='кол-во часов'!H7 -> 720 | C12: =SUM('кол-во часов'!#REF!) -> #REF! | D12: =SUM(B12:C12) -> #REF! | E12: 64.65 | F12: =PRODUCT(D12:E12) -> #REF! | G12: =PRODUCT(F12,1.18) -> #REF!
A13: июл | B13: ='кол-во часов'!I7 -> 744 | C13: =SUM('кол-во часов'!#REF!) -> #REF! | D13: =SUM(B13:C13) -> #REF! | E13: 64.65 | F13: =PRODUCT(D13:E13) -> #REF! | G13: =PRODUCT(F13,1.18) -> #REF!
A14: авг | B14: ='кол-во часов'!J7 -> 744 | C14: =SUM('кол-во часов'!#REF!) -> #REF! | D14: =SUM(B14:C14) -> #REF! | E14: 64.65 | F14: =PRODUCT(D14:E14) -> #REF! | G14: =PRODUCT(F14,1.18) -> #REF!
A15: сен | B15: ='кол-во часов'!K7 -> 720 | C15: =SUM('кол-во часов'!#REF!) -> #REF! | D15: =SUM(B15:C15) -> #REF! | E15: 64.65 | F15: =PRODUCT(D15:E15) -> #REF! | G15: =PRODUCT(F15,1.18) -> #REF!
A16: окт | B16: ='кол-во часов'!L7 -> 744 | C16: =SUM('кол-во часов'!#REF!) -> #REF! | D16: =SUM(B16:C16) -> #REF! | E16: 64.65 | F16: =PRODUCT(D16:E16) -> #REF! | G16: =PRODUCT(F16,1.18) -> #REF!
A17: ноя | B17: ='кол-во часов'!M7 -> 720 | C17: =SUM('кол-во часов'!#REF!) -> #REF! | D17: =SUM(B17:C17) -> #REF! | E17: 64.65 | F17: =PRODUCT(D17:E17) -> #REF! | G17: =PRODUCT(F17,1.18) -> #REF!
A18: дек | B18: ='кол-во часов'!N7 -> 744 | C18: =SUM('кол-во часов'!#REF!) -> #REF! | D18: =SUM(B18:C18) -> #REF! | E18: 64.65 | F18: =PRODUCT(D18:E18) -> #REF! | G18: =PRODUCT(F18,1.18) -> #REF!
A19: ИТОГО | B19: =SUM(B7:B18) -> 8760 | C19: =SUM(C7:C18) -> #REF! | D19: =SUM(D7:D18) -> #REF! | F19: =SUM(F7:F18) -> #REF! | G19: =SUM(G7:G18) -> #REF!
A21: * Ставка за 1 час услуги рассчитана на основании договора № 1295 от 03.02.2012, где стоимость 1 чел\час услуги составила 60,65 руб. без НДС. В соответствии с т/ф ОГЭ по ВПЦ № 150 от 03.09.2012 примененен дефлятор 2013/2012 - 1,066.
A22: Произведен расчет стоимости 1 часа услуги в 2013 году: 60,65*1,066=64,65 руб. (без НДС)
A26: И.о.начальника ЦСиП | G26: А.Ю.Лутошкин
A28: Инженер по подготовке производства | G28: Е.А.Лежнина
A30: Дата составления предварительного расчета | G30: 41164

Sheet кол-во часов
A2: Расчет кол-ва чел/час помесячно (с 00.00 часов 01 января 2014 года по 24.00 часов 31 декабря 2014 года включительно):
A4: Кол-во постов | B4: Кол-во чел. | C4: Кол-во чел/час в месяц | O4: Всего чел/час
C5: янв | D5: фев | E5: мар | F5: апр | G5: май | H5: июн | I5: июл | J5: авг | K5: сен | L5: окт | M5: ноя | N5: дек
A6: ул.Восточная,2 - с/п "Юбилейный"
A7: 1 пост круглосуточно | B7: 1 | C7: 744 | D7: 672 | E7: 744 | F7: 720 | G7: 744 | H7: 720 | I7: 744 | J7: 744 | K7: 720 | L7: 744 | M7: 720 | N7: 744 | O7: =SUM(C7:N7) -> 8760
A8: ул. Енисейская,71 - б/о "Над Енисеем"
A9: 2 поста круглосуточно | B9: 2 | C9: =C7*2 -> 1488 | D9: =D7*2 -> 1344 | E9: =E7*2 -> 1488 | F9: =F7*2 -> 1440 | G9: =G7*2 -> 1488 | H9: =H7*2 -> 1440 | I9: =I7*2 -> 1488 | J9: =J7*2 -> 1488 | ... N9: =N7*2 -> 1488 | O9: =SUM(C9:N9) -> 17520
A10: ул. Парковая, 1 - с/к "Октябрь"
A11: 1 пост круглосуточно | B11: 1 | C11: 744 | D11: 672 | E11: 744 | F11: 720 | G11: 744 | H11: 720 | I11: 744 | J11: 744 | K11: 720 | L11: 744 | M11: 720 | N11: 744 | O11: =SUM(C11:N11) -> 8760
A12: Всего | B12: =SUM(B7:B11) -> 4 | C12: =SUM(C7:C11) -> 2976 | D12: =SUM(D7:D11) -> 2688 | E12: =SUM(E7:E11) -> 2976 | F12: =SUM(F7:F11) -> 2880 | G12: =SUM(G7:G11) -> 2976 | H12: =SUM(H7:H11) -> 2880 | I12: =SUM(I7:I11) -> 2976 | ... N12: =SUM(N7:N11) -> 2976 | O12: =SUM(C12:N12) -> 35040
A13: Итого чел/час на 2014 год | O13: =SUM(O7:O11) -> 35040
A18: И.о.директора с/п "Юбилейный" | E18: В.Г.Мерзляков
A21: Заместитель директора по АХЧ | E21: А.Н.Чернухин
