Workbook
Name Constr: '04-40703-0-0-АК.ЛС'!$A$1
Name FOT: '04-40703-0-0-АК.ЛС'!$B$19
Name Ind: '04-40703-0-0-АК.ЛС'!$C$9
Name Obj: '04-40703-0-0-АК.ЛС'!#REF!
Name Obosn: '04-40703-0-0-АК.ЛС'!$B$15
Name SmPr: '04-40703-0-0-АК.ЛС'!$B$16
Name аааааппппппрррппппппп: #REF!
Name аараооооооооооооо: #REF!
Name автом: #REF!
Name алшрльоплварл: #REF!
Name аолвлддддддддддддддддввввввввв: #REF!
Name апарв: #REF!
Name апрлдджаоырыфрпопрлпрлпрлп: #REF!
Name арлггаджаш: #REF!
Name ароррбллтблпроорапииас: #REF!
Name арррррблллпдрлдддддддддд: #REF!
Name варпаааааааааа: #REF!
Name ввпьььььлднд: #REF!
Name вед: #REF!
Name вертикальная: #REF!
Name вертикплан: #REF!
Name волен: #REF!
Name вп: #REF!
Name впырпфдыпл: #REF!
Name впьглорьтитттттттттт: #REF!
Name всввввввввввввввввввввввввв: #REF!
Name выб: #REF!
Name выпуск: #REF!
Name выьлепвввввпмп: #REF!
Name еваопродолжэрщэрзшщщх: #REF!
Name измен: #REF!
Name итого: #REF!
Name итого_сантех: #REF!
Name итого_стр: #REF!
Name итого_строит: #REF!
Name итого_технол: #REF!
Name итого_электр: #REF!
Name квота: #REF!
Name кккккккккк: #REF!
Name корек: #REF!
Name корект: #REF!
Name корректир: #REF!
Name лен: #REF!
Name лот: #REF!
Name мамиааааааааааааааааааааааааааааа: #REF!
Name ммпоослччччччччччрччапппппппппр: #REF!
Name мрол: #REF!
Name оз: #REF!
Name озелен: #REF!
Name озеленение: #REF!
Name озеленение2: #REF!
Name ОСР: #REF!
Name ОСР110: #REF!
Name ОСР111: #REF!
Name план: #REF!
Name планировка: #REF!
Name плдщхэж.юрббдлююбо: #REF!
Name площадки: #REF!
Name пос: #REF!
Name прав: #REF!

Sheet 04-40703-0-0-АК.ЛС
A1: СОГЛАСОВАНО: | J1: УТВЕРЖДАЮ:
A4: ________________ | J4: ________________
A5: " _____ " ________________ 2011 г. | J5: "______ " _______________2011 г.
E7: (наименование стройки)
D9: ЛОКАЛЬНЫЙ СМЕТНЫЙ РАСЧЕТ № 04-40703-0-0-АК.ЛС
D10: (локальная смета)
B12: на | C12: Автоматизация комплексная
E13: (наименование работ и затрат, наименование объекта)
C15: Основание: РД 04-40703-0-0-АК
C16: Сметная стоимость _______________________________________________________________________________________________ | E16: ___________________________418,834 | G16: тыс. руб.
C17: строительных работ _______________________________________________________________________________________________ | E17: _______________________________________________________________________________________________12,960 | G17: тыс. руб.
C18: монтажных работ _______________________________________________________________________________________________ | E18: _______________________________________________________________________________________________19,173 | G18: тыс. руб.
C19: оборудования _______________________________________________________________________________________________ | E19: _______________________________________________________________________________________________386,701 | G19: тыс. руб.
C20: Средства на оплату труда _______________________________________________________________________________________________ | E20: ___________________________4,119 | G20: тыс. руб.
C21: Сметная трудоемкость _______________________________________________________________________________________________ | E21: _______________________________________________________________________________________________238,08 | G21: чел.час
C22: Составлен(а) в текущих (прогнозных) ценах по состоянию на _______2011 г.
A25: № пп | B25: Обоснование | C25: Наименование | D25: Ед. изм. | E25: Кол. | F25: Стоимость единицы, руб. | J25: Общая стоимость, руб.
F26: Всего | G26: В том числе | J26: Всего | K26: В том числе
G27: Осн.З/п | H27: Эк.Маш. | I27: З/пМех | K27: Осн.З/п | L27: Эк.Маш. | M27: З/пМех
A28: 1 | B28: 2 | C28: 3 | D28: 4 | E28: 5 | F28: 6 | G28: 7 | H28: 8 | I28: 9 | J28: 10 | K28: 11 | L28: 12 | M28: 13
A29: Раздел 1. Приборы
B30: КП №75/749 от 14.10.2014 ОАО "Манотомь " лист 1 поз.1 | C30: Манометр показывающий сигнализирующий ДМ2010Сr-У2-4 кгс/кв.см КОЭФ. К ПОЗИЦИИ: приведение к базисному уровню цен на оборудование, мебель, инвентарь ПЗ=ПЗ/4,48-ПЗ; Расходы на комплектацию оборудования - согласно п.4.63 из МДС 81-35.2004 ПЗ=1% (ОЗП=1%; ЭМ=1%; МАТ=1%); Транспортные расходы - согласно п.4.60 из МДС 81-35.2004 ПЗ=3% (ОЗП=3%; ЭМ=3%; МАТ=3%); Заготовительно-складские расходы - согласно п.4.64 из МДС 81-35.2004 ПЗ=1,2% (ОЗП=1,2%; ЭМ=1,2%; МАТ=1,2%); МДС 81-35.2004 п.4.58._Стоимость тары и упаковки - для электрооборудования, КИПиА, инструмента ПЗ=1,015 (ОЗП=1,015; ЭМ=1,015; МАТ=1,015) | D30: шт | E30: 2 | F30: 238.51 | J30: 477
B31: ТЕРм11-02-022-01 Постан.Правит.Свердл.обл. от 10.11.10 №1616-ПП | C31: Ротаметр показывающий, диаметр условного прохода до 10 мм; счетчик, диаметр условного прохода до 40 мм, устанавливаемые на резьбовых (муфтовых) соединениях НР (34 руб.): 80% от ФОТ (42 руб.) СП (25 руб.): 60% от ФОТ (42 руб.) | D31: 1 шт. | E31: 2 | F31: 12.94 | G31: 12.69 | J31: 26 | K31: 25
B32: КП "Emersonprocess" лист 1 поз.2 | C32: Термопреобразователь с унифицированным выходным сигналом ТСПУ-Метран-276-03-120-0,5%-Н10...0100 КОЭФ. К ПОЗИЦИИ: приведение к базисному уровню цен на оборудование, мебель, инвентарь ПЗ=ПЗ/4,48-ПЗ; Расходы на комплектацию оборудования - согласно п.4.63 из МДС 81-35.2004 ПЗ=1% (ОЗП=1%; ЭМ=1%; МАТ=1%); Транспортные расходы - согласно п.4.60 из МДС 81-35.2004 ПЗ=3% (ОЗП=3%; ЭМ=3%; МАТ=3%); Заготовительно-складские расходы - согласно п.4.64 из МДС 81-35.2004 ПЗ=1,2% (ОЗП=1,2%; ЭМ=1,2%; МАТ=1,2%); МДС 81-35.2004 п.4.58._Стоимость тары и упаковки - для электрооборудования, КИПиА, инструмента ПЗ=1,015 (ОЗП=1,015; ЭМ=1,015; МАТ=1,015) | D32: шт | E32: 2 | F32: 789.51 | J32: 1579
B33: ТЕРм11-02-001-01 Постан.Правит.Свердл.обл. от 10.11.10 №1616-ПП | C33: Прибор, устанавливаемый на резьбовых соединениях, масса до 1,5 кг НР (39 руб.): 80% от ФОТ (49 руб.) СП (29 руб.): 60% от ФОТ (49 руб.) | D33: 1 шт. | E33: 2 | F33: 15.88 | G33: 14.39 | J33: 32 | K33: 29
B34: КП №944М от 15.10.2014 ООО "ГАЗ-КОМПЛЕКТ" лист 1 поз.3 | C34: Кондуктометрическая ячейка для измерения электропроводности ф.JUMO 202924/0010-0000-105-37-88-26/000 КОЭФ. К ПОЗИЦИИ: Итого без НДС ПЗ=ПЗ/1,18-ПЗ; приведение к базисному уровню цен на оборудование, мебель, инвентарь ПЗ=ПЗ/4,48-ПЗ; Расходы на комплектацию оборудования - согласно п.4.63 из МДС 81-35.2004 ПЗ=1% (ОЗП=1%; ЭМ=1%; МАТ=1%); Транспортные расходы - согласно п.4.60 из МДС 81-35.2004 ПЗ=3% (ОЗП=3%; ЭМ=3%; МАТ=3%); Заготовительно-складские расходы - согласно п.4.64 из МДС 81-35.2004 ПЗ=1,2% (ОЗП=1,2%; ЭМ=1,2%; МАТ=1,2%); МДС 81-35.2004 п.4.58._Стоимость тары и упаковки - для электрооборудования, КИПиА, инструмента ПЗ=1,015 (ОЗП=1,015; ЭМ=1,015; МАТ=1,015) | D34: шт | E34: 1 | F34: 440*49,95 | J34: 4443
B35: ТЕРм11-02-001-01 Постан.Правит.Свердл.обл. от 10.11.10 №1616-ПП | C35: Прибор, устанавливаемый на резьбовых соединениях, масса до 1,5 кг НР (19 руб.): 80% от ФОТ (24 руб.) СП (14 руб.): 60% от ФОТ (24 руб.) | D35: 1 шт. | E35: 1 | F35: 15.88 | G35: 14.39 | J35: 16 | K35: 14
B36: КП №944М от 15.10.2014 ООО "ГАЗ-КОМПЛЕКТ" лист 1 поз.4 | C36: Микропроцессорный регулятор электропроводности ф.JUMO 202540/00-000-000-23-00-000 КОЭФ. К ПОЗИЦИИ: Итого без НДС ПЗ=ПЗ/1,18-ПЗ; приведение к базисному уровню цен на оборудование, мебель, инвентарь ПЗ=ПЗ/4,48-ПЗ; Расходы на комплектацию оборудования - согласно п.4.63 из МДС 81-35.2004 ПЗ=1% (ОЗП=1%; ЭМ=1%; МАТ=1%); Транспортные расходы - согласно п.4.60 из МДС 81-35.2004 ПЗ=3% (ОЗП=3%; ЭМ=3%; МАТ=3%); Заготовительно-складские расходы - согласно п.4.64 из МДС 81-35.2004 ПЗ=1,2% (ОЗП=1,2%; ЭМ=1,2%; МАТ=1,2%); МДС 81-35.2004 п.4.58._Стоимость тары и упаковки - для электрооборудования, КИПиА, инструмента ПЗ=1,015 (ОЗП=1,015; ЭМ=1,015; МАТ=1,015) | D36: шт | E36: 1 | F36: 9087,06 900*49,95 | J36: 9087
B37: ТЕРм11-03-001-01 Постан.Правит.Свердл.обл. от 10.11.10 №1616-ПП | C37: Приборы, устанавливаемые на металлоконструкциях, щитах и пультах, масса до 5 кг НР (9 руб.): 80% от ФОТ (11 руб.) СП (7 руб.): 60% от ФОТ (11 руб.) | D37: 1 шт. | E37: 1 | F37: 8.41 | G37: 7.26 | J37: 8 | K37: 7
A38: Итого по разделу 1 Приборы | J38: 15896
A39: Раздел 2. Щиты и пульты
B40: КП №2014-5702 от 15.10.2014 " " лист1 поз.6 | C40: Шкаф ASD 04-40703-0-0-АК.ОЛ1 КОЭФ. К ПОЗИЦИИ: приведение к базисному уровню цен на оборудование, мебель, инвентарь ПЗ=ПЗ/4,48-ПЗ; Расходы на комплектацию оборудования - согласно п.4.63 из МДС 81-35.2004 ПЗ=1% (ОЗП=1%; ЭМ=1%; МАТ=1%); Транспортные расходы - согласно п.4.60 из МДС 81-35.2004 ПЗ=3% (ОЗП=3%; ЭМ=3%; МАТ=3%); Заготовительно-складские расходы - согласно п.4.64 из МДС 81-35.2004 ПЗ=1,2% (ОЗП=1,2%; ЭМ=1,2%; МАТ=1,2%); МДС 81-35.2004 п.4.58._Стоимость тары и упаковки - для электрооборудования, КИПиА, инструмента ПЗ=1,015 (ОЗП=1,015; ЭМ=1,015; МАТ=1,015) | D40: шт | E40: 1 | F40: 84508.09 | J40: 84508
B41: ТЕРм11-06-001-01 Постан.Правит.Свердл.обл. от 10.11.10 №1616-ПП | C41: Щиты и пульты, масса до 50 кг НР (87 руб.): 80% от ФОТ (109 руб.) СП (65 руб.): 60% от ФОТ (109 руб.) | D41: 1 шт. | E41: 1 | F41: 159.05 | G41: 64.27 | H41: 13.7 | I41: 0.73 | J41: 159 | K41: 64 | L41: 14 | M41: 1
B42: КП №2014-5702 от 15.10.2014 " " лист1 поз.7 | C42: Щиток AR 04-40703-0-0-АК.ОЛ2 КОЭФ. К ПОЗИЦИИ: приведение к базисному уровню цен на оборудование, мебель, инвентарь ПЗ=ПЗ/4,48-ПЗ; Расходы на комплектацию оборудования - согласно п.4.63 из МДС 81-35.2004 ПЗ=1% (ОЗП=1%; ЭМ=1%; МАТ=1%); Транспортные расходы - согласно п.4.60 из МДС 81-35.2004 ПЗ=3% (ОЗП=3%; ЭМ=3%; МАТ=3%); Заготовительно-складские расходы - согласно п.4.64 из МДС 81-35.2004 ПЗ=1,2% (ОЗП=1,2%; ЭМ=1,2%; МАТ=1,2%); МДС 81-35.2004 п.4.58._Стоимость тары и упаковки - для электрооборудования, КИПиА, инструмента ПЗ=1,015 (ОЗП=1,015; ЭМ=1,015; МАТ=1,015) | D42: шт | E42: 1 | F42: 12307.7 | J42: 12308
B43: ТЕРм11-06-001-01 Постан.Правит.Свердл.обл. от 10.11.10 №1616-ПП | C43: Щиты и пульты, масса до 50 кг НР (87 руб.): 80% от ФОТ (109 руб.) СП (65 руб.): 60% от ФОТ (109 руб.) | D43: 1 шт. | E43: 1 | F43: 159.05 | G43: 64.27 | H43: 13.7 | I43: 0.73 | J43: 159 | K43: 64 | L43: 14 | M43: 1
B44: КП №2014-5702 от 15.10.2014 " " лист1 поз.8 | C44: Рабочее место оператора NW 04-40703-0-0-АК.ОЛ3 КОЭФ. К ПОЗИЦИИ: приведение к базисному уровню цен на оборудование, мебель, инвентарь ПЗ=ПЗ/4,48-ПЗ; Расходы на комплектацию оборудования - согласно п.4.63 из МДС 81-35.2004 ПЗ=1% (ОЗП=1%; ЭМ=1%; МАТ=1%); Транспортные расходы - согласно п.4.60 из МДС 81-35.2004 ПЗ=3% (ОЗП=3%; ЭМ=3%; МАТ=3%); Заготовительно-складские расходы - согласно п.4.64 из МДС 81-35.2004 ПЗ=1,2% (ОЗП=1,2%; ЭМ=1,2%; МАТ=1,2%); МДС 81-35.2004 п.4.58._Стоимость тары и упаковки - для электрооборудования, КИПиА, инструмента ПЗ=1,015 (ОЗП=1,015; ЭМ=1,015; МАТ=1,015) | D44: шт | E44: 1 | F44: 2774299.5 | J44: 274299
B45: ТЕРм11-04-005-01 Постан.Правит.Свердл.обл. от 10.11.10 №1616-ПП | C45: Пульт, рабочее место, масса до 0,3 т НР (408 руб.): 92% от ФОТ (444 руб.) СП (289 руб.): 65% от ФОТ (444 руб.) | D45: 1 шт. | E45: 1 | F45: 433.03 | G45: 255.13 | H45: 132.28 | I45: 7.83 | J45: 433 | K45: 255 | L45: 132 | M45: 8
A46: Итого по разделу 2 Щиты и пульты | J46: 373238
A47: Раздел 3. Электроаппараты
B48: ТЕРм11-04-020-01 Постан.Правит.Свердл.обл. от 10.11.10 №1616-ПП | C48: Разъемы штепсельные с разделкой и включением экранированного кабеля, сечение жилы до 1 мм2, количество подключаемых жил 14 шт. КОЭФ. К ПОЗИЦИИ: ПЗ=0,85 (ОЗП=0,85; ЭМ=0,85 к расх.; ЗПМ=0,85; МАТ=0,85 к расх.; ТЗ=0,85; ТЗМ=0,85) НР (72 руб.): 92% от ФОТ (78 руб.) СП (51 руб.): 65% от ФОТ (78 руб.) | D48: 1 шт. | E48: 2 | F48: 28.78 | G48: 23.21 | J48: 58 | K48: 46
...

Sheet 04-40703-0-0-ОВ.ЛС
A1: СОГЛАСОВАНО: | J1: УТВЕРЖДАЮ:
A4: ________________ | J4: ________________
A5: " _____ " ________________ 2011 г. | J5: "______ " _______________2011 г.
E7: (наименование стройки)
D9: ЛОКАЛЬНЫЙ СМЕТНЫЙ РАСЧЕТ № 04-40703-00-ОВ.ЛС
D10: (локальная смета)
B12: на | C12: Вентиляция
E13: (наименование работ и затрат, наименование объекта)
C15: Основание: РД 04-40703-0-0-ОВ
C16: Сметная стоимость строительных работ _______________________________________________________________________________________________ | E16: ___________________________67,147 | G16: тыс. руб.
C17: Средства на оплату труда _______________________________________________________________________________________________ | E17: ___________________________3,954 | G17: тыс. руб.
C18: Сметная трудоемкость _______________________________________________________________________________________________ | E18: _______________________________________________________________________________________________306,05 | G18: чел.час
C19: Составлен(а) в текущих (прогнозных) ценах по состоянию на _______2011 г.
A22: № пп | B22: Обоснование | C22: Наименование | D22: Ед. изм. | E22: Кол. | F22: Стоимость единицы, руб. | J22: Общая стоимость, руб.
F23: Всего | G23: В том числе | J23: Всего | K23: В том числе
G24: Осн.З/п | H24: Эк.Маш. | I24: З/пМех | K24: Осн.З/п | L24: Эк.Маш. | M24: З/пМех
A25: 1 | B25: 2 | C25: 3 | D25: 4 | E25: 5 | F25: 6 | G25: 7 | H25: 8 | I25: 9 | J25: 10 | K25: 11 | L25: 12 | M25: 13
A26: Раздел 1. ПУI
B27: ТЕР20-03-001-02 Постан.Правит.Свердл.обл. от 10.11.10 №1616-ПП лист 1 поз.1 | C27: Установка вентиляторов радиальных массой до 0,12 т НР (237 руб.): 128% от ФОТ (185 руб.) СП (154 руб.): 83% от ФОТ (185 руб.) | D27: 1 вентилятор | E27: 1 | F27: 138.43 | G27: 108.09 | H27: 15.2 | I27: 0.55 | J27: 138 | K27: 108 | L27: 15 | M27: 1
B28: Коммерческое предложение № 0000016954 от 15 сентября 2014 г. ООО "ВЕЗА" лист 1 поз.1 | C28: Вентилятор УНИВЕНТ-4-4-3-1-01 КОЭФ. К ПОЗИЦИИ: Итого без НДС МАТ=МАТ/1,18-МАТ; приведение к базисному уровню цен на материалы МАТ=МАТ/5,73-МАТ | D28: шт. | E28: 1 | F28: 2900.29 | J28: 2900
B29: ТЕР20-02-006-08 Постан.Правит.Свердл.обл. от 10.11.10 №1616-ПП лист 1 поз.2 | C29: Установка заслонок воздушных и клапанов воздушных КВР с электрическим или пневматическим приводом периметром до 2400 мм НР (69 руб.): 128% от ФОТ (54 руб.) СП (45 руб.): 83% от ФОТ (54 руб.) | D29: 1 шт. | E29: 1 | F29: 70.98 | G29: 31.7 | H29: 4.89 | I29: 0.18 | J29: 71 | K29: 32 | L29: 5
B30: КП ООО "ВЕЗА" лист 1 поз.2 | C30: Клапан РЕГУЛЯР-Л-500х500-Н-1*LM230A-S-У = 8826 КОЭФ. К ПОЗИЦИИ: Итого без НДС МАТ=МАТ/1,18-МАТ; приведение к базисному уровню цен на материалы МАТ=МАТ/5,73-МАТ | D30: шт. | E30: 1 | F30: 1305.35 | J30: 1305
B31: ТСЦ-101-0875 Постан.Правит.Свердл.обл. от 10.11.10 №1616-ПП лист 1 поз.3,4 | C31: Сетка тканая с квадратными ячейками № 05 оцинкованная | D31: м2 | E31: 0,55 0,3*0,5*2+0,5*0,5 | F31: 39 | J31: 21
B32: ТЕР20-01-001-11 Постан.Правит.Свердл.обл. от 10.11.10 №1616-ПП лист 1 поз.5,6 | C32: Прокладка воздуховодов из листовой, оцинкованной стали и алюминия класса Н (нормальные) толщиной 0,7 мм, периметром до 2400 мм НР (138 руб.): 128% от ФОТ (108 руб.) СП (90 руб.): 83% от ФОТ (108 руб.) | D32: 100 м2 поверхности воздуховодов | E32: 0,052 (4+1,2) / 100 | F32: 1821 | G32: 1232.74 | H32: 124.57 | I32: 5.1 | J32: 95 | K32: 64 | L32: 6
B33: ТСЦ-301-1795 Постан.Правит.Свердл.обл. от 10.11.10 №1616-ПП Прим. лист 1 поз.5,6 | C33: Воздуховоды из оцинкованной стали толщиной 0,7 мм, периметром от 1700 до 4000 мм | D33: м2 | E33: 5,2 4+1,2 | F33: 265.49 | J33: 1381
B34: ТСЦ-301-0478 Постан.Правит.Свердл.обл. от 10.11.10 №1616-ПП Прим. лист 1 поз.7 | C34: Крепления для воздуховодов хомуты СТД 205 | D34: т | E34: 0,008 ОКР(8/1000; 3) | F34: 9467.64 | J34: 76
B35: ТЕР20-02-019-01 Постан.Правит.Свердл.обл. от 10.11.10 №1616-ПП Прим. лист 1 поз.8 | C35: Установка кронштейнов под вентиляционное оборудование НР (17 руб.): 128% от ФОТ (13 руб.) СП (11 руб.): 83% от ФОТ (13 руб.) | D35: 100 кг изделия | E35: 0,105 10.5 / 100 | F35: 1155.74 | G35: 77.9 | H35: 14.44 | J35: 121 | K35: 8 | L35: 2
B36: Цена поставщика ВентСнаб лист 2 поз.9 | C36: Лючок для замеров параметров воздуха КОЭФ. К ПОЗИЦИИ: Итого без НДС МАТ=МАТ/1,18-МАТ; приведение к базисному уровню цен на материалы МАТ=МАТ/5,73-МАТ | D36: шт. | E36: 1 | F36: 16.71 | J36: 17
B37: ТСЦ-301-3099 Постан.Правит.Свердл.обл. от 10.11.10 №1616-ПП лист 2 п.10 | C37: Шиберы в обечайке из тонколистовой оцинкованной и сортовой стали прямоугольные периметром до 2400 мм | D37: шт. | E37: 1 | F37: 445.25 | J37: 445
A38: Итого по разделу 1 ПУI | J38: 7492
A39: Раздел 2. ПУII
B40: ТЕР20-02-006-02 Постан.Правит.Свердл.обл. от 10.11.10 №1616-ПП лист 2 поз.11 | C40: Установка заслонок воздушных и клапанов воздушных КВР с электрическим или пневматическим приводом диаметром до 355 мм НР (49 руб.): 128% от ФОТ (38 руб.) СП (32 руб.): 83% от ФОТ (38 руб.) | D40: 1 шт. | E40: 1 | F40: 38.44 | G40: 23.24 | H40: 2.24 | J40: 38 | K40: 23 | L40: 2
B41: КП ООО "ВЕЗА" лист 2 поз.11 | C41: Клапан РЕГУЛЯР-Л-315-Н-1*LM230A-S-У КОЭФ. К ПОЗИЦИИ: Итого без НДС МАТ=МАТ/1,18-МАТ; приведение к базисному уровню цен на материалы МАТ=МАТ/5,73-МАТ | D41: шт. | E41: 1 | F41: 1144.14 | J41: 1144
B42: ТЕР20-02-005-08 Постан.Правит.Свердл.обл. от 10.11.10 №1616-ПП лист 2 поз.12 | C42: Установка заслонок воздушных и клапанов воздушных КВР с ручным приводом периметром до 2400 мм НР (46 руб.): 128% от ФОТ (36 руб.) СП (30 руб.): 83% от ФОТ (36 руб.) | D42: 1 шт. | E42: 1 | F42: 57.38 | G42: 21.34 | H42: 2.15 | J42: 57 | K42: 21 | L42: 2
B43: КП ООО "ВЕЗА" лист 2 поз.11 | C43: Клапан РЕГУЛЯР-Л-700х400-Н-1*NM230A-S-У КОЭФ. К ПОЗИЦИИ: Итого без НДС МАТ=МАТ/1,18-МАТ; приведение к базисному уровню цен на материалы МАТ=МАТ/5,73-МАТ | D43: шт. | E43: 1 | F43: 1615.94 | J43: 1616
B44: ТСЦ-101-0875 Постан.Правит.Свердл.обл. от 10.11.10 №1616-ПП лист 2 поз.13 | C44: Сетка тканая с квадратными ячейками № 05 оцинкованная | D44: м2 | E44: 0,64 0.4*0.4*4 | F44: 39 | J44: 25
B45: ТЕР20-01-001-05 Постан.Правит.Свердл.обл. от 10.11.10 №1616-ПП | C45: Прокладка воздуховодов из листовой, оцинкованной стали и алюминия класса Н (нормальные) толщиной 0,6 мм, диаметром до 355 мм НР (264 руб.): 128% от ФОТ (206 руб.) СП (171 руб.): 83% от ФОТ (206 руб.) | D45: 100 м2 поверхности воздуховодов | E45: 0,0645 (4.95+1.5) / 100 | F45: 2537.97 | G45: 1893.46 | H45: 139.84 | I45: 7.83 | J45: 164 | K45: 122 | L45: 9 | M45: 1
B46: ТСЦ-301-1790 Постан.Правит.Свердл.обл. от 10.11.10 №1616-ПП | C46: Воздуховоды из оцинкованной стали толщиной 0,6 мм, диаметром до 450 мм | D46: м2 | E46: 6,45 4.95+1.5 | F46: 214.85 | J46: 1386
B47: ТСЦ-301-0478 Постан.Правит.Свердл.обл. от 10.11.10 №1616-ПП Прим. лист 3 поз.16 | C47: Крепления для воздуховодов хомуты СТД 205 | D47: т | E47: 0,004 ОКР((3.6)/1000; 3) | F47: 9467.64 | J47: 38
B48: Цена поставщика ВентСнаб лист 3 поз.17 | C48: Лючок для замеров параметров воздуха КОЭФ. К ПОЗИЦИИ: Итого без НДС МАТ=МАТ/1,18-МАТ; приведение к базисному уровню цен на материалы МАТ=МАТ/5,73-МАТ | D48: шт. | E48: 2 | F48: 16.71 | J48: 33
...

Sheet 04-40703-0-0-ЭМ.ЛС изм.1
A1: СОГЛАСОВАНО: | J1: УТВЕРЖДАЮ:
A4: ________________ | J4: ________________
A5: " _____ " ________________ 2011 г. | J5: "______ " _______________2011 г.
E7: (наименование стройки)
D9: ЛОКАЛЬНЫЙ СМЕТНЫЙ РАСЧЕТ № 04-40703-0-0-ЭМ.ЛС изм.1
D10: (локальная смета)
B12: на | C12: Силовое электрооборудование
E13: (наименование работ и затрат, наименование объекта)
C15: Основание: 04-40703-0-0-ЭМ
C16: Сметная стоимость _______________________________________________________________________________________________ | E16: ___________________________125,448 | G16: тыс. руб.
C17: строительных работ _______________________________________________________________________________________________ | E17: _______________________________________________________________________________________________45,948 | G17: тыс. руб.
C18: монтажных работ _______________________________________________________________________________________________ | E18: _______________________________________________________________________________________________55,124 | G18: тыс. руб.
C19: оборудования _______________________________________________________________________________________________ | E19: _______________________________________________________________________________________________24,376 | G19: тыс. руб.
C20: Средства на оплату труда _______________________________________________________________________________________________ | E20: ___________________________11,752 | G20: тыс. руб.
C21: Сметная трудоемкость _______________________________________________________________________________________________ | E21: _______________________________________________________________________________________________721 | G21: чел.час
C22: Составлен(а) в текущих (прогнозных) ценах по состоянию на _______2011 г.
A25: № пп | B25: Обоснование | C25: Наименование | D25: Ед. изм. | E25: Кол. | F25: Стоимость единицы, руб. | J25: Общая стоимость, руб.
F26: Всего | G26: В том числе | J26: Всего | K26: В том числе
G27: Осн.З/п | H27: Эк.Маш. | I27: З/пМех | K27: Осн.З/п | L27: Эк.Маш. | M27: З/пМех
A28: 1 | B28: 2 | C28: 3 | D28: 4 | E28: 5 | F28: 6 | G28: 7 | H28: 8 | I28: 9 | J28: 10 | K28: 11 | L28: 12 | M28: 13
A29: Раздел 1. Оборудование и монтажные работы
B30: Цена поставщика Спф. л.1, п. 1 | C30: Шкаф управления вентилятором вентсистем ШУВ-ВУI КОЭФ. К ПОЗИЦИИ: Итого без НДС ПЗ=ПЗ/1,18-ПЗ; приведение к базисному уровню цен на оборудование, мебель, инвентарь ПЗ=ПЗ/4,39-ПЗ; Расходы на комплектацию оборудования - согласно п.4.63 из МДС 81-35.2004 ПЗ=1% (ОЗП=1%; ЭМ=1%; МАТ=1%); Транспортные расходы - согласно п.4.60 из МДС 81-35.2004 ПЗ=3% (ОЗП=3%; ЭМ=3%; МАТ=3%); Заготовительно-складские расходы - согласно п.4.64 из МДС 81-35.2004 ПЗ=1,2% (ОЗП=1,2%; ЭМ=1,2%; МАТ=1,2%) | D30: шт. | E30: 1 | F30: 6029.96 | J30: 6030
B31: ТЕРм08-03-572-04 Постан.Правит.Свердл.обл. от 10.11.10 №1616-ПП Спф. л.1, п. 1 | C31: Блок управления шкафного исполнения или распределительный пункт (шкаф), устанавливаемый на стене, высота и ширина до 1200х1000 мм НР (86 руб.): 95% от ФОТ (91 руб.) СП (59 руб.): 65% от ФОТ (91 руб.) | D31: 1 шт. | E31: 1 | F31: 555.09 | G31: 48.76 | H31: 95.07 | I31: 5.28 | J31: 555 | K31: 49 | L31: 95 | M31: 5
B32: Цена поставщика Спф. л.1, п. 2 | C32: Шкаф управления вентилятором вентсистемы ШУВ-ВУII КОЭФ. К ПОЗИЦИИ: Итого без НДС ПЗ=ПЗ/1,18-ПЗ; приведение к базисному уровню цен на оборудование, мебель, инвентарь ПЗ=ПЗ/4,39-ПЗ; Расходы на комплектацию оборудования - согласно п.4.63 из МДС 81-35.2004 ПЗ=1% (ОЗП=1%; ЭМ=1%; МАТ=1%); Транспортные расходы - согласно п.4.60 из МДС 81-35.2004 ПЗ=3% (ОЗП=3%; ЭМ=3%; МАТ=3%); Заготовительно-складские расходы - согласно п.4.64 из МДС 81-35.2004 ПЗ=1,2% (ОЗП=1,2%; ЭМ=1,2%; МАТ=1,2%) | D32: шт. | E32: 1 | F32: 6029.96 | J32: 6030
B33: ТЕРм08-03-572-04 Постан.Правит.Свердл.обл. от 10.11.10 №1616-ПП Спф. л.1, п. 2 | C33: Блок управления шкафного исполнения или распределительный пункт (шкаф), устанавливаемый на стене, высота и ширина до 1200х1000 мм НР (86 руб.): 95% от ФОТ (91 руб.) СП (59 руб.): 65% от ФОТ (91 руб.) | D33: 1 шт. | E33: 1 | F33: 555.09 | G33: 48.76 | H33: 95.07 | I33: 5.28 | J33: 555 | K33: 49 | L33: 95 | M33: 5
B34: Цена поставщика Спф. л.1, п. 3 (применительно) | C34: Шкаф управления вентилятором вентсистемы ШУВ-ПУI КОЭФ. К ПОЗИЦИИ: Итого без НДС ПЗ=ПЗ/1,18-ПЗ; приведение к базисному уровню цен на оборудование, мебель, инвентарь ПЗ=ПЗ/4,39-ПЗ; Расходы на комплектацию оборудования - согласно п.4.63 из МДС 81-35.2004 ПЗ=1% (ОЗП=1%; ЭМ=1%; МАТ=1%); Транспортные расходы - согласно п.4.60 из МДС 81-35.2004 ПЗ=3% (ОЗП=3%; ЭМ=3%; МАТ=3%); Заготовительно-складские расходы - согласно п.4.64 из МДС 81-35.2004 ПЗ=1,2% (ОЗП=1,2%; ЭМ=1,2%; МАТ=1,2%) | D34: шт. | E34: 1 | F34: 6029.96 | J34: 6030
B35: ТЕРм08-03-572-04 Постан.Правит.Свердл.обл. от 10.11.10 №1616-ПП Спф. л.1, п. 3 | C35: Блок управления шкафного исполнения или распределительный пункт (шкаф), устанавливаемый на стене, высота и ширина до 1200х1000 мм НР (86 руб.): 95% от ФОТ (91 руб.) СП (59 руб.): 65% от ФОТ (91 руб.) | D35: 1 шт. | E35: 1 | F35: 555.09 | G35: 48.76 | H35: 95.07 | I35: 5.28 | J35: 555 | K35: 49 | L35: 95 | M35: 5
B36: Цена поставщика Спф. л.1, п. 4 | C36: Шкаф АВР КОЭФ. К ПОЗИЦИИ: Итого без НДС ПЗ=ПЗ/1,18-ПЗ; приведение к базисному уровню цен на оборудование, мебель, инвентарь ПЗ=ПЗ/4,39-ПЗ; Расходы на комплектацию оборудования - согласно п.4.63 из МДС 81-35.2004 ПЗ=1% (ОЗП=1%; ЭМ=1%; МАТ=1%); Транспортные расходы - согласно п.4.60 из МДС 81-35.2004 ПЗ=3% (ОЗП=3%; ЭМ=3%; МАТ=3%); Заготовительно-складские расходы - согласно п.4.64 из МДС 81-35.2004 ПЗ=1,2% (ОЗП=1,2%; ЭМ=1,2%; МАТ=1,2%) | D36: шт. | E36: 1 | F36: 1898.97 | J36: 1899
B37: ТЕРм08-03-572-03 Постан.Правит.Свердл.обл. от 10.11.10 №1616-ПП Спф. л.1, п. 4 | C37: Блок управления шкафного исполнения или распределительный пункт (шкаф), устанавливаемый на стене, высота и ширина до 600х600 мм НР (55 руб.): 95% от ФОТ (58 руб.) СП (38 руб.): 65% от ФОТ (58 руб.) | D37: 1 шт. | E37: 1 | F37: 316.86 | G37: 32.41 | H37: 36.13 | I37: 1.82 | J37: 317 | K37: 32 | L37: 36 | M37: 2
B38: ТЕРм08-03-575-01 Постан.Правит.Свердл.обл. от 10.11.10 №1616-ПП Спф. л.1, п. 6 | C38: Прибор или аппарат НР (150 руб.): 95% от ФОТ (158 руб.) СП (103 руб.): 65% от ФОТ (158 руб.) | D38: 1 шт. | E38: 6 | F38: 16.3 | G38: 15.65 | J38: 98 | K38: 94
B39: ТЕРм08-03-575-01 Постан.Правит.Свердл.обл. от 10.11.10 №1616-ПП Спф. л.1, п. 7 | C39: Прибор или аппарат НР (150 руб.): 95% от ФОТ (158 руб.) СП (103 руб.): 65% от ФОТ (158 руб.) | D39: 1 шт. | E39: 6 | F39: 16.3 | G39: 15.65 | J39: 98 | K39: 94
B40: ТЕРм08-03-575-01 Постан.Правит.Свердл.обл. от 10.11.10 №1616-ПП Спф. л.1, п. 8 | C40: Прибор или аппарат НР (150 руб.): 95% от ФОТ (158 руб.) СП (103 руб.): 65% от ФОТ (158 руб.) | D40: 1 шт. | E40: 6 | F40: 16.3 | G40: 15.65 | J40: 98 | K40: 94
B41: ТЕРм08-03-575-01 Постан.Правит.Свердл.обл. от 10.11.10 №1616-ПП Спф. л.1, п. 9 | C41: Прибор или аппарат НР (150 руб.): 95% от ФОТ (158 руб.) СП (103 руб.): 65% от ФОТ (158 руб.) | D41: 1 шт. | E41: 6 | F41: 16.3 | G41: 15.65 | J41: 98 | K41: 94
B42: ТЕРм08-03-575-01 Постан.Правит.Свердл.обл. от 10.11.10 №1616-ПП Спф. л.1, п. 10 | C42: Прибор или аппарат НР (150 руб.): 95% от ФОТ (158 руб.) СП (103 руб.): 65% от ФОТ (158 руб.) | D42: 1 шт. | E42: 6 | F42: 16.3 | G42: 15.65 | J42: 98 | K42: 94
B43: ТЕРм08-03-575-01 Постан.Правит.Свердл.обл. от 10.11.10 №1616-ПП Спф. л.1, п. 11 | C43: Прибор или аппарат НР (150 руб.): 95% от ФОТ (158 руб.) СП (103 руб.): 65% от ФОТ (158 руб.) | D43: 1 шт. | E43: 6 | F43: 16.3 | G43: 15.65 | J43: 98 | K43: 94
B44: ТЕРм08-03-575-01 Постан.Правит.Свердл.обл. от 10.11.10 №1616-ПП Спф. л.1, п. 12 | C44: Прибор или аппарат НР (226 руб.): 95% от ФОТ (238 руб.) СП (155 руб.): 65% от ФОТ (238 руб.) | D44: 1 шт. | E44: 9 | F44: 16.3 | G44: 15.65 | J44: 147 | K44: 141
B45: КОНТАКТОР-М Спф. л.1, п. 13 | C45: Пускатель электромагнитный ПМ12-063 221 220в КОЭФ. К ПОЗИЦИИ: Итого без НДС ПЗ=ПЗ/1,18-ПЗ; приведение к базисному уровню цен на оборудование, мебель, инвентарь ПЗ=ПЗ/4,39-ПЗ; Расходы на комплектацию оборудования - согласно п.4.63 из МДС 81-35.2004 ПЗ=1% (ОЗП=1%; ЭМ=1%; МАТ=1%); Транспортные расходы - согласно п.4.60 из МДС 81-35.2004 ПЗ=3% (ОЗП=3%; ЭМ=3%; МАТ=3%); Заготовительно-складские расходы - согласно п.4.64 из МДС 81-35.2004 ПЗ=1,2% (ОЗП=1,2%; ЭМ=1,2%; МАТ=1,2%) | D45: шт. | E45: 2 | F45: 491.45 | J45: 983
B46: ТЕРм08-03-530-05 Постан.Правит.Свердл.обл. от 10.11.10 №1616-ПП Спф. л.1, п. 13 | C46: Пускатель магнитный общего назначения отдельно стоящий, устанавливаемый на конструкции на стене или колонне, на ток до 100 А НР (162 руб.): 95% от ФОТ (170 руб.) СП (111 руб.): 65% от ФОТ (170 руб.) | D46: 1 шт. | E46: 2 | F46: 278.03 | G46: 50.53 | H46: 4.53 | I46: 0.18 | J46: 556 | K46: 101 | L46: 9
B47: КОНТАКТОР-М Спф. л.1, п. 14 | C47: Пускатель электромагнитный ПМ12-040 220 220в КОЭФ. К ПОЗИЦИИ: Итого без НДС ПЗ=ПЗ/1,18-ПЗ; приведение к базисному уровню цен на оборудование, мебель, инвентарь ПЗ=ПЗ/4,39-ПЗ; Расходы на комплектацию оборудования - согласно п.4.63 из МДС 81-35.2004 ПЗ=1% (ОЗП=1%; ЭМ=1%; МАТ=1%); Транспортные расходы - согласно п.4.60 из МДС 81-35.2004 ПЗ=3% (ОЗП=3%; ЭМ=3%; МАТ=3%); Заготовительно-складские расходы - согласно п.4.64 из МДС 81-35.2004 ПЗ=1,2% (ОЗП=1,2%; ЭМ=1,2%; МАТ=1,2%) | D47: шт. | E47: 2 | F47: 408.62 | J47: 817
B48: ТЕРм08-03-530-04 Постан.Правит.Свердл.обл. от 10.11.10 №1616-ПП Спф. л.1, п. 14 | C48: Пускатель магнитный общего назначения отдельно стоящий, устанавливаемый на конструкции на стене или колонне, на ток до 40 А НР (133 руб.): 95% от ФОТ (140 руб.) СП (91 руб.): 65% от ФОТ (140 руб.) | D48: 1 шт. | E48: 2 | F48: 168.71 | G48: 41.5 | H48: 4.2 | I48: 0.18 | J48: 337 | K48: 83 | L48: 8
...

Sheet 04-40703-0-0-АС.ЛС изм.1
A1: СОГЛАСОВАНО: | J1: УТВЕРЖДАЮ:
A4: ________________ | J4: ________________
A5: " _____ " ________________ 2011 г. | J5: "______ " _______________2011 г.
E7: (наименование стройки)
D9: ЛОКАЛЬНЫЙ СМЕТНЫЙ РАСЧЕТ № 04-40703-0-0-АС.ЛС изм.1
D10: (локальная смета)
B12: на | C12: Архитектурно-строительные решения
E13: (наименование работ и затрат, наименование объекта)
C15: Основание: РД 04-40703-0-0-АС, замечания экспертизы УРЦЭиЦ
C16: Сметная стоимость строительных работ _______________________________________________________________________________________________ | E16: ___________________________195,999 | G16: тыс. руб.
C17: Средства на оплату труда _______________________________________________________________________________________________ | E17: ___________________________26,092 | G17: тыс. руб.
C18: Сметная трудоемкость _______________________________________________________________________________________________ | E18: _______________________________________________________________________________________________1768,33 | G18: чел.час
C19: Составлен(а) в текущих (прогнозных) ценах по состоянию на _______2011 г.
A22: № пп | B22: Обоснование | C22: Наименование | D22: Ед. изм. | E22: Кол. | F22: Стоимость единицы, руб. | J22: Общая стоимость, руб.
F23: Всего | G23: В том числе | J23: Всего | K23: В том числе
G24: Осн.З/п | H24: Эк.Маш. | I24: З/пМех | K24: Осн.З/п | L24: Эк.Маш. | M24: З/пМех
A25: 1 | B25: 2 | C25: 3 | D25: 4 | E25: 5 | F25: 6 | G25: 7 | H25: 8 | I25: 9 | J25: 10 | K25: 11 | L25: 12 | M25: 13
A26: Раздел 1. Лист 8. Схема расположения кирпичной перегородки на отм.-3,500 между осями 7-8 и Р-Т. Разрезы 1-1 - 3-3. Узлы
A27: Окраска металлических конструкций, эксплуатируемых на открытиом воздухе (лист 7. 3. Технические требования, поз. 3.5)
A28: Цинотан
B29: ТЕР13-03-002-01 Постан.Правит.Свердл.обл. от 10.11.10 №1616-ПП прим.= Огрунтовка металлических поверхностей за один раз грунтовкой Цинотан | C29: Огрунтовка металлических поверхностей за один раз грунтовкой ХС-068 КОЭФ. К ПОЗИЦИИ: ПЗ=2 (ОЗП=2; ЭМ=2 к расх.; ЗПМ=2; МАТ=2 к расх.; ТЗ=2; ТЗМ=2) НР (275 руб.): 90% от ФОТ (306 руб.) СП (214 руб.): 70% от ФОТ (306 руб.) | D29: 100 м2 окрашиваемой поверхности | E29: 1,5 150 / 100 | F29: 888.16 | G29: 120.9 | H29: 22.48 | I29: 0.32 | J29: 1332 | K29: 181 | L29: 34
B30: ТСЦ-113-0031 Постан.Правит.Свердл.обл. от 10.11.10 №1616-ПП | C30: Грунтовка ХС-068 красно-коричневая | D30: т | E30: -0.0477 | F30: 17433.5 | J30: -832
B31: цена поставщика | C31: Композиция антикоррозионная грунтовочная ЦИНОТАН (расход 390 г/м2, 335 руб./кг) КОЭФ. К ПОЗИЦИИ: Итого без НДС МАТ=МАТ/1,18-МАТ; приведение к базисному уровню цен на материалы МАТ=МАТ/5,73-МАТ | D31: кг | E31: 47.7 | F31: 49.55 | J31: 2364
A32: Политон-УР
B33: ТЕР13-03-004-09 Постан.Правит.Свердл.обл. от 10.11.10 №1616-ПП прим. = Окраска металлических огрунтованных поверхностей эмалью Политон-Ур | C33: Окраска металлических огрунтованных поверхностей эмалью ЭП-773 КОЭФ. К ПОЗИЦИИ: ПЗ=2 (ОЗП=2; ЭМ=2 к расх.; ЗПМ=2; МАТ=2 к расх.; ТЗ=2; ТЗМ=2) НР (145 руб.): 90% от ФОТ (161 руб.) СП (113 руб.): 70% от ФОТ (161 руб.) | D33: 100 м2 окрашиваемой поверхности | E33: 1,5 150 / 100 | F33: 961.56 | G33: 63.14 | H33: 20.3 | I33: 0.32 | J33: 1442 | K33: 95 | L33: 30
B34: ТСЦ-113-0210 Постан.Правит.Свердл.обл. от 10.11.10 №1616-ПП | C34: Эмаль эпоксидная ЭП-733 зеленая | D34: т | E34: -0.03 | F34: 39311.65 | J34: -1179
B35: цена поставщика | C35: Эмаль полиуретановая защитно-декоративная "Политон-УР" (расход 180 г/м2, 320 руб./кг) КОЭФ. К ПОЗИЦИИ: Итого без НДС МАТ=МАТ/1,18-МАТ; приведение к базисному уровню цен на материалы МАТ=МАТ/5,73-МАТ | D35: кг | E35: 30 | F35: 47.33 | J35: 1420
A36: Окраска металлических конструкций внутри здания (лист 7. 3. Технические требования, поз. 3.6)
B37: ТЕР13-03-002-04 Постан.Правит.Свердл.обл. от 10.11.10 №1616-ПП | C37: Огрунтовка металлических поверхностей за один раз грунтовкой ГФ-021 НР (38 руб.): 90% от ФОТ (42 руб.) СП (29 руб.): 70% от ФОТ (42 руб.) | D37: 100 м2 окрашиваемой поверхности | E37: 0,32 32 / 100 | F37: 417.46 | G37: 79.65 | H37: 10.15 | I37: 0.16 | J37: 134 | K37: 25 | L37: 3
B38: ТЕР13-03-004-26 Постан.Правит.Свердл.обл. от 10.11.10 №1616-ПП | C38: Окраска металлических огрунтованных поверхностей эмалью ПФ-115 КОЭФ. К ПОЗИЦИИ: ПЗ=2 (ОЗП=2; ЭМ=2 к расх.; ЗПМ=2; МАТ=2 к расх.; ТЗ=2; ТЗМ=2) НР (47 руб.): 90% от ФОТ (52 руб.) СП (36 руб.): 70% от ФОТ (52 руб.) | D38: 100 м2 окрашиваемой поверхности | E38: 0,32 32 / 100 | F38: 1261.82 | G38: 97.9 | H38: 13.36 | I38: 0.32 | J38: 404 | K38: 31 | L38: 4
A39: Тт, поз. 2
B40: ТЕР09-03-039-05 Постан.Правит.Свердл.обл. от 10.11.10 №1616-ПП прим.=Демонтаж кронштейнов с сущ. стоек | C40: Монтаж опорных конструкций этажерочного типа КОЭФ. К ПОЗИЦИИ: 5.Прил.9.3_Разборка (демонтаж) металлических конструкций ОЗП=0,7; ЭМ=0,7 к расх.; ЗПМ=0,7; МАТ=0 к расх.; ТЗ=0,7; ТЗМ=0,7 НР (8 руб.): 90% от ФОТ (9 руб.) СП (8 руб.): 85% от ФОТ (9 руб.) | D40: 1 т конструкций | E40: 0,03 30/1000 | F40: 403.73 | G40: 179.75 | H40: 223.98 | I40: 17.79 | J40: 12 | K40: 5 | L40: 7 | M40: 1
B41: ФССЦпг01-01-01-041 И1-Пр. Минрегион от 05.05.12 №189 | C41: Погрузочные работы при автомобильных перевозках: мусора строительного с погрузкой вручную КОЭФ. К ПОЗИЦИИ: ОП п.1.1.9 Прил.1 Прил.1_Поясной коэффициент: Пермский край (кроме Красновишерского, Чердынского, Гайнского, Косинского, Кочевского районов), Республика Башкортостан, Республика Алтай, Вологодская, Кемеровская, Кировская, Курганская, Омская, Оренбургская, Новосибирская, Свердловская, Челябинская области ПЗ=1,1 (ОЗП=1,1; ЭМ=1,1; ЗПМ=1,1; МАТ=1,1) НР 0% от ФОТ СП 0% от ФОТ | D41: 1 т груза | E41: 0,03 ОКР(30/1000; 4) | F41: 47.28 | G41: 47.28 | J41: 1 | K41: 1
B42: ФССЦпг03-21-01-043 Пр. Минрегион от 20.07.11 №354 | C42: Перевозка грузов автомобилями-самосвалами грузоподъемностью 10 т, работающих вне карьера, на расстояние: до 43 км I класс груза КОЭФ. К ПОЗИЦИИ: 15_Поясные коэффициенты к сметным ценам на перевозку грузов автомобильным транспортом: Республика Башкортостан, Алтайский край, Вологодская, Кемеровская, Кировская, Курганская, Омская, Оренбургская, Новосибирская, Свердловская, Челябинская и Пермская области (за исключением Коми-Пермяцкого автономного округа). ПЗ=1,1 (ОЗП=1,1; ЭМ=1,1; ЗПМ=1,1; МАТ=1,1) НР 0% от ФОТ СП 0% от ФОТ | D42: 1 т груза | E42: 0,03 30/1000 | F42: 26.85 | H42: 26.85 | J42: 1 | L42: 1
A43: Тт, поз. 3
B44: ФЕР09-04-012-01 И4-Пр. Минрегион от 13.07.11 №339 Установка дверного блока Д1 (2100х1000 мм) | C44: Установка металлических дверных блоков в готовые проемы КОЭФ. К ПОЗИЦИИ: Приведение расценок ФЕР к ТЕР (Письмо УРЦЦС Ц-297 от 12.04.2011) ОЗП=1,41; ЭМ=1,242; ЗПМ=1,41; МАТ=1,052 НР (107 руб.): 90% от ФОТ (119 руб.) СП (101 руб.): 85% от ФОТ (119 руб.) | D44: 1 м2 проема | E44: 2,1 2,1*1*1 | F44: 84.31 | G44: 33.57 | H44: 23.68 | J44: 177 | K44: 70 | L44: 50
B45: цена поставщика прим. | C45: Дверь металлическая (9915 руб./шт) КОЭФ. К ПОЗИЦИИ: Итого без НДС МАТ=МАТ/1,18-МАТ; приведение к базисному уровню цен на материалы МАТ=МАТ/5,73-МАТ | D45: шт | E45: 1 | F45: 1466.41 | J45: 1466
B46: ФЕР09-04-012-02 И4-Пр. Минрегион от 13.07.11 №339 | C46: Установка дверного доводчика к металлическим дверям КОЭФ. К ПОЗИЦИИ: Приведение расценок ФЕР к ТЕР (Письмо УРЦЦС Ц-297 от 12.04.2011) ОЗП=1,41; ЭМ=1,242; ЗПМ=1,41; МАТ=1,052 НР (25 руб.): 90% от ФОТ (28 руб.) СП (24 руб.): 85% от ФОТ (28 руб.) | D46: 1 шт. | E46: 1 | F46: 19.84 | G46: 15.52 | H46: 3.56 | J46: 20 | K46: 16 | L46: 4
B47: ФССЦ-101-0961 Приказ Минстроя РФ от 30.01.14 №31/пр | C47: Закрыватель дверной гидравлический рычажный в алюминиевом корпусе КОЭФ. К ПОЗИЦИИ: Приведение расценок ФЕР к ТЕР (Письмо УРЦЦС Ц-297 от 12.04.2011) ОЗП=1,41; ЭМ=1,242; ЗПМ=1,41; МАТ=1,052 | D47: шт. | E47: 1 | F47: 450.54 | J47: 451
A48: Тт, поз. 4
...

Sheet 04-40703-0-0-ХС.ЛС изм.1
A1: СОГЛАСОВАНО: | J1: УТВЕРЖДАЮ:
A4: ________________ | J4: ________________
A5: " _____ " ________________ 2011 г. | J5: "______ " _______________2011 г.
E7: (наименование стройки)
D9: ЛОКАЛЬНЫЙ СМЕТНЫЙ РАСЧЕТ № 04-40703-0-0-ХС.ЛС изм.1
D10: (локальная смета)
B12: на | C12: Холодоснабжение
E13: (наименование работ и затрат, наименование объекта)
C15: Основание: РД 04-40703-0-0-ХС
C16: Сметная стоимость _______________________________________________________________________________________________ | E16: ___________________________8940,806 | G16: тыс. руб.
C17: строительных работ _______________________________________________________________________________________________ | E17: _______________________________________________________________________________________________345,787 | G17: тыс. руб.
C18: монтажных работ _______________________________________________________________________________________________ | E18: _______________________________________________________________________________________________755,904 | G18: тыс. руб.
C19: оборудования _______________________________________________________________________________________________ | E19: _______________________________________________________________________________________________7839,115 | G19: тыс. руб.
C20: Средства на оплату труда _______________________________________________________________________________________________ | E20: ___________________________131,839 | G20: тыс. руб.
C21: Сметная трудоемкость _______________________________________________________________________________________________ | E21: _______________________________________________________________________________________________8347,1 | G21: чел.час
C22: Составлен(а) в текущих (прогнозных) ценах по состоянию на _______2011 г.
A25: № пп | B25: Обоснование | C25: Наименование | D25: Ед. изм. | E25: Кол. | F25: Стоимость единицы, руб. | J25: Общая стоимость, руб.
F26: Всего | G26: В том числе | J26: Всего | K26: В том числе
G27: Осн.З/п | H27: Эк.Маш. | I27: З/пМех | K27: Осн.З/п | L27: Эк.Маш. | M27: З/пМех
A28: 1 | B28: 2 | C28: 3 | D28: 4 | E28: 5 | F28: 6 | G28: 7 | H28: 8 | I28: 9 | J28: 10 | K28: 11 | L28: 12 | M28: 13
A29: Раздел 1. Внешний контур. Оборудование и монтажные работы
B30: КП ООО "КЛИМАТ-КОНТРОЛЬ-ИНЖИНИРИНГ " №К/162-14 от 10.09.2014г. лист 1 поз.1 | C30: Машина холодильная (чиллер) с винтовыми компрессорами _x000D_ R134A и гликолеохлаждающим конденсатором_x000D_ с микропроцессорным управлением Prodialog Plus_x000D_ фирмы «Carrier» 30XW--0452 04-40703-0-0-ХС.ОЛ1 КОЭФ. К ПОЗИЦИИ: Итого без НДС ПЗ=ПЗ/1,18-ПЗ; приведение к базисному уровню цен на оборудование, мебель, инвентарь ПЗ=ПЗ/4,48-ПЗ; Расходы на комплектацию оборудования - согласно п.4.63 из МДС 81-35.2004 ПЗ=1% (ОЗП=1%; ЭМ=1%; МАТ=1%); Заготовительно-складские расходы - согласно п.4.64 из МДС 81-35.2004 ПЗ=1,2% (ОЗП=1,2%; ЭМ=1,2%; МАТ=1,2%) | D30: шт | E30: 2 | F30: 196345*49,95 | J30: 3792514
B31: ТЕРм07-01-035-04 Постан.Правит.Свердл.обл. от 10.11.10 №1616-ПП | C31: Агрегат или машина компрессорно-конденсаторная, масса 2,6 т НР (2525 руб.): 80% от ФОТ (3156 руб.) СП (1894 руб.): 60% от ФОТ (3156 руб.) | D31: 1 шт. | E31: 2 | F31: 1477.25 | G31: 913.64 | H31: 323.48 | I31: 19.84 | J31: 2955 | K31: 1827 | L31: 647 | M31: 40
B32: КП ООО "КЛИМАТ-КОНТРОЛЬ-ИНЖИНИРИНГ " №К/162-14 от 10.09.2014г. лист 1 поз.2 | C32: «Сухой» охладитель (драй-кулер) 04-40703-0-0-ХС.ОЛ2_x000D_ 09GHCA-194-8 09-6-H-264-1DN 125 КОЭФ. К ПОЗИЦИИ: Итого без НДС ПЗ=ПЗ/1,18-ПЗ; приведение к базисному уровню цен на оборудование, мебель, инвентарь ПЗ=ПЗ/4,48-ПЗ; Расходы на комплектацию оборудования - согласно п.4.63 из МДС 81-35.2004 ПЗ=1% (ОЗП=1%; ЭМ=1%; МАТ=1%); Заготовительно-складские расходы - согласно п.4.64 из МДС 81-35.2004 ПЗ=1,2% (ОЗП=1,2%; ЭМ=1,2%; МАТ=1,2%) | D32: шт | E32: 2 | F32: 103275*49,95 | J32: 1994815
B33: ТЕРм37-01-014-07 Постан.Правит.Свердл.обл. от 10.11.10 №1616-ПП | C33: Монтаж оборудования в помещении, масса оборудования 2 т НР (5220 руб.): 80% от ФОТ (6525 руб.) СП (3915 руб.): 60% от ФОТ (6525 руб.) | D33: 1 шт. | E33: 2 | F33: 4891.85 | G33: 1669.5 | H33: 2157.88 | I33: 260.42 | J33: 9784 | K33: 3339 | L33: 4316 | M33: 521
B34: Прайс ООО "ВИЛО РУС " от 07.10.2014 лист 1 поз.3 | C34: Насос стандартный с сухим ротором_x000D_ Wilo-CronoLine-Il 80/160-15/2 (2-полюсный) КОЭФ. К ПОЗИЦИИ: Итого без НДС ПЗ=ПЗ/1,18-ПЗ; приведение к базисному уровню цен на оборудование, мебель, инвентарь ПЗ=ПЗ/4,48-ПЗ; Расходы на комплектацию оборудования - согласно п.4.63 из МДС 81-35.2004 ПЗ=1% (ОЗП=1%; ЭМ=1%; МАТ=1%); Транспортные расходы - согласно п.4.60 из МДС 81-35.2004 ПЗ=3% (ОЗП=3%; ЭМ=3%; МАТ=3%); Заготовительно-складские расходы - согласно п.4.64 из МДС 81-35.2004 ПЗ=1,2% (ОЗП=1,2%; ЭМ=1,2%; МАТ=1,2%) | D34: шт | E34: 2 | F34: 2614*49,95 | J34: 52006
B35: ТЕРм07-04-001-02 Постан.Правит.Свердл.обл. от 10.11.10 №1616-ПП | C35: Агрегат насосный лопастный центробежный одноступенчатый, многоступенчатый объемный, вихревой, поршневой, приводной, роторный на общей фундаментной плите или моноблочный, масса 0,17 т НР (1130 руб.): 80% от ФОТ (1412 руб.) СП (847 руб.): 60% от ФОТ (1412 руб.) | D35: 1 шт. | E35: 2 | F35: 698.22 | G35: 416.05 | H35: 77.12 | I35: 1.82 | J35: 1396 | K35: 832 | L35: 154 | M35: 4
B36: Прайс ООО "ВИЛО РУС " от 10.09.2014 лист 1 поз.4 | C36: Насос Wilo-CronoLine-IL 40/170-5,5/2 N=5,5 кВт КОЭФ. К ПОЗИЦИИ: Итого без НДС ПЗ=ПЗ/1,18-ПЗ; приведение к базисному уровню цен на оборудование, мебель, инвентарь ПЗ=ПЗ/4,48-ПЗ; Расходы на комплектацию оборудования - согласно п.4.63 из МДС 81-35.2004 ПЗ=1% (ОЗП=1%; ЭМ=1%; МАТ=1%); Транспортные расходы - согласно п.4.60 из МДС 81-35.2004 ПЗ=3% (ОЗП=3%; ЭМ=3%; МАТ=3%); Заготовительно-складские расходы - согласно п.4.64 из МДС 81-35.2004 ПЗ=1,2% (ОЗП=1,2%; ЭМ=1,2%; МАТ=1,2%) | D36: шт | E36: 1 | F36: 1547*49,95 | J36: 15389
B37: ТЕРм07-04-001-02 Постан.Правит.Свердл.обл. от 10.11.10 №1616-ПП | C37: Агрегат насосный лопастный центробежный одноступенчатый, многоступенчатый объемный, вихревой, поршневой, приводной, роторный на общей фундаментной плите или моноблочный, масса 0,17 т КОЭФ. К ПОЗИЦИИ: МДС81-37.2004 п.п.4.3.1 т.2._Коэффициент изменения массы оборудования 0,51-0,6 ПЗ=0,8 (ОЗП=0,8; ЭМ=0,8 к расх.; ЗПМ=0,8; МАТ=0,8 к расх.; ТЗ=0,8; ТЗМ=0,8) НР (450 руб.): 80% от ФОТ (563 руб.) СП (338 руб.): 60% от ФОТ (563 руб.) | D37: 1 шт. | E37: 1 | F37: 558.58 | G37: 332.84 | H37: 61.7 | I37: 1.46 | J37: 559 | K37: 333 | L37: 62 | M37: 1
B38: Прайс "VERNAX " лист1 поз.5 | C38: Бак расширительный мембранного типа фирмы Wester Line_x000D_ (экспанзомат) WRV 200 (V=200 л), Рр 0,5 МПа КОЭФ. К ПОЗИЦИИ: Итого без НДС ПЗ=ПЗ/1,18-ПЗ; приведение к базисному уровню цен на оборудование, мебель, инвентарь ПЗ=ПЗ/4,48-ПЗ; Транспортные расходы - согласно п.4.60 из МДС 81-35.2004 ПЗ=3% (ОЗП=3%; ЭМ=3%; МАТ=3%); Заготовительно-складские расходы - согласно п.4.64 из МДС 81-35.2004 ПЗ=1,2% (ОЗП=1,2%; ЭМ=1,2%; МАТ=1,2%) | D38: шт | E38: 1 | J38: 2376
B39: КП ООО"САМСОН-УРАЛ" лист 2 поз.7 | C39: Регулятор температуры прямого действия тип 4 PN16 DN 80, фирмы «Samson» КОЭФ. К ПОЗИЦИИ: приведение к базисному уровню цен на оборудование, мебель, инвентарь ПЗ=ПЗ/4,48-ПЗ; Расходы на комплектацию оборудования - согласно п.4.63 из МДС 81-35.2004 ПЗ=1% (ОЗП=1%; ЭМ=1%; МАТ=1%); Транспортные расходы - согласно п.4.60 из МДС 81-35.2004 ПЗ=3% (ОЗП=3%; ЭМ=3%; МАТ=3%); Заготовительно-складские расходы - согласно п.4.64 из МДС 81-35.2004 ПЗ=1,2% (ОЗП=1,2%; ЭМ=1,2%; МАТ=1,2%) | D39: шт | E39: 2 | F39: 8907*49,95 | J39: 209102
B40: ТЕРм37-01-014-01 Постан.Правит.Свердл.обл. от 10.11.10 №1616-ПП | C40: Монтаж оборудования в помещении, масса оборудования 0,03 т НР (1151 руб.): 80% от ФОТ (1439 руб.) СП (863 руб.): 60% от ФОТ (1439 руб.) | D40: 1 шт. | E40: 2 | F40: 1078.66 | G40: 368.35 | H40: 510.77 | I40: 56.85 | J40: 2157 | K40: 737 | L40: 1022 | M40: 114
B41: КП ООО"САМСОН-УРАЛ" лист 2 поз.8 | C41: Грязеуловитель с фланцами Тип 2 N фирмы «Samson»_x000D_ фирмы «Samson», из нержавеющей стали, с двумя отверстиями_x000D_ для подключения манометра (G1/2) PN 16, DN 150 КОЭФ. К ПОЗИЦИИ: приведение к базисному уровню цен на оборудование, мебель, инвентарь ПЗ=ПЗ/4,48-ПЗ; Расходы на комплектацию оборудования - согласно п.4.63 из МДС 81-35.2004 ПЗ=1% (ОЗП=1%; ЭМ=1%; МАТ=1%); Транспортные расходы - согласно п.4.60 из МДС 81-35.2004 ПЗ=3% (ОЗП=3%; ЭМ=3%; МАТ=3%); Заготовительно-складские расходы - согласно п.4.64 из МДС 81-35.2004 ПЗ=1,2% (ОЗП=1,2%; ЭМ=1,2%; МАТ=1,2%) | D41: шт | E41: 1 | F41: 3965*49,95 | J41: 46541
B42: ТЕРм37-01-014-03 Постан.Правит.Свердл.обл. от 10.11.10 №1616-ПП | C42: Монтаж оборудования в помещении, масса оборудования 0,1 т КОЭФ. К ПОЗИЦИИ: МДС81-37.2004 п.п.4.3.1 т.2._Коэффициент изменения массы оборудования 0,51-0,6 ПЗ=0,8 (ОЗП=0,8; ЭМ=0,8 к расх.; ЗПМ=0,8; МАТ=0,8 к расх.; ТЗ=0,8; ТЗМ=0,8) НР (566 руб.): 80% от ФОТ (707 руб.) СП (424 руб.): 60% от ФОТ (707 руб.) | D42: 1 шт. | E42: 1 | F42: 977.82 | G42: 365.7 | H42: 451.07 | I42: 51.63 | J42: 978 | K42: 366 | L42: 451 | M42: 52
B43: Калькуляция №04-12/2291 от06.11.2014 ОАО"ЦПТИ" лист 2 поз.9 | C43: Емкость V=1 м3 КОЭФ. К ПОЗИЦИИ: Итого без НДС ПЗ=ПЗ/1,18-ПЗ; приведение к базисному уровню цен на оборудование, мебель, инвентарь ПЗ=ПЗ/4,48-ПЗ; Расходы на комплектацию оборудования - согласно п.4.63 из МДС 81-35.2004 ПЗ=1% (ОЗП=1%; ЭМ=1%; МАТ=1%); Транспортные расходы - согласно п.4.60 из МДС 81-35.2004 ПЗ=3% (ОЗП=3%; ЭМ=3%; МАТ=3%); Заготовительно-складские расходы - согласно п.4.64 из МДС 81-35.2004 ПЗ=1,2% (ОЗП=1,2%; ЭМ=1,2%; МАТ=1,2%); МДС 81-35.2004 п.4.58._Стоимость тары и упаковки - для крупного технологического оборудования ПЗ=1,005 (ОЗП=1,005; ЭМ=1,005; МАТ=1,005; ТЗ=1,005) | D43: шт | E43: 3 | J43: 247259
B44: ТЕРм37-01-002-04 Постан.Правит.Свердл.обл. от 10.11.10 №1616-ПП | C44: Монтаж оборудования без механизмов в помещении, масса оборудования 0,5 т КОЭФ. К ПОЗИЦИИ: МДС81-37.2004 п.п.4.3.1 т.2._Коэффициент изменения массы оборудования 0,51-0,6 ПЗ=0,8 (ОЗП=0,8; ЭМ=0,8 к расх.; ЗПМ=0,8; МАТ=0,8 к расх.; ТЗ=0,8; ТЗМ=0,8) НР (1202 руб.): 80% от ФОТ (1503 руб.) СП (902 руб.): 60% от ФОТ (1503 руб.) | D44: 1 шт. | E44: 3 | F44: 911.3 | G44: 286.75 | H44: 116.1 | I44: 10.05 | J44: 2734 | K44: 860 | L44: 348 | M44: 30
B45: Прайс ЗАО Торговый дом УТЗПК лист 2 поз.10 | C45: Клапан обратный двойной DС2 PN10 DN 50 КОЭФ. К ПОЗИЦИИ: приведение к базисному уровню цен на материалы МАТ=МАТ/5,73-МАТ | D45: шт | E45: 1 | F45: 4008.9 | J45: 4009
B46: ТЕРм12-12-001-07 Постан.Правит.Свердл.обл. от 10.11.10 №1616-ПП лист 2 поз.10 | C46: Арматура фланцевая с ручным приводом или без привода водопроводная на условное давление до 4 МПа, диаметр условного прохода 50 мм НР (71 руб.): 80% от ФОТ (89 руб.) СП (53 руб.): 60% от ФОТ (89 руб.) | D46: 1 шт. | E46: 1 | F46: 112.92 | G46: 47.29 | H46: 59.84 | I46: 6.19 | J46: 113 | K46: 47 | L46: 60 | M46: 6
B47: Прайс ЗАО Торговый дом УТЗПК лист 2 поз.11 | C47: Клапан обратный двойной DС2 PN10 DN1 50 КОЭФ. К ПОЗИЦИИ: приведение к базисному уровню цен на материалы МАТ=МАТ/5,73-МАТ | D47: шт | E47: 2 | F47: 2311.19 | J47: 4622
B48: ТЕРм12-12-001-12 Постан.Правит.Свердл.обл. от 10.11.10 №1616-ПП лист 2 поз.11 | C48: Арматура фланцевая с ручным приводом или без привода водопроводная на условное давление до 4 МПа, диаметр условного прохода 150 мм НР (268 руб.): 80% от ФОТ (335 руб.) СП (201 руб.): 60% от ФОТ (335 руб.) | D48: 1 шт. | E48: 2 | F48: 289.01 | G48: 79.81 | H48: 183.43 | I48: 18.75 | J48: 578 | K48: 160 | L48: 367 | M48: 38
...

Sheet 04-40703-0-0-АК.ЛС1ПНР
A1: СОГЛАСОВАНО: | J1: УТВЕРЖДАЮ:
A4: ________________ | J4: ________________
A5: " _____ " ________________ 2011 г. | J5: "______ " _______________2011 г.
E7: (наименование стройки)
D9: ЛОКАЛЬНЫЙ СМЕТНЫЙ РАСЧЕТ №
D10: (локальная смета)
B12: на | C12: 04-40703-0-0-АК.ЛС1 Автоматизация комплексная. Пусконаладочные работы.
E13: (наименование работ и затрат, наименование объекта)
C15: Основание: Расчет коэффициента технической сложности
C16: Сметная стоимость прочих _______________________________________________________________________________________________ | E16: ___________________________10,908 | G16: тыс. руб.
C17: Средства на оплату труда _______________________________________________________________________________________________ | E17: ___________________________5,321 | G17: тыс. руб.
C18: Сметная трудоемкость _______________________________________________________________________________________________ | E18: _______________________________________________________________________________________________244,57 | G18: чел.час
C19: Составлен(а) в текущих (прогнозных) ценах по состоянию на _______2011 г.
A22: № пп | B22: Обоснование | C22: Наименование | D22: Ед. изм. | E22: Кол. | F22: Стоимость единицы, руб. | J22: Общая стоимость, руб.
F23: Всего | G23: В том числе | J23: Всего | K23: В том числе
G24: Осн.З/п | H24: Эк.Маш. | I24: З/пМех | K24: Осн.З/п | L24: Эк.Маш. | M24: З/пМех
A25: 1 | B25: 2 | C25: 3 | D25: 4 | E25: 5 | F25: 6 | G25: 7 | H25: 8 | I25: 9 | J25: 10 | K25: 11 | L25: 12 | M25: 13
A26: Раздел 1.
A27: Автоматизированные системы управления II категории технической сложности
B28: ТЕРп02-01-002-05 Постан.Правит.Свердл.обл. от 10.11.10 №1616-ПП | C28: Автоматизированная система управления II категории технической сложности с количеством каналов (Кобщ) 20 КОЭФ. К ПОЗИЦИИ: Коэффициент технической сложности работ ОЗП=1,269; ТЗ=1,269 НР (2412 руб.): 65% от ФОТ (3710 руб.) СП (1484 руб.): 40% от ФОТ (3710 руб.) | D28: 1 система | E28: 1 | F28: 4445.27 | G28: 4445.27 | J28: 4445 | K28: 4445
B29: ТЕРп02-01-002-06 Постан.Правит.Свердл.обл. от 10.11.10 №1616-ПП | C29: Автоматизированная система управления II категории технической сложности с количеством каналов (Кобщ) за каждый канал свыше 20 до 39 добавлять к расценке 02-01-002-05 КОЭФ. К ПОЗИЦИИ: Коэффициент технической сложности работ ОЗП=1,269; ТЗ=1,269 НР (1047 руб.): 65% от ФОТ (1610 руб.) СП (644 руб.): 40% от ФОТ (1610 руб.) | D29: 1 канал | E29: 9 29-20 | F29: 214.32 | G29: 214.32 | J29: 1929 | K29: 1929
A30: Итого по разделу 1 | J30: 10908
A31: ИТОГИ ПО СМЕТЕ:
A32: Итого прямые затраты по смете в ценах 2001г. | J32: 6374 | K32: 6374
A33: Итого прямые затраты по смете с учетом коэффициентов к итогам | J33: 5321 | K33: 5321
A34: Накладные расходы | J34: 3459
A35: Сметная прибыль | J35: 2128
A36: Итоги по смете:
A37: Пусконаладочные работы: 'вхолостую' - 80%, 'под нагрузкой' - 20%:
A38: Итого Поз. | J38: 6374 | K38: 6374
A39: Всего с учетом районного к-та 4,34% | J39: 6651 | K39: 6651
A40: Всего с учетом "Пусконаладочные работы: 'вхолостую' - 80% ПЗ=0,8 (ОЗП=0,8; ЭМ=0,8; ЗПМ=0,8; МАТ=0,8; ТЗ=0,8; ТЗМ=0,8)" | J40: 5321 | K40: 5321
A41: Накладные расходы 65% ФОТ (от 5 321) | J41: 3459
A42: Сметная прибыль 40% ФОТ (от 5 321) | J42: 2128
A43: Итого c накладными и см. прибылью | J43: 10908
A44: Итого | J44: 10908
A45: В том числе:
A46: ФОТ | J46: 5321
A47: Накладные расходы | J47: 3459
A48: Сметная прибыль | J48: 2128
...

Sheet 04-40703-0-0-ОВ.ЛС1ПНР
A1: СОГЛАСОВАНО: | J1: УТВЕРЖДАЮ:
A4: ________________ | J4: ________________
A5: " _____ " ________________ 2011 г. | J5: "______ " _______________2011 г.
E7: (наименование стройки)
D9: ЛОКАЛЬНЫЙ СМЕТНЫЙ РАСЧЕТ №
D10: (локальная смета)
B12: на | C12: 04-40703-0-0-ОВ.ЛС1 Вентиляция. Пусконаладочные работы
E13: (наименование работ и затрат, наименование объекта)
C15: Основание: 04-40703-0-0-ОВ.ВР1
C16: Сметная стоимость прочих _______________________________________________________________________________________________ | E16: ___________________________3,822 | G16: тыс. руб.
C17: Средства на оплату труда _______________________________________________________________________________________________ | E17: ___________________________1,864 | G17: тыс. руб.
C18: Сметная трудоемкость _______________________________________________________________________________________________ | E18: _______________________________________________________________________________________________94,5 | G18: чел.час
C19: Составлен(а) в текущих (прогнозных) ценах по состоянию на _______2011 г.
A22: № пп | B22: Обоснование | C22: Наименование | D22: Ед. изм. | E22: Кол. | F22: Стоимость единицы, руб. | J22: Общая стоимость, руб.
F23: Всего | G23: В том числе | J23: Всего | K23: В том числе
G24: Осн.З/п | H24: Эк.Маш. | I24: З/пМех | K24: Осн.З/п | L24: Эк.Маш. | M24: З/пМех
A25: 1 | B25: 2 | C25: 3 | D25: 4 | E25: 5 | F25: 6 | G25: 7 | H25: 8 | I25: 9 | J25: 10 | K25: 11 | L25: 12 | M25: 13
A26: Раздел 1.
B27: ТЕРп03-01-002-01 Постан.Правит.Свердл.обл. от 10.11.10 №1616-ПП | C27: Вентилятор осевой с входными элементами сети, установленный в воздуховоде, шахте, проеме или крышечного типа № 4-8 НР (141 руб.): 65% от ФОТ (217 руб.) СП (87 руб.): 40% от ФОТ (217 руб.) | D27: 1 устройство | E27: 3 1+1+1 | F27: 92.24 | G27: 92.24 | J27: 277 | K27: 277
B28: ТЕРп03-01-011-01 Постан.Правит.Свердл.обл. от 10.11.10 №1616-ПП | C28: Регулировочно-запорное устройство клапан воздушный проходной с электрическим, пневматическим приводом НР (146 руб.): 65% от ФОТ (224 руб.) СП (90 руб.): 40% от ФОТ (224 руб.) | D28: 1 устройство | E28: 10 5+5 | F28: 28.59 | G28: 28.59 | J28: 286 | K28: 286
B29: ТЕРп03-01-022-01 Постан.Правит.Свердл.обл. от 10.11.10 №1616-ПП | C29: Сеть систем вентиляции и кондиционирования воздуха при количестве сечений до 5 НР (387 руб.): 65% от ФОТ (596 руб.) СП (238 руб.): 40% от ФОТ (596 руб.) | D29: 1 вентиляционная сеть | E29: 4 | F29: 190.58 | G29: 190.58 | J29: 762 | K29: 762
B30: ТЕРп03-01-022-03 Постан.Правит.Свердл.обл. от 10.11.10 №1616-ПП | C30: Сеть систем вентиляции и кондиционирования воздуха при количестве сечений до 15 НР (194 руб.): 65% от ФОТ (299 руб.) СП (120 руб.): 40% от ФОТ (299 руб.) | D30: 1 вентиляционная сеть | E30: 1 | F30: 381.16 | G30: 381.16 | J30: 381 | K30: 381
B31: ТЕРп03-01-041-05 Постан.Правит.Свердл.обл. от 10.11.10 №1616-ПП | C31: Определение потерь (подсосов) воздуха в вентиляционной сети переносным вентилятором при суммарной длине воздуховода до 30 м, площадь сечения воздуховода в месте присоединения переносного вентилятора до 0,5 м2 НР (198 руб.): 65% от ФОТ (305 руб.) СП (122 руб.): 40% от ФОТ (305 руб.) | D31: 1 участок вентиляционной сети | E31: 1 | F31: 389.72 | G31: 389.72 | J31: 390 | K31: 390
B32: ТЕРп03-01-045-02 Постан.Правит.Свердл.обл. от 10.11.10 №1616-ПП | C32: Система воздухораспределения в одном помещении для регулирования метеорологических условий в рабочей зоне при количестве приточных насадков (воздухораспределителей) до 10 НР (146 руб.): 65% от ФОТ (224 руб.) СП (90 руб.): 40% от ФОТ (224 руб.) | D32: 1 помещение | E32: 3 1+2 | F32: 95.29 | G32: 95.29 | J32: 286 | K32: 286
A33: Итого по разделу 1 | J33: 3822
A34: ИТОГИ ПО СМЕТЕ:
A35: Итого прямые затраты по смете в ценах 2001г. | J35: 2382 | K35: 2382
A36: Итого прямые затраты по смете с учетом коэффициентов к итогам | J36: 1864 | K36: 1864
A37: Накладные расходы | J37: 1212
A38: Сметная прибыль | J38: 746
A39: Итоги по смете:
A40: Пусконаладочные работы: 'вхолостую' - 75%, 'под нагрузкой' - 25%:
A41: Итого Поз. | J41: 2382 | K41: 2382
A42: Всего с учетом районного к-та 4,34% | J42: 2485 | K42: 2485
A43: Всего с учетом "Пусконаладочные работы: 'вхолостую' - 75% ПЗ=0,75 (ОЗП=0,75; ЭМ=0,75; ЗПМ=0,75; МАТ=0,75; ТЗ=0,75; ТЗМ=0,75)" | J43: 1864 | K43: 1864
A44: Накладные расходы 65% ФОТ (от 1 864) | J44: 1212
A45: Сметная прибыль 40% ФОТ (от 1 864) | J45: 746
A46: Итого c накладными и см. прибылью | J46: 3822
A47: Итого | J47: 3822
A48: В том числе:
...

Sheet 04-40703-0-0-ХС.ЛС1ПНР
A1: СОГЛАСОВАНО: | J1: УТВЕРЖДАЮ:
A4: ________________ | J4: ________________
A5: " _____ " ________________ 2011 г. | J5: "______ " _______________2011 г.
E7: (наименование стройки)
D9: ЛОКАЛЬНЫЙ СМЕТНЫЙ РАСЧЕТ №
D10: (локальная смета)
B12: на | C12: 04-40703-0-0-ХС.ЛС1 Пусконаладочные работы вхолостую
E13: (наименование работ и затрат, наименование объекта)
C15: Основание: РД 04-40703-0-0-ХС.ВР2
C16: Сметная стоимость прочих _______________________________________________________________________________________________ | E16: ___________________________38,784 | G16: тыс. руб.
C17: Средства на оплату труда _______________________________________________________________________________________________ | E17: ___________________________18,919 | G17: тыс. руб.
C18: Сметная трудоемкость _______________________________________________________________________________________________ | E18: _______________________________________________________________________________________________965,58 | G18: чел.час
C19: Составлен(а) в текущих (прогнозных) ценах по состоянию на _______2011 г.
A22: № пп | B22: Обоснование | C22: Наименование | D22: Ед. изм. | E22: Кол. | F22: Стоимость единицы, руб. | J22: Общая стоимость, руб.
F23: Всего | G23: В том числе | J23: Всего | K23: В том числе
G24: Осн.З/п | H24: Эк.Маш. | I24: З/пМех | K24: Осн.З/п | L24: Эк.Маш. | M24: З/пМех
A25: 1 | B25: 2 | C25: 3 | D25: 4 | E25: 5 | F25: 6 | G25: 7 | H25: 8 | I25: 9 | J25: 10 | K25: 11 | L25: 12 | M25: 13
A26: Раздел 1.
A27: 1 | B27: ТЕРп06-01-015-07 Постан.Правит.Свердл.обл. от 10.11.10 №1616-ПП | C27: Холодильная установка безнасосная для искусственного охлаждения хладоносителем с одним одноступенчатым компрессором, холодопроизводительность до 781 кВт (700 тыс. ккал/ч) НР (12297 руб.): 65% от ФОТ (18919 руб.) СП (7568 руб.): 40% от ФОТ (18919 руб.) | D27: 1 установка | E27: 2 | F27: 15904.88 | G27: 15904.88 | J27: 31810 | K27: 31810
A28: Итого по разделу 1 | J28: 38784
A29: ИТОГИ ПО СМЕТЕ:
A30: Итого прямые затраты по смете в ценах 2001г. | J30: 31810 | K30: 31810
A31: Итого прямые затраты по смете с учетом коэффициентов к итогам | J31: 18919 | K31: 18919
A32: Накладные расходы | J32: 12297
A33: Сметная прибыль | J33: 7568
A34: Итоги по смете:
A35: Пусконаладочные работы: 'вхолостую' - 57%, 'под нагрузкой' - 43%:
A36: Итого Поз. 1 | J36: 31810 | K36: 31810
A37: Всего с учетом районного к-та 4,34% | J37: 33191 | K37: 33191
A38: Всего с учетом "Пусконаладочные работы: 'вхолостую' - 57%, ' ОЗП=0,57; ТЗ=0,57" | J38: 18919 | K38: 18919
A39: Накладные расходы 65% ФОТ (от 18 919) | J39: 12297
A40: Сметная прибыль 40% ФОТ (от 18 919) | J40: 7568
A41: Итого c накладными и см. прибылью | J41: 38784
A42: Итого | J42: 38784
A43: В том числе:
A44: ФОТ | J44: 18919
A45: Накладные расходы | J45: 12297
A46: Сметная прибыль | J46: 7568
A47: ВСЕГО по смете | J47: 38784

Sheet 04-40703-0-0-ЭМ.ЛС1ПНР
A1: ________________ | J1: ________________
A2: " _____ " ________________ 2011 г. | J2: "______ " _______________2011 г.
E4: (наименование стройки)
D6: ЛОКАЛЬНЫЙ СМЕТНЫЙ РАСЧЕТ №
D7: (локальная смета)
B9: на | C9: 04-40703-0-0-ЭМ.ЛС1 Силовое электрооборудование. Пусконаладочные работы
E10: (наименование работ и затрат, наименование объекта)
C12: Основание: 04-40703-0-0-ЭМ.ВР1 (34653И)
C13: Сметная стоимость прочих _______________________________________________________________________________________________ | E13: ___________________________3,741 | G13: тыс. руб.
C14: Средства на оплату труда _______________________________________________________________________________________________ | E14: ___________________________1,825 | G14: тыс. руб.
C15: Сметная трудоемкость _______________________________________________________________________________________________ | E15: _______________________________________________________________________________________________97,17 | G15: чел.час
C16: Составлен(а) в текущих (прогнозных) ценах по состоянию на _______2011 г.
