Workbook

Sheet Смета 12 гр. по ФЕР
A1: =Source!B1 -> Smeta.RU (495) 974-1589
H4: Приложение 1 к Форме 7
B11: СМЕТА
B15: на капитальный ремонт напольного покрытия в помещениях коридоров 2-4-го этажей, 6-18-го этажей в здании общежития НИЯУ МИФИ по адресу: 115522, г. Москва, ул. Москворечье, д.2, к. 1 | AD15: =IF(Source!G12<>"Новый объект", Source!G12, "") -> Замена напольного покрытия 2-4 этажей,6-18 и 24 в общежитии НИЯУ МИФИ по адресу: г. Москва, ул. Москворечье, д.2, к.1
G20: базовая цена | I20: текущая цена
C21: Сметная стоимость | G21: =SUM(O1:O83)/1000 -> 973.86152 | I21: =(Source!P103/1000) -> 7852.3753 | K21: тыс. руб.
C22: Строительные работы | G22: =SUM(W1:W83)/1000 -> 973.86152 | I22: =(Source!P90)/1000 -> 6654.5553 | K22: тыс. руб.
C23: Монтажные работы | G23: =SUM(X1:X83)/1000 -> 0 | I23: =(Source!P91)/1000 -> 0 | K23: тыс. руб.
C24: Оборудование | G24: =SUM(Y1:Y83)/1000 -> 0 | I24: =(Source!P82)/1000 -> 0 | K24: тыс. руб.
C25: Прочие работы | G25: =SUM(Z1:Z83)/1000 -> 0 | I25: =(Source!P92+Source!P93)/1000 -> 0 | K25: тыс. руб.
C26: Нормативная трудоемкость | G26: =I26 -> 9714.1833 | I26: =(Source!P95+Source!P96) -> 9714.1833 | K26: чел. -ч.
C27: Средства на оплату труда | G27: =SUM(R1:R83)/1000 -> 84.98689 | I27: =((Source!P88 + Source!P87)/1000) -> 580.46057 | K27: тыс. руб.
A29: Составлена в ценах IV квартал 2017 года
A30: № п/п | B30: Шифр расценки и коды ресурсов | C30: Наименование работ и затрат | D30: Ед. изм. | E30: Кол-во единиц | F30: Цена на ед. изм. | G30: Попра-вочные коэфф. | H30: Стоимость в ценах 2001г. | I30: Пункт коэфф. пересчета | J30: Коэфф. пересчета | K30: Стоимость в текущих ценах | L30: ЗТР всего чел.-час
A31: 1 | B31: 2 | C31: 3 | D31: 4 | E31: 5 | F31: 6 | G31: 7 | H31: 8 | I31: 9 | J31: 10 | K31: 11 | L31: 12
A33: =CONCATENATE("Локальная смета: ",IF(Source!G20<>"Новая локальная смета", Source!G20, "")) -> Локальная смета:
A34: =Source!E25 -> 1 | B34: =Source!F25 -> 57-3-1 | C34: =Source!G25 -> Разборка плинтусов деревянных и из пластмассовых материалов | D34: =Source!H25 -> 100 м | E34: =Source!I25 -> 26.367 | F34: =Source!AL25+Source!AM25+Source!AO25 -> 29.41 | I34: =Source!BO25 | S34: =ROUND((Source!FX25/100)*((ROUND(Source!AF25*Source!I25, 2)+ROUND(Source!AE25*Source!I25, 2))), 2) -> 620.36 | T34: =Source!X25 -> 4237.08 | U34: =ROUND((Source!FY25/100)*((ROUND(Source!AF25*Source!I25, 2)+ROUND(Source!AE25*Source!I25, 2))), 2) -> 527.31 | V34: =Source!Y25 -> 3601.52
C35: ="Объем: "&Source!I25&"=2636,7/"&"100" -> Объем: 26,367=2636,7/100
C36: Зарплата | F36: =Source!AO25 -> 29.41 | G36: =Source!DG25 | H36: =ROUND(Source!AF25*Source!I25, 2) -> 775.45 | J36: =IF(Source!BA25<> 0, Source!BA25, 1) -> 6.83 | K36: =Source!S25 -> 5296.35 | R36: =H36 -> 775.45
C37: НР от ФОТ | D37: % | E37: =Source!BZ25 -> 80 | H37: =SUM(S34:S39) -> 620.36 | J37: =Source!AT25 -> 80 | K37: =SUM(T34:T39) -> 4237.08
C38: СП от ФОТ | D38: % | E38: =Source!CA25 -> 68 | H38: =SUM(U34:U39) -> 527.31 | J38: =Source!AU25 -> 68 | K38: =SUM(V34:V39) -> 3601.52
C39: Затраты труда | D39: чел-ч | E39: =Source!AQ25 -> 3.77 | G39: =Source!DI25 | L39: =Source!U25 -> 99.40359
G40: =H36+H37+H38 -> 1923.12 | J40: =K36+K37+K38 -> 13134.95 | L40: =Source!U25 -> 99.40359 | O40: =G40 -> 1923.12 | P40: =J40 -> 13134.95 | Q40: =L40 -> 99.40359 | W40: =IF(Source!BI25<=1,H36+H37+H38, 0) -> 1923.12 | X40: =IF(Source!BI25=2,H36+H37+H38, 0) -> 0 | Y40: =IF(Source!BI25=3,H36+H37+H38, 0) -> 0 | Z40: =IF(Source!BI25=4,H36+H37+H38, 0) -> 0
A41: =Source!E27 -> 2 | B41: =Source!F27 -> 57-2-1 | C41: =Source!G27 -> Разборка покрытий полов из линолеума | D41: =Source!H27 -> 100 м2 | E41: =Source!I27 -> 24.207 | F41: =Source!AL27+Source!AM27+Source!AO27 -> 92.9 | I41: =Source!BO27 | S41: =ROUND((Source!FX27/100)*((ROUND(Source!AF27*Source!I27, 2)+ROUND(Source!AE27*Source!I27, 2))), 2) -> 1754.52 | T41: =Source!X27 -> 11983.4 | U41: =ROUND((Source!FY27/100)*((ROUND(Source!AF27*Source!I27, 2)+ROUND(Source!AE27*Source!I27, 2))), 2) -> 1491.34 | V41: =Source!Y27 -> 10185.89
C42: ="Объем: "&Source!I27&"=2420,7/"&"100" -> Объем: 24,207=2420,7/100
C43: Зарплата | F43: =Source!AO27 -> 88.84 | G43: =Source!DG27 | H43: =ROUND(Source!AF27*Source!I27, 2) -> 2150.55 | J43: =IF(Source!BA27<> 0, Source!BA27, 1) -> 6.83 | K43: =Source!S27 -> 14688.26 | R43: =H43 -> 2150.55
C44: Эксплуатация машин | F44: =Source!AM27 -> 4.06 | G44: =Source!DE27 | H44: =ROUND(Source!AD27*Source!I27, 2) -> 98.28 | J44: =IF(Source!BB27<> 0, Source!BB27, 1) -> 6.83 | K44: =Source!Q27 -> 671.26
C45: в т.ч. зарплата машинистов | F45: =Source!AN27 -> 1.76 | G45: =Source!DF27 | H45: =ROUND(Source!AE27*Source!I27, 2) -> 42.6 | J45: =IF(Source!BS27<> 0, Source!BS27, 1) -> 6.83 | K45: =Source!R27 -> 290.99 | R45: =H45 -> 42.6
C46: НР от ФОТ | D46: % | E46: =Source!BZ27 -> 80 | H46: =SUM(S41:S48) -> 1754.52 | J46: =Source!AT27 -> 80 | K46: =SUM(T41:T48) -> 11983.4
C47: СП от ФОТ | D47: % | E47: =Source!CA27 -> 68 | H47: =SUM(U41:U48) -> 1491.34 | J47: =Source!AU27 -> 68 | K47: =SUM(V41:V48) -> 10185.89
C48: Затраты труда | D48: чел-ч | E48: =Source!AQ27 -> 11.39 | G48: =Source!DI27 | L48: =Source!U27 -> 275.71773
G49: =H43+H44+H46+H47 -> 5494.69 | J49: =K43+K44+K46+K47 -> 37528.81 | L49: =Source!U27 -> 275.71773 | O49: =G49 -> 5494.69 | P49: =J49 -> 37528.81 | Q49: =L49 -> 275.71773 | W49: =IF(Source!BI27<=1,H43+H44+H46+H47, 0) -> 5494.69 | X49: =IF(Source!BI27=2,H43+H44+H46+H47, 0) -> 0 | Y49: =IF(Source!BI27=3,H43+H44+H46+H47, 0) -> 0 | Z49: =IF(Source!BI27=4,H43+H44+H46+H47, 0) -> 0
A50: =Source!E29 -> 3 | B50: =Source!F29 -> 11-01-011-08 | C50: =Source!G29 -> Устройство стяжек из выравнивающей смеси типа "Старатели" , толщиной 5 мм | D50: =Source!H29 -> 100 м2 | E50: =Source!I29 -> 24.207 | F50: =Source!AL29+Source!AM29+Source!AO29 -> 11028.89 | I50: =Source!BO29 | S50: =ROUND((Source!FX29/100)*((ROUND(Source!AF29*Source!I29, 2)+ROUND(Source!AE29*Source!I29, 2))), 2) -> 9968.32 | T50: =Source!X29 -> 68268.16 | U50: =ROUND((Source!FY29/100)*((ROUND(Source!AF29*Source!I29, 2)+ROUND(Source!AE29*Source!I29, 2))), 2) -> 5740.57 | V50: =Source!Y29 -> 39361.82
C51: ="Объем: "&Source!I29&"=2420,7/"&"100" -> Объем: 24,207=2420,7/100
C52: Зарплата | F52: =Source!AO29 -> 321.33 | G52: =Source!DG29 -> )*1,15 | H52: =ROUND(Source!AF29*Source!I29, 2) -> 8945.2 | J52: =IF(Source!BA29<> 0, Source!BA29, 1) -> 6.83 | K52: =Source!S29 -> 61095.72 | R52: =H52 -> 8945.2
C53: Эксплуатация машин | F53: =Source!AM29 -> 6.23 | G53: =Source!DE29 -> )*1,25 | H53: =ROUND(Source!AD29*Source!I29, 2) -> 188.51 | J53: =IF(Source!BB29<> 0, Source!BB29, 1) -> 6.83 | K53: =Source!Q29 -> 1287.54
C54: в т.ч. зарплата машинистов | F54: =Source!AN29 -> 1.97 | G54: =Source!DF29 -> )*1,25 | H54: =ROUND(Source!AE29*Source!I29, 2) -> 59.61 | J54: =IF(Source!BS29<> 0, Source!BS29, 1) -> 6.83 | K54: =Source!R29 -> 407.13 | R54: =H54 -> 59.61
C55: Материальные ресурсы | F55: =Source!AL29 -> 10701.33 | G55: =Source!DD29 | H55: =ROUND(Source!AC29*Source!I29, 2) -> 259047.1 | J55: =IF(Source!BC29<> 0, Source!BC29, 1) -> 6.83 | K55: =Source!P29 -> 1769291.7
C56: НР от ФОТ | D56: % | E56: =Source!BZ29 -> 123 | F56: =CONCATENATE(" )", Source!DL29, Source!FT29, "=", Source!FX29) -> )*0,9=110,7 | H56: =SUM(S50:S58) -> 9968.32 | J56: =Source!AT29 -> 111 | K56: =SUM(T50:T58) -> 68268.16
C57: СП от ФОТ | D57: % | E57: =Source!CA29 -> 75 | F57: =CONCATENATE(" )", Source!DM29, Source!FU29, "=", Source!FY29) -> )*0,85=63,75 | H57: =SUM(U50:U58) -> 5740.57 | J57: =Source!AU29 -> 64 | K57: =SUM(V50:V58) -> 39361.82
...

Sheet Source
A1: 0 | B1: Smeta.RU (495) 974-1589 | D1: _PS_ | F1: 0 | G1: 0 | H1: 0 | I1: Smeta.RU | J1: НИЯУ МИФИ Доп. раб. место MCCS-0027251 | K1: 0 | L1: 27251 | M1: 10
A12: 1 | B12: 134 | C12: 0 | D12: =ROW(A73) -> 73 | E12: 0 | F12: Новый объект_(Копия)_(Копия)_(Копия) | G12: Замена напольного покрытия 2-4 этажей,6-18 и 24 в общежитии НИЯУ МИФИ по адресу: г. Москва, ул. Москворечье, д.2, к.1 | I12: 0 | K12: 0 | O12: 0 | P12: 0 | Q12: 0 | R12: 0 | S12: 0 | V12: 0 | BH12: Сметные нормы списания | BI12: Коды ценников | BJ12: 1 | BK12: 1 | BL12: 0 | BM12: 0 | BN12: 1 | BO12: 0 | BP12: 6 | BQ12: 2 | BR12: 1 | BS12: 1 | BT12: 0 | BU12: 0 | BV12: 0 | BW12: 0 | BX12: 0 | BY12: ФЕР-2017 | BZ12: ТР для Версии 10: Центральные регионы (с учетом п-ма 2536-ИП/12/ГС от 22.03.2017 г | CA12: ФЕР-2017 | CB12: ФЕР-2017 | CC12: ФЕР-2017 | CD12: ФЕР-2017 | CE12: Поправки для ГСН 2017 от 31.03.2017 г | CF12: 0 | CG12: 0 | CH12: 524288 | CK12: 0 | EC12: 0
A15: 15 | B15: 1
A18: 52 | B18: =B73 -> 134 | C18: =C73 -> 1 | D18: =D73 -> 12 | E18: =E73 -> 0 | F18: =F73 -> Новый объект_(Копия)_(Копия)_(Копия) | G18: =G73 -> Замена напольного покрытия 2-4 этажей,6-18 и 24 в общежитии НИЯУ МИФИ по адресу: г. Москва, ул. Москворечье, д.2, к.1 | O18: =O73 -> 826387.08 | P18: =P73 -> 740919.08 | Q18: =Q73 -> 1052.66 | R18: =R73 -> 571.55 | S18: =S73 -> 84415.34 | T18: =T73 -> 0 | U18: =U73 -> 9660.3888 | V18: =V73 -> 53.79447 | ... GX18: =GX73 -> 0
A20: 3 | B20: 1 | D20: =ROW(A41) -> 41 | F20: Новая локальная смета | G20: Новая локальная смета | I20: 0 | K20: 0 | V20: 0 | BX20: 0 | CF20: 0 | CG20: 0
A22: 52 | B22: =B41 -> 1 | C22: =C41 -> 3 | D22: =D41 -> 20 | E22: =E41 -> 0 | F22: =F41 -> Новая локальная смета | G22: =G41 -> Новая локальная смета | O22: =O41 -> 826387.08 | P22: =P41 -> 740919.08 | Q22: =Q41 -> 1052.66 | R22: =R41 -> 571.55 | S22: =S41 -> 84415.34 | T22: =T41 -> 0 | U22: =U41 -> 9660.3888 | V22: =V41 -> 53.79447 | ... GX22: =GX41 -> 0
A24: 17 | B24: 1 | C24: =ROW(SmtRes!A1) -> 1 | D24: =ROW(EtalonRes!A2) -> 2 | E24: 1 | F24: 57-3-1 | G24: Разборка плинтусов деревянных и из пластмассовых материалов | H24: 100 м | I24: =ROUND(2636.7/100,9) -> 26.367 | J24: 0 | O24: =ROUND(CP24,2) -> 775.45 | P24: =ROUND(CQ24*I24,2) -> 0 | Q24: =ROUND(CR24*I24,2) -> 0 | R24: =ROUND(CS24*I24,2) -> 0 | S24: =ROUND(CT24*I24,2) -> 775.45 | T24: =ROUND(CU24*I24,2) -> 0 | U24: =CV24*I24 -> 99.40359 | V24: =CW24*I24 -> 0 | W24: =ROUND(CX24*I24,2) -> 0 | X24: =ROUND(CY24,2) -> 620.36 | Y24: =ROUND(CZ24,2) -> 527.31 | AA24: 16492569 | AB24: =ROUND((AC24+AD24+AF24),6) -> 29.41 | AC24: =ROUND((ES24),6) -> 0 | AD24: =ROUND((((ET24)-(EU24))+AE24),6) -> 0 | AE24: =ROUND((EU24),6) -> 0 | AF24: =ROUND((EV24),6) -> 29.41 | AG24: =ROUND((AP24),6) -> 0 | AH24: =(EW24) -> 3.77 | AI24: =(EX24) -> 0 | AJ24: =ROUND((AS24),6) -> 0 | AK24: 29.41 | AL24: 0 | AM24: 0 | AN24: 0 | AO24: 29.41 | AP24: 0 | AQ24: 3.77 | AR24: 0 | AS24: 0 | AT24: 80 | AU24: 68 | AV24: 1 | AW24: 1 | AZ24: 1 | BA24: 1 | BB24: 1 | BC24: 1 | BH24: 0 | BI24: 1 | BJ24: ФЕР-2001, 57-3-1, приказ Минстроя России №1039/пр от 30.12.2016г. | BM24: 57001 | BN24: 0 | BP24: 0 | BQ24: 6 | BR24: 0 | BS24: 1 | BT24: 1 | BU24: 1 | BV24: 1 | BW24: 1 | BX24: 1 | BZ24: 80 | CA24: 68 | CF24: 0 | CG24: 0 | CM24: 0 | CO24: 0 | CP24: =(P24+Q24+S24) -> 775.45 | CQ24: =AC24*BC24 -> 0 | CR24: =AD24*BB24 -> 0 | CS24: =AE24*BS24 -> 0 | CT24: =AF24*BA24 -> 29.41 | CU24: =AG24 -> 0 | CV24: =AH24 -> 3.77 | CW24: =AI24 -> 0 | CX24: =AJ24 -> 0 | CY24: =(((S24+R24)*AT24)/100) -> 620.36 | CZ24: =(((S24+R24)*AU24)/100) -> 527.306 | DN24: 0 | DO24: 0 | DP24: 1 | DQ24: 1 | DU24: 1003 | DV24: 100 м | DW24: 100 м | DX24: 100 | EE24: 15139179 | EF24: 6 | EG24: Ремонтно-строительные работы | EH24: 0 | EJ24: 1 | EK24: 57001 | EL24: Полы | EM24: рФЕР-57 | EQ24: 131072 | ER24: 29.41 | ES24: 0 | ET24: 0 | EU24: 0 | EV24: 29.41 | EW24: 3.77 | EX24: 0 | EY24: 0 | FQ24: 0 | FR24: =ROUND(IF(AND(BH24=3,BI24=3),P24,0),2) -> 0 | FS24: 0 | FX24: 80 | FY24: 68 | GD24: 0 | GF24: -1431764135 | GG24: 2 | GH24: 1 | GI24: -2 | GJ24: 0 | GK24: =ROUND(R24*(R12)/100,2) -> 0 | GL24: =ROUND(IF(AND(BH24=3,BI24=3,FS24<>0),P24,0),2) -> 0 | GM24: =ROUND(O24+X24+Y24+GK24,2)+GX24 -> 1923.12 | GN24: =IF(OR(BI24=0,BI24=1),ROUND(O24+X24+Y24+GK24,2),0) -> 1923.12 | GO24: =IF(BI24=2,ROUND(O24+X24+Y24+GK24,2),0) -> 0 | GP24: =IF(BI24=4,ROUND(O24+X24+Y24+GK24,2)+GX24,0) -> 0 | GR24: 0 | GS24: 3 | GT24: 0 | GV24: =ROUND(GT24,6) -> 0 | GW24: 1 | GX24: =ROUND(GV24*GW24*I24,2) -> 0 | HA24: 0 | HB24: 0 | IK24: 0
A25: 17 | B25: 1 | C25: =ROW(SmtRes!A2) -> 2 | D25: =ROW(EtalonRes!A4) -> 4 | E25: 1 | F25: 57-3-1 | G25: Разборка плинтусов деревянных и из пластмассовых материалов | H25: 100 м | I25: =ROUND(2636.7/100,9) -> 26.367 | J25: 0 | O25: =ROUND(CP25,2) -> 5296.35 | P25: =ROUND(CQ25*I25,2) -> 0 | Q25: =ROUND(CR25*I25,2) -> 0 | R25: =ROUND(CS25*I25,2) -> 0 | S25: =ROUND(CT25*I25,2) -> 5296.35 | T25: =ROUND(CU25*I25,2) -> 0 | U25: =CV25*I25 -> 99.40359 | V25: =CW25*I25 -> 0 | W25: =ROUND(CX25*I25,2) -> 0 | X25: =ROUND(CY25,2) -> 4237.08 | Y25: =ROUND(CZ25,2) -> 3601.52 | AA25: 16492570 | AB25: =ROUND((AC25+AD25+AF25),6) -> 29.41 | AC25: =ROUND((ES25),6) -> 0 | AD25: =ROUND((((ET25)-(EU25))+AE25),6) -> 0 | AE25: =ROUND((EU25),6) -> 0 | AF25: =ROUND((EV25),6) -> 29.41 | AG25: =ROUND((AP25),6) -> 0 | AH25: =(EW25) -> 3.77 | AI25: =(EX25) -> 0 | AJ25: =ROUND((AS25),6) -> 0 | AK25: 29.41 | AL25: 0 | AM25: 0 | AN25: 0 | AO25: 29.41 | AP25: 0 | AQ25: 3.77 | AR25: 0 | AS25: 0 | AT25: 80 | AU25: 68 | AV25: 1 | AW25: 1 | AZ25: 6.83 | BA25: 6.83 | BB25: 6.83 | BC25: 6.83 | BH25: 0 | BI25: 1 | BJ25: ФЕР-2001, 57-3-1, приказ Минстроя России №1039/пр от 30.12.2016г. | BM25: 57001 | BN25: 0 | BP25: 0 | BQ25: 6 | BR25: 0 | BS25: 6.83 | BT25: 1 | BU25: 1 | BV25: 1 | BW25: 1 | BX25: 1 | BZ25: 80 | CA25: 68 | CF25: 0 | CG25: 0 | CM25: 0 | CO25: 0 | CP25: =(P25+Q25+S25) -> 5296.35 | CQ25: =AC25*BC25 -> 0 | CR25: =AD25*BB25 -> 0 | CS25: =AE25*BS25 -> 0 | CT25: =AF25*BA25 -> 200.8703 | CU25: =AG25 -> 0 | CV25: =AH25 -> 3.77 | CW25: =AI25 -> 0 | CX25: =AJ25 -> 0 | CY25: =(((S25+R25)*AT25)/100) -> 4237.08 | CZ25: =(((S25+R25)*AU25)/100) -> 3601.518 | DN25: 0 | DO25: 0 | DP25: 1 | DQ25: 1 | DU25: 1003 | DV25: 100 м | DW25: 100 м | DX25: 100 | EE25: 15139179 | EF25: 6 | EG25: Ремонтно-строительные работы | EH25: 0 | EJ25: 1 | EK25: 57001 | EL25: Полы | EM25: рФЕР-57 | EQ25: 131072 | ER25: 29.41 | ES25: 0 | ET25: 0 | EU25: 0 | EV25: 29.41 | EW25: 3.77 | EX25: 0 | EY25: 0 | FQ25: 0 | FR25: =ROUND(IF(AND(BH25=3,BI25=3),P25,0),2) -> 0 | FS25: 0 | FX25: 80 | FY25: 68 | GD25: 0 | GF25: -1431764135 | GG25: 1 | GH25: 1 | GI25: 4 | GJ25: 0 | GK25: =ROUND(R25*(S12)/100,2) -> 0 | GL25: =ROUND(IF(AND(BH25=3,BI25=3,FS25<>0),P25,0),2) -> 0 | GM25: =ROUND(O25+X25+Y25+GK25,2)+GX25 -> 13134.95 | GN25: =IF(OR(BI25=0,BI25=1),ROUND(O25+X25+Y25+GK25,2),0) -> 13134.95 | GO25: =IF(BI25=2,ROUND(O25+X25+Y25+GK25,2),0) -> 0 | GP25: =IF(BI25=4,ROUND(O25+X25+Y25+GK25,2)+GX25,0) -> 0 | GR25: 0 | GS25: 3 | GT25: 0 | GV25: =ROUND(GT25,6) -> 0 | GW25: 1 | GX25: =ROUND(GV25*GW25*I25,2) -> 0 | HA25: 0 | HB25: 0 | IK25: 0
A26: 17 | B26: 1 | C26: =ROW(SmtRes!A5) -> 5 | D26: =ROW(EtalonRes!A8) -> 8 | E26: 2 | F26: 57-2-1 | G26: Разборка покрытий полов из линолеума | H26: 100 м2 | I26: =ROUND(2420.7/100,9) -> 24.207 | J26: 0 | O26: =ROUND(CP26,2) -> 2248.83 | P26: =ROUND(CQ26*I26,2) -> 0 | Q26: =ROUND(CR26*I26,2) -> 98.28 | R26: =ROUND(CS26*I26,2) -> 42.6 | S26: =ROUND(CT26*I26,2) -> 2150.55 | T26: =ROUND(CU26*I26,2) -> 0 | U26: =CV26*I26 -> 275.71773 | V26: =CW26*I26 -> 3.14691 | W26: =ROUND(CX26*I26,2) -> 0 | X26: =ROUND(CY26,2) -> 1754.52 | Y26: =ROUND(CZ26,2) -> 1491.34 | AA26: 16492569 | AB26: =ROUND((AC26+AD26+AF26),6) -> 92.9 | AC26: =ROUND((ES26),6) -> 0 | AD26: =ROUND((((ET26)-(EU26))+AE26),6) -> 4.06 | AE26: =ROUND((EU26),6) -> 1.76 | AF26: =ROUND((EV26),6) -> 88.84 | AG26: =ROUND((AP26),6) -> 0 | AH26: =(EW26) -> 11.39 | AI26: =(EX26) -> 0.13 | AJ26: =ROUND((AS26),6) -> 0 | AK26: 92.9 | AL26: 0 | AM26: 4.06 | AN26: 1.76 | AO26: 88.84 | AP26: 0 | AQ26: 11.39 | AR26: 0.13 | AS26: 0 | AT26: 80 | AU26: 68 | AV26: 1 | AW26: 1 | AZ26: 1 | BA26: 1 | BB26: 1 | BC26: 1 | BH26: 0 | BI26: 1 | BJ26: ФЕР-2001, 57-2-1, приказ Минстроя России №1039/пр от 30.12.2016г. | BM26: 57001 | BN26: 0 | BP26: 0 | BQ26: 6 | BR26: 0 | BS26: 1 | BT26: 1 | BU26: 1 | BV26: 1 | BW26: 1 | BX26: 1 | BZ26: 80 | CA26: 68 | CF26: 0 | CG26: 0 | CM26: 0 | CO26: 0 | CP26: =(P26+Q26+S26) -> 2248.83 | CQ26: =AC26*BC26 -> 0 | CR26: =AD26*BB26 -> 4.06 | CS26: =AE26*BS26 -> 1.76 | CT26: =AF26*BA26 -> 88.84 | CU26: =AG26 -> 0 | CV26: =AH26 -> 11.39 | CW26: =AI26 -> 0.13 | CX26: =AJ26 -> 0 | CY26: =(((S26+R26)*AT26)/100) -> 1754.52 | CZ26: =(((S26+R26)*AU26)/100) -> 1491.342 | DN26: 0 | DO26: 0 | DP26: 1 | DQ26: 1 | DU26: 1005 | DV26: 100 м2 | DW26: 100 м2 | DX26: 100 | EE26: 15139179 | EF26: 6 | EG26: Ремонтно-строительные работы | EH26: 0 | EJ26: 1 | EK26: 57001 | EL26: Полы | EM26: рФЕР-57 | EQ26: 131072 | ER26: 92.9 | ES26: 0 | ET26: 4.06 | EU26: 1.76 | EV26: 88.84 | EW26: 11.39 | EX26: 0.13 | EY26: 0 | FQ26: 0 | FR26: =ROUND(IF(AND(BH26=3,BI26=3),P26,0),2) -> 0 | FS26: 0 | FX26: 80 | FY26: 68 | GD26: 0 | GF26: 334444289 | GG26: 2 | GH26: 1 | GI26: -2 | GJ26: 0 | GK26: =ROUND(R26*(R12)/100,2) -> 0 | GL26: =ROUND(IF(AND(BH26=3,BI26=3,FS26<>0),P26,0),2) -> 0 | GM26: =ROUND(O26+X26+Y26+GK26,2)+GX26 -> 5494.69 | GN26: =IF(OR(BI26=0,BI26=1),ROUND(O26+X26+Y26+GK26,2),0) -> 5494.69 | GO26: =IF(BI26=2,ROUND(O26+X26+Y26+GK26,2),0) -> 0 | GP26: =IF(BI26=4,ROUND(O26+X26+Y26+GK26,2)+GX26,0) -> 0 | GR26: 0 | GS26: 3 | GT26: 0 | GV26: =ROUND(GT26,6) -> 0 | GW26: 1 | GX26: =ROUND(GV26*GW26*I26,2) -> 0 | HA26: 0 | HB26: 0 | IK26: 0
A27: 17 | B27: 1 | C27: =ROW(SmtRes!A8) -> 8 | D27: =ROW(EtalonRes!A12) -> 12 | E27: 2 | F27: 57-2-1 | G27: Разборка покрытий полов из линолеума | H27: 100 м2 | I27: =ROUND(2420.7/100,9) -> 24.207 | J27: 0 | O27: =ROUND(CP27,2) -> 15359.52 | P27: =ROUND(CQ27*I27,2) -> 0 | Q27: =ROUND(CR27*I27,2) -> 671.26 | R27: =ROUND(CS27*I27,2) -> 290.99 | S27: =ROUND(CT27*I27,2) -> 14688.26 | T27: =ROUND(CU27*I27,2) -> 0 | U27: =CV27*I27 -> 275.71773 | V27: =CW27*I27 -> 3.14691 | W27: =ROUND(CX27*I27,2) -> 0 | X27: =ROUND(CY27,2) -> 11983.4 | Y27: =ROUND(CZ27,2) -> 10185.89 | AA27: 16492570 | AB27: =ROUND((AC27+AD27+AF27),6) -> 92.9 | AC27: =ROUND((ES27),6) -> 0 | AD27: =ROUND((((ET27)-(EU27))+AE27),6) -> 4.06 | AE27: =ROUND((EU27),6) -> 1.76 | AF27: =ROUND((EV27),6) -> 88.84 | AG27: =ROUND((AP27),6) -> 0 | AH27: =(EW27) -> 11.39 | AI27: =(EX27) -> 0.13 | AJ27: =ROUND((AS27),6) -> 0 | AK27: 92.9 | AL27: 0 | AM27: 4.06 | AN27: 1.76 | AO27: 88.84 | AP27: 0 | AQ27: 11.39 | AR27: 0.13 | AS27: 0 | AT27: 80 | AU27: 68 | AV27: 1 | AW27: 1 | AZ27: 6.83 | BA27: 6.83 | BB27: 6.83 | BC27: 6.83 | BH27: 0 | BI27: 1 | BJ27: ФЕР-2001, 57-2-1, приказ Минстроя России №1039/пр от 30.12.2016г. | BM27: 57001 | BN27: 0 | BP27: 0 | BQ27: 6 | BR27: 0 | BS27: 6.83 | BT27: 1 | BU27: 1 | BV27: 1 | BW27: 1 | BX27: 1 | BZ27: 80 | CA27: 68 | CF27: 0 | CG27: 0 | CM27: 0 | CO27: 0 | CP27: =(P27+Q27+S27) -> 15359.52 | CQ27: =AC27*BC27 -> 0 | CR27: =AD27*BB27 -> 27.7298 | CS27: =AE27*BS27 -> 12.0208 | CT27: =AF27*BA27 -> 606.7772 | CU27: =AG27 -> 0 | CV27: =AH27 -> 11.39 | CW27: =AI27 -> 0.13 | CX27: =AJ27 -> 0 | CY27: =(((S27+R27)*AT27)/100) -> 11983.4 | CZ27: =(((S27+R27)*AU27)/100) -> 10185.89 | DN27: 0 | DO27: 0 | DP27: 1 | DQ27: 1 | DU27: 1005 | DV27: 100 м2 | DW27: 100 м2 | DX27: 100 | EE27: 15139179 | EF27: 6 | EG27: Ремонтно-строительные работы | EH27: 0 | EJ27: 1 | EK27: 57001 | EL27: Полы | EM27: рФЕР-57 | EQ27: 131072 | ER27: 92.9 | ES27: 0 | ET27: 4.06 | EU27: 1.76 | EV27: 88.84 | EW27: 11.39 | EX27: 0.13 | EY27: 0 | FQ27: 0 | FR27: =ROUND(IF(AND(BH27=3,BI27=3),P27,0),2) -> 0 | FS27: 0 | FX27: 80 | FY27: 68 | GD27: 0 | GF27: 334444289 | GG27: 1 | GH27: 1 | GI27: 4 | GJ27: 0 | GK27: =ROUND(R27*(S12)/100,2) -> 0 | GL27: =ROUND(IF(AND(BH27=3,BI27=3,FS27<>0),P27,0),2) -> 0 | GM27: =ROUND(O27+X27+Y27+GK27,2)+GX27 -> 37528.81 | GN27: =IF(OR(BI27=0,BI27=1),ROUND(O27+X27+Y27+GK27,2),0) -> 37528.81 | GO27: =IF(BI27=2,ROUND(O27+X27+Y27+GK27,2),0) -> 0 | GP27: =IF(BI27=4,ROUND(O27+X27+Y27+GK27,2)+GX27,0) -> 0 | GR27: 0 | GS27: 3 | GT27: 0 | GV27: =ROUND(GT27,6) -> 0 | GW27: 1 | GX27: =ROUND(GV27*GW27*I27,2) -> 0 | HA27: 0 | HB27: 0 | IK27: 0
A28: 17 | B28: 1 | C28: =ROW(SmtRes!A15) -> 15 | D28: =ROW(EtalonRes!A19) -> 19 | E28: 3 | F28: 11-01-011-08 | G28: Устройство стяжек из выравнивающей смеси типа "Старатели" , толщиной 5 мм | H28: 100 м2 | I28: =ROUND(2420.7/100,9) -> 24.207 | J28: 0 | O28: =ROUND(CP28,2) -> 268180.81 | P28: =ROUND(CQ28*I28,2) -> 259047.1 | Q28: =ROUND(CR28*I28,2) -> 188.51 | R28: =ROUND(CS28*I28,2) -> 59.61 | S28: =ROUND(CT28*I28,2) -> 8945.2 | T28: =ROUND(CU28*I28,2) -> 0 | U28: =CV28*I28 -> 1048.6593 | V28: =CW28*I28 -> 5.1439875 | W28: =ROUND(CX28*I28,2) -> 0 | X28: =ROUND(CY28,2) -> 9995.34 | Y28: =ROUND(CZ28,2) -> 5763.08 | AA28: 16492569 | AB28: =ROUND((AC28+AD28+AF28),6) -> 11078.647 | AC28: =ROUND((ES28),6) -> 10701.33 | AD28: =ROUND(((((ET28*1.25))-((EU28*1.25)))+AE28),6) -> 7.7875 | AE28: =ROUND(((EU28*1.25)),6) -> 2.4625 | AF28: =ROUND(((EV28*1.15)),6) -> 369.5295 | AG28: =ROUND((AP28),6) -> 0 | AH28: =((EW28*1.15)) -> 43.3205 | AI28: =((EX28*1.25)) -> 0.2125 | AJ28: =ROUND((AS28),6) -> 0 | AK28: 11028.89 | AL28: 10701.33 | AM28: 6.23 | AN28: 1.97 | AO28: 321.33 | AP28: 0 | AQ28: 37.67 | AR28: 0.17 | AS28: 0 | AT28: 111 | AU28: 64 | AV28: 1 | AW28: 1 | AZ28: 1 | BA28: 1 | BB28: 1 | BC28: 1 | BH28: 0 | BI28: 1 | BJ28: ФЕР-2001, 11-01-011-08, приказ Минстроя России №1039/пр от 30.12.2016г. | BM28: 11001 | BN28: 0 | BP28: 0 | BQ28: 2 | BR28: 0 | BS28: 1 | BT28: 1 | BU28: 1 | BV28: 1 | BW28: 1 | BX28: 1 | BZ28: 123 | CA28: 75 | CF28: 0 | CG28: 0 | CM28: 0 | CN28: Поправка: МДС 81-35.2004, п.4.7 Наименование: Работы, выполняемые при реконструкции зданий и сооружений работы, аналогичные технологическим процессам в новом строительстве (в том числе возведение новых конструктивных элементов) стоимость которых определена по соответствующим сборникам ФЕР, кроме сборника № 46 «Работы при реконструкции зданий и сооружений» | CO28: 0 | CP28: =(P28+Q28+S28) -> 268180.81 | CQ28: =AC28*BC28 -> 10701.33 | CR28: =AD28*BB28 -> 7.7875 | CS28: =AE28*BS28 -> 2.4625 | CT28: =AF28*BA28 -> 369.5295 | CU28: =AG28 -> 0 | CV28: =AH28 -> 43.3205 | CW28: =AI28 -> 0.2125 | CX28: =AJ28 -> 0 | CY28: =(((S28+R28)*AT28)/100) -> 9995.3391 | CZ28: =(((S28+R28)*AU28)/100) -> 5763.0784 | DE28: )*1,25 | DF28: )*1,25 | DG28: )*1,15 | DI28: )*1,15 | DJ28: )*1,25 | DN28: 0 | DO28: 0 | DP28: 1 | DQ28: 1 | DU28: 1005 | DV28: 100 м2 | DW28: 100 м2 | DX28: 100 | EE28: 15139101 | EF28: 2 | EG28: Общестроительные работы | EH28: 0 | EJ28: 1 | EK28: 11001 | EL28: Полы | EM28: ФЕР-11 | EO28: Поправка: МДС 81-35.2004, п.4.7 | EQ28: 0 | ER28: 11028.89 | ES28: 10701.33 | ET28: 6.23 | EU28: 1.97 | EV28: 321.33 | EW28: 37.67 | EX28: 0.17 | EY28: 0 | FQ28: 0 | FR28: =ROUND(IF(AND(BH28=3,BI28=3),P28,0),2) -> 0 | FS28: 0 | FT28: *0,9 | FU28: *0,85 | FX28: 110.7 | FY28: 63.75 | GD28: 0 | GF28: 973139087 | GG28: 2 | GH28: 1 | GI28: -2 | GJ28: 0 | GK28: =ROUND(R28*(R12)/100,2) -> 0 | GL28: =ROUND(IF(AND(BH28=3,BI28=3,FS28<>0),P28,0),2) -> 0 | GM28: =ROUND(O28+X28+Y28+GK28,2)+GX28 -> 283939.23 | GN28: =IF(OR(BI28=0,BI28=1),ROUND(O28+X28+Y28+GK28,2),0) -> 283939.23 | GO28: =IF(BI28=2,ROUND(O28+X28+Y28+GK28,2),0) -> 0 | GP28: =IF(BI28=4,ROUND(O28+X28+Y28+GK28,2)+GX28,0) -> 0 | GR28: 0 | GS28: 3 | GT28: 0 | GV28: =ROUND(GT28,6) -> 0 | GW28: 1 | GX28: =ROUND(GV28*GW28*I28,2) -> 0 | HA28: 0 | HB28: 0 | IK28: 0
A29: 17 | B29: 1 | C29: =ROW(SmtRes!A22) -> 22 | D29: =ROW(EtalonRes!A26) -> 26 | E29: 3 | F29: 11-01-011-08 | G29: Устройство стяжек из выравнивающей смеси типа "Старатели" , толщиной 5 мм | H29: 100 м2 | I29: =ROUND(2420.7/100,9) -> 24.207 | J29: 0 | O29: =ROUND(CP29,2) -> 1831674.9 | P29: =ROUND(CQ29*I29,2) -> 1769291.7 | Q29: =ROUND(CR29*I29,2) -> 1287.54 | R29: =ROUND(CS29*I29,2) -> 407.13 | S29: =ROUND(CT29*I29,2) -> 61095.72 | T29: =ROUND(CU29*I29,2) -> 0 | U29: =CV29*I29 -> 1048.6593 | V29: =CW29*I29 -> 5.1439875 | W29: =ROUND(CX29*I29,2) -> 0 | X29: =ROUND(CY29,2) -> 68268.16 | Y29: =ROUND(CZ29,2) -> 39361.82 | AA29: 16492570 | AB29: =ROUND((AC29+AD29+AF29),6) -> 11078.647 | AC29: =ROUND((ES29),6) -> 10701.33 | AD29: =ROUND(((((ET29*1.25))-((EU29*1.25)))+AE29),6) -> 7.7875 | AE29: =ROUND(((EU29*1.25)),6) -> 2.4625 | AF29: =ROUND(((EV29*1.15)),6) -> 369.5295 | AG29: =ROUND((AP29),6) -> 0 | AH29: =((EW29*1.15)) -> 43.3205 | AI29: =((EX29*1.25)) -> 0.2125 | AJ29: =ROUND((AS29),6) -> 0 | AK29: 11028.89 | AL29: 10701.33 | AM29: 6.23 | AN29: 1.97 | AO29: 321.33 | AP29: 0 | AQ29: 37.67 | AR29: 0.17 | AS29: 0 | AT29: 111 | AU29: 64 | AV29: 1 | AW29: 1 | AZ29: 6.83 | BA29: 6.83 | BB29: 6.83 | BC29: 6.83 | BH29: 0 | BI29: 1 | BJ29: ФЕР-2001, 11-01-011-08, приказ Минстроя России №1039/пр от 30.12.2016г. | BM29: 11001 | BN29: 0 | BP29: 0 | BQ29: 2 | BR29: 0 | BS29: 6.83 | BT29: 1 | BU29: 1 | BV29: 1 | BW29: 1 | BX29: 1 | BZ29: 123 | CA29: 75 | CF29: 0 | CG29: 0 | CM29: 0 | CN29: Поправка: МДС 81-35.2004, п.4.7 Наименование: Работы, выполняемые при реконструкции зданий и сооружений работы, аналогичные технологическим процессам в новом строительстве (в том числе возведение новых конструктивных элементов) стоимость которых определена по соответствующим сборникам ФЕР, кроме сборника № 46 «Работы при реконструкции зданий и сооружений» | CO29: 0 | CP29: =(P29+Q29+S29) -> 1831674.9 | CQ29: =AC29*BC29 -> 73090.084 | CR29: =AD29*BB29 -> 53.188625 | CS29: =AE29*BS29 -> 16.818875 | CT29: =AF29*BA29 -> 2523.8865 | CU29: =AG29 -> 0 | CV29: =AH29 -> 43.3205 | CW29: =AI29 -> 0.2125 | CX29: =AJ29 -> 0 | CY29: =(((S29+R29)*AT29)/100) -> 68268.163 | CZ29: =(((S29+R29)*AU29)/100) -> 39361.824 | DE29: )*1,25 | DF29: )*1,25 | DG29: )*1,15 | DI29: )*1,15 | DJ29: )*1,25 | DN29: 0 | DO29: 0 | DP29: 1 | DQ29: 1 | DU29: 1005 | DV29: 100 м2 | DW29: 100 м2 | DX29: 100 | EE29: 15139101 | EF29: 2 | EG29: Общестроительные работы | EH29: 0 | EJ29: 1 | EK29: 11001 | EL29: Полы | EM29: ФЕР-11 | EO29: Поправка: МДС 81-35.2004, п.4.7 | EQ29: 0 | ER29: 11028.89 | ES29: 10701.33 | ET29: 6.23 | EU29: 1.97 | EV29: 321.33 | EW29: 37.67 | EX29: 0.17 | EY29: 0 | FQ29: 0 | FR29: =ROUND(IF(AND(BH29=3,BI29=3),P29,0),2) -> 0 | FS29: 0 | FT29: *0,9 | FU29: *0,85 | FX29: 110.7 | FY29: 63.75 | GD29: 0 | GF29: 973139087 | GG29: 1 | GH29: 1 | GI29: 4 | GJ29: 0 | GK29: =ROUND(R29*(S12)/100,2) -> 0 | GL29: =ROUND(IF(AND(BH29=3,BI29=3,FS29<>0),P29,0),2) -> 0 | GM29: =ROUND(O29+X29+Y29+GK29,2)+GX29 -> 1939304.9 | GN29: =IF(OR(BI29=0,BI29=1),ROUND(O29+X29+Y29+GK29,2),0) -> 1939304.9 | GO29: =IF(BI29=2,ROUND(O29+X29+Y29+GK29,2),0) -> 0 | GP29: =IF(BI29=4,ROUND(O29+X29+Y29+GK29,2)+GX29,0) -> 0 | GR29: 0 | GS29: 3 | GT29: 0 | GV29: =ROUND(GT29,6) -> 0 | GW29: 1 | GX29: =ROUND(GV29*GW29*I29,2) -> 0 | HA29: 0 | HB29: 0 | IK29: 0
A30: 17 | B30: 1 | C30: =ROW(SmtRes!A33) -> 33 | D30: =ROW(EtalonRes!A38) -> 38 | E30: 4 | F30: 11-01-047-01 | G30: Устройство покрытий из плит керамогранитных размером 40х40 см | H30: 100 м2 | I30: =ROUND(2420.7/100,9) -> 24.207 | J30: 0 | O30: =ROUND(CP30,2) -> 522311.06 | P30: =ROUND(CQ30*I30,2) -> 456051.17 | Q30: =ROUND(CR30*I30,2) -> 584.6 | R30: =ROUND(CS30*I30,2) -> 423.86 | S30: =ROUND(CT30*I30,2) -> 65675.29 | T30: =ROUND(CU30*I30,2) -> 0 | U30: =CV30*I30 -> 7514.3369 | V30: =CW30*I30 -> 41.87811 | W30: =ROUND(CX30*I30,2) -> 0 | X30: =ROUND(CY30,2) -> 73370.06 | Y30: =ROUND(CZ30,2) -> 42303.46 | AA30: 16492569 | AB30: =ROUND((AC30+AD30+AF30),6) -> 21576.86 | AC30: =ROUND((ES30),6) -> 18839.64 | AD30: =ROUND((((ET30)-(EU30))+AE30),6) -> 24.15 | AE30: =ROUND((EU30),6) -> 17.51 | AF30: =ROUND((EV30),6) -> 2713.07 | AG30: =ROUND((AP30),6) -> 0 | AH30: =(EW30) -> 310.42 | AI30: =(EX30) -> 1.73 | AJ30: =ROUND((AS30),6) -> 0 | AK30: 21576.86 | AL30: 18839.64 | AM30: 24.15 | AN30: 17.51 | AO30: 2713.07 | AP30: 0 | AQ30: 310.42 | AR30: 1.73 | AS30: 0 | AT30: 111 | AU30: 64 | AV30: 1 | AW30: 1 | AZ30: 1 | BA30: 1 | BB30: 1 | BC30: 1 | BH30: 0 | BI30: 1 | BJ30: ФЕР-2001, 11-01-047-01, приказ Минстроя России №1039/пр от 30.12.2016г. | BM30: 11001 | BN30: 0 | BP30: 0 | BQ30: 2 | BR30: 0 | BS30: 1 | BT30: 1 | BU30: 1 | BV30: 1 | BW30: 1 | BX30: 1 | BZ30: 123 | CA30: 75 | CF30: 0 | CG30: 0 | CM30: 0 | CO30: 0 | CP30: =(P30+Q30+S30) -> 522311.06 | CQ30: =AC30*BC30 -> 18839.64 | CR30: =AD30*BB30 -> 24.15 | CS30: =AE30*BS30 -> 17.51 | CT30: =AF30*BA30 -> 2713.07 | CU30: =AG30 -> 0 | CV30: =AH30 -> 310.42 | CW30: =AI30 -> 1.73 | CX30: =AJ30 -> 0 | CY30: =(((S30+R30)*AT30)/100) -> 73370.056 | CZ30: =(((S30+R30)*AU30)/100) -> 42303.456 | DN30: 0 | DO30: 0 | DP30: 1 | DQ30: 1 | DU30: 1005 | DV30: 100 м2 | DW30: 100 м2 | DX30: 100 | EE30: 15139101 | EF30: 2 | EG30: Общестроительные работы | EH30: 0 | EJ30: 1 | EK30: 11001 | EL30: Полы | EM30: ФЕР-11 | EQ30: 0 | ER30: 21576.86 | ES30: 18839.64 | ET30: 24.15 | EU30: 17.51 | EV30: 2713.07 | EW30: 310.42 | EX30: 1.73 | EY30: 0 | FQ30: 0 | FR30: =ROUND(IF(AND(BH30=3,BI30=3),P30,0),2) -> 0 | FS30: 0 | FT30: *0,9 | FU30: *0,85 | FX30: 110.7 | FY30: 63.75 | GD30: 0 | GF30: 445220548 | GG30: 2 | GH30: 1 | GI30: -2 | GJ30: 0 | GK30: =ROUND(R30*(R12)/100,2) -> 0 | GL30: =ROUND(IF(AND(BH30=3,BI30=3,FS30<>0),P30,0),2) -> 0 | GM30: =ROUND(O30+X30+Y30+GK30,2)+GX30 -> 637984.58 | GN30: =IF(OR(BI30=0,BI30=1),ROUND(O30+X30+Y30+GK30,2),0) -> 637984.58 | GO30: =IF(BI30=2,ROUND(O30+X30+Y30+GK30,2),0) -> 0 | GP30: =IF(BI30=4,ROUND(O30+X30+Y30+GK30,2)+GX30,0) -> 0 | GR30: 0 | GS30: 3 | GT30: 0 | GV30: =ROUND(GT30,6) -> 0 | GW30: 1 | GX30: =ROUND(GV30*GW30*I30,2) -> 0 | HA30: 0 | HB30: 0 | IK30: 0
A31: 17 | B31: 1 | C31: =ROW(SmtRes!A44) -> 44 | D31: =ROW(EtalonRes!A50) -> 50 | E31: 4 | F31: 11-01-047-01 | G31: Устройство покрытий из плит керамогранитных размером 40х40 см | H31: 100 м2 | I31: =ROUND(2420.7/100,9) -> 24.207 | J31: 0 | O31: =ROUND(CP31,2) -> 3567384.5 | P31: =ROUND(CQ31*I31,2) -> 3114829.5 | Q31: =ROUND(CR31*I31,2) -> 3992.81 | R31: =ROUND(CS31*I31,2) -> 2895 | S31: =ROUND(CT31*I31,2) -> 448562.2 | T31: =ROUND(CU31*I31,2) -> 0 | U31: =CV31*I31 -> 7514.3369 | V31: =CW31*I31 -> 41.87811 | W31: =ROUND(CX31*I31,2) -> 0 | X31: =ROUND(CY31,2) -> 501117.49 | Y31: =ROUND(CZ31,2) -> 288932.61 | AA31: 16492570 | AB31: =ROUND((AC31+AD31+AF31),6) -> 21576.86 | AC31: =ROUND((ES31),6) -> 18839.64 | AD31: =ROUND((((ET31)-(EU31))+AE31),6) -> 24.15 | AE31: =ROUND((EU31),6) -> 17.51 | AF31: =ROUND((EV31),6) -> 2713.07 | AG31: =ROUND((AP31),6) -> 0 | AH31: =(EW31) -> 310.42 | AI31: =(EX31) -> 1.73 | AJ31: =ROUND((AS31),6) -> 0 | AK31: 21576.86 | AL31: 18839.64 | AM31: 24.15 | AN31: 17.51 | AO31: 2713.07 | AP31: 0 | AQ31: 310.42 | AR31: 1.73 | AS31: 0 | AT31: 111 | AU31: 64 | AV31: 1 | AW31: 1 | AZ31: 6.83 | BA31: 6.83 | BB31: 6.83 | BC31: 6.83 | BH31: 0 | BI31: 1 | BJ31: ФЕР-2001, 11-01-047-01, приказ Минстроя России №1039/пр от 30.12.2016г. | BM31: 11001 | BN31: 0 | BP31: 0 | BQ31: 2 | BR31: 0 | BS31: 6.83 | BT31: 1 | BU31: 1 | BV31: 1 | BW31: 1 | BX31: 1 | BZ31: 123 | CA31: 75 | CF31: 0 | CG31: 0 | CM31: 0 | CO31: 0 | CP31: =(P31+Q31+S31) -> 3567384.5 | CQ31: =AC31*BC31 -> 128674.74 | CR31: =AD31*BB31 -> 164.9445 | CS31: =AE31*BS31 -> 119.5933 | CT31: =AF31*BA31 -> 18530.268 | CU31: =AG31 -> 0 | CV31: =AH31 -> 310.42 | CW31: =AI31 -> 1.73 | CX31: =AJ31 -> 0 | CY31: =(((S31+R31)*AT31)/100) -> 501117.49 | CZ31: =(((S31+R31)*AU31)/100) -> 288932.61 | DN31: 0 | DO31: 0 | DP31: 1 | DQ31: 1 | DU31: 1005 | DV31: 100 м2 | DW31: 100 м2 | DX31: 100 | EE31: 15139101 | EF31: 2 | EG31: Общестроительные работы | EH31: 0 | EJ31: 1 | EK31: 11001 | EL31: Полы | EM31: ФЕР-11 | EQ31: 0 | ER31: 21576.86 | ES31: 18839.64 | ET31: 24.15 | EU31: 17.51 | EV31: 2713.07 | EW31: 310.42 | EX31: 1.73 | EY31: 0 | FQ31: 0 | FR31: =ROUND(IF(AND(BH31=3,BI31=3),P31,0),2) -> 0 | FS31: 0 | FT31: *0,9 | FU31: *0,85 | FX31: 110.7 | FY31: 63.75 | GD31: 0 | GF31: 445220548 | GG31: 1 | GH31: 1 | GI31: 4 | GJ31: 0 | GK31: =ROUND(R31*(S12)/100,2) -> 0 | GL31: =ROUND(IF(AND(BH31=3,BI31=3,FS31<>0),P31,0),2) -> 0 | GM31: =ROUND(O31+X31+Y31+GK31,2)+GX31 -> 4357434.6 | GN31: =IF(OR(BI31=0,BI31=1),ROUND(O31+X31+Y31+GK31,2),0) -> 4357434.6 | GO31: =IF(BI31=2,ROUND(O31+X31+Y31+GK31,2),0) -> 0 | GP31: =IF(BI31=4,ROUND(O31+X31+Y31+GK31,2)+GX31,0) -> 0 | GR31: 0 | GS31: 3 | GT31: 0 | GV31: =ROUND(GT31,6) -> 0 | GW31: 1 | GX31: =ROUND(GV31*GW31*I31,2) -> 0 | HA31: 0 | HB31: 0 | IK31: 0
A32: 18 | B32: 1 | C32: 33 | E32: 4,1 | F32: 14.3.01.02-0103 | G32: Грунтовка воднодисперсионная CERESIT CT 17 | H32: л | I32: =I30*J32 -> 484.14 | J32: 20 | O32: =ROUND(CP32,2) -> 4425.04 | P32: =ROUND(CQ32*I32,2) -> 4425.04 | Q32: =ROUND(CR32*I32,2) -> 0 | R32: =ROUND(CS32*I32,2) -> 0 | S32: =ROUND(CT32*I32,2) -> 0 | T32: =ROUND(CU32*I32,2) -> 0 | U32: =CV32*I32 -> 0 | V32: =CW32*I32 -> 0 | W32: =ROUND(CX32*I32,2) -> 0 | X32: =ROUND(CY32,2) -> 0 | Y32: =ROUND(CZ32,2) -> 0 | AA32: 16492569 | AB32: =ROUND((AC32+AD32+AF32),6) -> 9.14 | AC32: =ROUND((ES32),6) -> 9.14 | AD32: =ROUND((((ET32)-(EU32))+AE32),6) -> 0 | AE32: =ROUND((EU32),6) -> 0 | AF32: =ROUND((EV32),6) -> 0 | AG32: =ROUND((AP32),6) -> 0 | AH32: =(EW32) -> 0 | AI32: =(EX32) -> 0 | AJ32: =ROUND((AS32),6) -> 0 | AK32: 9.14 | AL32: 9.14 | AM32: 0 | AN32: 0 | AO32: 0 | AP32: 0 | AQ32: 0 | AR32: 0 | AS32: 0 | AT32: 111 | AU32: 64 | AV32: 1 | AW32: 1 | AZ32: 1 | BA32: 1 | BB32: 1 | BC32: 1 | BH32: 3 | BI32: 1 | BJ32: ФССЦ-2001, 14.3.01.02-0103, приказ Минстроя России №1039/пр от 30.12.2016г. | BM32: 11001 | BN32: 0 | BP32: 0 | BQ32: 2 | BR32: 0 | BS32: 1 | BT32: 1 | BU32: 1 | BV32: 1 | BW32: 1 | BX32: 1 | BZ32: 123 | CA32: 75 | CF32: 0 | CG32: 0 | CM32: 0 | CO32: 0 | CP32: =(P32+Q32+S32) -> 4425.04 | CQ32: =AC32*BC32 -> 9.14 | CR32: =AD32*BB32 -> 0 | CS32: =AE32*BS32 -> 0 | CT32: =AF32*BA32 -> 0 | CU32: =AG32 -> 0 | CV32: =AH32 -> 0 | CW32: =AI32 -> 0 | CX32: =AJ32 -> 0 | CY32: =(((S32+R32)*AT32)/100) -> 0 | CZ32: =(((S32+R32)*AU32)/100) -> 0 | DN32: 0 | DO32: 0 | DP32: 1 | DQ32: 1 | DU32: 1002 | DV32: л | DW32: л | DX32: 1 | EE32: 15139101 | EF32: 2 | EG32: Общестроительные работы | EH32: 0 | EJ32: 1 | EK32: 11001 | EL32: Полы | EM32: ФЕР-11 | EQ32: 0 | ER32: 9.14 | ES32: 9.14 | ET32: 0 | EU32: 0 | EV32: 0 | EW32: 0 | EX32: 0 | FQ32: 0 | FR32: =ROUND(IF(AND(BH32=3,BI32=3),P32,0),2) -> 0 | FS32: 0 | FT32: *0,9 | FU32: *0,85 | FX32: 110.7 | FY32: 63.75 | GD32: 0 | GF32: -972933126 | GG32: 2 | GH32: 1 | GI32: -2 | GJ32: 0 | GK32: =ROUND(R32*(R12)/100,2) -> 0 | GL32: =ROUND(IF(AND(BH32=3,BI32=3,FS32<>0),P32,0),2) -> 0 | GM32: =ROUND(O32+X32+Y32+GK32,2)+GX32 -> 4425.04 | GN32: =IF(OR(BI32=0,BI32=1),ROUND(O32+X32+Y32+GK32,2),0) -> 4425.04 | GO32: =IF(BI32=2,ROUND(O32+X32+Y32+GK32,2),0) -> 0 | GP32: =IF(BI32=4,ROUND(O32+X32+Y32+GK32,2)+GX32,0) -> 0 | GR32: 0 | GS32: 3 | GT32: 0 | GV32: =ROUND(GT32,6) -> 0 | GW32: 1 | GX32: =ROUND(GV32*GW32*I32,2) -> 0 | HA32: 0 | HB32: 0 | IK32: 0
A33: 18 | B33: 1 | C33: 44 | E33: 4,1 | F33: 14.3.01.02-0103 | G33: Грунтовка воднодисперсионная CERESIT CT 17 | H33: л | I33: =I31*J33 -> 484.14 | J33: 20 | O33: =ROUND(CP33,2) -> 30223.02 | P33: =ROUND(CQ33*I33,2) -> 30223.02 | Q33: =ROUND(CR33*I33,2) -> 0 | R33: =ROUND(CS33*I33,2) -> 0 | S33: =ROUND(CT33*I33,2) -> 0 | T33: =ROUND(CU33*I33,2) -> 0 | U33: =CV33*I33 -> 0 | V33: =CW33*I33 -> 0 | W33: =ROUND(CX33*I33,2) -> 0 | X33: =ROUND(CY33,2) -> 0 | Y33: =ROUND(CZ33,2) -> 0 | AA33: 16492570 | AB33: =ROUND((AC33+AD33+AF33),6) -> 9.14 | AC33: =ROUND((ES33),6) -> 9.14 | AD33: =ROUND((((ET33)-(EU33))+AE33),6) -> 0 | AE33: =ROUND((EU33),6) -> 0 | AF33: =ROUND((EV33),6) -> 0 | AG33: =ROUND((AP33),6) -> 0 | AH33: =(EW33) -> 0 | AI33: =(EX33) -> 0 | AJ33: =ROUND((AS33),6) -> 0 | AK33: 9.14 | AL33: 9.14 | AM33: 0 | AN33: 0 | AO33: 0 | AP33: 0 | AQ33: 0 | AR33: 0 | AS33: 0 | AT33: 111 | AU33: 64 | AV33: 1 | AW33: 1 | AZ33: 6.83 | BA33: 1 | BB33: 1 | BC33: 6.83 | BH33: 3 | BI33: 1 | BJ33: ФССЦ-2001, 14.3.01.02-0103, приказ Минстроя России №1039/пр от 30.12.2016г. | BM33: 11001 | BN33: 0 | BP33: 0 | BQ33: 2 | BR33: 0 | BS33: 1 | BT33: 1 | BU33: 1 | BV33: 1 | BW33: 1 | BX33: 1 | BZ33: 123 | CA33: 75 | CF33: 0 | CG33: 0 | CM33: 0 | CO33: 0 | CP33: =(P33+Q33+S33) -> 30223.02 | CQ33: =AC33*BC33 -> 62.4262 | CR33: =AD33*BB33 -> 0 | CS33: =AE33*BS33 -> 0 | CT33: =AF33*BA33 -> 0 | CU33: =AG33 -> 0 | CV33: =AH33 -> 0 | CW33: =AI33 -> 0 | CX33: =AJ33 -> 0 | CY33: =(((S33+R33)*AT33)/100) -> 0 | CZ33: =(((S33+R33)*AU33)/100) -> 0 | DN33: 0 | DO33: 0 | DP33: 1 | DQ33: 1 | DU33: 1002 | DV33: л | DW33: л | DX33: 1 | EE33: 15139101 | EF33: 2 | EG33: Общестроительные работы | EH33: 0 | EJ33: 1 | EK33: 11001 | EL33: Полы | EM33: ФЕР-11 | EQ33: 0 | ER33: 9.14 | ES33: 9.14 | ET33: 0 | EU33: 0 | EV33: 0 | EW33: 0 | EX33: 0 | FQ33: 0 | FR33: =ROUND(IF(AND(BH33=3,BI33=3),P33,0),2) -> 0 | FS33: 0 | FT33: *0,9 | FU33: *0,85 | FX33: 110.7 | FY33: 63.75 | GD33: 0 | GF33: -972933126 | GG33: 1 | GH33: 1 | GI33: 4 | GJ33: 0 | GK33: =ROUND(R33*(S12)/100,2) -> 0 | GL33: =ROUND(IF(AND(BH33=3,BI33=3,FS33<>0),P33,0),2) -> 0 | GM33: =ROUND(O33+X33+Y33+GK33,2)+GX33 -> 30223.02 | GN33: =IF(OR(BI33=0,BI33=1),ROUND(O33+X33+Y33+GK33,2),0) -> 30223.02 | GO33: =IF(BI33=2,ROUND(O33+X33+Y33+GK33,2),0) -> 0 | GP33: =IF(BI33=4,ROUND(O33+X33+Y33+GK33,2)+GX33,0) -> 0 | GR33: 0 | GS33: 3 | GT33: 0 | GV33: =ROUND(GT33,6) -> 0 | GW33: 1 | GX33: =ROUND(GV33*GW33*I33,2) -> 0 | HA33: 0 | HB33: 0 | IK33: 0
A34: 17 | B34: 1 | C34: =ROW(SmtRes!A50) -> 50 | D34: =ROW(EtalonRes!A56) -> 56 | E34: 5 | F34: 11-01-039-04 | G34: Устройство плинтусов из плиток керамических | H34: 100 м | I34: =ROUND(2636.7/100,9) -> 26.367 | J34: 0 | O34: =ROUND(CP34,2) -> 7050.12 | P34: =ROUND(CQ34*I34,2) -> 0 | Q34: =ROUND(CR34*I34,2) -> 181.27 | R34: =ROUND(CS34*I34,2) -> 45.48 | S34: =ROUND(CT34*I34,2) -> 6868.85 | T34: =ROUND(CU34*I34,2) -> 0 | U34: =CV34*I34 -> 722.27123 | V34: =CW34*I34 -> 3.6254625 | W34: =ROUND(CX34*I34,2) -> 0 | X34: =ROUND(CY34,2) -> 7674.91 | Y34: =ROUND(CZ34,2) -> 4425.17 | AA34: 16492569 | AB34: =ROUND((AC34+AD34+AF34),6) -> 267.3845 | AC34: =ROUND((ES34),6) -> 0 | AD34: =ROUND(((((ET34*1.25))-((EU34*1.25)))+AE34),6) -> 6.875 | AE34: =ROUND(((EU34*1.25)),6) -> 1.725 | AF34: =ROUND(((EV34*1.15)),6) -> 260.5095 | AG34: =ROUND((AP34),6) -> 0 | AH34: =((EW34*1.15)) -> 27.393 | AI34: =((EX34*1.25)) -> 0.1375 | AJ34: =ROUND((AS34),6) -> 0 | AK34: 232.03 | AL34: 0 | AM34: 5.5 | AN34: 1.38 | AO34: 226.53 | AP34: 0 | AQ34: 23.82 | AR34: 0.11 | AS34: 0 | AT34: 111 | AU34: 64 | AV34: 1 | AW34: 1 | AZ34: 1 | BA34: 1 | BB34: 1 | BC34: 1 | BH34: 0 | BI34: 1 | BJ34: ФЕР-2001, 11-01-039-04, приказ Минстроя России №1039/пр от 30.12.2016г. | BM34: 11001 | BN34: 0 | BP34: 0 | BQ34: 2 | BR34: 0 | BS34: 1 | BT34: 1 | BU34: 1 | BV34: 1 | BW34: 1 | BX34: 1 | BZ34: 123 | CA34: 75 | CF34: 0 | CG34: 0 | CM34: 0 | CN34: Поправка: МДС 81-35.2004, п.4.7 Наименование: Работы, выполняемые при реконструкции зданий и сооружений работы, аналогичные технологическим процессам в новом строительстве (в том числе возведение новых конструктивных элементов) стоимость которых определена по соответствующим сборникам ФЕР, кроме сборника № 46 «Работы при реконструкции зданий и сооружений» | CO34: 0 | CP34: =(P34+Q34+S34) -> 7050.12 | CQ34: =AC34*BC34 -> 0 | CR34: =AD34*BB34 -> 6.875 | CS34: =AE34*BS34 -> 1.725 | CT34: =AF34*BA34 -> 260.5095 | CU34: =AG34 -> 0 | CV34: =AH34 -> 27.393 | CW34: =AI34 -> 0.1375 | CX34: =AJ34 -> 0 | CY34: =(((S34+R34)*AT34)/100) -> 7674.9063 | CZ34: =(((S34+R34)*AU34)/100) -> 4425.1712 | DE34: )*1,25 | DF34: )*1,25 | DG34: )*1,15 | DI34: )*1,15 | DJ34: )*1,25 | DN34: 0 | DO34: 0 | DP34: 1 | DQ34: 1 | DU34: 1003 | DV34: 100 м | DW34: 100 м | DX34: 100 | EE34: 15139101 | EF34: 2 | EG34: Общестроительные работы | EH34: 0 | EJ34: 1 | EK34: 11001 | EL34: Полы | EM34: ФЕР-11 | EO34: Поправка: МДС 81-35.2004, п.4.7 | EQ34: 0 | ER34: 232.03 | ES34: 0 | ET34: 5.5 | EU34: 1.38 | EV34: 226.53 | EW34: 23.82 | EX34: 0.11 | EY34: 0 | FQ34: 0 | FR34: =ROUND(IF(AND(BH34=3,BI34=3),P34,0),2) -> 0 | FS34: 0 | FT34: *0,9 | FU34: *0,85 | FX34: 110.7 | FY34: 63.75 | GD34: 0 | GF34: 1990727352 | GG34: 2 | GH34: 1 | GI34: -2 | GJ34: 0 | GK34: =ROUND(R34*(R12)/100,2) -> 0 | GL34: =ROUND(IF(AND(BH34=3,BI34=3,FS34<>0),P34,0),2) -> 0 | GM34: =ROUND(O34+X34+Y34+GK34,2)+GX34 -> 19150.2 | GN34: =IF(OR(BI34=0,BI34=1),ROUND(O34+X34+Y34+GK34,2),0) -> 19150.2 | GO34: =IF(BI34=2,ROUND(O34+X34+Y34+GK34,2),0) -> 0 | GP34: =IF(BI34=4,ROUND(O34+X34+Y34+GK34,2)+GX34,0) -> 0 | GR34: 0 | GS34: 3 | GT34: 0 | GV34: =ROUND(GT34,6) -> 0 | GW34: 1 | GX34: =ROUND(GV34*GW34*I34,2) -> 0 | HA34: 0 | HB34: 0 | IK34: 0
A35: 17 | B35: 1 | C35: =ROW(SmtRes!A56) -> 56 | D35: =ROW(EtalonRes!A62) -> 62 | E35: 5 | F35: 11-01-039-04 | G35: Устройство плинтусов из плиток керамических | H35: 100 м | I35: =ROUND(2636.7/100,9) -> 26.367 | J35: 0 | O35: =ROUND(CP35,2) -> 48152.37 | P35: =ROUND(CQ35*I35,2) -> 0 | Q35: =ROUND(CR35*I35,2) -> 1238.1 | R35: =ROUND(CS35*I35,2) -> 310.65 | S35: =ROUND(CT35*I35,2) -> 46914.27 | T35: =ROUND(CU35*I35,2) -> 0 | U35: =CV35*I35 -> 722.27123 | V35: =CW35*I35 -> 3.6254625 | W35: =ROUND(CX35*I35,2) -> 0 | X35: =ROUND(CY35,2) -> 52419.66 | Y35: =ROUND(CZ35,2) -> 30223.95 | AA35: 16492570 | AB35: =ROUND((AC35+AD35+AF35),6) -> 267.3845 | AC35: =ROUND((ES35),6) -> 0 | AD35: =ROUND(((((ET35*1.25))-((EU35*1.25)))+AE35),6) -> 6.875 | AE35: =ROUND(((EU35*1.25)),6) -> 1.725 | AF35: =ROUND(((EV35*1.15)),6) -> 260.5095 | AG35: =ROUND((AP35),6) -> 0 | AH35: =((EW35*1.15)) -> 27.393 | AI35: =((EX35*1.25)) -> 0.1375 | AJ35: =ROUND((AS35),6) -> 0 | AK35: 232.03 | AL35: 0 | AM35: 5.5 | AN35: 1.38 | AO35: 226.53 | AP35: 0 | AQ35: 23.82 | AR35: 0.11 | AS35: 0 | AT35: 111 | AU35: 64 | AV35: 1 | AW35: 1 | AZ35: 6.83 | BA35: 6.83 | BB35: 6.83 | BC35: 6.83 | BH35: 0 | BI35: 1 | BJ35: ФЕР-2001, 11-01-039-04, приказ Минстроя России №1039/пр от 30.12.2016г. | BM35: 11001 | BN35: 0 | BP35: 0 | BQ35: 2 | BR35: 0 | BS35: 6.83 | BT35: 1 | BU35: 1 | BV35: 1 | BW35: 1 | BX35: 1 | BZ35: 123 | CA35: 75 | CF35: 0 | CG35: 0 | CM35: 0 | CN35: Поправка: МДС 81-35.2004, п.4.7 Наименование: Работы, выполняемые при реконструкции зданий и сооружений работы, аналогичные технологическим процессам в новом строительстве (в том числе возведение новых конструктивных элементов) стоимость которых определена по соответствующим сборникам ФЕР, кроме сборника № 46 «Работы при реконструкции зданий и сооружений» | CO35: 0 | CP35: =(P35+Q35+S35) -> 48152.37 | CQ35: =AC35*BC35 -> 0 | CR35: =AD35*BB35 -> 46.95625 | CS35: =AE35*BS35 -> 11.78175 | CT35: =AF35*BA35 -> 1779.2799 | CU35: =AG35 -> 0 | CV35: =AH35 -> 27.393 | CW35: =AI35 -> 0.1375 | CX35: =AJ35 -> 0 | CY35: =(((S35+R35)*AT35)/100) -> 52419.661 | CZ35: =(((S35+R35)*AU35)/100) -> 30223.949 | DE35: )*1,25 | DF35: )*1,25 | DG35: )*1,15 | DI35: )*1,15 | DJ35: )*1,25 | DN35: 0 | DO35: 0 | DP35: 1 | DQ35: 1 | DU35: 1003 | DV35: 100 м | DW35: 100 м | DX35: 100 | EE35: 15139101 | EF35: 2 | EG35: Общестроительные работы | EH35: 0 | EJ35: 1 | EK35: 11001 | EL35: Полы | EM35: ФЕР-11 | EO35: Поправка: МДС 81-35.2004, п.4.7 | EQ35: 0 | ER35: 232.03 | ES35: 0 | ET35: 5.5 | EU35: 1.38 | EV35: 226.53 | EW35: 23.82 | EX35: 0.11 | EY35: 0 | FQ35: 0 | FR35: =ROUND(IF(AND(BH35=3,BI35=3),P35,0),2) -> 0 | FS35: 0 | FT35: *0,9 | FU35: *0,85 | FX35: 110.7 | FY35: 63.75 | GD35: 0 | GF35: 1990727352 | GG35: 1 | GH35: 1 | GI35: 4 | GJ35: 0 | GK35: =ROUND(R35*(S12)/100,2) -> 0 | GL35: =ROUND(IF(AND(BH35=3,BI35=3,FS35<>0),P35,0),2) -> 0 | GM35: =ROUND(O35+X35+Y35+GK35,2)+GX35 -> 130795.98 | GN35: =IF(OR(BI35=0,BI35=1),ROUND(O35+X35+Y35+GK35,2),0) -> 130795.98 | GO35: =IF(BI35=2,ROUND(O35+X35+Y35+GK35,2),0) -> 0 | GP35: =IF(BI35=4,ROUND(O35+X35+Y35+GK35,2)+GX35,0) -> 0 | GR35: 0 | GS35: 3 | GT35: 0 | GV35: =ROUND(GT35,6) -> 0 | GW35: 1 | GX35: =ROUND(GV35*GW35*I35,2) -> 0 | HA35: 0 | HB35: 0 | IK35: 0
A36: 18 | B36: 1 | C36: 49 | E36: 5,1 | F36: 06.2.05.03-0057 | G36: Плитки керамогранитные размером 400х400х9 мм | H36: м2 | I36: =I34*J36 -> 266.30153 | J36: 10.099804 | O36: =ROUND(CP36,2) -> 17504 | P36: =ROUND(CQ36*I36,2) -> 17504 | Q36: =ROUND(CR36*I36,2) -> 0 | R36: =ROUND(CS36*I36,2) -> 0 | S36: =ROUND(CT36*I36,2) -> 0 | T36: =ROUND(CU36*I36,2) -> 0 | U36: =CV36*I36 -> 0 | V36: =CW36*I36 -> 0 | W36: =ROUND(CX36*I36,2) -> 0 | X36: =ROUND(CY36,2) -> 0 | Y36: =ROUND(CZ36,2) -> 0 | AA36: 16492569 | AB36: =ROUND((AC36+AD36+AF36),6) -> 65.73 | AC36: =ROUND((ES36),6) -> 65.73 | AD36: =ROUND((((ET36)-(EU36))+AE36),6) -> 0 | AE36: =ROUND((EU36),6) -> 0 | AF36: =ROUND((EV36),6) -> 0 | AG36: =ROUND((AP36),6) -> 0 | AH36: =(EW36) -> 0 | AI36: =(EX36) -> 0 | AJ36: =ROUND((AS36),6) -> 0 | AK36: 65.73 | AL36: 65.73 | AM36: 0 | AN36: 0 | AO36: 0 | AP36: 0 | AQ36: 0 | AR36: 0 | AS36: 0 | AT36: 111 | AU36: 64 | AV36: 1 | AW36: 1 | AZ36: 1 | BA36: 1 | BB36: 1 | BC36: 1 | BH36: 3 | BI36: 1 | BJ36: ФССЦ-2001, 06.2.05.03-0057, приказ Минстроя России №1039/пр от 30.12.2016г. | BM36: 11001 | BN36: 0 | BP36: 0 | BQ36: 2 | BR36: 0 | BS36: 1 | BT36: 1 | BU36: 1 | BV36: 1 | BW36: 1 | BX36: 1 | BZ36: 123 | CA36: 75 | CF36: 0 | CG36: 0 | CM36: 0 | CO36: 0 | CP36: =(P36+Q36+S36) -> 17504 | CQ36: =AC36*BC36 -> 65.73 | CR36: =AD36*BB36 -> 0 | CS36: =AE36*BS36 -> 0 | CT36: =AF36*BA36 -> 0 | CU36: =AG36 -> 0 | CV36: =AH36 -> 0 | CW36: =AI36 -> 0 | CX36: =AJ36 -> 0 | CY36: =(((S36+R36)*AT36)/100) -> 0 | CZ36: =(((S36+R36)*AU36)/100) -> 0 | DN36: 0 | DO36: 0 | DP36: 1 | DQ36: 1 | DU36: 1005 | DV36: м2 | DW36: м2 | DX36: 1 | EE36: 15139101 | EF36: 2 | EG36: Общестроительные работы | EH36: 0 | EJ36: 1 | EK36: 11001 | EL36: Полы | EM36: ФЕР-11 | EQ36: 0 | ER36: 65.73 | ES36: 65.73 | ET36: 0 | EU36: 0 | EV36: 0 | EW36: 0 | EX36: 0 | FQ36: 0 | FR36: =ROUND(IF(AND(BH36=3,BI36=3),P36,0),2) -> 0 | FS36: 0 | FT36: *0,9 | FU36: *0,85 | FX36: 110.7 | FY36: 63.75 | GD36: 0 | GF36: -1358421812 | GG36: 2 | GH36: 1 | GI36: -2 | GJ36: 0 | GK36: =ROUND(R36*(R12)/100,2) -> 0 | GL36: =ROUND(IF(AND(BH36=3,BI36=3,FS36<>0),P36,0),2) -> 0 | GM36: =ROUND(O36+X36+Y36+GK36,2)+GX36 -> 17504 | GN36: =IF(OR(BI36=0,BI36=1),ROUND(O36+X36+Y36+GK36,2),0) -> 17504 | GO36: =IF(BI36=2,ROUND(O36+X36+Y36+GK36,2),0) -> 0 | GP36: =IF(BI36=4,ROUND(O36+X36+Y36+GK36,2)+GX36,0) -> 0 | GR36: 0 | GS36: 3 | GT36: 0 | GV36: =ROUND(GT36,6) -> 0 | GW36: 1 | GX36: =ROUND(GV36*GW36*I36,2) -> 0 | HA36: 0 | HB36: 0 | IK36: 0
A37: 18 | B37: 1 | C37: 55 | E37: 5,1 | F37: 06.2.05.03-0057 | G37: Плитки керамогранитные размером 400х400х9 мм | H37: м2 | I37: =I35*J37 -> 266.30153 | J37: 10.099804 | O37: =ROUND(CP37,2) -> 119552.32 | P37: =ROUND(CQ37*I37,2) -> 119552.32 | Q37: =ROUND(CR37*I37,2) -> 0 | R37: =ROUND(CS37*I37,2) -> 0 | S37: =ROUND(CT37*I37,2) -> 0 | T37: =ROUND(CU37*I37,2) -> 0 | U37: =CV37*I37 -> 0 | V37: =CW37*I37 -> 0 | W37: =ROUND(CX37*I37,2) -> 0 | X37: =ROUND(CY37,2) -> 0 | Y37: =ROUND(CZ37,2) -> 0 | AA37: 16492570 | AB37: =ROUND((AC37+AD37+AF37),6) -> 65.73 | AC37: =ROUND((ES37),6) -> 65.73 | AD37: =ROUND((((ET37)-(EU37))+AE37),6) -> 0 | AE37: =ROUND((EU37),6) -> 0 | AF37: =ROUND((EV37),6) -> 0 | AG37: =ROUND((AP37),6) -> 0 | AH37: =(EW37) -> 0 | AI37: =(EX37) -> 0 | AJ37: =ROUND((AS37),6) -> 0 | AK37: 65.73 | AL37: 65.73 | AM37: 0 | AN37: 0 | AO37: 0 | AP37: 0 | AQ37: 0 | AR37: 0 | AS37: 0 | AT37: 111 | AU37: 64 | AV37: 1 | AW37: 1 | AZ37: 6.83 | BA37: 1 | BB37: 1 | BC37: 6.83 | BH37: 3 | BI37: 1 | BJ37: ФССЦ-2001, 06.2.05.03-0057, приказ Минстроя России №1039/пр от 30.12.2016г. | BM37: 11001 | BN37: 0 | BP37: 0 | BQ37: 2 | BR37: 0 | BS37: 1 | BT37: 1 | BU37: 1 | BV37: 1 | BW37: 1 | BX37: 1 | BZ37: 123 | CA37: 75 | CF37: 0 | CG37: 0 | CM37: 0 | CO37: 0 | CP37: =(P37+Q37+S37) -> 119552.32 | CQ37: =AC37*BC37 -> 448.9359 | CR37: =AD37*BB37 -> 0 | CS37: =AE37*BS37 -> 0 | CT37: =AF37*BA37 -> 0 | CU37: =AG37 -> 0 | CV37: =AH37 -> 0 | CW37: =AI37 -> 0 | CX37: =AJ37 -> 0 | CY37: =(((S37+R37)*AT37)/100) -> 0 | CZ37: =(((S37+R37)*AU37)/100) -> 0 | DN37: 0 | DO37: 0 | DP37: 1 | DQ37: 1 | DU37: 1005 | DV37: м2 | DW37: м2 | DX37: 1 | EE37: 15139101 | EF37: 2 | EG37: Общестроительные работы | EH37: 0 | EJ37: 1 | EK37: 11001 | EL37: Полы | EM37: ФЕР-11 | EQ37: 0 | ER37: 65.73 | ES37: 65.73 | ET37: 0 | EU37: 0 | EV37: 0 | EW37: 0 | EX37: 0 | FQ37: 0 | FR37: =ROUND(IF(AND(BH37=3,BI37=3),P37,0),2) -> 0 | FS37: 0 | FT37: *0,9 | FU37: *0,85 | FX37: 110.7 | FY37: 63.75 | GD37: 0 | GF37: -1358421812 | GG37: 1 | GH37: 1 | GI37: 4 | GJ37: 0 | GK37: =ROUND(R37*(S12)/100,2) -> 0 | GL37: =ROUND(IF(AND(BH37=3,BI37=3,FS37<>0),P37,0),2) -> 0 | GM37: =ROUND(O37+X37+Y37+GK37,2)+GX37 -> 119552.32 | GN37: =IF(OR(BI37=0,BI37=1),ROUND(O37+X37+Y37+GK37,2),0) -> 119552.32 | GO37: =IF(BI37=2,ROUND(O37+X37+Y37+GK37,2),0) -> 0 | GP37: =IF(BI37=4,ROUND(O37+X37+Y37+GK37,2)+GX37,0) -> 0 | GR37: 0 | GS37: 3 | GT37: 0 | GV37: =ROUND(GT37,6) -> 0 | GW37: 1 | GX37: =ROUND(GV37*GW37*I37,2) -> 0 | HA37: 0 | HB37: 0 | IK37: 0
A38: 18 | B38: 1 | C38: 50 | E38: 5,2 | F38: 14.1.06.02-0044 | G38: Клей плиточный «Юнис Гранит» (толщ. 4 мм) | H38: кг | I38: =I34*J38 -> 1054.68 | J38: 40 | O38: =ROUND(CP38,2) -> 3891.77 | P38: =ROUND(CQ38*I38,2) -> 3891.77 | Q38: =ROUND(CR38*I38,2) -> 0 | R38: =ROUND(CS38*I38,2) -> 0 | S38: =ROUND(CT38*I38,2) -> 0 | T38: =ROUND(CU38*I38,2) -> 0 | U38: =CV38*I38 -> 0 | V38: =CW38*I38 -> 0 | W38: =ROUND(CX38*I38,2) -> 0 | X38: =ROUND(CY38,2) -> 0 | Y38: =ROUND(CZ38,2) -> 0 | AA38: 16492569 | AB38: =ROUND((AC38+AD38+AF38),6) -> 3.69 | AC38: =ROUND((ES38),6) -> 3.69 | AD38: =ROUND((((ET38)-(EU38))+AE38),6) -> 0 | AE38: =ROUND((EU38),6) -> 0 | AF38: =ROUND((EV38),6) -> 0 | AG38: =ROUND((AP38),6) -> 0 | AH38: =(EW38) -> 0 | AI38: =(EX38) -> 0 | AJ38: =ROUND((AS38),6) -> 0 | AK38: 3.69 | AL38: 3.69 | AM38: 0 | AN38: 0 | AO38: 0 | AP38: 0 | AQ38: 0 | AR38: 0 | AS38: 0 | AT38: 111 | AU38: 64 | AV38: 1 | AW38: 1 | AZ38: 1 | BA38: 1 | BB38: 1 | BC38: 1 | BH38: 3 | BI38: 1 | BJ38: ФССЦ-2001, 14.1.06.02-0044, приказ Минстроя России №1039/пр от 30.12.2016г. | BM38: 11001 | BN38: 0 | BP38: 0 | BQ38: 2 | BR38: 0 | BS38: 1 | BT38: 1 | BU38: 1 | BV38: 1 | BW38: 1 | BX38: 1 | BZ38: 123 | CA38: 75 | CF38: 0 | CG38: 0 | CM38: 0 | CO38: 0 | CP38: =(P38+Q38+S38) -> 3891.77 | CQ38: =AC38*BC38 -> 3.69 | CR38: =AD38*BB38 -> 0 | CS38: =AE38*BS38 -> 0 | CT38: =AF38*BA38 -> 0 | CU38: =AG38 -> 0 | CV38: =AH38 -> 0 | CW38: =AI38 -> 0 | CX38: =AJ38 -> 0 | CY38: =(((S38+R38)*AT38)/100) -> 0 | CZ38: =(((S38+R38)*AU38)/100) -> 0 | DN38: 0 | DO38: 0 | DP38: 1 | DQ38: 1 | DU38: 1009 | DV38: кг | DW38: кг | DX38: 1 | EE38: 15139101 | EF38: 2 | EG38: Общестроительные работы | EH38: 0 | EJ38: 1 | EK38: 11001 | EL38: Полы | EM38: ФЕР-11 | EQ38: 0 | ER38: 3.69 | ES38: 3.69 | ET38: 0 | EU38: 0 | EV38: 0 | EW38: 0 | EX38: 0 | FQ38: 0 | FR38: =ROUND(IF(AND(BH38=3,BI38=3),P38,0),2) -> 0 | FS38: 0 | FT38: *0,9 | FU38: *0,85 | FX38: 110.7 | FY38: 63.75 | GD38: 0 | GF38: 75744107 | GG38: 2 | GH38: 1 | GI38: -2 | GJ38: 0 | GK38: =ROUND(R38*(R12)/100,2) -> 0 | GL38: =ROUND(IF(AND(BH38=3,BI38=3,FS38<>0),P38,0),2) -> 0 | GM38: =ROUND(O38+X38+Y38+GK38,2)+GX38 -> 3891.77 | GN38: =IF(OR(BI38=0,BI38=1),ROUND(O38+X38+Y38+GK38,2),0) -> 3891.77 | GO38: =IF(BI38=2,ROUND(O38+X38+Y38+GK38,2),0) -> 0 | GP38: =IF(BI38=4,ROUND(O38+X38+Y38+GK38,2)+GX38,0) -> 0 | GR38: 0 | GS38: 3 | GT38: 0 | GV38: =ROUND(GT38,6) -> 0 | GW38: 1 | GX38: =ROUND(GV38*GW38*I38,2) -> 0 | HA38: 0 | HB38: 0 | IK38: 0
A39: 18 | B39: 1 | C39: 56 | E39: 5,2 | F39: 14.1.06.02-0044 | G39: Клей плиточный «Юнис Гранит» (толщ. 4 мм) | H39: кг | I39: =I35*J39 -> 1054.68 | J39: 40 | O39: =ROUND(CP39,2) -> 26580.78 | P39: =ROUND(CQ39*I39,2) -> 26580.78 | Q39: =ROUND(CR39*I39,2) -> 0 | R39: =ROUND(CS39*I39,2) -> 0 | S39: =ROUND(CT39*I39,2) -> 0 | T39: =ROUND(CU39*I39,2) -> 0 | U39: =CV39*I39 -> 0 | V39: =CW39*I39 -> 0 | W39: =ROUND(CX39*I39,2) -> 0 | X39: =ROUND(CY39,2) -> 0 | Y39: =ROUND(CZ39,2) -> 0 | AA39: 16492570 | AB39: =ROUND((AC39+AD39+AF39),6) -> 3.69 | AC39: =ROUND((ES39),6) -> 3.69 | AD39: =ROUND((((ET39)-(EU39))+AE39),6) -> 0 | AE39: =ROUND((EU39),6) -> 0 | AF39: =ROUND((EV39),6) -> 0 | AG39: =ROUND((AP39),6) -> 0 | AH39: =(EW39) -> 0 | AI39: =(EX39) -> 0 | AJ39: =ROUND((AS39),6) -> 0 | AK39: 3.69 | AL39: 3.69 | AM39: 0 | AN39: 0 | AO39: 0 | AP39: 0 | AQ39: 0 | AR39: 0 | AS39: 0 | AT39: 111 | AU39: 64 | AV39: 1 | AW39: 1 | AZ39: 6.83 | BA39: 1 | BB39: 1 | BC39: 6.83 | BH39: 3 | BI39: 1 | BJ39: ФССЦ-2001, 14.1.06.02-0044, приказ Минстроя России №1039/пр от 30.12.2016г. | BM39: 11001 | BN39: 0 | BP39: 0 | BQ39: 2 | BR39: 0 | BS39: 1 | BT39: 1 | BU39: 1 | BV39: 1 | BW39: 1 | BX39: 1 | BZ39: 123 | CA39: 75 | CF39: 0 | CG39: 0 | CM39: 0 | CO39: 0 | CP39: =(P39+Q39+S39) -> 26580.78 | CQ39: =AC39*BC39 -> 25.2027 | CR39: =AD39*BB39 -> 0 | CS39: =AE39*BS39 -> 0 | CT39: =AF39*BA39 -> 0 | CU39: =AG39 -> 0 | CV39: =AH39 -> 0 | CW39: =AI39 -> 0 | CX39: =AJ39 -> 0 | CY39: =(((S39+R39)*AT39)/100) -> 0 | CZ39: =(((S39+R39)*AU39)/100) -> 0 | DN39: 0 | DO39: 0 | DP39: 1 | DQ39: 1 | DU39: 1009 | DV39: кг | DW39: кг | DX39: 1 | EE39: 15139101 | EF39: 2 | EG39: Общестроительные работы | EH39: 0 | EJ39: 1 | EK39: 11001 | EL39: Полы | EM39: ФЕР-11 | EQ39: 0 | ER39: 3.69 | ES39: 3.69 | ET39: 0 | EU39: 0 | EV39: 0 | EW39: 0 | EX39: 0 | FQ39: 0 | FR39: =ROUND(IF(AND(BH39=3,BI39=3),P39,0),2) -> 0 | FS39: 0 | FT39: *0,9 | FU39: *0,85 | FX39: 110.7 | FY39: 63.75 | GD39: 0 | GF39: 75744107 | GG39: 1 | GH39: 1 | GI39: 4 | GJ39: 0 | GK39: =ROUND(R39*(S12)/100,2) -> 0 | GL39: =ROUND(IF(AND(BH39=3,BI39=3,FS39<>0),P39,0),2) -> 0 | GM39: =ROUND(O39+X39+Y39+GK39,2)+GX39 -> 26580.78 | GN39: =IF(OR(BI39=0,BI39=1),ROUND(O39+X39+Y39+GK39,2),0) -> 26580.78 | GO39: =IF(BI39=2,ROUND(O39+X39+Y39+GK39,2),0) -> 0 | GP39: =IF(BI39=4,ROUND(O39+X39+Y39+GK39,2)+GX39,0) -> 0 | GR39: 0 | GS39: 3 | GT39: 0 | GV39: =ROUND(GT39,6) -> 0 | GW39: 1 | GX39: =ROUND(GV39*GW39*I39,2) -> 0 | HA39: 0 | HB39: 0 | IK39: 0
A41: 51 | B41: =B20 -> 1 | C41: =A20 -> 3 | D41: =ROW(A20) -> 20 | F41: =IF(F20<>"",F20,"") -> Новая локальная смета | G41: =IF(G20<>"",G20,"") -> Новая локальная смета | H41: 0 | O41: =ROUND(AB41,2) -> 826387.08 | P41: =ROUND(AC41,2) -> 740919.08 | Q41: =ROUND(AD41,2) -> 1052.66 | R41: =ROUND(AE41,2) -> 571.55 | S41: =ROUND(AF41,2) -> 84415.34 | T41: =ROUND(AG41,2) -> 0 | U41: =AH41 -> 9660.3888 | V41: =AI41 -> 53.79447 | W41: =ROUND(AJ41,2) -> 0 | X41: =ROUND(AK41,2) -> 93415.19 | Y41: =ROUND(AL41,2) -> 54510.36 | AB41: =ROUND(SUMIF(AA24:AA39,"=16492569",O24:O39),2) -> 826387.08 | AC41: =ROUND(SUMIF(AA24:AA39,"=16492569",P24:P39),2) -> 740919.08 | AD41: =ROUND(SUMIF(AA24:AA39,"=16492569",Q24:Q39),2) -> 1052.66 | AE41: =ROUND(SUMIF(AA24:AA39,"=16492569",R24:R39),2) -> 571.55 | AF41: =ROUND(SUMIF(AA24:AA39,"=16492569",S24:S39),2) -> 84415.34 | AG41: =ROUND(SUMIF(AA24:AA39,"=16492569",T24:T39),2) -> 0 | AH41: =SUMIF(AA24:AA39,"=16492569",U24:U39) -> 9660.3888 | AI41: =SUMIF(AA24:AA39,"=16492569",V24:V39) -> 53.79447 | AJ41: =ROUND(SUMIF(AA24:AA39,"=16492569",W24:W39),2) -> 0 | AK41: =ROUND(SUMIF(AA24:AA39,"=16492569",X24:X39),2) -> 93415.19 | AL41: =ROUND(SUMIF(AA24:AA39,"=16492569",Y24:Y39),2) -> 54510.36 | AO41: =ROUND(BX41,2) -> 0 | AP41: =ROUND(BY41,2) -> 0 | AQ41: =ROUND(BZ41,2) -> 0 | AR41: =ROUND(CA41,2) -> 974312.63 | AS41: =ROUND(CB41,2) -> 974312.63 | AT41: =ROUND(CC41,2) -> 0 | AU41: =ROUND(CD41,2) -> 0 | AV41: =ROUND(CE41,2) -> 740919.08 | ... BC41: =ROUND(CL41,2) -> 0 | BX41: =ROUND(SUMIF(AA24:AA39,"=16492569",FQ24:FQ39),2) -> 0 | BY41: =ROUND(SUMIF(AA24:AA39,"=16492569",FR24:FR39),2) -> 0 | BZ41: =ROUND(SUMIF(AA24:AA39,"=16492569",GL24:GL39),2) -> 0 | CA41: =ROUND(SUMIF(AA24:AA39,"=16492569",GM24:GM39),2) -> 974312.63 | CB41: =ROUND(SUMIF(AA24:AA39,"=16492569",GN24:GN39),2) -> 974312.63 | CC41: =ROUND(SUMIF(AA24:AA39,"=16492569",GO24:GO39),2) -> 0 | CD41: =ROUND(SUMIF(AA24:AA39,"=16492569",GP24:GP39),2) -> 0 | CE41: =AC41-BX41 -> 740919.08 | CF41: =AC41-BY41 -> 740919.08 | CG41: =BX41-BZ41 -> 0 | CH41: =AC41-BX41-BY41+BZ41 -> 740919.08 | CI41: =BY41-BZ41 -> 0 | CJ41: =ROUND(SUMIF(AA24:AA39,"=16492569",GX24:GX39),2) -> 0 | CK41: =ROUND(SUMIF(AA24:AA39,"=16492569",GY24:GY39),2) -> 0 | CL41: =ROUND(SUMIF(AA24:AA39,"=16492569",GZ24:GZ39),2) -> 0 | DG41: =ROUND(DT41,2) -> 5644223.8 | DH41: =ROUND(DU41,2) -> 5060477.2 | DI41: =ROUND(DV41,2) -> 7189.71 | DJ41: =ROUND(DW41,2) -> 3903.77 | DK41: =ROUND(DX41,2) -> 576556.8 | DL41: =ROUND(DY41,2) -> 0 | DM41: =DZ41 -> 9660.3888 | DN41: =EA41 -> 53.79447 | DO41: =ROUND(EB41,2) -> 0 | DP41: =ROUND(EC41,2) -> 638025.79 | DQ41: =ROUND(ED41,2) -> 372305.79 | DT41: =ROUND(SUMIF(AA24:AA39,"=16492570",O24:O39),2) -> 5644223.8 | DU41: =ROUND(SUMIF(AA24:AA39,"=16492570",P24:P39),2) -> 5060477.2 | DV41: =ROUND(SUMIF(AA24:AA39,"=16492570",Q24:Q39),2) -> 7189.71 | DW41: =ROUND(SUMIF(AA24:AA39,"=16492570",R24:R39),2) -> 3903.77 | DX41: =ROUND(SUMIF(AA24:AA39,"=16492570",S24:S39),2) -> 576556.8 | DY41: =ROUND(SUMIF(AA24:AA39,"=16492570",T24:T39),2) -> 0 | DZ41: =SUMIF(AA24:AA39,"=16492570",U24:U39) -> 9660.3888 | EA41: =SUMIF(AA24:AA39,"=16492570",V24:V39) -> 53.79447 | EB41: =ROUND(SUMIF(AA24:AA39,"=16492570",W24:W39),2) -> 0 | EC41: =ROUND(SUMIF(AA24:AA39,"=16492570",X24:X39),2) -> 638025.79 | ED41: =ROUND(SUMIF(AA24:AA39,"=16492570",Y24:Y39),2) -> 372305.79 | EG41: =ROUND(FP41,2) -> 0 | EH41: =ROUND(FQ41,2) -> 0 | EI41: =ROUND(FR41,2) -> 0 | EJ41: =ROUND(FS41,2) -> 6654555.3 | EK41: =ROUND(FT41,2) -> 6654555.3 | EL41: =ROUND(FU41,2) -> 0 | EM41: =ROUND(FV41,2) -> 0 | EN41: =ROUND(FW41,2) -> 5060477.2 | ... EU41: =ROUND(GD41,2) -> 0 | FP41: =ROUND(SUMIF(AA24:AA39,"=16492570",FQ24:FQ39),2) -> 0 | FQ41: =ROUND(SUMIF(AA24:AA39,"=16492570",FR24:FR39),2) -> 0 | FR41: =ROUND(SUMIF(AA24:AA39,"=16492570",GL24:GL39),2) -> 0 | FS41: =ROUND(SUMIF(AA24:AA39,"=16492570",GM24:GM39),2) -> 6654555.3 | FT41: =ROUND(SUMIF(AA24:AA39,"=16492570",GN24:GN39),2) -> 6654555.3 | FU41: =ROUND(SUMIF(AA24:AA39,"=16492570",GO24:GO39),2) -> 0 | FV41: =ROUND(SUMIF(AA24:AA39,"=16492570",GP24:GP39),2) -> 0 | FW41: =DU41-FP41 -> 5060477.2 | FX41: =DU41-FQ41 -> 5060477.2 | FY41: =FP41-FR41 -> 0 | FZ41: =DU41-FP41-FQ41+FR41 -> 5060477.2 | GA41: =FQ41-FR41 -> 0 | GB41: =ROUND(SUMIF(AA24:AA39,"=16492570",GX24:GX39),2) -> 0 | GC41: =ROUND(SUMIF(AA24:AA39,"=16492570",GY24:GY39),2) -> 0 | GD41: =ROUND(SUMIF(AA24:AA39,"=16492570",GZ24:GZ39),2) -> 0 | GX41: 0
A43: 50 | B43: 0 | C43: 0 | D43: 1 | E43: 201 | F43: =ROUND(Source!O41,O43) -> 826387.08 | G43: ПЗ | H43: Прямые затраты | K43: 201 | L43: 1 | M43: 3 | O43: 2 | P43: =ROUND(Source!DG41,O43) -> 5644223.8
A44: 50 | B44: 0 | C44: 0 | D44: 1 | E44: 202 | F44: =ROUND(Source!P41,O44) -> 740919.08 | G44: СтМатОб | H44: Стоимость материальных ресурсов (всего) | K44: 202 | L44: 2 | M44: 3 | O44: 2 | P44: =ROUND(Source!DH41,O44) -> 5060477.2
A45: 50 | B45: 0 | C45: 0 | D45: 1 | E45: 222 | F45: =ROUND(Source!AO41,O45) -> 0 | G45: СтМатОбЗак | H45: Стоимость материалов и оборудования заказчика | K45: 222 | L45: 3 | M45: 3 | O45: 2 | P45: =ROUND(Source!EG41,O45) -> 0
A46: 50 | B46: 0 | C46: 0 | D46: 1 | E46: 225 | F46: =ROUND(Source!AV41,O46) -> 740919.08 | G46: СтМатОбПод | H46: Стоимость материалов и оборудования подрядчика | K46: 225 | L46: 4 | M46: 3 | O46: 2 | P46: =ROUND(Source!EN41,O46) -> 5060477.2
A47: 50 | B47: 0 | C47: 0 | D47: 1 | E47: 226 | F47: =ROUND(Source!AW41,O47) -> 740919.08 | G47: СтМат | H47: Стоимость материалов (всего) | K47: 226 | L47: 5 | M47: 3 | O47: 2 | P47: =ROUND(Source!EO41,O47) -> 5060477.2
A48: 50 | B48: 0 | C48: 0 | D48: 1 | E48: 227 | F48: =ROUND(Source!AX41,O48) -> 0 | G48: СтМатЗак | H48: Стоимость материалов заказчика | K48: 227 | L48: 6 | M48: 3 | O48: 2 | P48: =ROUND(Source!EP41,O48) -> 0
A49: 50 | B49: 0 | C49: 0 | D49: 1 | E49: 228 | F49: =ROUND(Source!AY41,O49) -> 740919.08 | G49: СтМатПод | H49: Стоимость материалов подрядчика | K49: 228 | L49: 7 | M49: 3 | O49: 2 | P49: =ROUND(Source!EQ41,O49) -> 5060477.2
A50: 50 | B50: 0 | C50: 0 | D50: 1 | E50: 216 | F50: =ROUND(Source!AP41,O50) -> 0 | G50: Оборуд | H50: Стоимость оборудования (всего) | K50: 216 | L50: 8 | M50: 3 | O50: 2 | P50: =ROUND(Source!EH41,O50) -> 0
A51: 50 | B51: 0 | C51: 0 | D51: 1 | E51: 223 | F51: =ROUND(Source!AQ41,O51) -> 0 | G51: ОборудЗак | H51: Стоимость оборудования заказчика | K51: 223 | L51: 9 | M51: 3 | O51: 2 | P51: =ROUND(Source!EI41,O51) -> 0
