Workbook
Name Constr: '02-01-01'!$A$7
Name Constr: '02-01-02'!$A$7
Name Constr: '02-01-03'!$A$7
Name Constr: '06-02-04'!$A$7
Name FOT: '02-01-01'!$D$19
Name FOT: '02-01-02'!$D$20
Name FOT: '02-01-03'!$D$19
Name FOT: '06-02-04'!$D$20
Name Ind: '02-01-01'!$H$9
Name Ind: '02-01-02'!$H$9
Name Ind: '02-01-03'!$H$9
Name Ind: '06-02-04'!$H$9
Name Obj: '02-01-01'!$E$12
Name Obj: '02-01-02'!$E$12
Name Obj: '02-01-03'!$E$12
Name Obj: '06-02-04'!$E$12
Name Obosn: '02-01-01'!$D$15
Name Obosn: '02-01-02'!$D$15
Name Obosn: '02-01-03'!$D$15
Name Obosn: '06-02-04'!$D$15
Name SmPr: '02-01-01'!$D$16
Name SmPr: '02-01-02'!$D$16
Name SmPr: '02-01-03'!$D$16
Name SmPr: '06-02-04'!$D$16
Name аааааппппппрррппппппп: #REF!
Name аараооооооооооооо: #REF!
Name автом: #REF!
Name алшрльоплварл: #REF!
Name аолвлддддддддддддддддввввввввв: #REF!
Name апарв: #REF!
Name апрлдджаоырыфрпопрлпрлпрлп: #REF!
Name арлггаджаш: #REF!
Name ароррбллтблпроорапииас: #REF!
Name арррррблллпдрлдддддддддд: #REF!
Name варпаааааааааа: #REF!
Name ввпьььььлднд: #REF!
Name вед: #REF!
Name вертикальная: #REF!
Name вертикплан: #REF!
Name волен: #REF!
Name вп: #REF!
Name впырпфдыпл: #REF!
Name впьглорьтитттттттттт: #REF!
Name всввввввввввввввввввввввввв: #REF!
Name выб: #REF!
Name выпуск: #REF!
Name выьлепвввввпмп: #REF!
Name еваопродолжэрщэрзшщщх: #REF!
Name измен: #REF!
Name итого: #REF!
Name итого_сантех: #REF!
Name итого_сантех: #REF!
Name итого_стр: #REF!
Name итого_строит: НМЦ!#REF!
Name итого_строит: #REF!
Name итого_технол: #REF!
Name итого_технол: #REF!
Name итого_электр: #REF!
Name итого_электр: #REF!
Name квота: #REF!

Sheet 02-01-01
A1: СОГЛАСОВАНО: | M1: УТВЕРЖДАЮ:
A4: _________________ | M4: _________________
A5: " _____ " ________________ 2013 г. | M5: "____" ______________2013 г.
H6: 049-12-00 Газоснабжение водогрейных котлов лесосушильных комплексов СМ-15, г.Лесной
H7: (наименование стройки)
H9: ЛОКАЛЬНЫЙ СМЕТНЫЙ РАСЧЕТ № ЛСР 02-01-01
H10: (локальная смета)
C12: на | D12: Газоснабжение (внутренние устройства)
H13: (наименование работ и затрат, наименование объекта)
D15: Основание: 049-12-00-ГСВ
D16: Сметная стоимость _______________________________________________________________________________________________ | J16: ___________________________9,795 | L16: тыс. руб.
D17: строительных работ _______________________________________________________________________________________________ | J17: _______________________________________________________________________________________________9,469 | L17: тыс. руб.
D18: монтажных работ _______________________________________________________________________________________________ | J18: _______________________________________________________________________________________________0,326 | L18: тыс. руб.
D19: Средства на оплату труда _______________________________________________________________________________________________ | J19: ___________________________0,835 | L19: тыс. руб.
D20: Сметная трудоемкость _______________________________________________________________________________________________ | J20: _______________________________________________________________________________________________57,45 | L20: чел.час
D21: Составлен(а) в ценах по состоянию на 01.01.2001г.
A24: № пп | B24: Обосно- вание | C24: Наименование | D24: Ед. изм. | E24: Кол. на ед./ всего | F24: Стоимость единицы, руб. | J24: Общая стоимость, руб. | N24: Т/з осн. раб.на ед. | O24: Т/з осн. раб. Всего | P24: Т/з мех. на ед. | Q24: Т/з мех. Всего
F25: Всего | G25: В том числе | J25: Всего | K25: В том числе
G26: Осн.З/п | H26: Эк.Маш | I26: З/пМех | K26: Осн.З/п | L26: Эк.Маш | M26: З/пМех
A27: 1 | B27: 2 | C27: 3 | D27: 4 | E27: 5 | F27: 6 | G27: 7 | H27: 8 | I27: 9 | J27: 10 | K27: 11 | L27: 12 | M27: 13 | N27: 14 | O27: 15 | P27: 16 | Q27: 17
A28: Раздел 1. Общестроительные работы
A29: 1 | B29: ТЕРм12-12-003-03 Постан.Правит.Свердл.обл. от 10.11.10 №1616-ПП | C29: Арматура фланцевая с электрическим приводом на условное давление до 4 МПа, диаметр условного прохода 50 мм НР (101,8 руб.): 80% от ФОТ (127,25 руб.) СП (76,35 руб.): 60% от ФОТ (127,25 руб.) | D29: 1 шт. | E29: 2 | F29: 71.41 | G29: 60.98 | H29: 4.37 | J29: 142.82 | K29: 121.96 | L29: 8.74 | N29: 4.5 | O29: 9
C30: Затраты труда рабочих (ср 4) | D30: чел.час | E30: 4,5 9 | F30: 13.55 | G30: 13.55 | J30: 121.95 | K30: 121.95
B31: 1. 400001 | C31: Автомобили бортовые, грузоподъемность до 5 т | D31: маш.-ч | E31: 0,04 0,08 | F31: 109.17 | H31: 109.17 | J31: 8.73 | L31: 8.73
B32: 2. 101-1703 | C32: Прокладки резиновые (пластина техническая прессованная) | D32: кг | E32: 0,08 0,16 | F32: 24.75 | J32: 3.96
B33: 3. 101-1977 | C33: Болты с гайками и шайбами строительные | D33: кг | E33: 0,17 0,34 | F33: 16.8 | J33: 5.71
B34: 4. 999-9950 | C34: Вспомогательные ненормируемые ресурсы | D34: руб. | E34: 1,22 2,44 | F34: 1 | J34: 2.44
A35: 2 | B35: ТСЦ-301-0735 Постан.Правит.Свердл.обл. от 10.11.10 №1616-ПП | C35: Клапан термозапорный, марка КТЗ 001-50 Р | D35: шт. | E35: 1 | F35: 879.02 | J35: 879.02
A36: 3 | B36: ТЕР16-05-001-02 Постан.Правит.Свердл.обл. от 10.11.10 №1616-ПП | C36: Установка вентилей, задвижек, затворов, клапанов обратных, кранов проходных на трубопроводах из стальных труб диаметром: до 50 мм НР (150,57 руб.): 128% от ФОТ (117,63 руб.) СП (97,63 руб.): 83% от ФОТ (117,63 руб.) | D36: 1 шт. | E36: 6 2+2+2 | F36: 138.58 | G36: 18.79 | H36: 5.32 | J36: 831.48 | K36: 112.74 | L36: 31.92 | N36: 1.47 | O36: 8.82
C37: Затраты труда рабочих (ср 3,5) | D37: чел.час | E37: 1,47 8,82 | F37: 12.78 | G37: 12.78 | J37: 112.72 | K37: 112.72
B38: 1. 040502 | C38: Установки для сварки ручной дуговой (постоянного тока) | D38: маш.-ч | E38: 0,35 2,1 | F38: 8.97 | H38: 8.97 | J38: 18.84 | L38: 18.84
B39: 2. 400001 | C39: Автомобили бортовые, грузоподъемность до 5 т | D39: маш.-ч | E39: 0,02 0,12 | F39: 109.17 | H39: 109.17 | J39: 13.1 | L39: 13.1
B40: 3. 101-1522 | C40: Электроды диаметром 5 мм Э42А | D40: т | E40: 0,00014 0,00084 | F40: 11130.07 | J40: 9.35
B41: 4. 101-2576 | C41: Болты с гайками и шайбами для санитарно-технических работ диаметром 16 мм | D41: т | E41: 0,0011 0,0066 | F41: 19992 | J41: 131.95
B42: 5. 507-0983 | C42: Фланцы стальные плоские приварные из стали ВСт3сп2, ВСт3сп3, давлением 1,0 МПа (10 кгс/см2), диаметром 50 мм | D42: шт. | E42: 2 12 | F42: 44.03 | J42: 528.36
B43: 6. 509-0966 | C43: Прокладки из паронита марки ПМБ, толщиной 1 мм, диаметром 50 мм | D43: 1000 шт. | E43: 0,002 0,012 | F43: 1428 | J43: 17.14
A44: 4 | B44: ТСЦ-302-1834 Постан.Правит.Свердл.обл. от 10.11.10 №1616-ПП | C44: Кран шаровой муфтовый 11Б27П1, диаметром 32 мм | D44: шт. | E44: 4 | F44: 117.5 | J44: 470
A45: 5 | B45: ТСЦ-301-3348 Постан.Правит.Свердл.обл. от 10.11.10 №1616-ПП применительно | C45: Заглушки стальные для труб диаметром 50 мм | D45: шт. | E45: 2 | F45: 10.8 | J45: 21.6
A46: 6 | B46: ТСЦ-302-1831 Постан.Правит.Свердл.обл. от 10.11.10 №1616-ПП | C46: Кран шаровой муфтовый 11Б27П1, диаметром 15 мм | D46: шт. | E46: 3 | F46: 25.14 | J46: 75.42
A47: 7 | B47: ТСЦ-302-1832 Постан.Правит.Свердл.обл. от 10.11.10 №1616-ПП | C47: Кран шаровой муфтовый 11Б27П1, диаметром 20 мм | D47: шт. | E47: 5 | F47: 39.32 | J47: 196.6
...

Sheet 02-01-02
A1: СОГЛАСОВАНО: | M1: УТВЕРЖДАЮ:
A4: _________________ | M4: _________________
A5: " _____ " ________________ 2013 г. | M5: "____" ______________2013 г.
H6: 049-12-00 Газоснабжение водогрейных котлов лесосушильных комплексов СМ-15, г.Лесной
H7: (наименование стройки)
H9: ЛОКАЛЬНЫЙ СМЕТНЫЙ РАСЧЕТ № ЛСР 02-01-02
H10: (локальная смета)
C12: на | D12: Автоматизация ГСВ
H13: (наименование работ и затрат, наименование объекта)
D15: Основание: чертежи и спецификация 049-12-00 АГСВ
D16: Сметная стоимость _______________________________________________________________________________________________ | J16: ___________________________18,767 | L16: тыс. руб.
D17: строительных работ _______________________________________________________________________________________________ | J17: _______________________________________________________________________________________________1,256 | L17: тыс. руб.
D18: монтажных работ _______________________________________________________________________________________________ | J18: _______________________________________________________________________________________________10,094 | L18: тыс. руб.
D19: оборудования _______________________________________________________________________________________________ | J19: _______________________________________________________________________________________________7,418 | L19: тыс. руб.
D20: Средства на оплату труда _______________________________________________________________________________________________ | J20: ___________________________2,196 | L20: тыс. руб.
D21: Сметная трудоемкость _______________________________________________________________________________________________ | J21: _______________________________________________________________________________________________158,05 | L21: чел.час
D22: Составлен(а) в ценах по состоянию на 01.01.2001г.
A25: № пп | B25: Обосно- вание | C25: Наименование | D25: Ед. изм. | E25: Кол. на ед./ всего | F25: Стоимость единицы, руб. | J25: Общая стоимость, руб. | N25: Т/з осн. раб.на ед. | O25: Т/з осн. раб. Всего | P25: Т/з мех. на ед. | Q25: Т/з мех. Всего
F26: Всего | G26: В том числе | J26: Всего | K26: В том числе
G27: Осн.З/п | H27: Эк.Маш | I27: З/пМех | K27: Осн.З/п | L27: Эк.Маш | M27: З/пМех
A28: 1 | B28: 2 | C28: 3 | D28: 4 | E28: 5 | F28: 6 | G28: 7 | H28: 8 | I28: 9 | J28: 10 | K28: 11 | L28: 12 | M28: 13 | N28: 14 | O28: 15 | P28: 16 | Q28: 17
A29: Раздел 1. Монтажные работы
A30: 1 | B30: ТЕРм11-02-001-01 Постан.Правит.Свердл.обл. от 10.11.10 №1616-ПП | C30: Прибор, устанавливаемый на резьбовых соединениях, масса до 1,5 кг НР (60,06 руб.): 80% от ФОТ (75,07 руб.) СП (45,04 руб.): 60% от ФОТ (75,07 руб.) | D30: 1 шт. | E30: 5 1+1+3 | F30: 15.88 | G30: 14.39 | J30: 79.4 | K30: 71.95 | N30: 1.03 | O30: 5.15
C31: Затраты труда рабочих (ср 4,2) | D31: чел.час | E31: 1,03 5,15 | F31: 13.97 | G31: 13.97 | J31: 71.95 | K31: 71.95
B32: 1. 509-2160 | C32: Прокладки паронитовые | D32: кг | E32: 0,042 0,21 | F32: 28.56 | J32: 6
B33: 2. 999-9950 | C33: Вспомогательные ненормируемые ресурсы | D33: руб. | E33: 0,29 1,45 | F33: 1 | J33: 1.45
A34: 2 | B34: ТЕРм10-01-039-06 Постан.Правит.Свердл.обл. от 10.11.10 №1616-ПП | C34: Реле, ключ, кнопка и др. с подготовкой места установки НР (681,7 руб.): 80% от ФОТ (852,12 руб.) СП (511,27 руб.): 60% от ФОТ (852,12 руб.) | D34: 1 шт. | E34: 34 2+10+2+2+8+10 | F34: 24.5 | G34: 24.02 | J34: 833 | K34: 816.68 | N34: 2 | O34: 68
C35: Затраты труда рабочих (ср 3) | D35: чел.час | E35: 2 68 | F35: 12.01 | G35: 12.01 | J35: 816.68 | K35: 816.68
B36: 1. 999-9950 | C36: Вспомогательные ненормируемые ресурсы | D36: руб. | E36: 0,48 16,32 | F36: 1 | J36: 16.32
A37: 3 | B37: Прайс Finder | C37: Реле промежуточное 55.34.8.230.0040 Цена: 198,4/1,18/5,56 | D37: шт | E37: 10 | F37: 30.24 | J37: 302.4
A38: 4 | B38: Прайс ИЭК | C38: Кнопка с 1 перекидным контактом (красный и черный цвет) ABLF-22 Цена: 178,5/1,18/5,56 | D38: шт | E38: 4 2+2 | F38: 27.21 | J38: 108.84
A39: 5 | B39: Прайс ИЭК | C39: Светодиодные матрицы AD22-22DS Цена: 200/1,18/5,56 | D39: шт | E39: 8 | F39: 30.48 | J39: 243.84
A40: 6 | B40: ТЕРм10-04-030-04 Постан.Правит.Свердл.обл. от 10.11.10 №1616-ПП | C40: Дополнительная установка на пультах и панелях колодки клеммной на 20 клемм НР (110,49 руб.): 92% от ФОТ (120,1 руб.) СП (78,07 руб.): 65% от ФОТ (120,1 руб.) | D40: 1 шт. | E40: 10 | F40: 27.06 | G40: 11.51 | J40: 270.6 | K40: 115.1 | N40: 1 | O40: 10
C41: Затраты труда рабочих (ср 2,5) | D41: чел.час | E41: 1 10 | F41: 11.51 | G41: 11.51 | J41: 115.1 | K41: 115.1
B42: 1. 101-2073 | C42: Нитки суровые | D42: кг | E42: 0,04 0,4 | F42: 142.8 | J42: 57.12
B43: 2. 101-2493 | C43: Лента липкая изоляционная на поликасиновом компаунде марки ЛСЭПЛ, шириной 20-30 мм, толщиной от 0,14 до 0,19 мм | D43: кг | E43: 0,02 0,2 | F43: 200.94 | J43: 40.19
B44: 3. 506-1361 | C44: Припои оловянно-свинцовые бессурьмянистые марки ПОС40 | D44: кг | E44: 0,05 0,5 | F44: 111.86 | J44: 55.93
B45: 4. 999-9950 | C45: Вспомогательные ненормируемые ресурсы | D45: руб. | E45: 0,23 2,3 | F45: 1 | J45: 2.3
A46: 7 | B46: Прайс | C46: Резьбовая розетка (колодка) для рейки 10А - 250В Цена:150/1,18/5,56 | D46: шт | E46: 10 | F46: 22.86 | J46: 228.6
A47: 8 | B47: ТЕРм11-06-001-01 Постан.Правит.Свердл.обл. от 10.11.10 №1616-ПП | C47: Щиты и пульты, масса до 50 кг НР (54,26 руб.): 80% от ФОТ (67,82 руб.) СП (40,69 руб.): 60% от ФОТ (67,82 руб.) | D47: 1 шт. | E47: 1 | F47: 159.05 | G47: 64.27 | H47: 13.7 | I47: 0.73 | J47: 159.05 | K47: 64.27 | L47: 13.7 | M47: 0.73 | N47: 5.15 | O47: 5.15 | P47: 0.04 | Q47: 0.04
...

Sheet 02-01-03
A1: СОГЛАСОВАНО: | M1: УТВЕРЖДАЮ:
A4: _________________ | M4: _________________
A5: " _____ " ________________ 2013 г. | M5: "____" ______________2013 г.
H6: 049-12-00 Газоснабжение водогрейных котлов лесосушильных комплексов СМ-15, г.Лесной
H7: (наименование стройки)
H9: ЛОКАЛЬНЫЙ СМЕТНЫЙ РАСЧЕТ № ЛСР 02-01-03
H10: (локальная смета)
C12: на | D12: Молниезащита и заземление
H13: (наименование работ и затрат, наименование объекта)
D15: Основание: чертежи и спецификация 049-12-00- ЭГ
D16: Сметная стоимость _______________________________________________________________________________________________ | J16: ___________________________0,853 | L16: тыс. руб.
D17: строительных работ _______________________________________________________________________________________________ | J17: _______________________________________________________________________________________________0,128 | L17: тыс. руб.
D18: монтажных работ _______________________________________________________________________________________________ | J18: _______________________________________________________________________________________________0,725 | L18: тыс. руб.
D19: Средства на оплату труда _______________________________________________________________________________________________ | J19: ___________________________0,108 | L19: тыс. руб.
D20: Сметная трудоемкость _______________________________________________________________________________________________ | J20: _______________________________________________________________________________________________6,87 | L20: чел.час
D21: Составлен(а) в ценах по состоянию на 01.01.2001г.
A24: № пп | B24: Обосно- вание | C24: Наименование | D24: Ед. изм. | E24: Кол. на ед./ всего | F24: Стоимость единицы, руб. | J24: Общая стоимость, руб. | N24: Т/з осн. раб.на ед. | O24: Т/з осн. раб. Всего | P24: Т/з мех. на ед. | Q24: Т/з мех. Всего
F25: Всего | G25: В том числе | J25: Всего | K25: В том числе
G26: Осн.З/п | H26: Эк.Маш | I26: З/пМех | K26: Осн.З/п | L26: Эк.Маш | M26: З/пМех
A27: 1 | B27: 2 | C27: 3 | D27: 4 | E27: 5 | F27: 6 | G27: 7 | H27: 8 | I27: 9 | J27: 10 | K27: 11 | L27: 12 | M27: 13 | N27: 14 | O27: 15 | P27: 16 | Q27: 17
A28: Раздел 1. Земляные работы
A29: 1 | B29: ТЕР01-01-009-24 Постан.Правит.Свердл.обл. от 10.11.10 №1616-ПП | C29: Разработка траншей экскаватором «обратная лопата» с ковшом вместимостью 0,25 м3, группа грунтов 3 НР (8,09 руб.): 95% от ФОТ (8,52 руб.) СП (4,26 руб.): 50% от ФОТ (8,52 руб.) | D29: 1000 м3 грунта | E29: 0,007 7/1000 | F29: 6287.78 | H29: 6287.78 | I29: 1167.28 | J29: 44.01 | L29: 44.01 | M29: 8.17 | P29: 74.73 | Q29: 0.52
B30: 1. 060337 | C30: Экскаваторы одноковшовые дизельные на пневмоколесном ходу при работе на других видах строительства 0,25 м3 | D30: маш.-ч | E30: 74,73 0,52 | F30: 84.14 | H30: 84.14 | I30: 15.62 | J30: 43.75 | L30: 43.75 | M30: 8.12
A31: 2 | B31: ТЕР01-01-033-02 Постан.Правит.Свердл.обл. от 10.11.10 №1616-ПП | C31: Засыпка траншей и котлованов с перемещением грунта до 5 м бульдозерами мощностью 59 кВт (80 л.с.), группа грунтов 2 НР (0,96 руб.): 95% от ФОТ (1,01 руб.) СП (0,51 руб.): 50% от ФОТ (1,01 руб.) | D31: 1000 м3 грунта | E31: 0,007 7/1000 | F31: 822.69 | H31: 822.69 | I31: 138.55 | J31: 5.76 | L31: 5.76 | M31: 0.97 | P31: 8.87 | Q31: 0.06
B32: 1. 070148 | C32: Бульдозеры при работе на других видах строительства 59 кВт (80 л.с.) | D32: маш.-ч | E32: 8,87 0,06 | F32: 92.75 | H32: 92.75 | I32: 15.62 | J32: 5.57 | L32: 5.57 | M32: 0.94
A33: 3 | B33: ТЕР01-02-005-01 Постан.Правит.Свердл.обл. от 10.11.10 №1616-ПП | C33: Уплотнение грунта пневматическими трамбовками, группа грунтов 1-2 НР (13,73 руб.): 95% от ФОТ (14,45 руб.) СП (7,23 руб.): 50% от ФОТ (14,45 руб.) | D33: 100 м3 уплотненного грунта | E33: 0,07 7/100 | F33: 604.71 | G33: 150.49 | H33: 454.22 | I33: 47.48 | J33: 42.33 | K33: 10.53 | L33: 31.8 | M33: 3.32 | N33: 12.53 | O33: 0.88 | P33: 3.04 | Q33: 0.21
C34: Затраты труда рабочих (ср 3) | D34: чел.час | E34: 12,53 0,88 | F34: 12.01 | G34: 12.01 | J34: 10.57 | K34: 10.57
B35: 1. 050102 | C35: Компрессоры передвижные с двигателем внутреннего сгорания давлением до 686 кПа (7 ат), производительность 5 м3/мин | D35: маш.-ч | E35: 3,04 0,21 | F35: 103.34 | H35: 103.34 | I35: 15.62 | J35: 21.7 | L35: 21.7 | M35: 3.28
B36: 2. 331100 | C36: Трамбовки пневматические при работе от передвижных компрессорных станций | D36: маш.-ч | E36: 12,18 0,85 | F36: 11.5 | H36: 11.5 | J36: 9.78 | L36: 9.78
A37: Итого прямые затраты по разделу в ценах 2001г. | J37: 92.1 | K37: 10.53 | L37: 81.57 | M37: 12.46 | O37: 0.88 | Q37: 0.79
A38: Итого прямые затраты по разделу с учетом коэффициентов к итогам (Районный к-т 1,0434 (Поз. 1-3)) | J38: 93.1 | K38: 10.99 | L38: 82.11 | M38: 13 | O38: 0.88 | Q38: 0.79
A39: Накладные расходы | J39: 22.79
A40: Сметная прибыль | J40: 12
A41: Итоги по разделу 1 Земляные работы :
A42: Земляные работы, выполняемые механизированным способом | J42: 127.89 | O42: 0.88 | Q42: 0.79
A43: Итого | J43: 127.89 | O43: 0.88 | Q43: 0.79
A44: В том числе:
A45: Машины и механизмы | J45: 82.11
A46: ФОТ | J46: 23.99
A47: Накладные расходы | J47: 22.79
...

Sheet 06-02-04
A1: СОГЛАСОВАНО: | M1: УТВЕРЖДАЮ:
A4: _________________ | M4: _________________
A5: " _____ " ________________ 2013 г. | M5: "____" ______________2013 г.
H6: 049-12-00 Газоснабжение водогрейных котлов лесосушильных комплексов СМ-15, г.Лесной
H7: (наименование стройки)
H9: ЛОКАЛЬНЫЙ СМЕТНЫЙ РАСЧЕТ № 06-02-04
H10: (локальная смета)
C12: на | D12: Наружные газопроводы
H13: (наименование работ и затрат, наименование объекта)
D15: Основание: чертежи и спецификация № 049-12-00-ГСН
D16: Сметная стоимость _______________________________________________________________________________________________ | J16: ___________________________123,236 | L16: тыс. руб.
D17: строительных работ _______________________________________________________________________________________________ | J17: _______________________________________________________________________________________________62,251 | L17: тыс. руб.
D18: монтажных работ _______________________________________________________________________________________________ | J18: _______________________________________________________________________________________________0,472 | L18: тыс. руб.
D19: оборудования _______________________________________________________________________________________________ | J19: _______________________________________________________________________________________________60,514 | L19: тыс. руб.
D20: Средства на оплату труда _______________________________________________________________________________________________ | J20: ___________________________5,607 | L20: тыс. руб.
D21: Сметная трудоемкость _______________________________________________________________________________________________ | J21: _______________________________________________________________________________________________311,82 | L21: чел.час
D22: Составлен(а) в базовых ценах по состоянию на 01.01.2001г.
A25: № пп | B25: Обосно- вание | C25: Наименование | D25: Ед. изм. | E25: Кол. на ед./ всего | F25: Стоимость единицы, руб. | J25: Общая стоимость, руб. | N25: Т/з осн. раб.на ед. | O25: Т/з осн. раб. Всего | P25: Т/з мех. на ед. | Q25: Т/з мех. Всего
F26: Всего | G26: В том числе | J26: Всего | K26: В том числе
G27: Осн.З/п | H27: Эк.Маш | I27: З/пМех | K27: Осн.З/п | L27: Эк.Маш | M27: З/пМех
A28: 1 | B28: 2 | C28: 3 | D28: 4 | E28: 5 | F28: 6 | G28: 7 | H28: 8 | I28: 9 | J28: 10 | K28: 11 | L28: 12 | M28: 13 | N28: 14 | O28: 15 | P28: 16 | Q28: 17
A29: Раздел 1. Оборудование
A30: 1 | B30: Счёт-спецификация № 2680 | C30: Шкафной газорегуляторный пункт ГРПШ-FRG/2МВ-2Н-Р-ЭК-Г-УХЛ1 Цена: 284854/1,18/4,19 | D30: шт | E30: 1 | F30: 57613.77 | J30: 57613.77
A31: Итого прямые затраты по разделу в ценах 2001г. | J31: 57613.77
A32: Итого прямые затраты по разделу с учетом коэффициентов к итогам | J32: 60513.82
A33: Итоги по разделу 1 Оборудование :
A34: Оборудование | J34: 60513.82
A35: Итого | J35: 60513.82
A36: В том числе:
A37: Оборудование | J37: 60513.82
A38: Итого по разделу 1 Оборудование | J38: 60513.82
A39: Раздел 2. Общестроительные работы
A40: 2 | B40: ТЕР19-01-004-01 Постан.Правит.Свердл.обл. от 10.11.10 №1616-ПП | C40: Устройство установки для редуцирования давления газа НР (237,72 руб.): 128% от ФОТ (185,72 руб.) СП (154,15 руб.): 83% от ФОТ (185,72 руб.) | D40: 1 установка | E40: 1 | F40: 8388.06 | G40: 176.72 | H40: 36.75 | I40: 1.27 | J40: 8388.06 | K40: 176.72 | L40: 36.75 | M40: 1.27 | N40: 13.5 | O40: 13.5 | P40: 0.07 | Q40: 0.07
C41: Затраты труда рабочих (ср 3,7) | D41: чел.час | E41: 13,5 13,5 | F41: 13.09 | G41: 13.09 | J41: 176.72 | K41: 176.72
B42: 1. 021141 | C42: Краны на автомобильном ходу при работе на других видах строительства 10 т | D42: маш.-ч | E42: 0,07 0,07 | F42: 127.47 | H42: 127.47 | I42: 18.2 | J42: 8.92 | L42: 8.92 | M42: 1.27
B43: 2. 040502 | C43: Установки для сварки ручной дуговой (постоянного тока) | D43: маш.-ч | E43: 1,39 1,39 | F43: 8.97 | H43: 8.97 | J43: 12.47 | L43: 12.47
B44: 3. 040504 | C44: Аппарат для газовой сварки и резки | D44: маш.-ч | E44: 0,06 0,06 | F44: 1.24 | H44: 1.24 | J44: 0.07 | L44: 0.07
B45: 4. 400001 | C45: Автомобили бортовые, грузоподъемность до 5 т | D45: маш.-ч | E45: 0,14 0,14 | F45: 109.17 | H45: 109.17 | J45: 15.28 | L45: 15.28
B46: 5. 101-0324 | C46: Кислород технический газообразный | D46: м3 | E46: 0,05 0,05 | F46: 11.89 | J46: 0.59
B47: 6. 101-0384 | C47: Краски масляные и алкидные густотертые, цинковые МА-011-1 | D47: т | E47: 8E-5 8E-5 | F47: 21039.2 | J47: 1.68
...

Sheet сводка затрат
A2: г. Лесной ФГУП "Комбинат "Электрохимприбор"
A3: СВОДКА ЗАТРАТ
A4: Монтажные работы по газоснабжению водогрейных котлов лесосушильных комплексов СМ 15, расположенных в г. Лесной
A5: Составлена в ценах по состоянию на 01.01.2000 г. с переводом в текущие
A6: № п/п | B6: Номера сметных расчетов и смет | C6: Наименование работ и затрат | D6: Сметная стоимость в руб. | H6: Общая сметная стоимость, руб.
D7: строительных работ | E7: монтажных работ | F7: оборудования, мебели и инвентаря | G7: прочих затрат
A8: 1 | B8: 2 | C8: 3 | D8: 4 | E8: 5 | F8: 6 | G8: 7 | H8: 8
A9: 1 | B9: 02-01-01 | C9: Газоснабжение (внутренние устройства) | D9: =ROUND('02-01-01'!J234,0) -> 9469 | E9: =ROUND('02-01-01'!J235,0) -> 326 | F9: 0 | G9: 0 | H9: =SUM(D9:G9) -> 9795
A10: 2 | B10: 02-01-02 | C10: Автоматизация ГСВ | D10: =ROUND('02-01-02'!J262,0) -> 1256 | E10: =ROUND('02-01-02'!J263,0) -> 10094 | F10: =ROUND('02-01-02'!J264,0) -> 7418 | G10: 0 | H10: =SUM(D10:G10) -> 18768
A11: 3 | B11: 02-01-03 | C11: Молниезащита и заземление | D11: =ROUND('02-01-03'!J104,0) -> 128 | E11: =ROUND('02-01-03'!J105,0) -> 725 | F11: 0 | G11: 0 | H11: =SUM(D11:G11) -> 853
A12: 4 | B12: 06-02-04 | C12: Наружные газопроводы | D12: =ROUND('06-02-04'!J564,0) -> 62251 | E12: =ROUND('06-02-04'!J565,0) -> 472 | F12: =ROUND('06-02-04'!J566,0) -> 60514 | G12: 0 | H12: =SUM(D12:G12) -> 123237
C13: Итого в базисных ценах 2001г. | D13: =SUM(D9:D12) -> 73104 | E13: =SUM(E9:E12) -> 11617 | F13: =SUM(F9:F12) -> 67932 | G13: =SUM(G9:G12) -> 0 | H13: =SUM(D13:G13) -> 152653
C14: Производство работ в зимнее время - 3,3%*1,1=3,63% | D14: =ROUND(D13*3.63%,0) -> 2654 | E14: =ROUND(E13*3.63%,0) -> 422 | F14: 0 | G14: 0 | H14: =SUM(D14:G14) -> 3076
C15: Итого с зимним удорожанием | D15: =SUM(D13:D14) -> 75758 | E15: =SUM(E13:E14) -> 12039 | F15: =SUM(F13:F14) -> 67932 | G15: =SUM(G13:G14) -> 0 | H15: =SUM(H13:H14) -> 155729
C16: Всего в текущих ценах 2013г. (Ксмр=5,56; Коборуд.=4,19) | D16: =ROUND(D15*5.56,0) -> 421214 | E16: =ROUND(E15*5.56,0) -> 66937 | F16: =ROUND(F15*4.19,0) -> 284635 | G16: =ROUND(G15*9.32,0) -> 0 | H16: =SUM(D16:G16) -> 772786
C17: НДС 18% | D17: =D16*18% -> 75818.52 | E17: =E16*18% -> 12048.66 | F17: =F16*18% -> 51234.3 | G17: =G16*18% -> 0 | H17: =ROUND(H16*18%,2) -> 139101.48
C18: Всего с НДС | D18: =D16+D17 -> 497032.52 | E18: =E16+E17 -> 78985.66 | F18: =F16+F17 -> 335869.3 | G18: =G16+G17 -> 0 | H18: =H16+H17 -> 911887.48

Sheet НМЦ
A1: г. Лесной ФГУП "Комбинат "Электрохимприбор"
A3: Расчет начальной (максимальной) цены
A5: Монтажные работы по газоснабжению водогрейных котлов
A6: лесосушильных комплексов СМ 15, расположенных в г. Лесной
A8: Составлен в ценах по состоянию на 01.01.2000 г. с переводом в текущие цены | G8: руб.
A9: Наименование глав ССР, объектных сметных расчетов, локальных сметных расчетов, видов работ | D9: Сметная стоимость в базисных ценах на 01.01.2000г. | E9: Текущая стоимость на момент определения начальной (максимальной) цены | F9: № обосновывающего расчета
A13: 1 | D13: 2 | E13: 3 | F13: 4
A14: Газоснабжение (внутренние устройства) | D14: ='сводка затрат'!H9 -> 9795 | E14: =ROUND('сводка затрат'!D9*5.56,0)+ROUND('сводка затрат'!E9*5.56,0)+ROUND('сводка затрат'!F9*4.19,0) -> 54461 | F14: 02-01-01
A15: Автоматизация ГСВ | D15: ='сводка затрат'!H10 -> 18768 | E15: =ROUND('сводка затрат'!D10*5.56,0)+ROUND('сводка затрат'!E10*5.56,0)+ROUND('сводка затрат'!F10*4.19,0) -> 94187 | F15: 02-01-02
A16: Молниезащита и заземление | D16: ='сводка затрат'!H11 -> 853 | E16: =ROUND('сводка затрат'!D11*5.56,0)+ROUND('сводка затрат'!E11*5.56,0)+ROUND('сводка затрат'!F11*4.19,0) -> 4743 | F16: 02-01-03
A17: Наружные газопроводы | D17: ='сводка затрат'!H12 -> 123237 | E17: =ROUND('сводка затрат'!D12*5.56,0)+ROUND('сводка затрат'!E12*5.56,0)+ROUND('сводка затрат'!F12*4.19,0) -> 602294 | F17: 06-02-04
A18: Итого: | D18: =SUM(D14:D17) -> 152653 | E18: =SUM(E14:E17) -> 755685
A19: Производство работ в зимнее время - 3,3%*1,1=3,63% | D19: ='сводка затрат'!H14 -> 3076 | E19: =ROUND(D19*5.56,0)-2 -> 17101
A20: Итого: | D20: =SUM(D18:D19) -> 155729 | E20: =SUM(E18:E19) -> 772786
A21: НДС 18% | E21: =ROUND(E20*18%,2) -> 139101.48
A22: Всего с НДС: | E22: =SUM(E20:E21) -> 911887.48
A26: Начальник отдела капитального строительства | E26: В.В. Моляков
A28: Инженер по проектно-сметной работе | E28: Т.Ш. Ковязина
A30: Согласовано отд. 028

Sheet Лист1
