Workbook
Name аааааппппппрррппппппп: #REF!
Name аараооооооооооооо: #REF!
Name автом: #REF!
Name алшрльоплварл: #REF!
Name аолвлддддддддддддддддввввввввв: #REF!
Name апарв: #REF!
Name апрлдджаоырыфрпопрлпрлпрлп: #REF!
Name арлггаджаш: #REF!
Name ароррбллтблпроорапииас: #REF!
Name арррррблллпдрлдддддддддд: #REF!
Name варпаааааааааа: #REF!
Name ввпьььььлднд: #REF!
Name вед: #REF!
Name вертикальная: #REF!
Name вертикплан: #REF!
Name волен: #REF!
Name вп: #REF!
Name впырпфдыпл: #REF!
Name впьглорьтитттттттттт: #REF!
Name всввввввввввввввввввввввввв: #REF!
Name выб: #REF!
Name выпуск: #REF!
Name выьлепвввввпмп: #REF!
Name еваопродолжэрщэрзшщщх: #REF!
Name измен: #REF!
Name итого: #REF!
Name итого_сантех: #REF!
Name итого_стр: #REF!
Name итого_строит: #REF!
Name итого_технол: #REF!
Name итого_электр: #REF!
Name квота: #REF!
Name кккккккккк: #REF!
Name корек: #REF!
Name корект: #REF!
Name корректир: #REF!
Name лен: #REF!
Name лот: #REF!
Name мамиааааааааааааааааааааааааааааа: #REF!
Name ммпоослччччччччччрччапппппппппр: #REF!
Name мрол: #REF!
Name оз: #REF!
Name озелен: #REF!
Name озеленение: #REF!
Name озеленение2: #REF!
Name ОСР: #REF!
Name ОСР110: #REF!
Name ОСР111: #REF!
Name план: #REF!
Name планировка: #REF!
Name плдщхэж.юрббдлююбо: #REF!
Name площадки: #REF!
Name пос: #REF!
Name прав: #REF!
Name прлппппппппппппппрррррррр: #REF!
Name провбп: #REF!
Name проект: #REF!
Name пропппп: #REF!
Name рпоолллллбрюююююююююююю: #REF!
Name сааповвыыыыыеееееггггггггг: #REF!

Sheet 7090
J1: УТВЕРЖДАЮ:
J4: ________________
J5: "______ " _______________2014 г.
D6: ФГУП "Комбинат "Электрохимприбор"
E7: (наименование стройки)
D9: ЛОКАЛЬНЫЙ СМЕТНЫЙ РАСЧЕТ № 7090
D10: (локальная смета)
B12: на | C12: пусконаладочные работы стадия "вхолостую" на пожарную сигнализацию, Пл.1 Зд.403/1
E13: (наименование работ и затрат, наименование объекта)
C15: Основание: р.д.инв.№ 07-05443
C16: Сметная стоимость прочих _______________________________________________________________________________________________ | E16: ___________________________48,250 | G16: тыс. руб.
C17: Средства на оплату труда _______________________________________________________________________________________________ | E17: ___________________________2,246 | G17: тыс. руб.
C18: Сметная трудоемкость _______________________________________________________________________________________________ | E18: _______________________________________________________________________________________________117,5 | G18: чел.час
C19: Составлена в ценах 2001г. с переводом в текущие цены 2014г.
A22: № пп | B22: Обоснование | C22: Наименование | D22: Ед. изм. | E22: Кол. | F22: Стоимость единицы, руб. | J22: Общая стоимость, руб.
F23: Всего | G23: В том числе | J23: Всего | K23: В том числе
G24: Осн.З/п | H24: Эк.Маш. | I24: З/пМех | K24: Осн.З/п | L24: Эк.Маш. | M24: З/пМех
A25: 1 | B25: 2 | C25: 3 | D25: 4 | E25: 5 | F25: 6 | G25: 7 | H25: 8 | I25: 9 | J25: 10 | K25: 11 | L25: 12 | M25: 13
A26: Раздел 1. Новый Раздел
A27: 2 | B27: ТЕРп01-10-001-01 | C27: Сбор и реализация сигналов информации устройств защиты, автоматики электрических и технологических режимов | D27: 1 сигнал | E27: 5 | F27: 24.72 | G27: 24.72 | J27: 124 | K27: 124
A28: 3 | B28: ТЕРп01-06-010-03 | C28: Выпрямительный блок питания (токовый или напряжения) для питания цепей защиты, управления и сигнализации мощностью до 1 кВА со стабилизацией выходного напряжения | D28: 1 устройство | E28: 1 | F28: 444.28 | G28: 444.28 | J28: 444 | K28: 444
A29: 4 | B29: ТЕРп02-01-002-03 | C29: Автоматизированная система управления II категории технической сложности с количеством каналов (Кобщ) 10 | D29: 1 система | E29: 1 | F29: 1772.34 | G29: 1772.34 | J29: 1772 | K29: 1772
A30: Итого прямые затраты по смете в ценах 2001г. | J30: 2340 | K30: 2340
A31: Итого прямые затраты по смете с учетом коэффициентов к итогам | J31: 2246 | K31: 2246
A32: В том числе, справочно:
A33: Районный к-т 4,3% (Поз. 2-4) | J33: 101 | K33: 101
A34: Условия работ ПЗ=1,15 (ОЗП=1,15; ЭМ=1,15; ЗПМ=1,15; МАТ=1,15) (Поз. 2-4) | J34: 366 | K34: 366
A35: Стадия "вхолостую" ПЗ=0,8 (ОЗП=0,8; ЭМ=0,8; ЗПМ=0,8; МАТ=0,8) (Поз. 2-4) | J35: -561 | K35: -561
A36: Накладные расходы | J36: 1460
A37: В том числе, справочно:
A38: 65% ФОТ (от 2246) (Поз. 2-4) | J38: 1460
A39: Сметная прибыль | J39: 898
A40: В том числе, справочно:
A41: 40% ФОТ (от 2246) (Поз. 2-4) | J41: 898
A42: Итоги по смете:
A43: Итого | J43: 4604
A44: В том числе:
A45: ФОТ | J45: 2246
A46: Накладные расходы | J46: 1460
A47: Сметная прибыль | J47: 898
...

Sheet 7093
J1: УТВЕРЖДАЮ:
J4: ________________
J5: "______ " _______________2014 г.
D6: ФГУП "Комбинат "Электрохимприбор"
E7: (наименование стройки)
D9: ЛОКАЛЬНЫЙ СМЕТНЫЙ РАСЧЕТ № 7093
D10: (локальная смета)
B12: на | C12: пусконаладочные работы стадия "вхолостую" на пожарную сигнализацию контейнерной двухагрегатной дизельной электростанции (ДЭС), Пл.1 Зд.403/1
E13: (наименование работ и затрат, наименование объекта)
C15: Основание: Паспорт БКС-6 №0304
C16: Сметная стоимость прочих _______________________________________________________________________________________________ | E16: ___________________________67,303 | G16: тыс. руб.
C17: Средства на оплату труда _______________________________________________________________________________________________ | E17: ___________________________3,133 | G17: тыс. руб.
C18: Сметная трудоемкость _______________________________________________________________________________________________ | E18: _______________________________________________________________________________________________179,48 | G18: чел.час
C19: Составлена в ценах 2001г. С переводом в текущие цены 2014г.
A22: № пп | B22: Обоснование | C22: Наименование | D22: Ед. изм. | E22: Кол. | F22: Стоимость единицы, руб. | J22: Общая стоимость, руб.
F23: Всего | G23: В том числе | J23: Всего | K23: В том числе
G24: Осн.З/п | H24: Эк.Маш. | I24: З/пМех | K24: Осн.З/п | L24: Эк.Маш. | M24: З/пМех
A25: 1 | B25: 2 | C25: 3 | D25: 4 | E25: 5 | F25: 6 | G25: 7 | H25: 8 | I25: 9 | J25: 10 | K25: 11 | L25: 12 | M25: 13
A26: Раздел 1. Новый Раздел
A27: 1 | B27: ТЕРп01-06-010-03 | C27: Выпрямительный блок питания (токовый или напряжения) для питания цепей защиты, управления и сигнализации мощностью до 1 кВА со стабилизацией выходного напряжения | D27: 1 устройство | E27: 1 | F27: 444.28 | G27: 444.28 | J27: 444 | K27: 444
A28: 2 | B28: ТЕРп01-10-001-01 | C28: Сбор и реализация сигналов информации устройств защиты, автоматики электрических и технологических режимов | D28: 1 сигнал | E28: 6 | F28: 24.72 | G28: 24.72 | J28: 148 | K28: 148
A29: 3 | B29: ТЕРп01-09-001-01 | C29: Датчик контактный механический с числом цепей управления до 2 (модули порошкового пожаротушения) | D29: 1 шт. | E29: 2 | F29: 37.73 | G29: 37.73 | J29: 75 | K29: 75
A30: 4 | B30: ТЕРп01-10-002-01 | C30: Схема образования участка сигнализации (центральной, технологической, местной, аварийной, предупредительной и др.) | D30: 1 участок | E30: 2 | F30: 477.92 | G30: 477.92 | J30: 956 | K30: 956
A31: 5 | B31: ТЕРп01-05-028-05 | C31: Программируемый микропроцессорный комплекс | D31: 1 устройство | E31: 1 | F31: 568.67 | G31: 568.67 | J31: 569 | K31: 569
A32: 6 | B32: ТЕРп02-01-002-01 | C32: Автоматизированная система управления II категории технической сложности с количеством каналов (Кобщ) 2 | D32: 1 система | E32: 1 | F32: 366.98 | G32: 366.98 | J32: 367 | K32: 367
A33: 7 | B33: ТЕРп02-01-002-02 | C33: Автоматизированная система управления II категории технической сложности с количеством каналов (Кобщ) за каждый канал свыше 2 до 9 добавлять к расценке 02-01-002-01 | D33: 1 канал | E33: 4 | F33: 176.61 | G33: 176.61 | J33: 706 | K33: 706
A34: Итого прямые затраты по смете в ценах 2001г. | J34: 3265 | K34: 3265
A35: Итого прямые затраты по смете с учетом коэффициентов к итогам | J35: 3133 | K35: 3133
A36: В том числе, справочно:
A37: Районный к-т 4,3% (Поз. 1-7) | J37: 140 | K37: 140
A38: Условия работ ПЗ=1,15 (ОЗП=1,15; ЭМ=1,15; ЗПМ=1,15; МАТ=1,15) (Поз. 1-7) | J38: 511 | K38: 511
A39: Стадия "вхолостую" ПЗ=0,8 (ОЗП=0,8; ЭМ=0,8; ЗПМ=0,8; МАТ=0,8) (Поз. 1-7) | J39: -783 | K39: -783
A40: Накладные расходы | J40: 2036
A41: В том числе, справочно:
A42: 65% ФОТ (от 3133) (Поз. 1-7) | J42: 2036
A43: Сметная прибыль | J43: 1253
A44: В том числе, справочно:
A45: 40% ФОТ (от 3133) (Поз. 1-7) | J45: 1253
A46: Итоги по смете:
A47: Итого | J47: 6422
...

Sheet 7097
J1: УТВЕРЖДАЮ:
J4: ________________
J5: "______ " _______________2014 г.
D6: ФГУП "Комбинат "Электрохимприбор"
E7: (наименование стройки)
D9: ЛОКАЛЬНЫЙ СМЕТНЫЙ РАСЧЕТ № 7097
D10: (локальная смета)
B12: на | C12: пусконаладочные работы стадия "вхолостую" на пожарную сигнализацию. Здание 637. Площадка 6.
E13: (наименование работ и затрат, наименование объекта)
C15: Основание: р.д.инв.№24411-12ПС
C16: Сметная стоимость прочих _______________________________________________________________________________________________ | E16: ___________________________30,203 | G16: тыс. руб.
C17: Средства на оплату труда _______________________________________________________________________________________________ | E17: ___________________________1,406 | G17: тыс. руб.
C18: Сметная трудоемкость _______________________________________________________________________________________________ | E18: _______________________________________________________________________________________________75,51 | G18: чел.час
C19: Составлена в ценах 2001г. с переводом в текущие цены 2014г.
A22: № пп | B22: Обоснование | C22: Наименование | D22: Ед. изм. | E22: Кол. | F22: Стоимость единицы, руб. | J22: Общая стоимость, руб.
F23: Всего | G23: В том числе | J23: Всего | K23: В том числе
G24: Осн.З/п | H24: Эк.Маш. | I24: З/пМех | K24: Осн.З/п | L24: Эк.Маш. | M24: З/пМех
A25: 1 | B25: 2 | C25: 3 | D25: 4 | E25: 5 | F25: 6 | G25: 7 | H25: 8 | I25: 9 | J25: 10 | K25: 11 | L25: 12 | M25: 13
A26: Раздел 1. Новый Раздел
A27: 1 | B27: ТЕРп01-10-001-01 | C27: Сбор и реализация сигналов информации устройств защиты, автоматики электрических и технологических режимов | D27: 1 сигнал | E27: 5 | F27: 24.72 | G27: 24.72 | J27: 124 | K27: 124
A28: 2 | B28: ТЕРп01-06-010-03 | C28: Выпрямительный блок питания (токовый или напряжения) для питания цепей защиты, управления и сигнализации мощностью до 1 кВА со стабилизацией выходного напряжения | D28: 1 устройство | E28: 1 | F28: 444.28 | G28: 444.28 | J28: 444 | K28: 444
A29: 3 | B29: ТЕРп02-01-002-01 | C29: Автоматизированная система управления II категории технической сложности с количеством каналов (Кобщ) 2 | D29: 1 система | E29: 1 | F29: 366.98 | G29: 366.98 | J29: 367 | K29: 367
A30: 4 | B30: ТЕРп02-01-002-02 | C30: Автоматизированная система управления II категории технической сложности с количеством каналов (Кобщ) за каждый канал свыше 2 до 9 добавлять к расценке 02-01-002-01 | D30: 1 канал | E30: 3 | F30: 176.61 | G30: 176.61 | J30: 530 | K30: 530
A31: Итого прямые затраты по смете в ценах 2001г. | J31: 1465 | K31: 1465
A32: Итого прямые затраты по смете с учетом коэффициентов к итогам | J32: 1406 | K32: 1406
A33: В том числе, справочно:
A34: Районный к-т 4,3% (Поз. 1-4) | J34: 63 | K34: 63
A35: Условия работ ПЗ=1,15 (ОЗП=1,15; ЭМ=1,15; ЗПМ=1,15; МАТ=1,15) (Поз. 1-4) | J35: 229 | K35: 229
A36: Стадия "вхолостую" ПЗ=0,8 (ОЗП=0,8; ЭМ=0,8; ЗПМ=0,8; МАТ=0,8) (Поз. 1-4) | J36: -351 | K36: -351
A37: Накладные расходы | J37: 914
A38: В том числе, справочно:
A39: 65% ФОТ (от 1406) (Поз. 1-4) | J39: 914
A40: Сметная прибыль | J40: 562
A41: В том числе, справочно:
A42: 40% ФОТ (от 1406) (Поз. 1-4) | J42: 562
A43: Итоги по смете:
A44: Итого | J44: 2882
A45: В том числе:
A46: ФОТ | J46: 1406
A47: Накладные расходы | J47: 914
...

Sheet СМР
A1: Расчет начальной (максимальной) цены на
A2: выполнение пусконаладочных работ на пожарную сигнализацию на объектах ФГУП "Комбинат "Электрохимприбор"
A4: Наименование глав ССР, объектный сметных расчетов, локальных сметных расчетов, видов прочих работ | B4: Сметная стоимость строительства в базисном уровне цен на 01.01.2000г. по ССР | F4: Остаток сметной стоимости в базисном уровне цен на 01.01.2014 | J4: Сметная стоимость строительства в базисном уровне цен на 01.01.2000г., выставленная на конкурс | N4: Текущая стоимость на момент определения начальной (максимальной) цены | O4: № обосновывающего расчета | P4: 2014 год
B5: Всего | C5: СМР | D5: Оборудование | E5: Прочие | F5: Всего | G5: СМР | H5: Оборудование | I5: Прочие | J5: Всего | K5: СМР | L5: Оборудование | M5: Прочие | P5: СМР | Q5: Оборудование | R5: Прочие
A6: 1 | B6: 2 | C6: 3 | D6: 4 | E6: 5 | F6: 6 | G6: 7 | H6: 8 | I6: 9 | J6: 10 | K6: 11 | L6: 12 | M6: 13 | N6: 14 | O6: 15 | P6: 16 | Q6: 17 | R6: 18
A7: Пусконаладочные работы стадия "вхолостую" на пожарную сигнализацию, Пл.1 Зд.403/1 | B7: =SUM(C7:E7) -> 4604 | C7: 0 | D7: 0 | E7: ='7090'!J43 -> 4604 | F7: =SUM(G7:I7) -> 4604 | G7: =C7 -> 0 | H7: =D7 -> 0 | I7: =E7 -> 4604 | J7: =SUM(K7:M7) -> 4604 | K7: =P7 -> 0 | L7: =Q7 -> 0 | M7: =R7 -> 4604 | N7: =SUM(P7:R7) -> 4604 | O7: 7090 | P7: =G7 -> 0 | Q7: =H7 -> 0 | R7: =I7 -> 4604
A8: Пусконаладочные работы стадия "вхолостую" на пожарную сигнализацию контейнерной двухагрегатной дизельной электростанции (ДЭС), Пл.1 Зд.403/1 | B8: =SUM(C8:E8) -> 6422 | C8: 0 | D8: 0 | E8: ='7093'!J47 -> 6422 | F8: =SUM(G8:I8) -> 6422 | G8: =C8 -> 0 | H8: =D8 -> 0 | I8: =E8 -> 6422 | J8: =SUM(K8:M8) -> 6422 | K8: =P8 -> 0 | L8: =Q8 -> 0 | M8: =R8 -> 6422 | N8: =SUM(P8:R8) -> 6422 | O8: 7093 | P8: =G8 -> 0 | Q8: =H8 -> 0 | R8: =I8 -> 6422
A9: Пусконаладочные работы стадия "вхолостую" на пожарную сигнализацию. Здание 637. Площадка 6. | B9: =SUM(C9:E9) -> 2882 | C9: 0 | D9: 0 | E9: ='7097'!J44 -> 2882 | F9: =SUM(G9:I9) -> 2882 | G9: =C9 -> 0 | H9: =D9 -> 0 | I9: =E9 -> 2882 | J9: =SUM(K9:M9) -> 2882 | K9: =P9 -> 0 | L9: =Q9 -> 0 | M9: =R9 -> 2882 | N9: =SUM(P9:R9) -> 2882 | O9: 7097 | P9: =G9 -> 0 | Q9: =H9 -> 0 | R9: =I9 -> 2882
A10: Итого в ценах 2000 года: | B10: =SUM(B7:B9) -> 13908 | C10: =SUM(C7:C9) -> 0 | D10: =SUM(D7:D9) -> 0 | E10: =SUM(E7:E9) -> 13908 | F10: =SUM(F7:F9) -> 13908 | G10: =SUM(G7:G9) -> 0 | H10: =SUM(H7:H9) -> 0 | I10: =SUM(I7:I9) -> 13908 | ... M10: =SUM(M7:M9) -> 13908 | N10: =SUM(P10:R10) -> 13908 | P10: =SUM(P7:P9) -> 0 | Q10: =SUM(Q7:Q9) -> 0 | R10: =SUM(R7:R9) -> 13908
A11: Итого в текущих ценах*: | N11: =SUM(P11:R11) -> 145756 | P11: =ROUND(P10*5.98,0) -> 0 | Q11: =ROUND(Q10*4.21,0) -> 0 | R11: =ROUND(R10*10.48,0) -> 145756
A12: НДС 18% | N12: =SUM(P12:R12) -> 26236.08 | P12: =ROUND(P11*18%,2) -> 0 | Q12: =ROUND(Q11*18%,2) -> 0 | R12: =ROUND(R11*18%,2) -> 26236.08
A13: Всего: | N13: =SUM(P13:R13) -> 171992.08 | P13: =SUM(P11:P12) -> 0 | Q13: =SUM(Q11:Q12) -> 0 | R13: =SUM(R11:R12) -> 171992.08
P14: 60000000
A15: * В расчете использованы индексы: | Q15: =P14-P13 -> 60000000
A16: - 10,48 индекс изменения сметной стоимости прочих затрат к ТЕР 2001 (приказ ФГУП "Комбинат "Электрохимприбор" от 18.09.2013 №1902-П)
A18: Начальник отдела капитального строительства
A19: ФГУП "Комбинат "Электрохимприбор" | H19: В.В. Моляков
A21: Инженер по проектно-сметной работе | H21: Н.А. Басова
A23: Согласовано | H23: отд. 028

Sheet НМЦ договора
G1: Приложение №1
G2: к извещению на размещение заказа
G3: на выполнение комплекса работ
G4: по строительству объекта
A8: Определение начальной (максимальной) цены договора генерального подряда
A9: на выполнение пусконаладочных работ на пожарную сигнализацию на объектах ФГУП "Комбинат "Электрохимприбор"
A10: на 2014 год
G13: ц.2000г./текущие цены, руб.
A14: Наименование услуг и работ (затрат) | C14: Сметная стоимость строительства в базисном уровне цен на 01.01.2000 г. | D14: Сметная стоимость строительства в текущем уровне цен, пресчитанная на момент проведения процедуры закупки | F14: Начальная (максимальная) цена | G14: в том числе по годам строительства
G17: 2014 г.
A21: 1 | C21: 2 | D21: 3 | F21: 4 | G21: 5
A22: СМР | C22: =СМР!K10 -> 0 | D22: =F22 -> 0 | F22: =G22 -> 0 | G22: =СМР!P11 -> 0
A23: Оборудование | C23: =СМР!L10 -> 0 | D23: =F23 -> 0 | F23: =G23 -> 0 | G23: =СМР!Q11 -> 0
A24: Прочие затраты | C24: =СМР!M10 -> 13908 | D24: =F24 -> 145756 | F24: =G24 -> 145756 | G24: =СМР!R11 -> 145756
A25: Всего: | C25: =SUM(C22:C24) -> 13908 | D25: =F25 -> 145756 | F25: =G25 -> 145756 | G25: =SUM(G22:G24) -> 145756
A26: НДС | D26: =F26 -> 26236.08 | F26: =G26 -> 26236.08 | G26: =СМР!P12+СМР!Q12+СМР!R12 -> 26236.08
A27: Итого с НДС | D27: =F27 -> 171992.08 | F27: =G27 -> 171992.08 | G27: =СМР!P13+СМР!Q13+СМР!R13 -> 171992.08
A29: В расчете использованы индексы:
A31: - 10,48 индекс изменения сметной стоимости прочих затрат к ТЕР 2001 (приказ ФГУП "Комбинат "Электрохимприбор" от 18.09.2013 №1902-П)
A33: Начальник отдела капитального строительства
A34: ФГУП "Комбинат "Электрохимприбор" | G34: В.В. Моляков
A36: Инженер по проектно-сметной работе | G36: Н.А. Басова
A38: Согласовано | G38: отд. 028
