Workbook

Sheet Лист1
A1: "СОГЛАСОВАНО" | H1: "УТВЕРЖДАЮ"
A3: ________________ | H3: ________________
A4: "_____" __________________ 20_____г. | H4: "_____" __________________ 20_____г.
A6: Наименование объекта: ФГУП "ПО "Маяк" завод РТ-1
A8: Л О К А Л Ь Н А Я С М Е Т А
A9: 41С/2012
A10: на капитальный ремонт системы отопления зд… завода РТ-1
A14: Составлена в ценах | C14: 2001г. С к=1,13,МДС 81-35.2004п.4.7;МДС81-38.2004 п.2.3
A15: Основание: Дефектная ведомость объемов работ | I15: Сметная стоимость | J15: 400.736 тыс. руб.
I16: Нормативная трудоемкость | J16: 4605 чел.-час.
I17: Текущая стоимость с НДС | J17: =G294/1000 -> 2933.4835 | K17: тыс.руб.
A18: № п/п | B18: Шифр и номер позиции норматива | C18: Наименование работ и затрат, единица измерения | D18: Количество | E18: Стоимость ед., руб. | G18: Общая стоимость, руб. | J18: Затраты труда, чел.-ч
E19: Всего | F19: Экспл. машин | G19: Всего | H19: Основная зарплата | I19: Экспл. машин | J19: основных рабочих
J20: машинистов
E21: Основная зарплата | F21: в т.ч. зарплата | I21: в т.ч. зарплата | J21: на единицу | K21: всего
A23: 1 | B23: 2 | C23: 3 | D23: 4 | E23: 5 | F23: 6 | G23: 7 | H23: 8 | I23: 9 | J23: 10 | K23: 11
A25: МДС 81-38.2004 п.2 .3 | C25: К=ЭММ*1,7, ЗПМ*1,7, ОЗП*1,7, ТЗ*1,7, ТЗМ*1,7
C26: К=ЭММ*1,5, ЗПМ*1,5, ОЗП*1,5, ТЗ*1,5, ТЗМ*1,5
A27: МДС 81-35.2004 п.4.7 | C27: К=ЭММ*1,25, ЗПМ*1,25, ОЗП*1,15, ТЗ*1,15, ТЗМ*1,25
C29: =Source!G24 -> Демонтажные работы
A30: =Source!E25 -> 1 | B30: =Source!F25 -> 65-1-3 | C30: =Source!G25 -> Разборка трубопроводов из водогазопроводных труб диаметром 108 мм с отборкой годных труб, арматуры, фасонных и крепежных частей | D30: =Source!I25 -> 0.01 | E30: =IF(Source!AB25=0,"-",ROUND(Source!AB25,2)) -> 1501.55 | F30: =IF(Source!AD25=0,"-",ROUND(Source!AD25,2)) -> 21.56 | G30: =IF(Source!O25=0,"-",ROUND(Source!O25,0)) -> 15 | H30: =IF(Source!S25=0,"-",ROUND(Source!S25,0)) -> 14 | I30: =IF(Source!Q25=0,"-",ROUND(Source!Q25,0)) -> - | J30: =IF(Source!AH25=0,"-",ROUND(Source!AH25,2)) -> 114.57 | K30: =IF(Source!U25=0,"-",ROUND(Source!U25,2)) -> 1.15
B31: К=ЭММ)*1,5, ЗПМ)*1,5, ОЗП)*1,5, ТЗ)*1,5, ТЗМ)*1,5 | C31: =Source!H25 -> 100 м | E31: =IF(Source!AF25=0,"-",ROUND(Source!AF25,2)) -> 1360.66 | F31: =IF(Source!AE25=0,"-",ROUND(Source!AE25,2)) -> 4.75 | I31: =IF(Source!R25=0,"-",ROUND(Source!R25,0)) -> - | J31: =IF(Source!AI25=0,"-",ROUND(Source!AI25,2)) -> 0.39 | K31: =IF(Source!V25=0,"-",ROUND(Source!V25,2)) -> 0
A32: =Source!E26 -> 1.1 | B32: =Source!F26 -> 999-9899 | C32: =Source!G26 -> Строительный мусор и масса возвратных материалов | D32: =Source!I26 -> 0.0043 | E32: =IF(Source!AB26=0,"-",ROUND(Source!AB26,2)) -> - | F32: =IF(Source!AD26=0,"-",ROUND(Source!AD26,2)) -> - | G32: =IF(Source!O26=0,"-",ROUND(Source!O26,0)) -> - | H32: =IF(Source!S26=0,"-",ROUND(Source!S26,0)) -> - | I32: =IF(Source!Q26=0,"-",ROUND(Source!Q26,0)) -> - | J32: =IF(Source!AH26=0,"-",ROUND(Source!AH26,2)) -> - | K32: =IF(Source!U26=0,"-",ROUND(Source!U26,2)) -> -
C33: =Source!H26 -> т | E33: =IF(Source!AF26=0,"-",ROUND(Source!AF26,2)) -> - | F33: =IF(Source!AE26=0,"-",ROUND(Source!AE26,2)) -> - | I33: =IF(Source!R26=0,"-",ROUND(Source!R26,0)) -> - | J33: =IF(Source!AI26=0,"-",ROUND(Source!AI26,2)) -> - | K33: =IF(Source!V26=0,"-",ROUND(Source!V26,2)) -> -
A34: =Source!E27 -> 2 | B34: =Source!F27 -> 16-02-004-6 | C34: =Source!G27 -> Демонтаж трубопроводов отопления и газоснабжения из стальных бесшовных труб диаметром, мм: 159х4,5 | D34: =Source!I27 -> 1 | E34: =IF(Source!AB27=0,"-",ROUND(Source!AB27,2)) -> 11.11 | F34: =IF(Source!AD27=0,"-",ROUND(Source!AD27,2)) -> 1.69 | G34: =IF(Source!O27=0,"-",ROUND(Source!O27,0)) -> 11 | H34: =IF(Source!S27=0,"-",ROUND(Source!S27,0)) -> 9 | I34: =IF(Source!Q27=0,"-",ROUND(Source!Q27,0)) -> 2 | J34: =IF(Source!AH27=0,"-",ROUND(Source!AH27,2)) -> 0.69 | K34: =IF(Source!U27=0,"-",ROUND(Source!U27,2)) -> 0.69
B35: К=МАТ)*0, ЭММ)*0,4)*1,5, ЗПМ)*0,4)*1,5, ОЗП)*0,4)*1,5, ТЗ)*0,4)*1,5, ТЗМ)*0,4)*1,5 | C35: =Source!H27 -> 1 м | E35: =IF(Source!AF27=0,"-",ROUND(Source!AF27,2)) -> 9.42 | F35: =IF(Source!AE27=0,"-",ROUND(Source!AE27,2)) -> 0.07 | I35: =IF(Source!R27=0,"-",ROUND(Source!R27,0)) -> - | J35: =IF(Source!AI27=0,"-",ROUND(Source!AI27,2)) -> 0 | K35: =IF(Source!V27=0,"-",ROUND(Source!V27,2)) -> 0
A36: =Source!E28 -> 3 | B36: =Source!F28 -> 65-1-2 | C36: =Source!G28 -> Разборка трубопроводов из водогазопроводных труб диаметром 57 мм с отборкой годных труб, арматуры, фасонных и крепежных частей | D36: =Source!I28 -> 0.3 | E36: =IF(Source!AB28=0,"-",ROUND(Source!AB28,2)) -> 1183.07 | F36: =IF(Source!AD28=0,"-",ROUND(Source!AD28,2)) -> 16.9 | G36: =IF(Source!O28=0,"-",ROUND(Source!O28,0)) -> 355 | H36: =IF(Source!S28=0,"-",ROUND(Source!S28,0)) -> 319 | I36: =IF(Source!Q28=0,"-",ROUND(Source!Q28,0)) -> 5 | J36: =IF(Source!AH28=0,"-",ROUND(Source!AH28,2)) -> 89.43 | K36: =IF(Source!U28=0,"-",ROUND(Source!U28,2)) -> 26.83
B37: К=ЭММ)*1,5, ЗПМ)*1,5, ОЗП)*1,5, ТЗ)*1,5, ТЗМ)*1,5 | C37: =Source!H28 -> 100 м | E37: =IF(Source!AF28=0,"-",ROUND(Source!AF28,2)) -> 1062.1 | F37: =IF(Source!AE28=0,"-",ROUND(Source!AE28,2)) -> 3.1 | I37: =IF(Source!R28=0,"-",ROUND(Source!R28,0)) -> 1 | J37: =IF(Source!AI28=0,"-",ROUND(Source!AI28,2)) -> 0.26 | K37: =IF(Source!V28=0,"-",ROUND(Source!V28,2)) -> 0.08
A38: =Source!E29 -> 3.1 | B38: =Source!F29 -> 999-9899 | C38: =Source!G29 -> Строительный мусор и масса возвратных материалов | D38: =Source!I29 -> 0.102 | E38: =IF(Source!AB29=0,"-",ROUND(Source!AB29,2)) -> - | F38: =IF(Source!AD29=0,"-",ROUND(Source!AD29,2)) -> - | G38: =IF(Source!O29=0,"-",ROUND(Source!O29,0)) -> - | H38: =IF(Source!S29=0,"-",ROUND(Source!S29,0)) -> - | I38: =IF(Source!Q29=0,"-",ROUND(Source!Q29,0)) -> - | J38: =IF(Source!AH29=0,"-",ROUND(Source!AH29,2)) -> - | K38: =IF(Source!U29=0,"-",ROUND(Source!U29,2)) -> -
C39: =Source!H29 -> т | E39: =IF(Source!AF29=0,"-",ROUND(Source!AF29,2)) -> - | F39: =IF(Source!AE29=0,"-",ROUND(Source!AE29,2)) -> - | I39: =IF(Source!R29=0,"-",ROUND(Source!R29,0)) -> - | J39: =IF(Source!AI29=0,"-",ROUND(Source!AI29,2)) -> - | K39: =IF(Source!V29=0,"-",ROUND(Source!V29,2)) -> -
A40: =Source!E30 -> 4 | B40: =Source!F30 -> 65-1-2 | C40: =Source!G30 -> Разборка трубопроводов из водогазопроводных труб диаметром 57 мм с отборкой годных труб, арматуры, фасонных и крепежных частей | D40: =Source!I30 -> 0.13 | E40: =IF(Source!AB30=0,"-",ROUND(Source!AB30,2)) -> 1183.07 | F40: =IF(Source!AD30=0,"-",ROUND(Source!AD30,2)) -> 16.9 | G40: =IF(Source!O30=0,"-",ROUND(Source!O30,0)) -> 154 | H40: =IF(Source!S30=0,"-",ROUND(Source!S30,0)) -> 138 | I40: =IF(Source!Q30=0,"-",ROUND(Source!Q30,0)) -> 2 | J40: =IF(Source!AH30=0,"-",ROUND(Source!AH30,2)) -> 89.43 | K40: =IF(Source!U30=0,"-",ROUND(Source!U30,2)) -> 11.63
B41: К=ЭММ)*1,5, ЗПМ)*1,5, ОЗП)*1,5, ТЗ)*1,5, ТЗМ)*1,5 | C41: =Source!H30 -> 100 м | E41: =IF(Source!AF30=0,"-",ROUND(Source!AF30,2)) -> 1062.1 | F41: =IF(Source!AE30=0,"-",ROUND(Source!AE30,2)) -> 3.1 | I41: =IF(Source!R30=0,"-",ROUND(Source!R30,0)) -> - | J41: =IF(Source!AI30=0,"-",ROUND(Source!AI30,2)) -> 0.26 | K41: =IF(Source!V30=0,"-",ROUND(Source!V30,2)) -> 0.03
A42: =Source!E31 -> 4.1 | B42: =Source!F31 -> 999-9899 | C42: =Source!G31 -> Строительный мусор и масса возвратных материалов | D42: =Source!I31 -> 0.0442 | E42: =IF(Source!AB31=0,"-",ROUND(Source!AB31,2)) -> - | F42: =IF(Source!AD31=0,"-",ROUND(Source!AD31,2)) -> - | G42: =IF(Source!O31=0,"-",ROUND(Source!O31,0)) -> - | H42: =IF(Source!S31=0,"-",ROUND(Source!S31,0)) -> - | I42: =IF(Source!Q31=0,"-",ROUND(Source!Q31,0)) -> - | J42: =IF(Source!AH31=0,"-",ROUND(Source!AH31,2)) -> - | K42: =IF(Source!U31=0,"-",ROUND(Source!U31,2)) -> -
C43: =Source!H31 -> т | E43: =IF(Source!AF31=0,"-",ROUND(Source!AF31,2)) -> - | F43: =IF(Source!AE31=0,"-",ROUND(Source!AE31,2)) -> - | I43: =IF(Source!R31=0,"-",ROUND(Source!R31,0)) -> - | J43: =IF(Source!AI31=0,"-",ROUND(Source!AI31,2)) -> - | K43: =IF(Source!V31=0,"-",ROUND(Source!V31,2)) -> -
A44: =Source!E32 -> 5 | B44: =Source!F32 -> 65-1-3 | C44: =Source!G32 -> Разборка трубопроводов из водогазопроводных труб диаметром 76 мм с отборкой годных труб, арматуры, фасонных и крепежных частей | D44: =Source!I32 -> 0.35 | E44: =IF(Source!AB32=0,"-",ROUND(Source!AB32,2)) -> 1501.55 | F44: =IF(Source!AD32=0,"-",ROUND(Source!AD32,2)) -> 21.56 | G44: =IF(Source!O32=0,"-",ROUND(Source!O32,0)) -> 526 | H44: =IF(Source!S32=0,"-",ROUND(Source!S32,0)) -> 476 | I44: =IF(Source!Q32=0,"-",ROUND(Source!Q32,0)) -> 8 | J44: =IF(Source!AH32=0,"-",ROUND(Source!AH32,2)) -> 114.57 | K44: =IF(Source!U32=0,"-",ROUND(Source!U32,2)) -> 40.1
B45: К=ЭММ)*1,5, ЗПМ)*1,5, ОЗП)*1,5, ТЗ)*1,5, ТЗМ)*1,5 | C45: =Source!H32 -> 100 м | E45: =IF(Source!AF32=0,"-",ROUND(Source!AF32,2)) -> 1360.66 | F45: =IF(Source!AE32=0,"-",ROUND(Source!AE32,2)) -> 4.75 | I45: =IF(Source!R32=0,"-",ROUND(Source!R32,0)) -> 2 | J45: =IF(Source!AI32=0,"-",ROUND(Source!AI32,2)) -> 0.39 | K45: =IF(Source!V32=0,"-",ROUND(Source!V32,2)) -> 0.14
A46: =Source!E33 -> 5.1 | B46: =Source!F33 -> 999-9899 | C46: =Source!G33 -> Строительный мусор и масса возвратных материалов | D46: =Source!I33 -> 0.1505 | E46: =IF(Source!AB33=0,"-",ROUND(Source!AB33,2)) -> - | F46: =IF(Source!AD33=0,"-",ROUND(Source!AD33,2)) -> - | G46: =IF(Source!O33=0,"-",ROUND(Source!O33,0)) -> - | H46: =IF(Source!S33=0,"-",ROUND(Source!S33,0)) -> - | I46: =IF(Source!Q33=0,"-",ROUND(Source!Q33,0)) -> - | J46: =IF(Source!AH33=0,"-",ROUND(Source!AH33,2)) -> - | K46: =IF(Source!U33=0,"-",ROUND(Source!U33,2)) -> -
C47: =Source!H33 -> т | E47: =IF(Source!AF33=0,"-",ROUND(Source!AF33,2)) -> - | F47: =IF(Source!AE33=0,"-",ROUND(Source!AE33,2)) -> - | I47: =IF(Source!R33=0,"-",ROUND(Source!R33,0)) -> - | J47: =IF(Source!AI33=0,"-",ROUND(Source!AI33,2)) -> - | K47: =IF(Source!V33=0,"-",ROUND(Source!V33,2)) -> -
A48: =Source!E34 -> 6 | B48: =Source!F34 -> 65-1-3 | C48: =Source!G34 -> Разборка трубопроводов из водогазопроводных труб диаметром 89 мм с отборкой годных труб, арматуры, фасонных и крепежных частей | D48: =Source!I34 -> 1.6 | E48: =IF(Source!AB34=0,"-",ROUND(Source!AB34,2)) -> 1501.55 | F48: =IF(Source!AD34=0,"-",ROUND(Source!AD34,2)) -> 21.56 | G48: =IF(Source!O34=0,"-",ROUND(Source!O34,0)) -> 2402 | H48: =IF(Source!S34=0,"-",ROUND(Source!S34,0)) -> 2177 | I48: =IF(Source!Q34=0,"-",ROUND(Source!Q34,0)) -> 34 | J48: =IF(Source!AH34=0,"-",ROUND(Source!AH34,2)) -> 114.57 | K48: =IF(Source!U34=0,"-",ROUND(Source!U34,2)) -> 183.31
B49: К=ЭММ)*1,5, ЗПМ)*1,5, ОЗП)*1,5, ТЗ)*1,5, ТЗМ)*1,5 | C49: =Source!H34 -> 100 м | E49: =IF(Source!AF34=0,"-",ROUND(Source!AF34,2)) -> 1360.66 | F49: =IF(Source!AE34=0,"-",ROUND(Source!AE34,2)) -> 4.75 | I49: =IF(Source!R34=0,"-",ROUND(Source!R34,0)) -> 8 | J49: =IF(Source!AI34=0,"-",ROUND(Source!AI34,2)) -> 0.39 | K49: =IF(Source!V34=0,"-",ROUND(Source!V34,2)) -> 0.62
...

Sheet Source
A1: 0 | B1: Smeta.ru (495) 974-1589 | D1: _PS_ | F1: 0 | G1: 0 | H1: 0 | I1: Smeta.ru | J1: ФГУП ПО МАЯК Доп. раб. место FStS-0035985 | K1: 1 | L1: 35985
A12: 1 | B12: 1 | C12: 0 | D12: =ROW(A165) -> 165 | E12: 0 | F12: Новый объект | G12: ФГУП ПО МАЯК Завод 235 | I12: 0 | P12: 0 | Q12: 0 | V12: -3 | X12: 0 | Y12: 2 | Z12: 1 | AA12: 1 | AC12: 0 | AD12: 2 | AE12: 0 | AF12: 0 | AG12: 0 | AH12: 0 | AI12: 0 | AJ12: 0 | AK12: 0 | AN12: 0 | BA12: 0 | BB12: 0 | BC12: 0 | BD12: 15091337 | BE12: Сметные нормы списания | BF12: Коды ценников | BG12: 12288679 | BH12: 0 | BI12: 1 | BK12: 1 | BL12: 0 | BM12: 1 | BN12: 1 | BO12: 0 | BP12: 2 | BR12: 0 | BT12: 0 | BU12: 1 | BV12: 1 | BW12: 0 | BX12: 0 | BY12: 0 | BZ12: 0 | CA12: 12287021 | CB12: 12287016 | CC12: 12287014 | CD12: 12287012 | CE12: 0 | CF12: 0 | CJ12: 0 | CK12: 12288933 | CL12: ТЕР Челябинская область | CM12: 2001 Челябинск Ремонт {МДС 33+АП-5536 06} | CN12: Челябинск 2001 | CO12: Челябинск 2001 Работы | CP12: Челябинск 2001 Механизмы | CQ12: Челябинск 2001 Материалы | CS12: 0 | CT12: 0 | CU12: 0 | CV12: 0 | CW12: 0 | CX12: 0 | CY12: 9
A15: 15 | B15: 1
A18: 52 | B18: =B165 -> 1 | C18: =C165 -> 1 | D18: =D165 -> 12 | E18: =E165 -> 0 | F18: =F165 -> Новый объект | G18: =G165 -> ФГУП ПО МАЯК Завод 235 | H18: =H165 -> 0 | I18: =I165 -> 0 | ... AQ18: =AQ165 -> 0
G19: 0
A20: 3 | B20: 1 | D20: =ROW(A145) -> 145 | F20: Новая локальная смета | G20: Новая локальная смета | X20: 0 | AJ20: 0 | AK20: 0 | AL20: 0 | BE20: {BA78DE29-97E7-4521-BBC9-C17FDD505FD9} | BF20: 0 | BG20: 0 | BM20: 0
A22: 52 | B22: =B145 -> 1 | C22: =C145 -> 3 | D22: =D145 -> 20 | E22: =E145 -> 0 | F22: =F145 -> Новая локальная смета | G22: =G145 -> Новая локальная смета | H22: =H145 -> 0 | I22: =I145 -> 0 | ... AQ22: =AQ145 -> 0
A24: 19 | B24: 1 | G24: Демонтажные работы | AA24: 1 | DX24: 0
A25: 17 | B25: 1 | C25: =ROW(SmtRes!A7) -> 7 | D25: =ROW(EtalonRes!A7) -> 7 | E25: 1 | F25: 65-1-3 | G25: Разборка трубопроводов из водогазопроводных труб диаметром 108 мм с отборкой годных труб, арматуры, фасонных и крепежных частей | H25: 100 м | I25: 0.01 | J25: 0 | O25: =ROUND(CP25*I25,0) -> 15 | P25: =ROUND(CQ25*I25,0) -> 1 | Q25: =ROUND(CR25*I25,0) -> 0 | R25: =ROUND(CS25*I25,0) -> 0 | S25: =ROUND(CT25*I25,0) -> 14 | T25: =ROUND(CU25*I25,0) -> 0 | U25: =CV25*I25 -> 1.1457 | V25: =CW25*I25 -> 0.0039 | W25: =ROUND(CX25*I25,0) -> 0 | X25: =ROUND(CY25,0) -> 10 | Y25: =ROUND(CZ25,0) -> 7 | AA25: 0 | AB25: =ROUND((AC25+AD25+AF25),2) -> 1501.55 | AC25: =ROUND((ES25),2) -> 119.33 | AD25: =ROUND((((ET25*1.5))+((((EU25*1.5))*1.13)-((EU25*1.5)))),2) -> 21.56 | AE25: =ROUND((((EU25*1.5))*1.13),2) -> 4.75 | AF25: =ROUND((((EV25*1.5))*1.13),2) -> 1360.66 | AG25: =ROUND((AP25),2) -> 0 | AH25: =((EW25*1.5)) -> 114.57 | AI25: =((EX25*1.5)) -> 0.39 | AJ25: =ROUND((AS25),2) -> 0 | AK25: 936.09 | AL25: 119.33 | AM25: 14.01 | AN25: 2.8 | AO25: 802.75 | AP25: 0 | AQ25: 76.38 | AR25: 0.26 | AS25: 0 | AT25: =BZ25 -> 74 | AU25: =CA25 -> 50 | AV25: 1 | AW25: 1 | AX25: 1 | AY25: 1 | AZ25: 1 | BA25: 1 | BB25: 1 | BC25: 1 | BH25: 0 | BI25: 1 | BJ25: ТЕР Челябинской обл.,сб.65,табл.1-3 | BM25: 173 | BN25: 0 | BO25: 65-1-3 | BP25: 1 | BQ25: 5 | BR25: 0 | BS25: 1 | BT25: 1 | BU25: 1 | BV25: 1 | BW25: 1 | BX25: 1 | BZ25: 74 | CA25: 50 | CF25: 0 | CG25: 0 | CM25: 0 | CO25: 0 | CP25: =(AB25)*AZ25 -> 1501.55 | CQ25: =(AC25)*BC25 -> 119.33 | CR25: =(AD25)*BB25 -> 21.56 | CS25: =(AE25)*BS25 -> 4.75 | CT25: =(AF25)*BA25 -> 1360.66 | CU25: =(AG25)*BT25 -> 0 | CV25: =(AH25)*BU25 -> 114.57 | CW25: =(AI25)*BV25 -> 0.39 | CX25: =(AJ25)*BW25 -> 0 | CY25: =(((R25+S25)*BZ25*1)/100) -> 10.36 | CZ25: =(((R25+S25)*CA25*1)/100) -> 7 | DE25: )*1,5 | DF25: )*1,5 | DG25: )*1,5 | DI25: )*1,5 | DJ25: )*1,5 | DN25: 0 | DO25: 0 | DP25: 1 | DQ25: 1 | DR25: 1 | DS25: 1 | DT25: 1 | DU25: 1013 | DV25: 100 м | DW25: 100М | DX25: 1 | EE25: 13991008 | EF25: 5 | EG25: Сантехнические работы | EH25: 0 | EJ25: 1 | EK25: 173 | EL25: Ремонт. Внутренние санитарнотехнические работы - демонтаж и разборка | EQ25: 512 | ER25: 936.09 | ES25: 119.33 | ET25: 14.01 | EU25: 2.8 | EV25: 802.75 | EW25: 76.38 | EX25: 0.26 | EY25: 0 | EZ25: 0 | FQ25: 0 | FR25: =ROUND(IF(AND(AA25=0,BI25=3),P25,0),0) -> 0 | FS25: 0
A26: 18 | B26: 1 | C26: 7 | E26: 1.1 | F26: 999-9899 | G26: Строительный мусор и масса возвратных материалов | H26: т | I26: =I25*J26 -> 0.0043 | J26: 0.43 | O26: =ROUND(CP26*I26,0) -> 0 | P26: =ROUND(CQ26*I26,0) -> 0 | Q26: =ROUND(CR26*I26,0) -> 0 | R26: =ROUND(CS26*I26,0) -> 0 | S26: =ROUND(CT26*I26,0) -> 0 | T26: =ROUND(CU26*I26,0) -> 0 | U26: =CV26*I26 -> 0 | V26: =CW26*I26 -> 0 | W26: =ROUND(CX26*I26,0) -> 0 | X26: =ROUND(CY26,0) -> 0 | Y26: =ROUND(CZ26,0) -> 0 | AA26: 0 | AB26: =ROUND((AC26+AD26+AF26),2) -> 0 | AC26: =ROUND(AL26,2) -> 0 | AD26: =ROUND((AM26+((AN26*1.13)-AN26)),2) -> 0 | AE26: =ROUND((AN26*1.13),2) -> 0 | AF26: =ROUND((AO26*1.13),2) -> 0 | AG26: =ROUND(AP26,2) -> 0 | AH26: =AQ26 -> 0 | AI26: =AR26 -> 0 | AJ26: =ROUND(AS26,2) -> 0 | AK26: 0 | AL26: 0 | AM26: 0 | AN26: 0 | AO26: 0 | AP26: 0 | AQ26: 0 | AR26: 0 | AS26: 0 | AT26: =BZ26 -> 74 | AU26: =CA26 -> 50 | AV26: 1 | AW26: 1 | AX26: 1 | AY26: 1 | AZ26: 1 | BA26: 1 | BB26: 1 | BC26: 1 | BH26: 3 | BI26: 1 | BJ26: ССЦ Челябинской обл.,сб.999,поз.9899 | BM26: 173 | BN26: 0 | BO26: 999-9899 | BP26: 1 | BQ26: 5 | BR26: 0 | BS26: 1 | BT26: 1 | BU26: 1 | BV26: 1 | BW26: 1 | BX26: 1 | BZ26: 74 | CA26: 50 | CF26: 0 | CG26: 0 | CM26: 0 | CO26: 0 | CP26: =(AB26)*AZ26 -> 0 | CQ26: =(AC26)*BC26 -> 0 | CR26: =(AD26)*BB26 -> 0 | CS26: =(AE26)*BS26 -> 0 | CT26: =(AF26)*BA26 -> 0 | CU26: =(AG26)*BT26 -> 0 | CV26: =(AH26)*BU26 -> 0 | CW26: =(AI26)*BV26 -> 0 | CX26: =(AJ26)*BW26 -> 0 | CY26: =(((R26+S26)*BZ26*1)/100) -> 0 | CZ26: =(((R26+S26)*CA26*1)/100) -> 0 | DN26: 0 | DO26: 0 | DP26: 1 | DQ26: 1 | DR26: 1 | DS26: 1 | DT26: 1 | DU26: 1009 | DV26: т | DW26: т | DX26: 1000 | EE26: 13991008 | EF26: 5 | EG26: Сантехнические работы | EH26: 0 | EJ26: 1 | EK26: 173 | EL26: Ремонт. Внутренние санитарнотехнические работы - демонтаж и разборка | EQ26: 512 | ER26: 0 | ES26: 0 | ET26: 0 | EU26: 0 | EV26: 0 | EW26: 0 | EX26: 0 | EZ26: 0 | FQ26: 0 | FR26: =ROUND(IF(AND(AA26=0,BI26=3),P26,0),0) -> 0 | FS26: 0
A27: 17 | B27: 1 | C27: =ROW(SmtRes!A21) -> 21 | D27: =ROW(EtalonRes!A21) -> 21 | E27: 2 | F27: 16-02-004-6 | G27: Демонтаж трубопроводов отопления и газоснабжения из стальных бесшовных труб диаметром, мм: 159х4,5 | H27: 1 м | I27: 1 | J27: 0 | O27: =ROUND(CP27*I27,0) -> 11 | P27: =ROUND(CQ27*I27,0) -> 0 | Q27: =ROUND(CR27*I27,0) -> 2 | R27: =ROUND(CS27*I27,0) -> 0 | S27: =ROUND(CT27*I27,0) -> 9 | T27: =ROUND(CU27*I27,0) -> 0 | U27: =CV27*I27 -> 0.69264 | V27: =CW27*I27 -> 0.0039 | W27: =ROUND(CX27*I27,0) -> 0 | X27: =ROUND(CY27,0) -> 12 | Y27: =ROUND(CZ27,0) -> 6 | AA27: 0 | AB27: =ROUND((AC27+AD27+AF27),2) -> 11.11 | AC27: =ROUND(((ES27*0)),2) -> 0 | AD27: =ROUND(((((ET27*0.4)*1.5))+(((((EU27*0.4)*1.5))*1.13)-(((EU27*0.4)*1.5)))),2) -> 1.69 | AE27: =ROUND(((((EU27*0.4)*1.5))*1.13),2) -> 0.07 | AF27: =ROUND(((((EV27*0.4)*1.5))*1.13),2) -> 9.42 | AG27: =ROUND((AP27),2) -> 0 | AH27: =(((EW27*0.4)*1.5)) -> 0.69264 | AI27: =(((EX27*0.4)*1.5)) -> 0.0039 | AJ27: =ROUND((AS27),2) -> 0 | AK27: 197.23 | AL27: 180.53 | AM27: 2.8 | AN27: 0.1 | AO27: 13.9 | AP27: 0 | AQ27: 1.1544 | AR27: 0.0065 | AS27: 0 | AT27: =BZ27 -> 128 | AU27: =CA27 -> 71 | AV27: 1 | AW27: 1 | AX27: 1 | AY27: 1 | AZ27: 1 | BA27: 1 | BB27: 1 | BC27: 1 | BH27: 0 | BI27: 1 | BJ27: ТЕР Челябинской обл.,сб.16,гл.02,табл.004,поз.6 | BM27: 130 | BN27: 0 | BO27: 16-02-004-6 | BP27: 1 | BQ27: 5 | BR27: 0 | BS27: 1 | BT27: 1 | BU27: 1 | BV27: 1 | BW27: 1 | BX27: 1 | BZ27: 128 | CA27: 71 | CF27: 0 | CG27: 0 | CM27: 0 | CO27: 0 | CP27: =(AB27)*AZ27 -> 11.11 | CQ27: =(AC27)*BC27 -> 0 | CR27: =(AD27)*BB27 -> 1.69 | CS27: =(AE27)*BS27 -> 0.07 | CT27: =(AF27)*BA27 -> 9.42 | CU27: =(AG27)*BT27 -> 0 | CV27: =(AH27)*BU27 -> 0.69264 | CW27: =(AI27)*BV27 -> 0.0039 | CX27: =(AJ27)*BW27 -> 0 | CY27: =(((R27+S27)*BZ27*1)/100) -> 11.52 | CZ27: =(((R27+S27)*CA27*1)/100) -> 6.39 | DD27: )*0 | DE27: )*0,4)*1,5 | DF27: )*0,4)*1,5 | DG27: )*0,4)*1,5 | DI27: )*0,4)*1,5 | DJ27: )*0,4)*1,5 | DN27: 0 | DO27: 0 | DP27: 1 | DQ27: 1 | DR27: 1 | DS27: 1 | DT27: 1 | DU27: 1003 | DV27: 1 м | DW27: 1 м трубопровода | DX27: 1 | EE27: 13990945 | EF27: 5 | EG27: Сантехнические работы | EH27: 0 | EJ27: 1 | EK27: 130 | EL27: Санитарнотехнические работы -внутренние (трубопроводы, водопровод, канализация, отопление, газоснабжение, вентиляция, кондиционирование воздуха) | EQ27: 576 | ER27: 197.23 | ES27: 180.53 | ET27: 2.8 | EU27: 0.1 | EV27: 13.9 | EW27: 1.1544 | EX27: 0.0065 | EY27: 0 | EZ27: 0 | FQ27: 0 | FR27: =ROUND(IF(AND(AA27=0,BI27=3),P27,0),0) -> 0 | FS27: 0
A28: 17 | B28: 1 | C28: =ROW(SmtRes!A28) -> 28 | D28: =ROW(EtalonRes!A28) -> 28 | E28: 3 | F28: 65-1-2 | G28: Разборка трубопроводов из водогазопроводных труб диаметром 57 мм с отборкой годных труб, арматуры, фасонных и крепежных частей | H28: 100 м | I28: 0.3 | J28: 0 | O28: =ROUND(CP28*I28,0) -> 355 | P28: =ROUND(CQ28*I28,0) -> 31 | Q28: =ROUND(CR28*I28,0) -> 5 | R28: =ROUND(CS28*I28,0) -> 1 | S28: =ROUND(CT28*I28,0) -> 319 | T28: =ROUND(CU28*I28,0) -> 0 | U28: =CV28*I28 -> 26.829 | V28: =CW28*I28 -> 0.0765 | W28: =ROUND(CX28*I28,0) -> 0 | X28: =ROUND(CY28,0) -> 237 | Y28: =ROUND(CZ28,0) -> 160 | AA28: 0 | AB28: =ROUND((AC28+AD28+AF28),2) -> 1183.07 | AC28: =ROUND((ES28),2) -> 104.07 | AD28: =ROUND((((ET28*1.5))+((((EU28*1.5))*1.13)-((EU28*1.5)))),2) -> 16.9 | AE28: =ROUND((((EU28*1.5))*1.13),2) -> 3.1 | AF28: =ROUND((((EV28*1.5))*1.13),2) -> 1062.1 | AG28: =ROUND((AP28),2) -> 0 | AH28: =((EW28*1.5)) -> 89.43 | AI28: =((EX28*1.5)) -> 0.255 | AJ28: =ROUND((AS28),2) -> 0 | AK28: 741.71 | AL28: 104.07 | AM28: 11.03 | AN28: 1.83 | AO28: 626.61 | AP28: 0 | AQ28: 59.62 | AR28: 0.17 | AS28: 0 | AT28: =BZ28 -> 74 | AU28: =CA28 -> 50 | AV28: 1 | AW28: 1 | AX28: 1 | AY28: 1 | AZ28: 1 | BA28: 1 | BB28: 1 | BC28: 1 | BH28: 0 | BI28: 1 | BJ28: ТЕР Челябинской обл.,сб.65,табл.1-2 | BM28: 173 | BN28: 0 | BO28: 65-1-2 | BP28: 1 | BQ28: 5 | BR28: 0 | BS28: 1 | BT28: 1 | BU28: 1 | BV28: 1 | BW28: 1 | BX28: 1 | BZ28: 74 | CA28: 50 | CF28: 0 | CG28: 0 | CM28: 0 | CO28: 0 | CP28: =(AB28)*AZ28 -> 1183.07 | CQ28: =(AC28)*BC28 -> 104.07 | CR28: =(AD28)*BB28 -> 16.9 | CS28: =(AE28)*BS28 -> 3.1 | CT28: =(AF28)*BA28 -> 1062.1 | CU28: =(AG28)*BT28 -> 0 | CV28: =(AH28)*BU28 -> 89.43 | CW28: =(AI28)*BV28 -> 0.255 | CX28: =(AJ28)*BW28 -> 0 | CY28: =(((R28+S28)*BZ28*1)/100) -> 236.8 | CZ28: =(((R28+S28)*CA28*1)/100) -> 160 | DE28: )*1,5 | DF28: )*1,5 | DG28: )*1,5 | DI28: )*1,5 | DJ28: )*1,5 | DN28: 0 | DO28: 0 | DP28: 1 | DQ28: 1 | DR28: 1 | DS28: 1 | DT28: 1 | DU28: 1013 | DV28: 100 м | DW28: 100М | DX28: 1 | EE28: 13991008 | EF28: 5 | EG28: Сантехнические работы | EH28: 0 | EJ28: 1 | EK28: 173 | EL28: Ремонт. Внутренние санитарнотехнические работы - демонтаж и разборка | EQ28: 512 | ER28: 741.71 | ES28: 104.07 | ET28: 11.03 | EU28: 1.83 | EV28: 626.61 | EW28: 59.62 | EX28: 0.17 | EY28: 0 | EZ28: 0 | FQ28: 0 | FR28: =ROUND(IF(AND(AA28=0,BI28=3),P28,0),0) -> 0 | FS28: 0
A29: 18 | B29: 1 | C29: 28 | E29: 3.1 | F29: 999-9899 | G29: Строительный мусор и масса возвратных материалов | H29: т | I29: =I28*J29 -> 0.102 | J29: 0.34 | O29: =ROUND(CP29*I29,0) -> 0 | P29: =ROUND(CQ29*I29,0) -> 0 | Q29: =ROUND(CR29*I29,0) -> 0 | R29: =ROUND(CS29*I29,0) -> 0 | S29: =ROUND(CT29*I29,0) -> 0 | T29: =ROUND(CU29*I29,0) -> 0 | U29: =CV29*I29 -> 0 | V29: =CW29*I29 -> 0 | W29: =ROUND(CX29*I29,0) -> 0 | X29: =ROUND(CY29,0) -> 0 | Y29: =ROUND(CZ29,0) -> 0 | AA29: 0 | AB29: =ROUND((AC29+AD29+AF29),2) -> 0 | AC29: =ROUND(AL29,2) -> 0 | AD29: =ROUND((AM29+((AN29*1.13)-AN29)),2) -> 0 | AE29: =ROUND((AN29*1.13),2) -> 0 | AF29: =ROUND((AO29*1.13),2) -> 0 | AG29: =ROUND(AP29,2) -> 0 | AH29: =AQ29 -> 0 | AI29: =AR29 -> 0 | AJ29: =ROUND(AS29,2) -> 0 | AK29: 0 | AL29: 0 | AM29: 0 | AN29: 0 | AO29: 0 | AP29: 0 | AQ29: 0 | AR29: 0 | AS29: 0 | AT29: =BZ29 -> 74 | AU29: =CA29 -> 50 | AV29: 1 | AW29: 1 | AX29: 1 | AY29: 1 | AZ29: 1 | BA29: 1 | BB29: 1 | BC29: 1 | BH29: 3 | BI29: 1 | BJ29: ССЦ Челябинской обл.,сб.999,поз.9899 | BM29: 173 | BN29: 0 | BO29: 999-9899 | BP29: 1 | BQ29: 5 | BR29: 0 | BS29: 1 | BT29: 1 | BU29: 1 | BV29: 1 | BW29: 1 | BX29: 1 | BZ29: 74 | CA29: 50 | CF29: 0 | CG29: 0 | CM29: 0 | CO29: 0 | CP29: =(AB29)*AZ29 -> 0 | CQ29: =(AC29)*BC29 -> 0 | CR29: =(AD29)*BB29 -> 0 | CS29: =(AE29)*BS29 -> 0 | CT29: =(AF29)*BA29 -> 0 | CU29: =(AG29)*BT29 -> 0 | CV29: =(AH29)*BU29 -> 0 | CW29: =(AI29)*BV29 -> 0 | CX29: =(AJ29)*BW29 -> 0 | CY29: =(((R29+S29)*BZ29*1)/100) -> 0 | CZ29: =(((R29+S29)*CA29*1)/100) -> 0 | DN29: 0 | DO29: 0 | DP29: 1 | DQ29: 1 | DR29: 1 | DS29: 1 | DT29: 1 | DU29: 1009 | DV29: т | DW29: т | DX29: 1000 | EE29: 13991008 | EF29: 5 | EG29: Сантехнические работы | EH29: 0 | EJ29: 1 | EK29: 173 | EL29: Ремонт. Внутренние санитарнотехнические работы - демонтаж и разборка | EQ29: 512 | ER29: 0 | ES29: 0 | ET29: 0 | EU29: 0 | EV29: 0 | EW29: 0 | EX29: 0 | EZ29: 0 | FQ29: 0 | FR29: =ROUND(IF(AND(AA29=0,BI29=3),P29,0),0) -> 0 | FS29: 0
A30: 17 | B30: 1 | C30: =ROW(SmtRes!A35) -> 35 | D30: =ROW(EtalonRes!A35) -> 35 | E30: 4 | F30: 65-1-2 | G30: Разборка трубопроводов из водогазопроводных труб диаметром 57 мм с отборкой годных труб, арматуры, фасонных и крепежных частей | H30: 100 м | I30: 0.13 | J30: 0 | O30: =ROUND(CP30*I30,0) -> 154 | P30: =ROUND(CQ30*I30,0) -> 14 | Q30: =ROUND(CR30*I30,0) -> 2 | R30: =ROUND(CS30*I30,0) -> 0 | S30: =ROUND(CT30*I30,0) -> 138 | T30: =ROUND(CU30*I30,0) -> 0 | U30: =CV30*I30 -> 11.6259 | V30: =CW30*I30 -> 0.03315 | W30: =ROUND(CX30*I30,0) -> 0 | X30: =ROUND(CY30,0) -> 102 | Y30: =ROUND(CZ30,0) -> 69 | AA30: 0 | AB30: =ROUND((AC30+AD30+AF30),2) -> 1183.07 | AC30: =ROUND((ES30),2) -> 104.07 | AD30: =ROUND((((ET30*1.5))+((((EU30*1.5))*1.13)-((EU30*1.5)))),2) -> 16.9 | AE30: =ROUND((((EU30*1.5))*1.13),2) -> 3.1 | AF30: =ROUND((((EV30*1.5))*1.13),2) -> 1062.1 | AG30: =ROUND((AP30),2) -> 0 | AH30: =((EW30*1.5)) -> 89.43 | AI30: =((EX30*1.5)) -> 0.255 | AJ30: =ROUND((AS30),2) -> 0 | AK30: 741.71 | AL30: 104.07 | AM30: 11.03 | AN30: 1.83 | AO30: 626.61 | AP30: 0 | AQ30: 59.62 | AR30: 0.17 | AS30: 0 | AT30: =BZ30 -> 74 | AU30: =CA30 -> 50 | AV30: 1 | AW30: 1 | AX30: 1 | AY30: 1 | AZ30: 1 | BA30: 1 | BB30: 1 | BC30: 1 | BH30: 0 | BI30: 1 | BJ30: ТЕР Челябинской обл.,сб.65,табл.1-2 | BM30: 173 | BN30: 0 | BO30: 65-1-2 | BP30: 1 | BQ30: 5 | BR30: 0 | BS30: 1 | BT30: 1 | BU30: 1 | BV30: 1 | BW30: 1 | BX30: 1 | BZ30: 74 | CA30: 50 | CF30: 0 | CG30: 0 | CM30: 0 | CO30: 0 | CP30: =(AB30)*AZ30 -> 1183.07 | CQ30: =(AC30)*BC30 -> 104.07 | CR30: =(AD30)*BB30 -> 16.9 | CS30: =(AE30)*BS30 -> 3.1 | CT30: =(AF30)*BA30 -> 1062.1 | CU30: =(AG30)*BT30 -> 0 | CV30: =(AH30)*BU30 -> 89.43 | CW30: =(AI30)*BV30 -> 0.255 | CX30: =(AJ30)*BW30 -> 0 | CY30: =(((R30+S30)*BZ30*1)/100) -> 102.12 | CZ30: =(((R30+S30)*CA30*1)/100) -> 69 | DE30: )*1,5 | DF30: )*1,5 | DG30: )*1,5 | DI30: )*1,5 | DJ30: )*1,5 | DN30: 0 | DO30: 0 | DP30: 1 | DQ30: 1 | DR30: 1 | DS30: 1 | DT30: 1 | DU30: 1013 | DV30: 100 м | DW30: 100М | DX30: 1 | EE30: 13991008 | EF30: 5 | EG30: Сантехнические работы | EH30: 0 | EJ30: 1 | EK30: 173 | EL30: Ремонт. Внутренние санитарнотехнические работы - демонтаж и разборка | EQ30: 512 | ER30: 741.71 | ES30: 104.07 | ET30: 11.03 | EU30: 1.83 | EV30: 626.61 | EW30: 59.62 | EX30: 0.17 | EY30: 0 | EZ30: 0 | FQ30: 0 | FR30: =ROUND(IF(AND(AA30=0,BI30=3),P30,0),0) -> 0 | FS30: 0
A31: 18 | B31: 1 | C31: 35 | E31: 4.1 | F31: 999-9899 | G31: Строительный мусор и масса возвратных материалов | H31: т | I31: =I30*J31 -> 0.0442 | J31: 0.34 | O31: =ROUND(CP31*I31,0) -> 0 | P31: =ROUND(CQ31*I31,0) -> 0 | Q31: =ROUND(CR31*I31,0) -> 0 | R31: =ROUND(CS31*I31,0) -> 0 | S31: =ROUND(CT31*I31,0) -> 0 | T31: =ROUND(CU31*I31,0) -> 0 | U31: =CV31*I31 -> 0 | V31: =CW31*I31 -> 0 | W31: =ROUND(CX31*I31,0) -> 0 | X31: =ROUND(CY31,0) -> 0 | Y31: =ROUND(CZ31,0) -> 0 | AA31: 0 | AB31: =ROUND((AC31+AD31+AF31),2) -> 0 | AC31: =ROUND(AL31,2) -> 0 | AD31: =ROUND((AM31+((AN31*1.13)-AN31)),2) -> 0 | AE31: =ROUND((AN31*1.13),2) -> 0 | AF31: =ROUND((AO31*1.13),2) -> 0 | AG31: =ROUND(AP31,2) -> 0 | AH31: =AQ31 -> 0 | AI31: =AR31 -> 0 | AJ31: =ROUND(AS31,2) -> 0 | AK31: 0 | AL31: 0 | AM31: 0 | AN31: 0 | AO31: 0 | AP31: 0 | AQ31: 0 | AR31: 0 | AS31: 0 | AT31: =BZ31 -> 74 | AU31: =CA31 -> 50 | AV31: 1 | AW31: 1 | AX31: 1 | AY31: 1 | AZ31: 1 | BA31: 1 | BB31: 1 | BC31: 1 | BH31: 3 | BI31: 1 | BJ31: ССЦ Челябинской обл.,сб.999,поз.9899 | BM31: 173 | BN31: 0 | BO31: 999-9899 | BP31: 1 | BQ31: 5 | BR31: 0 | BS31: 1 | BT31: 1 | BU31: 1 | BV31: 1 | BW31: 1 | BX31: 1 | BZ31: 74 | CA31: 50 | CF31: 0 | CG31: 0 | CM31: 0 | CO31: 0 | CP31: =(AB31)*AZ31 -> 0 | CQ31: =(AC31)*BC31 -> 0 | CR31: =(AD31)*BB31 -> 0 | CS31: =(AE31)*BS31 -> 0 | CT31: =(AF31)*BA31 -> 0 | CU31: =(AG31)*BT31 -> 0 | CV31: =(AH31)*BU31 -> 0 | CW31: =(AI31)*BV31 -> 0 | CX31: =(AJ31)*BW31 -> 0 | CY31: =(((R31+S31)*BZ31*1)/100) -> 0 | CZ31: =(((R31+S31)*CA31*1)/100) -> 0 | DN31: 0 | DO31: 0 | DP31: 1 | DQ31: 1 | DR31: 1 | DS31: 1 | DT31: 1 | DU31: 1009 | DV31: т | DW31: т | DX31: 1000 | EE31: 13991008 | EF31: 5 | EG31: Сантехнические работы | EH31: 0 | EJ31: 1 | EK31: 173 | EL31: Ремонт. Внутренние санитарнотехнические работы - демонтаж и разборка | EQ31: 512 | ER31: 0 | ES31: 0 | ET31: 0 | EU31: 0 | EV31: 0 | EW31: 0 | EX31: 0 | EZ31: 0 | FQ31: 0 | FR31: =ROUND(IF(AND(AA31=0,BI31=3),P31,0),0) -> 0 | FS31: 0
A32: 17 | B32: 1 | C32: =ROW(SmtRes!A42) -> 42 | D32: =ROW(EtalonRes!A42) -> 42 | E32: 5 | F32: 65-1-3 | G32: Разборка трубопроводов из водогазопроводных труб диаметром 76 мм с отборкой годных труб, арматуры, фасонных и крепежных частей | H32: 100 м | I32: 0.35 | J32: 0 | O32: =ROUND(CP32*I32,0) -> 526 | P32: =ROUND(CQ32*I32,0) -> 42 | Q32: =ROUND(CR32*I32,0) -> 8 | R32: =ROUND(CS32*I32,0) -> 2 | S32: =ROUND(CT32*I32,0) -> 476 | T32: =ROUND(CU32*I32,0) -> 0 | U32: =CV32*I32 -> 40.0995 | V32: =CW32*I32 -> 0.1365 | W32: =ROUND(CX32*I32,0) -> 0 | X32: =ROUND(CY32,0) -> 354 | Y32: =ROUND(CZ32,0) -> 239 | AA32: 0 | AB32: =ROUND((AC32+AD32+AF32),2) -> 1501.55 | AC32: =ROUND((ES32),2) -> 119.33 | AD32: =ROUND((((ET32*1.5))+((((EU32*1.5))*1.13)-((EU32*1.5)))),2) -> 21.56 | AE32: =ROUND((((EU32*1.5))*1.13),2) -> 4.75 | AF32: =ROUND((((EV32*1.5))*1.13),2) -> 1360.66 | AG32: =ROUND((AP32),2) -> 0 | AH32: =((EW32*1.5)) -> 114.57 | AI32: =((EX32*1.5)) -> 0.39 | AJ32: =ROUND((AS32),2) -> 0 | AK32: 936.09 | AL32: 119.33 | AM32: 14.01 | AN32: 2.8 | AO32: 802.75 | AP32: 0 | AQ32: 76.38 | AR32: 0.26 | AS32: 0 | AT32: =BZ32 -> 74 | AU32: =CA32 -> 50 | AV32: 1 | AW32: 1 | AX32: 1 | AY32: 1 | AZ32: 1 | BA32: 1 | BB32: 1 | BC32: 1 | BH32: 0 | BI32: 1 | BJ32: ТЕР Челябинской обл.,сб.65,табл.1-3 | BM32: 173 | BN32: 0 | BO32: 65-1-3 | BP32: 1 | BQ32: 5 | BR32: 0 | BS32: 1 | BT32: 1 | BU32: 1 | BV32: 1 | BW32: 1 | BX32: 1 | BZ32: 74 | CA32: 50 | CF32: 0 | CG32: 0 | CM32: 0 | CO32: 0 | CP32: =(AB32)*AZ32 -> 1501.55 | CQ32: =(AC32)*BC32 -> 119.33 | CR32: =(AD32)*BB32 -> 21.56 | CS32: =(AE32)*BS32 -> 4.75 | CT32: =(AF32)*BA32 -> 1360.66 | CU32: =(AG32)*BT32 -> 0 | CV32: =(AH32)*BU32 -> 114.57 | CW32: =(AI32)*BV32 -> 0.39 | CX32: =(AJ32)*BW32 -> 0 | CY32: =(((R32+S32)*BZ32*1)/100) -> 353.72 | CZ32: =(((R32+S32)*CA32*1)/100) -> 239 | DE32: )*1,5 | DF32: )*1,5 | DG32: )*1,5 | DI32: )*1,5 | DJ32: )*1,5 | DN32: 0 | DO32: 0 | DP32: 1 | DQ32: 1 | DR32: 1 | DS32: 1 | DT32: 1 | DU32: 1013 | DV32: 100 м | DW32: 100М | DX32: 1 | EE32: 13991008 | EF32: 5 | EG32: Сантехнические работы | EH32: 0 | EJ32: 1 | EK32: 173 | EL32: Ремонт. Внутренние санитарнотехнические работы - демонтаж и разборка | EQ32: 512 | ER32: 936.09 | ES32: 119.33 | ET32: 14.01 | EU32: 2.8 | EV32: 802.75 | EW32: 76.38 | EX32: 0.26 | EY32: 0 | EZ32: 0 | FQ32: 0 | FR32: =ROUND(IF(AND(AA32=0,BI32=3),P32,0),0) -> 0 | FS32: 0
A33: 18 | B33: 1 | C33: 42 | E33: 5.1 | F33: 999-9899 | G33: Строительный мусор и масса возвратных материалов | H33: т | I33: =I32*J33 -> 0.1505 | J33: 0.43 | O33: =ROUND(CP33*I33,0) -> 0 | P33: =ROUND(CQ33*I33,0) -> 0 | Q33: =ROUND(CR33*I33,0) -> 0 | R33: =ROUND(CS33*I33,0) -> 0 | S33: =ROUND(CT33*I33,0) -> 0 | T33: =ROUND(CU33*I33,0) -> 0 | U33: =CV33*I33 -> 0 | V33: =CW33*I33 -> 0 | W33: =ROUND(CX33*I33,0) -> 0 | X33: =ROUND(CY33,0) -> 0 | Y33: =ROUND(CZ33,0) -> 0 | AA33: 0 | AB33: =ROUND((AC33+AD33+AF33),2) -> 0 | AC33: =ROUND(AL33,2) -> 0 | AD33: =ROUND((AM33+((AN33*1.13)-AN33)),2) -> 0 | AE33: =ROUND((AN33*1.13),2) -> 0 | AF33: =ROUND((AO33*1.13),2) -> 0 | AG33: =ROUND(AP33,2) -> 0 | AH33: =AQ33 -> 0 | AI33: =AR33 -> 0 | AJ33: =ROUND(AS33,2) -> 0 | AK33: 0 | AL33: 0 | AM33: 0 | AN33: 0 | AO33: 0 | AP33: 0 | AQ33: 0 | AR33: 0 | AS33: 0 | AT33: =BZ33 -> 74 | AU33: =CA33 -> 50 | AV33: 1 | AW33: 1 | AX33: 1 | AY33: 1 | AZ33: 1 | BA33: 1 | BB33: 1 | BC33: 1 | BH33: 3 | BI33: 1 | BJ33: ССЦ Челябинской обл.,сб.999,поз.9899 | BM33: 173 | BN33: 0 | BO33: 999-9899 | BP33: 1 | BQ33: 5 | BR33: 0 | BS33: 1 | BT33: 1 | BU33: 1 | BV33: 1 | BW33: 1 | BX33: 1 | BZ33: 74 | CA33: 50 | CF33: 0 | CG33: 0 | CM33: 0 | CO33: 0 | CP33: =(AB33)*AZ33 -> 0 | CQ33: =(AC33)*BC33 -> 0 | CR33: =(AD33)*BB33 -> 0 | CS33: =(AE33)*BS33 -> 0 | CT33: =(AF33)*BA33 -> 0 | CU33: =(AG33)*BT33 -> 0 | CV33: =(AH33)*BU33 -> 0 | CW33: =(AI33)*BV33 -> 0 | CX33: =(AJ33)*BW33 -> 0 | CY33: =(((R33+S33)*BZ33*1)/100) -> 0 | CZ33: =(((R33+S33)*CA33*1)/100) -> 0 | DN33: 0 | DO33: 0 | DP33: 1 | DQ33: 1 | DR33: 1 | DS33: 1 | DT33: 1 | DU33: 1009 | DV33: т | DW33: т | DX33: 1000 | EE33: 13991008 | EF33: 5 | EG33: Сантехнические работы | EH33: 0 | EJ33: 1 | EK33: 173 | EL33: Ремонт. Внутренние санитарнотехнические работы - демонтаж и разборка | EQ33: 512 | ER33: 0 | ES33: 0 | ET33: 0 | EU33: 0 | EV33: 0 | EW33: 0 | EX33: 0 | EZ33: 0 | FQ33: 0 | FR33: =ROUND(IF(AND(AA33=0,BI33=3),P33,0),0) -> 0 | FS33: 0
A34: 17 | B34: 1 | C34: =ROW(SmtRes!A49) -> 49 | D34: =ROW(EtalonRes!A49) -> 49 | E34: 6 | F34: 65-1-3 | G34: Разборка трубопроводов из водогазопроводных труб диаметром 89 мм с отборкой годных труб, арматуры, фасонных и крепежных частей | H34: 100 м | I34: 1.6 | J34: 0 | O34: =ROUND(CP34*I34,0) -> 2402 | P34: =ROUND(CQ34*I34,0) -> 191 | Q34: =ROUND(CR34*I34,0) -> 34 | R34: =ROUND(CS34*I34,0) -> 8 | S34: =ROUND(CT34*I34,0) -> 2177 | T34: =ROUND(CU34*I34,0) -> 0 | U34: =CV34*I34 -> 183.312 | V34: =CW34*I34 -> 0.624 | W34: =ROUND(CX34*I34,0) -> 0 | X34: =ROUND(CY34,0) -> 1617 | Y34: =ROUND(CZ34,0) -> 1093 | AA34: 0 | AB34: =ROUND((AC34+AD34+AF34),2) -> 1501.55 | AC34: =ROUND((ES34),2) -> 119.33 | AD34: =ROUND((((ET34*1.5))+((((EU34*1.5))*1.13)-((EU34*1.5)))),2) -> 21.56 | AE34: =ROUND((((EU34*1.5))*1.13),2) -> 4.75 | AF34: =ROUND((((EV34*1.5))*1.13),2) -> 1360.66 | AG34: =ROUND((AP34),2) -> 0 | AH34: =((EW34*1.5)) -> 114.57 | AI34: =((EX34*1.5)) -> 0.39 | AJ34: =ROUND((AS34),2) -> 0 | AK34: 936.09 | AL34: 119.33 | AM34: 14.01 | AN34: 2.8 | AO34: 802.75 | AP34: 0 | AQ34: 76.38 | AR34: 0.26 | AS34: 0 | AT34: =BZ34 -> 74 | AU34: =CA34 -> 50 | AV34: 1 | AW34: 1 | AX34: 1 | AY34: 1 | AZ34: 1 | BA34: 1 | BB34: 1 | BC34: 1 | BH34: 0 | BI34: 1 | BJ34: ТЕР Челябинской обл.,сб.65,табл.1-3 | BM34: 173 | BN34: 0 | BO34: 65-1-3 | BP34: 1 | BQ34: 5 | BR34: 0 | BS34: 1 | BT34: 1 | BU34: 1 | BV34: 1 | BW34: 1 | BX34: 1 | BZ34: 74 | CA34: 50 | CF34: 0 | CG34: 0 | CM34: 0 | CO34: 0 | CP34: =(AB34)*AZ34 -> 1501.55 | CQ34: =(AC34)*BC34 -> 119.33 | CR34: =(AD34)*BB34 -> 21.56 | CS34: =(AE34)*BS34 -> 4.75 | CT34: =(AF34)*BA34 -> 1360.66 | CU34: =(AG34)*BT34 -> 0 | CV34: =(AH34)*BU34 -> 114.57 | CW34: =(AI34)*BV34 -> 0.39 | CX34: =(AJ34)*BW34 -> 0 | CY34: =(((R34+S34)*BZ34*1)/100) -> 1616.9 | CZ34: =(((R34+S34)*CA34*1)/100) -> 1092.5 | DE34: )*1,5 | DF34: )*1,5 | DG34: )*1,5 | DI34: )*1,5 | DJ34: )*1,5 | DN34: 0 | DO34: 0 | DP34: 1 | DQ34: 1 | DR34: 1 | DS34: 1 | DT34: 1 | DU34: 1013 | DV34: 100 м | DW34: 100М | DX34: 1 | EE34: 13991008 | EF34: 5 | EG34: Сантехнические работы | EH34: 0 | EJ34: 1 | EK34: 173 | EL34: Ремонт. Внутренние санитарнотехнические работы - демонтаж и разборка | EQ34: 512 | ER34: 936.09 | ES34: 119.33 | ET34: 14.01 | EU34: 2.8 | EV34: 802.75 | EW34: 76.38 | EX34: 0.26 | EY34: 0 | EZ34: 0 | FQ34: 0 | FR34: =ROUND(IF(AND(AA34=0,BI34=3),P34,0),0) -> 0 | FS34: 0
A35: 18 | B35: 1 | C35: 49 | E35: 6.1 | F35: 999-9899 | G35: Строительный мусор и масса возвратных материалов | H35: т | I35: =I34*J35 -> 0.688 | J35: 0.43 | O35: =ROUND(CP35*I35,0) -> 0 | P35: =ROUND(CQ35*I35,0) -> 0 | Q35: =ROUND(CR35*I35,0) -> 0 | R35: =ROUND(CS35*I35,0) -> 0 | S35: =ROUND(CT35*I35,0) -> 0 | T35: =ROUND(CU35*I35,0) -> 0 | U35: =CV35*I35 -> 0 | V35: =CW35*I35 -> 0 | W35: =ROUND(CX35*I35,0) -> 0 | X35: =ROUND(CY35,0) -> 0 | Y35: =ROUND(CZ35,0) -> 0 | AA35: 0 | AB35: =ROUND((AC35+AD35+AF35),2) -> 0 | AC35: =ROUND(AL35,2) -> 0 | AD35: =ROUND((AM35+((AN35*1.13)-AN35)),2) -> 0 | AE35: =ROUND((AN35*1.13),2) -> 0 | AF35: =ROUND((AO35*1.13),2) -> 0 | AG35: =ROUND(AP35,2) -> 0 | AH35: =AQ35 -> 0 | AI35: =AR35 -> 0 | AJ35: =ROUND(AS35,2) -> 0 | AK35: 0 | AL35: 0 | AM35: 0 | AN35: 0 | AO35: 0 | AP35: 0 | AQ35: 0 | AR35: 0 | AS35: 0 | AT35: =BZ35 -> 74 | AU35: =CA35 -> 50 | AV35: 1 | AW35: 1 | AX35: 1 | AY35: 1 | AZ35: 1 | BA35: 1 | BB35: 1 | BC35: 1 | BH35: 3 | BI35: 1 | BJ35: ССЦ Челябинской обл.,сб.999,поз.9899 | BM35: 173 | BN35: 0 | BO35: 999-9899 | BP35: 1 | BQ35: 5 | BR35: 0 | BS35: 1 | BT35: 1 | BU35: 1 | BV35: 1 | BW35: 1 | BX35: 1 | BZ35: 74 | CA35: 50 | CF35: 0 | CG35: 0 | CM35: 0 | CO35: 0 | CP35: =(AB35)*AZ35 -> 0 | CQ35: =(AC35)*BC35 -> 0 | CR35: =(AD35)*BB35 -> 0 | CS35: =(AE35)*BS35 -> 0 | CT35: =(AF35)*BA35 -> 0 | CU35: =(AG35)*BT35 -> 0 | CV35: =(AH35)*BU35 -> 0 | CW35: =(AI35)*BV35 -> 0 | CX35: =(AJ35)*BW35 -> 0 | CY35: =(((R35+S35)*BZ35*1)/100) -> 0 | CZ35: =(((R35+S35)*CA35*1)/100) -> 0 | DN35: 0 | DO35: 0 | DP35: 1 | DQ35: 1 | DR35: 1 | DS35: 1 | DT35: 1 | DU35: 1009 | DV35: т | DW35: т | DX35: 1000 | EE35: 13991008 | EF35: 5 | EG35: Сантехнические работы | EH35: 0 | EJ35: 1 | EK35: 173 | EL35: Ремонт. Внутренние санитарнотехнические работы - демонтаж и разборка | EQ35: 512 | ER35: 0 | ES35: 0 | ET35: 0 | EU35: 0 | EV35: 0 | EW35: 0 | EX35: 0 | EZ35: 0 | FQ35: 0 | FR35: =ROUND(IF(AND(AA35=0,BI35=3),P35,0),0) -> 0 | FS35: 0
A36: 17 | B36: 1 | C36: =ROW(SmtRes!A56) -> 56 | D36: =ROW(EtalonRes!A56) -> 56 | E36: 7 | F36: 65-1-3 | G36: Разборка трубопроводов из водогазопроводных труб на сварке) аметром 89 мм с отборкой годных труб, арматуры, фасонных и крепежных частей | H36: 100 м | I36: 0.1 | J36: 0 | O36: =ROUND(CP36*I36,0) -> 150 | P36: =ROUND(CQ36*I36,0) -> 12 | Q36: =ROUND(CR36*I36,0) -> 2 | R36: =ROUND(CS36*I36,0) -> 0 | S36: =ROUND(CT36*I36,0) -> 136 | T36: =ROUND(CU36*I36,0) -> 0 | U36: =CV36*I36 -> 11.457 | V36: =CW36*I36 -> 0.039 | W36: =ROUND(CX36*I36,0) -> 0 | X36: =ROUND(CY36,0) -> 101 | Y36: =ROUND(CZ36,0) -> 68 | AA36: 0 | AB36: =ROUND((AC36+AD36+AF36),2) -> 1501.55 | AC36: =ROUND((ES36),2) -> 119.33 | AD36: =ROUND((((ET36*1.5))+((((EU36*1.5))*1.13)-((EU36*1.5)))),2) -> 21.56 | AE36: =ROUND((((EU36*1.5))*1.13),2) -> 4.75 | AF36: =ROUND((((EV36*1.5))*1.13),2) -> 1360.66 | AG36: =ROUND((AP36),2) -> 0 | AH36: =((EW36*1.5)) -> 114.57 | AI36: =((EX36*1.5)) -> 0.39 | AJ36: =ROUND((AS36),2) -> 0 | AK36: 936.09 | AL36: 119.33 | AM36: 14.01 | AN36: 2.8 | AO36: 802.75 | AP36: 0 | AQ36: 76.38 | AR36: 0.26 | AS36: 0 | AT36: =BZ36 -> 74 | AU36: =CA36 -> 50 | AV36: 1 | AW36: 1 | AX36: 1 | AY36: 1 | AZ36: 1 | BA36: 1 | BB36: 1 | BC36: 1 | BH36: 0 | BI36: 1 | BJ36: ТЕР Челябинской обл.,сб.65,табл.1-3 | BM36: 173 | BN36: 0 | BO36: 65-1-3 | BP36: 1 | BQ36: 5 | BR36: 0 | BS36: 1 | BT36: 1 | BU36: 1 | BV36: 1 | BW36: 1 | BX36: 1 | BZ36: 74 | CA36: 50 | CF36: 0 | CG36: 0 | CM36: 0 | CO36: 0 | CP36: =(AB36)*AZ36 -> 1501.55 | CQ36: =(AC36)*BC36 -> 119.33 | CR36: =(AD36)*BB36 -> 21.56 | CS36: =(AE36)*BS36 -> 4.75 | CT36: =(AF36)*BA36 -> 1360.66 | CU36: =(AG36)*BT36 -> 0 | CV36: =(AH36)*BU36 -> 114.57 | CW36: =(AI36)*BV36 -> 0.39 | CX36: =(AJ36)*BW36 -> 0 | CY36: =(((R36+S36)*BZ36*1)/100) -> 100.64 | CZ36: =(((R36+S36)*CA36*1)/100) -> 68 | DE36: )*1,5 | DF36: )*1,5 | DG36: )*1,5 | DI36: )*1,5 | DJ36: )*1,5 | DN36: 0 | DO36: 0 | DP36: 1 | DQ36: 1 | DR36: 1 | DS36: 1 | DT36: 1 | DU36: 1013 | DV36: 100 м | DW36: 100М | DX36: 1 | EE36: 13991008 | EF36: 5 | EG36: Сантехнические работы | EH36: 0 | EJ36: 1 | EK36: 173 | EL36: Ремонт. Внутренние санитарнотехнические работы - демонтаж и разборка | EQ36: 512 | ER36: 936.09 | ES36: 119.33 | ET36: 14.01 | EU36: 2.8 | EV36: 802.75 | EW36: 76.38 | EX36: 0.26 | EY36: 0 | EZ36: 0 | FQ36: 0 | FR36: =ROUND(IF(AND(AA36=0,BI36=3),P36,0),0) -> 0 | FS36: 0
A37: 18 | B37: 1 | C37: 56 | E37: 7.1 | F37: 999-9899 | G37: Строительный мусор и масса возвратных материалов | H37: т | I37: =I36*J37 -> 0.043 | J37: 0.43 | O37: =ROUND(CP37*I37,0) -> 0 | P37: =ROUND(CQ37*I37,0) -> 0 | Q37: =ROUND(CR37*I37,0) -> 0 | R37: =ROUND(CS37*I37,0) -> 0 | S37: =ROUND(CT37*I37,0) -> 0 | T37: =ROUND(CU37*I37,0) -> 0 | U37: =CV37*I37 -> 0 | V37: =CW37*I37 -> 0 | W37: =ROUND(CX37*I37,0) -> 0 | X37: =ROUND(CY37,0) -> 0 | Y37: =ROUND(CZ37,0) -> 0 | AA37: 0 | AB37: =ROUND((AC37+AD37+AF37),2) -> 0 | AC37: =ROUND(AL37,2) -> 0 | AD37: =ROUND((AM37+((AN37*1.13)-AN37)),2) -> 0 | AE37: =ROUND((AN37*1.13),2) -> 0 | AF37: =ROUND((AO37*1.13),2) -> 0 | AG37: =ROUND(AP37,2) -> 0 | AH37: =AQ37 -> 0 | AI37: =AR37 -> 0 | AJ37: =ROUND(AS37,2) -> 0 | AK37: 0 | AL37: 0 | AM37: 0 | AN37: 0 | AO37: 0 | AP37: 0 | AQ37: 0 | AR37: 0 | AS37: 0 | AT37: =BZ37 -> 74 | AU37: =CA37 -> 50 | AV37: 1 | AW37: 1 | AX37: 1 | AY37: 1 | AZ37: 1 | BA37: 1 | BB37: 1 | BC37: 1 | BH37: 3 | BI37: 1 | BJ37: ССЦ Челябинской обл.,сб.999,поз.9899 | BM37: 173 | BN37: 0 | BO37: 999-9899 | BP37: 1 | BQ37: 5 | BR37: 0 | BS37: 1 | BT37: 1 | BU37: 1 | BV37: 1 | BW37: 1 | BX37: 1 | BZ37: 74 | CA37: 50 | CF37: 0 | CG37: 0 | CM37: 0 | CO37: 0 | CP37: =(AB37)*AZ37 -> 0 | CQ37: =(AC37)*BC37 -> 0 | CR37: =(AD37)*BB37 -> 0 | CS37: =(AE37)*BS37 -> 0 | CT37: =(AF37)*BA37 -> 0 | CU37: =(AG37)*BT37 -> 0 | CV37: =(AH37)*BU37 -> 0 | CW37: =(AI37)*BV37 -> 0 | CX37: =(AJ37)*BW37 -> 0 | CY37: =(((R37+S37)*BZ37*1)/100) -> 0 | CZ37: =(((R37+S37)*CA37*1)/100) -> 0 | DN37: 0 | DO37: 0 | DP37: 1 | DQ37: 1 | DR37: 1 | DS37: 1 | DT37: 1 | DU37: 1009 | DV37: т | DW37: т | DX37: 1000 | EE37: 13991008 | EF37: 5 | EG37: Сантехнические работы | EH37: 0 | EJ37: 1 | EK37: 173 | EL37: Ремонт. Внутренние санитарнотехнические работы - демонтаж и разборка | EQ37: 512 | ER37: 0 | ES37: 0 | ET37: 0 | EU37: 0 | EV37: 0 | EW37: 0 | EX37: 0 | EZ37: 0 | FQ37: 0 | FR37: =ROUND(IF(AND(AA37=0,BI37=3),P37,0),0) -> 0 | FS37: 0
A38: 17 | B38: 1 | C38: =ROW(SmtRes!A63) -> 63 | D38: =ROW(EtalonRes!A63) -> 63 | E38: 8 | F38: 65-1-1 | G38: Разборка трубопроводов из водогазопроводных труб диаметром 15 мм с отборкой годных труб, арматуры, фасонных и крепежных частей | H38: 100 м | I38: 2.5 | J38: 0 | O38: =ROUND(CP38*I38,0) -> 1719 | P38: =ROUND(CQ38*I38,0) -> 151 | Q38: =ROUND(CR38*I38,0) -> 25 | R38: =ROUND(CS38*I38,0) -> 5 | S38: =ROUND(CT38*I38,0) -> 1544 | T38: =ROUND(CU38*I38,0) -> 0 | U38: =CV38*I38 -> 129.975 | V38: =CW38*I38 -> 0.375 | W38: =ROUND(CX38*I38,0) -> 0 | X38: =ROUND(CY38,0) -> 1146 | Y38: =ROUND(CZ38,0) -> 775 | AA38: 0 | AB38: =ROUND((AC38+AD38+AF38),2) -> 687.71 | AC38: =ROUND((ES38),2) -> 60.42 | AD38: =ROUND((((ET38*1.5))+((((EU38*1.5))*1.13)-((EU38*1.5)))),2) -> 9.84 | AE38: =ROUND((((EU38*1.5))*1.13),2) -> 1.83 | AF38: =ROUND((((EV38*1.5))*1.13),2) -> 617.45 | AG38: =ROUND((AP38),2) -> 0 | AH38: =((EW38*1.5)) -> 51.99 | AI38: =((EX38*1.5)) -> 0.15 | AJ38: =ROUND((AS38),2) -> 0 | AK38: 431.12 | AL38: 60.42 | AM38: 6.42 | AN38: 1.08 | AO38: 364.28 | AP38: 0 | AQ38: 34.66 | AR38: 0.1 | AS38: 0 | AT38: =BZ38 -> 74 | AU38: =CA38 -> 50 | AV38: 1 | AW38: 1 | AX38: 1 | AY38: 1 | AZ38: 1 | BA38: 1 | BB38: 1 | BC38: 1 | BH38: 0 | BI38: 1 | BJ38: ТЕР Челябинской обл.,сб.65,табл.1-1 | BM38: 173 | BN38: 0 | BO38: 65-1-1 | BP38: 1 | BQ38: 5 | BR38: 0 | BS38: 1 | BT38: 1 | BU38: 1 | BV38: 1 | BW38: 1 | BX38: 1 | BZ38: 74 | CA38: 50 | CF38: 0 | CG38: 0 | CM38: 0 | CO38: 0 | CP38: =(AB38)*AZ38 -> 687.71 | CQ38: =(AC38)*BC38 -> 60.42 | CR38: =(AD38)*BB38 -> 9.84 | CS38: =(AE38)*BS38 -> 1.83 | CT38: =(AF38)*BA38 -> 617.45 | CU38: =(AG38)*BT38 -> 0 | CV38: =(AH38)*BU38 -> 51.99 | CW38: =(AI38)*BV38 -> 0.15 | CX38: =(AJ38)*BW38 -> 0 | CY38: =(((R38+S38)*BZ38*1)/100) -> 1146.26 | CZ38: =(((R38+S38)*CA38*1)/100) -> 774.5 | DE38: )*1,5 | DF38: )*1,5 | DG38: )*1,5 | DI38: )*1,5 | DJ38: )*1,5 | DN38: 0 | DO38: 0 | DP38: 1 | DQ38: 1 | DR38: 1 | DS38: 1 | DT38: 1 | DU38: 1013 | DV38: 100 м | DW38: 100М | DX38: 1 | EE38: 13991008 | EF38: 5 | EG38: Сантехнические работы | EH38: 0 | EJ38: 1 | EK38: 173 | EL38: Ремонт. Внутренние санитарнотехнические работы - демонтаж и разборка | EQ38: 512 | ER38: 431.12 | ES38: 60.42 | ET38: 6.42 | EU38: 1.08 | EV38: 364.28 | EW38: 34.66 | EX38: 0.1 | EY38: 0 | EZ38: 0 | FQ38: 0 | FR38: =ROUND(IF(AND(AA38=0,BI38=3),P38,0),0) -> 0 | FS38: 0
A39: 18 | B39: 1 | C39: 63 | E39: 8.1 | F39: 999-9899 | G39: Строительный мусор и масса возвратных материалов | H39: т | I39: =I38*J39 -> 0.55 | J39: 0.22 | O39: =ROUND(CP39*I39,0) -> 0 | P39: =ROUND(CQ39*I39,0) -> 0 | Q39: =ROUND(CR39*I39,0) -> 0 | R39: =ROUND(CS39*I39,0) -> 0 | S39: =ROUND(CT39*I39,0) -> 0 | T39: =ROUND(CU39*I39,0) -> 0 | U39: =CV39*I39 -> 0 | V39: =CW39*I39 -> 0 | W39: =ROUND(CX39*I39,0) -> 0 | X39: =ROUND(CY39,0) -> 0 | Y39: =ROUND(CZ39,0) -> 0 | AA39: 0 | AB39: =ROUND((AC39+AD39+AF39),2) -> 0 | AC39: =ROUND(AL39,2) -> 0 | AD39: =ROUND((AM39+((AN39*1.13)-AN39)),2) -> 0 | AE39: =ROUND((AN39*1.13),2) -> 0 | AF39: =ROUND((AO39*1.13),2) -> 0 | AG39: =ROUND(AP39,2) -> 0 | AH39: =AQ39 -> 0 | AI39: =AR39 -> 0 | AJ39: =ROUND(AS39,2) -> 0 | AK39: 0 | AL39: 0 | AM39: 0 | AN39: 0 | AO39: 0 | AP39: 0 | AQ39: 0 | AR39: 0 | AS39: 0 | AT39: =BZ39 -> 74 | AU39: =CA39 -> 50 | AV39: 1 | AW39: 1 | AX39: 1 | AY39: 1 | AZ39: 1 | BA39: 1 | BB39: 1 | BC39: 1 | BH39: 3 | BI39: 1 | BJ39: ССЦ Челябинской обл.,сб.999,поз.9899 | BM39: 173 | BN39: 0 | BO39: 999-9899 | BP39: 1 | BQ39: 5 | BR39: 0 | BS39: 1 | BT39: 1 | BU39: 1 | BV39: 1 | BW39: 1 | BX39: 1 | BZ39: 74 | CA39: 50 | CF39: 0 | CG39: 0 | CM39: 0 | CO39: 0 | CP39: =(AB39)*AZ39 -> 0 | CQ39: =(AC39)*BC39 -> 0 | CR39: =(AD39)*BB39 -> 0 | CS39: =(AE39)*BS39 -> 0 | CT39: =(AF39)*BA39 -> 0 | CU39: =(AG39)*BT39 -> 0 | CV39: =(AH39)*BU39 -> 0 | CW39: =(AI39)*BV39 -> 0 | CX39: =(AJ39)*BW39 -> 0 | CY39: =(((R39+S39)*BZ39*1)/100) -> 0 | CZ39: =(((R39+S39)*CA39*1)/100) -> 0 | DN39: 0 | DO39: 0 | DP39: 1 | DQ39: 1 | DR39: 1 | DS39: 1 | DT39: 1 | DU39: 1009 | DV39: т | DW39: т | DX39: 1000 | EE39: 13991008 | EF39: 5 | EG39: Сантехнические работы | EH39: 0 | EJ39: 1 | EK39: 173 | EL39: Ремонт. Внутренние санитарнотехнические работы - демонтаж и разборка | EQ39: 512 | ER39: 0 | ES39: 0 | ET39: 0 | EU39: 0 | EV39: 0 | EW39: 0 | EX39: 0 | EZ39: 0 | FQ39: 0 | FR39: =ROUND(IF(AND(AA39=0,BI39=3),P39,0),0) -> 0 | FS39: 0
A40: 17 | B40: 1 | C40: =ROW(SmtRes!A70) -> 70 | D40: =ROW(EtalonRes!A70) -> 70 | E40: 9 | F40: 65-1-1 | G40: Разборка трубопроводов из водогазопроводных труб диаметром 20 мм с отборкой годных труб, арматуры, фасонных и крепежных частей | H40: 100 м | I40: 1 | J40: 0 | O40: =ROUND(CP40*I40,0) -> 688 | P40: =ROUND(CQ40*I40,0) -> 60 | Q40: =ROUND(CR40*I40,0) -> 10 | R40: =ROUND(CS40*I40,0) -> 2 | S40: =ROUND(CT40*I40,0) -> 617 | T40: =ROUND(CU40*I40,0) -> 0 | U40: =CV40*I40 -> 51.99 | V40: =CW40*I40 -> 0.15 | W40: =ROUND(CX40*I40,0) -> 0 | X40: =ROUND(CY40,0) -> 458 | Y40: =ROUND(CZ40,0) -> 310 | AA40: 0 | AB40: =ROUND((AC40+AD40+AF40),2) -> 687.71 | AC40: =ROUND((ES40),2) -> 60.42 | AD40: =ROUND((((ET40*1.5))+((((EU40*1.5))*1.13)-((EU40*1.5)))),2) -> 9.84 | AE40: =ROUND((((EU40*1.5))*1.13),2) -> 1.83 | AF40: =ROUND((((EV40*1.5))*1.13),2) -> 617.45 | AG40: =ROUND((AP40),2) -> 0 | AH40: =((EW40*1.5)) -> 51.99 | AI40: =((EX40*1.5)) -> 0.15 | AJ40: =ROUND((AS40),2) -> 0 | AK40: 431.12 | AL40: 60.42 | AM40: 6.42 | AN40: 1.08 | AO40: 364.28 | AP40: 0 | AQ40: 34.66 | AR40: 0.1 | AS40: 0 | AT40: =BZ40 -> 74 | AU40: =CA40 -> 50 | AV40: 1 | AW40: 1 | AX40: 1 | AY40: 1 | AZ40: 1 | BA40: 1 | BB40: 1 | BC40: 1 | BH40: 0 | BI40: 1 | BJ40: ТЕР Челябинской обл.,сб.65,табл.1-1 | BM40: 173 | BN40: 0 | BO40: 65-1-1 | BP40: 1 | BQ40: 5 | BR40: 0 | BS40: 1 | BT40: 1 | BU40: 1 | BV40: 1 | BW40: 1 | BX40: 1 | BZ40: 74 | CA40: 50 | CF40: 0 | CG40: 0 | CM40: 0 | CO40: 0 | CP40: =(AB40)*AZ40 -> 687.71 | CQ40: =(AC40)*BC40 -> 60.42 | CR40: =(AD40)*BB40 -> 9.84 | CS40: =(AE40)*BS40 -> 1.83 | CT40: =(AF40)*BA40 -> 617.45 | CU40: =(AG40)*BT40 -> 0 | CV40: =(AH40)*BU40 -> 51.99 | CW40: =(AI40)*BV40 -> 0.15 | CX40: =(AJ40)*BW40 -> 0 | CY40: =(((R40+S40)*BZ40*1)/100) -> 458.06 | CZ40: =(((R40+S40)*CA40*1)/100) -> 309.5 | DE40: )*1,5 | DF40: )*1,5 | DG40: )*1,5 | DI40: )*1,5 | DJ40: )*1,5 | DN40: 0 | DO40: 0 | DP40: 1 | DQ40: 1 | DR40: 1 | DS40: 1 | DT40: 1 | DU40: 1013 | DV40: 100 м | DW40: 100М | DX40: 1 | EE40: 13991008 | EF40: 5 | EG40: Сантехнические работы | EH40: 0 | EJ40: 1 | EK40: 173 | EL40: Ремонт. Внутренние санитарнотехнические работы - демонтаж и разборка | EQ40: 512 | ER40: 431.12 | ES40: 60.42 | ET40: 6.42 | EU40: 1.08 | EV40: 364.28 | EW40: 34.66 | EX40: 0.1 | EY40: 0 | EZ40: 0 | FQ40: 0 | FR40: =ROUND(IF(AND(AA40=0,BI40=3),P40,0),0) -> 0 | FS40: 0
A41: 18 | B41: 1 | C41: 70 | E41: 9.1 | F41: 999-9899 | G41: Строительный мусор и масса возвратных материалов | H41: т | I41: =I40*J41 -> 0.22 | J41: 0.22 | O41: =ROUND(CP41*I41,0) -> 0 | P41: =ROUND(CQ41*I41,0) -> 0 | Q41: =ROUND(CR41*I41,0) -> 0 | R41: =ROUND(CS41*I41,0) -> 0 | S41: =ROUND(CT41*I41,0) -> 0 | T41: =ROUND(CU41*I41,0) -> 0 | U41: =CV41*I41 -> 0 | V41: =CW41*I41 -> 0 | W41: =ROUND(CX41*I41,0) -> 0 | X41: =ROUND(CY41,0) -> 0 | Y41: =ROUND(CZ41,0) -> 0 | AA41: 0 | AB41: =ROUND((AC41+AD41+AF41),2) -> 0 | AC41: =ROUND(AL41,2) -> 0 | AD41: =ROUND((AM41+((AN41*1.13)-AN41)),2) -> 0 | AE41: =ROUND((AN41*1.13),2) -> 0 | AF41: =ROUND((AO41*1.13),2) -> 0 | AG41: =ROUND(AP41,2) -> 0 | AH41: =AQ41 -> 0 | AI41: =AR41 -> 0 | AJ41: =ROUND(AS41,2) -> 0 | AK41: 0 | AL41: 0 | AM41: 0 | AN41: 0 | AO41: 0 | AP41: 0 | AQ41: 0 | AR41: 0 | AS41: 0 | AT41: =BZ41 -> 74 | AU41: =CA41 -> 50 | AV41: 1 | AW41: 1 | AX41: 1 | AY41: 1 | AZ41: 1 | BA41: 1 | BB41: 1 | BC41: 1 | BH41: 3 | BI41: 1 | BJ41: ССЦ Челябинской обл.,сб.999,поз.9899 | BM41: 173 | BN41: 0 | BO41: 999-9899 | BP41: 1 | BQ41: 5 | BR41: 0 | BS41: 1 | BT41: 1 | BU41: 1 | BV41: 1 | BW41: 1 | BX41: 1 | BZ41: 74 | CA41: 50 | CF41: 0 | CG41: 0 | CM41: 0 | CO41: 0 | CP41: =(AB41)*AZ41 -> 0 | CQ41: =(AC41)*BC41 -> 0 | CR41: =(AD41)*BB41 -> 0 | CS41: =(AE41)*BS41 -> 0 | CT41: =(AF41)*BA41 -> 0 | CU41: =(AG41)*BT41 -> 0 | CV41: =(AH41)*BU41 -> 0 | CW41: =(AI41)*BV41 -> 0 | CX41: =(AJ41)*BW41 -> 0 | CY41: =(((R41+S41)*BZ41*1)/100) -> 0 | CZ41: =(((R41+S41)*CA41*1)/100) -> 0 | DN41: 0 | DO41: 0 | DP41: 1 | DQ41: 1 | DR41: 1 | DS41: 1 | DT41: 1 | DU41: 1009 | DV41: т | DW41: т | DX41: 1000 | EE41: 13991008 | EF41: 5 | EG41: Сантехнические работы | EH41: 0 | EJ41: 1 | EK41: 173 | EL41: Ремонт. Внутренние санитарнотехнические работы - демонтаж и разборка | EQ41: 512 | ER41: 0 | ES41: 0 | ET41: 0 | EU41: 0 | EV41: 0 | EW41: 0 | EX41: 0 | EZ41: 0 | FQ41: 0 | FR41: =ROUND(IF(AND(AA41=0,BI41=3),P41,0),0) -> 0 | FS41: 0
A42: 17 | B42: 1 | C42: =ROW(SmtRes!A77) -> 77 | D42: =ROW(EtalonRes!A77) -> 77 | E42: 10 | F42: 65-1-1 | G42: Разборка трубопроводов из водогазопроводных труб диаметром 25 мм с отборкой годных труб, арматуры, фасонных и крепежных частей | H42: 100 м | I42: 0.7 | J42: 0 | O42: =ROUND(CP42*I42,0) -> 481 | P42: =ROUND(CQ42*I42,0) -> 42 | Q42: =ROUND(CR42*I42,0) -> 7 | R42: =ROUND(CS42*I42,0) -> 1 | S42: =ROUND(CT42*I42,0) -> 432 | T42: =ROUND(CU42*I42,0) -> 0 | U42: =CV42*I42 -> 36.393 | V42: =CW42*I42 -> 0.105 | W42: =ROUND(CX42*I42,0) -> 0 | X42: =ROUND(CY42,0) -> 320 | Y42: =ROUND(CZ42,0) -> 217 | AA42: 0 | AB42: =ROUND((AC42+AD42+AF42),2) -> 687.71 | AC42: =ROUND((ES42),2) -> 60.42 | AD42: =ROUND((((ET42*1.5))+((((EU42*1.5))*1.13)-((EU42*1.5)))),2) -> 9.84 | AE42: =ROUND((((EU42*1.5))*1.13),2) -> 1.83 | AF42: =ROUND((((EV42*1.5))*1.13),2) -> 617.45 | AG42: =ROUND((AP42),2) -> 0 | AH42: =((EW42*1.5)) -> 51.99 | AI42: =((EX42*1.5)) -> 0.15 | AJ42: =ROUND((AS42),2) -> 0 | AK42: 431.12 | AL42: 60.42 | AM42: 6.42 | AN42: 1.08 | AO42: 364.28 | AP42: 0 | AQ42: 34.66 | AR42: 0.1 | AS42: 0 | AT42: =BZ42 -> 74 | AU42: =CA42 -> 50 | AV42: 1 | AW42: 1 | AX42: 1 | AY42: 1 | AZ42: 1 | BA42: 1 | BB42: 1 | BC42: 1 | BH42: 0 | BI42: 1 | BJ42: ТЕР Челябинской обл.,сб.65,табл.1-1 | BM42: 173 | BN42: 0 | BO42: 65-1-1 | BP42: 1 | BQ42: 5 | BR42: 0 | BS42: 1 | BT42: 1 | BU42: 1 | BV42: 1 | BW42: 1 | BX42: 1 | BZ42: 74 | CA42: 50 | CF42: 0 | CG42: 0 | CM42: 0 | CO42: 0 | CP42: =(AB42)*AZ42 -> 687.71 | CQ42: =(AC42)*BC42 -> 60.42 | CR42: =(AD42)*BB42 -> 9.84 | CS42: =(AE42)*BS42 -> 1.83 | CT42: =(AF42)*BA42 -> 617.45 | CU42: =(AG42)*BT42 -> 0 | CV42: =(AH42)*BU42 -> 51.99 | CW42: =(AI42)*BV42 -> 0.15 | CX42: =(AJ42)*BW42 -> 0 | CY42: =(((R42+S42)*BZ42*1)/100) -> 320.42 | CZ42: =(((R42+S42)*CA42*1)/100) -> 216.5 | DE42: )*1,5 | DF42: )*1,5 | DG42: )*1,5 | DI42: )*1,5 | DJ42: )*1,5 | DN42: 0 | DO42: 0 | DP42: 1 | DQ42: 1 | DR42: 1 | DS42: 1 | DT42: 1 | DU42: 1013 | DV42: 100 м | DW42: 100М | DX42: 1 | EE42: 13991008 | EF42: 5 | EG42: Сантехнические работы | EH42: 0 | EJ42: 1 | EK42: 173 | EL42: Ремонт. Внутренние санитарнотехнические работы - демонтаж и разборка | EQ42: 512 | ER42: 431.12 | ES42: 60.42 | ET42: 6.42 | EU42: 1.08 | EV42: 364.28 | EW42: 34.66 | EX42: 0.1 | EY42: 0 | EZ42: 0 | FQ42: 0 | FR42: =ROUND(IF(AND(AA42=0,BI42=3),P42,0),0) -> 0 | FS42: 0
A43: 18 | B43: 1 | C43: 77 | E43: 10.1 | F43: 999-9899 | G43: Строительный мусор и масса возвратных материалов | H43: т | I43: =I42*J43 -> 0.154 | J43: 0.22 | O43: =ROUND(CP43*I43,0) -> 0 | P43: =ROUND(CQ43*I43,0) -> 0 | Q43: =ROUND(CR43*I43,0) -> 0 | R43: =ROUND(CS43*I43,0) -> 0 | S43: =ROUND(CT43*I43,0) -> 0 | T43: =ROUND(CU43*I43,0) -> 0 | U43: =CV43*I43 -> 0 | V43: =CW43*I43 -> 0 | W43: =ROUND(CX43*I43,0) -> 0 | X43: =ROUND(CY43,0) -> 0 | Y43: =ROUND(CZ43,0) -> 0 | AA43: 0 | AB43: =ROUND((AC43+AD43+AF43),2) -> 0 | AC43: =ROUND(AL43,2) -> 0 | AD43: =ROUND((AM43+((AN43*1.13)-AN43)),2) -> 0 | AE43: =ROUND((AN43*1.13),2) -> 0 | AF43: =ROUND((AO43*1.13),2) -> 0 | AG43: =ROUND(AP43,2) -> 0 | AH43: =AQ43 -> 0 | AI43: =AR43 -> 0 | AJ43: =ROUND(AS43,2) -> 0 | AK43: 0 | AL43: 0 | AM43: 0 | AN43: 0 | AO43: 0 | AP43: 0 | AQ43: 0 | AR43: 0 | AS43: 0 | AT43: =BZ43 -> 74 | AU43: =CA43 -> 50 | AV43: 1 | AW43: 1 | AX43: 1 | AY43: 1 | AZ43: 1 | BA43: 1 | BB43: 1 | BC43: 1 | BH43: 3 | BI43: 1 | BJ43: ССЦ Челябинской обл.,сб.999,поз.9899 | BM43: 173 | BN43: 0 | BO43: 999-9899 | BP43: 1 | BQ43: 5 | BR43: 0 | BS43: 1 | BT43: 1 | BU43: 1 | BV43: 1 | BW43: 1 | BX43: 1 | BZ43: 74 | CA43: 50 | CF43: 0 | CG43: 0 | CM43: 0 | CO43: 0 | CP43: =(AB43)*AZ43 -> 0 | CQ43: =(AC43)*BC43 -> 0 | CR43: =(AD43)*BB43 -> 0 | CS43: =(AE43)*BS43 -> 0 | CT43: =(AF43)*BA43 -> 0 | CU43: =(AG43)*BT43 -> 0 | CV43: =(AH43)*BU43 -> 0 | CW43: =(AI43)*BV43 -> 0 | CX43: =(AJ43)*BW43 -> 0 | CY43: =(((R43+S43)*BZ43*1)/100) -> 0 | CZ43: =(((R43+S43)*CA43*1)/100) -> 0 | DN43: 0 | DO43: 0 | DP43: 1 | DQ43: 1 | DR43: 1 | DS43: 1 | DT43: 1 | DU43: 1009 | DV43: т | DW43: т | DX43: 1000 | EE43: 13991008 | EF43: 5 | EG43: Сантехнические работы | EH43: 0 | EJ43: 1 | EK43: 173 | EL43: Ремонт. Внутренние санитарнотехнические работы - демонтаж и разборка | EQ43: 512 | ER43: 0 | ES43: 0 | ET43: 0 | EU43: 0 | EV43: 0 | EW43: 0 | EX43: 0 | EZ43: 0 | FQ43: 0 | FR43: =ROUND(IF(AND(AA43=0,BI43=3),P43,0),0) -> 0 | FS43: 0
A44: 17 | B44: 1 | C44: =ROW(SmtRes!A84) -> 84 | D44: =ROW(EtalonRes!A84) -> 84 | E44: 11 | F44: 65-1-1 | G44: Разборка трубопроводов из водогазопроводных труб диаметром 32 мм с отборкой годных труб, арматуры, фасонных и крепежных частей | H44: 100 м | I44: 0.35 | J44: 0 | O44: =ROUND(CP44*I44,0) -> 241 | P44: =ROUND(CQ44*I44,0) -> 21 | Q44: =ROUND(CR44*I44,0) -> 3 | R44: =ROUND(CS44*I44,0) -> 1 | S44: =ROUND(CT44*I44,0) -> 216 | T44: =ROUND(CU44*I44,0) -> 0 | U44: =CV44*I44 -> 18.1965 | V44: =CW44*I44 -> 0.0525 | W44: =ROUND(CX44*I44,0) -> 0 | X44: =ROUND(CY44,0) -> 161 | Y44: =ROUND(CZ44,0) -> 109 | AA44: 0 | AB44: =ROUND((AC44+AD44+AF44),2) -> 687.71 | AC44: =ROUND((ES44),2) -> 60.42 | AD44: =ROUND((((ET44*1.5))+((((EU44*1.5))*1.13)-((EU44*1.5)))),2) -> 9.84 | AE44: =ROUND((((EU44*1.5))*1.13),2) -> 1.83 | AF44: =ROUND((((EV44*1.5))*1.13),2) -> 617.45 | AG44: =ROUND((AP44),2) -> 0 | AH44: =((EW44*1.5)) -> 51.99 | AI44: =((EX44*1.5)) -> 0.15 | AJ44: =ROUND((AS44),2) -> 0 | AK44: 431.12 | AL44: 60.42 | AM44: 6.42 | AN44: 1.08 | AO44: 364.28 | AP44: 0 | AQ44: 34.66 | AR44: 0.1 | AS44: 0 | AT44: =BZ44 -> 74 | AU44: =CA44 -> 50 | AV44: 1 | AW44: 1 | AX44: 1 | AY44: 1 | AZ44: 1 | BA44: 1 | BB44: 1 | BC44: 1 | BH44: 0 | BI44: 1 | BJ44: ТЕР Челябинской обл.,сб.65,табл.1-1 | BM44: 173 | BN44: 0 | BO44: 65-1-1 | BP44: 1 | BQ44: 5 | BR44: 0 | BS44: 1 | BT44: 1 | BU44: 1 | BV44: 1 | BW44: 1 | BX44: 1 | BZ44: 74 | CA44: 50 | CF44: 0 | CG44: 0 | CM44: 0 | CO44: 0 | CP44: =(AB44)*AZ44 -> 687.71 | CQ44: =(AC44)*BC44 -> 60.42 | CR44: =(AD44)*BB44 -> 9.84 | CS44: =(AE44)*BS44 -> 1.83 | CT44: =(AF44)*BA44 -> 617.45 | CU44: =(AG44)*BT44 -> 0 | CV44: =(AH44)*BU44 -> 51.99 | CW44: =(AI44)*BV44 -> 0.15 | CX44: =(AJ44)*BW44 -> 0 | CY44: =(((R44+S44)*BZ44*1)/100) -> 160.58 | CZ44: =(((R44+S44)*CA44*1)/100) -> 108.5 | DE44: )*1,5 | DF44: )*1,5 | DG44: )*1,5 | DI44: )*1,5 | DJ44: )*1,5 | DN44: 0 | DO44: 0 | DP44: 1 | DQ44: 1 | DR44: 1 | DS44: 1 | DT44: 1 | DU44: 1013 | DV44: 100 м | DW44: 100М | DX44: 1 | EE44: 13991008 | EF44: 5 | EG44: Сантехнические работы | EH44: 0 | EJ44: 1 | EK44: 173 | EL44: Ремонт. Внутренние санитарнотехнические работы - демонтаж и разборка | EQ44: 512 | ER44: 431.12 | ES44: 60.42 | ET44: 6.42 | EU44: 1.08 | EV44: 364.28 | EW44: 34.66 | EX44: 0.1 | EY44: 0 | EZ44: 0 | FQ44: 0 | FR44: =ROUND(IF(AND(AA44=0,BI44=3),P44,0),0) -> 0 | FS44: 0
A45: 18 | B45: 1 | C45: 84 | E45: 11.1 | F45: 999-9899 | G45: Строительный мусор и масса возвратных материалов | H45: т | I45: =I44*J45 -> 0.077 | J45: 0.22 | O45: =ROUND(CP45*I45,0) -> 0 | P45: =ROUND(CQ45*I45,0) -> 0 | Q45: =ROUND(CR45*I45,0) -> 0 | R45: =ROUND(CS45*I45,0) -> 0 | S45: =ROUND(CT45*I45,0) -> 0 | T45: =ROUND(CU45*I45,0) -> 0 | U45: =CV45*I45 -> 0 | V45: =CW45*I45 -> 0 | W45: =ROUND(CX45*I45,0) -> 0 | X45: =ROUND(CY45,0) -> 0 | Y45: =ROUND(CZ45,0) -> 0 | AA45: 0 | AB45: =ROUND((AC45+AD45+AF45),2) -> 0 | AC45: =ROUND(AL45,2) -> 0 | AD45: =ROUND((AM45+((AN45*1.13)-AN45)),2) -> 0 | AE45: =ROUND((AN45*1.13),2) -> 0 | AF45: =ROUND((AO45*1.13),2) -> 0 | AG45: =ROUND(AP45,2) -> 0 | AH45: =AQ45 -> 0 | AI45: =AR45 -> 0 | AJ45: =ROUND(AS45,2) -> 0 | AK45: 0 | AL45: 0 | AM45: 0 | AN45: 0 | AO45: 0 | AP45: 0 | AQ45: 0 | AR45: 0 | AS45: 0 | AT45: =BZ45 -> 74 | AU45: =CA45 -> 50 | AV45: 1 | AW45: 1 | AX45: 1 | AY45: 1 | AZ45: 1 | BA45: 1 | BB45: 1 | BC45: 1 | BH45: 3 | BI45: 1 | BJ45: ССЦ Челябинской обл.,сб.999,поз.9899 | BM45: 173 | BN45: 0 | BO45: 999-9899 | BP45: 1 | BQ45: 5 | BR45: 0 | BS45: 1 | BT45: 1 | BU45: 1 | BV45: 1 | BW45: 1 | BX45: 1 | BZ45: 74 | CA45: 50 | CF45: 0 | CG45: 0 | CM45: 0 | CO45: 0 | CP45: =(AB45)*AZ45 -> 0 | CQ45: =(AC45)*BC45 -> 0 | CR45: =(AD45)*BB45 -> 0 | CS45: =(AE45)*BS45 -> 0 | CT45: =(AF45)*BA45 -> 0 | CU45: =(AG45)*BT45 -> 0 | CV45: =(AH45)*BU45 -> 0 | CW45: =(AI45)*BV45 -> 0 | CX45: =(AJ45)*BW45 -> 0 | CY45: =(((R45+S45)*BZ45*1)/100) -> 0 | CZ45: =(((R45+S45)*CA45*1)/100) -> 0 | DN45: 0 | DO45: 0 | DP45: 1 | DQ45: 1 | DR45: 1 | DS45: 1 | DT45: 1 | DU45: 1009 | DV45: т | DW45: т | DX45: 1000 | EE45: 13991008 | EF45: 5 | EG45: Сантехнические работы | EH45: 0 | EJ45: 1 | EK45: 173 | EL45: Ремонт. Внутренние санитарнотехнические работы - демонтаж и разборка | EQ45: 512 | ER45: 0 | ES45: 0 | ET45: 0 | EU45: 0 | EV45: 0 | EW45: 0 | EX45: 0 | EZ45: 0 | FQ45: 0 | FR45: =ROUND(IF(AND(AA45=0,BI45=3),P45,0),0) -> 0 | FS45: 0
