Workbook
Name Constr: '02-01-001'!$A$1
Name Constr: '02-01-002'!$A$1
Name Constr: '02-01-003'!$A$1
Name Constr: '02-01-004'!$A$1
Name Constr: '02-01-005'!$A$1
Name Constr: '02-01-006'!$A$1
Name Constr: '02-01-007'!$A$1
Name Constr: '02-01-008'!$A$1
Name Constr: '02-01-009'!$A$1
Name Constr: '02-01-010'!$A$1
Name Constr: '02-01-011'!$A$1
Name Constr: '02-01-012'!$A$1
Name Constr: '02-01-014'!$A$1
Name Constr: '02-01-015'!$A$1
Name Constr: '05-01'!$A$1
Name FOT: '02-01-001'!$C$19
Name FOT: '02-01-002'!$C$20
Name FOT: '02-01-003'!$C$20
Name FOT: '02-01-004'!$C$20
Name FOT: '02-01-005'!$C$20
Name FOT: '02-01-006'!$C$20
Name FOT: '02-01-007'!$C$20
Name FOT: '02-01-008'!$C$20
Name FOT: '02-01-009'!$C$20
Name FOT: '02-01-010'!$C$21
Name FOT: '02-01-011'!$C$21
Name FOT: '02-01-012'!$C$21
Name FOT: '02-01-014'!$C$21
Name FOT: '02-01-015'!$C$21
Name FOT: '05-01'!$C$17
Name Ind: '02-01-001'!$E$9
Name Ind: '02-01-002'!$E$9
Name Ind: '02-01-003'!$E$8
Name Ind: '02-01-004'!$E$10
Name Ind: '02-01-005'!$E$10
Name Ind: '02-01-006'!$E$10
Name Ind: '02-01-007'!$E$10
Name Ind: '02-01-008'!$E$10
Name Ind: '02-01-009'!$E$10
Name Ind: '02-01-010'!$E$11
Name Ind: '02-01-011'!$E$11
Name Ind: '02-01-012'!$E$11
Name Ind: '02-01-014'!$E$11
Name Ind: '02-01-015'!$E$11
Name Ind: '05-01'!$E$9
Name Obj: '02-01-001'!#REF!
Name Obj: '02-01-002'!#REF!
Name Obj: '02-01-003'!#REF!
Name Obj: '02-01-004'!#REF!
Name Obj: '02-01-005'!#REF!
Name Obj: '02-01-006'!#REF!
Name Obj: '02-01-007'!#REF!
Name Obj: '02-01-008'!#REF!
Name Obj: '02-01-009'!#REF!
Name Obj: '02-01-010'!#REF!
Name Obj: '02-01-011'!#REF!
Name Obj: '02-01-012'!#REF!
Name Obj: '02-01-014'!#REF!
Name Obj: '02-01-015'!#REF!
Name Obj: '05-01'!#REF!

Sheet 02-01-001
A1: СОГЛАСОВАНО: | M1: УТВЕРЖДАЮ:
A3: ______________ | M3: ______________
A4: "___" ___________ 201_ г. | M4: "___" ___________ 201_ г.
E5: ФГУП "Комбинат "Электрохимприбор"
E6: "Монтаж автоматической пожарной сигнализации (АПС) и системы оповещения
E7: и управления эвакуации людей при пожаре (СОУЭ) зданий в/ч 3275"
E8: (наименование стройки)
E10: ЛОКАЛЬНЫЙ СМЕТНЫЙ РАСЧЕТ № 02-01-001 (8849-0-ИОС5СМ)
E11: (локальная смета)
B13: на | C13: АВТОМАТИЧЕСКУЮ ПОЖАРНУЮ СИГНАЛИЗАЦИЮ (АПС и СОУЭ) ЗДАНИЯ КАЗАРМЫ №1
C15: Основание: Технологические решения 8849-0-ИОС5
C16: Сметная стоимость _______________________________________________________________________________________________ | F16: =I160 -> 103758 | H16: руб.
C17: монтажных работ _______________________________________________________________________________________________ | F17: =I88+I135 -> 95071 | H17: руб.
C18: оборудования _______________________________________________________________________________________________ | F18: =I46+I66 -> 8687 | H18: руб.
C19: Средства на оплату труда _______________________________________________________________________________________________ | F19: =J141 -> 8310 | H19: руб.
C20: Сметная трудоемкость _______________________________________________________________________________________________ | F20: _______________________________________________________________________________________________599,21 | H20: чел.час
C21: Составлена в ценах по состоянию на 01.01.2000 г. в редакции 2009 г.
A23: № пп | B23: Обосно- вание | C23: Наименование работ и затрат | D23: Ед. изм. | E23: Кол. | F23: Стоимость единицы в базисных ценах, руб. | I23: Общая стоимость в базисных ценах, руб. | M23: Затр.тр.раб-х не занятых обслуж.машин
F24: Всего | G24: Экспл. маш. | H24: Мат-ы | I24: Всего | J24: в т.ч. оплата труда | K24: Экспл. маш. | L24: Мат-ы | M24: Обслуж-х машины
F25: оплата труда | G25: в т.ч. оплата труда | K25: в т.ч. оплата труда | M25: на ед-цу | N25: всего
A26: 1 | B26: 2 | C26: 3 | D26: 4 | E26: 5 | F26: 6 | G26: 7 | H26: 8 | I26: 9 | J26: 10 | K26: 11 | L26: 12 | M26: 13 | N26: 14
A27: Раздел 1. ОБОРУДОВАНИЕ ПО ПРАЙСАМ
A28: Цены на оборудование и материалы , отсутствующие в базе см.прайс-листы арх. № 96663 пф
A29: 1 | B29: ЗАО НВП "БОЛИТ" Г. КОРОЛЕВ МОСКОВСКАЯ ОБЛАСТЬ ПРАЙС-ЛИСТ3 кв.2012г. СТР.3 | C29: Аккумулятор необслуживаемый 12 В, емкость 17 А/час DTМ 1217 | D29: КОМП. | E29: 1 | F29: 311,8 1224,82/1,18/3,47 {индекс} | I29: 312
C30: (транспортные расходы (пПЗ=3%); заготовительно складские расходы (пПЗ=1,2%)) Оборудование:
A31: ЦЕНА1224,82/1,18/3,47 {индекс}
A32: 2 | B32: ЗАО НВП "БОЛИТ" Г. КОРОЛЕВ МОСКОВСКАЯ ОБЛАСТЬ ПРАЙС-ЛИСТ3 кв.2012г. СТР.3 | C32: Блок разветвительно-изолирующий БРИЗ | D32: шт | E32: 12 | F32: 75,34 295,94/1,18/3,47 {индекс} | I32: 904
C33: (транспортные расходы (пПЗ=3%); заготовительно складские расходы (пПЗ=1,2%)) Оборудование:
A34: ЦЕНА295,94/1,18/3,47 {индекс}
A35: 3 | B35: ЗАО НВП "БОЛИТ" Г. КОРОЛЕВ МОСКОВСКАЯ ОБЛАСТЬ ПРАЙС-ЛИСТкв.2012г. СТР.2 | C35: Световое табло Молния-12В/24В | D35: КОМП. | E35: 16 | F35: 84 330,00/1,18/3,47 {индекс} | I35: 1344
C36: (транспортные расходы (пПЗ=3%); заготовительно складские расходы (пПЗ=1,2%)) Оборудование:
A37: ЦЕНА330,00/1,18/3,47 {индекс}
A38: ИТОГИ В БАЗИСНЫХ ЦЕНАХ
A39: Итого прямые затраты по разделу в ценах 2001г. | I39: 2560
A40: Итоги по разделу 1 ОБОРУДОВАНИЕ ПО ПРАЙСАМ :
A41: Оборудование:
A42: Итого Поз. 1-3 | I42: 2560
A43: Итого | I43: 2560
A44: Справочно, в ценах 2001г.:
A45: Оборудование | I45: 2560
...

Sheet 02-01-002
A1: СОГЛАСОВАНО: | M1: УТВЕРЖДАЮ:
A3: ______________ | M3: ______________
A4: "___" ___________ 201_ г. | M4: "___" ___________ 201_ г.
E5: ФГУП "Комбинат "Электрохимприбор"
E6: "Монтаж автоматической пожарной сигнализации (АПС) и системы оповещения
E7: и управления эвакуации людей при пожаре (СОУЭ) зданий в/ч 3275"
E8: (наименование стройки)
E10: ЛОКАЛЬНЫЙ СМЕТНЫЙ РАСЧЕТ № 02-01-002 (8849-0-ИОС5СМ1)
E11: (локальная смета)
B13: на | C13: АВТОМАТИЧЕСКУЮ ПОЖАРНУЮ СИГНАЛИЗАЦИЮ (АПС и СОУЭ) ЗДАНИЯ КАЗАРМЫ №2
C16: Основание: Технологические решения 8849-0-ИОС5
C17: Сметная стоимость _______________________________________________________________________________________________ | F17: =I161 -> 82691 | H17: руб.
C18: монтажных работ _______________________________________________________________________________________________ | F18: =I89+I136 -> 76178 | H18: руб.
C19: оборудования _______________________________________________________________________________________________ | F19: =I47+I67 -> 6513 | H19: руб.
C20: Средства на оплату труда _______________________________________________________________________________________________ | F20: =J142 -> 6539 | H20: руб.
C21: Сметная трудоемкость _______________________________________________________________________________________________ | F21: _______________________________________________________________________________________________470,19 | H21: чел.час
C22: Составлена в ценах по состоянию на 01.01.2000 г. в редакции 2009 г.
A24: № пп | B24: Обосно- вание | C24: Наименование работ и затрат | D24: Ед. изм. | E24: Кол. | F24: Стоимость единицы в базисных ценах, руб. | I24: Общая стоимость в базисных ценах, руб. | M24: Затр.тр.раб-х не занятых обслуж.машин
F25: Всего | G25: Экспл. маш. | H25: Мат-ы | I25: Всего | J25: в т.ч. оплата труда | K25: Экспл. маш. | L25: Мат-ы | M25: Обслуж-х машины
F26: оплата труда | G26: в т.ч. оплата труда | K26: в т.ч. оплата труда | M26: на ед-цу | N26: всего
A27: 1 | B27: 2 | C27: 3 | D27: 4 | E27: 5 | F27: 6 | G27: 7 | H27: 8 | I27: 9 | J27: 10 | K27: 11 | L27: 12 | M27: 13 | N27: 14
A28: Раздел 1. ОБОРУДОВАНИЕ ПО ПРАЙСАМ
A29: Цены на оборудование и материалы , отсутствующие в базе см.прайс-листы арх. № 96663 пф
A30: 1 | B30: ЗАО НВП "БОЛИТ" Г. КОРОЛЕВ МОСКОВСКАЯ ОБЛАСТЬ ПРАЙС-ЛИСТ3 кв.2012г. СТР.3 | C30: Аккумулятор необслуживаемый 12 В, емкость 17 А/час DTМ 1217 | D30: КОМП. | E30: 1 | F30: 311,8 1224,82/1,18/3,47 {индекс} | I30: 312
C31: (транспортные расходы (пПЗ=3%); заготовительно складские расходы (пПЗ=1,2%)) Оборудование:
A32: ЦЕНА1224,82/1,18/3,47 {индекс}
A33: 2 | B33: ЗАО НВП "БОЛИТ" Г. КОРОЛЕВ МОСКОВСКАЯ ОБЛАСТЬ ПРАЙС-ЛИСТ3 кв.2012г. СТР.3 | C33: Блок разветвительно-изолирующий БРИЗ | D33: шт | E33: 10 | F33: 75,34 295,94/1,18/3,47 {индекс} | I33: 753
C34: (транспортные расходы (пПЗ=3%); заготовительно складские расходы (пПЗ=1,2%)) Оборудование:
A35: ЦЕНА295,94/1,18/3,47 {индекс}
A36: 3 | B36: ЗАО НВП "БОЛИТ" Г. КОРОЛЕВ МОСКОВСКАЯ ОБЛАСТЬ ПРАЙС-ЛИСТкв.2012г. СТР.2 | C36: Световое табло Молния-12В/24В | D36: КОМП. | E36: 13 | F36: 84 330,00/1,18/3,47 {индекс} | I36: 1092
C37: (транспортные расходы (пПЗ=3%); заготовительно складские расходы (пПЗ=1,2%)) Оборудование:
A38: ЦЕНА330,00/1,18/3,47 {индекс}
A39: ИТОГИ В БАЗИСНЫХ ЦЕНАХ
A40: Итого прямые затраты по разделу в ценах 2001г. | I40: 2157
A41: Итоги по разделу 1 ОБОРУДОВАНИЕ ПО ПРАЙСАМ :
A42: Оборудование:
A43: Итого Поз. 1-3 | I43: 2157
A44: Итого | I44: 2157
A45: Справочно, в ценах 2001г.:
A46: Оборудование | I46: 2157
...

Sheet 02-01-003
A1: СОГЛАСОВАНО: | M1: УТВЕРЖДАЮ:
A3: ______________ | M3: ______________
A4: "___" ___________ 201_ г. | M4: "___" ___________ 201_ г.
E5: ФГУП "Комбинат "Электрохимприбор"
E6: "Монтаж автоматической пожарной сигнализации (АПС) и системы оповещения
E7: и управления эвакуации людей при пожаре (СОУЭ) зданий в/ч 3275"
E8: (наименование стройки)
E10: ЛОКАЛЬНЫЙ СМЕТНЫЙ РАСЧЕТ № 02-01-003 (8849-0-ИОС5СМ2)
E11: (локальная смета)
B13: на | C13: АВТОМАТИЧЕСКУЮ ПОЖАРНУЮ СИГНАЛИЗАЦИЮ (АПС и СОУЭ) ЗДАНИЯ КАЗАРМЫ №3
C16: Основание: Технологические решения 8849-0-ИОС5
C17: Сметная стоимость _______________________________________________________________________________________________ | F17: =I161 -> 75841 | H17: руб.
C18: монтажных работ _______________________________________________________________________________________________ | F18: =I89+I136 -> 70002 | H18: руб.
C19: оборудования _______________________________________________________________________________________________ | F19: =I47+I67 -> 5839 | H19: руб.
C20: Средства на оплату труда _______________________________________________________________________________________________ | F20: =J142 -> 6306 | H20: руб.
C21: Сметная трудоемкость _______________________________________________________________________________________________ | F21: _______________________________________________________________________________________________452,86 | H21: чел.час
C22: Составлена в ценах по состоянию на 01.01.2000 г. в редакции 2009 г.
A24: № пп | B24: Обосно- вание | C24: Наименование работ и затрат | D24: Ед. изм. | E24: Кол. | F24: Стоимость единицы в базисных ценах, руб. | I24: Общая стоимость в базисных ценах, руб. | M24: Затр.тр.раб-х не занятых обслуж.машин
F25: Всего | G25: Экспл. маш. | H25: Мат-ы | I25: Всего | J25: в т.ч. оплата труда | K25: Экспл. маш. | L25: Мат-ы | M25: Обслуж-х машины
F26: оплата труда | G26: в т.ч. оплата труда | K26: в т.ч. оплата труда | M26: на ед-цу | N26: всего
A27: 1 | B27: 2 | C27: 3 | D27: 4 | E27: 5 | F27: 6 | G27: 7 | H27: 8 | I27: 9 | J27: 10 | K27: 11 | L27: 12 | M27: 13 | N27: 14
A28: Раздел 1. ОБОРУДОВАНИЕ ПО ПРАЙСАМ
A29: Цены на оборудование и материалы , отсутствующие в базе см.прайс-листы арх. № 96663 пф
A30: 1 | B30: ЗАО НВП "БОЛИТ" Г. КОРОЛЕВ МОСКОВСКАЯ ОБЛАСТЬ ПРАЙС-ЛИСТ3 кв.2012г. СТР.3 | C30: Аккумулятор необслуживаемый 12 В, емкость 17 А/час DTМ 1217 | D30: КОМП. | E30: 1 | F30: 311,8 1224,82/1,18/3,47 {индекс} | I30: 312
C31: (транспортные расходы (пПЗ=3%); заготовительно складские расходы (пПЗ=1,2%)) Оборудование:
A32: ЦЕНА1224,82/1,18/3,47 {индекс}
A33: 2 | B33: ЗАО НВП "БОЛИТ" Г. КОРОЛЕВ МОСКОВСКАЯ ОБЛАСТЬ ПРАЙС-ЛИСТ3 кв.2012г. СТР.3 | C33: Блок разветвительно-изолирующий БРИЗ | D33: шт | E33: 10 | F33: 75,34 295,94/1,18/3,47 {индекс} | I33: 753
C34: (транспортные расходы (пПЗ=3%); заготовительно складские расходы (пПЗ=1,2%)) Оборудование:
A35: ЦЕНА295,94/1,18/3,47 {индекс}
A36: 3 | B36: ЗАО НВП "БОЛИТ" Г. КОРОЛЕВ МОСКОВСКАЯ ОБЛАСТЬ ПРАЙС-ЛИСТкв.2012г. СТР.2 | C36: Световое табло Молния-12В/24В | D36: КОМП. | E36: 8 | F36: 84 330,00/1,18/3,47 {индекс} | I36: 672
C37: (транспортные расходы (пПЗ=3%); заготовительно складские расходы (пПЗ=1,2%)) Оборудование:
A38: ЦЕНА330,00/1,18/3,47 {индекс}
A39: ИТОГИ В БАЗИСНЫХ ЦЕНАХ
A40: Итого прямые затраты по разделу в ценах 2001г. | I40: 1737
A41: Итоги по разделу 1 ОБОРУДОВАНИЕ ПО ПРАЙСАМ :
A42: Оборудование:
A43: Итого Поз. 1-3 | I43: 1737
A44: Итого | I44: 1737
A45: Справочно, в ценах 2001г.:
A46: Оборудование | I46: 1737
...

Sheet 02-01-004
A1: СОГЛАСОВАНО: | M1: УТВЕРЖДАЮ:
A3: ______________ | M3: ______________
A4: "___" ___________ 201_ г. | M4: "___" ___________ 201_ г.
E5: ФГУП "Комбинат "Электрохимприбор"
E6: "Монтаж автоматической пожарной сигнализации (АПС) и системы оповещения
E7: и управления эвакуации людей при пожаре (СОУЭ) зданий в/ч 3275"
E8: (наименование стройки)
E10: ЛОКАЛЬНЫЙ СМЕТНЫЙ РАСЧЕТ № 02-01-004 (8849-0-ИОС5СМ3)
E11: (локальная смета)
B13: на | C13: АВТОМАТИЧЕСКУЮ ПОЖАРНУЮ СИГНАЛИЗАЦИЮ (АПС и СОУЭ) ЗДАНИЯ КАЗАРМЫ №4
C16: Основание: Технологические решения 8849-0-ИОС5
C17: Сметная стоимость _______________________________________________________________________________________________ | F17: =I165 -> 144800 | H17: руб.
C18: монтажных работ _______________________________________________________________________________________________ | F18: =I91+I140 -> 127733 | H18: руб.
C19: оборудования _______________________________________________________________________________________________ | F19: =I47+I69 -> 17067 | H19: руб.
C20: Средства на оплату труда _______________________________________________________________________________________________ | F20: =J146 -> 17181 | H20: руб.
C21: Сметная трудоемкость _______________________________________________________________________________________________ | F21: _______________________________________________________________________________________________1207,01 | H21: чел.час
C22: Составлена в ценах по состоянию на 01.01.2000 г. в редакции 2009 г.
A24: № пп | B24: Обосно- вание | C24: Наименование работ и затрат | D24: Ед. изм. | E24: Кол. | F24: Стоимость единицы в базисных ценах, руб. | I24: Общая стоимость в базисных ценах, руб. | M24: Затр.тр.раб-х не занятых обслуж.машин
F25: Всего | G25: Экспл. маш. | H25: Мат-ы | I25: Всего | J25: в т.ч. оплата труда | K25: Экспл. маш. | L25: Мат-ы | M25: Обслуж-х машины
F26: оплата труда | G26: в т.ч. оплата труда | K26: в т.ч. оплата труда | M26: на ед-цу | N26: всего
A27: 1 | B27: 2 | C27: 3 | D27: 4 | E27: 5 | F27: 6 | G27: 7 | H27: 8 | I27: 9 | J27: 10 | K27: 11 | L27: 12 | M27: 13 | N27: 14
A28: Раздел 1. ОБОРУДОВАНИЕ ПО ПРАЙСАМ
A29: Цены на оборудование и материалы , отсутствующие в базе см.прайс-листы арх. № 96663 пф
A30: 1 | B30: ЗАО НВП "БОЛИТ" Г. КОРОЛЕВ МОСКОВСКАЯ ОБЛАСТЬ ПРАЙС-ЛИСТ3 кв.2012г. СТР.3 | C30: Аккумулятор необслуживаемый 12 В, емкость 17 А/час DTМ 1217 | D30: КОМП. | E30: 1 | F30: 311,8 1224,82/1,18/3,47 {индекс} | I30: 312
C31: (транспортные расходы (пПЗ=3%); заготовительно складские расходы (пПЗ=1,2%)) Оборудование:
A32: ЦЕНА1224,82/1,18/3,47 {индекс}
A33: 2 | B33: ЗАО НВП "БОЛИТ" Г. КОРОЛЕВ МОСКОВСКАЯ ОБЛАСТЬ ПРАЙС-ЛИСТ3 кв.2012г. СТР.3 | C33: Блок разветвительно-изолирующий БРИЗ | D33: шт | E33: 20 | F33: 75,34 295,94/1,18/3,47 {индекс} | I33: 1507
C34: (транспортные расходы (пПЗ=3%); заготовительно складские расходы (пПЗ=1,2%)) Оборудование:
A35: ЦЕНА295,94/1,18/3,47 {индекс}
A36: 3 | B36: ЗАО НВП "БОЛИТ" Г. КОРОЛЕВ МОСКОВСКАЯ ОБЛАСТЬ ПРАЙС-ЛИСТкв.2012г. СТР.2 | C36: Световое табло Молния-12В/24В | D36: КОМП. | E36: 14 | F36: 84 330,00/1,18/3,47 {индекс} | I36: 1176
C37: (транспортные расходы (пПЗ=3%); заготовительно складские расходы (пПЗ=1,2%)) Оборудование:
A38: ЦЕНА330,00/1,18/3,47 {индекс}
A39: ИТОГИ В БАЗИСНЫХ ЦЕНАХ
A40: Итого прямые затраты по разделу в ценах 2001г. | I40: 2995
A41: Итоги по разделу 1 ОБОРУДОВАНИЕ ПО ПРАЙСАМ :
A42: Оборудование:
A43: Итого Поз. 1-3 | I43: 2995
A44: Итого | I44: 2995
A45: Справочно, в ценах 2001г.:
A46: Оборудование | I46: 2995
...

Sheet 02-01-005
A1: СОГЛАСОВАНО: | M1: УТВЕРЖДАЮ:
A3: ______________ | M3: ______________
A4: "___" ___________ 201_ г. | M4: "___" ___________ 201_ г.
E5: ФГУП "Комбинат "Электрохимприбор"
E6: "Монтаж автоматической пожарной сигнализации (АПС) и системы оповещения
E7: и управления эвакуации людей при пожаре (СОУЭ) зданий в/ч 3275"
E8: (наименование стройки)
E10: ЛОКАЛЬНЫЙ СМЕТНЫЙ РАСЧЕТ № 02-01-005 (8849-0-ИОС5СМ4)
E11: (локальная смета)
B13: на | C13: АВТОМАТИЧЕСКУЮ ПОЖАРНУЮ СИГНАЛИЗАЦИЮ (АПС и СОУЭ) ЗДАНИЕ КАЗАРМЫ ЗАСТАВЫ №2
C16: Основание: Технологические решения 8849-0-ИОС5
C17: Сметная стоимость _______________________________________________________________________________________________ | F17: =I181 -> 45613 | H17: руб.
C18: монтажных работ _______________________________________________________________________________________________ | F18: =I103+I156 -> 37836 | H18: руб.
C19: оборудования _______________________________________________________________________________________________ | F19: =I56+I72 -> 7777 | H19: руб.
C20: Средства на оплату труда _______________________________________________________________________________________________ | F20: =J162 -> 3537 | H20: руб.
C21: Сметная трудоемкость _______________________________________________________________________________________________ | F21: _______________________________________________________________________________________________260 | H21: чел.час
C22: Составлена в ценах по состоянию на 01.01.2000 г. в редакции 2009 г.
A24: № пп | B24: Обосно- вание | C24: Наименование работ и затрат | D24: Ед. изм. | E24: Кол. | F24: Стоимость единицы в базисных ценах, руб. | I24: Общая стоимость в базисных ценах, руб. | M24: Затр.тр.раб-х не занятых обслуж.машин
F25: Всего | G25: Экспл. маш. | H25: Мат-ы | I25: Всего | J25: в т.ч. оплата труда | K25: Экспл. маш. | L25: Мат-ы | M25: Обслуж-х машины
F26: оплата труда | G26: в т.ч. оплата труда | K26: в т.ч. оплата труда | M26: на ед-цу | N26: всего
A27: 1 | B27: 2 | C27: 3 | D27: 4 | E27: 5 | F27: 6 | G27: 7 | H27: 8 | I27: 9 | J27: 10 | K27: 11 | L27: 12 | M27: 13 | N27: 14
A28: Раздел 1. ОБОРУДОВАНИЕ ПО ПРАЙСАМ
A29: Цены на оборудование и материалы , отсутствующие в базе см.прайс-листы арх. № 96663 пф
A30: 1 | B30: ЗАО НВП "БОЛИТ" Г. КОРОЛЕВ МОСКОВСКАЯ ОБЛАСТЬ ПРАЙС-ЛИСТ3 кв.2012г. СТР.3 | C30: Аккумулятор необслуживаемый 12 В, емкость 17 А/час DTМ 1217 | D30: КОМП. | E30: 1 | F30: 311,8 1224,82/1,18/3,47 {индекс} | I30: 312
C31: (транспортные расходы (пПЗ=3%); заготовительно складские расходы (пПЗ=1,2%)) Оборудование:
A32: ЦЕНА1224,82/1,18/3,47 {индекс}
A33: 2 | B33: ЗАО НВП "БОЛИТ" Г. КОРОЛЕВ МОСКОВСКАЯ ОБЛАСТЬ ПРАЙС-ЛИСТ СТР. | C33: Приемно-контрольный прибор Сигнал-20М | D33: КОМП. | E33: 1 | F33: 739,11 2903,37/1,18/3,47 {индекс} | I33: 739
C34: (транспортные расходы (пПЗ=3%); заготовительно складские расходы (пПЗ=1,2%)) Оборудование:
A35: ЦЕНА 2903,37/1,18/3,47 {индекс}
A36: 3 | B36: ЦЕНА ООО "АЛЬТОНИКА" Г. МОСКВА ПРАЙС-ЛИСТ СТР. | C36: ОХРАННЫЙ ПЕРЕДАТЧИК-КОНЦЕНТРАТОР, В КОМПЛЕКТЕ С ШТЫРЕВОЙ АНТЕННОЙ RS-202 TX8 | D36: КОМП. | E36: 1 | F36: 2008,55 7890/1,18/3,47 {индекс} | I36: 2009
C37: (транспортные расходы (пПЗ=3%); заготовительно складские расходы (пПЗ=1,2%)) Оборудование:
A38: ЦЕНА7890/1,18/3,47 {индекс}
A39: 4 | B39: ЦЕНА ООО "АЛЬТОНИКА" Г. МОСКВА ПРАЙС-ЛИСТ СТР. | C39: АНТЕННА ОБЪЕКТОВАЯ, В КОМПЛЕКТЕ С ФИДЕРОМ 3 М АН2-433 | D39: КОМП. | E39: 1 | F39: 252,02 990/1,18/3,47 {индекс} | I39: 252
C40: (транспортные расходы (пПЗ=3%); заготовительно складские расходы (пПЗ=1,2%)) Оборудование:
A41: ЦЕНА 990/1,18/3,47 {индекс}
A42: 5 | B42: ЦЕНА КОМПАНИЯ "СИ-НОРД" Г. САНКТ-ПЕТЕРБУРГ ПРАЙС-ЛИСТ СТР. | C42: МАЧТА АНТЕННАЯ ВЫСОТОЙ 6 М, В КОМПЛЕКТЕ МТ6 | D42: КОМП. | E42: 1 | F42: 1667,17 6549/1,18/3,47 {индекс} | I42: 1667
C43: (транспортные расходы (пПЗ=3%); заготовительно складские расходы (пПЗ=1,2%)) Оборудование:
A44: ЦЕНА 6549/1,18/3,47 {индекс}
A45: 6 | B45: ЗАО НВП "БОЛИТ" Г. КОРОЛЕВ МОСКОВСКАЯ ОБЛАСТЬ ПРАЙС-ЛИСТкв.2012г. СТР.2 | C45: Световое табло Молния-12В/24В | D45: КОМП. | E45: 4 | F45: 84 330,00/1,18/3,47 {индекс} | I45: 336
C46: (транспортные расходы (пПЗ=3%); заготовительно складские расходы (пПЗ=1,2%)) Оборудование:
...

Sheet 02-01-006
A1: СОГЛАСОВАНО: | M1: УТВЕРЖДАЮ:
A3: ______________ | M3: ______________
A4: "___" ___________ 201_ г. | M4: "___" ___________ 201_ г.
E5: ФГУП "Комбинат "Электрохимприбор"
E6: "Монтаж автоматической пожарной сигнализации (АПС) и системы оповещения
E7: и управления эвакуации людей при пожаре (СОУЭ) зданий в/ч 3275"
E8: (наименование стройки)
E10: ЛОКАЛЬНЫЙ СМЕТНЫЙ РАСЧЕТ № 02-01-006 (8849-0-ИОС5СМ5)
E11: (локальная смета)
B13: на | C13: АВТОМАТИЧЕСКУЮ ПОЖАРНУЮ СИГНАЛИЗАЦИЮ (АПС и СОУЭ) ЗДАНИЕ КАЗАРМЫ ЗАСТАВЫ №3
C16: Основание: Технологические решения 8849-0-ИОС5
C17: Сметная стоимость _______________________________________________________________________________________________ | F17: =I174 -> 48147 | H17: руб.
C18: монтажных работ _______________________________________________________________________________________________ | F18: =I96+I149 -> 40127 | H18: руб.
C19: оборудования _______________________________________________________________________________________________ | F19: =I56+I72 -> 8020 | H19: руб.
C20: Средства на оплату труда _______________________________________________________________________________________________ | F20: =J155 -> 3856 | H20: руб.
C21: Сметная трудоемкость _______________________________________________________________________________________________ | F21: _______________________________________________________________________________________________283,52 | H21: чел.час
C22: Составлена в ценах по состоянию на 01.01.2000 г. в редакции 2009 г.
A24: № пп | B24: Обосно- вание | C24: Наименование работ и затрат | D24: Ед. изм. | E24: Кол. | F24: Стоимость единицы в базисных ценах, руб. | I24: Общая стоимость в базисных ценах, руб. | M24: Затр.тр.раб-х не занятых обслуж.машин
F25: Всего | G25: Экспл. маш. | H25: Мат-ы | I25: Всего | J25: в т.ч. оплата труда | K25: Экспл. маш. | L25: Мат-ы | M25: Обслуж-х машины
F26: оплата труда | G26: в т.ч. оплата труда | K26: в т.ч. оплата труда | M26: на ед-цу | N26: всего
A27: 1 | B27: 2 | C27: 3 | D27: 4 | E27: 5 | F27: 6 | G27: 7 | H27: 8 | I27: 9 | J27: 10 | K27: 11 | L27: 12 | M27: 13 | N27: 14
A28: Раздел 1. ОБОРУДОВАНИЕ ПО ПРАЙСАМ
A29: Цены на оборудование и материалы , отсутствующие в базе см.прайс-листы арх. № 96663 пф
A30: 1 | B30: ЗАО НВП "БОЛИТ" Г. КОРОЛЕВ МОСКОВСКАЯ ОБЛАСТЬ ПРАЙС-ЛИСТ3 кв.2012г. СТР.3 | C30: Аккумулятор необслуживаемый 12 В, емкость 17 А/час DTМ 1217 | D30: КОМП. | E30: 1 | F30: 311,8 1224,82/1,18/3,47 {индекс} | I30: 312
C31: (транспортные расходы (пПЗ=3%); заготовительно складские расходы (пПЗ=1,2%)) Оборудование:
A32: ЦЕНА1224,82/1,18/3,47 {индекс}
A33: 2 | B33: ЗАО НВП "БОЛИТ" Г.КОРОЛЕВ МОСКОВСКАЯ ОБЛАСТЬ ПРАЙС- ЛИСТ СТР. | C33: Приемно-контрольный прибор Сигнал-20М | D33: КОМП. | E33: 1 | F33: 739,11 2903,37/1,18/3,47 {индекс} | I33: 739
C34: (транспортные расходы (пПЗ=3%); заготовительно складские расходы (пПЗ=1,2%)) Оборудование:
A35: 3 | B35: ЦЕНА ООО "АЛЬТОНИКА" Г. МОСКВА ПРАЙС-ЛИСТ СТР. | C35: ОХРАННЫЙ ПЕРЕДАТЧИК-КОНЦЕНТРАТОР, В КОМПЛЕКТЕ С ШТЫРЕВОЙ АНТЕННОЙ RS-202 TX8 | D35: КОМП. | E35: 1 | F35: 2008,55 7890/1,18/3,47 {индекс} | I35: 2009
C36: (транспортные расходы (пПЗ=3%); заготовительно складские расходы (пПЗ=1,2%)) Оборудование:
A37: ЦЕНА 2903,37/1,18/3,47 {индекс}
A38: ЦЕНА7890/1,18/3,47 {индекс}
A39: 4 | B39: ЦЕНА ООО "АЛЬТОНИКА" Г. МОСКВА ПРАЙС-ЛИСТ СТР. | C39: АНТЕННА ОБЪЕКТОВАЯ, В КОМПЛЕКТЕ С ФИДЕРОМ 3 М АН2-433 | D39: КОМП. | E39: 1 | F39: 252,02 990/1,18/3,47 {индекс} | I39: 252
C40: (транспортные расходы (пПЗ=3%); заготовительно складские расходы (пПЗ=1,2%)) Оборудование:
A41: ЦЕНА 990/1,18/3,47 {индекс}
A42: 5 | B42: ЦЕНА КОМПАНИЯ "СИ-НОРД" Г. САНКТ-ПЕТЕРБУРГ ПРАЙС-ЛИСТ СТР. | C42: МАЧТА АНТЕННАЯ ВЫСОТОЙ 6 М, В КОМПЛЕКТЕ МТ6 | D42: КОМП. | E42: 1 | F42: 1667,17 6549/1,18/3,47 {индекс} | I42: 1667
C43: (транспортные расходы (пПЗ=3%); заготовительно складские расходы (пПЗ=1,2%)) Оборудование:
A44: ЦЕНА 6549/1,18/3,47 {индекс}
A45: 6 | B45: ЗАО НВП "БОЛИТ" Г. КОРОЛЕВ МОСКОВСКАЯ ОБЛАСТЬ ПРАЙС-ЛИСТкв.2012г. СТР.2 | C45: Световое табло Молния-12В/24В | D45: КОМП. | E45: 6 | F45: 84 330,00/1,18/3,47 {индекс} | I45: 504
C46: (транспортные расходы (пПЗ=3%); заготовительно складские расходы (пПЗ=1,2%)) Оборудование:
...

Sheet 02-01-007
A1: СОГЛАСОВАНО: | M1: УТВЕРЖДАЮ:
A3: ______________ | M3: ______________
A4: "___" ___________ 201_ г. | M4: "___" ___________ 201_ г.
E5: ФГУП "Комбинат "Электрохимприбор"
E6: "Монтаж автоматической пожарной сигнализации (АПС) и системы оповещения
E7: и управления эвакуации людей при пожаре (СОУЭ) зданий в/ч 3275"
E8: (наименование стройки)
E10: ЛОКАЛЬНЫЙ СМЕТНЫЙ РАСЧЕТ № 02-01-007 (8849-0-ИОС5СМ6)
E11: (локальная смета)
B13: на | C13: АВТОМАТИЧЕСКУЮ ПОЖАРНУЮ СИГНАЛИЗАЦИЮ (АПС и СОУЭ )ЗДАНИЕ КАЗАРМЫ ЗАСТАВЫ №4
C16: Основание: Технологические решения 8849-0-ИОС5
C17: Сметная стоимость _______________________________________________________________________________________________ | F17: =I174 -> 47449 | H17: руб.
C18: монтажных работ _______________________________________________________________________________________________ | F18: =I96+I149 -> 39446 | H18: руб.
C19: оборудования _______________________________________________________________________________________________ | F19: =I56+I72 -> 8003 | H19: руб.
C20: Средства на оплату труда _______________________________________________________________________________________________ | F20: =J155 -> 3770 | H20: руб.
C21: Сметная трудоемкость _______________________________________________________________________________________________ | F21: _______________________________________________________________________________________________277,14 | H21: чел.час
C22: Составлена в ценах по состоянию на 01.01.2000 г. в редакции 2009 г.
A24: № пп | B24: Обосно- вание | C24: Наименование работ и затрат | D24: Ед. изм. | E24: Кол. | F24: Стоимость единицы в базисных ценах, руб. | I24: Общая стоимость в базисных ценах, руб. | M24: Затр.тр.раб-х не занятых обслуж.машин
F25: Всего | G25: Экспл. маш. | H25: Мат-ы | I25: Всего | J25: в т.ч. оплата труда | K25: Экспл. маш. | L25: Мат-ы | M25: Обслуж-х машины
F26: оплата труда | G26: в т.ч. оплата труда | K26: в т.ч. оплата труда | M26: на ед-цу | N26: всего
A27: 1 | B27: 2 | C27: 3 | D27: 4 | E27: 5 | F27: 6 | G27: 7 | H27: 8 | I27: 9 | J27: 10 | K27: 11 | L27: 12 | M27: 13 | N27: 14
A28: Раздел 1. ОБОРУДОВАНИЕ ПО ПРАЙСАМ
A29: Цены на оборудование и материалы , отсутствующие в базе см.прайс-листы арх. № 96663 пф
A30: 1 | B30: ЗАО НВП "БОЛИТ" Г. КОРОЛЕВ МОСКОВСКАЯ ОБЛАСТЬ ПРАЙС- ЛИСТ3 кв.2012г. СТР.3 | C30: Аккумулятор необслуживаемый 12 В, емкость 17 А/час DTМ 1217 | D30: КОМП. | E30: 1 | F30: 311,8 1224,82/1,18/3,47 {индекс} | I30: 312
C31: (транспортные расходы (пПЗ=3%); заготовительно складские расходы (пПЗ=1,2%)) Оборудование:
A32: ЦЕНА1224,82/1,18/3,47 {индекс}
A33: 2 | B33: ЗАО НВП "БОЛИТ" Г. КОРОЛЕВ МОСКОВСКАЯ ОБЛАСТЬ ПРАЙС-ЛИСТ СТР. | C33: Приемно-контрольный прибор Сигнал-20М | D33: КОМП. | E33: 1 | F33: 739,11 2903,37/1,18/3,47 {индекс} | I33: 739
C34: (транспортные расходы (пПЗ=3%); заготовительно складские расходы (пПЗ=1,2%)) Оборудование:
A35: ЦЕНА 2903,37/1,18/3,47 {индекс}
A36: 3 | B36: ЦЕНА ООО "АЛЬТОНИКА" Г. МОСКВА ПРАЙС-ЛИСТ СТР. | C36: ОХРАННЫЙ ПЕРЕДАТЧИК-КОНЦЕНТРАТОР, В КОМПЛЕКТЕ С ШТЫРЕВОЙ АНТЕННОЙ RS-202 TX8 | D36: КОМП. | E36: 1 | F36: 2008,55 7890/1,18/3,47 {индекс} | I36: 2009
C37: (транспортные расходы (пПЗ=3%); заготовительно складские расходы (пПЗ=1,2%)) Оборудование:
A38: ЦЕНА7890/1,18/3,47 {индекс}
A39: 4 | B39: ЦЕНА ООО "АЛЬТОНИКА" Г. МОСКВА ПРАЙС-ЛИСТ СТР. | C39: АНТЕННА ОБЪЕКТОВАЯ, В КОМПЛЕКТЕ С ФИДЕРОМ 3 М АН2-433 | D39: КОМП. | E39: 1 | F39: 252,02 990/1,18/3,47 {индекс} | I39: 252
C40: (транспортные расходы (пПЗ=3%); заготовительно складские расходы (пПЗ=1,2%)) Оборудование:
A41: ЦЕНА 990/1,18/3,47 {индекс}
A42: 5 | B42: ЦЕНА КОМПАНИЯ "СИ-НОРД" Г. САНКТ-ПЕТЕРБУРГ ПРАЙС-ЛИСТ СТР. | C42: МАЧТА АНТЕННАЯ ВЫСОТОЙ 6 М, В КОМПЛЕКТЕ МТ6 | D42: КОМП. | E42: 1 | F42: 1667,17 6549/1,18/3,47 {индекс} | I42: 1667
C43: (транспортные расходы (пПЗ=3%); заготовительно складские расходы (пПЗ=1,2%)) Оборудование:
A44: ЦЕНА 6549/1,18/3,47 {индекс}
A45: 6 | B45: ЗАО НВП "БОЛИТ" Г. КОРОЛЕВ МОСКОВСКАЯ ОБЛАСТЬ ПРАЙС-ЛИСТкв.2012г. СТР.2 | C45: Световое табло Молния-12В/24В | D45: КОМП. | E45: 4 | F45: 84 330,00/1,18/3,47 {индекс} | I45: 336
C46: (транспортные расходы (пПЗ=3%); заготовительно складские расходы (пПЗ=1,2%)) Оборудование:
...

Sheet 02-01-008
A1: СОГЛАСОВАНО: | M1: УТВЕРЖДАЮ:
A3: ______________ | M3: ______________
A4: "___" ___________ 201_ г. | M4: "___" ___________ 201_ г.
E5: ФГУП "Комбинат "Электрохимприбор"
E6: "Монтаж автоматической пожарной сигнализации (АПС) и системы оповещения
E7: и управления эвакуации людей при пожаре (СОУЭ) зданий в/ч 3275"
E8: (наименование стройки)
E10: ЛОКАЛЬНЫЙ СМЕТНЫЙ РАСЧЕТ № 02-01-008 (8849-0-ИОС5СМ7)
E11: (локальная смета)
B13: на | C13: АВТОМАТИЧЕСКУЮ ПОЖАРНУЮ СИГНАЛИЗАЦИЮ (АПС и СОУЭ) ЗДАНИЕ КАЗАРМЫ ЗАСТАВЫ №5
C16: Основание: Технологические решения 8849-0-ИОС5
C17: Сметная стоимость _______________________________________________________________________________________________ | F17: =I175 -> 48461 | H17: руб.
C18: монтажных работ _______________________________________________________________________________________________ | F18: =I96+I149 -> 40282 | H18: руб.
C19: оборудования _______________________________________________________________________________________________ | F19: =I56+I72 -> 8179 | H19: руб.
C20: Средства на оплату труда _______________________________________________________________________________________________ | F20: =J156 -> 3788 | H20: руб.
C21: Сметная трудоемкость _______________________________________________________________________________________________ | F21: _______________________________________________________________________________________________278,48 | H21: чел.час
C22: Составлена в ценах по состоянию на 01.01.2000 г. в редакции 2009 г.
A24: № пп | B24: Обосно- вание | C24: Наименование работ и затрат | D24: Ед. изм. | E24: Кол. | F24: Стоимость единицы в базисных ценах, руб. | I24: Общая стоимость в базисных ценах, руб. | M24: Затр.тр.раб-х не занятых обслуж.машин
F25: Всего | G25: Экспл. маш. | H25: Мат-ы | I25: Всего | J25: в т.ч. оплата труда | K25: Экспл. маш. | L25: Мат-ы | M25: Обслуж-х машины
F26: оплата труда | G26: в т.ч. оплата труда | K26: в т.ч. оплата труда | M26: на ед-цу | N26: всего
A27: 1 | B27: 2 | C27: 3 | D27: 4 | E27: 5 | F27: 6 | G27: 7 | H27: 8 | I27: 9 | J27: 10 | K27: 11 | L27: 12 | M27: 13 | N27: 14
A28: Раздел 1. ОБОРУДОВАНИЕ ПО ПРАЙСАМ
A29: Цены на оборудование и материалы , отсутствующие в базе см.прайс-листы арх. № 96663 пф
A30: 1 | B30: ЗАО НВП "БОЛИТ" Г. КОРОЛЕВ МОСКОВСКАЯ ОБЛАСТЬ ПРАЙС-ЛИСТ3 кв.2012г. СТР.3 | C30: Аккумулятор необслуживаемый 12 В, емкость 17 А/час DTМ 1217 | D30: КОМП. | E30: 1 | F30: 311,8 1224,82/1,18/3,47 {индекс} | I30: 312
C31: (транспортные расходы (пПЗ=3%); заготовительно складские расходы (пПЗ=1,2%)) Оборудование:
A32: ЦЕНА1224,82/1,18/3,47 {индекс}
A33: 2 | B33: ЗАО НВП "БОЛИТ" Г. КОРОЛЕВ МОСКОВСКАЯ ОБЛАСТЬ ПРАЙС-ЛИСТ СТР. | C33: Приемно-контрольный прибор Сигнал-20М | D33: КОМП. | E33: 1 | F33: 739,11 2903,37/1,18/3,47 {индекс} | I33: 739
C34: (транспортные расходы (пПЗ=3%); заготовительно складские расходы (пПЗ=1,2%)) Оборудование:
A35: ЦЕНА 2903,37/1,18/3,47 {индекс}
A36: 3 | B36: ЦЕНА ООО "АЛЬТОНИКА" Г. МОСКВА ПРАЙС-ЛИСТ СТР. | C36: ОХРАННЫЙ ПЕРЕДАТЧИК-КОНЦЕНТРАТОР, В КОМПЛЕКТЕ С ШТЫРЕВОЙ АНТЕННОЙ RS-202 TX8 | D36: КОМП. | E36: 1 | F36: 2008,55 7890/1,18/3,47 {индекс} | I36: 2009
C37: (транспортные расходы (пПЗ=3%); заготовительно складские расходы (пПЗ=1,2%)) Оборудование:
A38: ЦЕНА7890/1,18/3,47 {индекс}
A39: 4 | B39: ЦЕНА ООО "АЛЬТОНИКА" Г. МОСКВА ПРАЙС-ЛИСТ СТР. | C39: АНТЕННА ОБЪЕКТОВАЯ, В КОМПЛЕКТЕ С ФИДЕРОМ 3 М АН2-433 | D39: КОМП. | E39: 1 | F39: 252,02 990/1,18/3,47 {индекс} | I39: 252
C40: (транспортные расходы (пПЗ=3%); заготовительно складские расходы (пПЗ=1,2%)) Оборудование:
A41: ЦЕНА 990/1,18/3,47 {индекс}
A42: 5 | B42: ЦЕНА КОМПАНИЯ "СИ-НОРД" Г. САНКТ-ПЕТЕРБУРГ ПРАЙС-ЛИСТ СТР. | C42: МАЧТА АНТЕННАЯ ВЫСОТОЙ 6 М, В КОМПЛЕКТЕ МТ6 | D42: КОМП. | E42: 1 | F42: 1667,17 6549/1,18/3,47 {индекс} | I42: 1667
C43: (транспортные расходы (пПЗ=3%); заготовительно складские расходы (пПЗ=1,2%)) Оборудование:
A44: ЦЕНА 6549/1,18/3,47 {индекс}
A45: 6 | B45: ЗАО НВП "БОЛИТ" Г. КОРОЛЕВ МОСКОВСКАЯ ОБЛАСТЬ ПРАЙС-ЛИСТкв.2012г. СТР.2 | C45: Световое табло Молния-12В/24В | D45: КОМП. | E45: 7 | F45: 84 330,00/1,18/3,47 {индекс} | I45: 588
C46: (транспортные расходы (пПЗ=3%); заготовительно складские расходы (пПЗ=1,2%)) Оборудование:
...

Sheet 02-01-009
A1: СОГЛАСОВАНО: | M1: УТВЕРЖДАЮ:
A3: ______________ | M3: ______________
A4: "___" ___________ 201_ г. | M4: "___" ___________ 201_ г.
E5: ФГУП "Комбинат "Электрохимприбор"
E6: "Монтаж автоматической пожарной сигнализации (АПС) и системы оповещения
E7: и управления эвакуации людей при пожаре (СОУЭ) зданий в/ч 3275"
E8: (наименование стройки)
E10: ЛОКАЛЬНЫЙ СМЕТНЫЙ РАСЧЕТ № 02-01-009 (8849-0-ИОС5СМ8)
E11: (локальная смета)
B13: на | C13: АВТОМАТИЧЕСКУЮ ПОЖАРНУЮ СИГНАЛИЗАЦИЮ (АПС и СОУЭ )ЗДАНИЕ КАЗАРМЫ ЗАСТАВЫ №6
C16: Основание: Технологические решения 8849-0-ИОС5
C17: Сметная стоимость _______________________________________________________________________________________________ | F17: =I174 -> 48749 | H17: руб.
C18: монтажных работ _______________________________________________________________________________________________ | F18: =I96+I149 -> 40654 | H18: руб.
C19: оборудования _______________________________________________________________________________________________ | F19: =I56+I72 -> 8095 | H19: руб.
C20: Средства на оплату труда _______________________________________________________________________________________________ | F20: =J155 -> 3826 | H20: руб.
C21: Сметная трудоемкость _______________________________________________________________________________________________ | F21: _______________________________________________________________________________________________281,34 | H21: чел.час
C22: Составлена в ценах по состоянию на 01.01.2000 г. в редакции 2009 г.
A24: № пп | B24: Обосно- вание | C24: Наименование работ и затрат | D24: Ед. изм. | E24: Кол. | F24: Стоимость единицы в базисных ценах, руб. | I24: Общая стоимость в базисных ценах, руб. | M24: Затр.тр.раб-х не занятых обслуж.машин
F25: Всего | G25: Экспл. маш. | H25: Мат-ы | I25: Всего | J25: в т.ч. оплата труда | K25: Экспл. маш. | L25: Мат-ы | M25: Обслуж-х машины
F26: оплата труда | G26: в т.ч. оплата труда | K26: в т.ч. оплата труда | M26: на ед-цу | N26: всего
A27: 1 | B27: 2 | C27: 3 | D27: 4 | E27: 5 | F27: 6 | G27: 7 | H27: 8 | I27: 9 | J27: 10 | K27: 11 | L27: 12 | M27: 13 | N27: 14
A28: Раздел 1. ОБОРУДОВАНИЕ ПО ПРАЙСАМ
A29: Цены на оборудование и материалы , отсутствующие в базе см.прайс-листы арх. № 96663 пф
A30: 1 | B30: ЗАО НВП "БОЛИТ" Г. КОРОЛЕВ МОСКОВСКАЯ ОБЛАСТЬ ПРАЙС-ЛИСТ3 кв.2012г. СТР.3 | C30: Аккумулятор необслуживаемый 12 В, емкость 17 А/час DTМ 1217 | D30: КОМП. | E30: 1 | F30: 311,8 1224,82/1,18/3,47 {индекс} | I30: 312
C31: (транспортные расходы (пПЗ=3%); заготовительно складские расходы (пПЗ=1,2%)) Оборудование:
A32: ЦЕНА1224,82/1,18/3,47 {индекс}
A33: 2 | B33: ЗАО НВП "БОЛИТ" Г. КОРОЛЕВ МОСКОВСКАЯ ОБЛАСТЬ ПРАЙС-ЛИСТ СТР. | C33: Приемно-контрольный прибор Сигнал-20М | D33: КОМП. | E33: 1 | F33: 739,11 2903,37/1,18/3,47 {индекс} | I33: 739
C34: (транспортные расходы (пПЗ=3%); заготовительно складские расходы (пПЗ=1,2%)) Оборудование:
A35: ЦЕНА 2903,37/1,18/3,47 {индекс}
A36: 3 | B36: ЦЕНА ООО "АЛЬТОНИКА" Г. МОСКВА ПРАЙС-ЛИСТ СТР. | C36: ОХРАННЫЙ ПЕРЕДАТЧИК-КОНЦЕНТРАТОР, В КОМПЛЕКТЕ С ШТЫРЕВОЙ АНТЕННОЙ RS-202 TX8 | D36: КОМП. | E36: 1 | F36: 2008,55 7890/1,18/3,47 {индекс} | I36: 2009
C37: (транспортные расходы (пПЗ=3%); заготовительно складские расходы (пПЗ=1,2%)) Оборудование:
A38: ЦЕНА7890/1,18/3,47 {индекс}
A39: 4 | B39: ЦЕНА ООО "АЛЬТОНИКА" Г. МОСКВА ПРАЙС-ЛИСТ СТР. | C39: АНТЕННА ОБЪЕКТОВАЯ, В КОМПЛЕКТЕ С ФИДЕРОМ 3 М АН2-433 | D39: КОМП. | E39: 1 | F39: 252,02 990/1,18/3,47 {индекс} | I39: 252
C40: (транспортные расходы (пПЗ=3%); заготовительно складские расходы (пПЗ=1,2%)) Оборудование:
A41: ЦЕНА 990/1,18/3,47 {индекс}
A42: 5 | B42: ЦЕНА КОМПАНИЯ "СИ-НОРД" Г. САНКТ-ПЕТЕРБУРГ ПРАЙС-ЛИСТ СТР. | C42: МАЧТА АНТЕННАЯ ВЫСОТОЙ 6 М, В КОМПЛЕКТЕ МТ6 | D42: КОМП. | E42: 1 | F42: 1667,17 6549/1,18/3,47 {индекс} | I42: 1667
C43: (транспортные расходы (пПЗ=3%); заготовительно складские расходы (пПЗ=1,2%)) Оборудование:
A44: ЦЕНА 6549/1,18/3,47 {индекс}
A45: 6 | B45: ЗАО НВП "БОЛИТ" Г. КОРОЛЕВ МОСКОВСКАЯ ОБЛАСТЬ ПРАЙС-ЛИСТкв.2012г. СТР.2 | C45: Световое табло Молния-12В/24В | D45: КОМП. | E45: 6 | F45: 84 330,00/1,18/3,47 {индекс} | I45: 504
C46: (транспортные расходы (пПЗ=3%); заготовительно складские расходы (пПЗ=1,2%)) Оборудование:
...

Sheet 02-01-010
A1: СОГЛАСОВАНО: | M1: УТВЕРЖДАЮ:
A4: ______________ | M4: ______________
A5: "___" ___________ 201_ г. | M5: "___" ___________ 201_ г.
E6: ФГУП "Комбинат "Электрохимприбор"
E7: "Монтаж автоматической пожарной сигнализации (АПС) и системы оповещения
E8: и управления эвакуации людей при пожаре (СОУЭ) зданий в/ч 3275"
E9: (наименование стройки)
E11: ЛОКАЛЬНЫЙ СМЕТНЫЙ РАСЧЕТ № 02-01-010 (8849-0-ИОС5СМ9)
E12: (локальная смета)
B14: на | C14: АВТОМАТИЧЕСКАЯ ПОЖАРНУЮ СИГНАЛИЗАЦИЮ (АПС и СОУЭ) ЦЕНТРАЛЬНОЙ ВАХТЫ (КПП-1)
C17: Основание: Технологические решения 8849-0-ИОС5
C18: Сметная стоимость _______________________________________________________________________________________________ | F18: =I177 -> 64692 | H18: руб.
C19: монтажных работ _______________________________________________________________________________________________ | F19: =I97+I152 -> 53715 | H19: руб.
C20: оборудования _______________________________________________________________________________________________ | F20: =I57+I75 -> 10977 | H20: руб.
C21: Средства на оплату труда _______________________________________________________________________________________________ | F21: =J158 -> 4993 | H21: руб.
C22: Сметная трудоемкость _______________________________________________________________________________________________ | F22: _______________________________________________________________________________________________359,39 | H22: чел.час
C23: Составлена в ценах по состоянию на 01.01.2000 г. в редакции 2009 г.
A25: № пп | B25: Обосно- вание | C25: Наименование работ и затрат | D25: Ед. изм. | E25: Кол. | F25: Стоимость единицы в базисных ценах, руб. | I25: Общая стоимость в базисных ценах, руб. | M25: Затр.тр.раб-х не занятых обслуж.машин
F26: Всего | G26: Экспл. маш. | H26: Мат-ы | I26: Всего | J26: в т.ч. оплата труда | K26: Экспл. маш. | L26: Мат-ы | M26: Обслуж-х машины
F27: оплата труда | G27: в т.ч. оплата труда | K27: в т.ч. оплата труда | M27: на ед-цу | N27: всего
A28: 1 | B28: 2 | C28: 3 | D28: 4 | E28: 5 | F28: 6 | G28: 7 | H28: 8 | I28: 9 | J28: 10 | K28: 11 | L28: 12 | M28: 13 | N28: 14
A29: Раздел 1. ОБОРУДОВАНИЕ ПО ПРАЙСАМ
A30: Цены на оборудование и материалы , отсутствующие в базе см.прайс-листы арх. № 96663 пф
A31: 1 | B31: ЗАО НВП "БОЛИТ" Г. КОРОЛЕВ МОСКОВСКАЯ ОБЛАСТЬ ПРАЙС-ЛИСТ3 кв.2012г. СТР.3 | C31: Аккумулятор необслуживаемый 12 В, емкость 17 А/час DTМ 1217 | D31: КОМП. | E31: 1 | F31: 311,8 1224,82/1,18/3,47 {индекс} | I31: 312
C32: (транспортные расходы (пПЗ=3%); заготовительно складские расходы (пПЗ=1,2%)) Оборудование:
A33: ЦЕНА1224,82/1,18/3,47 {индекс}
A34: 2 | B34: ЗАО НВП "БОЛИТ" Г. КОРОЛЕВ МОСКОВСКАЯ ОБЛАСТЬ ПРАЙС-ЛИСТ3 кв.2012г. СТР.3 | C34: Блок разветвительно-изолирующий БРИЗ | D34: шт | E34: 6 | F34: 75,34 295,94/1,18/3,47 {индекс} | I34: 452
C35: (транспортные расходы (пПЗ=3%); заготовительно складские расходы (пПЗ=1,2%)) Оборудование:
A36: ЦЕНА295,94/1,18/3,47 {индекс}
A37: 3 | B37: ЗАО НВП "БОЛИТ" Г. КОРОЛЕВ МОСКОВСКАЯ ОБЛАСТЬ ПРАЙС-ЛИСТкв.2012г. СТР.2 | C37: Световое табло Молния-12В/24В | D37: КОМП. | E37: 12 | F37: 84 330,00/1,18/3,47 {индекс} | I37: 1008
C38: (транспортные расходы (пПЗ=3%); заготовительно складские расходы (пПЗ=1,2%)) Оборудование:
A39: ЦЕНА330,00/1,18/3,47 {индекс}
A40: 4 | B40: ЦЕНА ООО "АЛЬТОНИКА" Г. МОСКВА ПРАЙС-ЛИСТ СТР. | C40: ОХРАННЫЙ ПЕРЕДАТЧИК-КОНЦЕНТРАТОР, В КОМПЛЕКТЕ С ШТЫРЕВОЙ АНТЕННОЙ RS-202 TX8 | D40: КОМП. | E40: 1 | F40: 2008,55 7890/1,18/3,47 {индекс} | I40: 2009
C41: (транспортные расходы (пПЗ=3%); заготовительно складские расходы (пПЗ=1,2%)) Оборудование:
A42: ЦЕНА7890/1,18/3,47 {индекс}
A43: 5 | B43: ЦЕНА ООО "АЛЬТОНИКА" Г. МОСКВА ПРАЙС-ЛИСТ СТР. | C43: АНТЕННА ОБЪЕКТОВАЯ, В КОМПЛЕКТЕ С ФИДЕРОМ 3 М АН2-433 | D43: КОМП. | E43: 1 | F43: 252,02 990/1,18/3,47 {индекс} | I43: 252
C44: (транспортные расходы (пПЗ=3%); заготовительно складские расходы (пПЗ=1,2%)) Оборудование:
A45: ЦЕНА 990/1,18/3,47 {индекс}
A46: 6 | B46: ЦЕНА КОМПАНИЯ "СИ-НОРД" Г. САНКТ-ПЕТЕРБУРГ ПРАЙС-ЛИСТ СТР. | C46: МАЧТА АНТЕННАЯ ВЫСОТОЙ 6 М, В КОМПЛЕКТЕ МТ6 | D46: КОМП. | E46: 1 | F46: 1667,17 6549/1,18/3,47 {индекс} | I46: 1667
C47: (транспортные расходы (пПЗ=3%); заготовительно складские расходы (пПЗ=1,2%)) Оборудование:
...

Sheet 02-01-011
A1: СОГЛАСОВАНО: | M1: УТВЕРЖДАЮ:
A4: ______________ | M4: ______________
A5: "___" ___________ 201_ г. | M5: "___" ___________ 201_ г.
E6: ФГУП "Комбинат "Электрохимприбор"
E7: "Монтаж автоматической пожарной сигнализации (АПС) и системы оповещения
E8: и управления эвакуации людей при пожаре (СОУЭ) зданий в/ч 3275"
E9: (наименование стройки)
E11: ЛОКАЛЬНЫЙ СМЕТНЫЙ РАСЧЕТ № 02-01-011 (8849-0-ИОС5СМ10)
E12: (локальная смета)
B14: на | C14: АВТОМАТИЧЕСКУЮ ПОЖАРНУЮ СИГНАЛИЗАЦИЮ (АПС и СОУ) ЗДАНИЕ ПОЖАРНОЙ ЧАСТИ (СПЧ-5)
C17: Основание: Техногогические решения 8849-0-ИОС5
C18: Сметная стоимость _______________________________________________________________________________________________ | F18: =I181 -> 56435 | H18: руб.
C19: монтажных работ _______________________________________________________________________________________________ | F19: =I94+I108+I155 -> 8434 | H19: руб.
C20: оборудования _______________________________________________________________________________________________ | F20: =I66+I78 -> 48001 | H20: руб.
C21: Средства на оплату труда _______________________________________________________________________________________________ | F21: =J161 -> 1712 | H21: руб.
C22: Сметная трудоемкость _______________________________________________________________________________________________ | F22: _______________________________________________________________________________________________123,48 | H22: чел.час
C23: Составлена в ценах по состоянию на 01.01.2000 г. в редакции 2009 г.
A25: № пп | B25: Обосно- вание | C25: Наименование работ и затрат | D25: Ед. изм. | E25: Кол. | F25: Стоимость единицы в базисных ценах, руб. | I25: Общая стоимость в базисных ценах, руб. | M25: Затр.тр.раб-х не занятых обслуж.машин
F26: Всего | G26: Экспл. маш. | H26: Мат-ы | I26: Всего | J26: в т.ч. оплата труда | K26: Экспл. маш. | L26: Мат-ы | M26: Обслуж-х машины
F27: оплата труда | G27: в т.ч. оплата труда | K27: в т.ч. оплата труда | M27: на ед-цу | N27: всего
A28: 1 | B28: 2 | C28: 3 | D28: 4 | E28: 5 | F28: 6 | G28: 7 | H28: 8 | I28: 9 | J28: 10 | K28: 11 | L28: 12 | M28: 13 | N28: 14
A29: Раздел 1. ОБОРУДОВАНИЕ ПО ПРАЙСАМ
A30: Цены на оборудование и материалы , отсутствующие в базе см.прайс-листы арх. №96663 пф
A31: 1 | B31: ЦЕНА ООО "АЛЬТОНИКА" Г. МОСКВА ПРАЙС-ЛИСТ 3 КВ.СТР.7 | C31: БАЗОВАЯ ПРИЕМНАЯ СТАНЦИЯ RS-202BS-FS | D31: КОМП. | E31: 1 | F31: 17903,87 70330/1,18/3,47 {индекс} | I31: 17904
C32: (транспортные расходы 3% (пПЗ=3%); заготовительно складские расходы 1,2% (пПЗ=1,2%)) Оборудование:
A33: ЦЕНА70330/1,18/3,47 {индекс}
A34: 2 | B34: ЦЕНА ООО "АЛЬТОНИКА" Г. МОСКВА ПРАЙС-ЛИСТ 3 КВ.СТР.7 | C34: Программатор RS 202 PRG для программирования частотных литер передатчиков и шлейфов ОПС передатчика_x000D_ RS-202 | D34: КОМП. | E34: 1 | F34: 725,52 2850/1,18/3,47 {индекс} | I34: 726
C35: (транспортные расходы 3% (пПЗ=3%); заготовительно складские расходы 1,2% (пПЗ=1,2%)) Оборудование:
A36: ЦЕНА2850/1,18/3,47 {индекс}
A37: 3 | B37: ЦЕНА ООО "АЛЬТОНИКА" Г. МОСКВА ПРАЙС-ЛИСТ 3 КВ.СТР.7 | C37: ПУЛЬТ ЦЕНТРАЛИЗОВАННОГО НАБЛЮДЕНИЯ ( ПЦН) RS-202РN | D37: КОМП. | E37: 1 | F37: 7927,29 31140/1,18/3,47 {индекс} | I37: 7927
C38: (транспортные расходы 3% (пПЗ=3%); заготовительно складские расходы 1,2% (пПЗ=1,2%)) Оборудование:
A39: ЦЕНА 31140/1,18/3,47 {индекс}
A40: 4 | B40: ЦЕНА ООО "АЛЬТОНИКА" Г. МОСКВА ПРАЙС-ЛИСТ 3 КВ.СТР.7 | C40: Подантенный приемный усилитель 20 dB RS-202AU-B | D40: КОМП. | E40: 1 | F40: 1102,29 4330/1,18/3,47 {индекс} | I40: 1102
C41: (транспортные расходы 3% (пПЗ=3%); заготовительно складские расходы 1,2% (пПЗ=1,2%)) Оборудование:
A42: ЦЕНА 4330/1,18/3,47 {индекс}
A43: 5 | B43: ЦЕНА ООО "АЛЬТОНИКА" Г. МОСКВА ПРАЙС-ЛИСТ 3 КВ.СТР.7 | C43: Приемная базовая антенна SIRIO SPO 420-8 | D43: КОМП. | E43: 1 | F43: 3569,06 14020/1,18/3,47 {индекс} | I43: 3569
C44: (транспортные расходы 3% (пПЗ=3%); заготовительно складские расходы 1,2% (пПЗ=1,2%)) Оборудование:
A45: ЦЕНА 14020/1,18/3,47 {индекс}
A46: 6 | B46: ЦЕНА КОМПАНИЯ "СИ-НОРД" Г. САНКТ-ПЕТЕРБУРГ ПРАЙС-ЛИСТ СТР.11 | C46: МАЧТА АНТЕННАЯ ВЫСОТОЙ 6 М, В КОМПЛЕКТЕ МТ6 | D46: КОМП. | E46: 1 | F46: 1667,17 6549/1,18/3,47 {индекс} | I46: 1667
C47: (транспортные расходы 3% (пПЗ=3%); заготовительно складские расходы 1,2% (пПЗ=1,2%)) Оборудование:
...

Sheet 02-01-012
A1: СОГЛАСОВАНО: | M1: УТВЕРЖДАЮ:
A4: ______________ | M4: ______________
A5: "___" ___________ 201_ г. | M5: "___" ___________ 201_ г.
E6: ФГУП "Комбинат "Электрохимприбор"
E7: "Монтаж автоматической пожарной сигнализации (АПС) и системы оповещения
E8: и управления эвакуации людей при пожаре (СОУЭ) зданий в/ч 3275"
E9: (наименование стройки)
E11: ЛОКАЛЬНЫЙ СМЕТНЫЙ РАСЧЕТ № 02-01-012 (8849-0-ИОС5СМ11)
E12: (локальная смета)
B14: на | C14: АВТОМАТИЧЕСКУЮ ПОЖАРНУЮ СИГНАЛИЗАЦИЮ (АПС и СОУ) ЗДАНИЕ ШТАБА
C17: Основание: Технологические решения 8849-0-ИОС5
C18: Сметная стоимость _______________________________________________________________________________________________ | F18: =I179 -> 119030 | H18: руб.
C19: монтажных работ _______________________________________________________________________________________________ | F19: =I101+I154 -> 105831 | H19: руб.
C20: оборудования _______________________________________________________________________________________________ | F20: =I57+I79 -> 13199 | H20: руб.
C21: Средства на оплату труда _______________________________________________________________________________________________ | F21: =J160 -> 8843 | H21: руб.
C22: Сметная трудоемкость _______________________________________________________________________________________________ | F22: _______________________________________________________________________________________________647,98 | H22: чел.час
C23: Составлена в ценах по состоянию на 01.01.2000 г. в редакции 2009 г.
A25: № пп | B25: Обосно- вание | C25: Наименование работ и затрат | D25: Ед. изм. | E25: Кол. | F25: Стоимость единицы в базисных ценах, руб. | I25: Общая стоимость в базисных ценах, руб. | M25: Затр.тр.раб-х не занятых обслуж.машин
F26: Всего | G26: Экспл. маш. | H26: Мат-ы | I26: Всего | J26: в т.ч. оплата труда | K26: Экспл. маш. | L26: Мат-ы | M26: Обслуж-х машины
F27: оплата труда | G27: в т.ч. оплата труда | K27: в т.ч. оплата труда | M27: на ед-цу | N27: всего
A28: 1 | B28: 2 | C28: 3 | D28: 4 | E28: 5 | F28: 6 | G28: 7 | H28: 8 | I28: 9 | J28: 10 | K28: 11 | L28: 12 | M28: 13 | N28: 14
A29: Раздел 1. ОБОРУДОВАНИЕ ПО ПРАЙСАМ
A30: Цены на оборудование и материалы , отсутствующие в базе см.прайс-листы арх. №
A31: 1 | B31: ЗАО НВП "БОЛИТ" Г. КОРОЛЕВ МОСКОВСКАЯ ОБЛАСТЬ ПРАЙС-ЛИСТ3 кв.2012г. СТР.3 | C31: Аккумулятор необслуживаемый 12 В, емкость 17 А/час DTМ 1217 | D31: КОМП. | E31: 1 | F31: 311,8 1224,82/1,18/3,47 {индекс} | I31: 312
C32: (транспортные расходы 3% (пПЗ=3%); заготовительно складские расходы 1,2% (пПЗ=1,2%)) Оборудование:
A33: ЦЕНА1224,82/1,18/3,47 {индекс}
A34: 2 | B34: ЗАО НВП "БОЛИТ" Г. КОРОЛЕВ МОСКОВСКАЯ ОБЛАСТЬ ПРАЙС-ЛИСТ3 кв.2012г. СТР.3 | C34: Блок разветвительно-изолирующий БРИЗ | D34: шт | E34: 15 | F34: 75,34 295,94/1,18/3,47 {индекс} | I34: 1130
C35: (транспортные расходы 3% (пПЗ=3%); заготовительно складские расходы 1,2% (пПЗ=1,2%)) Оборудование:
A36: ЦЕНА295,94/1,18/3,47 {индекс}
A37: 3 | B37: ЦЕНА ООО "АЛЬТОНИКА" Г. МОСКВА ПРАЙС-ЛИСТ СТР.6 | C37: ОХРАННЫЙ ПЕРЕДАТЧИК-КОНЦЕНТРАТОР, В КОМПЛЕКТЕ С ШТЫРЕВОЙ АНТЕННОЙ RS-202 TX8 | D37: КОМП. | E37: 1 | F37: 2008,55 7890/1,18/3,47 {индекс} | I37: 2009
C38: (транспортные расходы 3% (пПЗ=3%); заготовительно складские расходы 1,2% (пПЗ=1,2%)) Оборудование:
A39: ЦЕНА7890/1,18/3,47 {индекс}
A40: 4 | B40: ЦЕНА КОМПАНИЯ "СИ-НОРД" Г. САНКТ-ПЕТЕРБУРГ ПРАЙС-ЛИСТ СТР.11 | C40: МАЧТА АНТЕННАЯ ВЫСОТОЙ 6 М, В КОМПЛЕКТЕ МТ6 | D40: КОМП. | E40: 1 | F40: 1667,17 6549/1,18/3,47 {индекс} | I40: 1667
C41: (транспортные расходы 3% (пПЗ=3%); заготовительно складские расходы 1,2% (пПЗ=1,2%)) Оборудование:
A42: ЦЕНА 6549/1,18/3,47 {индекс}
A43: 5 | B43: ЗАО НВП "БОЛИТ" Г. КОРОЛЕВ МОСКОВСКАЯ ОБЛАСТЬ ПРАЙС-ЛИСТкв.2012г. СТР.2 | C43: Световое табло Молния-12В/24В | D43: КОМП. | E43: 12 | F43: 84 330,00/1,18/3,47 {индекс} | I43: 1008
C44: (транспортные расходы 3% (пПЗ=3%); заготовительно складские расходы 1,2% (пПЗ=1,2%)) Оборудование:
A45: ЦЕНА330,00/1,18/3,47 {индекс}
A46: 6 | B46: ЦЕНА ООО "АЛЬТОНИКА" Г. МОСКВА ПРАЙС-ЛИСТ СТР. | C46: АНТЕННА ОБЪЕКТОВАЯ, В КОМПЛЕКТЕ С ФИДЕРОМ 3 М АН2-433 | D46: КОМП. | E46: 1 | F46: 252,02 990/1,18/3,47 {индекс} | I46: 252
C47: (транспортные расходы 3% (пПЗ=3%); заготовительно складские расходы 1,2% (пПЗ=1,2%)) Оборудование:
...

Sheet 02-01-014
A1: СОГЛАСОВАНО: | M1: УТВЕРЖДАЮ:
A4: ______________ | M4: ______________
A5: "___" ___________ 201_ г. | M5: "___" ___________ 201_ г.
E6: ФГУП "Комбинат "Электрохимприбор"
E7: "Монтаж автоматической пожарной сигнализации (АПС) и системы оповещения
E8: и управления эвакуации людей при пожаре (СОУЭ) зданий в/ч 3275"
E9: (наименование стройки)
E11: ЛОКАЛЬНЫЙ СМЕТНЫЙ РАСЧЕТ № 02-01-014 (8849-0-ИОС5СМ13)
E12: (локальная смета)
B14: на | C14: АВТОМАТИЧЕСКУЮ ПОЖАРНУЮ СИГНАЛИЗАЦИЮ (АПС и СОУЭ).ЗДАНИЕ СТОЛОВОЙ
C17: Основание: Техногогические решения 8849-0-ИОС5
C18: Сметная стоимость _______________________________________________________________________________________________ | F18: =I164 -> 76864 | H18: руб.
C19: монтажных работ _______________________________________________________________________________________________ | F19: =I90+I139 -> 68243 | H19: руб.
C20: оборудования _______________________________________________________________________________________________ | F20: =I48+I66 -> 8621 | H20: руб.
C21: Средства на оплату труда _______________________________________________________________________________________________ | F21: =J145 -> 7947 | H21: руб.
C22: Сметная трудоемкость _______________________________________________________________________________________________ | F22: _______________________________________________________________________________________________573,57 | H22: чел.час
C23: Составлена в ценах по состоянию на 01.01.2000 г. в редакции 2009 г.
A25: № пп | B25: Обосно- вание | C25: Наименование работ и затрат | D25: Ед. изм. | E25: Кол. | F25: Стоимость единицы в базисных ценах, руб. | I25: Общая стоимость в базисных ценах, руб. | M25: Затр.тр.раб-х не занятых обслуж.машин
F26: Всего | G26: Экспл. маш. | H26: Мат-ы | I26: Всего | J26: в т.ч. оплата труда | K26: Экспл. маш. | L26: Мат-ы | M26: Обслуж-х машины
F27: оплата труда | G27: в т.ч. оплата труда | K27: в т.ч. оплата труда | M27: на ед-цу | N27: всего
A28: 1 | B28: 2 | C28: 3 | D28: 4 | E28: 5 | F28: 6 | G28: 7 | H28: 8 | I28: 9 | J28: 10 | K28: 11 | L28: 12 | M28: 13 | N28: 14
A29: Раздел 1. ОБОРУДОВАНИЕ ПО ПРАЙСАМ
A30: Цены на оборудование и материалы , отсутствующие в базе см.прайс-листы арх. № 96663 пф
A31: 1 | B31: ЗАО НВП "БОЛИТ" Г. КОРОЛЕВ МОСКОВСКАЯ ОБЛАСТЬ ПРАЙС-ЛИСТ СТР.3 | C31: Приемно-контрольный прибор Сигнал-20М | D31: КОМП. | E31: 1 | F31: 739,11 2903,37/1,18/3,47 {индекс} | I31: 739
C32: (транспортные расходы (пПЗ=3%); заготовительно складские расходы (пПЗ=1,2%)) Оборудование:
A33: ЦЕНА 2903,37/1,18/3,47 {индекс}
A34: 2 | B34: ЗАО НВП "БОЛИТ" Г. КОРОЛЕВ МОСКОВСКАЯ ОБЛАСТЬ ПРАЙС-ЛИСТ3 кв.2012г. СТР.3 | C34: Аккумулятор необслуживаемый 12 В, емкость 17 А/час DTМ 1217 | D34: КОМП. | E34: 1 | F34: 311,8 1224,82/1,18/3,47 {индекс} | I34: 312
C35: (транспортные расходы (пПЗ=3%); заготовительно складские расходы (пПЗ=1,2%)) Оборудование:
A36: ЦЕНА1224,82/1,18/3,47 {индекс}
A37: 3 | B37: ЗАО НВП "БОЛИТ" Г. КОРОЛЕВ МОСКОВСКАЯ ОБЛАСТЬ ПРАЙС-ЛИСТкв.2012г. СТР.2 | C37: Световое табло Молния-12В/24В | D37: КОМП. | E37: 10 | F37: 84 330,00/1,18/3,47 {индекс} | I37: 840
C38: (транспортные расходы (пПЗ=3%); заготовительно складские расходы (пПЗ=1,2%)) Оборудование:
A39: ЦЕНА330,00/1,18/3,47 {индекс}
A40: ИТОГИ В БАЗИСНЫХ ЦЕНАХ
A41: Итого прямые затраты по разделу в ценах 2001г. | I41: 1891
A42: Итоги по разделу 1 ОБОРУДОВАНИЕ ПО ПРАЙСАМ :
A43: Оборудование:
A44: Итого Поз. 1-3 | I44: 1891
A45: Итого | I45: 1891
A46: Справочно, в ценах 2001г.:
A47: Оборудование | I47: 1891
...

Sheet 02-01-015
A1: СОГЛАСОВАНО: | M1: УТВЕРЖДАЮ:
A4: ______________ | M4: ______________
A5: "___" ___________ 201_ г. | M5: "___" ___________ 201_ г.
E6: ФГУП "Комбинат "Электрохимприбор"
E7: "Монтаж автоматической пожарной сигнализации (АПС) и системы оповещения
E8: и управления эвакуации людей при пожаре (СОУЭ) зданий в/ч 3275"
E9: (наименование стройки)
E11: ЛОКАЛЬНЫЙ СМЕТНЫЙ РАСЧЕТ № 02-01-015 (8849-0-ИОС5СМ14)
E12: (локальная смета)
B14: на | C14: АВТОМАТИЧЕСКУЮ ПОЖАРНУЮ СИГНАЛИЗАЦИЮ (АПС и СОУЭ) . СПОРТЗАЛ
C17: Основание: Технологические решения 8849-0-ИОС5
C18: Сметная стоимость _______________________________________________________________________________________________ | F18: =I156 -> 30151 | H18: руб.
C19: монтажных работ _______________________________________________________________________________________________ | F19: =I86+I123 -> 26740 | H19: руб.
C20: оборудования _______________________________________________________________________________________________ | F20: =I64+I48 -> 3411 | H20: руб.
C21: Средства на оплату труда _______________________________________________________________________________________________ | F21: ___________________________2593 | H21: руб.
C22: Сметная трудоемкость _______________________________________________________________________________________________ | F22: _______________________________________________________________________________________________166,24 | H22: чел.час
C23: Составлена в ценах по состоянию на 01.01.2000 г. в редакции 2009 г.
A25: № пп | B25: Обосно- вание | C25: Наименование работ и затрат | D25: Ед. изм. | E25: Кол. | F25: Стоимость единицы в базисных ценах, руб. | I25: Общая стоимость в базисных ценах, руб. | M25: Затр.тр.раб-х не занятых обслуж.машин
F26: Всего | G26: Экспл. маш. | H26: Мат-ы | I26: Всего | J26: в т.ч. оплата труда | K26: Экспл. маш. | L26: Мат-ы | M26: Обслуж-х машины
F27: оплата труда | G27: в т.ч. оплата труда | K27: в т.ч. оплата труда | M27: на ед-цу | N27: всего
A28: 1 | B28: 2 | C28: 3 | D28: 4 | E28: 5 | F28: 6 | G28: 7 | H28: 8 | I28: 9 | J28: 10 | K28: 11 | L28: 12 | M28: 13 | N28: 14
A29: Раздел 1. ОБОРУДОВАНИЕ ПО ПРАЙСАМ
A30: Цены на оборудование и материалы , отсутствующие в базе см.прайс-листы арх. № 96663 пф
A31: 1 | B31: ЗАО НВП "БОЛИТ" Г. КОРОЛЕВ МОСКОВСКАЯ ОБЛАСТЬ ПРАЙС-ЛИСТ3 кв.2012г. СТР.3 | C31: Аккумулятор необслуживаемый 12 В, емкость 17 А/час DTМ 1217 | D31: КОМП. | E31: 1 | F31: 311,8 1224,82/1,18/3,47 {индекс} | I31: 312
C32: (транспортные расходы (пПЗ=3%); заготовительно складские расходы (пПЗ=1,2%)) Оборудование:
A33: ЦЕНА1224,82/1,18/3,47 {индекс}
A34: 2 | B34: ЗАО НВП "БОЛИТ" Г. КОРОЛЕВ МОСКОВСКАЯ ОБЛАСТЬ ПРАЙС-ЛИСТ3 кв.2012г. СТР.4 | C34: Приемно-контрольный прибор Сигнал-10 | D34: КОМП. | E34: 1 | F34: 382,1 1500,96/1,18/3,47 {индекс} | I34: 382
C35: (транспортные расходы (пПЗ=3%); заготовительно складские расходы (пПЗ=1,2%)) Оборудование:
A36: ЦЕНА1500,96/1,18/3,47 {индекс}
A37: 3 | B37: ЗАО НВП "БОЛИТ" Г. КОРОЛЕВ МОСКОВСКАЯ ОБЛАСТЬ ПРАЙС-ЛИСТкв.2012г. СТР.2 | C37: Световое табло Молния-12В/24В | D37: КОМП. | E37: 2 | F37: 84 330,00/1,18/3,47 {индекс} | I37: 168
C38: (транспортные расходы (пПЗ=3%); заготовительно складские расходы (пПЗ=1,2%)) Оборудование:
A39: ЦЕНА330,00/1,18/3,47 {индекс}
A40: ИТОГИ В БАЗИСНЫХ ЦЕНАХ
A41: Итого прямые затраты по разделу в ценах 2001г. | I41: 862
A42: Итоги по разделу 1 ОБОРУДОВАНИЕ ПО ПРАЙСАМ :
A43: Оборудование:
A44: Итого Поз. 1-3 | I44: 862
A45: Итого | I45: 862
A46: Справочно, в ценах 2001г.:
A47: Оборудование | I47: 862
...

Sheet 05-01
A1: СОГЛАСОВАНО: | M1: УТВЕРЖДАЮ:
A4: ______________ | F4: ФГУП "Комбинат "Электрохимприбор" | M4: ______________
A5: "___" ___________ 201_ г. | F5: "Монтаж автоматической пожарной сигнализации (АПС) и системы оповещения | M5: "___" ___________ 201_ г.
F6: и управления эвакуации людей при пожаре (СОУЭ) зданий в/ч 3275"
E7: (наименование стройки)
E9: ЛОКАЛЬНЫЙ СМЕТНЫЙ РАСЧЕТ № 05-01(8849-0 ИОС5СМ15)
E10: (локальная смета)
E12: на НАРУЖНЫЕ СЕТИ СВЯЗИ
C15: Основание: Технологические решения 8849-0-ИОС5
C16: Сметная стоимость монтажных работ _______________________________________________________________________________________________ | F16: =I144 -> 65739 | H16: руб.
C17: Средства на оплату труда _______________________________________________________________________________________________ | F17: =J127 -> 2585 | H17: руб.
C18: Сметная трудоемкость _______________________________________________________________________________________________ | F18: _______________________________________________________________________________________________199,69 | H18: чел.час
C19: Составлена в ценах по состоянию на 01.01.2000 г. в редакции 2009 г.
A22: № пп | B22: Обосно- вание | C22: Наименование работ и затрат | D22: Ед. изм. | E22: Кол. | F22: Стоимость единицы в базисных ценах, руб. | I22: Общая стоимость в базисных ценах, руб. | M22: Затр.тр.раб-х не занятых обслуж.машин
F23: Всего | G23: Экспл. маш. | H23: Мат-ы | I23: Всего | J23: в т.ч. оплата труда | K23: Экспл. маш. | L23: Мат-ы | M23: Обслуж-х машины
F24: оплата труда | G24: в т.ч. оплата труда | K24: в т.ч. оплата труда | M24: на ед-цу | N24: всего
A25: 1 | B25: 2 | C25: 3 | D25: 4 | E25: 5 | F25: 6 | G25: 7 | H25: 8 | I25: 9 | J25: 10 | K25: 11 | L25: 12 | M25: 13 | N25: 14
A26: Раздел 1. МАТЕРИАЛЫ ПО ТСЦ
A27: Цены на оборудование и материалы , отсутствующие в базе см.прайс-листы арх. № 96663 пф
A28: 1 | B28: ТСЦ-509-0801 | C28: Трос стальной | D28: м | E28: 600 | F28: 12.18 | H28: 12.18 | I28: 7308 | L28: 7308
C29: Материалы для монтажных работ
A30: На единицу в ценах 2001г. | F30: 12.18 | H30: 12.18
A31: ВСЕГО на физобъем (600) | F31: 7308 | H31: 7308
A32: Всего с учетом "переходной коэф. от цен 2001 г. к ценам4 кв.2012г СМР=5,53" | F32: 40413
A33: 2 | B33: ТСЦ-509-1059 прим. | C33: Узел крепления жестких распорок оцинкованный (крепежные элементы) | D33: шт. | E33: 16 | F33: 132.41 | H33: 132.41 | I33: 2119 | L33: 2119
C34: Материалы для монтажных работ
A35: На единицу в ценах 2001г. | F35: 132.41 | H35: 132.41
A36: ВСЕГО на физобъем (16) | F36: 2119 | H36: 2119
A37: Всего с учетом "переходной коэф. от цен 2001 г. к ценам4 кв.2012г СМР=5,53" | F37: 11718
A38: ИТОГИ В БАЗИСНЫХ ЦЕНАХ
A39: Итого прямые затраты по разделу в ценах 2001г. | I39: 9427 | L39: 9427
A40: Итоги по разделу 1 МАТЕРИАЛЫ ПО ТСЦ :
A41: Материалы для монтажных работ | I41: 9427
A42: Итого | I42: 9427
A43: Справочно, в ценах 2001г.:
A44: Материалы | I44: 9427
A45: Итого по разделу 1 МАТЕРИАЛЫ ПО ТСЦ | I45: 9427
A46: Раздел 2. МАТЕРИАЛЫ ПО ПРАЙСАМ
