Workbook
Name аааааппппппрррппппппп: #REF!
Name аараооооооооооооо: #REF!
Name автом: #REF!
Name алшрльоплварл: #REF!
Name аолвлддддддддддддддддввввввввв: #REF!
Name апарв: #REF!
Name апрлдджаоырыфрпопрлпрлпрлп: #REF!
Name арлггаджаш: #REF!
Name ароррбллтблпроорапииас: #REF!
Name арррррблллпдрлдддддддддд: #REF!
Name варпаааааааааа: #REF!
Name ввпьььььлднд: #REF!
Name вед: #REF!
Name вертикальная: #REF!
Name вертикплан: #REF!
Name волен: #REF!
Name вп: #REF!
Name впырпфдыпл: #REF!
Name впьглорьтитттттттттт: #REF!
Name всввввввввввввввввввввввввв: #REF!
Name выб: #REF!
Name выпуск: #REF!
Name выьлепвввввпмп: #REF!
Name еваопродолжэрщэрзшщщх: #REF!
Name измен: #REF!
Name итого: #REF!
Name итого_сантех: #REF!
Name итого_стр: #REF!
Name итого_строит: #REF!
Name итого_технол: #REF!
Name итого_электр: #REF!
Name квота: #REF!
Name кккккккккк: #REF!
Name корек: #REF!
Name корект: #REF!
Name корректир: #REF!
Name лен: #REF!
Name лот: #REF!
Name мамиааааааааааааааааааааааааааааа: #REF!
Name ммпоослччччччччччрччапппппппппр: #REF!
Name мрол: #REF!
Name оз: #REF!
Name озелен: #REF!
Name озеленение: #REF!
Name озеленение2: #REF!
Name ОСР: #REF!
Name ОСР110: #REF!
Name ОСР111: #REF!
Name план: #REF!
Name планировка: #REF!
Name плдщхэж.юрббдлююбо: #REF!
Name площадки: #REF!
Name пос: #REF!
Name прав: #REF!
Name прлппппппппппппппрррррррр: #REF!
Name провбп: #REF!
Name проект: #REF!
Name пропппп: #REF!
Name рпоолллллбрюююююююююююю: #REF!
Name сааповвыыыыыеееееггггггггг: #REF!

Sheet 7086
J1: УТВЕРЖДАЮ:
J4: ________________
J5: "______ " _______________2014 г.
D6: ФГУП "Комбинат "Электрохимприбор"
E7: (наименование стройки)
D9: ЛОКАЛЬНЫЙ СМЕТНЫЙ РАСЧЕТ № 7086
D10: (локальная смета)
B12: на | C12: пусконаладочные работы стадия "вхолостую" на электрооборудование бассейна профилактория. Водоподготовка. (инв.№6200391)
E13: (наименование работ и затрат, наименование объекта)
C15: Основание: р.д.инв.№ 12-027-ЭМ; 12-027-АТХ
C16: Сметная стоимость прочих _______________________________________________________________________________________________ | E16: ___________________________982,479 | G16: тыс. руб.
C17: Средства на оплату труда _______________________________________________________________________________________________ | E17: ___________________________45,731 | G17: тыс. руб.
C18: Сметная трудоемкость _______________________________________________________________________________________________ | E18: _______________________________________________________________________________________________2279,16 | G18: чел.час
C19: Составлена в ценах 2001 г. с переводом в текущие цены 2014г.
A22: № пп | B22: Обоснование | C22: Наименование | D22: Ед. изм. | E22: Кол. | F22: Стоимость единицы, руб. | J22: Общая стоимость, руб.
F23: Всего | G23: В том числе | J23: Всего | K23: В том числе
G24: Осн.З/п | H24: Эк.Маш. | I24: З/пМех | K24: Осн.З/п | L24: Эк.Маш. | M24: З/пМех
A25: 1 | B25: 2 | C25: 3 | D25: 4 | E25: 5 | F25: 6 | G25: 7 | H25: 8 | I25: 9 | J25: 10 | K25: 11 | L25: 12 | M25: 13
A26: Раздел 1. Новый Раздел
A27: 1 | B27: ТЕРп01-11-028-01 | C27: Измерение сопротивления изоляции мегаомметром кабельных и других линий напряжением до 1 кВ, предназначенных для передачи электроэнергии к распределительным устройствам, щитам, шкафам, коммутационным аппаратам и электропотребителям | D27: 1 линия | E27: 37 | F27: 7.22 | G27: 7.22 | J27: 267 | K27: 267
A28: 2 | B28: ТЕРп01-11-024-01 | C28: Фазировка электрической линии или трансформатора с сетью напряжением до 1 кВ | D28: 1 фазировка | E28: 4 | F28: 18.04 | G28: 18.04 | J28: 72 | K28: 72
A29: 3 | B29: ТЕРп01-11-013-01 | C29: Замер полного сопротивления цепи «фаза-нуль» | D29: 1 токоприемник | E29: 15 | F29: 27.06 | G29: 27.06 | J29: 406 | K29: 406
A30: 4 | B30: ТЕРп01-11-011-01 | C30: Проверка наличия цепи между заземлителями и заземленными элементами | D30: 100 точек | E30: 0.46 | F30: 288.64 | G30: 288.64 | J30: 133 | K30: 133
A31: 5 | B31: ТЕРп01-03-002-04 | C31: Выключатель трехполюсный напряжением до 1 кВ с электромагнитным, тепловым или комбинированным расцепителем, номинальный ток до 50 А | D31: 1 шт. | E31: 18 | F31: 26.47 | G31: 26.47 | J31: 476 | K31: 476
A32: 6 | B32: ТЕРп01-03-002-05 | C32: Выключатель трехполюсный напряжением до 1 кВ с электромагнитным, тепловым или комбинированным расцепителем, номинальный ток до 200 А | D32: 1 шт. | E32: 1 | F32: 39.71 | G32: 39.71 | J32: 40 | K32: 40
A33: 7 | B33: ТЕРп01-03-001-01 | C33: Выключатель однополюсный напряжением до 1 кВ с электромагнитным, тепловым или комбинированным расцепителем | D33: 1 шт. | E33: 12 | F33: 19.85 | G33: 19.85 | J33: 238 | K33: 238
A34: 8 | B34: ТЕРп01-03-001-02 | C34: Выключатель однополюсный напряжением до 1 кВ с устройством защитного отключения | D34: 1 шт. | E34: 8 | F34: 26.47 | G34: 26.47 | J34: 212 | K34: 212
A35: 9 | B35: ТЕРп01-11-028-02 | C35: Измерение сопротивления изоляции мегаомметром обмоток машин и аппаратов | D35: 1 измерение | E35: 5 | F35: 1.8 | G35: 1.8 | J35: 9 | K35: 9
A36: 10 | B36: ТЕРп01-04-002-01 | C36: Максимальная токовая тепловая защита с одним реле | D36: 1 компл. | E36: 5 | F36: 53.64 | G36: 53.64 | J36: 268 | K36: 268
A37: 11 | B37: ТЕРп01-07-004-01 | C37: Электродвигатель переменного тока напряжением до 1 кВ однофазный | D37: 1 шт. | E37: 10 | F37: 31.82 | G37: 31.82 | J37: 318 | K37: 318
A38: 12 | B38: ТЕРп01-12-029-01 | C38: Испытание цепи вторичной коммутации | D38: 1 испытание | E38: 15 | F38: 33.95 | G38: 33.95 | J38: 509 | K38: 509
... A43: 18 | B43: ТЕРп02-01-003-11 | C43: Автоматизированная система управления III категории технической сложности с количеством каналов (Кобщ) 160 | D43: 1 система | E43: 1 | F43: 34561.19 | G43: 34561.19 | J43: 34561 | K43: 34561
A44: Итого прямые затраты по смете в ценах 2001г. | J44: 47659 | K44: 47659
A45: Итого прямые затраты по смете с учетом коэффициентов к итогам | J45: 45731 | K45: 45731
A46: В том числе, справочно:
A47: Районный к-т 4,3% (Поз. 1-16, 18) | J47: 2049 | K47: 2049
A48: Условия работ ПЗ=1,15 (ОЗП=1,15; ЭМ=1,15; ЗПМ=1,15; МАТ=1,15) (Поз. 1-16, 18) | J48: 7456 | K48: 7456
A49: Стадия "вхолостую" ПЗ=0,8 (ОЗП=0,8; ЭМ=0,8; ЗПМ=0,8; МАТ=0,8) (Поз. 1-16, 18) | J49: -11433 | K49: -11433
A50: Накладные расходы | J50: 29725
A51: В том числе, справочно:
...

Sheet 7100
J1: УТВЕРЖДАЮ:
J4: ________________
J5: "______ " _______________2014 г.
D6: ФГУП "Комбинат "Электрохимприбор"
E7: (наименование стройки)
D9: ЛОКАЛЬНЫЙ СМЕТНЫЙ РАСЧЕТ № 7100
D10: (локальная смета)
B12: на | C12: пусконаладочные работы стадия "вхолостую" на электрооборудование. Ул.Островского 2 (инв.8811031)
E13: (наименование работ и затрат, наименование объекта)
C15: Основание: р.д.инв.№24684-13-ЭМО
C16: Сметная стоимость прочих _______________________________________________________________________________________________ | E16: ___________________________48,082 | G16: тыс. руб.
C17: Средства на оплату труда _______________________________________________________________________________________________ | E17: ___________________________2,238 | G17: тыс. руб.
C18: Сметная трудоемкость _______________________________________________________________________________________________ | E18: _______________________________________________________________________________________________139,84 | G18: чел.час
C19: Составлена в ценах 2001г. с переводом в текущие цены 2014г.
A22: № пп | B22: Обоснование | C22: Наименование | D22: Ед. изм. | E22: Кол. | F22: Стоимость единицы, руб. | J22: Общая стоимость, руб.
F23: Всего | G23: В том числе | J23: Всего | K23: В том числе
G24: Осн.З/п | H24: Эк.Маш. | I24: З/пМех | K24: Осн.З/п | L24: Эк.Маш. | M24: З/пМех
A25: 1 | B25: 2 | C25: 3 | D25: 4 | E25: 5 | F25: 6 | G25: 7 | H25: 8 | I25: 9 | J25: 10 | K25: 11 | L25: 12 | M25: 13
A26: Раздел 1. Новый Раздел
A27: 1 | B27: ТЕРп01-11-028-01 | C27: Измерение сопротивления изоляции мегаомметром кабельных и других линий напряжением до 1 кВ, предназначенных для передачи электроэнергии к распределительным устройствам, щитам, шкафам, коммутационным аппаратам и электропотребителям | D27: 1 линия | E27: 134 | F27: 7.22 | G27: 7.22 | J27: 967 | K27: 967
A28: 2 | B28: ТЕРп01-11-024-01 | C28: Фазировка электрической линии или трансформатора с сетью напряжением до 1 кВ | D28: 1 фазировка | E28: 2 | F28: 18.04 | G28: 18.04 | J28: 36 | K28: 36
A29: 3 | B29: ТЕРп01-11-013-01 | C29: Замер полного сопротивления цепи «фаза-нуль» | D29: 1 токоприемник | E29: 17 | F29: 27.06 | G29: 27.06 | J29: 460 | K29: 460
A30: 4 | B30: ТЕРп01-11-011-01 | C30: Проверка наличия цепи между заземлителями и заземленными элементами | D30: 100 точек | E30: 0.89 | F30: 288.64 | G30: 288.64 | J30: 257 | K30: 257
A31: 7 | B31: ТЕРп01-03-002-05 | C31: Выключатель трехполюсный напряжением до 1 кВ с электромагнитным, тепловым или комбинированным расцепителем, номинальный ток до 200 А | D31: 1 шт. | E31: 1 | F31: 39.71 | G31: 39.71 | J31: 40 | K31: 40
A32: 5 | B32: ТЕРп01-03-001-01 | C32: Выключатель однополюсный напряжением до 1 кВ с электромагнитным, тепловым или комбинированным расцепителем | D32: 1 шт. | E32: 19 | F32: 19.85 | G32: 19.85 | J32: 377 | K32: 377
A33: 6 | B33: ТЕРп01-06-021-02 | C33: Схема разводки трехпроводной системы с количеством панелей (шкафов, ячеек) за каждую последующую панель (шкаф, ячейку) свыше 2 | D33: 1 схема | E33: 3 | F33: 16.15 | G33: 16.15 | J33: 48 | K33: 48
A34: 8 | B34: ТЕРп01-03-001-02 | C34: Выключатель однополюсный напряжением до 1 кВ с устройством защитного отключения | D34: 1 шт. | E34: 2 | F34: 26.47 | G34: 26.47 | J34: 53 | K34: 53
A35: 9 | B35: ТЕРп01-07-004-01 | C35: Электродвигатель переменного тока напряжением до 1 кВ однофазный (кондиционеры) | D35: 1 шт. | E35: 3 | F35: 31.82 | G35: 31.82 | J35: 95 | K35: 95
A36: Итого прямые затраты по смете в ценах 2001г. | J36: 2333 | K36: 2333
A37: Итого прямые затраты по смете с учетом коэффициентов к итогам | J37: 2238 | K37: 2238
A38: В том числе, справочно:
A39: Районный к-т 4,3% (Поз. 1-4, 7, 5-6, 8-9) | J39: 100 | K39: 100
A40: Условия работ ПЗ=1,15 (ОЗП=1,15; ЭМ=1,15; ЗПМ=1,15; МАТ=1,15) (Поз. 1-4, 7, 5-6, 8-9) | J40: 365 | K40: 365
A41: Стадия "вхолостую" ПЗ=0,8 (ОЗП=0,8; ЭМ=0,8; ЗПМ=0,8; МАТ=0,8) (Поз. 1-4, 7, 5-6, 8-9) | J41: -560 | K41: -560
A42: Накладные расходы | J42: 1455
A43: В том числе, справочно:
A44: 65% ФОТ (от 2238) (Поз. 1-4, 7, 5-6, 8-9) | J44: 1455
A45: Сметная прибыль | J45: 895
A46: В том числе, справочно:
A47: 40% ФОТ (от 2238) (Поз. 1-4, 7, 5-6, 8-9) | J47: 895
...

Sheet 7102
J1: УТВЕРЖДАЮ:
J4: ________________
J5: "______ " _______________2011 г.
D6: ФГУП "Комбинат "Электрохимприбор"
E7: (наименование стройки)
D9: ЛОКАЛЬНЫЙ СМЕТНЫЙ РАСЧЕТ № 7102
D10: (локальная смета)
B12: на | C12: пусконаладочные работы стадия "вхолостую" на электрооборудование. Ул.Мамина-Сибиряка, 3 (инв.4900006)
E13: (наименование работ и затрат, наименование объекта)
C15: Основание: р.д.инв.№ 24713-13-ЭМО
C16: Сметная стоимость прочих _______________________________________________________________________________________________ | E16: ___________________________67,250 | G16: тыс. руб.
C17: Средства на оплату труда _______________________________________________________________________________________________ | E17: ___________________________3,130 | G17: тыс. руб.
C18: Сметная трудоемкость _______________________________________________________________________________________________ | E18: _______________________________________________________________________________________________200,82 | G18: чел.час
C19: Составлена в ценах 2001г. с переводом в текущие цены 2014г.
A22: № пп | B22: Обоснование | C22: Наименование | D22: Ед. изм. | E22: Кол. | F22: Стоимость единицы, руб. | J22: Общая стоимость, руб.
F23: Всего | G23: В том числе | J23: Всего | K23: В том числе
G24: Осн.З/п | H24: Эк.Маш. | I24: З/пМех | K24: Осн.З/п | L24: Эк.Маш. | M24: З/пМех
A25: 1 | B25: 2 | C25: 3 | D25: 4 | E25: 5 | F25: 6 | G25: 7 | H25: 8 | I25: 9 | J25: 10 | K25: 11 | L25: 12 | M25: 13
A26: Раздел 1. Новый Раздел
A27: 1 | B27: ТЕРп01-11-028-01 | C27: Измерение сопротивления изоляции мегаомметром кабельных и других линий напряжением до 1 кВ, предназначенных для передачи электроэнергии к распределительным устройствам, щитам, шкафам, коммутационным аппаратам и электропотребителям | D27: 1 линия | E27: 112 | F27: 7.22 | G27: 7.22 | J27: 809 | K27: 809
A28: 2 | B28: ТЕРп01-11-024-01 | C28: Фазировка электрической линии или трансформатора с сетью напряжением до 1 кВ | D28: 1 фазировка | E28: 4 | F28: 18.04 | G28: 18.04 | J28: 72 | K28: 72
A29: 3 | B29: ТЕРп01-11-013-01 | C29: Замер полного сопротивления цепи «фаза-нуль» | D29: 1 токоприемник | E29: 21 | F29: 27.06 | G29: 27.06 | J29: 568 | K29: 568
A30: 4 | B30: ТЕРп01-11-011-01 | C30: Проверка наличия цепи между заземлителями и заземленными элементами | D30: 100 точек | E30: 0.97 | F30: 288.64 | G30: 288.64 | J30: 280 | K30: 280
A31: 5 | B31: ТЕРп01-03-002-04 | C31: Выключатель трехполюсный напряжением до 1 кВ с электромагнитным, тепловым или комбинированным расцепителем, номинальный ток до 50 А | D31: 1 шт. | E31: 8 | F31: 26.47 | G31: 26.47 | J31: 212 | K31: 212
A32: 6 | B32: ТЕРп01-03-002-04 | C32: Выключатель трехполюсный напряжением до 1 кВ с электромагнитным, тепловым или комбинированным расцепителем, номинальный ток до 50 А | D32: 1 шт. | E32: 18 | F32: 26.47 | G32: 26.47 | J32: 476 | K32: 476
A33: 7 | B33: ТЕРп01-06-021-02 | C33: Схема разводки трехпроводной системы с количеством панелей (шкафов, ячеек) за каждую последующую панель (шкаф, ячейку) свыше 2 | D33: 1 схема | E33: 5 | F33: 16.15 | G33: 16.15 | J33: 81 | K33: 81
A34: 8 | B34: ТЕРп01-07-004-01 | C34: Электродвигатель переменного тока напряжением до 1 кВ однофазный (кондиционеры) | D34: 1 шт. | E34: 24 | F34: 31.82 | G34: 31.82 | J34: 764 | K34: 764
A35: Итого прямые затраты по смете в ценах 2001г. | J35: 3262 | K35: 3262
A36: Итого прямые затраты по смете с учетом коэффициентов к итогам | J36: 3130 | K36: 3130
A37: В том числе, справочно:
A38: Районный к-т 4,3% (Поз. 1-8) | J38: 140 | K38: 140
A39: Условия работ ПЗ=1,15 (ОЗП=1,15; ЭМ=1,15; ЗПМ=1,15; МАТ=1,15) (Поз. 1-8) | J39: 510 | K39: 510
A40: Стадия "вхолостую" ПЗ=0,8 (ОЗП=0,8; ЭМ=0,8; ЗПМ=0,8; МАТ=0,8) (Поз. 1-8) | J40: -782 | K40: -782
A41: Накладные расходы | J41: 2035
A42: В том числе, справочно:
A43: 65% ФОТ (от 3130) (Поз. 1-8) | J43: 2035
A44: Сметная прибыль | J44: 1252
A45: В том числе, справочно:
A46: 40% ФОТ (от 3130) (Поз. 1-8) | J46: 1252
A47: Итоги по смете:
...

Sheet 7104
J1: УТВЕРЖДАЮ:
J4: ________________
J5: "______ " _______________2014 г.
D6: ФГУП "Комбинат "Электрохимприбор"
E7: (наименование стройки)
D9: ЛОКАЛЬНЫЙ СМЕТНЫЙ РАСЧЕТ № 7104
D10: (локальная смета)
B12: на | C12: пусконаладочные работы стадия "вхолостую" на электрооборудование. Поликлиника. ФГУЗ ЦМСЧ-91 (инв.6912852)
E13: (наименование работ и затрат, наименование объекта)
C15: Основание: р.д.инв.№ 24048-11-ЭМ
C16: Сметная стоимость прочих _______________________________________________________________________________________________ | E16: ___________________________22,668 | G16: тыс. руб.
C17: Средства на оплату труда _______________________________________________________________________________________________ | E17: ___________________________1,055 | G17: тыс. руб.
C18: Сметная трудоемкость _______________________________________________________________________________________________ | E18: _______________________________________________________________________________________________66,7 | G18: чел.час
C19: Составлена в ценах 2001г. с переводом в текущие цены 2014г.
A22: № пп | B22: Обоснование | C22: Наименование | D22: Ед. изм. | E22: Кол. | F22: Стоимость единицы, руб. | J22: Общая стоимость, руб.
F23: Всего | G23: В том числе | J23: Всего | K23: В том числе
G24: Осн.З/п | H24: Эк.Маш. | I24: З/пМех | K24: Осн.З/п | L24: Эк.Маш. | M24: З/пМех
A25: 1 | B25: 2 | C25: 3 | D25: 4 | E25: 5 | F25: 6 | G25: 7 | H25: 8 | I25: 9 | J25: 10 | K25: 11 | L25: 12 | M25: 13
A26: Раздел 1. Новый Раздел
A27: 1 | B27: ТЕРп01-11-028-01 | C27: Измерение сопротивления изоляции мегаомметром кабельных и других линий напряжением до 1 кВ, предназначенных для передачи электроэнергии к распределительным устройствам, щитам, шкафам, коммутационным аппаратам и электропотребителям | D27: 1 линия | E27: 52 | F27: 7.22 | G27: 7.22 | J27: 375 | K27: 375
A28: 2 | B28: ТЕРп01-11-024-01 | C28: Фазировка электрической линии или трансформатора с сетью напряжением до 1 кВ | D28: 1 фазировка | E28: 2 | F28: 18.04 | G28: 18.04 | J28: 36 | K28: 36
A29: 3 | B29: ТЕРп01-11-013-01 | C29: Замер полного сопротивления цепи «фаза-нуль» | D29: 1 токоприемник | E29: 10 | F29: 27.06 | G29: 27.06 | J29: 271 | K29: 271
A30: 4 | B30: ТЕРп01-11-011-01 | C30: Проверка наличия цепи между заземлителями и заземленными элементами | D30: 100 точек | E30: 0.4 | F30: 288.64 | G30: 288.64 | J30: 115 | K30: 115
A31: 5 | B31: ТЕРп01-03-002-05 | C31: Выключатель трехполюсный напряжением до 1 кВ с электромагнитным, тепловым или комбинированным расцепителем, номинальный ток до 200 А | D31: 1 шт. | E31: 1 | F31: 39.71 | G31: 39.71 | J31: 40 | K31: 40
A32: 6 | B32: ТЕРп01-03-001-01 | C32: Выключатель однополюсный напряжением до 1 кВ с электромагнитным, тепловым или комбинированным расцепителем | D32: 1 шт. | E32: 5 | F32: 19.85 | G32: 19.85 | J32: 99 | K32: 99
A33: 7 | B33: ТЕРп01-03-001-02 | C33: Выключатель однополюсный напряжением до 1 кВ с устройством защитного отключения | D33: 1 шт. | E33: 5 | F33: 26.47 | G33: 26.47 | J33: 132 | K33: 132
A34: 8 | B34: ТЕРп01-06-021-02 | C34: Схема разводки трехпроводной системы с количеством панелей (шкафов, ячеек) за каждую последующую панель (шкаф, ячейку) свыше 2 | D34: 1 схема | E34: 2 | F34: 16.15 | G34: 16.15 | J34: 32 | K34: 32
A35: Итого прямые затраты по смете в ценах 2001г. | J35: 1100 | K35: 1100
A36: Итого прямые затраты по смете с учетом коэффициентов к итогам | J36: 1055 | K36: 1055
A37: В том числе, справочно:
A38: Районный к-т 4,3% (Поз. 1-8) | J38: 47 | K38: 47
A39: Условия работ ПЗ=1,15 (ОЗП=1,15; ЭМ=1,15; ЗПМ=1,15; МАТ=1,15) (Поз. 1-8) | J39: 172 | K39: 172
A40: Стадия "вхолостую" ПЗ=0,8 (ОЗП=0,8; ЭМ=0,8; ЗПМ=0,8; МАТ=0,8) (Поз. 1-8) | J40: -264 | K40: -264
A41: Накладные расходы | J41: 686
A42: В том числе, справочно:
A43: 65% ФОТ (от 1055) (Поз. 1-8) | J43: 686
A44: Сметная прибыль | J44: 422
A45: В том числе, справочно:
A46: 40% ФОТ (от 1055) (Поз. 1-8) | J46: 422
A47: Итоги по смете:
...

Sheet СМР
A1: Расчет начальной (максимальной) цены на
A2: выполнение пусконаладочных работ
A4: Наименование глав ССР, объектный сметных расчетов, локальных сметных расчетов, видов прочих работ | B4: Сметная стоимость строительства в базисном уровне цен на 01.01.2000г. по ССР | F4: Остаток сметной стоимости в базисном уровне цен на 01.01.2014 | J4: Сметная стоимость строительства в базисном уровне цен на 01.01.2000г., выставленная на конкурс | N4: Текущая стоимость на момент определения начальной (максимальной) цены | O4: № обосновывающего расчета | P4: 2014 год
B5: Всего | C5: СМР | D5: Оборудование | E5: Прочие | F5: Всего | G5: СМР | H5: Оборудование | I5: Прочие | J5: Всего | K5: СМР | L5: Оборудование | M5: Прочие | P5: СМР | Q5: Оборудование | R5: Прочие
A6: 1 | B6: 2 | C6: 3 | D6: 4 | E6: 5 | F6: 6 | G6: 7 | H6: 8 | I6: 9 | J6: 10 | K6: 11 | L6: 12 | M6: 13 | N6: 14 | O6: 15 | P6: 16 | Q6: 17 | R6: 18
A7: Пусконаладочные работы стадия "вхолостую" на электрооборудование бассейна профилактория. Водоподготовка. (инв.№6200391) | B7: =SUM(C7:E7) -> 93748 | D7: 0 | E7: ='7086'!J57 -> 93748 | F7: =SUM(G7:I7) -> 93748 | G7: =C7 -> 0 | H7: =D7 -> 0 | I7: =E7 -> 93748 | J7: =SUM(K7:M7) -> 93748 | K7: =P7 -> 0 | L7: =Q7 -> 0 | M7: =R7 -> 93748 | N7: =SUM(P7:R7) -> 93748 | O7: 7086 | P7: =G7 -> 0 | Q7: =H7 -> 0 | R7: =I7 -> 93748
A8: Пусконаладочные работы стадия "вхолостую" на электрооборудование. Ул.Островского 2 (инв.8811031) | B8: =SUM(C8:E8) -> 4588 | C8: 0 | D8: 0 | E8: ='7100'!J49 -> 4588 | F8: =SUM(G8:I8) -> 4588 | G8: =C8 -> 0 | H8: =D8 -> 0 | I8: =E8 -> 4588 | J8: =SUM(K8:M8) -> 4588 | K8: =P8 -> 0 | L8: =Q8 -> 0 | M8: =R8 -> 4588 | N8: =SUM(P8:R8) -> 4588 | O8: 7100 | P8: =G8 -> 0 | Q8: =H8 -> 0 | R8: =I8 -> 4588
A9: Пусконаладочные работы стадия "вхолостую" на электрооборудование. Ул.Мамина-Сибиряка, 3 (инв.4900006) | B9: =SUM(C9:E9) -> 6417 | C9: 0 | D9: 0 | E9: ='7102'!J48 -> 6417 | F9: =SUM(G9:I9) -> 6417 | G9: =C9 -> 0 | H9: =D9 -> 0 | I9: =E9 -> 6417 | J9: =SUM(K9:M9) -> 6417 | K9: =P9 -> 0 | L9: =Q9 -> 0 | M9: =R9 -> 6417 | N9: =SUM(P9:R9) -> 6417 | O9: 7102 | P9: =G9 -> 0 | Q9: =H9 -> 0 | R9: =I9 -> 6417
A10: Пусконаладочные работы стадия "вхолостую" на электрооборудование. Поликлиника. ФГУЗ ЦМСЧ-91 (инв.6912852) | B10: =SUM(C10:E10) -> 2163 | C10: 0 | D10: 0 | E10: ='7104'!J48 -> 2163 | F10: =SUM(G10:I10) -> 2163 | G10: =C10 -> 0 | H10: =D10 -> 0 | I10: =E10 -> 2163 | J10: =SUM(K10:M10) -> 2163 | K10: =P10 -> 0 | L10: =Q10 -> 0 | M10: =R10 -> 2163 | N10: =SUM(P10:R10) -> 2163 | O10: 7104 | P10: =G10 -> 0 | Q10: =H10 -> 0 | R10: =I10 -> 2163
A11: Итого в ценах 2000 года: | B11: =SUM(B7:B10) -> 106916 | C11: =SUM(C7:C10) -> 0 | D11: =SUM(D7:D10) -> 0 | E11: =SUM(E7:E10) -> 106916 | F11: =SUM(F7:F10) -> 106916 | G11: =SUM(G7:G10) -> 0 | H11: =SUM(H7:H10) -> 0 | I11: =SUM(I7:I10) -> 106916 | ... N11: =SUM(N7:N10) -> 106916 | P11: =SUM(P7:P10) -> 0 | Q11: =SUM(Q7:Q10) -> 0 | R11: =SUM(R7:R10) -> 106916
A12: Итого в текущих ценах*: | N12: =SUM(P12:R12) -> 1120479 | P12: =ROUND(P11*5.98,0) -> 0 | Q12: =ROUND(Q11*4.21,0) -> 0 | R12: =ROUND(R11*10.48,0)-1 -> 1120479
A13: НДС 18% | N13: =SUM(P13:R13) -> 201686.22 | P13: =ROUND(P12*18%,2) -> 0 | Q13: =ROUND(Q12*18%,2) -> 0 | R13: =ROUND(R12*18%,2) -> 201686.22
A14: Всего: | N14: =SUM(P14:R14) -> 1322165.2 | P14: =SUM(P12:P13) -> 0 | Q14: =SUM(Q12:Q13) -> 0 | R14: =SUM(R12:R13) -> 1322165.2
P15: 60000000
A16: * В расчете использованы индексы: | Q16: =P15-P14 -> 60000000
A17: - 10,48 индекс изменения сметной стоимости прочих затрат к ТЕР 2001 (приказ ФГУП "Комбинат "Электрохимприбор" от 18.09.2013 №1902-П).
A19: Начальник отдела капитального строительства
A20: ФГУП "Комбинат "Электрохимприбор" | H20: В.В. Моляков
A22: Инженер по проектно-сметной работе | H22: Н.А. Басова
A24: Согласовано | H24: отд. 028

Sheet НМЦ договора
G1: Приложение №1
G2: к извещению на размещение заказа
G3: на выполнение комплекса работ
G4: по строительству объекта
A8: Определение начальной (максимальной) цены договора генерального подряда
A9: на выполнение пусконаладочных работ
A10: на 2014 год
G13: ц.2000г./текущие цены, руб.
A14: Наименование услуг и работ (затрат) | C14: Сметная стоимость строительства в базисном уровне цен на 01.01.2000 г. | D14: Сметная стоимость строительства в текущем уровне цен, пересчитанная на момент проведения процедуры закупки | F14: Начальная (максимальная) цена | G14: в том числе по годам строительства
G17: 2014 г.
A21: 1 | C21: 2 | D21: 3 | F21: 4 | G21: 5
A22: СМР | C22: =СМР!K11 -> 0 | D22: =F22 -> 0 | F22: =G22 -> 0 | G22: =СМР!P12 -> 0
A23: Оборудование | C23: =СМР!L11 -> 0 | D23: =F23 -> 0 | F23: =G23 -> 0 | G23: =СМР!Q12 -> 0
A24: Прочие затраты | C24: =СМР!M11 -> 106916 | D24: =F24 -> 1120479 | F24: =G24 -> 1120479 | G24: =СМР!R12 -> 1120479
A25: Всего: | C25: =SUM(C22:C24) -> 106916 | D25: =F25 -> 1120479 | F25: =G25 -> 1120479 | G25: =SUM(G22:G24) -> 1120479
A26: НДС | D26: =F26 -> 201686.22 | F26: =G26 -> 201686.22 | G26: =СМР!P13+СМР!Q13+СМР!R13 -> 201686.22
A27: Итого с НДС | D27: =F27 -> 1322165.2 | F27: =G27 -> 1322165.2 | G27: =СМР!P14+СМР!Q14+СМР!R14 -> 1322165.2
A29: В расчете использованы индексы:
A31: - 10,48 индекс изменения сметной стоимости прочих затрат к ТЕР 2001 (приказ ФГУП "Комбинат "Электрохимприбор" от 18.09.2013 №1902-П)
A33: Начальник отдела капитального строительства
A34: ФГУП "Комбинат "Электрохимприбор" | G34: В.В. Моляков
A36: Инженер по проектно-сметной работе | G36: Н.А. Басова
A38: Согласовано | G38: отд. 028
