Workbook

Sheet Смета 12 гр. по ФЕР
A1: =Source!B1 -> Smeta.RU (495) 974-1589
I2: Приложение 1 к форме 7
B5: СМЕТА
B9: =IF(Source!G12<>"Новый объект", Source!G12, "") -> Ремонт помещений № 39-59 пищеблока 1-го этажа и систем хоз.бытовой канализации, водоснабжения, отопления и электроосвещения на техническом этаже здания Университетского лицея №1523 Предуниверситария НИЯУ МИФИ по адресу: г. Москва, Кленовый бульвар, д.21 | AD9: =IF(Source!G12<>"Новый объект", Source!G12, "") -> Ремонт помещений № 39-59 пищеблока 1-го этажа и систем хоз.бытовой канализации, водоснабжения, отопления и электроосвещения на техническом этаже здания Университетского лицея №1523 Предуниверситария НИЯУ МИФИ по адресу: г. Москва, Кленовый бульвар, д.21
G14: базовая цена | I14: текущая цена
C15: Сметная стоимость | G15: =SUM(O1:O993)/1000 -> 462.96824 | I15: =(Source!P730/1000) -> 3585.2217 | K15: тыс. руб.
C16: Строительные работы | G16: =SUM(W1:W993)/1000 -> 370.31477 | I16: =(Source!P717)/1000 -> 2430.517 | K16: тыс. руб.
C17: Монтажные работы | G17: =SUM(X1:X993)/1000 -> 92.65347 | I17: =(Source!P718)/1000 -> 607.80647 | K17: тыс. руб.
C18: Оборудование | G18: =SUM(Y1:Y993)/1000 -> 0 | I18: =(Source!P709)/1000 -> 0 | K18: тыс. руб.
C19: Прочие работы | G19: =SUM(Z1:Z993)/1000 -> 0 | I19: =(Source!P719+Source!P720)/1000 -> 0 | K19: тыс. руб.
C20: Нормативная трудоемкость | G20: =I20 -> 4805.8044 | I20: =(Source!P722+Source!P723) -> 4805.8044 | K20: чел. -ч.
C21: Средства на оплату труда | G21: =SUM(R1:R993)/1000 -> 42.45964 | I21: =((Source!P715 + Source!P714)/1000) -> 278.53572 | K21: тыс. руб.
A23: Составлена в ценах II квартал 2018 года
A24: № п/п | B24: Шифр расценки и коды ресурсов | C24: Наименование работ и затрат | D24: Ед. изм. | E24: Кол-во единиц | F24: Цена на ед. изм. | G24: Попра-вочные коэфф. | H24: Стоимость в ценах 2001г. | I24: Пункт коэфф. пересчета | J24: Коэфф. пересчета | K24: Стоимость в текущих ценах | L24: ЗТР всего чел.-час
A25: 1 | B25: 2 | C25: 3 | D25: 4 | E25: 5 | F25: 6 | G25: 7 | H25: 8 | I25: 9 | J25: 10 | K25: 11 | L25: 12
A27: =CONCATENATE("Локальная смета: ",IF(Source!G20<>"Новая локальная смета", Source!G20, "")) -> Локальная смета:
A29: =CONCATENATE("Раздел: ",IF(Source!G24<>"Новый раздел", Source!G24, "")) -> Раздел: Демонтажные работы
A30: =Source!E29 -> 1 | B30: =Source!F29 -> 55-5-1 | C30: =Source!G29 -> Разборка кирпичных перегородок на отдельные кирпичи | D30: =Source!H29 -> 100 м2 | E30: =Source!I29 -> 0.005 | F30: =Source!AL29+Source!AM29+Source!AO29 -> 1443.4 | I30: =Source!BO29 | S30: =ROUND((Source!FX29/100)*((ROUND(Source!AF29*Source!I29, 2)+ROUND(Source!AE29*Source!I29, 2))), 2) -> 5.36 | T30: =Source!X29 -> 35.16 | U30: =ROUND((Source!FY29/100)*((ROUND(Source!AF29*Source!I29, 2)+ROUND(Source!AE29*Source!I29, 2))), 2) -> 3.91 | V30: =Source!Y29 -> 25.68
C31: ="Объем: "&Source!I29&"=0,5/"&"100" -> Объем: 0,005=0,5/100
C32: Зарплата | F32: =Source!AO29 -> 1204.44 | G32: =Source!DG29 | H32: =ROUND(Source!AF29*Source!I29, 2) -> 6.02 | J32: =IF(Source!BA29<> 0, Source!BA29, 1) -> 6.56 | K32: =Source!S29 -> 39.51 | R32: =H32 -> 6.02
C33: Эксплуатация машин | F33: =Source!AM29 -> 238.96 | G33: =Source!DE29 | H33: =ROUND(Source!AD29*Source!I29, 2) -> 1.19 | J33: =IF(Source!BB29<> 0, Source!BB29, 1) -> 6.56 | K33: =Source!Q29 -> 7.84
C34: НР от ФОТ | D34: % | E34: =Source!BZ29 -> 89 | H34: =SUM(S30:S37) -> 5.36 | J34: =Source!AT29 -> 89 | K34: =SUM(T30:T37) -> 35.16
C35: СП от ФОТ | D35: % | E35: =Source!CA29 -> 65 | H35: =SUM(U30:U37) -> 3.91 | J35: =Source!AU29 -> 65 | K35: =SUM(V30:V37) -> 25.68
C36: Затраты труда | D36: чел-ч | E36: =Source!AQ29 -> 141.2 | G36: =Source!DI29 | L36: =Source!U29 -> 0.706
A37: =Source!E31 -> 1,1 | B37: =Source!F31 -> 01.7.07.07 | C37: =Source!G31 -> Строительный мусор и масса возвратных материалов | D37: =Source!H31 -> т | E37: =Source!I31 -> 0.097 | F37: =Source!AL31+Source!AM31+Source!AO31 -> 0 | H37: =ROUND(Source!AC31*Source!I31, 2)+ROUND(Source!AD31*Source!I31, 2)+ROUND(Source!AF31*Source!I31, 2) -> 0 | J37: =IF(Source!BC31<> 0, Source!BC31, 1) -> 6.56 | K37: =Source!O31 -> 0 | S37: =ROUND((Source!FX31/100)*((ROUND(Source!AF31*Source!I31, 2)+ROUND(Source!AE31*Source!I31, 2))), 2) -> 0 | T37: =Source!X31 -> 0 | U37: =ROUND((Source!FY31/100)*((ROUND(Source!AF31*Source!I31, 2)+ROUND(Source!AE31*Source!I31, 2))), 2) -> 0 | V37: =Source!Y31 -> 0 | W37: =IF(Source!BI31<=1,H37, 0) -> 0 | X37: =IF(Source!BI31=2,H37, 0) -> 0 | Y37: =IF(Source!BI31=3,H37, 0) -> 0 | Z37: =IF(Source!BI31=4,H37, 0) -> 0
G38: =H32+H33+H34+H35+SUM(H37:H37) -> 16.48 | J38: =K32+K33+K34+K35+SUM(K37:K37) -> 108.19 | L38: =Source!U29 -> 0.706 | O38: =G38 -> 16.48 | P38: =J38 -> 108.19 | Q38: =L38 -> 0.706 | W38: =IF(Source!BI29<=1,H32+H33+H34+H35, 0) -> 16.48 | X38: =IF(Source!BI29=2,H32+H33+H34+H35, 0) -> 0 | Y38: =IF(Source!BI29=3,H32+H33+H34+H35, 0) -> 0 | Z38: =IF(Source!BI29=4,H32+H33+H34+H35, 0) -> 0
A39: =Source!E33 -> 2 | B39: =Source!F33 -> 63-7-5 | C39: =Source!G33 -> Разборка облицовки стен из керамических глазурованных плиток | D39: =Source!H33 -> 100 м2 | E39: =Source!I33 -> 2.8289 | F39: =Source!AL33+Source!AM33+Source!AO33 -> 654 | I39: =Source!BO33 | S39: =ROUND((Source!FX33/100)*((ROUND(Source!AF33*Source!I33, 2)+ROUND(Source!AE33*Source!I33, 2))), 2) -> 1284.01 | T39: =Source!X33 -> 8423.14 | U39: =ROUND((Source!FY33/100)*((ROUND(Source!AF33*Source!I33, 2)+ROUND(Source!AE33*Source!I33, 2))), 2) -> 833.78 | V39: =Source!Y33 -> 5469.57
C40: ="Объем: "&Source!I33&"=282,89/"&"100" -> Объем: 2,8289=282,89/100
C41: Зарплата | F41: =Source!AO33 -> 584.74 | G41: =Source!DG33 | H41: =ROUND(Source!AF33*Source!I33, 2) -> 1654.17 | J41: =IF(Source!BA33<> 0, Source!BA33, 1) -> 6.56 | K41: =Source!S33 -> 10851.36 | R41: =H41 -> 1654.17
C42: Эксплуатация машин | F42: =Source!AM33 -> 69.26 | G42: =Source!DE33 | H42: =ROUND(Source!AD33*Source!I33, 2) -> 195.93 | J42: =IF(Source!BB33<> 0, Source!BB33, 1) -> 6.56 | K42: =Source!Q33 -> 1285.3
C43: в т.ч. зарплата машинистов | F43: =Source!AN33 -> 4.73 | G43: =Source!DF33 | H43: =ROUND(Source!AE33*Source!I33, 2) -> 13.38 | J43: =IF(Source!BS33<> 0, Source!BS33, 1) -> 6.56 | K43: =Source!R33 -> 87.78 | R43: =H43 -> 13.38
C44: НР от ФОТ | D44: % | E44: =Source!BZ33 -> 77 | H44: =SUM(S39:S46) -> 1284.01 | J44: =Source!AT33 -> 77 | K44: =SUM(T39:T46) -> 8423.14
C45: СП от ФОТ | D45: % | E45: =Source!CA33 -> 50 | H45: =SUM(U39:U46) -> 833.78 | J45: =Source!AU33 -> 50 | K45: =SUM(V39:V46) -> 5469.57
C46: Затраты труда | D46: чел-ч | E46: =Source!AQ33 -> 74.3 | G46: =Source!DI33 | L46: =Source!U33 -> 210.18727
G47: =H41+H42+H44+H45 -> 3967.89 | J47: =K41+K42+K44+K45 -> 26029.37 | L47: =Source!U33 -> 210.18727 | O47: =G47 -> 3967.89 | P47: =J47 -> 26029.37 | Q47: =L47 -> 210.18727 | W47: =IF(Source!BI33<=1,H41+H42+H44+H45, 0) -> 3967.89 | X47: =IF(Source!BI33=2,H41+H42+H44+H45, 0) -> 0 | Y47: =IF(Source!BI33=3,H41+H42+H44+H45, 0) -> 0 | Z47: =IF(Source!BI33=4,H41+H42+H44+H45, 0) -> 0
A48: =Source!E35 -> 3 | B48: =Source!F35 -> 13-06-003-01 | C48: =Source!G35 -> Очистка поверхности щетками | D48: =Source!H35 -> м2 | E48: =Source!I35 -> 486.08 | F48: =Source!AL35+Source!AM35+Source!AO35 -> 7.68 | I48: =Source!BO35 | S48: =ROUND((Source!FX35/100)*((ROUND(Source!AF35*Source!I35, 2)+ROUND(Source!AE35*Source!I35, 2))), 2) -> 3476.59 | T48: =Source!X35 -> 22806.43 | U48: =ROUND((Source!FY35/100)*((ROUND(Source!AF35*Source!I35, 2)+ROUND(Source!AE35*Source!I35, 2))), 2) -> 2553.79 | V48: =Source!Y35 -> 16893.65
C49: ="Объем: "&Source!I35&"=240,94+"&"245,14" -> Объем: 486,08=240,94+245,14
C50: Зарплата | F50: =Source!AO35 -> 7.68 | G50: =Source!DG35 -> )*1,15 | H50: =ROUND(Source!AF35*Source!I35, 2) -> 4292.09 | J50: =IF(Source!BA35<> 0, Source!BA35, 1) -> 6.56 | K50: =Source!S35 -> 28156.09 | R50: =H50 -> 4292.09
C51: НР от ФОТ | D51: % | E51: =Source!BZ35 -> 90 | F51: =CONCATENATE(" )", Source!DL35, Source!FT35, "=", Source!FX35) -> )*0,9=81 | H51: =SUM(S48:S53) -> 3476.59 | J51: =Source!AT35 -> 81 | K51: =SUM(T48:T53) -> 22806.43
C52: СП от ФОТ | D52: % | E52: =Source!CA35 -> 70 | F52: =CONCATENATE(" )", Source!DM35, Source!FU35, "=", Source!FY35) -> )*0,85=59,5 | H52: =SUM(U48:U53) -> 2553.79 | J52: =Source!AU35 -> 60 | K52: =SUM(V48:V53) -> 16893.65
...

Sheet Акт КС-2 c НР и СП
A1: =Source!B1 -> Smeta.RU (495) 974-1589
E2: Унифицированная форма № КС-2
E3: Утверждена постановлением Госкомстата России
E4: от 11.11.99. № 100
G6: Код
F7: Форма по ОКУД | G7: 0322005
G8: =IF(Source!AT15 <> "", Source!AT15, "")
A9: Инвестор | C9: =IF(Source!BA15 <> "", Source!BA15, IF(Source!AU15 <> "", Source!AU15, "")) | F9: по ОКПО
C10: организация, адрес, телефон, факс | G10: =IF(Source!AK15 <> "", Source!AK15, "")
A11: Заказчик | C11: =IF(Source!AX12<> "", Source!AX12, IF(Source!AJ12 <> "", Source!AJ12, "")) | F11: по ОКПО
C12: организация, адрес, телефон, факс | G12: =IF(Source!AO15 <> "", Source!AO15, "")
A13: Подрядчик | C13: =IF(Source!AY12<> "", Source!AY12, IF(Source!AN12 <> "", Source!AN12, "")) | F13: по ОКПО
C14: организация, адрес, телефон, факс | G14: =IF(Source!CO15 <> "", Source!CO15, "")
A15: Стройка | C15: Капитальный ремонт помещений пищеблока в здании университетского лицея №1523 Предуниверситария НИЯУ МИФИ по адресу: г. Москва, Кленовый бульвар, д. 21 | AE15: Капитальный ремонт помещений пищеблока в здании университетского лицея №1523 Предуниверситария НИЯУ МИФИ по адресу: г. Москва, Кленовый бульвар, д. 21
C16: наименование, адрес | G16: =IF(Source!CP15 <> "", Source!CP15, "")
A17: Объект | C17: =IF(Source!G12<>"Новый объект", Source!G12, "") -> Ремонт помещений № 39-59 пищеблока 1-го этажа и систем хоз.бытовой канализации, водоснабжения, отопления и электроосвещения на техническом этаже здания Университетского лицея №1523 Предуниверситария НИЯУ МИФИ по адресу: г. Москва, Кленовый бульвар, д.21 | AE17: =IF(Source!G12<>"Новый объект", Source!G12, "") -> Ремонт помещений № 39-59 пищеблока 1-го этажа и систем хоз.бытовой канализации, водоснабжения, отопления и электроосвещения на техническом этаже здания Университетского лицея №1523 Предуниверситария НИЯУ МИФИ по адресу: г. Москва, Кленовый бульвар, д.21
C18: наименование
D19: Вид деятельности по ОКДП | G19: =IF(Source!CQ15 <> "", Source!CQ15, "")
D20: Договор подряда | F20: номер | G20: =IF(Source!CR15 <> "", Source!CR15, "")
F21: дата | G21: =IF(Source!CS15 <> 0, Source!CS15, "")
F22: Вид операции | G22: =IF(Source!CT15 <> "", Source!CT15, "")
D24: Номер документа | E24: Дата составления | F24: Отчетный период
F25: с | G25: по
D26: =IF(Source!CN15 <> "", Source!CN15, "") | E26: 43271.489
A28: AKT
A29: О ПРИЕМКЕ ВЫПОЛНЕННЫХ РАБОТ
A31: Сметная (договорная) стоимость в соответствии с договором подряда (субподряда) | F31: =(Source!P730/1000) -> 3585.2217 | H31: тыс.руб
A33: Номер | C33: Наименование работ | D33: Номер единичной расценки | E33: Единица измерения | F33: Выполнено работ
A34: по порядку | B34: поз. по смете | F34: Количество | G34: цена за единицу, руб | H34: стоимость, руб
A35: 1 | B35: 2 | C35: 3 | D35: 4 | E35: 5 | F35: 6 | G35: 7 | H35: 8
A37: =CONCATENATE("Локальная смета: ",IF(Source!G20<>"Новая локальная смета", Source!G20, "")) -> Локальная смета:
A39: =CONCATENATE("Раздел: ",IF(Source!G24<>"Новый раздел", Source!G24, "")) -> Раздел: Демонтажные работы
A40: 1 | B40: =Source!E29 -> 1 | C40: =Source!G29 -> Разборка кирпичных перегородок на отдельные кирпичи | D40: =Source!F29 -> 55-5-1 | E40: =Source!H29 -> 100 м2 | F40: =Source!I29 -> 0.005 | G40: =Source!AB29 -> 1443.4 | H40: =Source!O29 -> 47.35 | T40: =Source!O29+Source!X29+Source!Y29 -> 108.19 | U40: =Source!P29 -> 0 | V40: =Source!S29 -> 39.51 | W40: =Source!Q29 -> 7.84 | X40: =Source!R29 -> 0 | Y40: =Source!U29 -> 0.706 | Z40: =Source!V29 -> 0 | AA40: =Source!X29 -> 35.16 | AB40: =Source!Y29 -> 25.68
C41: ="Объем: "&Source!I29&"=0,5/"&"100" -> Объем: 0,005=0,5/100
C42: Коэфф. к ОЗП | D42: =Source!BA29 -> 6.56
C43: Коэфф. к эксплуатации машин | D43: =Source!BB29 -> 6.56
C44: Коэфф. к материалам | D44: =Source!BC29 -> 6.56
C45: Коэфф. к ЗПМ | D45: =Source!BS29 -> 6.56
C46: % НР | F46: =Source!BZ29 -> 89 | G46: =(Source!AF29+Source!AE29)*Source!FX29/100 -> 1071.9516 | H46: =Source!X29 -> 35.16
C47: % СП | F47: =Source!CA29 -> 65 | G47: =(Source!AF29+Source!AE29)*Source!FY29/100 -> 782.886 | H47: =Source!Y29 -> 25.68
...

Sheet Source
A1: 0 | B1: Smeta.RU (495) 974-1589 | D1: _PS_ | F1: 0 | G1: 0 | H1: 0 | I1: Smeta.RU | J1: НИЯУ МИФИ Доп. раб. место MCCS-0027251 | K1: 0 | L1: 27251 | M1: 10 | N1: 10 | O1: 1 | P1: 0 | Q1: 5
A12: 1 | B12: 761 | C12: 0 | D12: =ROW(A700) -> 700 | E12: 0 | F12: Новый объект | G12: Ремонт помещений № 39-59 пищеблока 1-го этажа и систем хоз.бытовой канализации, водоснабжения, отопления и электроосвещения на техническом этаже здания Университетского лицея №1523 Предуниверситария НИЯУ МИФИ по адресу: г. Москва, Кленовый бульвар, д.21 | I12: 0 | K12: 0 | O12: 0 | P12: 0 | Q12: 0 | R12: 0 | S12: 0 | V12: 0 | BH12: Сметные нормы списания | BI12: Коды ценников | BJ12: 1 | BK12: 1 | BL12: 0 | BM12: 0 | BN12: 1 | BO12: 0 | BP12: 2 | BQ12: 2 | BR12: 1 | BS12: 1 | BT12: 0 | BU12: 0 | BV12: 0 | BW12: 0 | BX12: 0 | BY12: ФЕР-2017 | BZ12: ТР для Версии 10: Центральные регионы (с учетом п-ма 2536-ИП/12/ГС от 22.03.2017 г | CA12: ФЕР-2017 | CB12: ФЕР-2017 | CC12: ФЕР-2017 | CD12: ФЕР-2017 | CE12: Поправки для ГСН 2017 от 31.03.2017 г | CF12: 0 | CG12: 0 | CH12: 524288 | CK12: 4 | EC12: 0
A15: 15 | B15: 1
A18: 52 | B18: =B700 -> 761 | C18: =C700 -> 1 | D18: =D700 -> 12 | E18: =E700 -> 0 | F18: =F700 -> Новый объект | G18: =G700 -> Ремонт помещений № 39-59 пищеблока 1-го этажа и систем хоз.бытовой канализации, водоснабжения, отопления и электроосвещения на техническом этаже здания Университетского лицея №1523 Предуниверситария НИЯУ МИФИ по адресу: г. Москва, Кленовый бульвар, д.21 | O18: =O700 -> 384703.65 | P18: =P700 -> 339445.54 | Q18: =Q700 -> 3482.01 | R18: =R700 -> 683.54 | S18: =S700 -> 41776.1 | T18: =T700 -> 0 | U18: =U700 -> 4747.7949 | V18: =V700 -> 58.009473 | ... GX18: =GX700 -> 0
A20: 3 | B20: 1 | D20: =ROW(A668) -> 668 | F20: Новая локальная смета | G20: Новая локальная смета | I20: 0 | K20: 0 | V20: 0 | BX20: 0 | CF20: 0 | CG20: 0
A22: 52 | B22: =B668 -> 1 | C22: =C668 -> 3 | D22: =D668 -> 20 | E22: =E668 -> 0 | F22: =F668 -> Новая локальная смета | G22: =G668 -> Новая локальная смета | O22: =O668 -> 384703.65 | P22: =P668 -> 339445.54 | Q22: =Q668 -> 3482.01 | R22: =R668 -> 683.54 | S22: =S668 -> 41776.1 | T22: =T668 -> 0 | U22: =U668 -> 4747.7949 | V22: =V668 -> 58.009473 | ... GX22: =GX668 -> 0
A24: 4 | B24: 1 | D24: =ROW(A103) -> 103 | F24: Новый раздел | G24: Демонтажные работы | I24: 0 | K24: 0 | V24: 0 | BX24: 0 | CJ24: 0
A26: 52 | B26: =B103 -> 1 | C26: =C103 -> 4 | D26: =D103 -> 24 | E26: =E103 -> 0 | F26: =F103 -> Новый раздел | G26: =G103 -> Демонтажные работы | O26: =O103 -> 11805.54 | P26: =P103 -> 2.18 | Q26: =Q103 -> 564.31 | R26: =R103 -> 151.3 | S26: =S103 -> 11239.05 | T26: =T103 -> 0 | U26: =U103 -> 1349.0566 | V26: =V103 -> 11.302061 | ... GX26: =GX103 -> 0
A28: 17 | B28: 1 | C28: =ROW(SmtRes!A4) -> 4 | D28: =ROW(EtalonRes!A4) -> 4 | E28: 1 | F28: 55-5-1 | G28: Разборка кирпичных перегородок на отдельные кирпичи | H28: 100 м2 | I28: =ROUND(0.5/100,9) -> 0.005 | J28: 0 | O28: =ROUND(CP28,2) -> 7.21 | P28: =ROUND(CQ28*I28,2) -> 0 | Q28: =ROUND(CR28*I28,2) -> 1.19 | R28: =ROUND(CS28*I28,2) -> 0 | S28: =ROUND(CT28*I28,2) -> 6.02 | T28: =ROUND(CU28*I28,2) -> 0 | U28: =CV28*I28 -> 0.706 | V28: =CW28*I28 -> 0 | W28: =ROUND(CX28*I28,2) -> 0 | X28: =ROUND(CY28,2) -> 5.36 | Y28: =ROUND(CZ28,2) -> 3.91 | AA28: 16697018 | AB28: =ROUND((AC28+AD28+AF28),2) -> 1443.4 | AC28: =ROUND((ES28),2) -> 0 | AD28: =ROUND((((ET28)-(EU28))+AE28),2) -> 238.96 | AE28: =ROUND((EU28),2) -> 0 | AF28: =ROUND((EV28),2) -> 1204.44 | AG28: =ROUND((AP28),2) -> 0 | AH28: =(EW28) -> 141.2 | AI28: =(EX28) -> 0 | AJ28: =ROUND((AS28),2) -> 0 | AK28: 1443.4 | AL28: 0 | AM28: 238.96 | AN28: 0 | AO28: 1204.44 | AP28: 0 | AQ28: 141.2 | AR28: 0 | AS28: 0 | AT28: 89 | AU28: 65 | AV28: 1 | AW28: 1 | AZ28: 1 | BA28: 1 | BB28: 1 | BC28: 1 | BH28: 0 | BI28: 1 | BJ28: ФЕРр-2001, 55-5-1, приказ Минстроя России №1039/пр от 30.12.2016г. | BM28: 55001 | BN28: 0 | BP28: 0 | BQ28: 6 | BR28: 0 | BS28: 1 | BT28: 1 | BU28: 1 | BV28: 1 | BW28: 1 | BX28: 1 | BZ28: 89 | CA28: 65 | CF28: 0 | CG28: 0 | CM28: 0 | CO28: 0 | CP28: =(P28+Q28+S28) -> 7.21 | CQ28: =AC28*BC28 -> 0 | CR28: =AD28*BB28 -> 238.96 | CS28: =AE28*BS28 -> 0 | CT28: =AF28*BA28 -> 1204.44 | CU28: =AG28 -> 0 | CV28: =AH28 -> 141.2 | CW28: =AI28 -> 0 | CX28: =AJ28 -> 0 | CY28: =(((S28+R28)*AT28)/100) -> 5.3578 | CZ28: =(((S28+R28)*AU28)/100) -> 3.913 | DN28: 0 | DO28: 0 | DP28: 1 | DQ28: 1 | DU28: 1005 | DV28: 100 м2 | DW28: 100 м2 | DX28: 100 | EE28: 16510564 | EF28: 6 | EG28: Ремонтно-строительные работы | EH28: 0 | EJ28: 1 | EK28: 55001 | EL28: Перегородки | EM28: рФЕР-55 | EQ28: 131072 | ER28: 1443.4 | ES28: 0 | ET28: 238.96 | EU28: 0 | EV28: 1204.44 | EW28: 141.2 | EX28: 0 | EY28: 0 | FQ28: 0 | FR28: =ROUND(IF(AND(BH28=3,BI28=3),P28,0),2) -> 0 | FS28: 0 | FX28: 89 | FY28: 65 | GD28: 0 | GF28: -1515074980 | GG28: 2 | GH28: 1 | GI28: -2 | GJ28: 0 | GK28: =ROUND(R28*(R12)/100,2) -> 0 | GL28: =ROUND(IF(AND(BH28=3,BI28=3,FS28<>0),P28,0),2) -> 0 | GM28: =ROUND(O28+X28+Y28+GK28,2)+GX28 -> 16.48 | GN28: =IF(OR(BI28=0,BI28=1),ROUND(O28+X28+Y28+GK28,2),0) -> 16.48 | GO28: =IF(BI28=2,ROUND(O28+X28+Y28+GK28,2),0) -> 0 | GP28: =IF(BI28=4,ROUND(O28+X28+Y28+GK28,2)+GX28,0) -> 0 | GR28: 0 | GS28: 3 | GT28: 0 | GV28: =ROUND(GT28,2) -> 0 | GW28: 1 | GX28: =ROUND(GV28*GW28*I28,2) -> 0 | HA28: 0 | HB28: 0 | IK28: 0
A29: 17 | B29: 1 | C29: =ROW(SmtRes!A8) -> 8 | D29: =ROW(EtalonRes!A8) -> 8 | E29: 1 | F29: 55-5-1 | G29: Разборка кирпичных перегородок на отдельные кирпичи | H29: 100 м2 | I29: =ROUND(0.5/100,9) -> 0.005 | J29: 0 | O29: =ROUND(CP29,2) -> 47.35 | P29: =ROUND(CQ29*I29,2) -> 0 | Q29: =ROUND(CR29*I29,2) -> 7.84 | R29: =ROUND(CS29*I29,2) -> 0 | S29: =ROUND(CT29*I29,2) -> 39.51 | T29: =ROUND(CU29*I29,2) -> 0 | U29: =CV29*I29 -> 0.706 | V29: =CW29*I29 -> 0 | W29: =ROUND(CX29*I29,2) -> 0 | X29: =ROUND(CY29,2) -> 35.16 | Y29: =ROUND(CZ29,2) -> 25.68 | AA29: 16697019 | AB29: =ROUND((AC29+AD29+AF29),2) -> 1443.4 | AC29: =ROUND((ES29),2) -> 0 | AD29: =ROUND((((ET29)-(EU29))+AE29),2) -> 238.96 | AE29: =ROUND((EU29),2) -> 0 | AF29: =ROUND((EV29),2) -> 1204.44 | AG29: =ROUND((AP29),2) -> 0 | AH29: =(EW29) -> 141.2 | AI29: =(EX29) -> 0 | AJ29: =ROUND((AS29),2) -> 0 | AK29: 1443.4 | AL29: 0 | AM29: 238.96 | AN29: 0 | AO29: 1204.44 | AP29: 0 | AQ29: 141.2 | AR29: 0 | AS29: 0 | AT29: 89 | AU29: 65 | AV29: 1 | AW29: 1 | AZ29: 6.56 | BA29: 6.56 | BB29: 6.56 | BC29: 6.56 | BH29: 0 | BI29: 1 | BJ29: ФЕРр-2001, 55-5-1, приказ Минстроя России №1039/пр от 30.12.2016г. | BM29: 55001 | BN29: 0 | BP29: 0 | BQ29: 6 | BR29: 0 | BS29: 6.56 | BT29: 1 | BU29: 1 | BV29: 1 | BW29: 1 | BX29: 1 | BZ29: 89 | CA29: 65 | CF29: 0 | CG29: 0 | CM29: 0 | CO29: 0 | CP29: =(P29+Q29+S29) -> 47.35 | CQ29: =AC29*BC29 -> 0 | CR29: =AD29*BB29 -> 1567.5776 | CS29: =AE29*BS29 -> 0 | CT29: =AF29*BA29 -> 7901.1264 | CU29: =AG29 -> 0 | CV29: =AH29 -> 141.2 | CW29: =AI29 -> 0 | CX29: =AJ29 -> 0 | CY29: =(((S29+R29)*AT29)/100) -> 35.1639 | CZ29: =(((S29+R29)*AU29)/100) -> 25.6815 | DN29: 0 | DO29: 0 | DP29: 1 | DQ29: 1 | DU29: 1005 | DV29: 100 м2 | DW29: 100 м2 | DX29: 100 | EE29: 16510564 | EF29: 6 | EG29: Ремонтно-строительные работы | EH29: 0 | EJ29: 1 | EK29: 55001 | EL29: Перегородки | EM29: рФЕР-55 | EQ29: 131072 | ER29: 1443.4 | ES29: 0 | ET29: 238.96 | EU29: 0 | EV29: 1204.44 | EW29: 141.2 | EX29: 0 | EY29: 0 | FQ29: 0 | FR29: =ROUND(IF(AND(BH29=3,BI29=3),P29,0),2) -> 0 | FS29: 0 | FX29: 89 | FY29: 65 | GD29: 0 | GF29: -1515074980 | GG29: 1 | GH29: 1 | GI29: 4 | GJ29: 0 | GK29: =ROUND(R29*(S12)/100,2) -> 0 | GL29: =ROUND(IF(AND(BH29=3,BI29=3,FS29<>0),P29,0),2) -> 0 | GM29: =ROUND(O29+X29+Y29+GK29,2)+GX29 -> 108.19 | GN29: =IF(OR(BI29=0,BI29=1),ROUND(O29+X29+Y29+GK29,2),0) -> 108.19 | GO29: =IF(BI29=2,ROUND(O29+X29+Y29+GK29,2),0) -> 0 | GP29: =IF(BI29=4,ROUND(O29+X29+Y29+GK29,2)+GX29,0) -> 0 | GR29: 0 | GS29: 3 | GT29: 0 | GV29: =ROUND(GT29,2) -> 0 | GW29: 1 | GX29: =ROUND(GV29*GW29*I29,2) -> 0 | HA29: 0 | HB29: 0 | IK29: 0
A30: 18 | B30: 1 | C30: 4 | E30: 1,1 | F30: 01.7.07.07 | G30: Строительный мусор и масса возвратных материалов | H30: т | I30: =I28*J30 -> 0.097 | J30: 19.4 | O30: =ROUND(CP30,2) -> 0 | P30: =ROUND(CQ30*I30,2) -> 0 | Q30: =ROUND(CR30*I30,2) -> 0 | R30: =ROUND(CS30*I30,2) -> 0 | S30: =ROUND(CT30*I30,2) -> 0 | T30: =ROUND(CU30*I30,2) -> 0 | U30: =CV30*I30 -> 0 | V30: =CW30*I30 -> 0 | W30: =ROUND(CX30*I30,2) -> 0 | X30: =ROUND(CY30,2) -> 0 | Y30: =ROUND(CZ30,2) -> 0 | AA30: 16697018 | AB30: =ROUND((AC30+AD30+AF30),2) -> 0 | AC30: =ROUND((ES30),2) -> 0 | AD30: =ROUND((((ET30)-(EU30))+AE30),2) -> 0 | AE30: =ROUND((EU30),2) -> 0 | AF30: =ROUND((EV30),2) -> 0 | AG30: =ROUND((AP30),2) -> 0 | AH30: =(EW30) -> 0 | AI30: =(EX30) -> 0 | AJ30: =ROUND((AS30),2) -> 0 | AK30: 0 | AL30: 0 | AM30: 0 | AN30: 0 | AO30: 0 | AP30: 0 | AQ30: 0 | AR30: 0 | AS30: 0 | AT30: 89 | AU30: 65 | AV30: 1 | AW30: 1 | AZ30: 1 | BA30: 1 | BB30: 1 | BC30: 1 | BH30: 3 | BI30: 1 | BM30: 55001 | BN30: 0 | BP30: 0 | BQ30: 6 | BR30: 0 | BS30: 1 | BT30: 1 | BU30: 1 | BV30: 1 | BW30: 1 | BX30: 1 | BZ30: 89 | CA30: 65 | CF30: 0 | CG30: 0 | CM30: 0 | CO30: 0 | CP30: =(P30+Q30+S30) -> 0 | CQ30: =AC30*BC30 -> 0 | CR30: =AD30*BB30 -> 0 | CS30: =AE30*BS30 -> 0 | CT30: =AF30*BA30 -> 0 | CU30: =AG30 -> 0 | CV30: =AH30 -> 0 | CW30: =AI30 -> 0 | CX30: =AJ30 -> 0 | CY30: =(((S30+R30)*AT30)/100) -> 0 | CZ30: =(((S30+R30)*AU30)/100) -> 0 | DN30: 0 | DO30: 0 | DP30: 1 | DQ30: 1 | DU30: 1009 | DV30: т | DW30: т | DX30: 1000 | EE30: 16510564 | EF30: 6 | EG30: Ремонтно-строительные работы | EH30: 0 | EJ30: 1 | EK30: 55001 | EL30: Перегородки | EM30: рФЕР-55 | EQ30: 0 | ER30: 0 | ES30: 0 | ET30: 0 | EU30: 0 | EV30: 0 | EW30: 0 | EX30: 0 | FQ30: 0 | FR30: =ROUND(IF(AND(BH30=3,BI30=3),P30,0),2) -> 0 | FS30: 0 | FX30: 89 | FY30: 65 | GD30: 0 | GF30: -66286256 | GG30: 2 | GH30: 1 | GI30: -2 | GJ30: 0 | GK30: =ROUND(R30*(R12)/100,2) -> 0 | GL30: =ROUND(IF(AND(BH30=3,BI30=3,FS30<>0),P30,0),2) -> 0 | GM30: =ROUND(O30+X30+Y30+GK30,2)+GX30 -> 0 | GN30: =IF(OR(BI30=0,BI30=1),ROUND(O30+X30+Y30+GK30,2),0) -> 0 | GO30: =IF(BI30=2,ROUND(O30+X30+Y30+GK30,2),0) -> 0 | GP30: =IF(BI30=4,ROUND(O30+X30+Y30+GK30,2)+GX30,0) -> 0 | GR30: 0 | GS30: 3 | GT30: 0 | GV30: =ROUND(GT30,2) -> 0 | GW30: 1 | GX30: =ROUND(GV30*GW30*I30,2) -> 0 | HA30: 0 | HB30: 0 | IK30: 0
A31: 18 | B31: 1 | C31: 8 | E31: 1,1 | F31: 01.7.07.07 | G31: Строительный мусор и масса возвратных материалов | H31: т | I31: =I29*J31 -> 0.097 | J31: 19.4 | O31: =ROUND(CP31,2) -> 0 | P31: =ROUND(CQ31*I31,2) -> 0 | Q31: =ROUND(CR31*I31,2) -> 0 | R31: =ROUND(CS31*I31,2) -> 0 | S31: =ROUND(CT31*I31,2) -> 0 | T31: =ROUND(CU31*I31,2) -> 0 | U31: =CV31*I31 -> 0 | V31: =CW31*I31 -> 0 | W31: =ROUND(CX31*I31,2) -> 0 | X31: =ROUND(CY31,2) -> 0 | Y31: =ROUND(CZ31,2) -> 0 | AA31: 16697019 | AB31: =ROUND((AC31+AD31+AF31),2) -> 0 | AC31: =ROUND((ES31),2) -> 0 | AD31: =ROUND((((ET31)-(EU31))+AE31),2) -> 0 | AE31: =ROUND((EU31),2) -> 0 | AF31: =ROUND((EV31),2) -> 0 | AG31: =ROUND((AP31),2) -> 0 | AH31: =(EW31) -> 0 | AI31: =(EX31) -> 0 | AJ31: =ROUND((AS31),2) -> 0 | AK31: 0 | AL31: 0 | AM31: 0 | AN31: 0 | AO31: 0 | AP31: 0 | AQ31: 0 | AR31: 0 | AS31: 0 | AT31: 89 | AU31: 65 | AV31: 1 | AW31: 1 | AZ31: 6.56 | BA31: 1 | BB31: 1 | BC31: 6.56 | BH31: 3 | BI31: 1 | BM31: 55001 | BN31: 0 | BP31: 0 | BQ31: 6 | BR31: 0 | BS31: 1 | BT31: 1 | BU31: 1 | BV31: 1 | BW31: 1 | BX31: 1 | BZ31: 89 | CA31: 65 | CF31: 0 | CG31: 0 | CM31: 0 | CO31: 0 | CP31: =(P31+Q31+S31) -> 0 | CQ31: =AC31*BC31 -> 0 | CR31: =AD31*BB31 -> 0 | CS31: =AE31*BS31 -> 0 | CT31: =AF31*BA31 -> 0 | CU31: =AG31 -> 0 | CV31: =AH31 -> 0 | CW31: =AI31 -> 0 | CX31: =AJ31 -> 0 | CY31: =(((S31+R31)*AT31)/100) -> 0 | CZ31: =(((S31+R31)*AU31)/100) -> 0 | DN31: 0 | DO31: 0 | DP31: 1 | DQ31: 1 | DU31: 1009 | DV31: т | DW31: т | DX31: 1000 | EE31: 16510564 | EF31: 6 | EG31: Ремонтно-строительные работы | EH31: 0 | EJ31: 1 | EK31: 55001 | EL31: Перегородки | EM31: рФЕР-55 | EQ31: 0 | ER31: 0 | ES31: 0 | ET31: 0 | EU31: 0 | EV31: 0 | EW31: 0 | EX31: 0 | FQ31: 0 | FR31: =ROUND(IF(AND(BH31=3,BI31=3),P31,0),2) -> 0 | FS31: 0 | FX31: 89 | FY31: 65 | GD31: 0 | GF31: -66286256 | GG31: 1 | GH31: 1 | GI31: 4 | GJ31: 0 | GK31: =ROUND(R31*(S12)/100,2) -> 0 | GL31: =ROUND(IF(AND(BH31=3,BI31=3,FS31<>0),P31,0),2) -> 0 | GM31: =ROUND(O31+X31+Y31+GK31,2)+GX31 -> 0 | GN31: =IF(OR(BI31=0,BI31=1),ROUND(O31+X31+Y31+GK31,2),0) -> 0 | GO31: =IF(BI31=2,ROUND(O31+X31+Y31+GK31,2),0) -> 0 | GP31: =IF(BI31=4,ROUND(O31+X31+Y31+GK31,2)+GX31,0) -> 0 | GR31: 0 | GS31: 3 | GT31: 0 | GV31: =ROUND(GT31,2) -> 0 | GW31: 1 | GX31: =ROUND(GV31*GW31*I31,2) -> 0 | HA31: 0 | HB31: 0 | IK31: 0
A32: 17 | B32: 1 | C32: =ROW(SmtRes!A13) -> 13 | D32: =ROW(EtalonRes!A13) -> 13 | E32: 2 | F32: 63-7-5 | G32: Разборка облицовки стен из керамических глазурованных плиток | H32: 100 м2 | I32: =ROUND(282.89/100,9) -> 2.8289 | J32: 0 | O32: =ROUND(CP32,2) -> 1850.1 | P32: =ROUND(CQ32*I32,2) -> 0 | Q32: =ROUND(CR32*I32,2) -> 195.93 | R32: =ROUND(CS32*I32,2) -> 13.38 | S32: =ROUND(CT32*I32,2) -> 1654.17 | T32: =ROUND(CU32*I32,2) -> 0 | U32: =CV32*I32 -> 210.18727 | V32: =CW32*I32 -> 0.990115 | W32: =ROUND(CX32*I32,2) -> 0 | X32: =ROUND(CY32,2) -> 1284.01 | Y32: =ROUND(CZ32,2) -> 833.78 | AA32: 16697018 | AB32: =ROUND((AC32+AD32+AF32),2) -> 654 | AC32: =ROUND((ES32),2) -> 0 | AD32: =ROUND((((ET32)-(EU32))+AE32),2) -> 69.26 | AE32: =ROUND((EU32),2) -> 4.73 | AF32: =ROUND((EV32),2) -> 584.74 | AG32: =ROUND((AP32),2) -> 0 | AH32: =(EW32) -> 74.3 | AI32: =(EX32) -> 0.35 | AJ32: =ROUND((AS32),2) -> 0 | AK32: 654 | AL32: 0 | AM32: 69.26 | AN32: 4.73 | AO32: 584.74 | AP32: 0 | AQ32: 74.3 | AR32: 0.35 | AS32: 0 | AT32: 77 | AU32: 50 | AV32: 1 | AW32: 1 | AZ32: 1 | BA32: 1 | BB32: 1 | BC32: 1 | BH32: 0 | BI32: 1 | BJ32: ФЕРр-2001, 63-7-5, приказ Минстроя России №1039/пр от 30.12.2016г. | BM32: 63001 | BN32: 0 | BP32: 0 | BQ32: 6 | BR32: 0 | BS32: 1 | BT32: 1 | BU32: 1 | BV32: 1 | BW32: 1 | BX32: 1 | BZ32: 77 | CA32: 50 | CF32: 0 | CG32: 0 | CM32: 0 | CO32: 0 | CP32: =(P32+Q32+S32) -> 1850.1 | CQ32: =AC32*BC32 -> 0 | CR32: =AD32*BB32 -> 69.26 | CS32: =AE32*BS32 -> 4.73 | CT32: =AF32*BA32 -> 584.74 | CU32: =AG32 -> 0 | CV32: =AH32 -> 74.3 | CW32: =AI32 -> 0.35 | CX32: =AJ32 -> 0 | CY32: =(((S32+R32)*AT32)/100) -> 1284.0135 | CZ32: =(((S32+R32)*AU32)/100) -> 833.775 | DN32: 0 | DO32: 0 | DP32: 1 | DQ32: 1 | DU32: 1005 | DV32: 100 м2 | DW32: 100 м2 | DX32: 100 | EE32: 16510572 | EF32: 6 | EG32: Ремонтно-строительные работы | EH32: 0 | EJ32: 1 | EK32: 63001 | EL32: Стекольные, обойные, облицовочные работы | EM32: рФЕР-63 | EQ32: 131072 | ER32: 654 | ES32: 0 | ET32: 69.26 | EU32: 4.73 | EV32: 584.74 | EW32: 74.3 | EX32: 0.35 | EY32: 0 | FQ32: 0 | FR32: =ROUND(IF(AND(BH32=3,BI32=3),P32,0),2) -> 0 | FS32: 0 | FX32: 77 | FY32: 50 | GD32: 0 | GF32: 1410032296 | GG32: 2 | GH32: 1 | GI32: -2 | GJ32: 0 | GK32: =ROUND(R32*(R12)/100,2) -> 0 | GL32: =ROUND(IF(AND(BH32=3,BI32=3,FS32<>0),P32,0),2) -> 0 | GM32: =ROUND(O32+X32+Y32+GK32,2)+GX32 -> 3967.89 | GN32: =IF(OR(BI32=0,BI32=1),ROUND(O32+X32+Y32+GK32,2),0) -> 3967.89 | GO32: =IF(BI32=2,ROUND(O32+X32+Y32+GK32,2),0) -> 0 | GP32: =IF(BI32=4,ROUND(O32+X32+Y32+GK32,2)+GX32,0) -> 0 | GR32: 0 | GS32: 3 | GT32: 0 | GV32: =ROUND(GT32,2) -> 0 | GW32: 1 | GX32: =ROUND(GV32*GW32*I32,2) -> 0 | HA32: 0 | HB32: 0 | IK32: 0
A33: 17 | B33: 1 | C33: =ROW(SmtRes!A18) -> 18 | D33: =ROW(EtalonRes!A18) -> 18 | E33: 2 | F33: 63-7-5 | G33: Разборка облицовки стен из керамических глазурованных плиток | H33: 100 м2 | I33: =ROUND(282.89/100,9) -> 2.8289 | J33: 0 | O33: =ROUND(CP33,2) -> 12136.66 | P33: =ROUND(CQ33*I33,2) -> 0 | Q33: =ROUND(CR33*I33,2) -> 1285.3 | R33: =ROUND(CS33*I33,2) -> 87.78 | S33: =ROUND(CT33*I33,2) -> 10851.36 | T33: =ROUND(CU33*I33,2) -> 0 | U33: =CV33*I33 -> 210.18727 | V33: =CW33*I33 -> 0.990115 | W33: =ROUND(CX33*I33,2) -> 0 | X33: =ROUND(CY33,2) -> 8423.14 | Y33: =ROUND(CZ33,2) -> 5469.57 | AA33: 16697019 | AB33: =ROUND((AC33+AD33+AF33),2) -> 654 | AC33: =ROUND((ES33),2) -> 0 | AD33: =ROUND((((ET33)-(EU33))+AE33),2) -> 69.26 | AE33: =ROUND((EU33),2) -> 4.73 | AF33: =ROUND((EV33),2) -> 584.74 | AG33: =ROUND((AP33),2) -> 0 | AH33: =(EW33) -> 74.3 | AI33: =(EX33) -> 0.35 | AJ33: =ROUND((AS33),2) -> 0 | AK33: 654 | AL33: 0 | AM33: 69.26 | AN33: 4.73 | AO33: 584.74 | AP33: 0 | AQ33: 74.3 | AR33: 0.35 | AS33: 0 | AT33: 77 | AU33: 50 | AV33: 1 | AW33: 1 | AZ33: 6.56 | BA33: 6.56 | BB33: 6.56 | BC33: 6.56 | BH33: 0 | BI33: 1 | BJ33: ФЕРр-2001, 63-7-5, приказ Минстроя России №1039/пр от 30.12.2016г. | BM33: 63001 | BN33: 0 | BP33: 0 | BQ33: 6 | BR33: 0 | BS33: 6.56 | BT33: 1 | BU33: 1 | BV33: 1 | BW33: 1 | BX33: 1 | BZ33: 77 | CA33: 50 | CF33: 0 | CG33: 0 | CM33: 0 | CO33: 0 | CP33: =(P33+Q33+S33) -> 12136.66 | CQ33: =AC33*BC33 -> 0 | CR33: =AD33*BB33 -> 454.3456 | CS33: =AE33*BS33 -> 31.0288 | CT33: =AF33*BA33 -> 3835.8944 | CU33: =AG33 -> 0 | CV33: =AH33 -> 74.3 | CW33: =AI33 -> 0.35 | CX33: =AJ33 -> 0 | CY33: =(((S33+R33)*AT33)/100) -> 8423.1378 | CZ33: =(((S33+R33)*AU33)/100) -> 5469.57 | DN33: 0 | DO33: 0 | DP33: 1 | DQ33: 1 | DU33: 1005 | DV33: 100 м2 | DW33: 100 м2 | DX33: 100 | EE33: 16510572 | EF33: 6 | EG33: Ремонтно-строительные работы | EH33: 0 | EJ33: 1 | EK33: 63001 | EL33: Стекольные, обойные, облицовочные работы | EM33: рФЕР-63 | EQ33: 131072 | ER33: 654 | ES33: 0 | ET33: 69.26 | EU33: 4.73 | EV33: 584.74 | EW33: 74.3 | EX33: 0.35 | EY33: 0 | FQ33: 0 | FR33: =ROUND(IF(AND(BH33=3,BI33=3),P33,0),2) -> 0 | FS33: 0 | FX33: 77 | FY33: 50 | GD33: 0 | GF33: 1410032296 | GG33: 1 | GH33: 1 | GI33: 4 | GJ33: 0 | GK33: =ROUND(R33*(S12)/100,2) -> 0 | GL33: =ROUND(IF(AND(BH33=3,BI33=3,FS33<>0),P33,0),2) -> 0 | GM33: =ROUND(O33+X33+Y33+GK33,2)+GX33 -> 26029.37 | GN33: =IF(OR(BI33=0,BI33=1),ROUND(O33+X33+Y33+GK33,2),0) -> 26029.37 | GO33: =IF(BI33=2,ROUND(O33+X33+Y33+GK33,2),0) -> 0 | GP33: =IF(BI33=4,ROUND(O33+X33+Y33+GK33,2)+GX33,0) -> 0 | GR33: 0 | GS33: 3 | GT33: 0 | GV33: =ROUND(GT33,2) -> 0 | GW33: 1 | GX33: =ROUND(GV33*GW33*I33,2) -> 0 | HA33: 0 | HB33: 0 | IK33: 0
A34: 17 | B34: 1 | C34: =ROW(SmtRes!A19) -> 19 | D34: =ROW(EtalonRes!A19) -> 19 | E34: 3 | F34: 13-06-003-01 | G34: Очистка поверхности щетками | H34: м2 | I34: =ROUND(240.94+245.14,9) -> 486.08 | J34: 0 | O34: =ROUND(CP34,2) -> 4292.09 | P34: =ROUND(CQ34*I34,2) -> 0 | Q34: =ROUND(CR34*I34,2) -> 0 | R34: =ROUND(CS34*I34,2) -> 0 | S34: =ROUND(CT34*I34,2) -> 4292.09 | T34: =ROUND(CU34*I34,2) -> 0 | U34: =CV34*I34 -> 503.0928 | V34: =CW34*I34 -> 0 | W34: =ROUND(CX34*I34,2) -> 0 | X34: =ROUND(CY34,2) -> 3476.59 | Y34: =ROUND(CZ34,2) -> 2575.25 | AA34: 16697018 | AB34: =ROUND((AC34+AD34+AF34),2) -> 8.83 | AC34: =ROUND((ES34),2) -> 0 | AD34: =ROUND(((((ET34*1.25))-((EU34*1.25)))+AE34),2) -> 0 | AE34: =ROUND(((EU34*1.25)),2) -> 0 | AF34: =ROUND(((EV34*1.15)),2) -> 8.83 | AG34: =ROUND((AP34),2) -> 0 | AH34: =((EW34*1.15)) -> 1.035 | AI34: =((EX34*1.25)) -> 0 | AJ34: =ROUND((AS34),2) -> 0 | AK34: 7.68 | AL34: 0 | AM34: 0 | AN34: 0 | AO34: 7.68 | AP34: 0 | AQ34: 0.9 | AR34: 0 | AS34: 0 | AT34: 81 | AU34: 60 | AV34: 1 | AW34: 1 | AZ34: 1 | BA34: 1 | BB34: 1 | BC34: 1 | BH34: 0 | BI34: 1 | BJ34: ФЕР-2001, 13-06-003-01, приказ Минстроя России №1039/пр от 30.12.2016г. | BM34: 13001 | BN34: 0 | BP34: 0 | BQ34: 2 | BR34: 0 | BS34: 1 | BT34: 1 | BU34: 1 | BV34: 1 | BW34: 1 | BX34: 1 | BZ34: 90 | CA34: 70 | CF34: 0 | CG34: 0 | CM34: 0 | CN34: Поправка: МДС 81-35.2004, п.4.7 Наименование: Работы, выполняемые при реконструкции зданий и сооружений работы, аналогичные технологическим процессам в новом строительстве (в том числе возведение новых конструктивных элементов) стоимость которых определена по соответствующим сборникам ФЕР, кроме сборника № 46 «Работы при реконструкции зданий и сооружений» | CO34: 0 | CP34: =(P34+Q34+S34) -> 4292.09 | CQ34: =AC34*BC34 -> 0 | CR34: =AD34*BB34 -> 0 | CS34: =AE34*BS34 -> 0 | CT34: =AF34*BA34 -> 8.83 | CU34: =AG34 -> 0 | CV34: =AH34 -> 1.035 | CW34: =AI34 -> 0 | CX34: =AJ34 -> 0 | CY34: =(((S34+R34)*AT34)/100) -> 3476.5929 | CZ34: =(((S34+R34)*AU34)/100) -> 2575.254 | DE34: )*1,25 | DF34: )*1,25 | DG34: )*1,15 | DI34: )*1,15 | DJ34: )*1,25 | DN34: 0 | DO34: 0 | DP34: 1 | DQ34: 1 | DU34: 1005 | DV34: м2 | DW34: м2 | DX34: 1 | EE34: 16510490 | EF34: 2 | EG34: Общестроительные работы | EH34: 0 | EJ34: 1 | EK34: 13001 | EL34: Защита строительных конструкций | EM34: ФЕР-13 | EO34: Поправка: МДС 81-35.2004, п.4.7 | EQ34: 131072 | ER34: 7.68 | ES34: 0 | ET34: 0 | EU34: 0 | EV34: 7.68 | EW34: 0.9 | EX34: 0 | EY34: 0 | FQ34: 0 | FR34: =ROUND(IF(AND(BH34=3,BI34=3),P34,0),2) -> 0 | FS34: 0 | FT34: *0,9 | FU34: *0,85 | FX34: 81 | FY34: 59.5 | GD34: 0 | GF34: 1256725681 | GG34: 2 | GH34: 1 | GI34: -2 | GJ34: 0 | GK34: =ROUND(R34*(R12)/100,2) -> 0 | GL34: =ROUND(IF(AND(BH34=3,BI34=3,FS34<>0),P34,0),2) -> 0 | GM34: =ROUND(O34+X34+Y34+GK34,2)+GX34 -> 10343.93 | GN34: =IF(OR(BI34=0,BI34=1),ROUND(O34+X34+Y34+GK34,2),0) -> 10343.93 | GO34: =IF(BI34=2,ROUND(O34+X34+Y34+GK34,2),0) -> 0 | GP34: =IF(BI34=4,ROUND(O34+X34+Y34+GK34,2)+GX34,0) -> 0 | GR34: 0 | GS34: 3 | GT34: 0 | GV34: =ROUND(GT34,2) -> 0 | GW34: 1 | GX34: =ROUND(GV34*GW34*I34,2) -> 0 | HA34: 0 | HB34: 0 | IK34: 0
A35: 17 | B35: 1 | C35: =ROW(SmtRes!A20) -> 20 | D35: =ROW(EtalonRes!A20) -> 20 | E35: 3 | F35: 13-06-003-01 | G35: Очистка поверхности щетками | H35: м2 | I35: =ROUND(240.94+245.14,9) -> 486.08 | J35: 0 | O35: =ROUND(CP35,2) -> 28156.09 | P35: =ROUND(CQ35*I35,2) -> 0 | Q35: =ROUND(CR35*I35,2) -> 0 | R35: =ROUND(CS35*I35,2) -> 0 | S35: =ROUND(CT35*I35,2) -> 28156.09 | T35: =ROUND(CU35*I35,2) -> 0 | U35: =CV35*I35 -> 503.0928 | V35: =CW35*I35 -> 0 | W35: =ROUND(CX35*I35,2) -> 0 | X35: =ROUND(CY35,2) -> 22806.43 | Y35: =ROUND(CZ35,2) -> 16893.65 | AA35: 16697019 | AB35: =ROUND((AC35+AD35+AF35),2) -> 8.83 | AC35: =ROUND((ES35),2) -> 0 | AD35: =ROUND(((((ET35*1.25))-((EU35*1.25)))+AE35),2) -> 0 | AE35: =ROUND(((EU35*1.25)),2) -> 0 | AF35: =ROUND(((EV35*1.15)),2) -> 8.83 | AG35: =ROUND((AP35),2) -> 0 | AH35: =((EW35*1.15)) -> 1.035 | AI35: =((EX35*1.25)) -> 0 | AJ35: =ROUND((AS35),2) -> 0 | AK35: 7.68 | AL35: 0 | AM35: 0 | AN35: 0 | AO35: 7.68 | AP35: 0 | AQ35: 0.9 | AR35: 0 | AS35: 0 | AT35: 81 | AU35: 60 | AV35: 1 | AW35: 1 | AZ35: 6.56 | BA35: 6.56 | BB35: 6.56 | BC35: 6.56 | BH35: 0 | BI35: 1 | BJ35: ФЕР-2001, 13-06-003-01, приказ Минстроя России №1039/пр от 30.12.2016г. | BM35: 13001 | BN35: 0 | BP35: 0 | BQ35: 2 | BR35: 0 | BS35: 6.56 | BT35: 1 | BU35: 1 | BV35: 1 | BW35: 1 | BX35: 1 | BZ35: 90 | CA35: 70 | CF35: 0 | CG35: 0 | CM35: 0 | CN35: Поправка: МДС 81-35.2004, п.4.7 Наименование: Работы, выполняемые при реконструкции зданий и сооружений работы, аналогичные технологическим процессам в новом строительстве (в том числе возведение новых конструктивных элементов) стоимость которых определена по соответствующим сборникам ФЕР, кроме сборника № 46 «Работы при реконструкции зданий и сооружений» | CO35: 0 | CP35: =(P35+Q35+S35) -> 28156.09 | CQ35: =AC35*BC35 -> 0 | CR35: =AD35*BB35 -> 0 | CS35: =AE35*BS35 -> 0 | CT35: =AF35*BA35 -> 57.9248 | CU35: =AG35 -> 0 | CV35: =AH35 -> 1.035 | CW35: =AI35 -> 0 | CX35: =AJ35 -> 0 | CY35: =(((S35+R35)*AT35)/100) -> 22806.433 | CZ35: =(((S35+R35)*AU35)/100) -> 16893.654 | DE35: )*1,25 | DF35: )*1,25 | DG35: )*1,15 | DI35: )*1,15 | DJ35: )*1,25 | DN35: 0 | DO35: 0 | DP35: 1 | DQ35: 1 | DU35: 1005 | DV35: м2 | DW35: м2 | DX35: 1 | EE35: 16510490 | EF35: 2 | EG35: Общестроительные работы | EH35: 0 | EJ35: 1 | EK35: 13001 | EL35: Защита строительных конструкций | EM35: ФЕР-13 | EO35: Поправка: МДС 81-35.2004, п.4.7 | EQ35: 131072 | ER35: 7.68 | ES35: 0 | ET35: 0 | EU35: 0 | EV35: 7.68 | EW35: 0.9 | EX35: 0 | EY35: 0 | FQ35: 0 | FR35: =ROUND(IF(AND(BH35=3,BI35=3),P35,0),2) -> 0 | FS35: 0 | FT35: *0,9 | FU35: *0,85 | FX35: 81 | FY35: 59.5 | GD35: 0 | GF35: 1256725681 | GG35: 1 | GH35: 1 | GI35: 4 | GJ35: 0 | GK35: =ROUND(R35*(S12)/100,2) -> 0 | GL35: =ROUND(IF(AND(BH35=3,BI35=3,FS35<>0),P35,0),2) -> 0 | GM35: =ROUND(O35+X35+Y35+GK35,2)+GX35 -> 67856.17 | GN35: =IF(OR(BI35=0,BI35=1),ROUND(O35+X35+Y35+GK35,2),0) -> 67856.17 | GO35: =IF(BI35=2,ROUND(O35+X35+Y35+GK35,2),0) -> 0 | GP35: =IF(BI35=4,ROUND(O35+X35+Y35+GK35,2)+GX35,0) -> 0 | GR35: 0 | GS35: 3 | GT35: 0 | GV35: =ROUND(GT35,2) -> 0 | GW35: 1 | GX35: =ROUND(GV35*GW35*I35,2) -> 0 | HA35: 0 | HB35: 0 | IK35: 0
A36: 17 | B36: 1 | C36: =ROW(SmtRes!A22) -> 22 | D36: =ROW(EtalonRes!A22) -> 22 | E36: 4 | F36: 57-3-2 | G36: Разборка плинтусов цементных и из керамической плитки | H36: 100 м | I36: =ROUND(169.38/100,9) -> 1.6938 | J36: 0 | O36: =ROUND(CP36,2) -> 188.66 | P36: =ROUND(CQ36*I36,2) -> 0 | Q36: =ROUND(CR36*I36,2) -> 0 | R36: =ROUND(CS36*I36,2) -> 0 | S36: =ROUND(CT36*I36,2) -> 188.66 | T36: =ROUND(CU36*I36,2) -> 0 | U36: =CV36*I36 -> 24.187464 | V36: =CW36*I36 -> 0 | W36: =ROUND(CX36*I36,2) -> 0 | X36: =ROUND(CY36,2) -> 150.93 | Y36: =ROUND(CZ36,2) -> 128.29 | AA36: 16697018 | AB36: =ROUND((AC36+AD36+AF36),2) -> 111.38 | AC36: =ROUND((ES36),2) -> 0 | AD36: =ROUND((((ET36)-(EU36))+AE36),2) -> 0 | AE36: =ROUND((EU36),2) -> 0 | AF36: =ROUND((EV36),2) -> 111.38 | AG36: =ROUND((AP36),2) -> 0 | AH36: =(EW36) -> 14.28 | AI36: =(EX36) -> 0 | AJ36: =ROUND((AS36),2) -> 0 | AK36: 111.38 | AL36: 0 | AM36: 0 | AN36: 0 | AO36: 111.38 | AP36: 0 | AQ36: 14.28 | AR36: 0 | AS36: 0 | AT36: 80 | AU36: 68 | AV36: 1 | AW36: 1 | AZ36: 1 | BA36: 1 | BB36: 1 | BC36: 1 | BH36: 0 | BI36: 1 | BJ36: ФЕРр-2001, 57-3-2, приказ Минстроя России №1039/пр от 30.12.2016г. | BM36: 57001 | BN36: 0 | BP36: 0 | BQ36: 6 | BR36: 0 | BS36: 1 | BT36: 1 | BU36: 1 | BV36: 1 | BW36: 1 | BX36: 1 | BZ36: 80 | CA36: 68 | CF36: 0 | CG36: 0 | CM36: 0 | CO36: 0 | CP36: =(P36+Q36+S36) -> 188.66 | CQ36: =AC36*BC36 -> 0 | CR36: =AD36*BB36 -> 0 | CS36: =AE36*BS36 -> 0 | CT36: =AF36*BA36 -> 111.38 | CU36: =AG36 -> 0 | CV36: =AH36 -> 14.28 | CW36: =AI36 -> 0 | CX36: =AJ36 -> 0 | CY36: =(((S36+R36)*AT36)/100) -> 150.928 | CZ36: =(((S36+R36)*AU36)/100) -> 128.2888 | DN36: 0 | DO36: 0 | DP36: 1 | DQ36: 1 | DU36: 1003 | DV36: 100 м | DW36: 100 м | DX36: 100 | EE36: 16510566 | EF36: 6 | EG36: Ремонтно-строительные работы | EH36: 0 | EJ36: 1 | EK36: 57001 | EL36: Полы | EM36: рФЕР-57 | EQ36: 131072 | ER36: 111.38 | ES36: 0 | ET36: 0 | EU36: 0 | EV36: 111.38 | EW36: 14.28 | EX36: 0 | EY36: 0 | FQ36: 0 | FR36: =ROUND(IF(AND(BH36=3,BI36=3),P36,0),2) -> 0 | FS36: 0 | FX36: 80 | FY36: 68 | GD36: 0 | GF36: 1153252125 | GG36: 2 | GH36: 1 | GI36: -2 | GJ36: 0 | GK36: =ROUND(R36*(R12)/100,2) -> 0 | GL36: =ROUND(IF(AND(BH36=3,BI36=3,FS36<>0),P36,0),2) -> 0 | GM36: =ROUND(O36+X36+Y36+GK36,2)+GX36 -> 467.88 | GN36: =IF(OR(BI36=0,BI36=1),ROUND(O36+X36+Y36+GK36,2),0) -> 467.88 | GO36: =IF(BI36=2,ROUND(O36+X36+Y36+GK36,2),0) -> 0 | GP36: =IF(BI36=4,ROUND(O36+X36+Y36+GK36,2)+GX36,0) -> 0 | GR36: 0 | GS36: 3 | GT36: 0 | GV36: =ROUND(GT36,2) -> 0 | GW36: 1 | GX36: =ROUND(GV36*GW36*I36,2) -> 0 | HA36: 0 | HB36: 0 | IK36: 0
A37: 17 | B37: 1 | C37: =ROW(SmtRes!A24) -> 24 | D37: =ROW(EtalonRes!A24) -> 24 | E37: 4 | F37: 57-3-2 | G37: Разборка плинтусов цементных и из керамической плитки | H37: 100 м | I37: =ROUND(169.38/100,9) -> 1.6938 | J37: 0 | O37: =ROUND(CP37,2) -> 1237.58 | P37: =ROUND(CQ37*I37,2) -> 0 | Q37: =ROUND(CR37*I37,2) -> 0 | R37: =ROUND(CS37*I37,2) -> 0 | S37: =ROUND(CT37*I37,2) -> 1237.58 | T37: =ROUND(CU37*I37,2) -> 0 | U37: =CV37*I37 -> 24.187464 | V37: =CW37*I37 -> 0 | W37: =ROUND(CX37*I37,2) -> 0 | X37: =ROUND(CY37,2) -> 990.06 | Y37: =ROUND(CZ37,2) -> 841.55 | AA37: 16697019 | AB37: =ROUND((AC37+AD37+AF37),2) -> 111.38 | AC37: =ROUND((ES37),2) -> 0 | AD37: =ROUND((((ET37)-(EU37))+AE37),2) -> 0 | AE37: =ROUND((EU37),2) -> 0 | AF37: =ROUND((EV37),2) -> 111.38 | AG37: =ROUND((AP37),2) -> 0 | AH37: =(EW37) -> 14.28 | AI37: =(EX37) -> 0 | AJ37: =ROUND((AS37),2) -> 0 | AK37: 111.38 | AL37: 0 | AM37: 0 | AN37: 0 | AO37: 111.38 | AP37: 0 | AQ37: 14.28 | AR37: 0 | AS37: 0 | AT37: 80 | AU37: 68 | AV37: 1 | AW37: 1 | AZ37: 6.56 | BA37: 6.56 | BB37: 6.56 | BC37: 6.56 | BH37: 0 | BI37: 1 | BJ37: ФЕРр-2001, 57-3-2, приказ Минстроя России №1039/пр от 30.12.2016г. | BM37: 57001 | BN37: 0 | BP37: 0 | BQ37: 6 | BR37: 0 | BS37: 6.56 | BT37: 1 | BU37: 1 | BV37: 1 | BW37: 1 | BX37: 1 | BZ37: 80 | CA37: 68 | CF37: 0 | CG37: 0 | CM37: 0 | CO37: 0 | CP37: =(P37+Q37+S37) -> 1237.58 | CQ37: =AC37*BC37 -> 0 | CR37: =AD37*BB37 -> 0 | CS37: =AE37*BS37 -> 0 | CT37: =AF37*BA37 -> 730.6528 | CU37: =AG37 -> 0 | CV37: =AH37 -> 14.28 | CW37: =AI37 -> 0 | CX37: =AJ37 -> 0 | CY37: =(((S37+R37)*AT37)/100) -> 990.064 | CZ37: =(((S37+R37)*AU37)/100) -> 841.5544 | DN37: 0 | DO37: 0 | DP37: 1 | DQ37: 1 | DU37: 1003 | DV37: 100 м | DW37: 100 м | DX37: 100 | EE37: 16510566 | EF37: 6 | EG37: Ремонтно-строительные работы | EH37: 0 | EJ37: 1 | EK37: 57001 | EL37: Полы | EM37: рФЕР-57 | EQ37: 131072 | ER37: 111.38 | ES37: 0 | ET37: 0 | EU37: 0 | EV37: 111.38 | EW37: 14.28 | EX37: 0 | EY37: 0 | FQ37: 0 | FR37: =ROUND(IF(AND(BH37=3,BI37=3),P37,0),2) -> 0 | FS37: 0 | FX37: 80 | FY37: 68 | GD37: 0 | GF37: 1153252125 | GG37: 1 | GH37: 1 | GI37: 4 | GJ37: 0 | GK37: =ROUND(R37*(S12)/100,2) -> 0 | GL37: =ROUND(IF(AND(BH37=3,BI37=3,FS37<>0),P37,0),2) -> 0 | GM37: =ROUND(O37+X37+Y37+GK37,2)+GX37 -> 3069.19 | GN37: =IF(OR(BI37=0,BI37=1),ROUND(O37+X37+Y37+GK37,2),0) -> 3069.19 | GO37: =IF(BI37=2,ROUND(O37+X37+Y37+GK37,2),0) -> 0 | GP37: =IF(BI37=4,ROUND(O37+X37+Y37+GK37,2)+GX37,0) -> 0 | GR37: 0 | GS37: 3 | GT37: 0 | GV37: =ROUND(GT37,2) -> 0 | GW37: 1 | GX37: =ROUND(GV37*GW37*I37,2) -> 0 | HA37: 0 | HB37: 0 | IK37: 0
A38: 18 | B38: 1 | C38: 22 | E38: 4,1 | F38: 01.7.07.07 | G38: Строительный мусор | H38: т | I38: =I36*J38 -> 1.050156 | J38: 0.62 | O38: =ROUND(CP38,2) -> 0 | P38: =ROUND(CQ38*I38,2) -> 0 | Q38: =ROUND(CR38*I38,2) -> 0 | R38: =ROUND(CS38*I38,2) -> 0 | S38: =ROUND(CT38*I38,2) -> 0 | T38: =ROUND(CU38*I38,2) -> 0 | U38: =CV38*I38 -> 0 | V38: =CW38*I38 -> 0 | W38: =ROUND(CX38*I38,2) -> 0 | X38: =ROUND(CY38,2) -> 0 | Y38: =ROUND(CZ38,2) -> 0 | AA38: 16697018 | AB38: =ROUND((AC38+AD38+AF38),2) -> 0 | AC38: =ROUND((ES38),2) -> 0 | AD38: =ROUND((((ET38)-(EU38))+AE38),2) -> 0 | AE38: =ROUND((EU38),2) -> 0 | AF38: =ROUND((EV38),2) -> 0 | AG38: =ROUND((AP38),2) -> 0 | AH38: =(EW38) -> 0 | AI38: =(EX38) -> 0 | AJ38: =ROUND((AS38),2) -> 0 | AK38: 0 | AL38: 0 | AM38: 0 | AN38: 0 | AO38: 0 | AP38: 0 | AQ38: 0 | AR38: 0 | AS38: 0 | AT38: 80 | AU38: 68 | AV38: 1 | AW38: 1 | AZ38: 1 | BA38: 1 | BB38: 1 | BC38: 1 | BH38: 3 | BI38: 1 | BM38: 57001 | BN38: 0 | BP38: 0 | BQ38: 6 | BR38: 0 | BS38: 1 | BT38: 1 | BU38: 1 | BV38: 1 | BW38: 1 | BX38: 1 | BZ38: 80 | CA38: 68 | CF38: 0 | CG38: 0 | CM38: 0 | CO38: 0 | CP38: =(P38+Q38+S38) -> 0 | CQ38: =AC38*BC38 -> 0 | CR38: =AD38*BB38 -> 0 | CS38: =AE38*BS38 -> 0 | CT38: =AF38*BA38 -> 0 | CU38: =AG38 -> 0 | CV38: =AH38 -> 0 | CW38: =AI38 -> 0 | CX38: =AJ38 -> 0 | CY38: =(((S38+R38)*AT38)/100) -> 0 | CZ38: =(((S38+R38)*AU38)/100) -> 0 | DN38: 0 | DO38: 0 | DP38: 1 | DQ38: 1 | DU38: 1009 | DV38: т | DW38: т | DX38: 1000 | EE38: 16510566 | EF38: 6 | EG38: Ремонтно-строительные работы | EH38: 0 | EJ38: 1 | EK38: 57001 | EL38: Полы | EM38: рФЕР-57 | EQ38: 0 | ER38: 0 | ES38: 0 | ET38: 0 | EU38: 0 | EV38: 0 | EW38: 0 | EX38: 0 | FQ38: 0 | FR38: =ROUND(IF(AND(BH38=3,BI38=3),P38,0),2) -> 0 | FS38: 0 | FX38: 80 | FY38: 68 | GD38: 0 | GF38: -179832266 | GG38: 2 | GH38: 1 | GI38: -2 | GJ38: 0 | GK38: =ROUND(R38*(R12)/100,2) -> 0 | GL38: =ROUND(IF(AND(BH38=3,BI38=3,FS38<>0),P38,0),2) -> 0 | GM38: =ROUND(O38+X38+Y38+GK38,2)+GX38 -> 0 | GN38: =IF(OR(BI38=0,BI38=1),ROUND(O38+X38+Y38+GK38,2),0) -> 0 | GO38: =IF(BI38=2,ROUND(O38+X38+Y38+GK38,2),0) -> 0 | GP38: =IF(BI38=4,ROUND(O38+X38+Y38+GK38,2)+GX38,0) -> 0 | GR38: 0 | GS38: 3 | GT38: 0 | GV38: =ROUND(GT38,2) -> 0 | GW38: 1 | GX38: =ROUND(GV38*GW38*I38,2) -> 0 | HA38: 0 | HB38: 0 | IK38: 0
A39: 18 | B39: 1 | C39: 24 | E39: 4,1 | F39: 01.7.07.07 | G39: Строительный мусор | H39: т | I39: =I37*J39 -> 1.050156 | J39: 0.62 | O39: =ROUND(CP39,2) -> 0 | P39: =ROUND(CQ39*I39,2) -> 0 | Q39: =ROUND(CR39*I39,2) -> 0 | R39: =ROUND(CS39*I39,2) -> 0 | S39: =ROUND(CT39*I39,2) -> 0 | T39: =ROUND(CU39*I39,2) -> 0 | U39: =CV39*I39 -> 0 | V39: =CW39*I39 -> 0 | W39: =ROUND(CX39*I39,2) -> 0 | X39: =ROUND(CY39,2) -> 0 | Y39: =ROUND(CZ39,2) -> 0 | AA39: 16697019 | AB39: =ROUND((AC39+AD39+AF39),2) -> 0 | AC39: =ROUND((ES39),2) -> 0 | AD39: =ROUND((((ET39)-(EU39))+AE39),2) -> 0 | AE39: =ROUND((EU39),2) -> 0 | AF39: =ROUND((EV39),2) -> 0 | AG39: =ROUND((AP39),2) -> 0 | AH39: =(EW39) -> 0 | AI39: =(EX39) -> 0 | AJ39: =ROUND((AS39),2) -> 0 | AK39: 0 | AL39: 0 | AM39: 0 | AN39: 0 | AO39: 0 | AP39: 0 | AQ39: 0 | AR39: 0 | AS39: 0 | AT39: 80 | AU39: 68 | AV39: 1 | AW39: 1 | AZ39: 6.56 | BA39: 1 | BB39: 1 | BC39: 6.56 | BH39: 3 | BI39: 1 | BM39: 57001 | BN39: 0 | BP39: 0 | BQ39: 6 | BR39: 0 | BS39: 1 | BT39: 1 | BU39: 1 | BV39: 1 | BW39: 1 | BX39: 1 | BZ39: 80 | CA39: 68 | CF39: 0 | CG39: 0 | CM39: 0 | CO39: 0 | CP39: =(P39+Q39+S39) -> 0 | CQ39: =AC39*BC39 -> 0 | CR39: =AD39*BB39 -> 0 | CS39: =AE39*BS39 -> 0 | CT39: =AF39*BA39 -> 0 | CU39: =AG39 -> 0 | CV39: =AH39 -> 0 | CW39: =AI39 -> 0 | CX39: =AJ39 -> 0 | CY39: =(((S39+R39)*AT39)/100) -> 0 | CZ39: =(((S39+R39)*AU39)/100) -> 0 | DN39: 0 | DO39: 0 | DP39: 1 | DQ39: 1 | DU39: 1009 | DV39: т | DW39: т | DX39: 1000 | EE39: 16510566 | EF39: 6 | EG39: Ремонтно-строительные работы | EH39: 0 | EJ39: 1 | EK39: 57001 | EL39: Полы | EM39: рФЕР-57 | EQ39: 0 | ER39: 0 | ES39: 0 | ET39: 0 | EU39: 0 | EV39: 0 | EW39: 0 | EX39: 0 | FQ39: 0 | FR39: =ROUND(IF(AND(BH39=3,BI39=3),P39,0),2) -> 0 | FS39: 0 | FX39: 80 | FY39: 68 | GD39: 0 | GF39: -179832266 | GG39: 1 | GH39: 1 | GI39: 4 | GJ39: 0 | GK39: =ROUND(R39*(S12)/100,2) -> 0 | GL39: =ROUND(IF(AND(BH39=3,BI39=3,FS39<>0),P39,0),2) -> 0 | GM39: =ROUND(O39+X39+Y39+GK39,2)+GX39 -> 0 | GN39: =IF(OR(BI39=0,BI39=1),ROUND(O39+X39+Y39+GK39,2),0) -> 0 | GO39: =IF(BI39=2,ROUND(O39+X39+Y39+GK39,2),0) -> 0 | GP39: =IF(BI39=4,ROUND(O39+X39+Y39+GK39,2)+GX39,0) -> 0 | GR39: 0 | GS39: 3 | GT39: 0 | GV39: =ROUND(GT39,2) -> 0 | GW39: 1 | GX39: =ROUND(GV39*GW39*I39,2) -> 0 | HA39: 0 | HB39: 0 | IK39: 0
A40: 17 | B40: 1 | C40: =ROW(SmtRes!A28) -> 28 | D40: =ROW(EtalonRes!A28) -> 28 | E40: 5 | F40: 57-2-3 | G40: Разборка покрытий полов из керамических плиток | H40: 100 м2 | I40: =ROUND(245.14/100,9) -> 2.4514 | J40: 0 | O40: =ROUND(CP40,2) -> 1571.35 | P40: =ROUND(CQ40*I40,2) -> 0 | Q40: =ROUND(CR40*I40,2) -> 110.34 | R40: =ROUND(CS40*I40,2) -> 47.66 | S40: =ROUND(CT40*I40,2) -> 1461.01 | T40: =ROUND(CU40*I40,2) -> 0 | U40: =CV40*I40 -> 171.27932 | V40: =CW40*I40 -> 3.530016 | W40: =ROUND(CX40*I40,2) -> 0 | X40: =ROUND(CY40,2) -> 1206.94 | Y40: =ROUND(CZ40,2) -> 1025.9 | AA40: 16697018 | AB40: =ROUND((AC40+AD40+AF40),2) -> 641 | AC40: =ROUND((ES40),2) -> 0 | AD40: =ROUND((((ET40)-(EU40))+AE40),2) -> 45.01 | AE40: =ROUND((EU40),2) -> 19.44 | AF40: =ROUND((EV40),2) -> 595.99 | AG40: =ROUND((AP40),2) -> 0 | AH40: =(EW40) -> 69.87 | AI40: =(EX40) -> 1.44 | AJ40: =ROUND((AS40),2) -> 0 | AK40: 641 | AL40: 0 | AM40: 45.01 | AN40: 19.44 | AO40: 595.99 | AP40: 0 | AQ40: 69.87 | AR40: 1.44 | AS40: 0 | AT40: 80 | AU40: 68 | AV40: 1 | AW40: 1 | AZ40: 1 | BA40: 1 | BB40: 1 | BC40: 1 | BH40: 0 | BI40: 1 | BJ40: ФЕРр-2001, 57-2-3, приказ Минстроя России №1039/пр от 30.12.2016г. | BM40: 57001 | BN40: 0 | BP40: 0 | BQ40: 6 | BR40: 0 | BS40: 1 | BT40: 1 | BU40: 1 | BV40: 1 | BW40: 1 | BX40: 1 | BZ40: 80 | CA40: 68 | CF40: 0 | CG40: 0 | CM40: 0 | CO40: 0 | CP40: =(P40+Q40+S40) -> 1571.35 | CQ40: =AC40*BC40 -> 0 | CR40: =AD40*BB40 -> 45.01 | CS40: =AE40*BS40 -> 19.44 | CT40: =AF40*BA40 -> 595.99 | CU40: =AG40 -> 0 | CV40: =AH40 -> 69.87 | CW40: =AI40 -> 1.44 | CX40: =AJ40 -> 0 | CY40: =(((S40+R40)*AT40)/100) -> 1206.936 | CZ40: =(((S40+R40)*AU40)/100) -> 1025.8956 | DN40: 0 | DO40: 0 | DP40: 1 | DQ40: 1 | DU40: 1005 | DV40: 100 м2 | DW40: 100 м2 | DX40: 100 | EE40: 16510566 | EF40: 6 | EG40: Ремонтно-строительные работы | EH40: 0 | EJ40: 1 | EK40: 57001 | EL40: Полы | EM40: рФЕР-57 | EQ40: 131072 | ER40: 641 | ES40: 0 | ET40: 45.01 | EU40: 19.44 | EV40: 595.99 | EW40: 69.87 | EX40: 1.44 | EY40: 0 | FQ40: 0 | FR40: =ROUND(IF(AND(BH40=3,BI40=3),P40,0),2) -> 0 | FS40: 0 | FX40: 80 | FY40: 68 | GD40: 0 | GF40: -1405612292 | GG40: 2 | GH40: 1 | GI40: -2 | GJ40: 0 | GK40: =ROUND(R40*(R12)/100,2) -> 0 | GL40: =ROUND(IF(AND(BH40=3,BI40=3,FS40<>0),P40,0),2) -> 0 | GM40: =ROUND(O40+X40+Y40+GK40,2)+GX40 -> 3804.19 | GN40: =IF(OR(BI40=0,BI40=1),ROUND(O40+X40+Y40+GK40,2),0) -> 3804.19 | GO40: =IF(BI40=2,ROUND(O40+X40+Y40+GK40,2),0) -> 0 | GP40: =IF(BI40=4,ROUND(O40+X40+Y40+GK40,2)+GX40,0) -> 0 | GR40: 0 | GS40: 3 | GT40: 0 | GV40: =ROUND(GT40,2) -> 0 | GW40: 1 | GX40: =ROUND(GV40*GW40*I40,2) -> 0 | HA40: 0 | HB40: 0 | IK40: 0
A41: 17 | B41: 1 | C41: =ROW(SmtRes!A32) -> 32 | D41: =ROW(EtalonRes!A32) -> 32 | E41: 5 | F41: 57-2-3 | G41: Разборка покрытий полов из керамических плиток | H41: 100 м2 | I41: =ROUND(245.14/100,9) -> 2.4514 | J41: 0 | O41: =ROUND(CP41,2) -> 10308.03 | P41: =ROUND(CQ41*I41,2) -> 0 | Q41: =ROUND(CR41*I41,2) -> 723.81 | R41: =ROUND(CS41*I41,2) -> 312.62 | S41: =ROUND(CT41*I41,2) -> 9584.22 | T41: =ROUND(CU41*I41,2) -> 0 | U41: =CV41*I41 -> 171.27932 | V41: =CW41*I41 -> 3.530016 | W41: =ROUND(CX41*I41,2) -> 0 | X41: =ROUND(CY41,2) -> 7917.47 | Y41: =ROUND(CZ41,2) -> 6729.85 | AA41: 16697019 | AB41: =ROUND((AC41+AD41+AF41),2) -> 641 | AC41: =ROUND((ES41),2) -> 0 | AD41: =ROUND((((ET41)-(EU41))+AE41),2) -> 45.01 | AE41: =ROUND((EU41),2) -> 19.44 | AF41: =ROUND((EV41),2) -> 595.99 | AG41: =ROUND((AP41),2) -> 0 | AH41: =(EW41) -> 69.87 | AI41: =(EX41) -> 1.44 | AJ41: =ROUND((AS41),2) -> 0 | AK41: 641 | AL41: 0 | AM41: 45.01 | AN41: 19.44 | AO41: 595.99 | AP41: 0 | AQ41: 69.87 | AR41: 1.44 | AS41: 0 | AT41: 80 | AU41: 68 | AV41: 1 | AW41: 1 | AZ41: 6.56 | BA41: 6.56 | BB41: 6.56 | BC41: 6.56 | BH41: 0 | BI41: 1 | BJ41: ФЕРр-2001, 57-2-3, приказ Минстроя России №1039/пр от 30.12.2016г. | BM41: 57001 | BN41: 0 | BP41: 0 | BQ41: 6 | BR41: 0 | BS41: 6.56 | BT41: 1 | BU41: 1 | BV41: 1 | BW41: 1 | BX41: 1 | BZ41: 80 | CA41: 68 | CF41: 0 | CG41: 0 | CM41: 0 | CO41: 0 | CP41: =(P41+Q41+S41) -> 10308.03 | CQ41: =AC41*BC41 -> 0 | CR41: =AD41*BB41 -> 295.2656 | CS41: =AE41*BS41 -> 127.5264 | CT41: =AF41*BA41 -> 3909.6944 | CU41: =AG41 -> 0 | CV41: =AH41 -> 69.87 | CW41: =AI41 -> 1.44 | CX41: =AJ41 -> 0 | CY41: =(((S41+R41)*AT41)/100) -> 7917.472 | CZ41: =(((S41+R41)*AU41)/100) -> 6729.8512 | DN41: 0 | DO41: 0 | DP41: 1 | DQ41: 1 | DU41: 1005 | DV41: 100 м2 | DW41: 100 м2 | DX41: 100 | EE41: 16510566 | EF41: 6 | EG41: Ремонтно-строительные работы | EH41: 0 | EJ41: 1 | EK41: 57001 | EL41: Полы | EM41: рФЕР-57 | EQ41: 131072 | ER41: 641 | ES41: 0 | ET41: 45.01 | EU41: 19.44 | EV41: 595.99 | EW41: 69.87 | EX41: 1.44 | EY41: 0 | FQ41: 0 | FR41: =ROUND(IF(AND(BH41=3,BI41=3),P41,0),2) -> 0 | FS41: 0 | FX41: 80 | FY41: 68 | GD41: 0 | GF41: -1405612292 | GG41: 1 | GH41: 1 | GI41: 4 | GJ41: 0 | GK41: =ROUND(R41*(S12)/100,2) -> 0 | GL41: =ROUND(IF(AND(BH41=3,BI41=3,FS41<>0),P41,0),2) -> 0 | GM41: =ROUND(O41+X41+Y41+GK41,2)+GX41 -> 24955.35 | GN41: =IF(OR(BI41=0,BI41=1),ROUND(O41+X41+Y41+GK41,2),0) -> 24955.35 | GO41: =IF(BI41=2,ROUND(O41+X41+Y41+GK41,2),0) -> 0 | GP41: =IF(BI41=4,ROUND(O41+X41+Y41+GK41,2)+GX41,0) -> 0 | GR41: 0 | GS41: 3 | GT41: 0 | GV41: =ROUND(GT41,2) -> 0 | GW41: 1 | GX41: =ROUND(GV41*GW41*I41,2) -> 0 | HA41: 0 | HB41: 0 | IK41: 0
A42: 18 | B42: 1 | C42: 28 | E42: 5,1 | F42: 01.7.07.07 | G42: Строительный мусор | H42: т | I42: =I40*J42 -> 12.74728 | J42: 5.2 | O42: =ROUND(CP42,2) -> 0 | P42: =ROUND(CQ42*I42,2) -> 0 | Q42: =ROUND(CR42*I42,2) -> 0 | R42: =ROUND(CS42*I42,2) -> 0 | S42: =ROUND(CT42*I42,2) -> 0 | T42: =ROUND(CU42*I42,2) -> 0 | U42: =CV42*I42 -> 0 | V42: =CW42*I42 -> 0 | W42: =ROUND(CX42*I42,2) -> 0 | X42: =ROUND(CY42,2) -> 0 | Y42: =ROUND(CZ42,2) -> 0 | AA42: 16697018 | AB42: =ROUND((AC42+AD42+AF42),2) -> 0 | AC42: =ROUND((ES42),2) -> 0 | AD42: =ROUND((((ET42)-(EU42))+AE42),2) -> 0 | AE42: =ROUND((EU42),2) -> 0 | AF42: =ROUND((EV42),2) -> 0 | AG42: =ROUND((AP42),2) -> 0 | AH42: =(EW42) -> 0 | AI42: =(EX42) -> 0 | AJ42: =ROUND((AS42),2) -> 0 | AK42: 0 | AL42: 0 | AM42: 0 | AN42: 0 | AO42: 0 | AP42: 0 | AQ42: 0 | AR42: 0 | AS42: 0 | AT42: 80 | AU42: 68 | AV42: 1 | AW42: 1 | AZ42: 1 | BA42: 1 | BB42: 1 | BC42: 1 | BH42: 3 | BI42: 1 | BM42: 57001 | BN42: 0 | BP42: 0 | BQ42: 6 | BR42: 0 | BS42: 1 | BT42: 1 | BU42: 1 | BV42: 1 | BW42: 1 | BX42: 1 | BZ42: 80 | CA42: 68 | CF42: 0 | CG42: 0 | CM42: 0 | CO42: 0 | CP42: =(P42+Q42+S42) -> 0 | CQ42: =AC42*BC42 -> 0 | CR42: =AD42*BB42 -> 0 | CS42: =AE42*BS42 -> 0 | CT42: =AF42*BA42 -> 0 | CU42: =AG42 -> 0 | CV42: =AH42 -> 0 | CW42: =AI42 -> 0 | CX42: =AJ42 -> 0 | CY42: =(((S42+R42)*AT42)/100) -> 0 | CZ42: =(((S42+R42)*AU42)/100) -> 0 | DN42: 0 | DO42: 0 | DP42: 1 | DQ42: 1 | DU42: 1009 | DV42: т | DW42: т | DX42: 1000 | EE42: 16510566 | EF42: 6 | EG42: Ремонтно-строительные работы | EH42: 0 | EJ42: 1 | EK42: 57001 | EL42: Полы | EM42: рФЕР-57 | EQ42: 0 | ER42: 0 | ES42: 0 | ET42: 0 | EU42: 0 | EV42: 0 | EW42: 0 | EX42: 0 | FQ42: 0 | FR42: =ROUND(IF(AND(BH42=3,BI42=3),P42,0),2) -> 0 | FS42: 0 | FX42: 80 | FY42: 68 | GD42: 0 | GF42: -179832266 | GG42: 2 | GH42: 1 | GI42: -2 | GJ42: 0 | GK42: =ROUND(R42*(R12)/100,2) -> 0 | GL42: =ROUND(IF(AND(BH42=3,BI42=3,FS42<>0),P42,0),2) -> 0 | GM42: =ROUND(O42+X42+Y42+GK42,2)+GX42 -> 0 | GN42: =IF(OR(BI42=0,BI42=1),ROUND(O42+X42+Y42+GK42,2),0) -> 0 | GO42: =IF(BI42=2,ROUND(O42+X42+Y42+GK42,2),0) -> 0 | GP42: =IF(BI42=4,ROUND(O42+X42+Y42+GK42,2)+GX42,0) -> 0 | GR42: 0 | GS42: 3 | GT42: 0 | GV42: =ROUND(GT42,2) -> 0 | GW42: 1 | GX42: =ROUND(GV42*GW42*I42,2) -> 0 | HA42: 0 | HB42: 0 | IK42: 0
A43: 18 | B43: 1 | C43: 32 | E43: 5,1 | F43: 01.7.07.07 | G43: Строительный мусор | H43: т | I43: =I41*J43 -> 12.74728 | J43: 5.2 | O43: =ROUND(CP43,2) -> 0 | P43: =ROUND(CQ43*I43,2) -> 0 | Q43: =ROUND(CR43*I43,2) -> 0 | R43: =ROUND(CS43*I43,2) -> 0 | S43: =ROUND(CT43*I43,2) -> 0 | T43: =ROUND(CU43*I43,2) -> 0 | U43: =CV43*I43 -> 0 | V43: =CW43*I43 -> 0 | W43: =ROUND(CX43*I43,2) -> 0 | X43: =ROUND(CY43,2) -> 0 | Y43: =ROUND(CZ43,2) -> 0 | AA43: 16697019 | AB43: =ROUND((AC43+AD43+AF43),2) -> 0 | AC43: =ROUND((ES43),2) -> 0 | AD43: =ROUND((((ET43)-(EU43))+AE43),2) -> 0 | AE43: =ROUND((EU43),2) -> 0 | AF43: =ROUND((EV43),2) -> 0 | AG43: =ROUND((AP43),2) -> 0 | AH43: =(EW43) -> 0 | AI43: =(EX43) -> 0 | AJ43: =ROUND((AS43),2) -> 0 | AK43: 0 | AL43: 0 | AM43: 0 | AN43: 0 | AO43: 0 | AP43: 0 | AQ43: 0 | AR43: 0 | AS43: 0 | AT43: 80 | AU43: 68 | AV43: 1 | AW43: 1 | AZ43: 6.56 | BA43: 1 | BB43: 1 | BC43: 6.56 | BH43: 3 | BI43: 1 | BM43: 57001 | BN43: 0 | BP43: 0 | BQ43: 6 | BR43: 0 | BS43: 1 | BT43: 1 | BU43: 1 | BV43: 1 | BW43: 1 | BX43: 1 | BZ43: 80 | CA43: 68 | CF43: 0 | CG43: 0 | CM43: 0 | CO43: 0 | CP43: =(P43+Q43+S43) -> 0 | CQ43: =AC43*BC43 -> 0 | CR43: =AD43*BB43 -> 0 | CS43: =AE43*BS43 -> 0 | CT43: =AF43*BA43 -> 0 | CU43: =AG43 -> 0 | CV43: =AH43 -> 0 | CW43: =AI43 -> 0 | CX43: =AJ43 -> 0 | CY43: =(((S43+R43)*AT43)/100) -> 0 | CZ43: =(((S43+R43)*AU43)/100) -> 0 | DN43: 0 | DO43: 0 | DP43: 1 | DQ43: 1 | DU43: 1009 | DV43: т | DW43: т | DX43: 1000 | EE43: 16510566 | EF43: 6 | EG43: Ремонтно-строительные работы | EH43: 0 | EJ43: 1 | EK43: 57001 | EL43: Полы | EM43: рФЕР-57 | EQ43: 0 | ER43: 0 | ES43: 0 | ET43: 0 | EU43: 0 | EV43: 0 | EW43: 0 | EX43: 0 | FQ43: 0 | FR43: =ROUND(IF(AND(BH43=3,BI43=3),P43,0),2) -> 0 | FS43: 0 | FX43: 80 | FY43: 68 | GD43: 0 | GF43: -179832266 | GG43: 1 | GH43: 1 | GI43: 4 | GJ43: 0 | GK43: =ROUND(R43*(S12)/100,2) -> 0 | GL43: =ROUND(IF(AND(BH43=3,BI43=3,FS43<>0),P43,0),2) -> 0 | GM43: =ROUND(O43+X43+Y43+GK43,2)+GX43 -> 0 | GN43: =IF(OR(BI43=0,BI43=1),ROUND(O43+X43+Y43+GK43,2),0) -> 0 | GO43: =IF(BI43=2,ROUND(O43+X43+Y43+GK43,2),0) -> 0 | GP43: =IF(BI43=4,ROUND(O43+X43+Y43+GK43,2)+GX43,0) -> 0 | GR43: 0 | GS43: 3 | GT43: 0 | GV43: =ROUND(GT43,2) -> 0 | GW43: 1 | GX43: =ROUND(GV43*GW43*I43,2) -> 0 | HA43: 0 | HB43: 0 | IK43: 0
A44: 17 | B44: 1 | C44: =ROW(SmtRes!A35) -> 35 | D44: =ROW(EtalonRes!A35) -> 35 | E44: 6 | F44: 46-04-012-02 | G44: Разборка деревянных заполнений проемов оконных без подоконных досок | H44: 100 м2 | I44: =ROUND(39.94/100,9) -> 0.3994 | J44: 0 | O44: =ROUND(CP44,2) -> 654.84 | P44: =ROUND(CQ44*I44,2) -> 0 | Q44: =ROUND(CR44*I44,2) -> 96.63 | R44: =ROUND(CS44*I44,2) -> 41.73 | S44: =ROUND(CT44*I44,2) -> 558.21 | T44: =ROUND(CU44*I44,2) -> 0 | U44: =CV44*I44 -> 69.000344 | V44: =CW44*I44 -> 3.091356 | W44: =ROUND(CX44*I44,2) -> 0 | X44: =ROUND(CY44,2) -> 593.94 | Y44: =ROUND(CZ44,2) -> 359.96 | AA44: 16697018 | AB44: =ROUND((AC44+AD44+AF44),2) -> 1639.58 | AC44: =ROUND((ES44),2) -> 0 | AD44: =ROUND((((ET44)-(EU44))+AE44),2) -> 241.95 | AE44: =ROUND((EU44),2) -> 104.49 | AF44: =ROUND((EV44),2) -> 1397.63 | AG44: =ROUND((AP44),2) -> 0 | AH44: =(EW44) -> 172.76 | AI44: =(EX44) -> 7.74 | AJ44: =ROUND((AS44),2) -> 0 | AK44: 1639.58 | AL44: 0 | AM44: 241.95 | AN44: 104.49 | AO44: 1397.63 | AP44: 0 | AQ44: 172.76 | AR44: 7.74 | AS44: 0 | AT44: 99 | AU44: 60 | AV44: 1 | AW44: 1 | AZ44: 1 | BA44: 1 | BB44: 1 | BC44: 1 | BH44: 0 | BI44: 1 | BJ44: ФЕР-2001, 46-04-012-02, приказ Минстроя России №1039/пр от 30.12.2016г. | BM44: 46001 | BN44: 0 | BP44: 0 | BQ44: 2 | BR44: 0 | BS44: 1 | BT44: 1 | BU44: 1 | BV44: 1 | BW44: 1 | BX44: 1 | BZ44: 110 | CA44: 70 | CF44: 0 | CG44: 0 | CM44: 0 | CO44: 0 | CP44: =(P44+Q44+S44) -> 654.84 | CQ44: =AC44*BC44 -> 0 | CR44: =AD44*BB44 -> 241.95 | CS44: =AE44*BS44 -> 104.49 | CT44: =AF44*BA44 -> 1397.63 | CU44: =AG44 -> 0 | CV44: =AH44 -> 172.76 | CW44: =AI44 -> 7.74 | CX44: =AJ44 -> 0 | CY44: =(((S44+R44)*AT44)/100) -> 593.9406 | CZ44: =(((S44+R44)*AU44)/100) -> 359.964 | DN44: 0 | DO44: 0 | DP44: 1 | DQ44: 1 | DU44: 1005 | DV44: 100 м2 | DW44: 100 м2 | DX44: 100 | EE44: 16510555 | EF44: 2 | EG44: Общестроительные работы | EH44: 0 | EJ44: 1 | EK44: 46001 | EL44: Реконструкция зданий и сооружений | EM44: ФЕР-46 | EQ44: 131072 | ER44: 1639.58 | ES44: 0 | ET44: 241.95 | EU44: 104.49 | EV44: 1397.63 | EW44: 172.76 | EX44: 7.74 | EY44: 0 | FQ44: 0 | FR44: =ROUND(IF(AND(BH44=3,BI44=3),P44,0),2) -> 0 | FS44: 0 | FT44: *0,9 | FU44: *0,85 | FX44: 99 | FY44: 59.5 | GD44: 0 | GF44: 1660145298 | GG44: 2 | GH44: 1 | GI44: -2 | GJ44: 0 | GK44: =ROUND(R44*(R12)/100,2) -> 0 | GL44: =ROUND(IF(AND(BH44=3,BI44=3,FS44<>0),P44,0),2) -> 0 | GM44: =ROUND(O44+X44+Y44+GK44,2)+GX44 -> 1608.74 | GN44: =IF(OR(BI44=0,BI44=1),ROUND(O44+X44+Y44+GK44,2),0) -> 1608.74 | GO44: =IF(BI44=2,ROUND(O44+X44+Y44+GK44,2),0) -> 0 | GP44: =IF(BI44=4,ROUND(O44+X44+Y44+GK44,2)+GX44,0) -> 0 | GR44: 0 | GS44: 3 | GT44: 0 | GV44: =ROUND(GT44,2) -> 0 | GW44: 1 | GX44: =ROUND(GV44*GW44*I44,2) -> 0 | HA44: 0 | HB44: 0 | IK44: 0
