Workbook
Name Constr: '25144'!$A$1
Name FOT: '25144'!$B$20
Name Ind: '25144'!$D$9
Name Obj: '25144'!#REF!
Name Obosn: '25144'!$B$15
Name SmPr: '25144'!$B$16
Name аааааппппппрррппппппп: #REF!
Name аараооооооооооооо: #REF!
Name автом: #REF!
Name алшрльоплварл: #REF!
Name аолвлддддддддддддддддввввввввв: #REF!
Name апарв: #REF!
Name апрлдджаоырыфрпопрлпрлпрлп: #REF!
Name арлггаджаш: #REF!
Name ароррбллтблпроорапииас: #REF!
Name арррррблллпдрлдддддддддд: #REF!
Name варпаааааааааа: #REF!
Name ввпьььььлднд: #REF!
Name вед: #REF!
Name вертикальная: #REF!
Name вертикплан: #REF!
Name волен: #REF!
Name вп: #REF!
Name впырпфдыпл: #REF!
Name впьглорьтитттттттттт: #REF!
Name всввввввввввввввввввввввввв: #REF!
Name выб: #REF!
Name выпуск: #REF!
Name выьлепвввввпмп: #REF!
Name еваопродолжэрщэрзшщщх: #REF!
Name измен: #REF!
Name итого: #REF!
Name итого_сантех: #REF!
Name итого_стр: #REF!
Name итого_строит: #REF!
Name итого_технол: #REF!
Name итого_электр: #REF!
Name квота: #REF!
Name кккккккккк: #REF!
Name корек: #REF!
Name корект: #REF!
Name корректир: #REF!
Name лен: #REF!
Name лот: #REF!
Name мамиааааааааааааааааааааааааааааа: #REF!
Name ммпоослччччччччччрччапппппппппр: #REF!
Name мрол: #REF!
Name оз: #REF!
Name озелен: #REF!
Name озеленение: #REF!
Name озеленение2: #REF!
Name ОСР: #REF!
Name ОСР110: #REF!
Name ОСР111: #REF!
Name план: #REF!
Name планировка: #REF!
Name плдщхэж.юрббдлююбо: #REF!
Name площадки: #REF!
Name пос: #REF!
Name прав: #REF!

Sheet 25144
A1: СОГЛАСОВАНО: | E1: ФГУП "Комбинат "Электрохимприбор" | M1: УТВЕРЖДАЮ:
G2: (наименование стройки) | M2: Зам. генерального директора
M3: Е.В.Гордеев
A4: _________________ | M4: _________________
A5: " _____ " ________________ 2013 г. | M5: "______ " __________2013 г.
G6: ЛОКАЛЬНЫЙ СМЕТНЫЙ РАСЧЕТ № 25144
G7: (локальная смета)
C9: на | D9: монтажные работы по реконструкции электрического освещения вентиляционных камер.
E10: Площадка 1. Здание 311 Инв.№ 8512331
H11: (наименование работ и затрат, наименование объекта)
D13: Основание: проект № 24770-13-ЭМО
D14: Сметная стоимость монтажных работ _______________________________________________________________________________________________ | J14: ___________________________9,657 | L14: тыс. руб.
D15: Средства на оплату труда _______________________________________________________________________________________________ | J15: ___________________________1,299 | L15: тыс. руб.
D16: Сметная трудоемкость _______________________________________________________________________________________________ | J16: _______________________________________________________________________________________________70,62 | L16: чел.час
D17: Материалы ______________________________________ | K17: =J62/1000 -> 5.471 | L17: тыс.руб.
D18: Составлен(а) в базовых ценах 2001г. в редакции 2009г.
A20: № пп | B20: Обоснование | C20: Наименование | D20: Ед. изм. | E20: Кол. | F20: Стоимость единицы, руб. | J20: Общая стоимость, руб. | N20: Т/з осн. раб.на ед. | O20: Т/з осн. раб. Всего | P20: Т/з мех. на ед. | Q20: Т/з мех. Всего
F21: Всего | G21: В том числе | J21: Всего | K21: В том числе
G22: Осн.З/п | H22: Эк.Маш | I22: З/пМех | K22: Осн.З/п | L22: Эк.Маш | M22: З/пМех
A23: 1 | B23: 2 | C23: 3 | D23: 4 | E23: 5 | F23: 6 | G23: 7 | H23: 8 | I23: 9 | J23: 10 | K23: 11 | L23: 12 | M23: 13 | N23: 14 | O23: 15 | P23: 16 | Q23: 17
A24: 1 | B24: Цена поставщика | C24: Щиток гаражный без зарядного устройства и счетчика | D24: шт. | E24: 1 | F24: 31,26 205,10/1,18/5,56 | J24: 31
A25: 2 | B25: ТЕРм08-03-599-10 | C25: Щитки осветительные, устанавливаемые на стене распорными дюбелями, масса щитка до 15 кг | D25: 1 шт. | E25: 1 | F25: 128.26 | G25: 58.25 | H25: 7.85 | I25: 0.36 | J25: 128 | K25: 58 | L25: 8 | N25: 4.17 | O25: 4.17 | P25: 0.02 | Q25: 0.02
A26: 3 | B26: Цена поставщика | C26: ВС20-1-0-ГБ выкл 1кл о/у IP44 (цвет клавиши: белый) ГЕРМЕС (цвет клавиши: белый) EVM10-K01-10-44-EC | D26: шт. | E26: 2 | F26: 19,43 127,48/1,18/5,56 | J26: 39
A27: 4 | B27: ТЕРм08-03-591-01 | C27: Выключатель одноклавишный неутопленного типа при открытой проводке | D27: 100 шт. | E27: 0.02 | F27: 758.17 | G27: 551.82 | H27: 27.07 | I27: 0.55 | J27: 15 | K27: 11 | L27: 1 | N27: 39.5 | O27: 0.79 | P27: 0.03
A28: 5 | B28: ТСЦ-509-5004 | C28: Пакетные переключатели и переключатели открытые со степенью защиты IP00 ПВ3-16 М3 | D28: шт. | E28: 2 | F28: 28.35 | J28: 57
A29: 6 | B29: ТЕРм08-03-525-01 | C29: Выключатель или переключатель пакетный в металлической оболочке, устанавливаемый на конструкции на стене или колонне, с количеством зажимов для подключения до 9 на ток до 25 А | D29: 1 шт. | E29: 2 | F29: 140.25 | G29: 28.32 | H29: 1.28 | J29: 281 | K29: 57 | L29: 3 | N29: 2.09 | O29: 4.18
A30: 7 | B30: Цена поставщика | C30: Светильник Arctic 136 (SAN/SMC) HF 1069002090 | D30: шт. | E30: 8 | F30: 230,04 1199,82/1,18/4.42 | J30: 1840
A31: 8 | B31: ТЕРм08-03-593-17 | C31: Кронштейны со светильниками по стенам и потолкам | D31: 100 шт. | E31: 0.08 | F31: 11897.99 | G31: 1592.58 | H31: 1360.04 | I31: 529.49 | J31: 952 | K31: 127 | L31: 109 | M31: 42 | N31: 114 | O31: 9.12 | P31: 33.79 | Q31: 2.7
A32: 9 | B32: ТСЦ-509-0696 | C32: Лампы люминесцентные | D32: 10 шт. | E32: 1.2 | F32: 113.9 | J32: 137
A33: 10 | B33: Цена поставщика | C33: Кронштейн телескопический NBS 50-60 2415000310 | D33: шт. | E33: 16 | F33: 30,69 160,07/1,18/4.42 | J33: 491
A34: 11 | B34: Цена поставщика | C34: Светильник НПП2602А белый/круг без решетки пластик 60Вт IP54ИЭК LNPP0-2602A-1-060-K01 | D34: шт. | E34: 2 | F34: 31,26 205,10/1,18/5,56 | J34: 63
A35: 12 | B35: ТЕРм08-03-593-06 | C35: Светильник потолочный или настенный с креплением винтами или болтами для помещений с нормальными условиями среды, одноламповый | D35: 100 шт. | E35: 0.02 | F35: 5292.51 | G35: 1233.55 | H35: 1915.67 | I35: 687.03 | J35: 106 | K35: 25 | L35: 38 | M35: 14 | N35: 88.3 | O35: 1.77 | P35: 43.76 | Q35: 0.88
A36: 13 | B36: ТСЦ-509-0734 | C36: Лампы накаливания газопольные в прозрачной колбе МО 24-60 | D36: 10 шт. | E36: 0.2 | F36: 30.49 | J36: 6
A37: 14 | B37: ФЕРм08-02-390-01 | C37: Короба пластмассовые: шириной до 40 мм КОЭФ. К ПОЗИЦИИ: Приведение расценок ФЕР к территориальному уровню (Письмо УРЦЦС Ц-297 от 12.04.2011) ОЗП=1,41; ЭМ=1,242; ЗПМ=1,41; МАТ=1,052 | D37: 100 м | E37: 0.4 | F37: 311.4 | G37: 218.44 | H37: 38.75 | I37: 0.17 | J37: 125 | K37: 87 | L37: 16 | N37: 16.29 | O37: 6.52 | P37: 0.01
A38: 15 | B38: Цена поставщика | C38: Кабель-канал 25х16 "ЭЛЕКОР" CKK10-025-016-1-K01 | D38: м | E38: 40 | F38: 3,99 26,15/1.18/5.56 | J38: 160
A39: 16 | B39: Цена поставщика | C39: Коробка КМ41234 распаячная для о/п 100х100х50мм IP55 (RAL7035, 6 гермовводов) UKO11-100-100-050-K41-55 | D39: шт. | E39: 5 | F39: 8,57 56,24/1.18/5.56 | J39: 43
A40: 17 | B40: Цена поставщика | C40: Зажим винтовой ЗВИ-5 1,5-4мм2 12пар ИЭК UZV3-005-04 | D40: шт. | E40: 5 | F40: 3,31 21,70/1.18/5.56 | J40: 17
A41: 18 | B41: ТЕРм08-02-472-10 | C41: Проводник заземляющий из медного изолированного провода сечением 25 мм2 открыто по строительным основаниям | D41: 100 м | E41: 0.04 | F41: 4732.43 | G41: 617.45 | H41: 45.38 | I41: 0.55 | J41: 189 | K41: 25 | L41: 2 | N41: 46.6 | O41: 1.86 | P41: 0.03
A42: 19 | B42: ТСЦ-502-0499 | C42: Провода силовые для электрических установок на напряжение до 450 В с медной жилой марки ПВ1, сечением 4 мм2 | D42: 1000 м | E42: 0.04 | F42: 3390 | J42: 136
A43: 20 | B43: ФССЦ-501-8443 | C43: Кабель силовой с медными жилами с поливинилхлоридной изоляцией и оболочкой, не распространяющий горение марки ВВГнг, напряжением 0,66 кВ, с числом жил - 3 и сечением 2,5 мм2 КОЭФ. К ПОЗИЦИИ: Приведение расценок ФЕР к территориальному уровню (Письмо УРЦЦС Ц-297 от 12.04.2011) ОЗП=1,41; ЭМ=1,242; ЗПМ=1,41; МАТ=1,052 | D43: 1000 м | E43: 0.0408 | F43: 5064.35 | J43: 207
...

Sheet 25174
A1: СОГЛАСОВАНО: | E1: ФГУП "Комбинат "Электрохимприбор" | M1: УТВЕРЖДАЮ:
G2: (наименование стройки) | M2: Зам.генерального директора
A3: _________________ | N3: Е.В. Гордеев
A4: " _____ " ________________ 2014 г. | M4: __________________
M5: "______ " __________2014 г.
G7: ЛОКАЛЬНЫЙ СМЕТНЫЙ РАСЧЕТ № 25174
G8: (локальная смета)
C10: на | D10: дополнительные работы по реконструкции вентиляционных камер ж/д тамбура
D11: здания 311 отдел 015 (инв.№8512331)
G12: (наименование работ и затрат, наименование объекта)
D14: Основание: Тех. решение №072-15/4212 от 19.11.2013г.
D15: Сметная стоимость _______________________________________________________________________________________________ | J15: ___________________________194,817 | L15: тыс. руб.
D16: строительных работ _______________________________________________________________________________________________ | J16: _______________________________________________________________________________________________76,453 | L16: тыс. руб.
D17: монтажных работ _______________________________________________________________________________________________ | J17: _______________________________________________________________________________________________58,114 | L17: тыс. руб.
D18: оборудования _______________________________________________________________________________________________ | J18: _______________________________________________________________________________________________60,250 | L18: тыс. руб.
D19: Средства на оплату труда _______________________________________________________________________________________________ | J19: ___________________________12,060 | L19: тыс. руб.
D20: Сметная трудоемкость _______________________________________________________________________________________________ | J20: _______________________________________________________________________________________________819,81 | L20: чел.час
D21: Составлен(а) в базовых ценах 2001г. в редакции 2009г.
A24: № пп | B24: Обоснова-ние | C24: Наименование | D24: Ед. изм. | E24: Кол. | F24: Стоимость единицы, руб. | J24: Общая стоимость, руб. | O24: Т/з осн. раб.на ед. | P24: Т/з осн. раб. Всего
F25: Всего | G25: В том числе | J25: Обору-дование | K25: Всего | L25: В том числе
G26: Осн.З/п | H26: Эк.Маш | I26: З/пМех | L26: Осн.З/п | M26: Эк.Маш | N26: З/пМех
A27: 1 | B27: 2 | C27: 3 | D27: 4 | E27: 5 | F27: 6 | G27: 7 | H27: 8 | I27: 9 | J27: 10 | K27: 11 | L27: 12 | M27: 13 | N27: 14 | O27: 15 | P27: 16
A28: Раздел 1. Разборка конструкций
A29: 1 | B29: ТЕР09-06-001-02 | C29: Разборка металлических конструкций в вент. камерах и на вент. установках КОЭФ. К ПОЗИЦИИ: Демонтаж (разборка) металлических конструкций ОЗП=0,7; ЭМ=0,7 к расх.; ЗПМ=0,7; МАТ=0 к расх.; ТЗ=0,7; ТЗМ=0,7 | D29: 1 т | E29: 0.015 | F29: 533.68 | G29: 426.99 | H29: 106.69 | I29: 1.53 | K29: 8 | L29: 6 | M29: 2 | O29: 35.55 | P29: 0.53
A30: 2 | B30: ТЕРр65-1-2 | C30: Разборка трубопроводов из водогазопроводных труб диаметром до 63 мм | D30: 100 м | E30: 1.5 | F30: 831.21 | G30: 698.15 | H30: 13.92 | I30: 2.66 | K30: 1247 | L30: 1047 | M30: 21 | N30: 4 | O30: 59.62 | P30: 89.43
A31: 3 | B31: ТЕР26-01-009-01 | C31: Разборка изоляции трубопроводов КОЭФ. К ПОЗИЦИИ: Демонтаж (разборка) внутренних санитарно-технических устройств (водопровода, газопровода, канализации, водостоков, отопления, вентиляции) ОЗП=0,4; ЭМ=0,4 к расх.; ЗПМ=0,4; МАТ=0 к расх.; ТЗ=0,4; ТЗМ=0,4 | D31: 1 м3 | E31: 1.25 | F31: 132.32 | G31: 103.75 | H31: 28.57 | K31: 165 | L31: 130 | M31: 35 | O31: 7.54 | P31: 9.43
A32: 4 | B32: ТЕРр65-19-2 | C32: Снятие радиаторов весом до 160 кг | D32: 100 шт. | E32: 0.03 | F32: 1906.17 | G32: 1752.22 | H32: 153.95 | I32: 59.67 | K32: 57 | L32: 53 | M32: 4 | N32: 2 | O32: 158 | P32: 4.74
A33: 5 | B33: ТЕР46-03-007-02 | C33: Пробивка проемов в конструкциях из бетона(под трубу канализации в перекрытии т=220мм, d отв=20см | D33: 1 м3 | E33: 0.1 | F33: 2276.49 | G33: 348.71 | H33: 1927.78 | I33: 178.54 | K33: 228 | L33: 35 | M33: 193 | N33: 18 | O33: 27.61 | P33: 2.76
A34: 6 | B34: ФССЦпг01-01-01-041 | C34: Погрузочные работы при автомобильных перевозках: Мусор строительный с погрузкой вручную КОЭФ. К ПОЗИЦИИ: п.1.1.9 ОП Прил.1. Поясной коэффициент: Свердловская область ПЗ=1,1 (ОЗП=1,1; ЭМ=1,1; ЗПМ=1,1; МАТ=1,1); Коэффициент техн.часть п.3 ПЗ=1,025 (ОЗП=1,025; ЭМ=1,025 к расх.; ЗПМ=1,025; МАТ=1,025 к расх.; ТЗ=1,025; ТЗМ=1,025) | D34: 1 т груза | E34: 1.5 | F34: 48.46 | G34: 48.46 | K34: 73 | L34: 73
A35: 7 | B35: СЦП3-3-5-1 | C35: Перевозка грузов автомобилями-самосвалами (работающими вне карьеров): расстояние 5 км, класс груза I КОЭФ. К ПОЗИЦИИ: 17 При перевозке грузов к провозной плате (тарифам) применять поправочный коэффициент ПЗ=1,37 (ОЗП=1,37; ЭМ=1,37 к расх.; ЗПМ=1,37; МАТ=1,37 к расх.; ТЗ=1,37; ТЗМ=1,37) | D35: т | E35: 1.5 | F35: 10.58 | H35: 10.58 | K35: 16 | M35: 16
A36: Итого прямые затраты по разделу в ценах 2001г. | K36: 1794 | L36: 1344 | M36: 271 | N36: 24 | P36: 106.89
A37: Итого прямые затраты по разделу с учетом коэффициентов к итогам (Районный к-т 4,3% (Поз. 2, 4, 3, 5-7)) | K37: 1853 | L37: 1402 | M37: 272 | N37: 25 | P37: 106.89
A38: Накладные расходы | K38: 1056
A39: Сметная прибыль | K39: 716
A40: Итого по разделу 1 Разборка конструкций | K40: 3625 | P40: 106.89
A41: Раздел 2. Cтены
A42: 8 | B42: ТЕРр53-20-4 | C42: Кладка отдельных участков из кирпича внутренних стен (закладка отверстий в камере) | D42: 100 м3 | E42: 0.005 | F42: 73520.24 | G42: 7912.7 | H42: 9982.44 | I42: 709.8 | K42: 368 | L42: 40 | M42: 50 | N42: 4 | O42: 670 | P42: 3.35
A43: 9 | B43: ТЕР07-05-039-04 | C43: Устройство герметизации стеновых панелей пенополистиролом, стык горизонтальный 186,31 = 802,12 - 0,54 x 1 140,38 | D43: 100 м | E43: 0.35 | F43: 186.31 | G43: 50.92 | H43: 135.39 | K43: 65 | L43: 18 | M43: 47 | O43: 4.24 | P43: 1.48
A44: 10 | B44: ТСЦ-101-2388 | C44: Герметик пенополиуретановый (пена монтажная) типа Makrofleks, Soudal в баллонах по 750 мл | D44: шт. | E44: 5 | F44: 68 | K44: 340
A45: 11 | B45: ТЕР15-02-018-02 | C45: Штукатурка внутренних поверхностей наружных стен, цементно-известковым или цементным раствором по камню и бетону, когда остальные поверхности не оштукатуриваются улучшенная | D45: 100 м2 | E45: 0.07 | F45: 3041.26 | G45: 1364.88 | H45: 220.17 | I45: 95.23 | K45: 213 | L45: 96 | M45: 15 | N45: 7 | O45: 103.01 | P45: 7.21
...

Sheet 7081
J1: УТВЕРЖДАЮ:
J4: ________________
J5: "______ " _______________2014 г.
E6: ФГУП "Комбинат "Электрохимприбор"
E7: (наименование стройки)
D9: ЛОКАЛЬНЫЙ СМЕТНЫЙ РАСЧЕТ № 7081
D10: (локальная смета)
B12: на | C12: пусконаладочные работы стадия "вхолостую" по вентиляции. Пл. 1. Здание 311 (инв.№ 8512331)
E13: (наименование работ и затрат, наименование объекта)
C15: Основание: р.д. инв.№ 04-00696
C16: Сметная стоимость прочих _______________________________________________________________________________________________ | E16: ___________________________44,278 | G16: тыс. руб.
C17: Средства на оплату труда _______________________________________________________________________________________________ | E17: ___________________________2,061 | G17: тыс. руб.
C18: Сметная трудоемкость _______________________________________________________________________________________________ | E18: _______________________________________________________________________________________________126,4 | G18: чел.час
C19: Составлена в ценах 2001г. с переводом в текущие цены 2014г.
A22: № пп | B22: Обоснование | C22: Наименование | D22: Ед. изм. | E22: Кол. | F22: Стоимость единицы, руб. | J22: Общая стоимость, руб.
F23: Всего | G23: В том числе | J23: Всего | K23: В том числе
G24: Осн.З/п | H24: Эк.Маш. | I24: З/пМех | K24: Осн.З/п | L24: Эк.Маш. | M24: З/пМех
A25: 1 | B25: 2 | C25: 3 | D25: 4 | E25: 5 | F25: 6 | G25: 7 | H25: 8 | I25: 9 | J25: 10 | K25: 11 | L25: 12 | M25: 13
A26: Раздел 1. Приточная вентсистема П-1
A27: 1 | B27: ТЕРп03-01-060-01 | C27: Система кондиционирования воздуха центральная с номинальной подачей по воздуху, тыс.м3/ч, до: 10, при количестве однотипных установок в машинном зале: 1 | D27: 1 установка | E27: 1 | F27: 781.87 | G27: 781.87 | J27: 782 | K27: 782
A28: 2 | B28: ТЕРп03-01-011-05 | C28: Регулировочно-запорное устройство: клапан обратный | D28: 1 устройство | E28: 1 | F28: 53.4 | G28: 53.4 | J28: 53 | K28: 53
A29: 3 | B29: ТЕРп03-01-011-10 | C29: Регулировочно-запорное устройство: гермоклапан с ручным или электрическим приводом | D29: 1 устройство | E29: 5 | F29: 133.49 | G29: 133.49 | J29: 667 | K29: 667
A30: Раздел 2. Вентсистема В-1
A31: 4 | B31: ТЕРп03-01-011-10 | C31: Регулировочно-запорное устройство: гермоклапан с ручным или электрическим приводом | D31: 1 устройство | E31: 2 | F31: 133.49 | G31: 133.49 | J31: 267 | K31: 267
A32: 5 | B32: ТЕРп03-01-011-05 | C32: Регулировочно-запорное устройство: клапан обратный | D32: 1 устройство | E32: 3 | F32: 53.4 | G32: 53.4 | J32: 160 | K32: 160
A33: 6 | B33: ТЕРп03-01-002-14 | C33: Вентилятор радиальный (центробежный), диаметральный или крышный, №: до 10 | D33: 1 устройство | E33: 2 | F33: 130.03 | G33: 130.03 | J33: 260 | K33: 260
A34: 7 | B34: ТЕРп03-01-001-01 | C34: Шахта вытяжная (дефлектор) | D34: 1 устройство | E34: 8 | F34: 25.83 | G34: 25.83 | J34: 207 | K34: 207
A35: Итого прямые затраты по смете в ценах 2001г. | J35: 2396 | K35: 2396
A36: Итого прямые затраты по смете с учетом коэффициентов к итогам | J36: 2061 | K36: 2061
A37: В том числе, справочно:
A38: Районный к-т 4,3% (Поз. 1-7) | J38: 103 | K38: 103
A39: Стадия "вхолостую" ПЗ=0,75 (ОЗП=0,75; ЭМ=0,75; ЗПМ=0,75; МАТ=0,75) (Поз. 1-7) | J39: -625 | K39: -625
A40: Условия производства работ ПЗ=1,1 (ОЗП=1,1; ЭМ=1,1; ЗПМ=1,1; МАТ=1,1) (Поз. 1-7) | J40: 187 | K40: 187
A41: Накладные расходы | J41: 1340
A42: В том числе, справочно:
A43: 65% ФОТ (от 2061) (Поз. 1-7) | J43: 1340
A44: Сметная прибыль | J44: 824
A45: В том числе, справочно:
A46: 40% ФОТ (от 2061) (Поз. 1-7) | J46: 824
A47: Итоги по смете:
...

Sheet 7082
J1: УТВЕРЖДАЮ:
J4: ________________
J5: "______ " _______________2014 г.
E6: ФГУП "Комбинат "Электрохимприбор"
E7: (наименование стройки)
D9: ЛОКАЛЬНЫЙ СМЕТНЫЙ РАСЧЕТ № 7082
D10: (локальная смета)
B12: на | C12: пусконаладочные работы стадия "вхолостую" на электрооборудование. Пл.1. Зд.311 (инв.№ 8512331)
E13: (наименование работ и затрат, наименование объекта)
C15: Основание: р.д. инв.№ 05-02795; 04-05481
C16: Сметная стоимость прочих _______________________________________________________________________________________________ | E16: ___________________________453,700 | G16: тыс. руб.
C17: Средства на оплату труда _______________________________________________________________________________________________ | E17: ___________________________21,118 | G17: тыс. руб.
C18: Сметная трудоемкость _______________________________________________________________________________________________ | E18: _______________________________________________________________________________________________1338,6 | G18: чел.час
C19: Составлена в ценах 2001г. с переводом в текущие цены 2014г.
A22: № пп | B22: Обоснование | C22: Наименование | D22: Ед. изм. | E22: Кол. | F22: Стоимость единицы, руб. | J22: Общая стоимость, руб.
F23: Всего | G23: В том числе | J23: Всего | K23: В том числе
G24: Осн.З/п | H24: Эк.Маш. | I24: З/пМех | K24: Осн.З/п | L24: Эк.Маш. | M24: З/пМех
A25: 1 | B25: 2 | C25: 3 | D25: 4 | E25: 5 | F25: 6 | G25: 7 | H25: 8 | I25: 9 | J25: 10 | K25: 11 | L25: 12 | M25: 13
A26: Раздел 1. Силовое электрооборудование
A27: 1 | B27: ТЕРп01-03-001-01 | C27: Выключатель однополюсный напряжением до 1 кВ с электромагнитным, тепловым или комбинированным расцепителем | D27: шт. | E27: 76 | F27: 19.9 | G27: 19.9 | J27: 1512 | K27: 1512
A28: 2 | B28: ТЕРп01-03-002-04 | C28: Выключатель трехполюсный напряжением до 1 кВ с электромагнитным, тепловым или комбинированным расцепителем, номинальный ток, А, до: 50 | D28: шт. | E28: 30 | F28: 26.53 | G28: 26.53 | J28: 796 | K28: 796
A29: 74 | B29: ТЕРп01-03-001-02 | C29: Выключатель однополюсный напряжением до 1 кВ: с устройством защитного отключения | D29: шт. | E29: 7 | F29: 26.53 | G29: 26.53 | J29: 186 | K29: 186
A30: 3 | B30: ТЕРп01-03-002-05 | C30: Выключатель трехполюсный напряжением до 1 кВ с электромагнитным, тепловым или комбинированным расцепителем, номинальный ток, А, до: 200 | D30: шт. | E30: 2 | F30: 39.8 | G30: 39.8 | J30: 80 | K30: 80
A31: 4 | B31: ТЕРп01-11-010-01 | C31: Измерение сопротивления растеканию тока заземлителя | D31: 1 измерение | E31: 4 | F31: 23.54 | G31: 23.54 | J31: 94 | K31: 94
A32: 5 | B32: ТЕРп01-11-011-01 | C32: Проверка наличия цепи между заземлителями и заземленными элементами | D32: 100 точек | E32: 3.36 | F32: 251.12 | G32: 251.12 | J32: 844 | K32: 844
A33: 6 | B33: ТЕРп01-11-013-01 | C33: Замер полного сопротивления цепи "фаза-нуль" | D33: 1 токоприемник | E33: 76 | F33: 23.54 | G33: 23.54 | J33: 1789 | K33: 1789
A34: 7 | B34: ТЕРп01-11-024-01 | C34: Фазировка электрической линии или трансформатора с сетью напряжением, кВ до 1 | D34: 1 фазировка | E34: 2 | F34: 15.7 | G34: 15.7 | J34: 31 | K34: 31
A35: 8 | B35: ТЕРп01-11-028-01 | C35: Измерение сопротивления изоляции мегаомметром кабельных и других линий напряжением до 1 кВ, предназначенных для передачи электроэнергии к распределительным устройствам, щитам, шкафам, коммутационным аппаратам и электропотребителям | D35: 1 линия | E35: 116 | F35: 6.28 | G35: 6.28 | J35: 728 | K35: 728
A36: Раздел 2. Приточная вентсистема.
A37: 9 | B37: ТЕРп01-04-002-01 | C37: Тепловая защита с реле одним | D37: компл. | E37: 2 | F37: 53.49 | G37: 53.49 | J37: 107 | K37: 107
A38: 10 | B38: ТЕРп01-07-001-01 | C38: Электродвигатель асинхронный с короткозамкнутым ротором, напряжением, кВ до 1 | D38: шт. | E38: 2 | F38: 47.71 | G38: 47.71 | J38: 95 | K38: 95
A39: 11 | B39: ТЕРп01-07-004-01 | C39: Электродвигатель напряжением до 1 кВ переменного тока: однофазный | D39: шт. | E39: 2 | F39: 31.81 | G39: 31.81 | J39: 64 | K39: 64
A40: 12 | B40: ТЕРп01-09-001-01 | C40: Датчик контактный механический с числом цепей управления до 2 | D40: шт. | E40: 4 | F40: 37.68 | G40: 37.68 | J40: 151 | K40: 151
A41: 13 | B41: ТЕРп01-09-002-01 | C41: Датчик бесконтактный с числом "вход-выход" до 3 | D41: шт. | E41: 2 | F41: 150.72 | G41: 150.72 | J41: 301 | K41: 301
A42: 14 | B42: ТЕРп01-09-010-03 | C42: Функциональная группа управления релейно-контакторная с общим числом внешних блокировочных связей до 10 | D42: шт. | E42: 2 | F42: 250.43 | G42: 250.43 | J42: 501 | K42: 501
A43: 15 | B43: ТЕРп01-09-013-01 | C43: Контур регулирования параметров 1: с числом органов настройки до 5 | D43: шт. | E43: 1 | F43: 1460.62 | G43: 1460.62 | J43: 1461 | K43: 1461
A44: 16 | B44: ТЕРп01-11-011-01 | C44: Проверка наличия цепи между заземлителями и заземленными элементами | D44: 100 точек | E44: 0.04 | F44: 251.12 | G44: 251.12 | J44: 10 | K44: 10
A45: 17 | B45: ТЕРп01-11-013-01 | C45: Замер полного сопротивления цепи "фаза-нуль" | D45: 1 токоприемник | E45: 2 | F45: 23.54 | G45: 23.54 | J45: 47 | K45: 47
A46: 18 | B46: ТЕРп01-11-028-01 | C46: Измерение сопротивления изоляции мегаомметром кабельных и других линий напряжением до 1 кВ, предназначенных для передачи электроэнергии к распределительным устройствам, щитам, шкафам, коммутационным аппаратам и электропотребителям | D46: 1 линия | E46: 2 | F46: 6.28 | G46: 6.28 | J46: 13 | K46: 13
A47: 19 | B47: ТЕРп01-11-028-02 | C47: Измерение сопротивления изоляции мегаомметром обмоток машин и аппаратов | D47: 1 измерение | E47: 2 | F47: 1.57 | G47: 1.57 | J47: 3 | K47: 3
...

Sheet СМР
A1: Расчет начальной (максимальной) цены на
A2: реконструкцию вентиляционных камер ж/д тамбура здания 311 (инв. №8512331)
A4: Наименование глав ССР, объектный сметных расчетов, локальных сметных расчетов, видов прочих работ | B4: Сметная стоимость строительства в базисном уровне цен на 01.01.2000г. по ССР | F4: Остаток сметной стоимости в базисном уровне цен на 01.01.2014 | J4: Сметная стоимость строительства в базисном уровне цен на 01.01.2000г., выставленная на конкурс | N4: Текущая стоимость на момент определения начальной (максимальной) цены | O4: № обосновывающего расчета | P4: 2015 год
B5: Всего | C5: СМР | D5: Оборудование | E5: Прочие | F5: Всего | G5: СМР | H5: Оборудование | I5: Прочие | J5: Всего | K5: СМР | L5: Оборудование | M5: Прочие | P5: СМР | Q5: Оборудование | R5: Прочие
A6: 1 | B6: 2 | C6: 3 | D6: 4 | E6: 5 | F6: 6 | G6: 7 | H6: 8 | I6: 9 | J6: 10 | K6: 11 | L6: 12 | M6: 13 | N6: 14 | O6: 15 | P6: 19 | Q6: 20 | R6: 21
A7: Монтажные работы по реконструкции электрического освещения вентиляционных камер. | B7: =SUM(C7:E7) -> 9657 | C7: ='25144'!J67 -> 9657 | D7: 0 | F7: =SUM(G7:I7) -> 9657 | G7: =C7 -> 9657 | H7: =D7 -> 0 | I7: =E7 -> 0 | J7: =SUM(K7:M7) -> 9657 | K7: =G7 -> 9657 | L7: =H7 -> 0 | O7: 25144 | P7: =K7 -> 9657
A8: Дополнительные работы по реконструкции вентиляционных камер ж/д тамбура здания 311 отдела 015 (инв. №8512331) | B8: =SUM(C8:E8) -> 194817 | C8: =76453+58114 -> 134567 | D8: 60250 | F8: =SUM(G8:I8) -> 194817 | G8: =C8 -> 134567 | H8: =D8 -> 60250 | J8: =SUM(K8:M8) -> 194817 | K8: =G8 -> 134567 | L8: =H8 -> 60250 | O8: 25174 | P8: =K8 -> 134567 | Q8: =L8 -> 60250
A9: Пусконаладочные работы стадия "вхолостую" по вентиляции. Пл. 1. Здание 311 (инв.№ 8512331) | B9: =SUM(C9:E9) -> 4225 | E9: ='7081'!J48 -> 4225 | F9: =SUM(G9:I9) -> 4225 | I9: =E9 -> 4225 | J9: =SUM(K9:M9) -> 4225 | M9: =I9 -> 4225 | O9: 7081 | R9: =M9 -> 4225
A10: Пусконаладочные работы стадия "вхолостую" на электрооборудование. Пл.1. Зд.311 (инв.№ 8512331) | B10: =SUM(C10:E10) -> 43292 | E10: ='7082'!J111 -> 43292 | F10: =SUM(G10:I10) -> 43292 | I10: =E10 -> 43292 | J10: =SUM(K10:M10) -> 43292 | M10: =I10 -> 43292 | O10: 7082 | R10: =M10 -> 43292
A11: Итого в ценах 2000 года: | B11: =SUM(C11:E11) -> 251991 | C11: =SUM(C7:C8) -> 144224 | D11: =SUM(D7:D8) -> 60250 | E11: =SUM(E7:E10) -> 47517 | F11: =SUM(G11:I11) -> 251991 | G11: =SUM(G7:G8) -> 144224 | H11: =SUM(H7:H8) -> 60250 | I11: =SUM(I7:I10) -> 47517 | J11: =SUM(K11:M11) -> 251991 | K11: =SUM(K7:K8) -> 144224 | L11: =SUM(L7:L8) -> 60250 | M11: =SUM(M7:M10) -> 47517 | N11: =SUM(P11:R11) -> 251991 | P11: =SUM(P7:P8) -> 144224 | Q11: =SUM(Q7:Q8) -> 60250 | R11: =SUM(R7:R10) -> 47517
A12: Итого в текущих ценах*: | N12: =SUM(P12:R12) -> 1524024 | P12: =ROUND(P11*5.71,0) -> 823519 | Q12: =ROUND(Q11*3.74,0) -> 225335 | R12: =ROUND(R11*10,0) -> 475170
A13: Итого с индексом инфляции**: | N13: =SUM(P13:R13) -> 1601749 | P13: =ROUND(P12*1.051,0) -> 865518 | Q13: =ROUND(Q12*1.051,0) -> 236827 | R13: =ROUND(R12*1.051,0) -> 499404
A14: НДС 18% | N14: =SUM(P14:R14) -> 288314.82 | P14: =ROUND(P13*18%,2) -> 155793.24 | Q14: =ROUND(Q13*18%,2) -> 42628.86 | R14: =ROUND(R13*18%,2) -> 89892.72
A15: Всего: | N15: =SUM(P15:R15) -> 1890063.8 | P15: =SUM(P13:P14) -> 1021311.2 | Q15: =SUM(Q13:Q14) -> 279455.86 | R15: =SUM(R13:R14) -> 589296.72
A17: * В расчете использованы индексы:
A18: - 5,71 индекс изменения сметной стоимости СМР к ТЕР 2001 (письмо Минстроя России от 13.11.2014 года № 25374-ЮР/08 приложение 1, прочие объекты)
A19: - 3,74 индекс изменения сметной стоимости оборудования к ТЕР 2001 (письмо Минстроя России от от 13.11.2014 года № 25374-ЮР/08 приложение 5, экономика в целом)
A20: - 10,00 индекс изменения сметной стоимости прочих затрат к ТЕР 2001 (письмо Минстроя России от от 13.11.2014 года № 25374-ЮР/08 приложение 1, пусконаладочные работы)
A21: ** В расчете использован индекс-дефлятор по инвестициям в основной капитал 2015/2014 - 1,051 по письмам: Минэкономразвития России от 25.09.2013 № 20402-АК/ДОЗи, Госкорпорации "Росатом" от 10.02.2014 № 1-12.8/4385
A23: Начальник отдела капитального строительства
A24: ФГУП "Комбинат "Электрохимприбор" | H24: В.В. Моляков
A26: Инженер по проектно-сметной работе | H26: Н.А. Басова
A28: Согласовано | H28: отд. 028

Sheet НМЦ договора
A3: Определение начальной (максимальной) цены договора генерального подряда
A4: на реконструкцию вентиляционных камер ж/д тамбура здания 311 (инв. №8512331)
A5: на 2015 год
A7: Способ закупки: открытый запрос предложений
F8: ц.2000г./текущие цены, руб.
A9: Наименование услуг и работ (затрат) | C9: Сметная стоимость строительства в базисном уровне цен на 01.01.2000 г. | D9: Сметная стоимость строительства в текущем уровне цен, пресчитанная на момент проведения процедуры закупки | F9: Начальная (максимальная) цена | G9: в том числе по годам строительства
G12: 2015г.
A16: 1 | C16: 2 | D16: 3 | F16: 4 | G16: 6
A17: СМР | C17: =СМР!K11 -> 144224 | D17: =F17 -> 865518 | F17: =SUM(G17:H17) -> 865518 | G17: =СМР!P13 -> 865518
A18: Оборудование | C18: =СМР!L11 -> 60250 | D18: =СМР!Q13 -> 236827 | F18: =SUM(G18:H18) -> 236827 | G18: =СМР!Q13 -> 236827
A19: Прочие затраты | C19: =СМР!M11 -> 47517 | D19: =СМР!R13 -> 499404 | F19: =СМР!R13 -> 499404 | G19: =СМР!R13 -> 499404
A20: Всего: | C20: =SUM(C17:C19) -> 251991 | D20: =СМР!N13 -> 1601749 | F20: =СМР!N13 -> 1601749 | G20: =СМР!N13 -> 1601749
A21: НДС | D21: =СМР!N14 -> 288314.82 | F21: =ROUND(F20*18%,2) -> 288314.82 | G21: =ROUND(G20*18%,2) -> 288314.82
A22: Итого с НДС | D22: =СМР!N15 -> 1890063.8 | F22: =SUM(F20:F21) -> 1890063.8 | G22: =SUM(G20:H21) -> 1890063.8
A24: В расчете использованы индексы:
A26: - 5,71 индекс изменения сметной стоимости СМР к ТЕР 2001 (письмо Минстроя России от 13.11.2014г. № 25374-ЮР/08 приложение 1, прочие объекты)
A27: - 3,74 индекс изменения сметной стоимости оборудования к ТЕР 2001 (письмо Минстроя России от 13.11.2014г. № 25374-ЮР/08 приложение 5, экономика в целом)
A28: - 10,00 индекс изменения сметной стоимости прочих затрат к ТЕР 2001 (письмо Минстроя России от от 13.11.2014 года № 25374-ЮР/08 приложение 1, пусконаладочные работы)
A29: ** В расчете использован индекс-дефлятор по инвестициям в основной капитал 2015/2014 - 1,051 по письмам: Минэкономразвития России от 25.09.2013 № 20402-АК/ДОЗи, Госкорпорации "Росатом" от 10.02.2014 № 1-12.8/4385
A31: Начальник отдела капитального строительства
A32: ФГУП "Комбинат "Электрохимприбор" | G32: В.В. Моляков
A34: Инженер по проектно-сметной работе | G34: Н.А. Басова
A36: Согласовано | G36: отд. 028
