Workbook

Sheet Смета 12 гр. по ФЕР
A1: =Source!B1 -> Smeta.RU (495) 974-1589 | I1: ПРИЛОЖЕНИЕ 1 к ФОРМЕ 6
B8: СМЕТА
B10: Капитальный ремонт оконных проемов с заменой деревянных оконных блоков на оконные блоки из ПВХ в помещениях № 301-№ 332 3-го этажа, № 205-№ 232 2-го этажа, № 119,120,121,122 1-го этажа в здании общежития Димитровградского инженерно-технологического института - филиала НИЯУ МИФИ (ДИТИ НИЯУ МИФИ) по адресу: Ульяновская область, г. Димитровград, ул. Куйбышева, д. 292 | AD10: =IF(Source!G12<>"Новый объект", Source!G12, "") -> Капитальный ремонт окооных проемов общежития 301,332ДИТИ НИЯУ МИФИ_цена поставщика
G13: базовая цена | I13: текущая цена
C14: Сметная стоимость | G14: =SUM(O1:O97)/1000 -> 149.96319 | I14: =(Source!F106/1000) -> 1162.8886 | K14: тыс. руб.
C15: Строительные работы | G15: =SUM(W1:W97)/1000 -> 149.96319 | I15: =(Source!F93)/1000 -> 985.49878 | K15: тыс. руб.
C16: Нормативная трудоемкость | G16: =I16 -> 902.1761 | I16: =(Source!F98+Source!F99) -> 902.1761 | K16: чел. -ч.
C17: Средства на оплату труда | G17: =SUM(R1:R97)/1000 -> 7.86247 | I17: =(Source!F91+ Source!F90)/1000 -> 51.65646 | K17: тыс. руб.
A19: Составлена в ценах IV квартал 2017 года
A20: № п/п | B20: Шифр расценки и коды ресурсов | C20: Наименование работ и затрат | D20: Ед. изм. | E20: Кол-во единиц | F20: Цена на ед. изм. | G20: Попра-вочные коэфф. | H20: Стоимость в ценах 2001г. | I20: Пункт коэфф. пересчета | J20: Коэфф. пересчета | K20: Стоимость в текущих ценах | L20: ЗТР всего чел.-час
A21: 1 | B21: 2 | C21: 3 | D21: 4 | E21: 5 | F21: 6 | G21: 7 | H21: 8 | I21: 9 | J21: 10 | K21: 11 | L21: 12
A23: =CONCATENATE("Локальная смета: ",IF(Source!G20<>"Новая локальная смета", Source!G20, "")) -> Локальная смета:
A24: =Source!E24 -> 1 | B24: =Source!F24 -> 46-04-012-01 | C24: =Source!G24 -> Разборка деревянных заполнений проемов оконных с подоконными досками | D24: =Source!H24 -> 100 м2 | E24: =Source!I24 -> 1.6128 | F24: =Source!AL24+Source!AM24+Source!AO24 -> 1767.24 | I24: =Source!BO24 | S24: =ROUND((Source!FX24/100)*((ROUND(Source!AF24*Source!I24, 2)+ROUND(Source!AE24*Source!I24, 2))), 2) -> 2602.22 | T24: =Source!X24 -> 17096.62 | U24: =ROUND((Source!FY24/100)*((ROUND(Source!AF24*Source!I24, 2)+ROUND(Source!AE24*Source!I24, 2))), 2) -> 1563.96 | V24: =Source!Y24 -> 10361.59
C25: ="Объем: "&Source!I24&"=161,28/"&"100" -> Объем: 1,6128=161,28/100
C26: Зарплата | F26: =Source!AO24 -> 1525.29 | G26: =Source!DG24 | H26: =ROUND(Source!AF24*Source!I24, 2) -> 2459.99 | J26: =IF(Source!BA24<> 0, Source!BA24, 1) -> 6.57 | K26: =Source!S24 -> 16162.12 | R26: =H26 -> 2459.99
C27: Эксплуатация машин | F27: =Source!AM24 -> 241.95 | G27: =Source!DE24 | H27: =ROUND(Source!AD24*Source!I24, 2) -> 390.22 | J27: =IF(Source!BB24<> 0, Source!BB24, 1) -> 6.57 | K27: =Source!Q24 -> 2563.73
C28: в т.ч. зарплата машинистов | F28: =Source!AN24 -> 104.49 | G28: =Source!DF24 | H28: =ROUND(Source!AE24*Source!I24, 2) -> 168.52 | J28: =IF(Source!BS24<> 0, Source!BS24, 1) -> 6.57 | K28: =Source!R24 -> 1107.19 | R28: =H28 -> 168.52
C29: НР от ФОТ | D29: % | E29: =Source!BZ24 -> 110 | F29: =CONCATENATE(" )", Source!DL24, Source!FT24, "=", Source!FX24) -> )*0,9=99 | H29: =SUM(S24:S31) -> 2602.22 | J29: =Source!AT24 -> 99 | K29: =SUM(T24:T31) -> 17096.62
C30: СП от ФОТ | D30: % | E30: =Source!CA24 -> 70 | F30: =CONCATENATE(" )", Source!DM24, Source!FU24, "=", Source!FY24) -> )*0,85=59,5 | H30: =SUM(U24:U31) -> 1563.96 | J30: =Source!AU24 -> 60 | K30: =SUM(V24:V31) -> 10361.59
C31: Затраты труда | D31: чел-ч | E31: =Source!AQ24 -> 188.54 | G31: =Source!DI24 | L31: =Source!U24 -> 304.07731
G32: =H26+H27+H29+H30 -> 7016.39 | J32: =K26+K27+K29+K30 -> 46184.06 | L32: =Source!U24 -> 304.07731 | O32: =G32 -> 7016.39 | P32: =J32 -> 46184.06 | Q32: =L32 -> 304.07731 | W32: =IF(Source!BI24<=1,H26+H27+H29+H30, 0) -> 7016.39 | X32: =IF(Source!BI24=2,H26+H27+H29+H30, 0) -> 0 | Y32: =IF(Source!BI24=3,H26+H27+H29+H30, 0) -> 0 | Z32: =IF(Source!BI24=4,H26+H27+H29+H30, 0) -> 0
A33: =Source!E25 -> 2 | B33: =Source!F25 -> 10-01-034-08 | C33: =Source!G25 -> Установка в жилых и общественных зданиях оконных блоков из ПВХ профилей поворотных (откидных, поворотно-откидных) с площадью проема более 2 м2 трехстворчатых, в том числе при наличии створок глухого остекления | D33: =Source!H25 -> 100 м2 | E33: =Source!I25 -> 1.6128 | F33: =Source!AL25+Source!AM25+Source!AO25 -> 10107.89 | I33: =Source!BO25 | S33: =ROUND((Source!FX25/100)*((ROUND(Source!AF25*Source!I25, 2)+ROUND(Source!AE25*Source!I25, 2))), 2) -> 2319.09 | T33: =Source!X25 -> 15207.72 | U33: =ROUND((Source!FY25/100)*((ROUND(Source!AF25*Source!I25, 2)+ROUND(Source!AE25*Source!I25, 2))), 2) -> 1169.37 | V33: =Source!Y25 -> 7747.33
C34: ="Объем: "&Source!I25&"=161,28/"&"100" -> Объем: 1,6128=161,28/100
C35: Зарплата | F35: =Source!AO25 -> 1303.66 | G35: =Source!DG25 | H35: =ROUND(Source!AF25*Source!I25, 2) -> 2102.54 | J35: =IF(Source!BA25<> 0, Source!BA25, 1) -> 6.57 | K35: =Source!S25 -> 13813.71 | R35: =H35 -> 2102.54
C36: Эксплуатация машин | F36: =Source!AM25 -> 255.21 | G36: =Source!DE25 | H36: =ROUND(Source!AD25*Source!I25, 2) -> 411.6 | J36: =IF(Source!BB25<> 0, Source!BB25, 1) -> 6.57 | K36: =Source!Q25 -> 2704.23
C37: в т.ч. зарплата машинистов | F37: =Source!AN25 -> 50.32 | G37: =Source!DF25 | H37: =ROUND(Source!AE25*Source!I25, 2) -> 81.16 | J37: =IF(Source!BS25<> 0, Source!BS25, 1) -> 6.57 | K37: =Source!R25 -> 533.2 | R37: =H37 -> 81.16
C38: Материальные ресурсы | F38: =Source!AL25 -> 8549.02 | G38: =Source!DD25 | H38: =ROUND(Source!AC25*Source!I25, 2) -> 13787.86 | J38: =IF(Source!BC25<> 0, Source!BC25, 1) -> 6.57 | K38: =Source!P25 -> 90586.24
C39: НР от ФОТ | D39: % | E39: =Source!BZ25 -> 118 | F39: =CONCATENATE(" )", Source!DL25, Source!FT25, "=", Source!FX25) -> )*0,9=106,2 | H39: =SUM(S33:S42) -> 2319.09 | J39: =Source!AT25 -> 106 | K39: =SUM(T33:T42) -> 15207.72
C40: СП от ФОТ | D40: % | E40: =Source!CA25 -> 63 | F40: =CONCATENATE(" )", Source!DM25, Source!FU25, "=", Source!FY25) -> )*0,85=53,55 | H40: =SUM(U33:U42) -> 1169.37 | J40: =Source!AU25 -> 54 | K40: =SUM(V33:V42) -> 7747.33
C41: Затраты труда | D41: чел-ч | E41: =Source!AQ25 -> 149.16 | G41: =Source!DI25 | L41: =Source!U25 -> 240.56525
A42: =Source!E26 -> 2,1 | B42: =Source!F26 -> Цена поставщика | C42: Блок оконный пластиковый Базисная стоимость: 446,07 = [3 458,17 / 1,18 / 6,57] | D42: =Source!H26 -> м2 | E42: =Source!I26 -> 161.28 | F42: =Source!AL26+Source!AM26+Source!AO26 -> 446.07 | H42: =ROUND(Source!AC26*Source!I26, 2)+ROUND(Source!AD26*Source!I26, 2)+ROUND(Source!AF26*Source!I26, 2) -> 71942.17 | J42: =IF(Source!BC26<> 0, Source!BC26, 1) -> 6.57 | K42: =Source!O26 -> 472660.05 | S42: =ROUND((Source!FX26/100)*((ROUND(Source!AF26*Source!I26, 2)+ROUND(Source!AE26*Source!I26, 2))), 2) -> 0 | T42: =Source!X26 -> 0 | U42: =ROUND((Source!FY26/100)*((ROUND(Source!AF26*Source!I26, 2)+ROUND(Source!AE26*Source!I26, 2))), 2) -> 0 | V42: =Source!Y26 -> 0 | W42: =IF(Source!BI26<=1,H42, 0) -> 71942.17 | X42: =IF(Source!BI26=2,H42, 0) -> 0 | Y42: =IF(Source!BI26=3,H42, 0) -> 0 | Z42: =IF(Source!BI26=4,H42, 0) -> 0
G43: =H35+H36+H38+H39+H40+SUM(H42:H42) -> 91732.63 | J43: =K35+K36+K38+K39+K40+SUM(K42:K42) -> 602719.28 | L43: =Source!U25 -> 240.56525 | O43: =G43 -> 91732.63 | P43: =J43 -> 602719.28 | Q43: =L43 -> 240.56525 | W43: =IF(Source!BI25<=1,H35+H36+H38+H39+H40, 0) -> 19790.46 | X43: =IF(Source!BI25=2,H35+H36+H38+H39+H40, 0) -> 0 | Y43: =IF(Source!BI25=3,H35+H36+H38+H39+H40, 0) -> 0 | Z43: =IF(Source!BI25=4,H35+H36+H38+H39+H40, 0) -> 0
A44: =Source!E27 -> 3 | B44: =Source!F27 -> 10-01-035-03 | C44: =Source!G27 -> Установка подоконных досок из ПВХ в каменных стенах толщиной свыше 0,51 м | D44: =Source!H27 -> 100 м | E44: =Source!I27 -> 1.12 | F44: =Source!AL27+Source!AM27+Source!AO27 -> 6481.17 | I44: =Source!BO27 | S44: =ROUND((Source!FX27/100)*((ROUND(Source!AF27*Source!I27, 2)+ROUND(Source!AE27*Source!I27, 2))), 2) -> 222.18 | T44: =Source!X27 -> 1457.02 | U44: =ROUND((Source!FY27/100)*((ROUND(Source!AF27*Source!I27, 2)+ROUND(Source!AE27*Source!I27, 2))), 2) -> 112.03 | V44: =Source!Y27 -> 742.26
C45: ="Объем: "&Source!I27&"=112/"&"100" -> Объем: 1,12=112/100
C46: Зарплата | F46: =Source!AO27 -> 182.37 | G46: =Source!DG27 | H46: =ROUND(Source!AF27*Source!I27, 2) -> 204.25 | J46: =IF(Source!BA27<> 0, Source!BA27, 1) -> 6.57 | K46: =Source!S27 -> 1341.95 | R46: =H46 -> 204.25
C47: Эксплуатация машин | F47: =Source!AM27 -> 21.9 | G47: =Source!DE27 | H47: =ROUND(Source!AD27*Source!I27, 2) -> 24.53 | J47: =IF(Source!BB27<> 0, Source!BB27, 1) -> 6.57 | K47: =Source!Q27 -> 161.15
C48: в т.ч. зарплата машинистов | F48: =Source!AN27 -> 4.43 | G48: =Source!DF27 | H48: =ROUND(Source!AE27*Source!I27, 2) -> 4.96 | J48: =IF(Source!BS27<> 0, Source!BS27, 1) -> 6.57 | K48: =Source!R27 -> 32.6 | R48: =H48 -> 4.96
C49: Материальные ресурсы | F49: =Source!AL27 -> 6276.9 | G49: =Source!DD27 | H49: =ROUND(Source!AC27*Source!I27, 2) -> 7030.13 | J49: =IF(Source!BC27<> 0, Source!BC27, 1) -> 6.57 | K49: =Source!P27 -> 46187.94
C50: НР от ФОТ | D50: % | E50: =Source!BZ27 -> 118 | F50: =CONCATENATE(" )", Source!DL27, Source!FT27, "=", Source!FX27) -> )*0,9=106,2 | H50: =SUM(S44:S53) -> 222.18 | J50: =Source!AT27 -> 106 | K50: =SUM(T44:T53) -> 1457.02
C51: СП от ФОТ | D51: % | E51: =Source!CA27 -> 63 | F51: =CONCATENATE(" )", Source!DM27, Source!FU27, "=", Source!FY27) -> )*0,85=53,55 | H51: =SUM(U44:U53) -> 112.03 | J51: =Source!AU27 -> 54 | K51: =SUM(V44:V53) -> 742.26
...

Sheet Акт КС-2 c НР и СП
A1: =Source!B1 -> Smeta.RU (495) 974-1589
E2: Унифицированная форма № КС-2
E3: Утверждена постановлением Госкомстата России
E4: от 11.11.99. № 100
G6: Код
F7: Форма по ОКУД | G7: 0322005
G8: =IF(Source!AT15 <> "", Source!AT15, "")
A9: Инвестор | C9: =IF(Source!BA15 <> "", Source!BA15, IF(Source!AU15 <> "", Source!AU15, "")) | F9: по ОКПО
C10: организация, адрес, телефон, факс | G10: =IF(Source!AK15 <> "", Source!AK15, "")
A11: Заказчик | C11: =IF(Source!AX12<> "", Source!AX12, IF(Source!AJ12 <> "", Source!AJ12, "")) | F11: по ОКПО
C12: организация, адрес, телефон, факс | G12: =IF(Source!AO15 <> "", Source!AO15, "")
A13: Подрядчик | C13: =IF(Source!AY12<> "", Source!AY12, IF(Source!AN12 <> "", Source!AN12, "")) | F13: по ОКПО
C14: организация, адрес, телефон, факс | G14: =IF(Source!CO15 <> "", Source!CO15, "")
A15: Стройка | C15: Капитальный ремонт окооных проемов общежития 301,332ДИТИ НИЯУ МИФИ_цена поставщика | AE15: Капитальный ремонт окооных проемов общежития 301,332ДИТИ НИЯУ МИФИ_цена поставщика
C16: наименование, адрес | G16: =IF(Source!CP15 <> "", Source!CP15, "")
A17: Объект | C17: =IF(Source!G12<>"Новый объект", Source!G12, "") -> Капитальный ремонт окооных проемов общежития 301,332ДИТИ НИЯУ МИФИ_цена поставщика | AE17: =IF(Source!G12<>"Новый объект", Source!G12, "") -> Капитальный ремонт окооных проемов общежития 301,332ДИТИ НИЯУ МИФИ_цена поставщика
C18: наименование
D19: Вид деятельности по ОКДП | G19: =IF(Source!CQ15 <> "", Source!CQ15, "")
D20: Договор подряда | F20: номер | G20: =IF(Source!CR15 <> "", Source!CR15, "")
F21: дата | G21: =IF(Source!CS15 <> 0, Source!CS15, "")
F22: Вид операции | G22: =IF(Source!CT15 <> "", Source!CT15, "")
D24: Номер документа | E24: Дата составления | F24: Отчетный период
F25: с | G25: по
D26: =IF(Source!CN15 <> "", Source!CN15, "") | E26: 43133.475
A28: AKT
A29: О ПРИЕМКЕ ВЫПОЛНЕННЫХ РАБОТ
A31: Сметная (договорная) стоимость в соответствии с договором подряда (субподряда) | F31: =(Source!F106/1000) -> 1162.8886 | H31: тыс.руб
A33: Номер | C33: Наименование работ | D33: Номер единичной расценки | E33: Единица измерения | F33: Выполнено работ
A34: по порядку | B34: поз. по смете | F34: Количество | G34: цена за единицу, руб | H34: стоимость, руб
A35: 1 | B35: 2 | C35: 3 | D35: 4 | E35: 5 | F35: 6 | G35: 7 | H35: 8
A37: =CONCATENATE("Локальная смета: ",IF(Source!G20<>"Новая локальная смета", Source!G20, "")) -> Локальная смета:
A38: 1 | B38: =Source!E24 -> 1 | C38: =Source!G24 -> Разборка деревянных заполнений проемов оконных с подоконными досками | D38: =Source!F24 -> 46-04-012-01 | E38: =Source!H24 -> 100 м2 | F38: =Source!I24 -> 1.6128 | G38: =Source!AB24 -> 1767.24 | H38: =Source!O24 -> 18725.85 | T38: =Source!O24+Source!X24+Source!Y24 -> 46184.06 | U38: =Source!P24 -> 0 | V38: =Source!S24 -> 16162.12 | W38: =Source!Q24 -> 2563.73 | X38: =Source!R24 -> 1107.19 | Y38: =Source!U24 -> 304.07731 | Z38: =Source!V24 -> 12.483072 | AA38: =Source!X24 -> 17096.62 | AB38: =Source!Y24 -> 10361.59
C39: ="Объем: "&Source!I24&"=161,28/"&"100" -> Объем: 1,6128=161,28/100
C40: Коэфф. к ОЗП | D40: =Source!BA24 -> 6.57
C41: Коэфф. к эксплуатации машин | D41: =Source!BB24 -> 6.57
C42: Коэфф. к материалам | D42: =Source!BC24 -> 6.57
C43: Коэфф. к ЗПМ | D43: =Source!BS24 -> 6.57
C44: % НР | F44: =Source!BZ24 -> 110 | G44: =(Source!AF24+Source!AE24)*Source!FX24/100 -> 1613.4822 | H44: =Source!X24 -> 17096.62
C45: % НР с поправкой | G45: =CONCATENATE(Source!DL24,Source!FT24, "=", Source!FX24, "%") -> *0,9=99% | H45: =CONCATENATE(Source!AT24) -> 99
C46: % СП | F46: =Source!CA24 -> 70 | G46: =(Source!AF24+Source!AE24)*Source!FY24/100 -> 969.7191 | H46: =Source!Y24 -> 10361.59
...

Sheet Source
A1: 0 | B1: Smeta.RU (495) 974-1589 | D1: _PS_ | F1: 0 | G1: 0 | H1: 0 | I1: Smeta.RU | J1: НИЯУ МИФИ Доп. раб. место MCCS-0027251 | K1: 0 | L1: 27251 | M1: 10
A12: 1 | B12: 137 | C12: 0 | D12: =ROW(A76) -> 76 | E12: 0 | F12: Новый объект_(Копия) | G12: Капитальный ремонт окооных проемов общежития 301,332ДИТИ НИЯУ МИФИ_цена поставщика | I12: 0 | K12: 0 | O12: 0 | P12: 0 | Q12: 0 | R12: 0 | V12: 0 | BH12: Сметные нормы списания | BI12: Коды ценников | BJ12: 1 | BK12: 1 | BL12: 0 | BM12: 0 | BN12: 1 | BO12: 0 | BP12: 6 | BQ12: 2 | BR12: 1 | BS12: 1 | BT12: 0 | BU12: 0 | BV12: 0 | BW12: 0 | BX12: 0 | BY12: ФЕР-2017 | BZ12: ТР для Версии 10: Центральные регионы (с учетом п-ма 2536-ИП/12/ГС от 22.03.2017 г | CA12: ФЕР-2017 | CB12: ФЕР-2017 | CC12: ФЕР-2017 | CD12: ФЕР-2017 | CE12: Поправки для ГСН 2017 от 31.03.2017 г | CF12: 0 | CG12: 0 | CH12: 524296 | CK12: 0 | EC12: 0
A15: 15 | B15: 1
A18: 52 | B18: =B76 -> 137 | C18: =C76 -> 1 | D18: =D76 -> 12 | E18: =E76 -> 0 | F18: =F76 -> Новый объект_(Копия) | G18: =G76 -> Капитальный ремонт окооных проемов общежития 301,332ДИТИ НИЯУ МИФИ_цена поставщика | O18: =O76 -> 904431.83 | P18: =P76 -> 848715.6 | Q18: =Q76 -> 5811.06 | R18: =R76 -> 1751.29 | S18: =S76 -> 49905.17 | T18: =T76 -> 0 | U18: =U76 -> 881.46275 | V18: =V76 -> 20.713344 | ... GX18: =GX76 -> 0
A20: 3 | B20: 1 | D20: =ROW(A44) -> 44 | F20: Новая локальная смета | G20: Новая локальная смета | I20: 0 | K20: 0 | V20: 0 | BX20: 0 | CF20: 0 | CG20: 0
A22: 52 | B22: =B44 -> 1 | C22: =C44 -> 3 | D22: =D44 -> 20 | E22: =E44 -> 0 | F22: =F44 -> Новая локальная смета | G22: =G44 -> Новая локальная смета | O22: =O44 -> 904431.83 | P22: =P44 -> 848715.6 | Q22: =Q44 -> 5811.06 | R22: =R44 -> 1751.29 | S22: =S44 -> 49905.17 | T22: =T44 -> 0 | U22: =U44 -> 881.46275 | V22: =V44 -> 20.713344 | ... GX22: =GX44 -> 0
A24: 17 | B24: 1 | C24: =ROW(SmtRes!A3) -> 3 | D24: =ROW(EtalonRes!A3) -> 3 | E24: 1 | F24: 46-04-012-01 | G24: Разборка деревянных заполнений проемов оконных с подоконными досками | H24: 100 м2 | I24: =ROUND(161.28/100,9) -> 1.6128 | J24: 0 | O24: =ROUND(CP24,2) -> 18725.85 | P24: =ROUND(CQ24*I24,2) -> 0 | Q24: =ROUND(CR24*I24,2) -> 2563.73 | R24: =ROUND(CS24*I24,2) -> 1107.19 | S24: =ROUND(CT24*I24,2) -> 16162.12 | T24: =ROUND(CU24*I24,2) -> 0 | U24: =CV24*I24 -> 304.07731 | V24: =CW24*I24 -> 12.483072 | W24: =ROUND(CX24*I24,2) -> 0 | X24: =ROUND(CY24,2) -> 17096.62 | Y24: =ROUND(CZ24,2) -> 10361.59 | AA24: 16496534 | AB24: =ROUND((AC24+AD24+AF24),6) -> 1767.24 | AC24: =ROUND((ES24),6) -> 0 | AD24: =ROUND((((ET24)-(EU24))+AE24),6) -> 241.95 | AE24: =ROUND((EU24),6) -> 104.49 | AF24: =ROUND((EV24),6) -> 1525.29 | AG24: =ROUND((AP24),6) -> 0 | AH24: =(EW24) -> 188.54 | AI24: =(EX24) -> 7.74 | AJ24: =ROUND((AS24),6) -> 0 | AK24: 1767.24 | AL24: 0 | AM24: 241.95 | AN24: 104.49 | AO24: 1525.29 | AP24: 0 | AQ24: 188.54 | AR24: 7.74 | AS24: 0 | AT24: 99 | AU24: 60 | AV24: 1 | AW24: 1 | AZ24: 6.57 | BA24: 6.57 | BB24: 6.57 | BC24: 6.57 | BH24: 0 | BI24: 1 | BJ24: ФЕР-2001, 46-04-012-01, приказ Минстроя России №1039/пр от 30.12.2016г. | BM24: 46001 | BN24: 0 | BP24: 0 | BQ24: 2 | BR24: 0 | BS24: 6.57 | BT24: 1 | BU24: 1 | BV24: 1 | BW24: 1 | BX24: 1 | BZ24: 110 | CA24: 70 | CF24: 0 | CG24: 0 | CM24: 0 | CO24: 0 | CP24: =(P24+Q24+S24) -> 18725.85 | CQ24: =AC24*BC24 -> 0 | CR24: =AD24*BB24 -> 1589.6115 | CS24: =AE24*BS24 -> 686.4993 | CT24: =AF24*BA24 -> 10021.155 | CU24: =AG24 -> 0 | CV24: =AH24 -> 188.54 | CW24: =AI24 -> 7.74 | CX24: =AJ24 -> 0 | CY24: =(((S24+R24)*AT24)/100) -> 17096.617 | CZ24: =(((S24+R24)*AU24)/100) -> 10361.586 | DN24: 0 | DO24: 0 | DP24: 1 | DQ24: 1 | DU24: 1005 | DV24: 100 м2 | DW24: 100 м2 | DX24: 100 | EE24: 15139168 | EF24: 2 | EG24: Общестроительные работы | EH24: 0 | EJ24: 1 | EK24: 46001 | EL24: Реконструкция зданий и сооружений | EM24: ФЕР-46 | EQ24: 0 | ER24: 1767.24 | ES24: 0 | ET24: 241.95 | EU24: 104.49 | EV24: 1525.29 | EW24: 188.54 | EX24: 7.74 | EY24: 0 | FQ24: 0 | FR24: =ROUND(IF(AND(BH24=3,BI24=3),P24,0),2) -> 0 | FS24: 0 | FT24: *0,9 | FU24: *0,85 | FX24: 99 | FY24: 59.5 | GD24: 0 | GF24: 1630687704 | GG24: 1 | GH24: 1 | GI24: 4 | GJ24: 0 | GK24: =ROUND(R24*(R12)/100,2) -> 0 | GL24: =ROUND(IF(AND(BH24=3,BI24=3,FS24<>0),P24,0),2) -> 0 | GM24: =ROUND(O24+X24+Y24+GK24,2)+GX24 -> 46184.06 | GN24: =IF(OR(BI24=0,BI24=1),ROUND(O24+X24+Y24+GK24,2),0) -> 46184.06 | GO24: =IF(BI24=2,ROUND(O24+X24+Y24+GK24,2),0) -> 0 | GP24: =IF(BI24=4,ROUND(O24+X24+Y24+GK24,2)+GX24,0) -> 0 | GR24: 0 | GS24: 3 | GT24: 0 | GV24: =ROUND(GT24,6) -> 0 | GW24: 1 | GX24: =ROUND(GV24*GW24*I24,2) -> 0 | HA24: 0 | HB24: 0 | IK24: 0
A25: 17 | B25: 1 | C25: =ROW(SmtRes!A14) -> 14 | D25: =ROW(EtalonRes!A14) -> 14 | E25: 2 | F25: 10-01-034-08 | G25: Установка в жилых и общественных зданиях оконных блоков из ПВХ профилей поворотных (откидных, поворотно-откидных) с площадью проема более 2 м2 трехстворчатых, в том числе при наличии створок глухого остекления | H25: 100 м2 | I25: =ROUND(161.28/100,9) -> 1.6128 | J25: 0 | O25: =ROUND(CP25,2) -> 107104.18 | P25: =ROUND(CQ25*I25,2) -> 90586.24 | Q25: =ROUND(CR25*I25,2) -> 2704.23 | R25: =ROUND(CS25*I25,2) -> 533.2 | S25: =ROUND(CT25*I25,2) -> 13813.71 | T25: =ROUND(CU25*I25,2) -> 0 | U25: =CV25*I25 -> 240.56525 | V25: =CW25*I25 -> 6.822144 | W25: =ROUND(CX25*I25,2) -> 0 | X25: =ROUND(CY25,2) -> 15207.72 | Y25: =ROUND(CZ25,2) -> 7747.33 | AA25: 16496534 | AB25: =ROUND((AC25+AD25+AF25),6) -> 10107.89 | AC25: =ROUND((ES25),6) -> 8549.02 | AD25: =ROUND((((ET25)-(EU25))+AE25),6) -> 255.21 | AE25: =ROUND((EU25),6) -> 50.32 | AF25: =ROUND((EV25),6) -> 1303.66 | AG25: =ROUND((AP25),6) -> 0 | AH25: =(EW25) -> 149.16 | AI25: =(EX25) -> 4.23 | AJ25: =ROUND((AS25),6) -> 0 | AK25: 10107.89 | AL25: 8549.02 | AM25: 255.21 | AN25: 50.32 | AO25: 1303.66 | AP25: 0 | AQ25: 149.16 | AR25: 4.23 | AS25: 0 | AT25: 106 | AU25: 54 | AV25: 1 | AW25: 1 | AZ25: 6.57 | BA25: 6.57 | BB25: 6.57 | BC25: 6.57 | BH25: 0 | BI25: 1 | BJ25: ФЕР-2001, 10-01-034-08, приказ Минстроя России №1039/пр от 30.12.2016г. | BM25: 10001 | BN25: 0 | BP25: 0 | BQ25: 2 | BR25: 0 | BS25: 6.57 | BT25: 1 | BU25: 1 | BV25: 1 | BW25: 1 | BX25: 1 | BZ25: 118 | CA25: 63 | CF25: 0 | CG25: 0 | CM25: 0 | CO25: 0 | CP25: =(P25+Q25+S25) -> 107104.18 | CQ25: =AC25*BC25 -> 56167.061 | CR25: =AD25*BB25 -> 1676.7297 | CS25: =AE25*BS25 -> 330.6024 | CT25: =AF25*BA25 -> 8565.0462 | CU25: =AG25 -> 0 | CV25: =AH25 -> 149.16 | CW25: =AI25 -> 4.23 | CX25: =AJ25 -> 0 | CY25: =(((S25+R25)*AT25)/100) -> 15207.725 | CZ25: =(((S25+R25)*AU25)/100) -> 7747.3314 | DN25: 0 | DO25: 0 | DP25: 1 | DQ25: 1 | DU25: 1005 | DV25: 100 м2 | DW25: 100 м2 | DX25: 100 | EE25: 15139100 | EF25: 2 | EG25: Общестроительные работы | EH25: 0 | EJ25: 1 | EK25: 10001 | EL25: Деревянные конструкции | EM25: ФЕР-10 | EQ25: 0 | ER25: 10107.89 | ES25: 8549.02 | ET25: 255.21 | EU25: 50.32 | EV25: 1303.66 | EW25: 149.16 | EX25: 4.23 | EY25: 0 | FQ25: 0 | FR25: =ROUND(IF(AND(BH25=3,BI25=3),P25,0),2) -> 0 | FS25: 0 | FT25: *0,9 | FU25: *0,85 | FX25: 106.2 | FY25: 53.55 | GD25: 0 | GF25: -330529066 | GG25: 1 | GH25: 1 | GI25: 4 | GJ25: 0 | GK25: =ROUND(R25*(R12)/100,2) -> 0 | GL25: =ROUND(IF(AND(BH25=3,BI25=3,FS25<>0),P25,0),2) -> 0 | GM25: =ROUND(O25+X25+Y25+GK25,2)+GX25 -> 130059.23 | GN25: =IF(OR(BI25=0,BI25=1),ROUND(O25+X25+Y25+GK25,2),0) -> 130059.23 | GO25: =IF(BI25=2,ROUND(O25+X25+Y25+GK25,2),0) -> 0 | GP25: =IF(BI25=4,ROUND(O25+X25+Y25+GK25,2)+GX25,0) -> 0 | GR25: 0 | GS25: 3 | GT25: 0 | GV25: =ROUND(GT25,6) -> 0 | GW25: 1 | GX25: =ROUND(GV25*GW25*I25,2) -> 0 | HA25: 0 | HB25: 0 | IK25: 0
A26: 18 | B26: 1 | C26: 14 | E26: 2,1 | F26: Цена поставщика | G26: Блок оконный пластиковый | H26: м2 | I26: =I25*J26 -> 161.28 | J26: 100 | O26: =ROUND(CP26,2) -> 472660.05 | P26: =ROUND(CQ26*I26,2) -> 472660.05 | Q26: =ROUND(CR26*I26,2) -> 0 | R26: =ROUND(CS26*I26,2) -> 0 | S26: =ROUND(CT26*I26,2) -> 0 | T26: =ROUND(CU26*I26,2) -> 0 | U26: =CV26*I26 -> 0 | V26: =CW26*I26 -> 0 | W26: =ROUND(CX26*I26,2) -> 0 | X26: =ROUND(CY26,2) -> 0 | Y26: =ROUND(CZ26,2) -> 0 | AA26: 16496534 | AB26: =ROUND((AC26+AD26+AF26),6) -> 446.07 | AC26: =ROUND((ES26),6) -> 446.07 | AD26: =ROUND((((ET26)-(EU26))+AE26),6) -> 0 | AE26: =ROUND((EU26),6) -> 0 | AF26: =ROUND((EV26),6) -> 0 | AG26: =ROUND((AP26),6) -> 0 | AH26: =(EW26) -> 0 | AI26: =(EX26) -> 0 | AJ26: =ROUND((AS26),6) -> 0 | AK26: 446.07 | AL26: 446.07 | AM26: 0 | AN26: 0 | AO26: 0 | AP26: 0 | AQ26: 0 | AR26: 0 | AS26: 0 | AT26: 106 | AU26: 54 | AV26: 1 | AW26: 1 | AZ26: 6.57 | BA26: 1 | BB26: 1 | BC26: 6.57 | BH26: 3 | BI26: 1 | BM26: 10001 | BN26: 0 | BP26: 0 | BQ26: 2 | BR26: 0 | BS26: 1 | BT26: 1 | BU26: 1 | BV26: 1 | BW26: 1 | BX26: 1 | BZ26: 118 | CA26: 63 | CF26: 0 | CG26: 0 | CM26: 0 | CO26: 0 | CP26: =(P26+Q26+S26) -> 472660.05 | CQ26: =AC26*BC26 -> 2930.6799 | CR26: =AD26*BB26 -> 0 | CS26: =AE26*BS26 -> 0 | CT26: =AF26*BA26 -> 0 | CU26: =AG26 -> 0 | CV26: =AH26 -> 0 | CW26: =AI26 -> 0 | CX26: =AJ26 -> 0 | CY26: =(((S26+R26)*AT26)/100) -> 0 | CZ26: =(((S26+R26)*AU26)/100) -> 0 | DN26: 0 | DO26: 0 | DP26: 1 | DQ26: 1 | DU26: 1005 | DV26: м2 | DW26: м2 | DX26: 1 | EE26: 15139100 | EF26: 2 | EG26: Общестроительные работы | EH26: 0 | EJ26: 1 | EK26: 10001 | EL26: Деревянные конструкции | EM26: ФЕР-10 | EQ26: 0 | ER26: 2930.65 | ES26: 446.07 | ET26: 0 | EU26: 0 | EV26: 0 | EW26: 0 | EX26: 0 | EZ26: 5 | FC26: 1 | FD26: 18 | FF26: 3458.17 | FQ26: 0 | FR26: =ROUND(IF(AND(BH26=3,BI26=3),P26,0),2) -> 0 | FS26: 0 | FT26: *0,9 | FU26: *0,85 | FX26: 106.2 | FY26: 53.55 | GA26: [3 458,17 / 1,18 / 6,57] | GD26: 0 | GF26: -1032967554 | GG26: 1 | GH26: 3 | GI26: 4 | GJ26: 0 | GK26: =ROUND(R26*(R12)/100,2) -> 0 | GL26: =ROUND(IF(AND(BH26=3,BI26=3,FS26<>0),P26,0),2) -> 0 | GM26: =ROUND(O26+X26+Y26+GK26,2)+GX26 -> 472660.05 | GN26: =IF(OR(BI26=0,BI26=1),ROUND(O26+X26+Y26+GK26,2),0) -> 472660.05 | GO26: =IF(BI26=2,ROUND(O26+X26+Y26+GK26,2),0) -> 0 | GP26: =IF(BI26=4,ROUND(O26+X26+Y26+GK26,2)+GX26,0) -> 0 | GR26: 1 | GS26: 1 | GT26: 0 | GV26: =ROUND(GT26,6) -> 0 | GW26: 1 | GX26: =ROUND(GV26*GW26*I26,2) -> 0 | HA26: 0 | HB26: 0 | IK26: 0
A27: 17 | B27: 1 | C27: =ROW(SmtRes!A21) -> 21 | D27: =ROW(EtalonRes!A21) -> 21 | E27: 3 | F27: 10-01-035-03 | G27: Установка подоконных досок из ПВХ в каменных стенах толщиной свыше 0,51 м | H27: 100 м | I27: =ROUND(112/100,9) -> 1.12 | J27: 0 | O27: =ROUND(CP27,2) -> 47691.04 | P27: =ROUND(CQ27*I27,2) -> 46187.94 | Q27: =ROUND(CR27*I27,2) -> 161.15 | R27: =ROUND(CS27*I27,2) -> 32.6 | S27: =ROUND(CT27*I27,2) -> 1341.95 | T27: =ROUND(CU27*I27,2) -> 0 | U27: =CV27*I27 -> 23.9456 | V27: =CW27*I27 -> 0.4144 | W27: =ROUND(CX27*I27,2) -> 0 | X27: =ROUND(CY27,2) -> 1457.02 | Y27: =ROUND(CZ27,2) -> 742.26 | AA27: 16496534 | AB27: =ROUND((AC27+AD27+AF27),6) -> 6481.17 | AC27: =ROUND((ES27),6) -> 6276.9 | AD27: =ROUND((((ET27)-(EU27))+AE27),6) -> 21.9 | AE27: =ROUND((EU27),6) -> 4.43 | AF27: =ROUND((EV27),6) -> 182.37 | AG27: =ROUND((AP27),6) -> 0 | AH27: =(EW27) -> 21.38 | AI27: =(EX27) -> 0.37 | AJ27: =ROUND((AS27),6) -> 0 | AK27: 6481.17 | AL27: 6276.9 | AM27: 21.9 | AN27: 4.43 | AO27: 182.37 | AP27: 0 | AQ27: 21.38 | AR27: 0.37 | AS27: 0 | AT27: 106 | AU27: 54 | AV27: 1 | AW27: 1 | AZ27: 6.57 | BA27: 6.57 | BB27: 6.57 | BC27: 6.57 | BH27: 0 | BI27: 1 | BJ27: ФЕР-2001, 10-01-035-03, приказ Минстроя России №1039/пр от 30.12.2016г. | BM27: 10001 | BN27: 0 | BP27: 0 | BQ27: 2 | BR27: 0 | BS27: 6.57 | BT27: 1 | BU27: 1 | BV27: 1 | BW27: 1 | BX27: 1 | BZ27: 118 | CA27: 63 | CF27: 0 | CG27: 0 | CM27: 0 | CO27: 0 | CP27: =(P27+Q27+S27) -> 47691.04 | CQ27: =AC27*BC27 -> 41239.233 | CR27: =AD27*BB27 -> 143.883 | CS27: =AE27*BS27 -> 29.1051 | CT27: =AF27*BA27 -> 1198.1709 | CU27: =AG27 -> 0 | CV27: =AH27 -> 21.38 | CW27: =AI27 -> 0.37 | CX27: =AJ27 -> 0 | CY27: =(((S27+R27)*AT27)/100) -> 1457.023 | CZ27: =(((S27+R27)*AU27)/100) -> 742.257 | DN27: 0 | DO27: 0 | DP27: 1 | DQ27: 1 | DU27: 1003 | DV27: 100 м | DW27: 100 м | DX27: 100 | EE27: 15139100 | EF27: 2 | EG27: Общестроительные работы | EH27: 0 | EJ27: 1 | EK27: 10001 | EL27: Деревянные конструкции | EM27: ФЕР-10 | EQ27: 0 | ER27: 6481.17 | ES27: 6276.9 | ET27: 21.9 | EU27: 4.43 | EV27: 182.37 | EW27: 21.38 | EX27: 0.37 | EY27: 0 | FQ27: 0 | FR27: =ROUND(IF(AND(BH27=3,BI27=3),P27,0),2) -> 0 | FS27: 0 | FT27: *0,9 | FU27: *0,85 | FX27: 106.2 | FY27: 53.55 | GD27: 0 | GF27: -1968498593 | GG27: 1 | GH27: 1 | GI27: 4 | GJ27: 0 | GK27: =ROUND(R27*(R12)/100,2) -> 0 | GL27: =ROUND(IF(AND(BH27=3,BI27=3,FS27<>0),P27,0),2) -> 0 | GM27: =ROUND(O27+X27+Y27+GK27,2)+GX27 -> 49890.32 | GN27: =IF(OR(BI27=0,BI27=1),ROUND(O27+X27+Y27+GK27,2),0) -> 49890.32 | GO27: =IF(BI27=2,ROUND(O27+X27+Y27+GK27,2),0) -> 0 | GP27: =IF(BI27=4,ROUND(O27+X27+Y27+GK27,2)+GX27,0) -> 0 | GR27: 0 | GS27: 3 | GT27: 0 | GV27: =ROUND(GT27,6) -> 0 | GW27: 1 | GX27: =ROUND(GV27*GW27*I27,2) -> 0 | HA27: 0 | HB27: 0 | IK27: 0
A28: 18 | B28: 1 | C28: 21 | E28: 3,1 | F28: Цена поставщика | G28: Доска подоконная | H28: м | I28: =I27*J28 -> 112 | J28: 100 | O28: =ROUND(CP28,2) -> 170722.24 | P28: =ROUND(CQ28*I28,2) -> 170722.24 | Q28: =ROUND(CR28*I28,2) -> 0 | R28: =ROUND(CS28*I28,2) -> 0 | S28: =ROUND(CT28*I28,2) -> 0 | T28: =ROUND(CU28*I28,2) -> 0 | U28: =CV28*I28 -> 0 | V28: =CW28*I28 -> 0 | W28: =ROUND(CX28*I28,2) -> 0 | X28: =ROUND(CY28,2) -> 0 | Y28: =ROUND(CZ28,2) -> 0 | AA28: 16496534 | AB28: =ROUND((AC28+AD28+AF28),6) -> 232.01 | AC28: =ROUND((ES28),6) -> 232.01 | AD28: =ROUND((((ET28)-(EU28))+AE28),6) -> 0 | AE28: =ROUND((EU28),6) -> 0 | AF28: =ROUND((EV28),6) -> 0 | AG28: =ROUND((AP28),6) -> 0 | AH28: =(EW28) -> 0 | AI28: =(EX28) -> 0 | AJ28: =ROUND((AS28),6) -> 0 | AK28: 232.01 | AL28: 232.01 | AM28: 0 | AN28: 0 | AO28: 0 | AP28: 0 | AQ28: 0 | AR28: 0 | AS28: 0 | AT28: 106 | AU28: 54 | AV28: 1 | AW28: 1 | AZ28: 6.57 | BA28: 1 | BB28: 1 | BC28: 6.57 | BH28: 3 | BI28: 1 | BM28: 10001 | BN28: 0 | BP28: 0 | BQ28: 2 | BR28: 0 | BS28: 1 | BT28: 1 | BU28: 1 | BV28: 1 | BW28: 1 | BX28: 1 | BZ28: 118 | CA28: 63 | CF28: 0 | CG28: 0 | CM28: 0 | CO28: 0 | CP28: =(P28+Q28+S28) -> 170722.24 | CQ28: =AC28*BC28 -> 1524.3057 | CR28: =AD28*BB28 -> 0 | CS28: =AE28*BS28 -> 0 | CT28: =AF28*BA28 -> 0 | CU28: =AG28 -> 0 | CV28: =AH28 -> 0 | CW28: =AI28 -> 0 | CX28: =AJ28 -> 0 | CY28: =(((S28+R28)*AT28)/100) -> 0 | CZ28: =(((S28+R28)*AU28)/100) -> 0 | DN28: 0 | DO28: 0 | DP28: 1 | DQ28: 1 | DU28: 1003 | DV28: м | DW28: м | DX28: 1 | EE28: 15139100 | EF28: 2 | EG28: Общестроительные работы | EH28: 0 | EJ28: 1 | EK28: 10001 | EL28: Деревянные конструкции | EM28: ФЕР-10 | EQ28: 0 | ER28: 1524.3 | ES28: 232.01 | ET28: 0 | EU28: 0 | EV28: 0 | EW28: 0 | EX28: 0 | EZ28: 5 | FC28: 1 | FD28: 18 | FF28: 1798.67 | FQ28: 0 | FR28: =ROUND(IF(AND(BH28=3,BI28=3),P28,0),2) -> 0 | FS28: 0 | FT28: *0,9 | FU28: *0,85 | FX28: 106.2 | FY28: 53.55 | GA28: [1 798,67 / 1,18 / 6,57] | GD28: 0 | GF28: 1331515220 | GG28: 1 | GH28: 3 | GI28: 4 | GJ28: 0 | GK28: =ROUND(R28*(R12)/100,2) -> 0 | GL28: =ROUND(IF(AND(BH28=3,BI28=3,FS28<>0),P28,0),2) -> 0 | GM28: =ROUND(O28+X28+Y28+GK28,2)+GX28 -> 170722.24 | GN28: =IF(OR(BI28=0,BI28=1),ROUND(O28+X28+Y28+GK28,2),0) -> 170722.24 | GO28: =IF(BI28=2,ROUND(O28+X28+Y28+GK28,2),0) -> 0 | GP28: =IF(BI28=4,ROUND(O28+X28+Y28+GK28,2)+GX28,0) -> 0 | GR28: 1 | GS28: 1 | GT28: 0 | GV28: =ROUND(GT28,6) -> 0 | GW28: 1 | GX28: =ROUND(GV28*GW28*I28,2) -> 0 | HA28: 0 | HB28: 0 | IK28: 0
A29: 17 | B29: 1 | C29: =ROW(SmtRes!A28) -> 28 | D29: =ROW(EtalonRes!A29) -> 29 | E29: 4 | F29: 58-20-1 | G29: Смена обделок из листовой стали (поясков, сандриков, отливов, карнизов) шириной до 0,4 м | H29: 100 м | I29: =ROUND(112/100,9) -> 1.12 | J29: 0 | O29: =ROUND(CP29,2) -> 3343.73 | P29: =ROUND(CQ29*I29,2) -> 706.77 | Q29: =ROUND(CR29*I29,2) -> 37.75 | R29: =ROUND(CS29*I29,2) -> 11.33 | S29: =ROUND(CT29*I29,2) -> 2599.21 | T29: =ROUND(CU29*I29,2) -> 0 | U29: =CV29*I29 -> 46.3792 | V29: =CW29*I29 -> 0.1344 | W29: =ROUND(CX29*I29,2) -> 0 | X29: =ROUND(CY29,2) -> 2166.75 | Y29: =ROUND(CZ29,2) -> 1696.85 | AA29: 16496534 | AB29: =ROUND((AC29+AD29+AF29),6) -> 454.41 | AC29: =ROUND((ES29),6) -> 96.05 | AD29: =ROUND((((ET29)-(EU29))+AE29),6) -> 5.13 | AE29: =ROUND((EU29),6) -> 1.54 | AF29: =ROUND((EV29),6) -> 353.23 | AG29: =ROUND((AP29),6) -> 0 | AH29: =(EW29) -> 41.41 | AI29: =(EX29) -> 0.12 | AJ29: =ROUND((AS29),6) -> 0 | AK29: 454.41 | AL29: 96.05 | AM29: 5.13 | AN29: 1.54 | AO29: 353.23 | AP29: 0 | AQ29: 41.41 | AR29: 0.12 | AS29: 0 | AT29: 83 | AU29: 65 | AV29: 1 | AW29: 1 | AZ29: 6.57 | BA29: 6.57 | BB29: 6.57 | BC29: 6.57 | BH29: 0 | BI29: 1 | BJ29: ФЕР-2001, 58-20-1, приказ Минстроя России №1039/пр от 30.12.2016г. | BM29: 58001 | BN29: 0 | BP29: 0 | BQ29: 6 | BR29: 0 | BS29: 6.57 | BT29: 1 | BU29: 1 | BV29: 1 | BW29: 1 | BX29: 1 | BZ29: 83 | CA29: 65 | CF29: 0 | CG29: 0 | CM29: 0 | CO29: 0 | CP29: =(P29+Q29+S29) -> 3343.73 | CQ29: =AC29*BC29 -> 631.0485 | CR29: =AD29*BB29 -> 33.7041 | CS29: =AE29*BS29 -> 10.1178 | CT29: =AF29*BA29 -> 2320.7211 | CU29: =AG29 -> 0 | CV29: =AH29 -> 41.41 | CW29: =AI29 -> 0.12 | CX29: =AJ29 -> 0 | CY29: =(((S29+R29)*AT29)/100) -> 2166.7482 | CZ29: =(((S29+R29)*AU29)/100) -> 1696.851 | DN29: 0 | DO29: 0 | DP29: 1 | DQ29: 1 | DU29: 1003 | DV29: 100 м | DW29: 100 м | DX29: 100 | EE29: 15139180 | EF29: 6 | EG29: Ремонтно-строительные работы | EH29: 0 | EJ29: 1 | EK29: 58001 | EL29: Крыши, кровля | EM29: рФЕР-58 | EQ29: 0 | ER29: 454.41 | ES29: 96.05 | ET29: 5.13 | EU29: 1.54 | EV29: 353.23 | EW29: 41.41 | EX29: 0.12 | EY29: 0 | FQ29: 0 | FR29: =ROUND(IF(AND(BH29=3,BI29=3),P29,0),2) -> 0 | FS29: 0 | FX29: 83 | FY29: 65 | GD29: 0 | GF29: -58071427 | GG29: 1 | GH29: 1 | GI29: 4 | GJ29: 0 | GK29: =ROUND(R29*(R12)/100,2) -> 0 | GL29: =ROUND(IF(AND(BH29=3,BI29=3,FS29<>0),P29,0),2) -> 0 | GM29: =ROUND(O29+X29+Y29+GK29,2)+GX29 -> 7207.33 | GN29: =IF(OR(BI29=0,BI29=1),ROUND(O29+X29+Y29+GK29,2),0) -> 7207.33 | GO29: =IF(BI29=2,ROUND(O29+X29+Y29+GK29,2),0) -> 0 | GP29: =IF(BI29=4,ROUND(O29+X29+Y29+GK29,2)+GX29,0) -> 0 | GR29: 0 | GS29: 3 | GT29: 0 | GV29: =ROUND(GT29,6) -> 0 | GW29: 1 | GX29: =ROUND(GV29*GW29*I29,2) -> 0 | HA29: 0 | HB29: 0 | IK29: 0
A30: 18 | B30: 1 | C30: 28 | E30: 4,1 | F30: Цена поставщика | G30: Водоотлив оконный шириной планки 250 мм из оцинкованной стали с полимерным покрытием | H30: м | I30: =I29*J30 -> 112 | J30: 100 | O30: =ROUND(CP30,2) -> 21074.46 | P30: =ROUND(CQ30*I30,2) -> 21074.46 | Q30: =ROUND(CR30*I30,2) -> 0 | R30: =ROUND(CS30*I30,2) -> 0 | S30: =ROUND(CT30*I30,2) -> 0 | T30: =ROUND(CU30*I30,2) -> 0 | U30: =CV30*I30 -> 0 | V30: =CW30*I30 -> 0 | W30: =ROUND(CX30*I30,2) -> 0 | X30: =ROUND(CY30,2) -> 0 | Y30: =ROUND(CZ30,2) -> 0 | AA30: 16496534 | AB30: =ROUND((AC30+AD30+AF30),6) -> 28.64 | AC30: =ROUND((ES30),6) -> 28.64 | AD30: =ROUND((((ET30)-(EU30))+AE30),6) -> 0 | AE30: =ROUND((EU30),6) -> 0 | AF30: =ROUND((EV30),6) -> 0 | AG30: =ROUND((AP30),6) -> 0 | AH30: =(EW30) -> 0 | AI30: =(EX30) -> 0 | AJ30: =ROUND((AS30),6) -> 0 | AK30: 28.64 | AL30: 28.64 | AM30: 0 | AN30: 0 | AO30: 0 | AP30: 0 | AQ30: 0 | AR30: 0 | AS30: 0 | AT30: 83 | AU30: 65 | AV30: 1 | AW30: 1 | AZ30: 6.57 | BA30: 1 | BB30: 1 | BC30: 6.57 | BH30: 3 | BI30: 1 | BM30: 58001 | BN30: 0 | BP30: 0 | BQ30: 6 | BR30: 0 | BS30: 1 | BT30: 1 | BU30: 1 | BV30: 1 | BW30: 1 | BX30: 1 | BZ30: 83 | CA30: 65 | CF30: 0 | CG30: 0 | CM30: 0 | CO30: 0 | CP30: =(P30+Q30+S30) -> 21074.46 | CQ30: =AC30*BC30 -> 188.1648 | CR30: =AD30*BB30 -> 0 | CS30: =AE30*BS30 -> 0 | CT30: =AF30*BA30 -> 0 | CU30: =AG30 -> 0 | CV30: =AH30 -> 0 | CW30: =AI30 -> 0 | CX30: =AJ30 -> 0 | CY30: =(((S30+R30)*AT30)/100) -> 0 | CZ30: =(((S30+R30)*AU30)/100) -> 0 | DN30: 0 | DO30: 0 | DP30: 1 | DQ30: 1 | DU30: 1003 | DV30: м | DW30: м | DX30: 1 | EE30: 15139180 | EF30: 6 | EG30: Ремонтно-строительные работы | EH30: 0 | EJ30: 1 | EK30: 58001 | EL30: Крыши, кровля | EM30: рФЕР-58 | EQ30: 0 | ER30: 188.14 | ES30: 28.64 | ET30: 0 | EU30: 0 | EV30: 0 | EW30: 0 | EX30: 0 | EZ30: 5 | FC30: 1 | FD30: 18 | FF30: 222 | FQ30: 0 | FR30: =ROUND(IF(AND(BH30=3,BI30=3),P30,0),2) -> 0 | FS30: 0 | FX30: 83 | FY30: 65 | GA30: [222 / 1,18 / 6,57] | GD30: 0 | GF30: -1929252935 | GG30: 1 | GH30: 3 | GI30: 4 | GJ30: 0 | GK30: =ROUND(R30*(R12)/100,2) -> 0 | GL30: =ROUND(IF(AND(BH30=3,BI30=3,FS30<>0),P30,0),2) -> 0 | GM30: =ROUND(O30+X30+Y30+GK30,2)+GX30 -> 21074.46 | GN30: =IF(OR(BI30=0,BI30=1),ROUND(O30+X30+Y30+GK30,2),0) -> 21074.46 | GO30: =IF(BI30=2,ROUND(O30+X30+Y30+GK30,2),0) -> 0 | GP30: =IF(BI30=4,ROUND(O30+X30+Y30+GK30,2)+GX30,0) -> 0 | GR30: 1 | GS30: 1 | GT30: 0 | GV30: =ROUND(GT30,6) -> 0 | GW30: 1 | GX30: =ROUND(GV30*GW30*I30,2) -> 0 | HA30: 0 | HB30: 0 | IK30: 0
A31: 17 | B31: 1 | C31: =ROW(SmtRes!A39) -> 39 | D31: =ROW(EtalonRes!A37) -> 37 | E31: 5 | F31: 15-01-050-04 | G31: Облицовка оконных и дверных откосов декоративным бумажно-слоистым пластиком или листами из синтетических материалов на клее | H31: 100 м2 | I31: =ROUND(148.16/100,9) -> 1.4816 | J31: 0 | O31: =ROUND(CP31,2) -> 15223.27 | P31: =ROUND(CQ31*I31,2) -> 3.5 | Q31: =ROUND(CR31*I31,2) -> 344.2 | R31: =ROUND(CS31*I31,2) -> 66.97 | S31: =ROUND(CT31*I31,2) -> 14875.57 | T31: =ROUND(CU31*I31,2) -> 0 | U31: =CV31*I31 -> 246.64195 | V31: =CW31*I31 -> 0.859328 | W31: =ROUND(CX31*I31,2) -> 0 | X31: =ROUND(CY31,2) -> 14195.41 | Y31: =ROUND(CZ31,2) -> 7022.99 | AA31: 16496534 | AB31: =ROUND((AC31+AD31+AF31),6) -> 1563.91 | AC31: =ROUND((ES31),6) -> 0.36 | AD31: =ROUND((((ET31)-(EU31))+AE31),6) -> 35.36 | AE31: =ROUND((EU31),6) -> 6.88 | AF31: =ROUND((EV31),6) -> 1528.19 | AG31: =ROUND((AP31),6) -> 0 | AH31: =(EW31) -> 166.47 | AI31: =(EX31) -> 0.58 | AJ31: =ROUND((AS31),6) -> 0 | AK31: 1563.91 | AL31: 0.36 | AM31: 35.36 | AN31: 6.88 | AO31: 1528.19 | AP31: 0 | AQ31: 166.47 | AR31: 0.58 | AS31: 0 | AT31: 95 | AU31: 47 | AV31: 1 | AW31: 1 | AZ31: 6.57 | BA31: 6.57 | BB31: 6.57 | BC31: 6.57 | BH31: 0 | BI31: 1 | BJ31: ФЕР-2001, 15-01-050-04, приказ Минстроя России №1039/пр от 30.12.2016г. | BM31: 15001 | BN31: 0 | BP31: 0 | BQ31: 2 | BR31: 0 | BS31: 6.57 | BT31: 1 | BU31: 1 | BV31: 1 | BW31: 1 | BX31: 1 | BZ31: 105 | CA31: 55 | CF31: 0 | CG31: 0 | CM31: 0 | CO31: 0 | CP31: =(P31+Q31+S31) -> 15223.27 | CQ31: =AC31*BC31 -> 2.3652 | CR31: =AD31*BB31 -> 232.3152 | CS31: =AE31*BS31 -> 45.2016 | CT31: =AF31*BA31 -> 10040.208 | CU31: =AG31 -> 0 | CV31: =AH31 -> 166.47 | CW31: =AI31 -> 0.58 | CX31: =AJ31 -> 0 | CY31: =(((S31+R31)*AT31)/100) -> 14195.413 | CZ31: =(((S31+R31)*AU31)/100) -> 7022.9938 | DN31: 0 | DO31: 0 | DP31: 1 | DQ31: 1 | DU31: 1005 | DV31: 100 м2 | DW31: 100 м2 | DX31: 100 | EE31: 15139126 | EF31: 2 | EG31: Общестроительные работы | EH31: 0 | EJ31: 1 | EK31: 15001 | EL31: Отделочные работы | EM31: ФЕР-15 | EQ31: 0 | ER31: 1563.91 | ES31: 0.36 | ET31: 35.36 | EU31: 6.88 | EV31: 1528.19 | EW31: 166.47 | EX31: 0.58 | EY31: 0 | FQ31: 0 | FR31: =ROUND(IF(AND(BH31=3,BI31=3),P31,0),2) -> 0 | FS31: 0 | FT31: *0,9 | FU31: *0,85 | FX31: 94.5 | FY31: 46.75 | GD31: 0 | GF31: 251333065 | GG31: 1 | GH31: 1 | GI31: 4 | GJ31: 0 | GK31: =ROUND(R31*(R12)/100,2) -> 0 | GL31: =ROUND(IF(AND(BH31=3,BI31=3,FS31<>0),P31,0),2) -> 0 | GM31: =ROUND(O31+X31+Y31+GK31,2)+GX31 -> 36441.67 | GN31: =IF(OR(BI31=0,BI31=1),ROUND(O31+X31+Y31+GK31,2),0) -> 36441.67 | GO31: =IF(BI31=2,ROUND(O31+X31+Y31+GK31,2),0) -> 0 | GP31: =IF(BI31=4,ROUND(O31+X31+Y31+GK31,2)+GX31,0) -> 0 | GR31: 0 | GS31: 3 | GT31: 0 | GV31: =ROUND(GT31,6) -> 0 | GW31: 1 | GX31: =ROUND(GV31*GW31*I31,2) -> 0 | HA31: 0 | HB31: 0 | IK31: 0
A32: 18 | B32: 1 | C32: 33 | E32: 5,1 | F32: 01.6.01.11 | G32: Листы облицовочные декоративные | H32: м2 | I32: =I31*J32 -> 155.568 | J32: 105 | O32: =ROUND(CP32,2) -> 0 | P32: =ROUND(CQ32*I32,2) -> 0 | Q32: =ROUND(CR32*I32,2) -> 0 | R32: =ROUND(CS32*I32,2) -> 0 | S32: =ROUND(CT32*I32,2) -> 0 | T32: =ROUND(CU32*I32,2) -> 0 | U32: =CV32*I32 -> 0 | V32: =CW32*I32 -> 0 | W32: =ROUND(CX32*I32,2) -> 0 | X32: =ROUND(CY32,2) -> 0 | Y32: =ROUND(CZ32,2) -> 0 | AA32: 16496534 | AB32: =ROUND((AC32+AD32+AF32),6) -> 0 | AC32: =ROUND((ES32),6) -> 0 | AD32: =ROUND((((ET32)-(EU32))+AE32),6) -> 0 | AE32: =ROUND((EU32),6) -> 0 | AF32: =ROUND((EV32),6) -> 0 | AG32: =ROUND((AP32),6) -> 0 | AH32: =(EW32) -> 0 | AI32: =(EX32) -> 0 | AJ32: =ROUND((AS32),6) -> 0 | AK32: 0 | AL32: 0 | AM32: 0 | AN32: 0 | AO32: 0 | AP32: 0 | AQ32: 0 | AR32: 0 | AS32: 0 | AT32: 95 | AU32: 47 | AV32: 1 | AW32: 1 | AZ32: 6.57 | BA32: 1 | BB32: 1 | BC32: 6.57 | BH32: 3 | BI32: 1 | BM32: 15001 | BN32: 0 | BP32: 0 | BQ32: 2 | BR32: 0 | BS32: 1 | BT32: 1 | BU32: 1 | BV32: 1 | BW32: 1 | BX32: 1 | BZ32: 105 | CA32: 55 | CF32: 0 | CG32: 0 | CM32: 0 | CO32: 0 | CP32: =(P32+Q32+S32) -> 0 | CQ32: =AC32*BC32 -> 0 | CR32: =AD32*BB32 -> 0 | CS32: =AE32*BS32 -> 0 | CT32: =AF32*BA32 -> 0 | CU32: =AG32 -> 0 | CV32: =AH32 -> 0 | CW32: =AI32 -> 0 | CX32: =AJ32 -> 0 | CY32: =(((S32+R32)*AT32)/100) -> 0 | CZ32: =(((S32+R32)*AU32)/100) -> 0 | DN32: 0 | DO32: 0 | DP32: 1 | DQ32: 1 | DU32: 1005 | DV32: м2 | DW32: м2 | DX32: 1 | EE32: 15139126 | EF32: 2 | EG32: Общестроительные работы | EH32: 0 | EJ32: 1 | EK32: 15001 | EL32: Отделочные работы | EM32: ФЕР-15 | EQ32: 0 | ER32: 0 | ES32: 0 | ET32: 0 | EU32: 0 | EV32: 0 | EW32: 0 | EX32: 0 | FQ32: 0 | FR32: =ROUND(IF(AND(BH32=3,BI32=3),P32,0),2) -> 0 | FS32: 0 | FT32: *0,9 | FU32: *0,85 | FX32: 94.5 | FY32: 46.75 | GD32: 0 | GF32: -112006704 | GG32: 1 | GH32: 1 | GI32: 4 | GJ32: 0 | GK32: =ROUND(R32*(R12)/100,2) -> 0 | GL32: =ROUND(IF(AND(BH32=3,BI32=3,FS32<>0),P32,0),2) -> 0 | GM32: =ROUND(O32+X32+Y32+GK32,2)+GX32 -> 0 | GN32: =IF(OR(BI32=0,BI32=1),ROUND(O32+X32+Y32+GK32,2),0) -> 0 | GO32: =IF(BI32=2,ROUND(O32+X32+Y32+GK32,2),0) -> 0 | GP32: =IF(BI32=4,ROUND(O32+X32+Y32+GK32,2)+GX32,0) -> 0 | GR32: 0 | GS32: 3 | GT32: 0 | GV32: =ROUND(GT32,6) -> 0 | GW32: 1 | GX32: =ROUND(GV32*GW32*I32,2) -> 0 | HA32: 0 | HB32: 0 | IK32: 0
A33: 18 | B33: 1 | C33: 35 | E33: 5,2 | F33: 11.3.03.05-0001 | G33: Панели пластиковые для откосов "Реас Пласт" шириной 0,4 м, длиной 3,0 м, белые матовые, лакированные | H33: м2 | I33: =I31*J33 -> 155.568 | J33: 105 | O33: =ROUND(CP33,2) -> 35139.17 | P33: =ROUND(CQ33*I33,2) -> 35139.17 | Q33: =ROUND(CR33*I33,2) -> 0 | R33: =ROUND(CS33*I33,2) -> 0 | S33: =ROUND(CT33*I33,2) -> 0 | T33: =ROUND(CU33*I33,2) -> 0 | U33: =CV33*I33 -> 0 | V33: =CW33*I33 -> 0 | W33: =ROUND(CX33*I33,2) -> 0 | X33: =ROUND(CY33,2) -> 0 | Y33: =ROUND(CZ33,2) -> 0 | AA33: 16496534 | AB33: =ROUND((AC33+AD33+AF33),6) -> 34.38 | AC33: =ROUND((ES33),6) -> 34.38 | AD33: =ROUND((((ET33)-(EU33))+AE33),6) -> 0 | AE33: =ROUND((EU33),6) -> 0 | AF33: =ROUND((EV33),6) -> 0 | AG33: =ROUND((AP33),6) -> 0 | AH33: =(EW33) -> 0 | AI33: =(EX33) -> 0 | AJ33: =ROUND((AS33),6) -> 0 | AK33: 34.38 | AL33: 34.38 | AM33: 0 | AN33: 0 | AO33: 0 | AP33: 0 | AQ33: 0 | AR33: 0 | AS33: 0 | AT33: 95 | AU33: 47 | AV33: 1 | AW33: 1 | AZ33: 6.57 | BA33: 1 | BB33: 1 | BC33: 6.57 | BH33: 3 | BI33: 1 | BJ33: ФССЦ-2001, 11.3.03.05-0001, приказ Минстроя России №1039/пр от 30.12.2016г. | BM33: 15001 | BN33: 0 | BP33: 0 | BQ33: 2 | BR33: 0 | BS33: 1 | BT33: 1 | BU33: 1 | BV33: 1 | BW33: 1 | BX33: 1 | BZ33: 105 | CA33: 55 | CF33: 0 | CG33: 0 | CM33: 0 | CO33: 0 | CP33: =(P33+Q33+S33) -> 35139.17 | CQ33: =AC33*BC33 -> 225.8766 | CR33: =AD33*BB33 -> 0 | CS33: =AE33*BS33 -> 0 | CT33: =AF33*BA33 -> 0 | CU33: =AG33 -> 0 | CV33: =AH33 -> 0 | CW33: =AI33 -> 0 | CX33: =AJ33 -> 0 | CY33: =(((S33+R33)*AT33)/100) -> 0 | CZ33: =(((S33+R33)*AU33)/100) -> 0 | DN33: 0 | DO33: 0 | DP33: 1 | DQ33: 1 | DU33: 1005 | DV33: м2 | DW33: м2 | DX33: 1 | EE33: 15139126 | EF33: 2 | EG33: Общестроительные работы | EH33: 0 | EJ33: 1 | EK33: 15001 | EL33: Отделочные работы | EM33: ФЕР-15 | EQ33: 0 | ER33: 34.38 | ES33: 34.38 | ET33: 0 | EU33: 0 | EV33: 0 | EW33: 0 | EX33: 0 | FQ33: 0 | FR33: =ROUND(IF(AND(BH33=3,BI33=3),P33,0),2) -> 0 | FS33: 0 | FT33: *0,9 | FU33: *0,85 | FX33: 94.5 | FY33: 46.75 | GD33: 0 | GF33: -956992290 | GG33: 1 | GH33: 1 | GI33: 4 | GJ33: 0 | GK33: =ROUND(R33*(R12)/100,2) -> 0 | GL33: =ROUND(IF(AND(BH33=3,BI33=3,FS33<>0),P33,0),2) -> 0 | GM33: =ROUND(O33+X33+Y33+GK33,2)+GX33 -> 35139.17 | GN33: =IF(OR(BI33=0,BI33=1),ROUND(O33+X33+Y33+GK33,2),0) -> 35139.17 | GO33: =IF(BI33=2,ROUND(O33+X33+Y33+GK33,2),0) -> 0 | GP33: =IF(BI33=4,ROUND(O33+X33+Y33+GK33,2)+GX33,0) -> 0 | GR33: 0 | GS33: 3 | GT33: 0 | GV33: =ROUND(GT33,6) -> 0 | GW33: 1 | GX33: =ROUND(GV33*GW33*I33,2) -> 0 | HA33: 0 | HB33: 0 | IK33: 0
A34: 18 | B34: 1 | C34: 37 | E34: 5,3 | F34: 14.1.06.05 | G34: Клей | H34: кг | I34: =I31*J34 -> 44.448 | J34: 30 | O34: =ROUND(CP34,2) -> 0 | P34: =ROUND(CQ34*I34,2) -> 0 | Q34: =ROUND(CR34*I34,2) -> 0 | R34: =ROUND(CS34*I34,2) -> 0 | S34: =ROUND(CT34*I34,2) -> 0 | T34: =ROUND(CU34*I34,2) -> 0 | U34: =CV34*I34 -> 0 | V34: =CW34*I34 -> 0 | W34: =ROUND(CX34*I34,2) -> 0 | X34: =ROUND(CY34,2) -> 0 | Y34: =ROUND(CZ34,2) -> 0 | AA34: 16496534 | AB34: =ROUND((AC34+AD34+AF34),6) -> 0 | AC34: =ROUND((ES34),6) -> 0 | AD34: =ROUND((((ET34)-(EU34))+AE34),6) -> 0 | AE34: =ROUND((EU34),6) -> 0 | AF34: =ROUND((EV34),6) -> 0 | AG34: =ROUND((AP34),6) -> 0 | AH34: =(EW34) -> 0 | AI34: =(EX34) -> 0 | AJ34: =ROUND((AS34),6) -> 0 | AK34: 0 | AL34: 0 | AM34: 0 | AN34: 0 | AO34: 0 | AP34: 0 | AQ34: 0 | AR34: 0 | AS34: 0 | AT34: 95 | AU34: 47 | AV34: 1 | AW34: 1 | AZ34: 6.57 | BA34: 1 | BB34: 1 | BC34: 6.57 | BH34: 3 | BI34: 1 | BM34: 15001 | BN34: 0 | BP34: 0 | BQ34: 2 | BR34: 0 | BS34: 1 | BT34: 1 | BU34: 1 | BV34: 1 | BW34: 1 | BX34: 1 | BZ34: 105 | CA34: 55 | CF34: 0 | CG34: 0 | CM34: 0 | CO34: 0 | CP34: =(P34+Q34+S34) -> 0 | CQ34: =AC34*BC34 -> 0 | CR34: =AD34*BB34 -> 0 | CS34: =AE34*BS34 -> 0 | CT34: =AF34*BA34 -> 0 | CU34: =AG34 -> 0 | CV34: =AH34 -> 0 | CW34: =AI34 -> 0 | CX34: =AJ34 -> 0 | CY34: =(((S34+R34)*AT34)/100) -> 0 | CZ34: =(((S34+R34)*AU34)/100) -> 0 | DN34: 0 | DO34: 0 | DP34: 1 | DQ34: 1 | DU34: 1009 | DV34: кг | DW34: кг | DX34: 1 | EE34: 15139126 | EF34: 2 | EG34: Общестроительные работы | EH34: 0 | EJ34: 1 | EK34: 15001 | EL34: Отделочные работы | EM34: ФЕР-15 | EQ34: 0 | ER34: 0 | ES34: 0 | ET34: 0 | EU34: 0 | EV34: 0 | EW34: 0 | EX34: 0 | FQ34: 0 | FR34: =ROUND(IF(AND(BH34=3,BI34=3),P34,0),2) -> 0 | FS34: 0 | FT34: *0,9 | FU34: *0,85 | FX34: 94.5 | FY34: 46.75 | GD34: 0 | GF34: -1516100259 | GG34: 1 | GH34: 1 | GI34: 4 | GJ34: 0 | GK34: =ROUND(R34*(R12)/100,2) -> 0 | GL34: =ROUND(IF(AND(BH34=3,BI34=3,FS34<>0),P34,0),2) -> 0 | GM34: =ROUND(O34+X34+Y34+GK34,2)+GX34 -> 0 | GN34: =IF(OR(BI34=0,BI34=1),ROUND(O34+X34+Y34+GK34,2),0) -> 0 | GO34: =IF(BI34=2,ROUND(O34+X34+Y34+GK34,2),0) -> 0 | GP34: =IF(BI34=4,ROUND(O34+X34+Y34+GK34,2)+GX34,0) -> 0 | GR34: 0 | GS34: 3 | GT34: 0 | GV34: =ROUND(GT34,6) -> 0 | GW34: 1 | GX34: =ROUND(GV34*GW34*I34,2) -> 0 | HA34: 0 | HB34: 0 | IK34: 0
A35: 18 | B35: 1 | C35: 36 | E35: 5,4 | F35: 14.1.02.03-0002 | G35: Клей ПВА | H35: кг | I35: =I31*J35 -> 44.448 | J35: 30 | O35: =ROUND(CP35,2) -> 4643.17 | P35: =ROUND(CQ35*I35,2) -> 4643.17 | Q35: =ROUND(CR35*I35,2) -> 0 | R35: =ROUND(CS35*I35,2) -> 0 | S35: =ROUND(CT35*I35,2) -> 0 | T35: =ROUND(CU35*I35,2) -> 0 | U35: =CV35*I35 -> 0 | V35: =CW35*I35 -> 0 | W35: =ROUND(CX35*I35,2) -> 0 | X35: =ROUND(CY35,2) -> 0 | Y35: =ROUND(CZ35,2) -> 0 | AA35: 16496534 | AB35: =ROUND((AC35+AD35+AF35),6) -> 15.9 | AC35: =ROUND((ES35),6) -> 15.9 | AD35: =ROUND((((ET35)-(EU35))+AE35),6) -> 0 | AE35: =ROUND((EU35),6) -> 0 | AF35: =ROUND((EV35),6) -> 0 | AG35: =ROUND((AP35),6) -> 0 | AH35: =(EW35) -> 0 | AI35: =(EX35) -> 0 | AJ35: =ROUND((AS35),6) -> 0 | AK35: 15.9 | AL35: 15.9 | AM35: 0 | AN35: 0 | AO35: 0 | AP35: 0 | AQ35: 0 | AR35: 0 | AS35: 0 | AT35: 95 | AU35: 47 | AV35: 1 | AW35: 1 | AZ35: 6.57 | BA35: 1 | BB35: 1 | BC35: 6.57 | BH35: 3 | BI35: 1 | BJ35: ФССЦ-2001, 14.1.02.03-0002, приказ Минстроя России №1039/пр от 30.12.2016г. | BM35: 15001 | BN35: 0 | BP35: 0 | BQ35: 2 | BR35: 0 | BS35: 1 | BT35: 1 | BU35: 1 | BV35: 1 | BW35: 1 | BX35: 1 | BZ35: 105 | CA35: 55 | CF35: 0 | CG35: 0 | CM35: 0 | CO35: 0 | CP35: =(P35+Q35+S35) -> 4643.17 | CQ35: =AC35*BC35 -> 104.463 | CR35: =AD35*BB35 -> 0 | CS35: =AE35*BS35 -> 0 | CT35: =AF35*BA35 -> 0 | CU35: =AG35 -> 0 | CV35: =AH35 -> 0 | CW35: =AI35 -> 0 | CX35: =AJ35 -> 0 | CY35: =(((S35+R35)*AT35)/100) -> 0 | CZ35: =(((S35+R35)*AU35)/100) -> 0 | DN35: 0 | DO35: 0 | DP35: 1 | DQ35: 1 | DU35: 1009 | DV35: кг | DW35: кг | DX35: 1 | EE35: 15139126 | EF35: 2 | EG35: Общестроительные работы | EH35: 0 | EJ35: 1 | EK35: 15001 | EL35: Отделочные работы | EM35: ФЕР-15 | EQ35: 0 | ER35: 15.9 | ES35: 15.9 | ET35: 0 | EU35: 0 | EV35: 0 | EW35: 0 | EX35: 0 | FQ35: 0 | FR35: =ROUND(IF(AND(BH35=3,BI35=3),P35,0),2) -> 0 | FS35: 0 | FT35: *0,9 | FU35: *0,85 | FX35: 94.5 | FY35: 46.75 | GD35: 0 | GF35: 1104462431 | GG35: 1 | GH35: 1 | GI35: 4 | GJ35: 0 | GK35: =ROUND(R35*(R12)/100,2) -> 0 | GL35: =ROUND(IF(AND(BH35=3,BI35=3,FS35<>0),P35,0),2) -> 0 | GM35: =ROUND(O35+X35+Y35+GK35,2)+GX35 -> 4643.17 | GN35: =IF(OR(BI35=0,BI35=1),ROUND(O35+X35+Y35+GK35,2),0) -> 4643.17 | GO35: =IF(BI35=2,ROUND(O35+X35+Y35+GK35,2),0) -> 0 | GP35: =IF(BI35=4,ROUND(O35+X35+Y35+GK35,2)+GX35,0) -> 0 | GR35: 0 | GS35: 3 | GT35: 0 | GV35: =ROUND(GT35,6) -> 0 | GW35: 1 | GX35: =ROUND(GV35*GW35*I35,2) -> 0 | HA35: 0 | HB35: 0 | IK35: 0
A36: 18 | B36: 1 | C36: 38 | E36: 5,5 | F36: 14.3.01.01-0001 | G36: Грунтовка: «Бетоконтакт», КНАУФ | H36: кг | I36: =I31*J36 -> 13.18652 | J36: 8.900189 | O36: =ROUND(CP36,2) -> 1307.33 | P36: =ROUND(CQ36*I36,2) -> 1307.33 | Q36: =ROUND(CR36*I36,2) -> 0 | R36: =ROUND(CS36*I36,2) -> 0 | S36: =ROUND(CT36*I36,2) -> 0 | T36: =ROUND(CU36*I36,2) -> 0 | U36: =CV36*I36 -> 0 | V36: =CW36*I36 -> 0 | W36: =ROUND(CX36*I36,2) -> 0 | X36: =ROUND(CY36,2) -> 0 | Y36: =ROUND(CZ36,2) -> 0 | AA36: 16496534 | AB36: =ROUND((AC36+AD36+AF36),6) -> 15.09 | AC36: =ROUND((ES36),6) -> 15.09 | AD36: =ROUND((((ET36)-(EU36))+AE36),6) -> 0 | AE36: =ROUND((EU36),6) -> 0 | AF36: =ROUND((EV36),6) -> 0 | AG36: =ROUND((AP36),6) -> 0 | AH36: =(EW36) -> 0 | AI36: =(EX36) -> 0 | AJ36: =ROUND((AS36),6) -> 0 | AK36: 15.09 | AL36: 15.09 | AM36: 0 | AN36: 0 | AO36: 0 | AP36: 0 | AQ36: 0 | AR36: 0 | AS36: 0 | AT36: 95 | AU36: 47 | AV36: 1 | AW36: 1 | AZ36: 6.57 | BA36: 1 | BB36: 1 | BC36: 6.57 | BH36: 3 | BI36: 1 | BJ36: ФССЦ-2001, 14.3.01.01-0001, приказ Минстроя России №1039/пр от 30.12.2016г. | BM36: 15001 | BN36: 0 | BP36: 0 | BQ36: 2 | BR36: 0 | BS36: 1 | BT36: 1 | BU36: 1 | BV36: 1 | BW36: 1 | BX36: 1 | BZ36: 105 | CA36: 55 | CF36: 0 | CG36: 0 | CM36: 0 | CO36: 0 | CP36: =(P36+Q36+S36) -> 1307.33 | CQ36: =AC36*BC36 -> 99.1413 | CR36: =AD36*BB36 -> 0 | CS36: =AE36*BS36 -> 0 | CT36: =AF36*BA36 -> 0 | CU36: =AG36 -> 0 | CV36: =AH36 -> 0 | CW36: =AI36 -> 0 | CX36: =AJ36 -> 0 | CY36: =(((S36+R36)*AT36)/100) -> 0 | CZ36: =(((S36+R36)*AU36)/100) -> 0 | DN36: 0 | DO36: 0 | DP36: 1 | DQ36: 1 | DU36: 1009 | DV36: кг | DW36: кг | DX36: 1 | EE36: 15139126 | EF36: 2 | EG36: Общестроительные работы | EH36: 0 | EJ36: 1 | EK36: 15001 | EL36: Отделочные работы | EM36: ФЕР-15 | EQ36: 0 | ER36: 15.09 | ES36: 15.09 | ET36: 0 | EU36: 0 | EV36: 0 | EW36: 0 | EX36: 0 | FQ36: 0 | FR36: =ROUND(IF(AND(BH36=3,BI36=3),P36,0),2) -> 0 | FS36: 0 | FT36: *0,9 | FU36: *0,85 | FX36: 94.5 | FY36: 46.75 | GD36: 0 | GF36: 1453462043 | GG36: 1 | GH36: 1 | GI36: 4 | GJ36: 0 | GK36: =ROUND(R36*(R12)/100,2) -> 0 | GL36: =ROUND(IF(AND(BH36=3,BI36=3,FS36<>0),P36,0),2) -> 0 | GM36: =ROUND(O36+X36+Y36+GK36,2)+GX36 -> 1307.33 | GN36: =IF(OR(BI36=0,BI36=1),ROUND(O36+X36+Y36+GK36,2),0) -> 1307.33 | GO36: =IF(BI36=2,ROUND(O36+X36+Y36+GK36,2),0) -> 0 | GP36: =IF(BI36=4,ROUND(O36+X36+Y36+GK36,2)+GX36,0) -> 0 | GR36: 0 | GS36: 3 | GT36: 0 | GV36: =ROUND(GT36,6) -> 0 | GW36: 1 | GX36: =ROUND(GV36*GW36*I36,2) -> 0 | HA36: 0 | HB36: 0 | IK36: 0
A37: 18 | B37: 1 | C37: 39 | E37: 5,6 | F37: 14.4.01.21 | G37: Грунтовка | H37: т | I37: =I31*J37 -> 0.013186 | J37: 0.008899838 | O37: =ROUND(CP37,2) -> 0 | P37: =ROUND(CQ37*I37,2) -> 0 | Q37: =ROUND(CR37*I37,2) -> 0 | R37: =ROUND(CS37*I37,2) -> 0 | S37: =ROUND(CT37*I37,2) -> 0 | T37: =ROUND(CU37*I37,2) -> 0 | U37: =CV37*I37 -> 0 | V37: =CW37*I37 -> 0 | W37: =ROUND(CX37*I37,2) -> 0 | X37: =ROUND(CY37,2) -> 0 | Y37: =ROUND(CZ37,2) -> 0 | AA37: 16496534 | AB37: =ROUND((AC37+AD37+AF37),6) -> 0 | AC37: =ROUND((ES37),6) -> 0 | AD37: =ROUND((((ET37)-(EU37))+AE37),6) -> 0 | AE37: =ROUND((EU37),6) -> 0 | AF37: =ROUND((EV37),6) -> 0 | AG37: =ROUND((AP37),6) -> 0 | AH37: =(EW37) -> 0 | AI37: =(EX37) -> 0 | AJ37: =ROUND((AS37),6) -> 0 | AK37: 0 | AL37: 0 | AM37: 0 | AN37: 0 | AO37: 0 | AP37: 0 | AQ37: 0 | AR37: 0 | AS37: 0 | AT37: 95 | AU37: 47 | AV37: 1 | AW37: 1 | AZ37: 6.57 | BA37: 1 | BB37: 1 | BC37: 6.57 | BH37: 3 | BI37: 1 | BM37: 15001 | BN37: 0 | BP37: 0 | BQ37: 2 | BR37: 0 | BS37: 1 | BT37: 1 | BU37: 1 | BV37: 1 | BW37: 1 | BX37: 1 | BZ37: 105 | CA37: 55 | CF37: 0 | CG37: 0 | CM37: 0 | CO37: 0 | CP37: =(P37+Q37+S37) -> 0 | CQ37: =AC37*BC37 -> 0 | CR37: =AD37*BB37 -> 0 | CS37: =AE37*BS37 -> 0 | CT37: =AF37*BA37 -> 0 | CU37: =AG37 -> 0 | CV37: =AH37 -> 0 | CW37: =AI37 -> 0 | CX37: =AJ37 -> 0 | CY37: =(((S37+R37)*AT37)/100) -> 0 | CZ37: =(((S37+R37)*AU37)/100) -> 0 | DN37: 0 | DO37: 0 | DP37: 1 | DQ37: 1 | DU37: 1009 | DV37: т | DW37: т | DX37: 1000 | EE37: 15139126 | EF37: 2 | EG37: Общестроительные работы | EH37: 0 | EJ37: 1 | EK37: 15001 | EL37: Отделочные работы | EM37: ФЕР-15 | EQ37: 0 | ER37: 0 | ES37: 0 | ET37: 0 | EU37: 0 | EV37: 0 | EW37: 0 | EX37: 0 | FQ37: 0 | FR37: =ROUND(IF(AND(BH37=3,BI37=3),P37,0),2) -> 0 | FS37: 0 | FT37: *0,9 | FU37: *0,85 | FX37: 94.5 | FY37: 46.75 | GD37: 0 | GF37: -1212923053 | GG37: 1 | GH37: 1 | GI37: 4 | GJ37: 0 | GK37: =ROUND(R37*(R12)/100,2) -> 0 | GL37: =ROUND(IF(AND(BH37=3,BI37=3,FS37<>0),P37,0),2) -> 0 | GM37: =ROUND(O37+X37+Y37+GK37,2)+GX37 -> 0 | GN37: =IF(OR(BI37=0,BI37=1),ROUND(O37+X37+Y37+GK37,2),0) -> 0 | GO37: =IF(BI37=2,ROUND(O37+X37+Y37+GK37,2),0) -> 0 | GP37: =IF(BI37=4,ROUND(O37+X37+Y37+GK37,2)+GX37,0) -> 0 | GR37: 0 | GS37: 3 | GT37: 0 | GV37: =ROUND(GT37,6) -> 0 | GW37: 1 | GX37: =ROUND(GV37*GW37*I37,2) -> 0 | HA37: 0 | HB37: 0 | IK37: 0
A38: 17 | B38: 1 | C38: =ROW(SmtRes!A43) -> 43 | D38: =ROW(EtalonRes!A40) -> 40 | E38: 6 | F38: 10-01-036-01 | G38: Установка уголков ПВХ на клее | H38: 100 м | I38: =ROUND(296.32/100,9) -> 2.9632 | J38: 0 | O38: =ROUND(CP38,2) -> 1813.47 | P38: =ROUND(CQ38*I38,2) -> 700.86 | Q38: =ROUND(CR38*I38,2) -> 0 | R38: =ROUND(CS38*I38,2) -> 0 | S38: =ROUND(CT38*I38,2) -> 1112.61 | T38: =ROUND(CU38*I38,2) -> 0 | U38: =CV38*I38 -> 19.85344 | V38: =CW38*I38 -> 0 | W38: =ROUND(CX38*I38,2) -> 0 | X38: =ROUND(CY38,2) -> 1179.37 | Y38: =ROUND(CZ38,2) -> 600.81 | AA38: 16496534 | AB38: =ROUND((AC38+AD38+AF38),6) -> 93.15 | AC38: =ROUND((ES38),6) -> 36 | AD38: =ROUND((((ET38)-(EU38))+AE38),6) -> 0 | AE38: =ROUND((EU38),6) -> 0 | AF38: =ROUND((EV38),6) -> 57.15 | AG38: =ROUND((AP38),6) -> 0 | AH38: =(EW38) -> 6.7 | AI38: =(EX38) -> 0 | AJ38: =ROUND((AS38),6) -> 0 | AK38: 93.15 | AL38: 36 | AM38: 0 | AN38: 0 | AO38: 57.15 | AP38: 0 | AQ38: 6.7 | AR38: 0 | AS38: 0 | AT38: 106 | AU38: 54 | AV38: 1 | AW38: 1 | AZ38: 6.57 | BA38: 6.57 | BB38: 6.57 | BC38: 6.57 | BH38: 0 | BI38: 1 | BJ38: ФЕР-2001, 10-01-036-01, приказ Минстроя России №1039/пр от 30.12.2016г. | BM38: 10001 | BN38: 0 | BP38: 0 | BQ38: 2 | BR38: 0 | BS38: 6.57 | BT38: 1 | BU38: 1 | BV38: 1 | BW38: 1 | BX38: 1 | BZ38: 118 | CA38: 63 | CF38: 0 | CG38: 0 | CM38: 0 | CO38: 0 | CP38: =(P38+Q38+S38) -> 1813.47 | CQ38: =AC38*BC38 -> 236.52 | CR38: =AD38*BB38 -> 0 | CS38: =AE38*BS38 -> 0 | CT38: =AF38*BA38 -> 375.4755 | CU38: =AG38 -> 0 | CV38: =AH38 -> 6.7 | CW38: =AI38 -> 0 | CX38: =AJ38 -> 0 | CY38: =(((S38+R38)*AT38)/100) -> 1179.3666 | CZ38: =(((S38+R38)*AU38)/100) -> 600.8094 | DN38: 0 | DO38: 0 | DP38: 1 | DQ38: 1 | DU38: 1003 | DV38: 100 м | DW38: 100 м | DX38: 100 | EE38: 15139100 | EF38: 2 | EG38: Общестроительные работы | EH38: 0 | EJ38: 1 | EK38: 10001 | EL38: Деревянные конструкции | EM38: ФЕР-10 | EQ38: 0 | ER38: 93.15 | ES38: 36 | ET38: 0 | EU38: 0 | EV38: 57.15 | EW38: 6.7 | EX38: 0 | EY38: 0 | FQ38: 0 | FR38: =ROUND(IF(AND(BH38=3,BI38=3),P38,0),2) -> 0 | FS38: 0 | FT38: *0,9 | FU38: *0,85 | FX38: 106.2 | FY38: 53.55 | GD38: 0 | GF38: -1862938563 | GG38: 1 | GH38: 1 | GI38: 4 | GJ38: 0 | GK38: =ROUND(R38*(R12)/100,2) -> 0 | GL38: =ROUND(IF(AND(BH38=3,BI38=3,FS38<>0),P38,0),2) -> 0 | GM38: =ROUND(O38+X38+Y38+GK38,2)+GX38 -> 3593.65 | GN38: =IF(OR(BI38=0,BI38=1),ROUND(O38+X38+Y38+GK38,2),0) -> 3593.65 | GO38: =IF(BI38=2,ROUND(O38+X38+Y38+GK38,2),0) -> 0 | GP38: =IF(BI38=4,ROUND(O38+X38+Y38+GK38,2)+GX38,0) -> 0 | GR38: 0 | GS38: 3 | GT38: 0 | GV38: =ROUND(GT38,6) -> 0 | GW38: 1 | GX38: =ROUND(GV38*GW38*I38,2) -> 0 | HA38: 0 | HB38: 0 | IK38: 0
A39: 18 | B39: 1 | C39: 41 | E39: 6,1 | F39: 11.3.03.13 | G39: Уголок ПВХ | H39: П.М | I39: =I38*J39 -> 296.32 | J39: 100 | O39: =ROUND(CP39,2) -> 0 | P39: =ROUND(CQ39*I39,2) -> 0 | Q39: =ROUND(CR39*I39,2) -> 0 | R39: =ROUND(CS39*I39,2) -> 0 | S39: =ROUND(CT39*I39,2) -> 0 | T39: =ROUND(CU39*I39,2) -> 0 | U39: =CV39*I39 -> 0 | V39: =CW39*I39 -> 0 | W39: =ROUND(CX39*I39,2) -> 0 | X39: =ROUND(CY39,2) -> 0 | Y39: =ROUND(CZ39,2) -> 0 | AA39: 16496534 | AB39: =ROUND((AC39+AD39+AF39),6) -> 0 | AC39: =ROUND((ES39),6) -> 0 | AD39: =ROUND((((ET39)-(EU39))+AE39),6) -> 0 | AE39: =ROUND((EU39),6) -> 0 | AF39: =ROUND((EV39),6) -> 0 | AG39: =ROUND((AP39),6) -> 0 | AH39: =(EW39) -> 0 | AI39: =(EX39) -> 0 | AJ39: =ROUND((AS39),6) -> 0 | AK39: 0 | AL39: 0 | AM39: 0 | AN39: 0 | AO39: 0 | AP39: 0 | AQ39: 0 | AR39: 0 | AS39: 0 | AT39: 106 | AU39: 54 | AV39: 1 | AW39: 1 | AZ39: 6.57 | BA39: 1 | BB39: 1 | BC39: 6.57 | BH39: 3 | BI39: 1 | BM39: 10001 | BN39: 0 | BP39: 0 | BQ39: 2 | BR39: 0 | BS39: 1 | BT39: 1 | BU39: 1 | BV39: 1 | BW39: 1 | BX39: 1 | BZ39: 118 | CA39: 63 | CF39: 0 | CG39: 0 | CM39: 0 | CO39: 0 | CP39: =(P39+Q39+S39) -> 0 | CQ39: =AC39*BC39 -> 0 | CR39: =AD39*BB39 -> 0 | CS39: =AE39*BS39 -> 0 | CT39: =AF39*BA39 -> 0 | CU39: =AG39 -> 0 | CV39: =AH39 -> 0 | CW39: =AI39 -> 0 | CX39: =AJ39 -> 0 | CY39: =(((S39+R39)*AT39)/100) -> 0 | CZ39: =(((S39+R39)*AU39)/100) -> 0 | DN39: 0 | DO39: 0 | DP39: 1 | DQ39: 1 | DU39: 1013 | DV39: П.М | DW39: П.М | DX39: 1 | EE39: 15139100 | EF39: 2 | EG39: Общестроительные работы | EH39: 0 | EJ39: 1 | EK39: 10001 | EL39: Деревянные конструкции | EM39: ФЕР-10 | EQ39: 0 | ER39: 0 | ES39: 0 | ET39: 0 | EU39: 0 | EV39: 0 | EW39: 0 | EX39: 0 | FQ39: 0 | FR39: =ROUND(IF(AND(BH39=3,BI39=3),P39,0),2) -> 0 | FS39: 0 | FT39: *0,9 | FU39: *0,85 | FX39: 106.2 | FY39: 53.55 | GD39: 0 | GF39: -1710570218 | GG39: 1 | GH39: 1 | GI39: 4 | GJ39: 0 | GK39: =ROUND(R39*(R12)/100,2) -> 0 | GL39: =ROUND(IF(AND(BH39=3,BI39=3,FS39<>0),P39,0),2) -> 0 | GM39: =ROUND(O39+X39+Y39+GK39,2)+GX39 -> 0 | GN39: =IF(OR(BI39=0,BI39=1),ROUND(O39+X39+Y39+GK39,2),0) -> 0 | GO39: =IF(BI39=2,ROUND(O39+X39+Y39+GK39,2),0) -> 0 | GP39: =IF(BI39=4,ROUND(O39+X39+Y39+GK39,2)+GX39,0) -> 0 | GR39: 0 | GS39: 3 | GT39: 0 | GV39: =ROUND(GT39,6) -> 0 | GW39: 1 | GX39: =ROUND(GV39*GW39*I39,2) -> 0 | HA39: 0 | HB39: 0 | IK39: 0
A40: 18 | B40: 1 | C40: 42 | E40: 6,2 | F40: 11.3.03.13-0043 | G40: Уголок ПВХ, размером 20х20 мм | H40: 10 м | I40: =I38*J40 -> 29.632 | J40: 10 | O40: =ROUND(CP40,2) -> 4983.87 | P40: =ROUND(CQ40*I40,2) -> 4983.87 | Q40: =ROUND(CR40*I40,2) -> 0 | R40: =ROUND(CS40*I40,2) -> 0 | S40: =ROUND(CT40*I40,2) -> 0 | T40: =ROUND(CU40*I40,2) -> 0 | U40: =CV40*I40 -> 0 | V40: =CW40*I40 -> 0 | W40: =ROUND(CX40*I40,2) -> 0 | X40: =ROUND(CY40,2) -> 0 | Y40: =ROUND(CZ40,2) -> 0 | AA40: 16496534 | AB40: =ROUND((AC40+AD40+AF40),6) -> 25.6 | AC40: =ROUND((ES40),6) -> 25.6 | AD40: =ROUND((((ET40)-(EU40))+AE40),6) -> 0 | AE40: =ROUND((EU40),6) -> 0 | AF40: =ROUND((EV40),6) -> 0 | AG40: =ROUND((AP40),6) -> 0 | AH40: =(EW40) -> 0 | AI40: =(EX40) -> 0 | AJ40: =ROUND((AS40),6) -> 0 | AK40: 25.6 | AL40: 25.6 | AM40: 0 | AN40: 0 | AO40: 0 | AP40: 0 | AQ40: 0 | AR40: 0 | AS40: 0 | AT40: 106 | AU40: 54 | AV40: 1 | AW40: 1 | AZ40: 6.57 | BA40: 1 | BB40: 1 | BC40: 6.57 | BH40: 3 | BI40: 1 | BJ40: ФССЦ-2001, 11.3.03.13-0043, приказ Минстроя России №1039/пр от 30.12.2016г. | BM40: 10001 | BN40: 0 | BP40: 0 | BQ40: 2 | BR40: 0 | BS40: 1 | BT40: 1 | BU40: 1 | BV40: 1 | BW40: 1 | BX40: 1 | BZ40: 118 | CA40: 63 | CF40: 0 | CG40: 0 | CM40: 0 | CO40: 0 | CP40: =(P40+Q40+S40) -> 4983.87 | CQ40: =AC40*BC40 -> 168.192 | CR40: =AD40*BB40 -> 0 | CS40: =AE40*BS40 -> 0 | CT40: =AF40*BA40 -> 0 | CU40: =AG40 -> 0 | CV40: =AH40 -> 0 | CW40: =AI40 -> 0 | CX40: =AJ40 -> 0 | CY40: =(((S40+R40)*AT40)/100) -> 0 | CZ40: =(((S40+R40)*AU40)/100) -> 0 | DN40: 0 | DO40: 0 | DP40: 1 | DQ40: 1 | DU40: 1003 | DV40: 10 м | DW40: 10 м | DX40: 10 | EE40: 15139100 | EF40: 2 | EG40: Общестроительные работы | EH40: 0 | EJ40: 1 | EK40: 10001 | EL40: Деревянные конструкции | EM40: ФЕР-10 | EQ40: 0 | ER40: 25.6 | ES40: 25.6 | ET40: 0 | EU40: 0 | EV40: 0 | EW40: 0 | EX40: 0 | FQ40: 0 | FR40: =ROUND(IF(AND(BH40=3,BI40=3),P40,0),2) -> 0 | FS40: 0 | FT40: *0,9 | FU40: *0,85 | FX40: 106.2 | FY40: 53.55 | GD40: 0 | GF40: 189188006 | GG40: 1 | GH40: 1 | GI40: 4 | GJ40: 0 | GK40: =ROUND(R40*(R12)/100,2) -> 0 | GL40: =ROUND(IF(AND(BH40=3,BI40=3,FS40<>0),P40,0),2) -> 0 | GM40: =ROUND(O40+X40+Y40+GK40,2)+GX40 -> 4983.87 | GN40: =IF(OR(BI40=0,BI40=1),ROUND(O40+X40+Y40+GK40,2),0) -> 4983.87 | GO40: =IF(BI40=2,ROUND(O40+X40+Y40+GK40,2),0) -> 0 | GP40: =IF(BI40=4,ROUND(O40+X40+Y40+GK40,2)+GX40,0) -> 0 | GR40: 0 | GS40: 3 | GT40: 0 | GV40: =ROUND(GT40,6) -> 0 | GW40: 1 | GX40: =ROUND(GV40*GW40*I40,2) -> 0 | HA40: 0 | HB40: 0 | IK40: 0
