Workbook

Sheet Смета 12 гр. по ФЕР
H1: Приложение №2 к ТЗ
H2: Перечень видов и объемов работ
H3: ФОРМА ДЛЯ ЗАПОЛНЕНИЯ при подаче заявки
H4: обязательная
B6: Комплекс некапитальных строений лабороторно-складского назначения, расположенный по адресу: г. Москва, ул. Ферганская, вл. 25
B7: (наименование стройки)
B10: Перечень видов и объемов работ
B12: Устройство и пусконаладка системы кондиционирования
B13: (наименование работ и затрат, наименование объекта)
G15: базовая цена | I15: текущая цена
C16: Сметная стоимость
C17: Нормативная трудоемкость
C18: Средства на оплату труда
A20: Составлена в ФЕР в ценах Января 2000г. с индексацией_______________________
A21: № п/п | B21: Шифр расценки и коды ресурсов | C21: Наименование работ и затрат | D21: Единица изме-рения | E21: Кол-во единиц | F21: Цена на ед. изм. руб. | G21: попра-вочные коэффиц. | H21: Стоимость в ценах 2000г. | I21: Пункт коэффиц. пересчета | J21: Коэфф. пересчета | K21: Стоимость в текущих ценах | L21: ЗТР всего чел.-час
A22: 1 | B22: 2 | C22: 3 | D22: 4 | E22: 5 | F22: 6 | G22: 7 | H22: 8 | I22: 9 | J22: 10 | K22: 11 | L22: 12
A24: =CONCATENATE("Раздел: ", Source!G24) -> Раздел: Устройство фундамента под монтаж чиллерных установок | AE24: =CONCATENATE("Раздел: ", Source!G24) -> Раздел: Устройство фундамента под монтаж чиллерных установок
A25: =Source!E28 -> 1 | B25: =Source!F28 -> 05-01-011-2 | C25: =Source!G28 -> Погружение дизель-молотом копровой установки на базе трактора стальных свай шпунтового ряда массой 1 м до 50 кг, длиной до 8 м в грунты группы 2 | D25: =Source!H28 -> т | E25: =Source!I28 -> 2.2 | S25: =ROUND((Source!FX28/100)*((ROUND(Source!CT28*Source!I28/IF(Source!BA28<> 0, Source!BA28, 1), 2)+ROUND(Source!CS28*Source!I28/IF(Source!BS28<> 0, Source!BS28, 1), 2))), 2) -> 0 | T25: =Source!X28 -> 0 | U25: =ROUND((Source!FY28/100)*((ROUND(Source!CT28*Source!I28/IF(Source!BA28<> 0, Source!BA28, 1), 2)+ROUND(Source!CS28*Source!I28/IF(Source!BS28<> 0, Source!BS28, 1), 2))), 2) -> 0 | V25: =Source!Y28 -> 0
C26: Зарплата | R26: =H26 -> 0
C27: Эксплуатация машин
C28: в т.ч. зарплата машинистов | R28: =H28 -> 0
C29: Материальные ресурсы
C30: НР от ФОТ | D30: % | E30: =Source!BZ28 -> 0
C31: СП от ФОТ | D31: % | E31: =Source!CA28 -> 0
C32: Затраты труда | D32: чел-ч | E32: =Source!AQ28 -> 0
A33: =Source!E29 -> 1,1 | B33: =Source!F29 -> Цена поставщика | C33: =Source!G29 -> Свая винтовая СВС-219 | D33: =Source!H29 -> ШТ | E33: =Source!I29 -> 12 | S33: =ROUND((Source!FX29/100)*((ROUND(Source!CT29*Source!I29/IF(Source!BA29<> 0, Source!BA29, 1), 2)+ROUND(Source!CS29*Source!I29/IF(Source!BS29<> 0, Source!BS29, 1), 2))), 2) -> 0 | T33: =Source!X29 -> 0 | U33: =ROUND((Source!FY29/100)*((ROUND(Source!CT29*Source!I29/IF(Source!BA29<> 0, Source!BA29, 1), 2)+ROUND(Source!CS29*Source!I29/IF(Source!BS29<> 0, Source!BS29, 1), 2))), 2) -> 0 | V33: =Source!Y29 -> 0 | Y33: =IF(Source!BI29=3,H33, 0) -> 0
A34: =Source!E30 -> 1,2 | B34: =Source!F30 -> Цена поставщика | C34: =Source!G30 -> Оголовок сваи | D34: =Source!H30 -> ШТ | E34: =Source!I30 -> 12 | S34: =ROUND((Source!FX30/100)*((ROUND(Source!CT30*Source!I30/IF(Source!BA30<> 0, Source!BA30, 1), 2)+ROUND(Source!CS30*Source!I30/IF(Source!BS30<> 0, Source!BS30, 1), 2))), 2) -> 0 | T34: =Source!X30 -> 0 | U34: =ROUND((Source!FY30/100)*((ROUND(Source!CT30*Source!I30/IF(Source!BA30<> 0, Source!BA30, 1), 2)+ROUND(Source!CS30*Source!I30/IF(Source!BS30<> 0, Source!BS30, 1), 2))), 2) -> 0 | V34: =Source!Y30 -> 0 | Y34: =IF(Source!BI30=3,H34, 0) -> 0
A35: =Source!E31 -> 1,3 | B35: =Source!F31 -> Цена поставщика | C35: =Source!G31 -> Балка двутавровая №20 | D35: =Source!H31 -> т | E35: =Source!I31 -> 0.714 | S35: =ROUND((Source!FX31/100)*((ROUND(Source!CT31*Source!I31/IF(Source!BA31<> 0, Source!BA31, 1), 2)+ROUND(Source!CS31*Source!I31/IF(Source!BS31<> 0, Source!BS31, 1), 2))), 2) -> 0 | T35: =Source!X31 -> 0 | U35: =ROUND((Source!FY31/100)*((ROUND(Source!CT31*Source!I31/IF(Source!BA31<> 0, Source!BA31, 1), 2)+ROUND(Source!CS31*Source!I31/IF(Source!BS31<> 0, Source!BS31, 1), 2))), 2) -> 0 | V35: =Source!Y31 -> 0 | Y35: =IF(Source!BI31=3,H35, 0) -> 0
O36: =G36 -> 0 | P36: =J36 -> 0 | Q36: =L36 -> 0 | W36: =IF(Source!BI28<=1,G36, 0) -> 0 | X36: =IF(Source!BI28=2,G36, 0) -> 0 | Y36: =IF(Source!BI28=3,G36, 0) -> 0 | Z36: =IF(Source!BI28=4,G36, 0) -> 0
A37: =Source!E32 -> 2 | B37: =Source!F32 -> 05-01-062-1 | C37: =Source!G32 -> Бетонирование свай | D37: =Source!H32 -> м3 | E37: =Source!I32 -> 1.4 | S37: =ROUND((Source!FX32/100)*((ROUND(Source!CT32*Source!I32/IF(Source!BA32<> 0, Source!BA32, 1), 2)+ROUND(Source!CS32*Source!I32/IF(Source!BS32<> 0, Source!BS32, 1), 2))), 2) -> 0 | T37: =Source!X32 -> 0 | U37: =ROUND((Source!FY32/100)*((ROUND(Source!CT32*Source!I32/IF(Source!BA32<> 0, Source!BA32, 1), 2)+ROUND(Source!CS32*Source!I32/IF(Source!BS32<> 0, Source!BS32, 1), 2))), 2) -> 0 | V37: =Source!Y32 -> 0
C38: Зарплата | R38: =H38 -> 0
C39: Эксплуатация машин
C40: в т.ч. зарплата машинистов | R40: =H40 -> 0
C41: Материальные ресурсы
C42: НР от ФОТ | D42: % | E42: =Source!BZ32 -> 0
C43: СП от ФОТ | D43: % | E43: =Source!CA32 -> 0
C44: Затраты труда | D44: чел-ч | E44: =Source!AQ32 -> 0
A45: =Source!E33 -> 2,1 | B45: =Source!F33 -> цена поставщика | C45: =Source!G33 -> Бетон М300 | D45: =Source!H33 -> м3 | E45: =Source!I33 -> 1.4 | S45: =ROUND((Source!FX33/100)*((ROUND(Source!CT33*Source!I33/IF(Source!BA33<> 0, Source!BA33, 1), 2)+ROUND(Source!CS33*Source!I33/IF(Source!BS33<> 0, Source!BS33, 1), 2))), 2) -> 0 | T45: =Source!X33 -> 0 | U45: =ROUND((Source!FY33/100)*((ROUND(Source!CT33*Source!I33/IF(Source!BA33<> 0, Source!BA33, 1), 2)+ROUND(Source!CS33*Source!I33/IF(Source!BS33<> 0, Source!BS33, 1), 2))), 2) -> 0 | V45: =Source!Y33 -> 0 | Y45: =IF(Source!BI33=3,H45, 0) -> 0
O46: =G46 -> 0 | P46: =J46 -> 0 | Q46: =L46 -> 0 | W46: =IF(Source!BI32<=1,G46, 0) -> 0 | X46: =IF(Source!BI32=2,G46, 0) -> 0 | Y46: =IF(Source!BI32=3,G46, 0) -> 0 | Z46: =IF(Source!BI32=4,G46, 0) -> 0
A48: =CONCATENATE("Итого по разделу: ", Source!G35) -> Итого по разделу: Устройство фундамента под монтаж чиллерных установок | N48: =J48*1.18 -> 0 | AF48: =CONCATENATE("Итого по разделу: ", Source!G35) -> Итого по разделу: Устройство фундамента под монтаж чиллерных установок
...

Sheet Source
A1: 0 | B1: Smeta.RU (495) 974-1589 | D1: _PS_ | F1: 0 | G1: 0 | H1: 0 | I1: Smeta.RU
A12: 1 | B12: 678 | C12: 0 | D12: =ROW(A630) -> 630 | E12: 0 | F12: Новый объект | G12: Производственно-складские строения.Кондиционирование. | I12: 0
A15: 15 | B15: 1
A18: 52 | B18: =B630 -> 678 | C18: =C630 -> 1 | D18: =D630 -> 12 | E18: =E630 -> 0 | F18: =F630 -> Новый объект | G18: =G630 -> Производственно-складские строения.Кондиционирование.
A20: 3 | B20: 1 | D20: =ROW(A599) -> 599 | F20: Новая локальная смета | G20: Устройство и пусконаладка системы кондиционирования. | I20: 0
A22: 52 | B22: =B599 -> 1 | C22: =C599 -> 3 | D22: =D599 -> 20 | E22: =E599 -> 0 | F22: =F599 -> Новая локальная смета | G22: =G599 -> Устройство и пусконаладка системы кондиционирования.
A24: 4 | B24: 1 | D24: =ROW(A35) -> 35 | F24: Новый раздел | G24: Устройство фундамента под монтаж чиллерных установок | I24: 0
A26: 52 | B26: =B35 -> 1 | C26: =C35 -> 4 | D26: =D35 -> 24 | E26: =E35 -> 0 | F26: =F35 -> Новый раздел | G26: =G35 -> Устройство фундамента под монтаж чиллерных установок
A28: 17 | B28: 1 | C28: =ROW(SmtRes!A22) -> 22 | D28: =ROW(EtalonRes!A19) -> 19 | E28: 1 | F28: 05-01-011-2 | G28: Погружение дизель-молотом копровой установки на базе трактора стальных свай шпунтового ряда массой 1 м до 50 кг, длиной до 8 м в грунты группы 2 | H28: т | I28: 2.2 | J28: 0
A29: 18 | B29: 1 | C29: 20 | E29: 1,1 | F29: Цена поставщика | G29: Свая винтовая СВС-219 | H29: ШТ | I29: =I28*J29 -> 12 | J29: 5.4545455
A30: 18 | B30: 1 | C30: 21 | E30: 1,2 | F30: Цена поставщика | G30: Оголовок сваи | H30: ШТ | I30: =I28*J30 -> 12 | J30: 5.4545455
A31: 18 | B31: 1 | C31: 22 | E31: 1,3 | F31: Цена поставщика | G31: Балка двутавровая №20 | H31: т | I31: =I28*J31 -> 0.714 | J31: 0.32454545
A32: 17 | B32: 1 | C32: =ROW(SmtRes!A30) -> 30 | D32: =ROW(EtalonRes!A27) -> 27 | E32: 2 | F32: 05-01-062-1 | G32: Бетонирование свай | H32: м3 | I32: 1.4 | J32: 0
A33: 18 | B33: 1 | C33: 30 | E33: 2,1 | F33: цена поставщика | G33: Бетон М300 | H33: м3 | I33: =I32*J33 -> 1.4 | J33: 1
A35: 51 | B35: =B24 -> 1 | C35: =A24 -> 4 | D35: =ROW(A24) -> 24 | F35: =IF(F24<>"",F24,"") -> Новый раздел | G35: =IF(G24<>"",G24,"") -> Устройство фундамента под монтаж чиллерных установок
A37: 50 | B37: 0 | C37: 0 | D37: 1 | E37: 0 | F37: =ROUND(Source!O35,O37) -> 0 | G37: ПЗ | H37: Прямые затраты
A38: 50 | B38: 0 | C38: 0 | D38: 1 | E38: 202 | F38: =ROUND(Source!P35,O38) -> 0 | G38: СтМат | H38: Стоимость материальных ресурсов
A39: 50 | B39: 0 | C39: 0 | D39: 1 | E39: 222 | F39: =ROUND(Source!AO35,O39) -> 0 | G39: СтМатЗак | H39: Стоимость материалов заказчика
A40: 50 | B40: 0 | C40: 0 | D40: 1 | E40: 216 | F40: =ROUND(Source!AP35,O40) -> 0 | G40: Оборуд | H40: Стоимость оборудования
A41: 50 | B41: 0 | C41: 0 | D41: 1 | E41: 223 | F41: =ROUND(Source!AQ35,O41) -> 0 | G41: ОборудЗак | H41: Стоимость оборудования заказчика
A42: 50 | B42: 0 | C42: 0 | D42: 1 | E42: 203 | F42: =ROUND(Source!Q35,O42) -> 0 | G42: ЭММ | H42: Эксплуатация машин
A43: 50 | B43: 0 | C43: 0 | D43: 1 | E43: 204 | F43: =ROUND(Source!R35,O43) -> 0 | G43: ЗПМ | H43: ЗП машинистов
A44: 50 | B44: 0 | C44: 0 | D44: 1 | E44: 205 | F44: =ROUND(Source!S35,O44) -> 0 | G44: ОЗП | H44: Основная ЗП рабочих
A45: 50 | B45: 0 | C45: 0 | D45: 1 | E45: 214 | F45: =ROUND(Source!AS35,O45) -> 0 | G45: Строит | H45: Строительные работы с НР и СП
A46: 50 | B46: 0 | C46: 0 | D46: 1 | E46: 215 | F46: =ROUND(Source!AT35,O46) -> 0 | G46: Монтаж | H46: Монтажные работы с НР и СП
A47: 50 | B47: 0 | C47: 0 | D47: 1 | E47: 217 | F47: =ROUND(Source!AU35,O47) -> 0 | G47: Прочие | H47: Прочие работы с НР и СП
A48: 50 | B48: 0 | C48: 0 | D48: 1 | E48: 206 | F48: =ROUND(Source!T35,O48) -> 0 | G48: ВозврМат | H48: Возврат материалов
A49: 50 | B49: 0 | C49: 0 | D49: 1 | E49: 207 | F49: =Source!U35 -> 0 | G49: ТрудСтр | H49: Трудозатраты строителей
A50: 50 | B50: 0 | C50: 0 | D50: 1 | E50: 208 | F50: =Source!V35 -> 0 | G50: ТрудМаш | H50: Трудозатраты машинистов
A51: 50 | B51: 0 | C51: 0 | D51: 1 | E51: 209 | F51: =ROUND(Source!W35,O51) -> 0 | G51: ТранспМат | H51: Транспорт материалов
A52: 50 | B52: 0 | C52: 0 | D52: 1 | E52: 0 | F52: =ROUND(Source!X35,O52) -> 0 | G52: НР | H52: Накладные расходы
A53: 50 | B53: 0 | C53: 0 | D53: 1 | E53: 0 | F53: =ROUND(Source!Y35,O53) -> 0 | G53: СмПриб | H53: Сметная прибыль
A54: 50 | B54: 0 | C54: 0 | D54: 1 | E54: 224 | F54: =ROUND(Source!AR35,O54) -> 0 | G54: Всего | H54: Всего с НР и СП
A55: 50 | B55: 1 | C55: 0 | D55: 2 | E55: 201 | F55: =ROUND(ROUND(F37,0),O55) -> 0 | G55: Итог1 | H55: Итого прямые затраты
A56: 50 | B56: 1 | C56: 0 | D56: 2 | E56: 210 | F56: =ROUND(ROUND(F52,0),O56) -> 0 | G56: Итог2 | H56: Накладные расходы
A57: 50 | B57: 1 | C57: 0 | D57: 2 | E57: 211 | F57: =ROUND(ROUND(F53,0),O57) -> 0 | G57: Итог3 | H57: Сметная прибыль
A58: 50 | B58: 1 | C58: 0 | D58: 2 | E58: 0 | F58: =ROUND(F55+F56+F57,O58) -> 0 | G58: Итог4 | H58: Итого
A60: 4 | B60: 1 | D60: =ROW(A251) -> 251 | F60: Новый раздел | G60: Система кондиционирования.Строение 1 | I60: 0
A62: 52 | B62: =B251 -> 1 | C62: =C251 -> 4 | D62: =D251 -> 60 | E62: =E251 -> 0 | F62: =F251 -> Новый раздел | G62: =G251 -> Система кондиционирования.Строение 1
A64: 5 | B64: 1 | D64: =ROW(A172) -> 172 | F64: Новый подраздел | G64: Монтаж системы кондиционирования. | I64: 0
...

Sheet SourceObSm
A1: 0 | B1: Smeta.RU (495) 974-1589 | D1: _OBSM_ | F1: 0 | G1: 0 | H1: 0 | I1: Smeta.RU
A12: 1 | B12: 42 | C12: 0 | E12: 0 | F12: Новый объект | G12: Производственно-складские строения.Кондиционирование. | I12: 0
A14: 22 | B14: 0 | C14: 0 | D14: 23104213 | E14: 0 | F14: 3
A16: 3 | B16: 1 | C16: Новая локальная смета | D16: Устройство и пусконаладка системы кондиционирования.
A18: 51
A20: 50 | B20: 0 | C20: 0 | D20: 1 | E20: 201 | G20: ПЗ | H20: Прямые затраты
A21: 50 | B21: 0 | C21: 0 | D21: 1 | E21: 202 | G21: СтМат | H21: Стоимость материальных ресурсов
A22: 50 | B22: 0 | C22: 0 | D22: 1 | E22: 222 | G22: СтМатЗак | H22: Стоимость материалов заказчика
A23: 50 | B23: 0 | C23: 0 | D23: 1 | E23: 216 | G23: Оборуд | H23: Стоимость оборудования
A24: 50 | B24: 0 | C24: 0 | D24: 1 | E24: 223 | G24: ОборудЗак | H24: Стоимость оборудования заказчика
A25: 50 | B25: 0 | C25: 0 | D25: 1 | E25: 203 | G25: ЭММ | H25: Эксплуатация машин
A26: 50 | B26: 0 | C26: 0 | D26: 1 | E26: 204 | G26: ЗПМ | H26: ЗП машинистов
A27: 50 | B27: 0 | C27: 0 | D27: 1 | E27: 205 | G27: ОЗП | H27: Основная ЗП рабочих
A28: 50 | B28: 0 | C28: 0 | D28: 1 | E28: 214 | G28: Строит | H28: Строительные работы с НР и СП
A29: 50 | B29: 0 | C29: 0 | D29: 1 | E29: 215 | G29: Монтаж | H29: Монтажные работы с НР и СП
A30: 50 | B30: 0 | C30: 0 | D30: 1 | E30: 217 | G30: Прочие | H30: Прочие работы с НР и СП
A31: 50 | B31: 0 | C31: 0 | D31: 1 | E31: 206 | G31: ВозврМат | H31: Возврат материалов
... A37: 50 | B37: 0 | C37: 0 | D37: 1 | E37: 224 | G37: Всего | H37: Всего с НР и СП
A39: -1

Sheet SmtRes
A1: =ROW(Source!A28) -> 28 | B1: 23104213 | C1: 23108071 | D1: 9415385 | E1: 1 | F1: 1 | G1: 1 | H1: 1 | I1: 1-1038 | K1: Рабочий строитель среднего разряда 3,8 | L1: 1369 | N1: 1013 | O1: чел.-ч | P1: чел.-ч | Q1: 1 | Y1: 17.95 | AA1: 0 | AB1: 0 | AC1: 0 | AD1: 9.4 | AN1: 0 | AO1: 1 | AP1: 0 | AQ1: 0 | AR1: 0 | AT1: 17.95 | AV1: 1 | AW1: 2 | AX1: 23108091 | AY1: 1 | AZ1: 0 | BA1: 1 | BB1: 0 | BC1: 0 | BD1: 0 | BE1: 0 | BF1: 0 | BG1: 0 | BH1: 0 | BI1: 0 | BJ1: 0 | BK1: 0 | BL1: 0 | BM1: 0 | BN1: 0 | BO1: 0 | BP1: 0 | BQ1: 0 | BR1: 0 | BS1: 0 | BT1: 0 | BU1: 0 | BV1: 0 | BW1: 0 | CB1: 0
A2: =ROW(Source!A28) -> 28 | B2: 23104213 | C2: 23108071 | D2: 121548 | E2: 1 | F2: 1 | G2: 1 | H2: 1 | I2: 2 | K2: Затраты труда машинистов | L2: 608254 | N2: 1013 | O2: чел.час | P2: чел.час | Q2: 1 | Y2: 5.01 | AA2: 0 | AB2: 0 | AC2: 0 | AD2: 0 | AN2: 0 | AO2: 1 | AP2: 0 | AQ2: 0 | AR2: 0 | AT2: 5.01 | AV2: 2 | AW2: 2 | AX2: 23108092 | AY2: 1 | AZ2: 0 | BA2: 2 | BB2: 0 | BC2: 0 | BD2: 0 | BE2: 0 | BF2: 0 | BG2: 0 | BH2: 0 | BI2: 0 | BJ2: 0 | BK2: 0 | BL2: 0 | BM2: 0 | BN2: 0 | BO2: 0 | BP2: 0 | BQ2: 0 | BR2: 0 | BS2: 0 | BT2: 0 | BU2: 0 | BV2: 0 | BW2: 0 | CB2: 0
A3: =ROW(Source!A28) -> 28 | B3: 23104213 | C3: 23108071 | D3: 21598847 | E3: 1 | F3: 1 | G3: 1 | H3: 2 | I3: 021141 | J3: ФСЭМ (2009), сб.02,поз.1141 | K3: Краны на автомобильном ходу при работе на других видах строительства 10 т | L3: 1368 | N3: 1011 | O3: маш.-ч | P3: маш.-ч | Q3: 1 | Y3: 1.26 | AA3: 0 | AB3: 111.99 | AC3: 13.5 | AD3: 0 | AN3: 0 | AO3: 1 | AP3: 0 | AQ3: 0 | AR3: 0 | AT3: 1.26 | AV3: 0 | AW3: 2 | AX3: 23108093 | AY3: 1 | AZ3: 0 | BA3: 3 | BB3: 0 | BC3: 0 | BD3: 0 | BE3: 0 | BF3: 0 | BG3: 0 | BH3: 0 | BI3: 0 | BJ3: 0 | BK3: 0 | BL3: 0 | BM3: 0 | BN3: 0 | BO3: 0 | BP3: 0 | BQ3: 0 | BR3: 0 | BS3: 0 | BT3: 0 | BU3: 0 | BV3: 0 | BW3: 0 | CB3: 0
A4: =ROW(Source!A28) -> 28 | B4: 23104213 | C4: 23108071 | D4: 21599015 | E4: 1 | F4: 1 | G4: 1 | H4: 2 | I4: 030402 | J4: ФСЭМ (2009), сб.03,поз.0402 | K4: Лебедки электрические тяговым усилием до 12,26 кН (1,25 т) | L4: 1368 | N4: 1011 | O4: маш.-ч | P4: маш.-ч | Q4: 1 | Y4: 0.34 | AA4: 0 | AB4: 3.28 | AC4: 0 | AD4: 0 | AN4: 0 | AO4: 1 | AP4: 0 | AQ4: 0 | AR4: 0 | AT4: 0.34 | AV4: 0 | AW4: 2 | AX4: 23108094 | AY4: 1 | AZ4: 0 | BA4: 4 | BB4: 0 | BC4: 0 | BD4: 0 | BE4: 0 | BF4: 0 | BG4: 0 | BH4: 0 | BI4: 0 | BJ4: 0 | BK4: 0 | BL4: 0 | BM4: 0 | BN4: 0 | BO4: 0 | BP4: 0 | BQ4: 0 | BR4: 0 | BS4: 0 | BT4: 0 | BU4: 0 | BV4: 0 | BW4: 0 | CB4: 0
A5: =ROW(Source!A28) -> 28 | B5: 23104213 | C5: 23108071 | D5: 21599181 | E5: 1 | F5: 1 | G5: 1 | H5: 2 | I5: 040202 | J5: ФСЭМ (2009), сб.04,поз.0202 | K5: Агрегаты сварочные передвижные с номинальным сварочным током 250-400 А с дизельным двигателем | L5: 1368 | N5: 1011 | O5: маш.-ч | P5: маш.-ч | Q5: 1 | Y5: 1.07 | AA5: 0 | AB5: 14 | AC5: 0 | AD5: 0 | AN5: 0 | AO5: 1 | AP5: 0 | AQ5: 0 | AR5: 0 | AT5: 1.07 | AV5: 0 | AW5: 2 | AX5: 23108095 | AY5: 1 | AZ5: 0 | BA5: 5 | BB5: 0 | BC5: 0 | BD5: 0 | BE5: 0 | BF5: 0 | BG5: 0 | BH5: 0 | BI5: 0 | BJ5: 0 | BK5: 0 | BL5: 0 | BM5: 0 | BN5: 0 | BO5: 0 | BP5: 0 | BQ5: 0 | BR5: 0 | BS5: 0 | BT5: 0 | BU5: 0 | BV5: 0 | BW5: 0 | CB5: 0
A6: =ROW(Source!A28) -> 28 | B6: 23104213 | C6: 23108071 | D6: 21599190 | E6: 1 | F6: 1 | G6: 1 | H6: 2 | I6: 040504 | J6: ФСЭМ (2009), сб.04,поз.0504 | K6: Аппарат для газовой сварки и резки | L6: 1368 | N6: 1011 | O6: маш.-ч | P6: маш.-ч | Q6: 1 | Y6: 0.31 | AA6: 0 | AB6: 1.2 | AC6: 0 | AD6: 0 | AN6: 0 | AO6: 1 | AP6: 0 | AQ6: 0 | AR6: 0 | AT6: 0.31 | AV6: 0 | AW6: 2 | AX6: 23108096 | AY6: 1 | AZ6: 0 | BA6: 6 | BB6: 0 | BC6: 0 | BD6: 0 | BE6: 0 | BF6: 0 | BG6: 0 | BH6: 0 | BI6: 0 | BJ6: 0 | BK6: 0 | BL6: 0 | BM6: 0 | BN6: 0 | BO6: 0 | BP6: 0 | BQ6: 0 | BR6: 0 | BS6: 0 | BT6: 0 | BU6: 0 | BV6: 0 | BW6: 0 | CB6: 0
A7: =ROW(Source!A28) -> 28 | B7: 23104213 | C7: 23108071 | D7: 21600149 | E7: 1 | F7: 1 | G7: 1 | H7: 2 | I7: 140110 | J7: ФСЭМ (2009), сб.14,поз.0110 | K7: Агрегаты копровые без дизель-молота на базе трактора 80 кВт (108 л.с.) | L7: 1368 | N7: 1011 | O7: маш.-ч | P7: маш.-ч | Q7: 1 | Y7: 3.75 | AA7: 0 | AB7: 239.25 | AC7: 16.44 | AD7: 0 | AN7: 0 | AO7: 1 | AP7: 0 | AQ7: 0 | AR7: 0 | AT7: 3.75 | AV7: 0 | AW7: 2 | AX7: 23108097 | AY7: 1 | AZ7: 0 | BA7: 7 | BB7: 0 | BC7: 0 | BD7: 0 | BE7: 0 | BF7: 0 | BG7: 0 | BH7: 0 | BI7: 0 | BJ7: 0 | BK7: 0 | BL7: 0 | BM7: 0 | BN7: 0 | BO7: 0 | BP7: 0 | BQ7: 0 | BR7: 0 | BS7: 0 | BT7: 0 | BU7: 0 | BV7: 0 | BW7: 0 | CB7: 0
A8: =ROW(Source!A28) -> 28 | B8: 23104213 | C8: 23108071 | D8: 21600166 | E8: 1 | F8: 1 | G8: 1 | H8: 2 | I8: 140502 | J8: ФСЭМ (2009), сб.14,поз.0502 | K8: Дизель-молоты 1,25 т | L8: 1368 | N8: 1011 | O8: маш.-ч | P8: маш.-ч | Q8: 1 | Y8: 3.75 | AA8: 0 | AB8: 40.41 | AC8: 0 | AD8: 0 | AN8: 0 | AO8: 1 | AP8: 0 | AQ8: 0 | AR8: 0 | AT8: 3.75 | AV8: 0 | AW8: 2 | AX8: 23108098 | AY8: 1 | AZ8: 0 | BA8: 8 | BB8: 0 | BC8: 0 | BD8: 0 | BE8: 0 | BF8: 0 | BG8: 0 | BH8: 0 | BI8: 0 | BJ8: 0 | BK8: 0 | BL8: 0 | BM8: 0 | BN8: 0 | BO8: 0 | BP8: 0 | BQ8: 0 | BR8: 0 | BS8: 0 | BT8: 0 | BU8: 0 | BV8: 0 | BW8: 0 | CB8: 0
A9: =ROW(Source!A28) -> 28 | B9: 23104213 | C9: 23108071 | D9: 21601198 | E9: 1 | F9: 1 | G9: 1 | H9: 2 | I9: 330206 | J9: ФСЭМ (2009), сб.33,поз.0206 | K9: Дрели электрические | L9: 1368 | N9: 1011 | O9: маш.-ч | P9: маш.-ч | Q9: 1 | Y9: 0.14 | AA9: 0 | AB9: 1.95 | AC9: 0 | AD9: 0 | AN9: 0 | AO9: 1 | AP9: 0 | AQ9: 0 | AR9: 0 | AT9: 0.14 | AV9: 0 | AW9: 2 | AX9: 23108099 | AY9: 1 | AZ9: 0 | BA9: 9 | BB9: 0 | BC9: 0 | BD9: 0 | BE9: 0 | BF9: 0 | BG9: 0 | BH9: 0 | BI9: 0 | BJ9: 0 | BK9: 0 | BL9: 0 | BM9: 0 | BN9: 0 | BO9: 0 | BP9: 0 | BQ9: 0 | BR9: 0 | BS9: 0 | BT9: 0 | BU9: 0 | BV9: 0 | BW9: 0 | CB9: 0
A10: =ROW(Source!A28) -> 28 | B10: 23104213 | C10: 23108071 | D10: 21601639 | E10: 1 | F10: 1 | G10: 1 | H10: 2 | I10: 400101 | J10: ФСЭМ (2009), сб.40,поз.0101 | K10: Тягачи седельные, грузоподъемность 12 т | L10: 1368 | N10: 1011 | O10: маш.-ч | P10: маш.-ч | Q10: 1 | Y10: 0.15 | AA10: 0 | AB10: 127.82 | AC10: 13.5 | AD10: 0 | AN10: 0 | AO10: 1 | AP10: 0 | AQ10: 0 | AR10: 0 | AT10: 0.15 | AV10: 0 | AW10: 2 | AX10: 23108100 | AY10: 1 | AZ10: 0 | BA10: 10 | BB10: 0 | BC10: 0 | BD10: 0 | BE10: 0 | BF10: 0 | BG10: 0 | BH10: 0 | BI10: 0 | BJ10: 0 | BK10: 0 | BL10: 0 | BM10: 0 | BN10: 0 | BO10: 0 | BP10: 0 | BQ10: 0 | BR10: 0 | BS10: 0 | BT10: 0 | BU10: 0 | BV10: 0 | BW10: 0 | CB10: 0
A11: =ROW(Source!A28) -> 28 | B11: 23104213 | C11: 23108071 | D11: 21601645 | E11: 1 | F11: 1 | G11: 1 | H11: 2 | I11: 400111 | J11: ФСЭМ (2009), сб.40,поз.0111 | K11: Полуприцепы общего назначения, грузоподъемность 12 т | L11: 1368 | N11: 1011 | O11: маш.-ч | P11: маш.-ч | Q11: 1 | Y11: 0.15 | AA11: 0 | AB11: 12 | AC11: 0 | AD11: 0 | AN11: 0 | AO11: 1 | AP11: 0 | AQ11: 0 | AR11: 0 | AT11: 0.15 | AV11: 0 | AW11: 2 | AX11: 23108101 | AY11: 1 | AZ11: 0 | BA11: 11 | BB11: 0 | BC11: 0 | BD11: 0 | BE11: 0 | BF11: 0 | BG11: 0 | BH11: 0 | BI11: 0 | BJ11: 0 | BK11: 0 | BL11: 0 | BM11: 0 | BN11: 0 | BO11: 0 | BP11: 0 | BQ11: 0 | BR11: 0 | BS11: 0 | BT11: 0 | BU11: 0 | BV11: 0 | BW11: 0 | CB11: 0
A12: =ROW(Source!A28) -> 28 | B12: 23104213 | C12: 23108071 | D12: 21538874 | E12: 1 | F12: 1 | G12: 1 | H12: 3 | I12: 101-0324 | J12: ФССЦ (2010) ч.1, раздел01, поз.0324 | K12: Кислород технический газообразный | L12: 1339 | N12: 1007 | O12: м3 | P12: м3 | Q12: 1 | Y12: 0.3 | AA12: 6.22 | AB12: 0 | AC12: 0 | AD12: 0 | AN12: 0 | AO12: 1 | AP12: 0 | AQ12: 0 | AR12: 0 | AT12: 0.3 | AV12: 0 | AW12: 2 | AX12: 23108102 | AY12: 1 | AZ12: 0 | BA12: 12 | BB12: 0 | BC12: 0 | BD12: 0 | BE12: 0 | BF12: 0 | BG12: 0 | BH12: 0 | BI12: 0 | BJ12: 0 | BK12: 0 | BL12: 0 | BM12: 0 | BN12: 0 | BO12: 0 | BP12: 0 | BQ12: 0 | BR12: 0 | BS12: 0 | BT12: 0 | BU12: 0 | BV12: 0 | BW12: 0 | CB12: 0
A13: =ROW(Source!A28) -> 28 | B13: 23104213 | C13: 23108071 | D13: 21538992 | E13: 1 | F13: 1 | G13: 1 | H13: 3 | I13: 101-0388 | J13: ФССЦ (2010) ч.1, раздел01, поз.0388 | K13: Краски масляные земляные марки МА-0115 мумия, сурик железный | L13: 1348 | N13: 1009 | O13: т | P13: т | Q13: 1000 | Y13: 4e-05 | AA13: 15119 | AB13: 0 | AC13: 0 | AD13: 0 | AN13: 0 | AO13: 1 | AP13: 0 | AQ13: 0 | AR13: 0 | AT13: 4e-05 | AV13: 0 | AW13: 2 | AX13: 23108103 | AY13: 1 | AZ13: 0 | BA13: 13 | BB13: 0 | BC13: 0 | BD13: 0 | BE13: 0 | BF13: 0 | BG13: 0 | BH13: 0 | BI13: 0 | BJ13: 0 | BK13: 0 | BL13: 0 | BM13: 0 | BN13: 0 | BO13: 0 | BP13: 0 | BQ13: 0 | BR13: 0 | BS13: 0 | BT13: 0 | BU13: 0 | BV13: 0 | BW13: 0 | CB13: 0
A14: =ROW(Source!A28) -> 28 | B14: 23104213 | C14: 23108071 | D14: 21539742 | E14: 1 | F14: 1 | G14: 1 | H14: 3 | I14: 101-0782 | J14: ФССЦ (2010) ч.1, раздел01, поз.0782 | K14: Поковки из квадратных заготовок, масса 1,8 кг | L14: 1348 | N14: 1009 | O14: т | P14: т | Q14: 1000 | Y14: 0.0006 | AA14: 5989 | AB14: 0 | AC14: 0 | AD14: 0 | AN14: 0 | AO14: 1 | AP14: 0 | AQ14: 0 | AR14: 0 | AT14: 0.0006 | AV14: 0 | AW14: 2 | AX14: 23108104 | AY14: 1 | AZ14: 0 | BA14: 14 | BB14: 0 | BC14: 0 | BD14: 0 | BE14: 0 | BF14: 0 | BG14: 0 | BH14: 0 | BI14: 0 | BJ14: 0 | BK14: 0 | BL14: 0 | BM14: 0 | BN14: 0 | BO14: 0 | BP14: 0 | BQ14: 0 | BR14: 0 | BS14: 0 | BT14: 0 | BU14: 0 | BV14: 0 | BW14: 0 | CB14: 0
A15: =ROW(Source!A28) -> 28 | B15: 23104213 | C15: 23108071 | D15: 21540421 | E15: 1 | F15: 1 | G15: 1 | H15: 3 | I15: 101-1145 | J15: ФССЦ (2010) ч.1, раздел01, поз.1145 | K15: Профили фасонные горячекатаные для шпунтовых свай Л4 и Л5 массой от 50 до 100 кг, сталь марки 16ХГ | L15: 1348 | N15: 1009 | O15: т | P15: т | Q15: 1000 | Y15: 1.01 | AA15: 6789.36 | AB15: 0 | AC15: 0 | AD15: 0 | AN15: 0 | AO15: 1 | AP15: 0 | AQ15: 0 | AR15: 0 | AT15: 1.01 | AV15: 0 | AW15: 2 | AX15: 23108105 | AY15: 1 | AZ15: 0 | BA15: 15 | BB15: 0 | BC15: 0 | BD15: 0 | BE15: 0 | BF15: 0 | BG15: 0 | BH15: 0 | BI15: 0 | BJ15: 0 | BK15: 0 | BL15: 0 | BM15: 0 | BN15: 0 | BO15: 0 | BP15: 0 | BQ15: 0 | BR15: 0 | BS15: 0 | BT15: 0 | BU15: 0 | BV15: 0 | BW15: 0 | CB15: 0
A16: =ROW(Source!A28) -> 28 | B16: 23104213 | C16: 23108071 | D16: 21540934 | E16: 1 | F16: 1 | G16: 1 | H16: 3 | I16: 101-1522 | J16: ФССЦ (2010) ч.1, раздел01, поз.1522 | K16: Электроды диаметром 5 мм Э42А | L16: 1348 | N16: 1009 | O16: т | P16: т | Q16: 1000 | Y16: 0.00193 | AA16: 10362 | AB16: 0 | AC16: 0 | AD16: 0 | AN16: 0 | AO16: 1 | AP16: 0 | AQ16: 0 | AR16: 0 | AT16: 0.00193 | AV16: 0 | AW16: 2 | AX16: 23108106 | AY16: 1 | AZ16: 0 | BA16: 16 | BB16: 0 | BC16: 0 | BD16: 0 | BE16: 0 | BF16: 0 | BG16: 0 | BH16: 0 | BI16: 0 | BJ16: 0 | BK16: 0 | BL16: 0 | BM16: 0 | BN16: 0 | BO16: 0 | BP16: 0 | BQ16: 0 | BR16: 0 | BS16: 0 | BT16: 0 | BU16: 0 | BV16: 0 | BW16: 0 | CB16: 0
A17: =ROW(Source!A28) -> 28 | B17: 23104213 | C17: 23108071 | D17: 21541053 | E17: 1 | F17: 1 | G17: 1 | H17: 3 | I17: 101-1602 | J17: ФССЦ (2010) ч.1, раздел01, поз.1602 | K17: Ацетилен газообразный технический | L17: 1339 | N17: 1007 | O17: м3 | P17: м3 | Q17: 1 | Y17: 0.06 | AA17: 38.51 | AB17: 0 | AC17: 0 | AD17: 0 | AN17: 0 | AO17: 1 | AP17: 0 | AQ17: 0 | AR17: 0 | AT17: 0.06 | AV17: 0 | AW17: 2 | AX17: 23108107 | AY17: 1 | AZ17: 0 | BA17: 17 | BB17: 0 | BC17: 0 | BD17: 0 | BE17: 0 | BF17: 0 | BG17: 0 | BH17: 0 | BI17: 0 | BJ17: 0 | BK17: 0 | BL17: 0 | BM17: 0 | BN17: 0 | BO17: 0 | BP17: 0 | BQ17: 0 | BR17: 0 | BS17: 0 | BT17: 0 | BU17: 0 | BV17: 0 | BW17: 0 | CB17: 0
A18: =ROW(Source!A28) -> 28 | B18: 23104213 | C18: 23108071 | D18: 21548987 | E18: 1 | F18: 1 | G18: 1 | H18: 3 | I18: 102-0008 | J18: ФССЦ (2010) ч.1, раздел02, поз.0008 | K18: Лесоматериалы круглые хвойных пород для строительства диаметром 14-24 см, длиной 3-6,5 м | L18: 1339 | N18: 1007 | O18: м3 | P18: м3 | Q18: 1 | Y18: 0.006 | AA18: 558.33 | AB18: 0 | AC18: 0 | AD18: 0 | AN18: 0 | AO18: 1 | AP18: 0 | AQ18: 0 | AR18: 0 | AT18: 0.006 | AV18: 0 | AW18: 2 | AX18: 23108108 | AY18: 1 | AZ18: 0 | BA18: 18 | BB18: 0 | BC18: 0 | BD18: 0 | BE18: 0 | BF18: 0 | BG18: 0 | BH18: 0 | BI18: 0 | BJ18: 0 | BK18: 0 | BL18: 0 | BM18: 0 | BN18: 0 | BO18: 0 | BP18: 0 | BQ18: 0 | BR18: 0 | BS18: 0 | BT18: 0 | BU18: 0 | BV18: 0 | BW18: 0 | CB18: 0
A19: =ROW(Source!A28) -> 28 | B19: 23104213 | C19: 23108071 | D19: 21551773 | E19: 1 | F19: 1 | G19: 1 | H19: 3 | I19: 201-0774 | J19: ФССЦ (2010) ч.2, раздел01, поз.0774 | K19: Конструктивные элементы вспомогательного назначения массой не более 50 кг с преобладанием толстолистовой стали собираемые из двух и более деталей, с отверстиями и без отверстий, соединяемые на сварке | L19: 1348 | N19: 1009 | O19: т | P19: т | Q19: 1000 | Y19: 0.0004 | AA19: 11255 | AB19: 0 | AC19: 0 | AD19: 0 | AN19: 0 | AO19: 1 | AP19: 0 | AQ19: 0 | AR19: 0 | AT19: 0.0004 | AV19: 0 | AW19: 2 | AX19: 23108109 | AY19: 1 | AZ19: 0 | BA19: 19 | BB19: 0 | BC19: 0 | BD19: 0 | BE19: 0 | BF19: 0 | BG19: 0 | BH19: 0 | BI19: 0 | BJ19: 0 | BK19: 0 | BL19: 0 | BM19: 0 | BN19: 0 | BO19: 0 | BP19: 0 | BQ19: 0 | BR19: 0 | BS19: 0 | BT19: 0 | BU19: 0 | BV19: 0 | BW19: 0 | CB19: 0
A20: =ROW(Source!A28) -> 28 | B20: 23104213 | C20: 23108071 | D20: 0 | E20: 0 | F20: 1 | G20: 1 | H20: 3 | I20: Цена поставщика | K20: Свая винтовая СВС-219 | L20: 1371 | N20: 1013 | O20: ШТ | P20: ШТ | Q20: 1 | Y20: 5.454545 | AA20: 1280.43 | AB20: 0 | AC20: 0 | AD20: 0 | AN20: 0 | AO20: 0 | AP20: 0 | AQ20: 0 | AR20: 0 | AT20: 5.454545 | AV20: 0 | AW20: 1 | AX20: -1 | AY20: 0 | AZ20: 0 | BB20: 0 | BC20: 0 | BD20: 0 | BE20: 0 | BF20: 0 | BG20: 0 | BH20: 0 | BI20: 0 | BJ20: 0 | BK20: 0 | BL20: 0 | BM20: 0 | BN20: 0 | BO20: 0 | BP20: 0 | BQ20: 0 | BR20: 0 | BS20: 0 | BT20: 0 | BU20: 0 | BV20: 0 | BW20: 0 | CB20: 0
A21: =ROW(Source!A28) -> 28 | B21: 23104213 | C21: 23108071 | D21: 0 | E21: 0 | F21: 1 | G21: 1 | H21: 3 | I21: Цена поставщика | K21: Оголовок сваи | L21: 1371 | N21: 1013 | O21: ШТ | P21: ШТ | Q21: 1 | Y21: 5.454545 | AA21: 33.52 | AB21: 0 | AC21: 0 | AD21: 0 | AN21: 0 | AO21: 0 | AP21: 0 | AQ21: 0 | AR21: 0 | AT21: 5.454545 | AV21: 0 | AW21: 1 | AX21: -1 | AY21: 0 | AZ21: 0 | BB21: 0 | BC21: 0 | BD21: 0 | BE21: 0 | BF21: 0 | BG21: 0 | BH21: 0 | BI21: 0 | BJ21: 0 | BK21: 0 | BL21: 0 | BM21: 0 | BN21: 0 | BO21: 0 | BP21: 0 | BQ21: 0 | BR21: 0 | BS21: 0 | BT21: 0 | BU21: 0 | BV21: 0 | BW21: 0 | CB21: 0
A22: =ROW(Source!A28) -> 28 | B22: 23104213 | C22: 23108071 | D22: 0 | E22: 0 | F22: 1 | G22: 1 | H22: 3 | I22: Цена поставщика | K22: Балка двутавровая №20 | L22: 1348 | N22: 1009 | O22: т | P22: т | Q22: 1000 | Y22: 0.324545 | AA22: 3620.48 | AB22: 0 | AC22: 0 | AD22: 0 | AN22: 0 | AO22: 0 | AP22: 0 | AQ22: 0 | AR22: 0 | AT22: 0.324545 | AV22: 0 | AW22: 1 | AX22: -1 | AY22: 0 | AZ22: 0 | BB22: 0 | BC22: 0 | BD22: 0 | BE22: 0 | BF22: 0 | BG22: 0 | BH22: 0 | BI22: 0 | BJ22: 0 | BK22: 0 | BL22: 0 | BM22: 0 | BN22: 0 | BO22: 0 | BP22: 0 | BQ22: 0 | BR22: 0 | BS22: 0 | BT22: 0 | BU22: 0 | BV22: 0 | BW22: 0 | CB22: 0
A23: =ROW(Source!A32) -> 32 | B23: 23104213 | C23: 23108134 | D23: 9416110 | E23: 1 | F23: 1 | G23: 1 | H23: 1 | I23: 1-1036 | K23: Рабочий строитель среднего разряда 3,6 | L23: 1369 | N23: 1013 | O23: чел.-ч | P23: чел.-ч | Q23: 1 | Y23: 0.64 | AA23: 0 | AB23: 0 | AC23: 0 | AD23: 9.18 | AN23: 0 | AO23: 1 | AP23: 0 | AQ23: 0 | AR23: 0 | AT23: 0.64 | AV23: 1 | AW23: 2 | AX23: 23108142 | AY23: 1 | AZ23: 0 | BA23: 20 | BB23: 0 | BC23: 0 | BD23: 0 | BE23: 0 | BF23: 0 | BG23: 0 | BH23: 0 | BI23: 0 | BJ23: 0 | BK23: 0 | BL23: 0 | BM23: 0 | BN23: 0 | BO23: 0 | BP23: 0 | BQ23: 0 | BR23: 0 | BS23: 0 | BT23: 0 | BU23: 0 | BV23: 0 | BW23: 0 | CB23: 0
A24: =ROW(Source!A32) -> 32 | B24: 23104213 | C24: 23108134 | D24: 121548 | E24: 1 | F24: 1 | G24: 1 | H24: 1 | I24: 2 | K24: Затраты труда машинистов | L24: 608254 | N24: 1013 | O24: чел.час | P24: чел.час | Q24: 1 | Y24: 0.35 | AA24: 0 | AB24: 0 | AC24: 0 | AD24: 0 | AN24: 0 | AO24: 1 | AP24: 0 | AQ24: 0 | AR24: 0 | AT24: 0.35 | AV24: 2 | AW24: 2 | AX24: 23108143 | AY24: 1 | AZ24: 0 | BA24: 21 | BB24: 0 | BC24: 0 | BD24: 0 | BE24: 0 | BF24: 0 | BG24: 0 | BH24: 0 | BI24: 0 | BJ24: 0 | BK24: 0 | BL24: 0 | BM24: 0 | BN24: 0 | BO24: 0 | BP24: 0 | BQ24: 0 | BR24: 0 | BS24: 0 | BT24: 0 | BU24: 0 | BV24: 0 | BW24: 0 | CB24: 0
A25: =ROW(Source!A32) -> 32 | B25: 23104213 | C25: 23108134 | D25: 21598883 | E25: 1 | F25: 1 | G25: 1 | H25: 2 | I25: 021243 | J25: ФСЭМ (2009), сб.02,поз.1243 | K25: Краны на гусеничном ходу при работе на других видах строительства до 16 т | L25: 1368 | N25: 1011 | O25: маш.-ч | P25: маш.-ч | Q25: 1 | Y25: 0.35 | AA25: 0 | AB25: 96.89 | AC25: 13.5 | AD25: 0 | AN25: 0 | AO25: 1 | AP25: 0 | AQ25: 0 | AR25: 0 | AT25: 0.35 | AV25: 0 | AW25: 2 | AX25: 23108144 | AY25: 1 | AZ25: 0 | BA25: 22 | BB25: 0 | BC25: 0 | BD25: 0 | BE25: 0 | BF25: 0 | BG25: 0 | BH25: 0 | BI25: 0 | BJ25: 0 | BK25: 0 | BL25: 0 | BM25: 0 | BN25: 0 | BO25: 0 | BP25: 0 | BQ25: 0 | BR25: 0 | BS25: 0 | BT25: 0 | BU25: 0 | BV25: 0 | BW25: 0 | CB25: 0
A26: =ROW(Source!A32) -> 32 | B26: 23104213 | C26: 23108134 | D26: 21599794 | E26: 1 | F26: 1 | G26: 1 | H26: 2 | I26: 111100 | J26: ФСЭМ (2009), сб.11,поз.1100 | K26: Вибратор глубинный | L26: 1368 | N26: 1011 | O26: маш.-ч | P26: маш.-ч | Q26: 1 | Y26: 0.24 | AA26: 0 | AB26: 1.9 | AC26: 0 | AD26: 0 | AN26: 0 | AO26: 1 | AP26: 0 | AQ26: 0 | AR26: 0 | AT26: 0.24 | AV26: 0 | AW26: 2 | AX26: 23108145 | AY26: 1 | AZ26: 0 | BA26: 23 | BB26: 0 | BC26: 0 | BD26: 0 | BE26: 0 | BF26: 0 | BG26: 0 | BH26: 0 | BI26: 0 | BJ26: 0 | BK26: 0 | BL26: 0 | BM26: 0 | BN26: 0 | BO26: 0 | BP26: 0 | BQ26: 0 | BR26: 0 | BS26: 0 | BT26: 0 | BU26: 0 | BV26: 0 | BW26: 0 | CB26: 0
A27: =ROW(Source!A32) -> 32 | B27: 23104213 | C27: 23108134 | D27: 21601024 | E27: 1 | F27: 1 | G27: 1 | H27: 2 | I27: 270301 | J27: ФСЭМ (2009), сб.27,поз.0301 | K27: Насосы грязевые, подача 23,4-65,3 м3/ч, давление нагнетания 15,7-5,88 МПа (160-60 кгс/см2) | L27: 1368 | N27: 1011 | O27: маш.-ч | P27: маш.-ч | Q27: 1 | Y27: 0.21 | AA27: 0 | AB27: 32.71 | AC27: 0 | AD27: 0 | AN27: 0 | AO27: 1 | AP27: 0 | AQ27: 0 | AR27: 0 | AT27: 0.21 | AV27: 0 | AW27: 2 | AX27: 23108146 | AY27: 1 | AZ27: 0 | BA27: 24 | BB27: 0 | BC27: 0 | BD27: 0 | BE27: 0 | BF27: 0 | BG27: 0 | BH27: 0 | BI27: 0 | BJ27: 0 | BK27: 0 | BL27: 0 | BM27: 0 | BN27: 0 | BO27: 0 | BP27: 0 | BQ27: 0 | BR27: 0 | BS27: 0 | BT27: 0 | BU27: 0 | BV27: 0 | BW27: 0 | CB27: 0
A28: =ROW(Source!A32) -> 32 | B28: 23104213 | C28: 23108134 | D28: 21601609 | E28: 1 | F28: 1 | G28: 1 | H28: 2 | I28: 400001 | J28: ФСЭМ (2009), сб.40,поз.0001 | K28: Автомобили бортовые, грузоподъемность до 5 т | L28: 1368 | N28: 1011 | O28: маш.-ч | P28: маш.-ч | Q28: 1 | Y28: 0.07 | AA28: 0 | AB28: 87.17 | AC28: 11.6 | AD28: 0 | AN28: 0 | AO28: 1 | AP28: 0 | AQ28: 0 | AR28: 0 | AT28: 0.07 | AV28: 0 | AW28: 2 | AX28: 23108147 | AY28: 1 | AZ28: 0 | BA28: 25 | BB28: 0 | BC28: 0 | BD28: 0 | BE28: 0 | BF28: 0 | BG28: 0 | BH28: 0 | BI28: 0 | BJ28: 0 | BK28: 0 | BL28: 0 | BM28: 0 | BN28: 0 | BO28: 0 | BP28: 0 | BQ28: 0 | BR28: 0 | BS28: 0 | BT28: 0 | BU28: 0 | BV28: 0 | BW28: 0 | CB28: 0
A29: =ROW(Source!A32) -> 32 | B29: 23104213 | C29: 23108134 | D29: 21611041 | E29: 1 | F29: 1 | G29: 1 | H29: 3 | I29: 103-0576 | J29: ФССЦ (2010) ч.1, раздел03, поз.0576 | K29: Трубы бесшовные обсадные из стали группы Д и Б с короткой треугольной резьбой, наружным диаметром 377 мм, толщина стенки 12 мм | L29: 1301 | N29: 1003 | O29: м | P29: м | Q29: 1 | Y29: 0.15 | AA29: 1001.3 | AB29: 0 | AC29: 0 | AD29: 0 | AN29: 0 | AO29: 1 | AP29: 0 | AQ29: 0 | AR29: 0 | AT29: 0.15 | AV29: 0 | AW29: 2 | AX29: 23108148 | AY29: 1 | AZ29: 0 | BA29: 26 | BB29: 0 | BC29: 0 | BD29: 0 | BE29: 0 | BF29: 0 | BG29: 0 | BH29: 0 | BI29: 0 | BJ29: 0 | BK29: 0 | BL29: 0 | BM29: 0 | BN29: 0 | BO29: 0 | BP29: 0 | BQ29: 0 | BR29: 0 | BS29: 0 | BT29: 0 | BU29: 0 | BV29: 0 | BW29: 0 | CB29: 0
A30: =ROW(Source!A32) -> 32 | B30: 23104213 | C30: 23108134 | D30: 0 | E30: 0 | F30: 1 | G30: 1 | H30: 3 | I30: цена поставщика | K30: Бетон М300 | L30: 1339 | N30: 1007 | O30: м3 | P30: м3 | Q30: 1 | Y30: 1 | AA30: 465.97 | AB30: 0 | AC30: 0 | AD30: 0 | AN30: 0 | AO30: 0 | AP30: 0 | AQ30: 0 | AR30: 0 | AT30: 1 | AV30: 0 | AW30: 1 | AX30: -1 | AY30: 0 | AZ30: 0 | BB30: 0 | BC30: 0 | BD30: 0 | BE30: 0 | BF30: 0 | BG30: 0 | BH30: 0 | BI30: 0 | BJ30: 0 | BK30: 0 | BL30: 0 | BM30: 0 | BN30: 0 | BO30: 0 | BP30: 0 | BQ30: 0 | BR30: 0 | BS30: 0 | BT30: 0 | BU30: 0 | BV30: 0 | BW30: 0 | CB30: 0
A31: =ROW(Source!A68) -> 68 | B31: 23104213 | C31: 23104640 | D31: 9430710 | E31: 1 | F31: 1 | G31: 1 | H31: 1 | I31: 1-2040 | K31: Рабочий монтажник среднего разряда 4 | L31: 1369 | N31: 1013 | O31: чел.-ч | P31: чел.-ч | Q31: 1 | Y31: 443 | AA31: 0 | AB31: 0 | AC31: 0 | AD31: 9.62 | AN31: 0 | AO31: 1 | AP31: 0 | AQ31: 0 | AR31: 0 | AT31: 443 | AV31: 1 | AW31: 2 | AX31: 23104662 | AY31: 1 | AZ31: 0 | BA31: 28 | BB31: 0 | BC31: 0 | BD31: 0 | BE31: 0 | BF31: 0 | BG31: 0 | BH31: 0 | BI31: 0 | BJ31: 0 | BK31: 0 | BL31: 0 | BM31: 0 | BN31: 0 | BO31: 0 | BP31: 0 | BQ31: 0 | BR31: 0 | BS31: 0 | BT31: 0 | BU31: 0 | BV31: 0 | BW31: 0 | CB31: 0
A32: =ROW(Source!A68) -> 68 | B32: 23104213 | C32: 23104640 | D32: 121548 | E32: 1 | F32: 1 | G32: 1 | H32: 1 | I32: 2 | K32: Затраты труда машинистов | L32: 608254 | N32: 1013 | O32: чел.час | P32: чел.час | Q32: 1 | Y32: 220.92 | AA32: 0 | AB32: 0 | AC32: 0 | AD32: 0 | AN32: 0 | AO32: 1 | AP32: 0 | AQ32: 0 | AR32: 0 | AT32: 220.92 | AV32: 2 | AW32: 2 | AX32: 23104663 | AY32: 1 | AZ32: 0 | BA32: 29 | BB32: 0 | BC32: 0 | BD32: 0 | BE32: 0 | BF32: 0 | BG32: 0 | BH32: 0 | BI32: 0 | BJ32: 0 | BK32: 0 | BL32: 0 | BM32: 0 | BN32: 0 | BO32: 0 | BP32: 0 | BQ32: 0 | BR32: 0 | BS32: 0 | BT32: 0 | BU32: 0 | BV32: 0 | BW32: 0 | CB32: 0
A33: =ROW(Source!A68) -> 68 | B33: 23104213 | C33: 23104640 | D33: 21598821 | E33: 1 | F33: 1 | G33: 1 | H33: 2 | I33: 021102 | J33: ФСЭМ (2009), сб.02,поз.1102 | K33: Краны на автомобильном ходу при работе на монтаже технологического оборудования 10 т | L33: 1368 | N33: 1011 | O33: маш.-ч | P33: маш.-ч | Q33: 1 | Y33: 1.2 | AA33: 0 | AB33: 134.65 | AC33: 13.5 | AD33: 0 | AN33: 0 | AO33: 1 | AP33: 0 | AQ33: 0 | AR33: 0 | AT33: 1.2 | AV33: 0 | AW33: 2 | AX33: 23104664 | AY33: 1 | AZ33: 0 | BA33: 30 | BB33: 0 | BC33: 0 | BD33: 0 | BE33: 0 | BF33: 0 | BG33: 0 | BH33: 0 | BI33: 0 | BJ33: 0 | BK33: 0 | BL33: 0 | BM33: 0 | BN33: 0 | BO33: 0 | BP33: 0 | BQ33: 0 | BR33: 0 | BS33: 0 | BT33: 0 | BU33: 0 | BV33: 0 | BW33: 0 | CB33: 0
A34: =ROW(Source!A68) -> 68 | B34: 23104213 | C34: 23104640 | D34: 21599243 | E34: 1 | F34: 1 | G34: 1 | H34: 2 | I34: 050301 | J34: ФСЭМ (2009), сб.05,поз.0301 | K34: Компрессоры самоходные с двигателем внутреннего сгорания давлением 800 кПа (8 ат), производительность 6,3 м3/мин | L34: 1368 | N34: 1011 | O34: маш.-ч | P34: маш.-ч | Q34: 1 | Y34: 8.12 | AA34: 0 | AB34: 100 | AC34: 10.06 | AD34: 0 | AN34: 0 | AO34: 1 | AP34: 0 | AQ34: 0 | AR34: 0 | AT34: 8.12 | AV34: 0 | AW34: 2 | AX34: 23104665 | AY34: 1 | AZ34: 0 | BA34: 31 | BB34: 0 | BC34: 0 | BD34: 0 | BE34: 0 | BF34: 0 | BG34: 0 | BH34: 0 | BI34: 0 | BJ34: 0 | BK34: 0 | BL34: 0 | BM34: 0 | BN34: 0 | BO34: 0 | BP34: 0 | BQ34: 0 | BR34: 0 | BS34: 0 | BT34: 0 | BU34: 0 | BV34: 0 | BW34: 0 | CB34: 0
A35: =ROW(Source!A68) -> 68 | B35: 23104213 | C35: 23104640 | D35: 21600228 | E35: 1 | F35: 1 | G35: 1 | H35: 2 | I35: 150102 | J35: ФСЭМ (2009), сб.15,поз.0102 | K35: Агрегаты наполнительно-опрессовочные до 300 м3/ч | L35: 1368 | N35: 1011 | O35: маш.-ч | P35: маш.-ч | Q35: 1 | Y35: 29 | AA35: 0 | AB35: 287.99 | AC35: 11.6 | AD35: 0 | AN35: 0 | AO35: 1 | AP35: 0 | AQ35: 0 | AR35: 0 | AT35: 29 | AV35: 0 | AW35: 2 | AX35: 23104666 | AY35: 1 | AZ35: 0 | BA35: 32 | BB35: 0 | BC35: 0 | BD35: 0 | BE35: 0 | BF35: 0 | BG35: 0 | BH35: 0 | BI35: 0 | BJ35: 0 | BK35: 0 | BL35: 0 | BM35: 0 | BN35: 0 | BO35: 0 | BP35: 0 | BQ35: 0 | BR35: 0 | BS35: 0 | BT35: 0 | BU35: 0 | BV35: 0 | BW35: 0 | CB35: 0
A36: =ROW(Source!A68) -> 68 | B36: 23104213 | C36: 23104640 | D36: 21600294 | E36: 1 | F36: 1 | G36: 1 | H36: 2 | I36: 151301 | J36: ФСЭМ (2009), сб.15,поз.1301 | K36: Станки трубогибочные для труб диаметром 200-500 мм | L36: 1368 | N36: 1011 | O36: маш.-ч | P36: маш.-ч | Q36: 1 | Y36: 63.8 | AA36: 0 | AB36: 91.83 | AC36: 10.06 | AD36: 0 | AN36: 0 | AO36: 1 | AP36: 0 | AQ36: 0 | AR36: 0 | AT36: 63.8 | AV36: 0 | AW36: 2 | AX36: 23104667 | AY36: 1 | AZ36: 0 | BA36: 33 | BB36: 0 | BC36: 0 | BD36: 0 | BE36: 0 | BF36: 0 | BG36: 0 | BH36: 0 | BI36: 0 | BJ36: 0 | BK36: 0 | BL36: 0 | BM36: 0 | BN36: 0 | BO36: 0 | BP36: 0 | BQ36: 0 | BR36: 0 | BS36: 0 | BT36: 0 | BU36: 0 | BV36: 0 | BW36: 0 | CB36: 0
A37: =ROW(Source!A68) -> 68 | B37: 23104213 | C37: 23104640 | D37: 21601240 | E37: 1 | F37: 1 | G37: 1 | H37: 2 | I37: 331005 | J37: ФСЭМ (2009), сб.33,поз.1005 | K37: Станок трубоотрезной | L37: 1368 | N37: 1011 | O37: маш.-ч | P37: маш.-ч | Q37: 1 | Y37: 55 | AA37: 0 | AB37: 52.61 | AC37: 11.6 | AD37: 0 | AN37: 0 | AO37: 1 | AP37: 0 | AQ37: 0 | AR37: 0 | AT37: 55 | AV37: 0 | AW37: 2 | AX37: 23104668 | AY37: 1 | AZ37: 0 | BA37: 34 | BB37: 0 | BC37: 0 | BD37: 0 | BE37: 0 | BF37: 0 | BG37: 0 | BH37: 0 | BI37: 0 | BJ37: 0 | BK37: 0 | BL37: 0 | BM37: 0 | BN37: 0 | BO37: 0 | BP37: 0 | BQ37: 0 | BR37: 0 | BS37: 0 | BT37: 0 | BU37: 0 | BV37: 0 | BW37: 0 | CB37: 0
A38: =ROW(Source!A68) -> 68 | B38: 23104213 | C38: 23104640 | D38: 21601242 | E38: 1 | F38: 1 | G38: 1 | H38: 2 | I38: 331006 | J38: ФСЭМ (2009), сб.33,поз.1006 | K38: Станок трубонарезной | L38: 1368 | N38: 1011 | O38: маш.-ч | P38: маш.-ч | Q38: 1 | Y38: 63.8 | AA38: 0 | AB38: 30.46 | AC38: 11.6 | AD38: 0 | AN38: 0 | AO38: 1 | AP38: 0 | AQ38: 0 | AR38: 0 | AT38: 63.8 | AV38: 0 | AW38: 2 | AX38: 23104669 | AY38: 1 | AZ38: 0 | BA38: 35 | BB38: 0 | BC38: 0 | BD38: 0 | BE38: 0 | BF38: 0 | BG38: 0 | BH38: 0 | BI38: 0 | BJ38: 0 | BK38: 0 | BL38: 0 | BM38: 0 | BN38: 0 | BO38: 0 | BP38: 0 | BQ38: 0 | BR38: 0 | BS38: 0 | BT38: 0 | BU38: 0 | BV38: 0 | BW38: 0 | CB38: 0
A39: =ROW(Source!A68) -> 68 | B39: 23104213 | C39: 23104640 | D39: 21601609 | E39: 1 | F39: 1 | G39: 1 | H39: 2 | I39: 400001 | J39: ФСЭМ (2009), сб.40,поз.0001 | K39: Автомобили бортовые, грузоподъемность до 5 т | L39: 1368 | N39: 1011 | O39: маш.-ч | P39: маш.-ч | Q39: 1 | Y39: 1.2 | AA39: 0 | AB39: 87.17 | AC39: 11.6 | AD39: 0 | AN39: 0 | AO39: 1 | AP39: 0 | AQ39: 0 | AR39: 0 | AT39: 1.2 | AV39: 0 | AW39: 2 | AX39: 23104670 | AY39: 1 | AZ39: 0 | BA39: 36 | BB39: 0 | BC39: 0 | BD39: 0 | BE39: 0 | BF39: 0 | BG39: 0 | BH39: 0 | BI39: 0 | BJ39: 0 | BK39: 0 | BL39: 0 | BM39: 0 | BN39: 0 | BO39: 0 | BP39: 0 | BQ39: 0 | BR39: 0 | BS39: 0 | BT39: 0 | BU39: 0 | BV39: 0 | BW39: 0 | CB39: 0
A40: =ROW(Source!A68) -> 68 | B40: 23104213 | C40: 23104640 | D40: 21538443 | E40: 1 | F40: 1 | G40: 1 | H40: 3 | I40: 101-0091 | J40: ФССЦ (2010) ч.1, раздел01, поз.0091 | K40: Болты с шестигранной головкой диаметром резьбы 12 (14) мм | L40: 1348 | N40: 1009 | O40: т | P40: т | Q40: 1000 | Y40: 0.00454 | AA40: 12606 | AB40: 0 | AC40: 0 | AD40: 0 | AN40: 0 | AO40: 1 | AP40: 0 | AQ40: 0 | AR40: 0 | AT40: 0.00454 | AV40: 0 | AW40: 2 | AX40: 23104671 | AY40: 1 | AZ40: 0 | BA40: 37 | BB40: 0 | BC40: 0 | BD40: 0 | BE40: 0 | BF40: 0 | BG40: 0 | BH40: 0 | BI40: 0 | BJ40: 0 | BK40: 0 | BL40: 0 | BM40: 0 | BN40: 0 | BO40: 0 | BP40: 0 | BQ40: 0 | BR40: 0 | BS40: 0 | BT40: 0 | BU40: 0 | BV40: 0 | BW40: 0 | CB40: 0
...

Sheet EtalonRes
A1: =ROW(Source!A28) -> 28 | B1: 23108091 | C1: 23108071 | D1: 9415385 | E1: 1 | F1: 1 | G1: 1 | H1: 1 | I1: 1-1038 | K1: Рабочий строитель среднего разряда 3,8 | L1: 1369 | N1: 1013 | O1: чел.-ч | P1: чел.-ч | Q1: 1 | X1: 17.95 | Y1: 0 | Z1: 0 | AA1: 0 | AB1: 9.4 | AC1: 0 | AD1: 1 | AE1: 1 | AG1: 17.95 | AH1: 2 | AI1: 23108072 | AJ1: 1 | AK1: 0 | AL1: 0 | AM1: 0 | AN1: 0 | AO1: 0 | AP1: 0 | AQ1: 0 | AR1: 0
A2: =ROW(Source!A28) -> 28 | B2: 23108092 | C2: 23108071 | D2: 121548 | E2: 1 | F2: 1 | G2: 1 | H2: 1 | I2: 2 | K2: Затраты труда машинистов | L2: 608254 | N2: 1013 | O2: чел.час | P2: чел.час | Q2: 1 | X2: 5.01 | Y2: 0 | Z2: 0 | AA2: 0 | AB2: 0 | AC2: 0 | AD2: 1 | AE2: 2 | AG2: 5.01 | AH2: 2 | AI2: 23108073 | AJ2: 2 | AK2: 0 | AL2: 0 | AM2: 0 | AN2: 0 | AO2: 0 | AP2: 0 | AQ2: 0 | AR2: 0
A3: =ROW(Source!A28) -> 28 | B3: 23108093 | C3: 23108071 | D3: 21598847 | E3: 1 | F3: 1 | G3: 1 | H3: 2 | I3: 021141 | J3: ФСЭМ (2009), сб.02,поз.1141 | K3: Краны на автомобильном ходу при работе на других видах строительства 10 т | L3: 1368 | N3: 1011 | O3: маш.-ч | P3: маш.-ч | Q3: 1 | X3: 1.26 | Y3: 0 | Z3: 111.99 | AA3: 13.5 | AB3: 0 | AC3: 0 | AD3: 1 | AE3: 0 | AG3: 1.26 | AH3: 2 | AI3: 23108074 | AJ3: 3 | AK3: 0 | AL3: 0 | AM3: 0 | AN3: 0 | AO3: 0 | AP3: 0 | AQ3: 0 | AR3: 0
A4: =ROW(Source!A28) -> 28 | B4: 23108094 | C4: 23108071 | D4: 21599015 | E4: 1 | F4: 1 | G4: 1 | H4: 2 | I4: 030402 | J4: ФСЭМ (2009), сб.03,поз.0402 | K4: Лебедки электрические тяговым усилием до 12,26 кН (1,25 т) | L4: 1368 | N4: 1011 | O4: маш.-ч | P4: маш.-ч | Q4: 1 | X4: 0.34 | Y4: 0 | Z4: 3.28 | AA4: 0 | AB4: 0 | AC4: 0 | AD4: 1 | AE4: 0 | AG4: 0.34 | AH4: 2 | AI4: 23108075 | AJ4: 4 | AK4: 0 | AL4: 0 | AM4: 0 | AN4: 0 | AO4: 0 | AP4: 0 | AQ4: 0 | AR4: 0
A5: =ROW(Source!A28) -> 28 | B5: 23108095 | C5: 23108071 | D5: 21599181 | E5: 1 | F5: 1 | G5: 1 | H5: 2 | I5: 040202 | J5: ФСЭМ (2009), сб.04,поз.0202 | K5: Агрегаты сварочные передвижные с номинальным сварочным током 250-400 А с дизельным двигателем | L5: 1368 | N5: 1011 | O5: маш.-ч | P5: маш.-ч | Q5: 1 | X5: 1.07 | Y5: 0 | Z5: 14 | AA5: 0 | AB5: 0 | AC5: 0 | AD5: 1 | AE5: 0 | AG5: 1.07 | AH5: 2 | AI5: 23108076 | AJ5: 5 | AK5: 0 | AL5: 0 | AM5: 0 | AN5: 0 | AO5: 0 | AP5: 0 | AQ5: 0 | AR5: 0
A6: =ROW(Source!A28) -> 28 | B6: 23108096 | C6: 23108071 | D6: 21599190 | E6: 1 | F6: 1 | G6: 1 | H6: 2 | I6: 040504 | J6: ФСЭМ (2009), сб.04,поз.0504 | K6: Аппарат для газовой сварки и резки | L6: 1368 | N6: 1011 | O6: маш.-ч | P6: маш.-ч | Q6: 1 | X6: 0.31 | Y6: 0 | Z6: 1.2 | AA6: 0 | AB6: 0 | AC6: 0 | AD6: 1 | AE6: 0 | AG6: 0.31 | AH6: 2 | AI6: 23108077 | AJ6: 6 | AK6: 0 | AL6: 0 | AM6: 0 | AN6: 0 | AO6: 0 | AP6: 0 | AQ6: 0 | AR6: 0
A7: =ROW(Source!A28) -> 28 | B7: 23108097 | C7: 23108071 | D7: 21600149 | E7: 1 | F7: 1 | G7: 1 | H7: 2 | I7: 140110 | J7: ФСЭМ (2009), сб.14,поз.0110 | K7: Агрегаты копровые без дизель-молота на базе трактора 80 кВт (108 л.с.) | L7: 1368 | N7: 1011 | O7: маш.-ч | P7: маш.-ч | Q7: 1 | X7: 3.75 | Y7: 0 | Z7: 239.25 | AA7: 16.44 | AB7: 0 | AC7: 0 | AD7: 1 | AE7: 0 | AG7: 3.75 | AH7: 2 | AI7: 23108078 | AJ7: 7 | AK7: 0 | AL7: 0 | AM7: 0 | AN7: 0 | AO7: 0 | AP7: 0 | AQ7: 0 | AR7: 0
A8: =ROW(Source!A28) -> 28 | B8: 23108098 | C8: 23108071 | D8: 21600166 | E8: 1 | F8: 1 | G8: 1 | H8: 2 | I8: 140502 | J8: ФСЭМ (2009), сб.14,поз.0502 | K8: Дизель-молоты 1,25 т | L8: 1368 | N8: 1011 | O8: маш.-ч | P8: маш.-ч | Q8: 1 | X8: 3.75 | Y8: 0 | Z8: 40.41 | AA8: 0 | AB8: 0 | AC8: 0 | AD8: 1 | AE8: 0 | AG8: 3.75 | AH8: 2 | AI8: 23108079 | AJ8: 8 | AK8: 0 | AL8: 0 | AM8: 0 | AN8: 0 | AO8: 0 | AP8: 0 | AQ8: 0 | AR8: 0
A9: =ROW(Source!A28) -> 28 | B9: 23108099 | C9: 23108071 | D9: 21601198 | E9: 1 | F9: 1 | G9: 1 | H9: 2 | I9: 330206 | J9: ФСЭМ (2009), сб.33,поз.0206 | K9: Дрели электрические | L9: 1368 | N9: 1011 | O9: маш.-ч | P9: маш.-ч | Q9: 1 | X9: 0.14 | Y9: 0 | Z9: 1.95 | AA9: 0 | AB9: 0 | AC9: 0 | AD9: 1 | AE9: 0 | AG9: 0.14 | AH9: 2 | AI9: 23108080 | AJ9: 9 | AK9: 0 | AL9: 0 | AM9: 0 | AN9: 0 | AO9: 0 | AP9: 0 | AQ9: 0 | AR9: 0
A10: =ROW(Source!A28) -> 28 | B10: 23108100 | C10: 23108071 | D10: 21601639 | E10: 1 | F10: 1 | G10: 1 | H10: 2 | I10: 400101 | J10: ФСЭМ (2009), сб.40,поз.0101 | K10: Тягачи седельные, грузоподъемность 12 т | L10: 1368 | N10: 1011 | O10: маш.-ч | P10: маш.-ч | Q10: 1 | X10: 0.15 | Y10: 0 | Z10: 127.82 | AA10: 13.5 | AB10: 0 | AC10: 0 | AD10: 1 | AE10: 0 | AG10: 0.15 | AH10: 2 | AI10: 23108081 | AJ10: 10 | AK10: 0 | AL10: 0 | AM10: 0 | AN10: 0 | AO10: 0 | AP10: 0 | AQ10: 0 | AR10: 0
A11: =ROW(Source!A28) -> 28 | B11: 23108101 | C11: 23108071 | D11: 21601645 | E11: 1 | F11: 1 | G11: 1 | H11: 2 | I11: 400111 | J11: ФСЭМ (2009), сб.40,поз.0111 | K11: Полуприцепы общего назначения, грузоподъемность 12 т | L11: 1368 | N11: 1011 | O11: маш.-ч | P11: маш.-ч | Q11: 1 | X11: 0.15 | Y11: 0 | Z11: 12 | AA11: 0 | AB11: 0 | AC11: 0 | AD11: 1 | AE11: 0 | AG11: 0.15 | AH11: 2 | AI11: 23108082 | AJ11: 11 | AK11: 0 | AL11: 0 | AM11: 0 | AN11: 0 | AO11: 0 | AP11: 0 | AQ11: 0 | AR11: 0
A12: =ROW(Source!A28) -> 28 | B12: 23108102 | C12: 23108071 | D12: 21538874 | E12: 1 | F12: 1 | G12: 1 | H12: 3 | I12: 101-0324 | J12: ФССЦ (2010) ч.1, раздел01, поз.0324 | K12: Кислород технический газообразный | L12: 1339 | N12: 1007 | O12: м3 | P12: м3 | Q12: 1 | X12: 0.3 | Y12: 6.22 | Z12: 0 | AA12: 0 | AB12: 0 | AC12: 0 | AD12: 1 | AE12: 0 | AG12: 0.3 | AH12: 2 | AI12: 23108083 | AJ12: 12 | AK12: 0 | AL12: 0 | AM12: 0 | AN12: 0 | AO12: 0 | AP12: 0 | AQ12: 0 | AR12: 0
A13: =ROW(Source!A28) -> 28 | B13: 23108103 | C13: 23108071 | D13: 21538992 | E13: 1 | F13: 1 | G13: 1 | H13: 3 | I13: 101-0388 | J13: ФССЦ (2010) ч.1, раздел01, поз.0388 | K13: Краски масляные земляные марки МА-0115 мумия, сурик железный | L13: 1348 | N13: 1009 | O13: т | P13: т | Q13: 1000 | X13: 4e-05 | Y13: 15119 | Z13: 0 | AA13: 0 | AB13: 0 | AC13: 0 | AD13: 1 | AE13: 0 | AG13: 4e-05 | AH13: 2 | AI13: 23108084 | AJ13: 13 | AK13: 0 | AL13: 0 | AM13: 0 | AN13: 0 | AO13: 0 | AP13: 0 | AQ13: 0 | AR13: 0
A14: =ROW(Source!A28) -> 28 | B14: 23108104 | C14: 23108071 | D14: 21539742 | E14: 1 | F14: 1 | G14: 1 | H14: 3 | I14: 101-0782 | J14: ФССЦ (2010) ч.1, раздел01, поз.0782 | K14: Поковки из квадратных заготовок, масса 1,8 кг | L14: 1348 | N14: 1009 | O14: т | P14: т | Q14: 1000 | X14: 0.0006 | Y14: 5989 | Z14: 0 | AA14: 0 | AB14: 0 | AC14: 0 | AD14: 1 | AE14: 0 | AG14: 0.0006 | AH14: 2 | AI14: 23108085 | AJ14: 14 | AK14: 0 | AL14: 0 | AM14: 0 | AN14: 0 | AO14: 0 | AP14: 0 | AQ14: 0 | AR14: 0
A15: =ROW(Source!A28) -> 28 | B15: 23108105 | C15: 23108071 | D15: 21540421 | E15: 1 | F15: 1 | G15: 1 | H15: 3 | I15: 101-1145 | J15: ФССЦ (2010) ч.1, раздел01, поз.1145 | K15: Профили фасонные горячекатаные для шпунтовых свай Л4 и Л5 массой от 50 до 100 кг, сталь марки 16ХГ | L15: 1348 | N15: 1009 | O15: т | P15: т | Q15: 1000 | X15: 1.01 | Y15: 6789.36 | Z15: 0 | AA15: 0 | AB15: 0 | AC15: 0 | AD15: 1 | AE15: 0 | AG15: 1.01 | AH15: 2 | AI15: 23108086 | AJ15: 15 | AK15: 0 | AL15: 0 | AM15: 0 | AN15: 0 | AO15: 0 | AP15: 0 | AQ15: 0 | AR15: 0
A16: =ROW(Source!A28) -> 28 | B16: 23108106 | C16: 23108071 | D16: 21540934 | E16: 1 | F16: 1 | G16: 1 | H16: 3 | I16: 101-1522 | J16: ФССЦ (2010) ч.1, раздел01, поз.1522 | K16: Электроды диаметром 5 мм Э42А | L16: 1348 | N16: 1009 | O16: т | P16: т | Q16: 1000 | X16: 0.00193 | Y16: 10362 | Z16: 0 | AA16: 0 | AB16: 0 | AC16: 0 | AD16: 1 | AE16: 0 | AG16: 0.00193 | AH16: 2 | AI16: 23108087 | AJ16: 16 | AK16: 0 | AL16: 0 | AM16: 0 | AN16: 0 | AO16: 0 | AP16: 0 | AQ16: 0 | AR16: 0
A17: =ROW(Source!A28) -> 28 | B17: 23108107 | C17: 23108071 | D17: 21541053 | E17: 1 | F17: 1 | G17: 1 | H17: 3 | I17: 101-1602 | J17: ФССЦ (2010) ч.1, раздел01, поз.1602 | K17: Ацетилен газообразный технический | L17: 1339 | N17: 1007 | O17: м3 | P17: м3 | Q17: 1 | X17: 0.06 | Y17: 38.51 | Z17: 0 | AA17: 0 | AB17: 0 | AC17: 0 | AD17: 1 | AE17: 0 | AG17: 0.06 | AH17: 2 | AI17: 23108088 | AJ17: 17 | AK17: 0 | AL17: 0 | AM17: 0 | AN17: 0 | AO17: 0 | AP17: 0 | AQ17: 0 | AR17: 0
A18: =ROW(Source!A28) -> 28 | B18: 23108108 | C18: 23108071 | D18: 21548987 | E18: 1 | F18: 1 | G18: 1 | H18: 3 | I18: 102-0008 | J18: ФССЦ (2010) ч.1, раздел02, поз.0008 | K18: Лесоматериалы круглые хвойных пород для строительства диаметром 14-24 см, длиной 3-6,5 м | L18: 1339 | N18: 1007 | O18: м3 | P18: м3 | Q18: 1 | X18: 0.006 | Y18: 558.33 | Z18: 0 | AA18: 0 | AB18: 0 | AC18: 0 | AD18: 1 | AE18: 0 | AG18: 0.006 | AH18: 2 | AI18: 23108089 | AJ18: 18 | AK18: 0 | AL18: 0 | AM18: 0 | AN18: 0 | AO18: 0 | AP18: 0 | AQ18: 0 | AR18: 0
A19: =ROW(Source!A28) -> 28 | B19: 23108109 | C19: 23108071 | D19: 21551773 | E19: 1 | F19: 1 | G19: 1 | H19: 3 | I19: 201-0774 | J19: ФССЦ (2010) ч.2, раздел01, поз.0774 | K19: Конструктивные элементы вспомогательного назначения массой не более 50 кг с преобладанием толстолистовой стали собираемые из двух и более деталей, с отверстиями и без отверстий, соединяемые на сварке | L19: 1348 | N19: 1009 | O19: т | P19: т | Q19: 1000 | X19: 0.0004 | Y19: 11255 | Z19: 0 | AA19: 0 | AB19: 0 | AC19: 0 | AD19: 1 | AE19: 0 | AG19: 0.0004 | AH19: 2 | AI19: 23108090 | AJ19: 19 | AK19: 0 | AL19: 0 | AM19: 0 | AN19: 0 | AO19: 0 | AP19: 0 | AQ19: 0 | AR19: 0
A20: =ROW(Source!A32) -> 32 | B20: 23108142 | C20: 23108134 | D20: 9416110 | E20: 1 | F20: 1 | G20: 1 | H20: 1 | I20: 1-1036 | K20: Рабочий строитель среднего разряда 3,6 | L20: 1369 | N20: 1013 | O20: чел.-ч | P20: чел.-ч | Q20: 1 | X20: 0.64 | Y20: 0 | Z20: 0 | AA20: 0 | AB20: 9.18 | AC20: 0 | AD20: 1 | AE20: 1 | AG20: 0.64 | AH20: 2 | AI20: 23108135 | AJ20: 23 | AK20: 0 | AL20: 0 | AM20: 0 | AN20: 0 | AO20: 0 | AP20: 0 | AQ20: 0 | AR20: 0
A21: =ROW(Source!A32) -> 32 | B21: 23108143 | C21: 23108134 | D21: 121548 | E21: 1 | F21: 1 | G21: 1 | H21: 1 | I21: 2 | K21: Затраты труда машинистов | L21: 608254 | N21: 1013 | O21: чел.час | P21: чел.час | Q21: 1 | X21: 0.35 | Y21: 0 | Z21: 0 | AA21: 0 | AB21: 0 | AC21: 0 | AD21: 1 | AE21: 2 | AG21: 0.35 | AH21: 2 | AI21: 23108136 | AJ21: 24 | AK21: 0 | AL21: 0 | AM21: 0 | AN21: 0 | AO21: 0 | AP21: 0 | AQ21: 0 | AR21: 0
A22: =ROW(Source!A32) -> 32 | B22: 23108144 | C22: 23108134 | D22: 21598883 | E22: 1 | F22: 1 | G22: 1 | H22: 2 | I22: 021243 | J22: ФСЭМ (2009), сб.02,поз.1243 | K22: Краны на гусеничном ходу при работе на других видах строительства до 16 т | L22: 1368 | N22: 1011 | O22: маш.-ч | P22: маш.-ч | Q22: 1 | X22: 0.35 | Y22: 0 | Z22: 96.89 | AA22: 13.5 | AB22: 0 | AC22: 0 | AD22: 1 | AE22: 0 | AG22: 0.35 | AH22: 2 | AI22: 23108137 | AJ22: 25 | AK22: 0 | AL22: 0 | AM22: 0 | AN22: 0 | AO22: 0 | AP22: 0 | AQ22: 0 | AR22: 0
A23: =ROW(Source!A32) -> 32 | B23: 23108145 | C23: 23108134 | D23: 21599794 | E23: 1 | F23: 1 | G23: 1 | H23: 2 | I23: 111100 | J23: ФСЭМ (2009), сб.11,поз.1100 | K23: Вибратор глубинный | L23: 1368 | N23: 1011 | O23: маш.-ч | P23: маш.-ч | Q23: 1 | X23: 0.24 | Y23: 0 | Z23: 1.9 | AA23: 0 | AB23: 0 | AC23: 0 | AD23: 1 | AE23: 0 | AG23: 0.24 | AH23: 2 | AI23: 23108138 | AJ23: 26 | AK23: 0 | AL23: 0 | AM23: 0 | AN23: 0 | AO23: 0 | AP23: 0 | AQ23: 0 | AR23: 0
A24: =ROW(Source!A32) -> 32 | B24: 23108146 | C24: 23108134 | D24: 21601024 | E24: 1 | F24: 1 | G24: 1 | H24: 2 | I24: 270301 | J24: ФСЭМ (2009), сб.27,поз.0301 | K24: Насосы грязевые, подача 23,4-65,3 м3/ч, давление нагнетания 15,7-5,88 МПа (160-60 кгс/см2) | L24: 1368 | N24: 1011 | O24: маш.-ч | P24: маш.-ч | Q24: 1 | X24: 0.21 | Y24: 0 | Z24: 32.71 | AA24: 0 | AB24: 0 | AC24: 0 | AD24: 1 | AE24: 0 | AG24: 0.21 | AH24: 2 | AI24: 23108139 | AJ24: 27 | AK24: 0 | AL24: 0 | AM24: 0 | AN24: 0 | AO24: 0 | AP24: 0 | AQ24: 0 | AR24: 0
A25: =ROW(Source!A32) -> 32 | B25: 23108147 | C25: 23108134 | D25: 21601609 | E25: 1 | F25: 1 | G25: 1 | H25: 2 | I25: 400001 | J25: ФСЭМ (2009), сб.40,поз.0001 | K25: Автомобили бортовые, грузоподъемность до 5 т | L25: 1368 | N25: 1011 | O25: маш.-ч | P25: маш.-ч | Q25: 1 | X25: 0.07 | Y25: 0 | Z25: 87.17 | AA25: 11.6 | AB25: 0 | AC25: 0 | AD25: 1 | AE25: 0 | AG25: 0.07 | AH25: 2 | AI25: 23108140 | AJ25: 28 | AK25: 0 | AL25: 0 | AM25: 0 | AN25: 0 | AO25: 0 | AP25: 0 | AQ25: 0 | AR25: 0
A26: =ROW(Source!A32) -> 32 | B26: 23108148 | C26: 23108134 | D26: 21611041 | E26: 1 | F26: 1 | G26: 1 | H26: 3 | I26: 103-0576 | J26: ФССЦ (2010) ч.1, раздел03, поз.0576 | K26: Трубы бесшовные обсадные из стали группы Д и Б с короткой треугольной резьбой, наружным диаметром 377 мм, толщина стенки 12 мм | L26: 1301 | N26: 1003 | O26: м | P26: м | Q26: 1 | X26: 0.15 | Y26: 1001.3 | Z26: 0 | AA26: 0 | AB26: 0 | AC26: 0 | AD26: 1 | AE26: 0 | AG26: 0.15 | AH26: 2 | AI26: 23108141 | AJ26: 29 | AK26: 0 | AL26: 0 | AM26: 0 | AN26: 0 | AO26: 0 | AP26: 0 | AQ26: 0 | AR26: 0
A27: =ROW(Source!A32) -> 32 | B27: 23108149 | C27: 23108134 | D27: 21573984 | E27: 1 | F27: 1 | G27: 1 | H27: 3 | I27: 401-9021 | J27: ФССЦ (2010) ч.4, раздел01, поз.9021 | K27: Бетон | L27: 1339 | N27: 1007 | O27: м3 | P27: м3 | Q27: 1 | X27: 0 | Y27: 0 | Z27: 0 | AA27: 0 | AB27: 0 | AC27: 1 | AD27: 0 | AE27: 0 | AG27: 0 | AH27: 3 | AI27: -1 | AK27: 0 | AL27: 0 | AM27: 0 | AN27: 0 | AO27: 0 | AP27: 0 | AQ27: 0 | AR27: 0
A28: =ROW(Source!A68) -> 68 | B28: 23104662 | C28: 23104640 | D28: 9430710 | E28: 1 | F28: 1 | G28: 1 | H28: 1 | I28: 1-2040 | K28: Рабочий монтажник среднего разряда 4 | L28: 1369 | N28: 1013 | O28: чел.-ч | P28: чел.-ч | Q28: 1 | X28: 443 | Y28: 0 | Z28: 0 | AA28: 0 | AB28: 9.62 | AC28: 0 | AD28: 1 | AE28: 1 | AG28: 443 | AH28: 2 | AI28: 23104641 | AJ28: 31 | AK28: 0 | AL28: 0 | AM28: 0 | AN28: 0 | AO28: 0 | AP28: 0 | AQ28: 0 | AR28: 0
A29: =ROW(Source!A68) -> 68 | B29: 23104663 | C29: 23104640 | D29: 121548 | E29: 1 | F29: 1 | G29: 1 | H29: 1 | I29: 2 | K29: Затраты труда машинистов | L29: 608254 | N29: 1013 | O29: чел.час | P29: чел.час | Q29: 1 | X29: 220.92 | Y29: 0 | Z29: 0 | AA29: 0 | AB29: 0 | AC29: 0 | AD29: 1 | AE29: 2 | AG29: 220.92 | AH29: 2 | AI29: 23104642 | AJ29: 32 | AK29: 0 | AL29: 0 | AM29: 0 | AN29: 0 | AO29: 0 | AP29: 0 | AQ29: 0 | AR29: 0
A30: =ROW(Source!A68) -> 68 | B30: 23104664 | C30: 23104640 | D30: 21598821 | E30: 1 | F30: 1 | G30: 1 | H30: 2 | I30: 021102 | J30: ФСЭМ (2009), сб.02,поз.1102 | K30: Краны на автомобильном ходу при работе на монтаже технологического оборудования 10 т | L30: 1368 | N30: 1011 | O30: маш.-ч | P30: маш.-ч | Q30: 1 | X30: 1.2 | Y30: 0 | Z30: 134.65 | AA30: 13.5 | AB30: 0 | AC30: 0 | AD30: 1 | AE30: 0 | AG30: 1.2 | AH30: 2 | AI30: 23104643 | AJ30: 33 | AK30: 0 | AL30: 0 | AM30: 0 | AN30: 0 | AO30: 0 | AP30: 0 | AQ30: 0 | AR30: 0
A31: =ROW(Source!A68) -> 68 | B31: 23104665 | C31: 23104640 | D31: 21599243 | E31: 1 | F31: 1 | G31: 1 | H31: 2 | I31: 050301 | J31: ФСЭМ (2009), сб.05,поз.0301 | K31: Компрессоры самоходные с двигателем внутреннего сгорания давлением 800 кПа (8 ат), производительность 6,3 м3/мин | L31: 1368 | N31: 1011 | O31: маш.-ч | P31: маш.-ч | Q31: 1 | X31: 8.12 | Y31: 0 | Z31: 100 | AA31: 10.06 | AB31: 0 | AC31: 0 | AD31: 1 | AE31: 0 | AG31: 8.12 | AH31: 2 | AI31: 23104644 | AJ31: 34 | AK31: 0 | AL31: 0 | AM31: 0 | AN31: 0 | AO31: 0 | AP31: 0 | AQ31: 0 | AR31: 0
A32: =ROW(Source!A68) -> 68 | B32: 23104666 | C32: 23104640 | D32: 21600228 | E32: 1 | F32: 1 | G32: 1 | H32: 2 | I32: 150102 | J32: ФСЭМ (2009), сб.15,поз.0102 | K32: Агрегаты наполнительно-опрессовочные до 300 м3/ч | L32: 1368 | N32: 1011 | O32: маш.-ч | P32: маш.-ч | Q32: 1 | X32: 29 | Y32: 0 | Z32: 287.99 | AA32: 11.6 | AB32: 0 | AC32: 0 | AD32: 1 | AE32: 0 | AG32: 29 | AH32: 2 | AI32: 23104645 | AJ32: 35 | AK32: 0 | AL32: 0 | AM32: 0 | AN32: 0 | AO32: 0 | AP32: 0 | AQ32: 0 | AR32: 0
A33: =ROW(Source!A68) -> 68 | B33: 23104667 | C33: 23104640 | D33: 21600294 | E33: 1 | F33: 1 | G33: 1 | H33: 2 | I33: 151301 | J33: ФСЭМ (2009), сб.15,поз.1301 | K33: Станки трубогибочные для труб диаметром 200-500 мм | L33: 1368 | N33: 1011 | O33: маш.-ч | P33: маш.-ч | Q33: 1 | X33: 63.8 | Y33: 0 | Z33: 91.83 | AA33: 10.06 | AB33: 0 | AC33: 0 | AD33: 1 | AE33: 0 | AG33: 63.8 | AH33: 2 | AI33: 23104646 | AJ33: 36 | AK33: 0 | AL33: 0 | AM33: 0 | AN33: 0 | AO33: 0 | AP33: 0 | AQ33: 0 | AR33: 0
A34: =ROW(Source!A68) -> 68 | B34: 23104668 | C34: 23104640 | D34: 21601240 | E34: 1 | F34: 1 | G34: 1 | H34: 2 | I34: 331005 | J34: ФСЭМ (2009), сб.33,поз.1005 | K34: Станок трубоотрезной | L34: 1368 | N34: 1011 | O34: маш.-ч | P34: маш.-ч | Q34: 1 | X34: 55 | Y34: 0 | Z34: 52.61 | AA34: 11.6 | AB34: 0 | AC34: 0 | AD34: 1 | AE34: 0 | AG34: 55 | AH34: 2 | AI34: 23104647 | AJ34: 37 | AK34: 0 | AL34: 0 | AM34: 0 | AN34: 0 | AO34: 0 | AP34: 0 | AQ34: 0 | AR34: 0
A35: =ROW(Source!A68) -> 68 | B35: 23104669 | C35: 23104640 | D35: 21601242 | E35: 1 | F35: 1 | G35: 1 | H35: 2 | I35: 331006 | J35: ФСЭМ (2009), сб.33,поз.1006 | K35: Станок трубонарезной | L35: 1368 | N35: 1011 | O35: маш.-ч | P35: маш.-ч | Q35: 1 | X35: 63.8 | Y35: 0 | Z35: 30.46 | AA35: 11.6 | AB35: 0 | AC35: 0 | AD35: 1 | AE35: 0 | AG35: 63.8 | AH35: 2 | AI35: 23104648 | AJ35: 38 | AK35: 0 | AL35: 0 | AM35: 0 | AN35: 0 | AO35: 0 | AP35: 0 | AQ35: 0 | AR35: 0
A36: =ROW(Source!A68) -> 68 | B36: 23104670 | C36: 23104640 | D36: 21601609 | E36: 1 | F36: 1 | G36: 1 | H36: 2 | I36: 400001 | J36: ФСЭМ (2009), сб.40,поз.0001 | K36: Автомобили бортовые, грузоподъемность до 5 т | L36: 1368 | N36: 1011 | O36: маш.-ч | P36: маш.-ч | Q36: 1 | X36: 1.2 | Y36: 0 | Z36: 87.17 | AA36: 11.6 | AB36: 0 | AC36: 0 | AD36: 1 | AE36: 0 | AG36: 1.2 | AH36: 2 | AI36: 23104649 | AJ36: 39 | AK36: 0 | AL36: 0 | AM36: 0 | AN36: 0 | AO36: 0 | AP36: 0 | AQ36: 0 | AR36: 0
A37: =ROW(Source!A68) -> 68 | B37: 23104671 | C37: 23104640 | D37: 21538443 | E37: 1 | F37: 1 | G37: 1 | H37: 3 | I37: 101-0091 | J37: ФССЦ (2010) ч.1, раздел01, поз.0091 | K37: Болты с шестигранной головкой диаметром резьбы 12 (14) мм | L37: 1348 | N37: 1009 | O37: т | P37: т | Q37: 1000 | X37: 0.00454 | Y37: 12606 | Z37: 0 | AA37: 0 | AB37: 0 | AC37: 0 | AD37: 1 | AE37: 0 | AG37: 0.00454 | AH37: 2 | AI37: 23104650 | AJ37: 40 | AK37: 0 | AL37: 0 | AM37: 0 | AN37: 0 | AO37: 0 | AP37: 0 | AQ37: 0 | AR37: 0
A38: =ROW(Source!A68) -> 68 | B38: 23104672 | C38: 23104640 | D38: 21538874 | E38: 1 | F38: 1 | G38: 1 | H38: 3 | I38: 101-0324 | J38: ФССЦ (2010) ч.1, раздел01, поз.0324 | K38: Кислород технический газообразный | L38: 1339 | N38: 1007 | O38: м3 | P38: м3 | Q38: 1 | X38: 2.42 | Y38: 6.22 | Z38: 0 | AA38: 0 | AB38: 0 | AC38: 0 | AD38: 1 | AE38: 0 | AG38: 2.42 | AH38: 2 | AI38: 23104651 | AJ38: 41 | AK38: 0 | AL38: 0 | AM38: 0 | AN38: 0 | AO38: 0 | AP38: 0 | AQ38: 0 | AR38: 0
A39: =ROW(Source!A68) -> 68 | B39: 23104673 | C39: 23104640 | D39: 21539802 | E39: 1 | F39: 1 | G39: 1 | H39: 3 | I39: 101-0816 | J39: ФССЦ (2010) ч.1, раздел01, поз.0816 | K39: Проволока светлая диаметром 1,1 мм | L39: 1348 | N39: 1009 | O39: т | P39: т | Q39: 1000 | X39: 0.00012 | Y39: 10200 | Z39: 0 | AA39: 0 | AB39: 0 | AC39: 0 | AD39: 1 | AE39: 0 | AG39: 0.00012 | AH39: 2 | AI39: 23104652 | AJ39: 42 | AK39: 0 | AL39: 0 | AM39: 0 | AN39: 0 | AO39: 0 | AP39: 0 | AQ39: 0 | AR39: 0
A40: =ROW(Source!A68) -> 68 | B40: 23104674 | C40: 23104640 | D40: 21541644 | E40: 1 | F40: 1 | G40: 1 | H40: 3 | I40: 101-2041 | J40: ФССЦ (2010) ч.1, раздел01, поз.2041 | K40: Шайбы оцинкованные, диаметр 6 мм | L40: 1346 | N40: 1009 | O40: кг | P40: кг | Q40: 1 | X40: 0.62 | Y40: 27.72 | Z40: 0 | AA40: 0 | AB40: 0 | AC40: 0 | AD40: 1 | AE40: 0 | AG40: 0.62 | AH40: 2 | AI40: 23104653 | AJ40: 43 | AK40: 0 | AL40: 0 | AM40: 0 | AN40: 0 | AO40: 0 | AP40: 0 | AQ40: 0 | AR40: 0
...
