Workbook
Name Constr: '1'!#REF!
Name Constr: '2'!#REF!
Name FOT: '1'!#REF!
Name FOT: '2'!#REF!
Name Ind: '1'!#REF!
Name Ind: '2'!#REF!
Name Obj: '1'!#REF!
Name Obj: '2'!#REF!
Name Obosn: '1'!#REF!
Name Obosn: '2'!#REF!
Name SmPr: '1'!#REF!
Name SmPr: '2'!#REF!
Name аааааппппппрррппппппп: #REF!
Name аараооооооооооооо: #REF!
Name автом: #REF!
Name алшрльоплварл: #REF!
Name аолвлддддддддддддддддввввввввв: #REF!
Name апарв: #REF!
Name апрлдджаоырыфрпопрлпрлпрлп: #REF!
Name арлггаджаш: #REF!
Name ароррбллтблпроорапииас: #REF!
Name арррррблллпдрлдддддддддд: #REF!
Name варпаааааааааа: #REF!
Name ввпьььььлднд: #REF!
Name вед: #REF!
Name вертикальная: #REF!
Name вертикплан: #REF!
Name волен: #REF!
Name вп: #REF!
Name впырпфдыпл: #REF!
Name впьглорьтитттттттттт: #REF!
Name всввввввввввввввввввввввввв: #REF!
Name выб: #REF!
Name выпуск: #REF!
Name выьлепвввввпмп: #REF!
Name еваопродолжэрщэрзшщщх: #REF!
Name измен: #REF!
Name итого: #REF!
Name итого_сантех: #REF!
Name итого_стр: #REF!
Name итого_строит: #REF!
Name итого_технол: #REF!
Name итого_электр: #REF!
Name квота: #REF!
Name кккккккккк: #REF!
Name корек: #REF!
Name корект: #REF!
Name корректир: #REF!
Name лен: #REF!
Name лот: #REF!
Name мамиааааааааааааааааааааааааааааа: #REF!
Name ммпоослччччччччччрччапппппппппр: #REF!
Name мрол: #REF!
Name оз: #REF!
Name озелен: #REF!
Name озеленение: #REF!
Name озеленение2: #REF!
Name ОСР: #REF!
Name ОСР110: #REF!
Name ОСР111: #REF!

Sheet 1
A1: СОГЛАСОВАНО: | M1: УТВЕРЖДАЮ:
A4: _________________ | M4: _________________
A5: " _____ " ________________ 2013 г. | M5: "____" ______________2013 г.
H6: ФГУП "Комбинат "Электрохимприбор" г.Лесной, Свердловской области
H7: (наименование стройки)
H9: ЛОКАЛЬНЫЙ СМЕТНЫЙ РАСЧЕТ № 1
H10: (локальная смета)
C12: на | D12: Конструкции железобетонные, Автоматическая мойка цеха 013
H13: (наименование работ и затрат, наименование объекта)
D15: Основание: 13-044-01-КЖ1
D16: Сметная стоимость _______________________________________________________________________________________________ | J16: ___________________________289,826 | L16: тыс. руб.
D17: строительных работ _______________________________________________________________________________________________ | J17: _______________________________________________________________________________________________275,012 | L17: тыс. руб.
D18: монтажных работ _______________________________________________________________________________________________ | J18: _______________________________________________________________________________________________14,814 | L18: тыс. руб.
D19: Средства на оплату труда _______________________________________________________________________________________________ | J19: ___________________________24,014 | L19: тыс. руб.
D20: Сметная трудоемкость _______________________________________________________________________________________________ | J20: _______________________________________________________________________________________________1587,75 | L20: чел.час
D21: Составлен(а) в текущих (прогнозных) ценах по состоянию на ______________
A24: № пп | B24: Обосно- вание | C24: Наименование | D24: Ед. изм. | E24: Кол. | F24: Стоимость единицы, руб. | J24: Общая стоимость, руб. | N24: Т/з осн. раб.на ед. | O24: Т/з осн. раб. Всего | P24: Т/з мех. на ед. | Q24: Т/з мех. Всего
F25: Всего | G25: В том числе | J25: Всего | K25: В том числе
G26: Осн.З/п | H26: Эк.Маш | I26: З/пМех | K26: Осн.З/п | L26: Эк.Маш | M26: З/пМех
A27: 1 | B27: 2 | C27: 3 | D27: 4 | E27: 5 | F27: 6 | G27: 7 | H27: 8 | I27: 9 | J27: 10 | K27: 11 | L27: 12 | M27: 13 | N27: 14 | O27: 15 | P27: 16 | Q27: 17
A28: Раздел 1.
A29: 1 | B29: ТЕР04-01-037-03 | C29: Шнековое бурение скважин станками типа ЛБУ-50 глубиной бурения до 10 м в грунтах группы 3 | D29: 100 м бурения скважины | E29: 1.2 | F29: 7616.91 | G29: 880.75 | H29: 5219.2 | I29: 601.69 | J29: 9140 | K29: 1057 | L29: 6263 | M29: 722 | N29: 65 | O29: 78 | P29: 33.06 | Q29: 39.67
A30: 2 | B30: ТСЦ-109-0013 | C30: Долота трехшарошечные типа Ш76К-ЦВ | D30: шт. | E30: 0.804 | F30: 1606.5 | J30: 1292
A31: 3 | B31: ТЕР05-01-061-01 | C31: Установка в скважину арматурного каркаса | D31: 1 скважина | E31: 26 | F31: 531.86 | G31: 47.04 | H31: 472.21 | I31: 61.15 | J31: 13828 | K31: 1223 | L31: 12277 | M31: 1590 | N31: 3.55 | O31: 92.3 | P31: 3.36 | Q31: 87.36
A32: 4 | B32: ТСЦ-204-0025 | C32: Горячекатаная арматурная сталь периодического профиля класса А-III, диаметром 20-22 мм | D32: т | E32: 2.5676 | F32: 4533.96 | J32: 11641
A33: 5 | B33: ТСЦ-204-0040 | C33: Надбавки к ценам заготовок за сборку и сварку каркасов и сеток плоских, диаметром 20-22 мм | D33: т | E33: 2.5676 | F33: 1533.9 | J33: 3938
A34: 6 | B34: ТСЦ-204-0022 | C34: Горячекатаная арматурная сталь периодического профиля класса А-III, диаметром 12 мм | D34: т | E34: 0.156 | F34: 4874.75 | J34: 760
A35: 7 | B35: ТСЦ-204-0037 | C35: Надбавки к ценам заготовок за сборку и сварку каркасов и сеток плоских, диаметром 12 мм | D35: т | E35: 0.156 | F35: 2069.7 | J35: 323
A36: 8 | B36: ТСЦ-204-0003 | C36: Горячекатаная арматурная сталь гладкая класса А-I, диаметром 10 мм | D36: т | E36: 0.4162 | F36: 4445.05 | J36: 1850
A37: 9 | B37: ТСЦ-204-0036 | C37: Надбавки к ценам заготовок за сборку и сварку каркасов и сеток плоских, диаметром 10 мм | D37: т | E37: 0.4162 | F37: 2208.6 | J37: 919
A38: 10 | B38: ТЕР05-01-062-01 | C38: Бетонирование свай | D38: 1 м3 конструктивного объема свай | E38: 31 | F38: 236.2 | G38: 8.28 | H38: 58 | I38: 6.37 | J38: 7322 | K38: 257 | L38: 1798 | M38: 197 | N38: 0.64 | O38: 19.84 | P38: 0.35 | Q38: 10.85
A39: 11 | B39: ТСЦ-401-0067 | C39: Бетон тяжелый, крупность заполнителя 20 мм, класс В20 (М250) W6 (Тех. часть таб.2 ПЗ=1,015 (ОЗП=1,015; ЭМ=1,015 к расх.; ЗПМ=1,015; МАТ=1,015 к расх.; ТЗ=1,015; ТЗМ=1,015)) | D39: м3 | E39: 31 | F39: 636.49 | J39: 19731
A40: 12 | B40: ТЕР06-01-015-08 | C40: Установка закладных деталей весом до 20 кг | D40: 1 т | E40: 1.248 | F40: 7992.38 | G40: 807.95 | H40: 42.05 | I40: 2.73 | J40: 9974 | K40: 1008 | L40: 52 | M40: 3 | N40: 63.22 | O40: 78.9 | P40: 0.15 | Q40: 0.19
A41: 13 | B41: ТЕР01-02-057-03 | C41: Разработка грунта вручную в траншеях глубиной до 2 м без креплений с откосами, группа грунтов 3 | D41: 100 м3 грунта | E41: 0.23 | F41: 2725.52 | G41: 2725.52 | J41: 627 | K41: 627 | N41: 248 | O41: 57.04
A42: 14 | B42: ФССЦпг03-21-01-001 | C42: Перевозка грузов автомобилями-самосвалами грузоподъемностью 10 т, работающих вне карьера, на расстояние: до 1 км I класс груза (15 Поясные коэффициенты к сметным ценам на перевозку грузов автомобильным транспортом: Республика Башкортостан, Алтайский край, Вологодская, Кемеровская, Кировская, Курганская, Омская, Оренбургская, Новосибирская, Свердловская, Челябинская и Пермская области (за исключением Коми-Пермяцкого автономного округа). ПЗ=1,1 (ОЗП=1,1; ЭМ=1,1; ЗПМ=1,1; МАТ=1,1)) | D42: 1 т груза | E42: 27.3 | F42: 3.2 | H42: 3.2 | J42: 87 | L42: 87
A43: 15 | B43: ТЕР01-01-016-02 | C43: Работа на отвале, группа грунтов 2-3 | D43: 1000 м3 грунта | E43: 0.014 | F43: 478.65 | G43: 40.11 | H43: 433.44 | I43: 67.17 | J43: 7 | K43: 1 | L43: 6 | M43: 1 | N43: 3.65 | O43: 0.05 | P43: 3.97 | Q43: 0.06
A44: 16 | B44: ТЕР01-02-061-02 | C44: Засыпка вручную траншей, пазух котлованов и ям, группа грунтов 2 | D44: 100 м3 грунта | E44: 0.09 | F44: 1027.4 | G44: 1027.4 | J44: 92 | K44: 92 | N44: 97.2 | O44: 8.75
A45: 17 | B45: ТЕР06-01-001-01 | C45: Устройство бетонной подготовки 9 627,53 = 64 980,89 - 102 x 542,68 | D45: 100 м3 бетона, бутобетона и железобетона в деле | E45: 0.04 | F45: 9627.53 | G45: 1978.2 | H45: 4648.35 | I45: 327.6 | J45: 385 | K45: 79 | L45: 186 | M45: 13 | N45: 180 | O45: 7.2 | P45: 18 | Q45: 0.72
A46: Уд | B46: 1. 401-0061 | C46: Бетон тяжелый, крупность заполнителя 20 мм, класс В3,5 (М50) | D46: м3 | E46: 102 4,08 | F46: 542.68 | J46: 2214.13
A47: 18 | B47: ТСЦ-401-0064 | C47: Бетон тяжелый, крупность заполнителя 20 мм, класс В10 (М150) | D47: м3 | E47: 4.08 | F47: 562.22 | J47: 2294
...

Sheet 2
A1: СОГЛАСОВАНО: | M1: УТВЕРЖДАЮ:
A4: _________________ | M4: _________________
A5: " _____ " ________________ 2013 г. | M5: "____" ______________2013 г.
H6: ФГУП "Комбинат "Электрохимприбор" г.Лесной, Свердловской области
H7: (наименование стройки)
H9: ЛОКАЛЬНЫЙ СМЕТНЫЙ РАСЧЕТ № 2
H10: (локальная смета)
C12: на | D12: Конструкции металлические, Автоматическая мойка цеха 013
H13: (наименование работ и затрат, наименование объекта)
D15: Основание: 13-044-01-КМ1
D16: Сметная стоимость строительных работ _______________________________________________________________________________________________ | J16: ___________________________497,931 | L16: тыс. руб.
D17: Средства на оплату труда _______________________________________________________________________________________________ | J17: ___________________________14,016 | L17: тыс. руб.
D18: Сметная трудоемкость _______________________________________________________________________________________________ | J18: _______________________________________________________________________________________________928,95 | L18: чел.час
D19: Составлен(а) в текущих (прогнозных) ценах по состоянию на ______________
A22: № пп | B22: Обосно- вание | C22: Наименование | D22: Ед. изм. | E22: Кол. | F22: Стоимость единицы, руб. | J22: Общая стоимость, руб. | N22: Т/з осн. раб.на ед. | O22: Т/з осн. раб. Всего | P22: Т/з мех. на ед. | Q22: Т/з мех. Всего
F23: Всего | G23: В том числе | J23: Всего | K23: В том числе
G24: Осн.З/п | H24: Эк.Маш | I24: З/пМех | K24: Осн.З/п | L24: Эк.Маш | M24: З/пМех
A25: 1 | B25: 2 | C25: 3 | D25: 4 | E25: 5 | F25: 6 | G25: 7 | H25: 8 | I25: 9 | J25: 10 | K25: 11 | L25: 12 | M25: 13 | N25: 14 | O25: 15 | P25: 16 | Q25: 17
A26: Раздел 1.
A27: 1 | B27: ТЕР09-03-002-01 | C27: Монтаж колонн одноэтажных и многоэтажных зданий и крановых эстакад высотой до 25 м цельного сечения массой до 1,0 т | D27: 1 т конструкций | E27: 13.799 | F27: 524.12 | G27: 135.48 | H27: 333.46 | I27: 34.95 | J27: 7232 | K27: 1869 | L27: 4601 | M27: 482 | N27: 10.47 | O27: 144.48 | P27: 1.91 | Q27: 26.36
A28: 2 | B28: ТСЦ-201-0757 | C28: Отдельные конструктивные элементы зданий и сооружений с преобладанием горячекатаных профилей, средняя масса сборочной единицы от 0,5 до 1 т | D28: т | E28: 13.799 | F28: 10805.17 | J28: 149101
A29: 3 | B29: ТЕР09-03-014-01 | C29: Монтаж связей и распорок из одиночных и парных уголков, гнутосварных профилей для пролетов до 24 м при высоте здания до 25 м | D29: 1 т конструкций | E29: 1.509 | F29: 1773.81 | G29: 779.61 | H29: 583.19 | I29: 69.72 | J29: 2677 | K29: 1176 | L29: 880 | M29: 105 | N29: 63.28 | O29: 95.49 | P29: 3.82 | Q29: 5.76
A30: 4 | B30: ТСЦ-201-0756 | C30: Отдельные конструктивные элементы зданий и сооружений с преобладанием горячекатаных профилей, средняя масса сборочной единицы от 0,1 до 0,5 т | D30: т | E30: 1.509 | F30: 10984.95 | J30: 16576
A31: 5 | B31: ТЕР09-03-002-12 | C31: Монтаж балок, ригелей перекрытия, покрытия и под установку оборудования многоэтажных зданий при высоте здания до 25 м | D31: 1 т конструкций | E31: 11.774 | F31: 1348.89 | G31: 262.44 | H31: 933.9 | I31: 51.76 | J31: 15882 | K31: 3090 | L31: 10996 | M31: 609 | N31: 18.25 | O31: 214.88 | P31: 2.57 | Q31: 30.26
A32: 6 | B32: ТСЦ-201-0757 | C32: Отдельные конструктивные элементы зданий и сооружений с преобладанием горячекатаных профилей, средняя масса сборочной единицы от 0,5 до 1 т | D32: т | E32: 3.717 | F32: 10805.17 | J32: 40163
A33: 6.1 | B33: ТСЦ-201-0758 | C33: Отдельные конструктивные элементы зданий и сооружений с преобладанием горячекатаных профилей, средняя масса сборочной единицы свыше 1 до 3 т | D33: т | E33: 8.057 | F33: 10068.04 | J33: 81118
A34: 7 | B34: ТЕР09-03-002-12 | C34: Монтаж балок, ригелей перекрытия, покрытия и под установку оборудования многоэтажных зданий при высоте здания до 25 м | D34: 1 т конструкций | E34: 1.575 | F34: 1348.89 | G34: 262.44 | H34: 933.9 | I34: 51.76 | J34: 2125 | K34: 413 | L34: 1471 | M34: 82 | N34: 18.25 | O34: 28.74 | P34: 2.57 | Q34: 4.05
A35: 8 | B35: ТСЦ-201-0756 | C35: Отдельные конструктивные элементы зданий и сооружений с преобладанием горячекатаных профилей, средняя масса сборочной единицы от 0,1 до 0,5 т | D35: т | E35: 1.575 | F35: 10984.95 | J35: 17301
A36: 9 | B36: ТЕР09-03-012-12 | C36: Монтаж опорных стоек для пролетов до 24 м | D36: 1 т конструкций | E36: 3.299 | F36: 652.22 | G36: 83.23 | H36: 380.25 | I36: 39.65 | J36: 2152 | K36: 275 | L36: 1254 | M36: 131 | N36: 6.59 | O36: 21.74 | P36: 2.09 | Q36: 6.89
A37: 10 | B37: ТСЦ-201-0755 | C37: Отдельные конструктивные элементы зданий и сооружений с преобладанием горячекатаных профилей, средняя масса сборочной единицы до 0,1 т | D37: т | E37: 3.299 | F37: 11650.16 | J37: 38434
A38: 11 | B38: ТЕР09-03-037-01 | C38: Монтаж рам коробчатого сечения пролетом до 24 м | D38: 1 т конструкций | E38: 0.314 | F38: 1471.73 | G38: 252.2 | H38: 775.45 | I38: 128.25 | J38: 462 | K38: 79 | L38: 243 | M38: 40 | N38: 19.49 | O38: 6.12 | P38: 7.58 | Q38: 2.38
A39: 12 | B39: ТСЦ-201-0755 | C39: Отдельные конструктивные элементы зданий и сооружений с преобладанием горячекатаных профилей, средняя масса сборочной единицы до 0,1 т | D39: т | E39: 0.314 | F39: 11650.16 | J39: 3658
A40: 13 | B40: ТЕР09-03-029-01 | C40: Монтаж лестниц прямолинейных и криволинейных, пожарных с ограждением | D40: 1 т конструкций | E40: 1.012 | F40: 1387.54 | G40: 428.9 | H40: 850.09 | I40: 102.76 | J40: 1404 | K40: 434 | L40: 860 | M40: 104 | N40: 32.37 | O40: 32.76 | P40: 5.64 | Q40: 5.71
A41: 14 | B41: ТСЦ-201-0650 | C41: Ограждения лестничных проемов, лестничные марши, пожарные лестницы | D41: т | E41: 1.012 | F41: 13627.82 | J41: 13791
A42: 15 | B42: ТЕР09-03-037-01 | C42: Монтаж рам коробчатого сечения пролетом до 24 м | D42: 1 т конструкций | E42: 1.517 | F42: 1471.73 | G42: 252.2 | H42: 775.45 | I42: 128.25 | J42: 2233 | K42: 383 | L42: 1176 | M42: 195 | N42: 19.49 | O42: 29.57 | P42: 7.58 | Q42: 11.5
A43: 16 | B43: ТСЦ-201-0755 | C43: Отдельные конструктивные элементы зданий и сооружений с преобладанием горячекатаных профилей, средняя масса сборочной единицы до 0,1 т | D43: т | E43: 1.517 | F43: 11650.16 | J43: 17673
A44: 17 | B44: ТЕР09-03-039-01 | C44: Монтаж опорных конструкций для крепления трубопроводов внутри зданий и сооружений массой до 0,1 т | D44: 1 т конструкций | E44: 2.516 | F44: 1711.14 | G44: 1025.21 | H44: 386.58 | I44: 2 | J44: 4305 | K44: 2579 | L44: 973 | M44: 5 | N44: 80.22 | O44: 201.83 | P44: 0.11 | Q44: 0.28
A45: 18 | B45: ТСЦ-201-0889 | C45: Опоры неподвижные из горячекатаных профилей для трубопроводов | D45: т | E45: 2.516 | F45: 9785 | J45: 24619
A46: 19 | B46: ТЕР06-01-015-01 | C46: Установка анкерных болтов в готовые гнезда с заделкой длиной до 1 м 4 007,90 = 14 827,90 - 1 x 10 820,00 | D46: 1 т | E46: 0.048 | F46: 4007.9 | G46: 3931.32 | H46: 72.26 | I46: 4.55 | J46: 192 | K46: 189 | L46: 3 | N46: 315.01 | O46: 15.12 | P46: 0.25 | Q46: 0.01
A47: Уд | B47: 1. 204-0059 | C47: Анкерные детали из прямых или гнутых круглых стержней с резьбой (в комплекте с шайбами и гайками или без них), поставляемые отдельно | D47: т | E47: 1 0,048 | F47: 10820 | J47: 519.36
...

Sheet 3
A1: СОГЛАСОВАНО: | M1: УТВЕРЖДАЮ:
A4: _________________ | M4: _________________
A5: " _____ " ________________ 2013 г. | M5: "____" ______________2013 г.
H6: ФГУП "Комбинат "Электрохимприбор" г.Лесной, Свердловской области
H7: (наименование стройки)
H9: ЛОКАЛЬНЫЙ СМЕТНЫЙ РАСЧЕТ № 3
H10: (локальная смета)
C12: на | D12: Стеновые и кровельные панели, Автоматическая мойка цеха 013
H13: (наименование работ и затрат, наименование объекта)
D15: Основание: 13-044-01-АР
D16: Сметная стоимость _______________________________________________________________________________________________ | J16: ___________________________1123,335 | L16: тыс. руб.
D17: строительных работ _______________________________________________________________________________________________ | J17: _______________________________________________________________________________________________1096,331 | L17: тыс. руб.
D18: монтажных работ _______________________________________________________________________________________________ | J18: _______________________________________________________________________________________________2,611 | L18: тыс. руб.
D19: оборудования _______________________________________________________________________________________________ | J19: _______________________________________________________________________________________________24,393 | L19: тыс. руб.
D20: Средства на оплату труда _______________________________________________________________________________________________ | J20: ___________________________51,126 | L20: тыс. руб.
D21: Сметная трудоемкость _______________________________________________________________________________________________ | J21: _______________________________________________________________________________________________3259,71 | L21: чел.час
D22: Составлен(а) в текущих (прогнозных) ценах по состоянию на ______________
A25: № пп | B25: Обосно- вание | C25: Наименование | D25: Ед. изм. | E25: Кол. | F25: Стоимость единицы, руб. | J25: Общая стоимость, руб. | N25: Т/з осн. раб.на ед. | O25: Т/з осн. раб. Всего | P25: Т/з мех. на ед. | Q25: Т/з мех. Всего
F26: Всего | G26: В том числе | J26: Всего | K26: В том числе
G27: Осн.З/п | H27: Эк.Маш | I27: З/пМех | K27: Осн.З/п | L27: Эк.Маш | M27: З/пМех
A28: 1 | B28: 2 | C28: 3 | D28: 4 | E28: 5 | F28: 6 | G28: 7 | H28: 8 | I28: 9 | J28: 10 | K28: 11 | L28: 12 | M28: 13 | N28: 14 | O28: 15 | P28: 16 | Q28: 17
A29: Раздел 1. Стеновые и кровельные сэндвич-панели
A30: 1 | B30: ТЕР09-04-002-03 | C30: Монтаж кровельного покрытия из многослойных панелей заводской готовности при высоте до 50 м | D30: 100 м2 покрытия | E30: 6.1712 | F30: 2690.79 | G30: 577.66 | H30: 1925.66 | I30: 172.5 | J30: 16605 | K30: 3565 | L30: 11884 | M30: 1065 | N30: 45.2 | O30: 278.94 | P30: 9.74 | Q30: 60.11
A31: 2 | B31: ТСЦ-201-0259прим | C31: Панели металлические трехслойные стеновые с утеплителем из пенополиуретана. Способ изготовления стендовый 1ПТС1016.61.6-СО.8 | D31: м2 | E31: 617.12 | F31: 420.74 | J31: 259647
A32: 3 | B32: ТЕР09-04-006-04 | C32: Монтаж ограждающих конструкций стен из многослойных панелей заводской готовности при высоте здания до 50 м | D32: 100 м2 | E32: 8.48512 | F32: 9095.31 | G32: 2255.68 | H32: 6203.95 | I32: 586.48 | J32: 77175 | K32: 19140 | L32: 52641 | M32: 4976 | N32: 170.24 | O32: 1444.51 | P32: 34.58 | Q32: 293.42
A33: 4 | B33: ТСЦ-201-0258прим | C33: Панели металлические трехслойные стеновые с утеплителем из пенополиуретана. Способ изготовления стендовый 1ПТС1016.46.6-СО.8 | D33: м2 | E33: 848.512 | F33: 374.02 | J33: 317360
A34: 5 | B34: ТЕР12-01-010-01прим | C34: Устройство мелких покрытий (брандмауэры, парапеты, свесы и т.п.) из листовой оцинкованной стали. Фасонные элементы | D34: 100 м2 покрытия | E34: 0.65 | F34: 15322.3 | G34: 1354.13 | H34: 58.83 | I34: 3.64 | J34: 9959 | K34: 880 | L34: 38 | M34: 2 | N34: 112.75 | O34: 73.29 | P34: 0.2 | Q34: 0.13
A35: 6 | B35: ТЕР07-05-039-07 | C35: Устройство герметизации горизонтальных и вертикальных стыков стеновых панелей мастикой герметизирующей нетвердеющей | D35: 100 м шва | E35: 5.42 | F35: 2930.61 | G35: 257.26 | H35: 1266.84 | I35: 105.12 | J35: 15884 | K35: 1394 | L35: 6866 | M35: 570 | N35: 20.13 | O35: 109.1 | P35: 6.73 | Q35: 36.48
A36: Итого прямые затраты по разделу в ценах 2001г. | J36: 696630 | K36: 24979 | L36: 71429 | M36: 6613 | O36: 1905.84 | Q36: 390.14
A37: Накладные расходы | J37: 29973
A38: Сметная прибыль | J38: 26971
A39: Итого по разделу 1 Стеновые и кровельные сэндвич-панели | J39: 753574 | O39: 1905.84 | Q39: 390.14
A40: Раздел 2. Шкафы
A41: 7 | B41: прайс-лист | C41: Шкаф МД-40.2 со скамейкой Ц:13600/1,18/3,94х1.012х1.03 | D41: шт | E41: 8 | F41: 3049.15 | J41: 24393
A42: 7.1 | B42: МДС81-37.2004 п.4.7 | C42: Мебель поставляемая в собранном виде 1% от 13600 руб. | D42: шт | E42: 8 | F42: 136 | G42: 136 13600*0,01 | J42: 1088 | K42: 1088
A43: Итого прямые затраты по разделу в ценах 2001г. | J43: 25481 | K43: 1088
A44: Накладные расходы | J44: 870
A45: Сметная прибыль | J45: 653
A46: Итого по разделу 2 Шкафы | J46: 27004
A47: Раздел 3. Окна
...

Sheet 4
A1: СОГЛАСОВАНО: | M1: УТВЕРЖДАЮ:
A4: _________________ | M4: _________________
A5: " _____ " ________________ 2013 г. | M5: "____" ______________2013 г.
H6: ФГУП "Комбинат "Электрохимприбор" г.Лесной, Свердловской области
H7: (наименование стройки)
H9: ЛОКАЛЬНЫЙ СМЕТНЫЙ РАСЧЕТ № 4
H10: (локальная смета)
C12: на | D12: Технологическое оборудование, Автоматическая мойка цеха 013
H13: (наименование работ и затрат, наименование объекта)
D15: Основание: 13-044-01-ТХ.С
D16: Сметная стоимость _______________________________________________________________________________________________ | J16: ___________________________3152,577 | L16: тыс. руб.
D17: строительных работ _______________________________________________________________________________________________ | J17: _______________________________________________________________________________________________89,278 | L17: тыс. руб.
D18: монтажных работ _______________________________________________________________________________________________ | J18: _______________________________________________________________________________________________24,970 | L18: тыс. руб.
D19: оборудования _______________________________________________________________________________________________ | J19: _______________________________________________________________________________________________3038,329 | L19: тыс. руб.
D20: Средства на оплату труда _______________________________________________________________________________________________ | J20: ___________________________13,684 | L20: тыс. руб.
D21: Сметная трудоемкость _______________________________________________________________________________________________ | J21: _______________________________________________________________________________________________991,63 | L21: чел.час
D22: Составлен(а) в текущих (прогнозных) ценах по состоянию на ______________
A25: № пп | B25: Обосно- вание | C25: Наименование | D25: Ед. изм. | E25: Кол. | F25: Стоимость единицы, руб. | J25: Общая стоимость, руб. | N25: Т/з осн. раб.на ед. | O25: Т/з осн. раб. Всего | P25: Т/з мех. на ед. | Q25: Т/з мех. Всего
F26: Всего | G26: В том числе | J26: Всего | K26: В том числе
G27: Осн.З/п | H27: Эк.Маш | I27: З/пМех | K27: Осн.З/п | L27: Эк.Маш | M27: З/пМех
A28: 1 | B28: 2 | C28: 3 | D28: 4 | E28: 5 | F28: 6 | G28: 7 | H28: 8 | I28: 9 | J28: 10 | K28: 11 | L28: 12 | M28: 13 | N28: 14 | O28: 15 | P28: 16 | Q28: 17
A29: Раздел 1.
A30: 1 | B30: ТЕРм37-01-002-07 | C30: Монтаж оборудования без механизмов в помещении, масса оборудования 2 т Вес 1990кг) | D30: 1 шт. | E30: 1 | F30: 3050.93 | G30: 1178.83 | H30: 852.1 | I30: 98.46 | J30: 3051 | K30: 1179 | L30: 852 | M30: 98 | N30: 91.1 | O30: 91.1 | P30: 5.41 | Q30: 5.41
A31: 2 | B31: ТЕР18-05-001-02 | C31: Установка насосов центробежных с электродвигателем, масса агрегата до 0,2 т (насосы к портальной мойке) 517,75 = 5 002,79 - 1 x 4 485,04 | D31: 1 насос | E31: 3 | F31: 517.75 | G31: 232.61 | H31: 29.14 | I31: 1.82 | J31: 1553 | K31: 698 | L31: 87 | M31: 5 | N31: 17.77 | O31: 53.31 | P31: 0.1 | Q31: 0.3
A32: Уд | B32: 1. 301-1495 | C32: Насосы центробежные 45/30 с электродвигателем 4А 112 М2 массой агрегата до 0,2 т | D32: компл. | E32: 1 3 | F32: 4485.04 | J32: 13455.12
A33: 3 | B33: ТЕР18-04-001-09 | C33: Установка баков расширительных круглых и прямоугольных вместимостью 1 м3 206,76 = 1 413,05 - 1 x 1 206,29 | D33: 1 бак | E33: 1 | F33: 206.76 | G33: 151.01 | H33: 45.81 | I33: 1.46 | J33: 207 | K33: 151 | L33: 46 | M33: 1 | N33: 12.1 | O33: 12.1 | P33: 0.08 | Q33: 0.08
A34: Уд | B34: 1. 301-0018 | C34: Баки расширительные круглые вместимостью до 1 м3 | D34: шт. | E34: 1 1 | F34: 1206.29 | J34: 1206.29
A35: 4 | B35: ТЕРм06-03-022-07 | C35: Бак внутренней установки без давления цилиндрический вертикальный, вместимость 16 м3 (бак чистой оборотной воды) | D35: 1 т | E35: 0.17 | F35: 2244.88 | G35: 1326.15 | H35: 757.74 | I35: 49.42 | J35: 382 | K35: 225 | L35: 129 | M35: 8 | N35: 105 | O35: 17.85 | P35: 2.8 | Q35: 0.48
A36: 5 | B36: ТЕРм07-02-029-02 | C36: Газовоздуходувка роторная, масса 0,37 т (вес 0,175 кг) | D36: 1 шт. | E36: 2 | F36: 959.3 | G36: 426.73 | H36: 112.06 | I36: 4 | J36: 1919 | K36: 853 | L36: 224 | M36: 8 | N36: 32.6 | O36: 65.2 | P36: 0.22 | Q36: 0.44
A37: 6 | B37: ТЕР18-05-001-01 | C37: Установка насосов центробежных с электродвигателем, масса агрегата до 0,1 т Насос подачи воды к моечному оборудованию MVIL 506 DM 334,13 = 2 969,90 - 1 x 2 635,77 | D37: 1 насос | E37: 1 | F37: 334.13 | G37: 185.49 | H37: 14.31 | I37: 0.91 | J37: 334 | K37: 185 | L37: 14 | M37: 1 | N37: 14.17 | O37: 14.17 | P37: 0.05 | Q37: 0.05
A38: Уд | B38: 1. 301-1494 | C38: Насосы центробежные 8/18 с электродвигателем 4А 180 А2 массой агрегата до 0,1 т | D38: компл. | E38: 1 1 | F38: 2635.77 | J38: 2635.77
A39: 7 | B39: ТЕР18-05-001-01 | C39: Установка насосов центробежных с электродвигателем, масса агрегата до 0,1 т Насос подачи воды к электрокоагулятору MVIL102 DM 334,13 = 2 969,90 - 1 x 2 635,77 | D39: 1 насос | E39: 1 | F39: 334.13 | G39: 185.49 | H39: 14.31 | I39: 0.91 | J39: 334 | K39: 185 | L39: 14 | M39: 1 | N39: 14.17 | O39: 14.17 | P39: 0.05 | Q39: 0.05
A40: Уд | B40: 1. 301-1494 | C40: Насосы центробежные 8/18 с электродвигателем 4А 180 А2 массой агрегата до 0,1 т | D40: компл. | E40: 1 1 | F40: 2635.77 | J40: 2635.77
A41: 8 | B41: ТЕР18-05-001-01 | C41: Установка насосов центробежных с электродвигателем, масса агрегата до 0,1 т Насос подачи воды к моечному оборудованию MVIL 106 DM 334,13 = 2 969,90 - 1 x 2 635,77 | D41: 1 насос | E41: 1 | F41: 334.13 | G41: 185.49 | H41: 14.31 | I41: 0.91 | J41: 334 | K41: 185 | L41: 14 | M41: 1 | N41: 14.17 | O41: 14.17 | P41: 0.05 | Q41: 0.05
A42: Уд | B42: 1. 301-1494 | C42: Насосы центробежные 8/18 с электродвигателем 4А 180 А2 массой агрегата до 0,1 т | D42: компл. | E42: 1 1 | F42: 2635.77 | J42: 2635.77
A43: 9 | B43: ТЕР18-05-001-01 | C43: Установка насосов центробежных с электродвигателем, масса агрегата до 0,1 т Насос подачи воды на промывку фильтров MVIL 5202 DM 334,13 = 2 969,90 - 1 x 2 635,77 | D43: 1 насос | E43: 1 | F43: 334.13 | G43: 185.49 | H43: 14.31 | I43: 0.91 | J43: 334 | K43: 185 | L43: 14 | M43: 1 | N43: 14.17 | O43: 14.17 | P43: 0.05 | Q43: 0.05
A44: Уд | B44: 1. 301-1494 | C44: Насосы центробежные 8/18 с электродвигателем 4А 180 А2 массой агрегата до 0,1 т | D44: компл. | E44: 1 1 | F44: 2635.77 | J44: 2635.77
A45: 10 | B45: ТЕР18-05-001-01 | C45: Установка насосов центробежных с электродвигателем, масса агрегата до 0,1 т Насос подачи воды на очистные сооружения Drain TS 40/14 DM 334,13 = 2 969,90 - 1 x 2 635,77 | D45: 1 насос | E45: 1 | F45: 334.13 | G45: 185.49 | H45: 14.31 | I45: 0.91 | J45: 334 | K45: 185 | L45: 14 | M45: 1 | N45: 14.17 | O45: 14.17 | P45: 0.05 | Q45: 0.05
A46: Уд | B46: 1. 301-1494 | C46: Насосы центробежные 8/18 с электродвигателем 4А 180 А2 массой агрегата до 0,1 т | D46: компл. | E46: 1 1 | F46: 2635.77 | J46: 2635.77
A47: Монтаж установки очистки стоков автомобильных моек
...

Sheet 5
A1: СОГЛАСОВАНО: | M1: УТВЕРЖДАЮ:
A4: _________________ | M4: _________________
A5: " _____ " ________________ 2013 г. | M5: "____" ______________2013 г.
H6: ФГУП "Комбинат "Электрохимприбор" г.Лесной, Свердловской области
H7: (наименование стройки)
H9: ЛОКАЛЬНЫЙ СМЕТНЫЙ РАСЧЕТ № 5
H10: (локальная смета)
C12: на | D12: Отстойник для летней мойки, Автоматическая мойка цеха 013
H13: (наименование работ и затрат, наименование объекта)
D15: Основание: 13-044-02-КЖ1
D16: Сметная стоимость строительных работ _______________________________________________________________________________________________ | J16: ___________________________37,406 | L16: тыс. руб.
D17: Средства на оплату труда _______________________________________________________________________________________________ | J17: ___________________________3,357 | L17: тыс. руб.
D18: Сметная трудоемкость _______________________________________________________________________________________________ | J18: _______________________________________________________________________________________________221 | L18: чел.час
D19: Составлен(а) в текущих (прогнозных) ценах по состоянию на ______________
A22: № пп | B22: Обосно- вание | C22: Наименование | D22: Ед. изм. | E22: Кол. | F22: Стоимость единицы, руб. | J22: Общая стоимость, руб. | N22: Т/з осн. раб.на ед. | O22: Т/з осн. раб. Всего | P22: Т/з мех. на ед. | Q22: Т/з мех. Всего
F23: Всего | G23: В том числе | J23: Всего | K23: В том числе
G24: Осн.З/п | H24: Эк.Маш | I24: З/пМех | K24: Осн.З/п | L24: Эк.Маш | M24: З/пМех
A25: 1 | B25: 2 | C25: 3 | D25: 4 | E25: 5 | F25: 6 | G25: 7 | H25: 8 | I25: 9 | J25: 10 | K25: 11 | L25: 12 | M25: 13 | N25: 14 | O25: 15 | P25: 16 | Q25: 17
A26: Раздел 1. Земляные работы
A27: 1 | B27: ТЕР01-01-006-06 | C27: Разработка грунта в отвал в котлованах объемом до 500 м3 экскаваторами с ковшом вместимостью 0,25 м3, группа грунтов 3 | D27: 1000 м3 грунта | E27: 0.103 | F27: 6652.11 | H27: 6652.11 | I27: 1234.92 | J27: 685 | L27: 685 | M27: 127 | P27: 79.06 | Q27: 8.14
A28: 2 | B28: ТЕР01-01-018-05 | C28: Разработка грунта с погрузкой на автомобили-самосвалы в котлованах объемом до 500 м3 экскаваторами с ковшом вместимостью 0,25 м3, группа грунтов 2 | D28: 1000 м3 грунта | E28: 0.045 | F28: 5857.83 | H28: 5857.83 | I28: 1087.46 | J28: 264 | L28: 264 | M28: 49 | P28: 69.62 | Q28: 3.13
A29: 3 | B29: ФССЦпг03-21-01-001 | C29: Перевозка грузов автомобилями-самосвалами грузоподъемностью 10 т, работающих вне карьера, на расстояние: до 1 км I класс груза (15 Поясные коэффициенты к сметным ценам на перевозку грузов автомобильным транспортом: Республика Башкортостан, Алтайский край, Вологодская, Кемеровская, Кировская, Курганская, Омская, Оренбургская, Новосибирская, Свердловская, Челябинская и Пермская области (за исключением Коми-Пермяцкого автономного округа). ПЗ=1,1 (ОЗП=1,1; ЭМ=1,1; ЗПМ=1,1; МАТ=1,1)) | D29: 1 т груза | E29: 87.75 | F29: 3.2 | H29: 3.2 | J29: 281 | L29: 281
A30: 4 | B30: ТЕР01-01-016-01 | C30: Работа на отвале, группа грунтов 1 | D30: 1000 м3 грунта | E30: 0.045 | F30: 391.87 | G30: 32.86 | H30: 356.46 | I30: 55.16 | J30: 18 | K30: 1 | L30: 16 | M30: 2 | N30: 2.99 | O30: 0.13 | P30: 3.26 | Q30: 0.15
A31: 5 | B31: ТЕР01-02-061-02 | C31: Засыпка вручную траншей, пазух котлованов и ям, группа грунтов 2 | D31: 100 м3 грунта | E31: 0.21 | F31: 1027.4 | G31: 1027.4 | J31: 216 | K31: 216 | N31: 97.2 | O31: 20.41
A32: 6 | B32: ТЕР01-01-033-05 | C32: Засыпка траншей и котлованов с перемещением грунта до 5 м бульдозерами мощностью 79 кВт (108 л.с.), группа грунтов 2 | D32: 1000 м3 грунта | E32: 0.082 | F32: 445.76 | H32: 445.76 | I32: 70.73 | J32: 37 | L32: 37 | M32: 6 | P32: 4.18 | Q32: 0.34
A33: 7 | B33: ТЕР01-01-033-11 | C33: При перемещении грунта на каждые последующие 5 м добавлять к расценке 01-01-033-05 | D33: 1000 м3 грунта | E33: 0.082 | F33: 197.28 | H33: 197.28 | I33: 31.3 | J33: 16 | L33: 16 | M33: 3 | P33: 1.85 | Q33: 0.15
A34: 8 | B34: ТЕР01-02-005-01 | C34: Уплотнение грунта пневматическими трамбовками, группа грунтов 1-2 | D34: 100 м3 уплотненного грунта | E34: 0.082 | F34: 604.71 | G34: 150.49 | H34: 454.22 | I34: 47.48 | J34: 50 | K34: 12 | L34: 38 | M34: 4 | N34: 12.53 | O34: 1.03 | P34: 3.04 | Q34: 0.25
A35: Итого прямые затраты по разделу в ценах 2001г. | J35: 1567 | K35: 229 | L35: 1337 | M35: 191 | O35: 21.57 | Q35: 12.16
A36: Накладные расходы | J36: 367
A37: Сметная прибыль | J37: 199
A38: Итого по разделу 1 Земляные работы | J38: 2133 | O38: 21.57 | Q38: 12.16
A39: Раздел 2. Строительные работы
A40: 10 | B40: ТЕР06-01-001-01 | C40: Устройство бетонной подготовки 9 627,53 = 64 980,89 - 102 x 542,68 | D40: 100 м3 бетона, бутобетона и железобетона в деле | E40: 0.026 | F40: 9627.53 | G40: 1978.2 | H40: 4648.35 | I40: 327.6 | J40: 250 | K40: 51 | L40: 121 | M40: 9 | N40: 180 | O40: 4.68 | P40: 18 | Q40: 0.47
A41: Уд | B41: 1. 401-0061 | C41: Бетон тяжелый, крупность заполнителя 20 мм, класс В3,5 (М50) | D41: м3 | E41: 102 2,652 | F41: 542.68 | J41: 1439.19
A42: 11 | B42: ТСЦ-401-0064 | C42: Бетон тяжелый, крупность заполнителя 20 мм, класс В10 (М150) | D42: м3 | E42: 2.652 | F42: 562.22 | J42: 1491
A43: 12 | B43: ТЕР06-01-062-04 | C43: Устройство стен и плоских днищ при толщине более 150 мм прямоугольных сооружений 24 112,79 = 92 692,28 - 101,5 x 675,66 | D43: 100 м3 железобетона в деле | E43: 0.21 | F43: 24112.79 | G43: 9660.84 | H43: 9682.35 | I43: 1367.71 | J43: 5064 | K43: 2029 | L43: 2033 | M43: 287 | N43: 729.12 | O43: 153.12 | P43: 75.19 | Q43: 15.79
A44: Уд | B44: 1. 401-0246 | C44: Бетон песчаный, класс В15 (М200) | D44: м3 | E44: 101,5 21,32 | F44: 675.66 | J44: 14405.07
A45: 13 | B45: ТСЦ-401-0247 | C45: Бетон песчаный, класс В20 (М250) | D45: м3 | E45: 21.32 | F45: 721.88 | J45: 15390
A46: 14 | B46: ТСЦ-204-0022 | C46: Горячекатаная арматурная сталь периодического профиля класса А-III, диаметром 12 мм | D46: т | E46: 0.142 | F46: 4874.75 | J46: 692
A47: 15 | B47: ТСЦ-204-0024 | C47: Горячекатаная арматурная сталь периодического профиля класса А-III, диаметром 16-18 мм | D47: т | E47: 0.271 | F47: 4637.68 | J47: 1257
...

Sheet 6
H1: ФГУП "Комбинат "Электрохимприбор" г.Лесной, Свердловской области
H2: (наименование стройки)
H4: ЛОКАЛЬНЫЙ СМЕТНЫЙ РАСЧЕТ № 6
H5: (локальная смета)
C7: на | D7: Вентиляция, Автоматическая мойка цеха 013
H8: (наименование работ и затрат, наименование объекта)
D10: Основание: 13-044-01-ОВ.С
D11: Сметная стоимость _______________________________________________________________________________________________ | J11: ___________________________565,566 | L11: тыс. руб.
D12: строительных работ _______________________________________________________________________________________________ | J12: _______________________________________________________________________________________________322,386 | L12: тыс. руб.
D13: монтажных работ _______________________________________________________________________________________________ | J13: _______________________________________________________________________________________________14,257 | L13: тыс. руб.
D14: оборудования _______________________________________________________________________________________________ | J14: _______________________________________________________________________________________________228,923 | L14: тыс. руб.
D15: Средства на оплату труда _______________________________________________________________________________________________ | J15: ___________________________12,782 | L15: тыс. руб.
D16: Сметная трудоемкость _______________________________________________________________________________________________ | J16: _______________________________________________________________________________________________945,87 | L16: чел.час
D17: Составлен(а) в текущих (прогнозных) ценах по состоянию на ______________
A20: № пп | B20: Обосно- вание | C20: Наименование | D20: Ед. изм. | E20: Кол. | F20: Стоимость единицы, руб. | J20: Общая стоимость, руб. | N20: Т/з осн. раб.на ед. | O20: Т/з осн. раб. Всего | P20: Т/з мех. на ед. | Q20: Т/з мех. Всего
F21: Всего | G21: В том числе | J21: Всего | K21: В том числе
G22: Осн.З/п | H22: Эк.Маш | I22: З/пМех | K22: Осн.З/п | L22: Эк.Маш | M22: З/пМех
A23: 1 | B23: 2 | C23: 3 | D23: 4 | E23: 5 | F23: 6 | G23: 7 | H23: 8 | I23: 9 | J23: 10 | K23: 11 | L23: 12 | M23: 13 | N23: 14 | O23: 15 | P23: 16 | Q23: 17
A24: Раздел 1.
A25: Система П-1
A26: 1 | B26: ТЕР20-06-002-01 | C26: Установка камер приточных типовых без секции орошения производительностью до 10 тыс.м3/час | D26: 1 камера | E26: 1 | F26: 965.62 | G26: 565.61 | H26: 115.2 | I26: 4 | J26: 966 | K26: 566 | L26: 115 | M26: 4 | N26: 43.71 | O26: 43.71 | P26: 0.22 | Q26: 0.22
A27: 2 | B27: ТЕРм08-01-102-01 | C27: Шкаф управления и регулирования | D27: 1 шкаф | E27: 1 | F27: 569.9 | G27: 197.83 | H27: 233.8 | I27: 14.56 | J27: 570 | K27: 198 | L27: 234 | M27: 15 | N27: 14.6 | O27: 14.6 | P27: 0.8 | Q27: 0.8
A29: Система П-2
A30: 3 | B30: ТЕР20-06-002-01 | C30: Установка камер приточных типовых без секции орошения производительностью до 10 тыс.м3/час | D30: 1 камера | E30: 1 | F30: 965.62 | G30: 565.61 | H30: 115.2 | I30: 4 | J30: 966 | K30: 566 | L30: 115 | M30: 4 | N30: 43.71 | O30: 43.71 | P30: 0.22 | Q30: 0.22
A31: 4 | B31: ТЕРм08-01-102-01 | C31: Шкаф управления и регулирования | D31: 1 шкаф | E31: 1 | F31: 569.9 | G31: 197.83 | H31: 233.8 | I31: 14.56 | J31: 570 | K31: 198 | L31: 234 | M31: 15 | N31: 14.6 | O31: 14.6 | P31: 0.8 | Q31: 0.8
A33: Система П-3
A34: 5 | B34: ТЕР20-03-002-01 | C34: Установка вентиляторов осевых массой до 0,025 т | D34: 1 вентилятор | E34: 1 | F34: 64.49 | G34: 53.93 | H34: 8.24 | I34: 0.18 | J34: 64 | K34: 54 | L34: 8 | N34: 3.98 | O34: 3.98 | P34: 0.01 | Q34: 0.01
A35: 6 | B35: прайс-лист | C35: Вентилятор канальный ВЕНТ-315 Ц:6259 (Материалы (МАТ=МАТ/1,18/5,59*1,02*1,003-МАТ)) | D35: шт | E35: 1 | F35: 970.76 | J35: 971
A36: 7 | B36: ТЕР20-02-005-02 | C36: Установка заслонок воздушных и клапанов воздушных КВР с ручным приводом диаметром до 355 мм | D36: 1 шт. | E36: 1 | F36: 41.25 | G36: 17.18 | H36: 1.95 | J36: 41 | K36: 17 | L36: 2 | N36: 1.36 | O36: 1.36
A37: 8 | B37: прайс-лист | C37: Воздушный клапан Канал-КВ-315 Ц:11041 (Материалы (МАТ=МАТ/1,18/5,59*1,02*1,003-МАТ)) | D37: шт | E37: 1 | F37: 1712.44 | J37: 1712
A38: 9 | B38: ТЕР20-02-004-01прим | C38: Установка фильтра канального диаметром до 355 мм | D38: 1 клапан | E38: 1 | F38: 24.14 | G38: 12.85 | H38: 1.84 | J38: 24 | K38: 13 | L38: 2 | N38: 1.03 | O38: 1.03
A39: 10 | B39: прайс-лист | C39: Фильтр ФКК-315 Ц:1534/ (Материалы (МАТ=МАТ/1,18/5,59*1,02*1,003-МАТ)) | D39: шт | E39: 1 | F39: 237.92 | J39: 238
A40: 11 | B40: ТЕР20-06-006-01 | C40: Установка воздухонагревателей однорядных для обводного канала производительностью до 10 тыс.м3/час | D40: 1 воздухонагреватель | E40: 1 | F40: 241.84 | G40: 108.4 | H40: 17.96 | I40: 0.73 | J40: 242 | K40: 108 | L40: 18 | M40: 1 | N40: 8 | O40: 8 | P40: 0.04 | Q40: 0.04
A41: 12 | B41: прайс-лист | C41: Электрический канальный воздухонагреватель ЭКВ-К-315 Ц:6851 (Материалы (МАТ=МАТ/1,18/5,59*1,02*1,003-МАТ)) | D41: шт | E41: 1 | F41: 1062.58 | J41: 1063
A42: 13 | B42: ТЕР20-02-014-10 | C42: Установка шумоглушителей вентиляционных трубчатых круглого сечения диаметр обечайки 315 мм | D42: 1 шт. | E42: 1 | F42: 29.78 | G42: 19.22 | H42: 2.21 | J42: 30 | K42: 19 | L42: 2 | N42: 1.54 | O42: 1.54
A43: 14 | B43: прайс-лист | C43: Шумоглушитель ГКК-315-900 Ц:3223 (Материалы (МАТ=МАТ/1,18/5,59*1,02*1,003-МАТ)) | D43: шт | E43: 1 | F43: 499.88 | J43: 500
A44: 15 | B44: ТЕРм08-01-102-01 | C44: Шкаф управления и регулирования | D44: 1 шкаф | E44: 1 | F44: 569.9 | G44: 197.83 | H44: 233.8 | I44: 14.56 | J44: 570 | K44: 198 | L44: 234 | M44: 15 | N44: 14.6 | O44: 14.6 | P44: 0.8 | Q44: 0.8
A46: Система П4
A47: 16 | B47: ТЕР20-03-002-01 | C47: Установка вентиляторов осевых массой до 0,025 т | D47: 1 вентилятор | E47: 1 | F47: 64.49 | G47: 53.93 | H47: 8.24 | I47: 0.18 | J47: 64 | K47: 54 | L47: 8 | N47: 3.98 | O47: 3.98 | P47: 0.01 | Q47: 0.01
A48: 17 | B48: прайс-лист | C48: Вентилятор канальный ВЕНТ-250 Ц:4289/ (Материалы (МАТ=МАТ/1,18/5,59*1,02*1,003-МАТ)) | D48: шт | E48: 1 | F48: 665.22 | J48: 665
...

Sheet 7
A1: СОГЛАСОВАНО: | M1: УТВЕРЖДАЮ:
A4: _________________ | M4: _________________
A5: " _____ " ________________ 2013 г. | M5: "____" ______________2013 г.
H6: ФГУП "Комбинат "Электрохимприбор" г.Лесной, Свердловской области
H7: (наименование стройки)
H9: ЛОКАЛЬНЫЙ СМЕТНЫЙ РАСЧЕТ № 7
H10: (локальная смета)
C12: на | D12: Водоснабжение и канализация, Автоматическая мойка цеха 013
H13: (наименование работ и затрат, наименование объекта)
D15: Основание: 13-044-01-ВК.С
D16: Сметная стоимость _______________________________________________________________________________________________ | J16: ___________________________24,506 | L16: тыс. руб.
D17: строительных работ _______________________________________________________________________________________________ | J17: _______________________________________________________________________________________________20,071 | L17: тыс. руб.
D18: монтажных работ _______________________________________________________________________________________________ | J18: _______________________________________________________________________________________________0,098 | L18: тыс. руб.
D19: оборудования _______________________________________________________________________________________________ | J19: _______________________________________________________________________________________________4,337 | L19: тыс. руб.
D20: Средства на оплату труда _______________________________________________________________________________________________ | J20: ___________________________1,203 | L20: тыс. руб.
D21: Сметная трудоемкость _______________________________________________________________________________________________ | J21: _______________________________________________________________________________________________87,27 | L21: чел.час
D22: Составлен(а) в текущих (прогнозных) ценах по состоянию на ______________
A25: № пп | B25: Обосно- вание | C25: Наименование | D25: Ед. изм. | E25: Кол. | F25: Стоимость единицы, руб. | J25: Общая стоимость, руб. | N25: Т/з осн. раб.на ед. | O25: Т/з осн. раб. Всего | P25: Т/з мех. на ед. | Q25: Т/з мех. Всего
F26: Всего | G26: В том числе | J26: Всего | K26: В том числе
G27: Осн.З/п | H27: Эк.Маш | I27: З/пМех | K27: Осн.З/п | L27: Эк.Маш | M27: З/пМех
A28: 1 | B28: 2 | C28: 3 | D28: 4 | E28: 5 | F28: 6 | G28: 7 | H28: 8 | I28: 9 | J28: 10 | K28: 11 | L28: 12 | M28: 13 | N28: 14 | O28: 15 | P28: 16 | Q28: 17
A29: Раздел 1. Водопрвод, В1
A30: 1 | B30: ТЕР16-06-005-01 | C30: Установка счетчиков (водомеров) диаметром до 40 мм | D30: 1 счетчик (водомер) | E30: 1 | F30: 1266.37 | G30: 5.43 | H30: 1.09 | J30: 1266 | K30: 5 | L30: 1 | N30: 0.41 | O30: 0.41
A31: 2 | B31: ТСЦ-301-3140 | C31: Счетчик холодной воды, марка ВСХ-20 | D31: шт. | E31: 1 | F31: 157.8 | J31: 158
A32: 3 | B32: ТЕРм12-10-001-01 | C32: Бобышки, штуцеры на условное давление до 10 МПа | D32: 100 шт. | E32: 0.01 | F32: 3444.75 | G32: 886.17 | H32: 492.2 | J32: 34 | K32: 9 | L32: 5 | N32: 65.4 | O32: 0.65
A33: 4 | B33: ТЕР18-07-001-02 | C33: Установка манометров с трехходовым краном | D33: 1 компл. | E33: 1 | F33: 244.31 | G33: 3.07 | J33: 244 | K33: 3 | N33: 0.22 | O33: 0.22
A34: 5 | B34: ТЕР16-05-001-02 | C34: Установка вентилей, задвижек, затворов, клапанов обратных, кранов проходных на трубопроводах из стальных труб диаметром до 50 мм ФИЛЬТР | D34: 1 шт. | E34: 1 | F34: 138.58 | G34: 18.79 | H34: 5.32 | J34: 139 | K34: 19 | L34: 5 | N34: 1.47 | O34: 1.47
A35: 6 | B35: ТСЦ-301-1870 | C35: Фильтр магнитный фланцевый ФМФ-50 | D35: шт. | E35: 1 | F35: 537.86 | J35: 538
A36: 7 | B36: ТСЦ-302-1831 | C36: Кран шаровой муфтовый 11Б27П1, диаметром 15 мм | D36: шт. | E36: 1 | F36: 25.14 | J36: 25
A37: 8 | B37: ТЕР16-05-001-02 | C37: Установка вентилей, задвижек, затворов, клапанов обратных, кранов проходных на трубопроводах из стальных труб диаметром до 50 мм | D37: 1 шт. | E37: 2 | F37: 138.58 | G37: 18.79 | H37: 5.32 | J37: 277 | K37: 38 | L37: 11 | N37: 1.47 | O37: 2.94
A38: 9 | B38: ТСЦ-302-1711прим. | C38: Задвижки клиновые с выдвижным шпинделем фланцевые для воды и пара давлением 1 МПа (10 кгс/см2) 30с41нж диаметром 50 мм | D38: шт. | E38: 2 | F38: 810.29 | J38: 1621
A39: 10 | B39: ТСЦ-507-2297 | C39: Переходы концентрические на Ру до 16 МПа (160 кгс/см2) диаметром условного прохода 100х50 мм, наружным диаметром и толщиной стенки 108х4-57х3 мм /ввод в здание/ | D39: шт. | E39: 1 | F39: 70.44 | J39: 70
A40: 11 | B40: ТСЦ-302-1831 | C40: Кран шаровой муфтовый 11Б27П1, диаметром 15 мм | D40: шт. | E40: 2 | F40: 25.14 | J40: 50
A41: 12 | B41: ТСЦ-302-1833 | C41: Кран шаровой муфтовый 11Б27П1, диаметром 25 мм | D41: шт. | E41: 1 | F41: 56.62 | J41: 57
A42: 13 | B42: ТЕР16-02-002-01 | C42: Прокладка трубопроводов водоснабжения из стальных водогазопроводных оцинкованных труб диаметром 15 мм | D42: 100 м трубопровода | E42: 0.1 | F42: 5020.27 | G42: 502.3 | H42: 79.16 | I42: 2.73 | J42: 502 | K42: 50 | L42: 8 | N42: 37.07 | O42: 3.71 | P42: 0.15 | Q42: 0.02
A43: 14 | B43: ТЕР16-02-002-02 | C43: Прокладка трубопроводов водоснабжения из стальных водогазопроводных оцинкованных труб диаметром 20 мм | D43: 100 м трубопровода | E43: 0.03 | F43: 5654.2 | G43: 502.3 | H43: 79.16 | I43: 2.73 | J43: 170 | K43: 15 | L43: 2 | N43: 37.07 | O43: 1.11 | P43: 0.15
A44: 15 | B44: ТЕР16-02-002-03 | C44: Прокладка трубопроводов водоснабжения из стальных водогазопроводных оцинкованных труб диаметром 25 мм | D44: 100 м трубопровода | E44: 0.2 | F44: 6208.42 | G44: 502.3 | H44: 79.16 | I44: 2.73 | J44: 1242 | K44: 100 | L44: 16 | M44: 1 | N44: 37.07 | O44: 7.41 | P44: 0.15 | Q44: 0.03
A45: 16 | B45: ТЕР16-02-002-06 | C45: Прокладка трубопроводов водоснабжения из стальных водогазопроводных оцинкованных труб диаметром 50 мм | D45: 100 м трубопровода | E45: 0.26 | F45: 10345.12 | G45: 645.39 | H45: 142.18 | I45: 3.82 | J45: 2690 | K45: 168 | L45: 37 | M45: 1 | N45: 47.63 | O45: 12.38 | P45: 0.21 | Q45: 0.05
A46: 17 | B46: ТЕР16-07-005-01 | C46: Гидравлическое испытание трубопроводов систем отопления, водопровода и горячего водоснабжения диаметром до 50 мм | D46: 100 м трубопровода | E46: 0.59 | F46: 104.4 | G46: 82.16 | H46: 15.29 | J46: 62 | K46: 48 | L46: 9 | N46: 5.01 | O46: 2.96
A47: 18 | B47: ТСЦ-301-1224 | C47: Крепления для трубопроводов: кронштейны, планки, хомуты | D47: кг | E47: 5 | F47: 17.02 | J47: 85
...

Sheet 9
A1: СОГЛАСОВАНО: | M1: УТВЕРЖДАЮ:
A4: _________________ | M4: _________________
A5: " _____ " ________________ 2013 г. | M5: "____" ______________2013 г.
H6: ФГУП "Комбинат "Электрохимприбор" г.Лесной, Свердловской области
H7: (наименование стройки)
H9: ЛОКАЛЬНЫЙ СМЕТНЫЙ РАСЧЕТ № 9
H10: (локальная смета)
C12: на | D12: Индивидуальный тепловой пункт, Автоматическая мойка цеха 013
H13: (наименование работ и затрат, наименование объекта)
D15: Основание: 13-044-01-ТС.С
D16: Сметная стоимость _______________________________________________________________________________________________ | J16: ___________________________87,933 | L16: тыс. руб.
D17: строительных работ _______________________________________________________________________________________________ | J17: _______________________________________________________________________________________________70,392 | L17: тыс. руб.
D18: монтажных работ _______________________________________________________________________________________________ | J18: _______________________________________________________________________________________________1,264 | L18: тыс. руб.
D19: оборудования _______________________________________________________________________________________________ | J19: _______________________________________________________________________________________________16,277 | L19: тыс. руб.
D20: Средства на оплату труда _______________________________________________________________________________________________ | J20: ___________________________2,605 | L20: тыс. руб.
D21: Сметная трудоемкость _______________________________________________________________________________________________ | J21: _______________________________________________________________________________________________188,94 | L21: чел.час
D22: Составлен(а) в текущих (прогнозных) ценах по состоянию на ______________
A25: № пп | B25: Обосно- вание | C25: Наименование | D25: Ед. изм. | E25: Кол. | F25: Стоимость единицы, руб. | J25: Общая стоимость, руб. | N25: Т/з осн. раб.на ед. | O25: Т/з осн. раб. Всего | P25: Т/з мех. на ед. | Q25: Т/з мех. Всего
F26: Всего | G26: В том числе | J26: Всего | K26: В том числе
G27: Осн.З/п | H27: Эк.Маш | I27: З/пМех | K27: Осн.З/п | L27: Эк.Маш | M27: З/пМех
A28: 1 | B28: 2 | C28: 3 | D28: 4 | E28: 5 | F28: 6 | G28: 7 | H28: 8 | I28: 9 | J28: 10 | K28: 11 | L28: 12 | M28: 13 | N28: 14 | O28: 15 | P28: 16 | Q28: 17
A29: Раздел 1. ИТП
A30: 2 | B30: ТЕР16-05-001-01 | C30: Установка вентилей, задвижек, затворов, клапанов обратных, кранов проходных на трубопроводах из стальных труб диаметром до 25 мм | D30: 1 шт. | E30: 1 | F30: 84.1 | G30: 18.79 | H30: 4.23 | J30: 84 | K30: 19 | L30: 4 | N30: 1.47 | O30: 1.47
A31: 3 | B31: ТЕР16-05-001-01 | C31: Установка вентилей, задвижек, затворов, клапанов обратных, кранов проходных на трубопроводах из стальных труб диаметром до 25 мм | D31: 1 шт. | E31: 1 | F31: 84.1 | G31: 18.79 | H31: 4.23 | J31: 84 | K31: 19 | L31: 4 | N31: 1.47 | O31: 1.47
A32: 4 | B32: ТЕР16-05-001-02 | C32: Установка вентилей, задвижек, затворов, клапанов обратных, кранов проходных на трубопроводах из стальных труб диаметром до 50 мм | D32: 1 шт. | E32: 3 | F32: 138.58 | G32: 18.79 | H32: 5.32 | J32: 416 | K32: 56 | L32: 16 | N32: 1.47 | O32: 4.41
A33: 5 | B33: ТЕР16-05-001-03 | C33: Установка вентилей, задвижек, затворов, клапанов обратных, кранов проходных на трубопроводах из стальных труб диаметром до 100 мм | D33: 1 шт. | E33: 1 | F33: 278.39 | G33: 37.19 | H33: 11.67 | I33: 0.36 | J33: 278 | K33: 37 | L33: 12 | N33: 2.91 | O33: 2.91 | P33: 0.02 | Q33: 0.02
A34: 6 | B34: ТЕР18-05-001-01 | C34: Установка насосов центробежных с электродвигателем, масса агрегата до 0,1 т 334,13 = 2 969,90 - 1 x 2 635,77 | D34: 1 насос | E34: 1 | F34: 334.13 | G34: 185.49 | H34: 14.31 | I34: 0.91 | J34: 334 | K34: 185 | L34: 14 | M34: 1 | N34: 14.17 | O34: 14.17 | P34: 0.05 | Q34: 0.05
A35: Уд | B35: 1. 301-1494 | C35: Насосы центробежные 8/18 с электродвигателем 4А 180 А2 массой агрегата до 0,1 т | D35: компл. | E35: 1 1 | F35: 2635.77 | J35: 2635.77
A36: 7 | B36: ТЕР18-06-002-03 | C36: Установка грязевиков наружным диаметром патрубков до 89 мм | D36: 1 шт. | E36: 2 | F36: 1244.97 | G36: 51.05 | H36: 17.29 | I36: 0.36 | J36: 2490 | K36: 102 | L36: 35 | M36: 1 | N36: 3.9 | O36: 7.8 | P36: 0.02 | Q36: 0.04
A37: 8 | B37: ТЕР16-05-001-02 | C37: Установка вентилей, задвижек, затворов, клапанов обратных, кранов проходных на трубопроводах из стальных труб диаметром до 50 мм | D37: 1 шт. | E37: 7 | F37: 138.58 | G37: 18.79 | H37: 5.32 | J37: 970 | K37: 132 | L37: 37 | N37: 1.47 | O37: 10.29
A38: 9 | B38: прайс-лист | C38: Кран шаровый фланцевый v565 Вroen Д40 Ц:2950/1,18/5,59х1.02х1.003 | D38: шт | E38: 1 | F38: 457,54 2950/1,18/5,59*1,02*1,003 | J38: 458
A39: 10 | B39: прайс-лист | C39: Кран шаровый фланцевый v565 Вroen Д50 Ц:3490/1,18/5,59х1.02х1.003 | D39: шт | E39: 6 | F39: 541,29 3490/1,18/5,59*1,02*1,003 | J39: 3248
A40: 11 | B40: ТЕР16-05-001-03 | C40: Установка вентилей, задвижек, затворов, клапанов обратных, кранов проходных на трубопроводах из стальных труб диаметром до 100 мм | D40: 1 шт. | E40: 5 | F40: 278.39 | G40: 37.19 | H40: 11.67 | I40: 0.36 | J40: 1392 | K40: 186 | L40: 58 | M40: 2 | N40: 2.91 | O40: 14.55 | P40: 0.02 | Q40: 0.1
A41: 12 | B41: прайс-лист | C41: Кран шаровый фланцевый v565 Вroen Д80 Ц:7250/1,18/5,59х1.02х1.003 | D41: шт | E41: 5 | F41: 1124,46 7250/1,18/5,59*1,02*1,003 | J41: 5622
A42: 13 | B42: ТСЦ-302-1483 | C42: Кран шаровой В-В размером 1/2" | D42: шт. | E42: 2 | F42: 57.79 | J42: 116
A43: 14 | B43: ТСЦ-302-1484 | C43: Кран шаровой В-В размером 3/4" | D43: шт. | E43: 18 | F43: 84.98 | J43: 1530
A44: 15 | B44: ТЕР18-06-007-04 | C44: Установка фильтров диаметром 50 мм | D44: 10 фильтров | E44: 0.1 | F44: 9078.62 | G44: 129.85 | H44: 90.84 | I44: 0.91 | J44: 908 | K44: 13 | L44: 9 | N44: 9.92 | O44: 0.99 | P44: 0.05 | Q44: 0.01
A45: 16 | B45: ТЕР18-06-007-06 | C45: Установка фильтров диаметром 80 мм | D45: 10 фильтров | E45: 0.2 | F45: 11408.69 | G45: 196.87 | H45: 151.47 | I45: 4 | J45: 2282 | K45: 39 | L45: 30 | M45: 1 | N45: 15.04 | O45: 3.01 | P45: 0.22 | Q45: 0.04
A46: 17 | B46: ТСЦ-302-0471 | C46: Краны регулирующие трехходовые КРТПП, латунные диаметром 15 мм | D46: шт. | E46: 11 | F46: 29.76 | J46: 327
A47: 18 | B47: ТЕР18-07-001-02 | C47: Установка манометров с трехходовым краном | D47: 1 компл. | E47: 17 | F47: 244.31 | G47: 3.07 | J47: 4153 | K47: 52 | N47: 0.22 | O47: 3.74
...

Sheet 8
A1: СОГЛАСОВАНО: | M1: УТВЕРЖДАЮ:
A4: _________________ | M4: _________________
A5: " _____ " ________________ 2013 г. | M5: "____" ______________2013 г.
H6: ФГУП "Комбинат "Электрохимприбор" г.Лесной, Свердловской области
H7: (наименование стройки)
H9: ЛОКАЛЬНЫЙ СМЕТНЫЙ РАСЧЕТ № 8
H10: (локальная смета)
C12: на | D12: Отопление и теплоснабжение П1, П2, Автоматическая мойка цеха 013
H13: (наименование работ и затрат, наименование объекта)
D15: Основание: 13-044-01-ОВ.С
D16: Сметная стоимость _______________________________________________________________________________________________ | J16: ___________________________207,691 | L16: тыс. руб.
D17: строительных работ _______________________________________________________________________________________________ | J17: _______________________________________________________________________________________________205,491 | L17: тыс. руб.
D18: монтажных работ _______________________________________________________________________________________________ | J18: _______________________________________________________________________________________________2,200 | L18: тыс. руб.
D19: Средства на оплату труда _______________________________________________________________________________________________ | J19: ___________________________11,245 | L19: тыс. руб.
D20: Сметная трудоемкость _______________________________________________________________________________________________ | J20: _______________________________________________________________________________________________795,06 | L20: чел.час
D21: Составлен(а) в текущих (прогнозных) ценах по состоянию на ______________
A24: № пп | B24: Обосно- вание | C24: Наименование | D24: Ед. изм. | E24: Кол. | F24: Стоимость единицы, руб. | J24: Общая стоимость, руб. | N24: Т/з осн. раб.на ед. | O24: Т/з осн. раб. Всего | P24: Т/з мех. на ед. | Q24: Т/з мех. Всего
F25: Всего | G25: В том числе | J25: Всего | K25: В том числе
G26: Осн.З/п | H26: Эк.Маш | I26: З/пМех | K26: Осн.З/п | L26: Эк.Маш | M26: З/пМех
A27: 1 | B27: 2 | C27: 3 | D27: 4 | E27: 5 | F27: 6 | G27: 7 | H27: 8 | I27: 9 | J27: 10 | K27: 11 | L27: 12 | M27: 13 | N27: 14 | O27: 15 | P27: 16 | Q27: 17
A28: Раздел 1. Отопление
A29: 1 | B29: ТЕР18-03-001-02 | C29: Установка радиаторов стальных 2 426,28 = 20 364,28 - 100 x 179,38 | D29: 100 кВт радиаторов и конвекторов | E29: 0.87165 | F29: 2426.28 | G29: 828.53 | H29: 270.15 | I29: 20.22 | J29: 2115 | K29: 722 | L29: 235 | M29: 18 | N29: 65.6 | O29: 57.18 | P29: 1.28 | Q29: 1.12
A30: Уд | B30: 1. 301-0559 | C30: Радиаторы стальные панельные РСВ2-1, РСВ2-6 однорядные | D30: кВт | E30: 100 87,17 | F30: 179.38 | J30: 15636.55
A31: 2 | B31: прайс-лист | C31: Радиатор биметаллический Сантехпром БМ 500-03 Ц:1710руб (Стоимость материалов (МАТ=МАТ/1,18/5,59*1,02*1,003-МАТ)) | D31: шт | E31: 1 | F31: 265.22 | J31: 265
A32: 3 | B32: прайс-лист | C32: Радиатор биметаллический Сантехпром БМ 500-04 Ц:2279руб (Стоимость материалов (МАТ=МАТ/1,18/5,59*1,02*1,003-МАТ)) | D32: шт | E32: 1 | F32: 353.47 | J32: 353
A33: 4 | B33: прайс-лист | C33: Радиатор биметаллический Сантехпром БМ 500-11 Ц:6263руб (Стоимость материалов (МАТ=МАТ/1,18/5,59*1,02*1,003-МАТ)) | D33: шт | E33: 19 | F33: 971.38 | J33: 18456
A34: 5 | B34: прайс-лист | C34: Радиатор биметаллический Сантехпром БМ 500-13 Ц:7401руб (Стоимость материалов (МАТ=МАТ/1,18/5,59*1,02*1,003-МАТ)) | D34: шт | E34: 12 | F34: 1147.88 | J34: 13775
A35: 6 | B35: прайс-лист | C35: Радиатор биметаллический Сантехпром БМ 500-15 Ц:8541руб (Стоимость материалов (МАТ=МАТ/1,18/5,59*1,02*1,003-МАТ)) | D35: шт | E35: 5 | F35: 1324.7 | J35: 6624
A36: 7 | B36: ТЕР18-06-003-10 | C36: Установка воздухоотводчиков | D36: 1 шт. | E36: 40 | F36: 118.68 | G36: 22.24 | H36: 10.19 | I36: 0.36 | J36: 4747 | K36: 890 | L36: 408 | M36: 14 | N36: 1.66 | O36: 66.4 | P36: 0.02 | Q36: 0.8
A37: 8 | B37: ТЕРм08-03-602-01 | C37: Инфракрасный электрический обогреватель BIH-1.0 | D37: 1 шт. | E37: 2 | F37: 24.58 | G37: 16.76 | H37: 3.67 | I37: 0.18 | J37: 49 | K37: 34 | L37: 7 | N37: 1.2 | O37: 2.4 | P37: 0.01 | Q37: 0.02
A38: 81 | B38: прайс-лист | C38: Инфракрасный электрический обогреватель BIH-1.0 Ц:2700руб (Стоимость материалов (МАТ=МАТ/1,18/5,59*1,02*1,003-МАТ)) | D38: шт | E38: 2 | F38: 418.77 | J38: 838
A39: 9 | B39: ТЕРм10-01-039-06 | C39: Терморегулятор ТА2n-S | D39: 1 шт. | E39: 1 | F39: 24.5 | G39: 24.02 | J39: 25 | K39: 24 | N39: 2 | O39: 2
A40: 82 | B40: прайс-лист | C40: Терморегулятор для инфракрасного обогревателя ТА2n-S Ц:950 (Стоимость материалов (МАТ=МАТ/1,18/5,59*1,02*1,003-МАТ)) | D40: шт | E40: 1 | F40: 147.34 | J40: 147
A41: 84 | B41: прайс-лист | C41: Клапан терморегулятора RA-N Д15 Ц:690 (Стоимость материалов (МАТ=МАТ/1,18/5,59*1,02*1,003-МАТ)) | D41: шт | E41: 22 | F41: 107.02 | J41: 2354
A42: 12 | B42: прайс-лист | C42: Клапан запорный RLV Ц:340руб (Стоимость материалов (МАТ=МАТ/1,18/5,59*1,02*1,003-МАТ)) | D42: шт | E42: 22 | F42: 52.73 | J42: 1160
A43: 83 | B43: прайс-лист | C43: Ручной балансировочный клапан МSV-BD Д25 Ц:4070 (Стоимость материалов (МАТ=МАТ/1,18/5,59*1,02*1,003-МАТ)) | D43: шт | E43: 4 | F43: 631.25 | J43: 2525
A44: 85 | B44: прайс-лист | C44: Термостатический элемент RA 2940 Ц:800 (Стоимость материалов (МАТ=МАТ/1,18/5,59*1,02*1,003-МАТ)) | D44: шт | E44: 22 | F44: 124.08 | J44: 2730
A45: 86 | B45: прайс-лист | C45: Запорный клапан МSV-S Д25 Ц:1800 (Стоимость материалов (МАТ=МАТ/1,18/5,59*1,02*1,003-МАТ)) | D45: шт | E45: 4 | F45: 279.18 | J45: 1117
A46: 14 | B46: ТЕР18-06-003-10 | C46: Установка воздухосборника | D46: 1 шт. | E46: 10 | F46: 118.68 | G46: 22.24 | H46: 10.19 | I46: 0.36 | J46: 1187 | K46: 222 | L46: 102 | M46: 4 | N46: 1.66 | O46: 16.6 | P46: 0.02 | Q46: 0.2
A47: 16 | B47: ТСЦ-302-1831 | C47: Кран шаровой муфтовый 11Б27П1, диаметром 15 мм | D47: шт. | E47: 10 | F47: 25.14 | J47: 251
...

Sheet 11
A1: СОГЛАСОВАНО: | M1: УТВЕРЖДАЮ:
A4: _________________ | M4: _________________
A5: " _____ " ________________ 2013 г. | M5: "____" ______________2013 г.
H6: ФГУП "Комбинат "Электрохимприбор" г.Лесной, Свердловской области
H7: (наименование стройки)
H9: ЛОКАЛЬНЫЙ СМЕТНЫЙ РАСЧЕТ № 11
H10: (локальная смета)
C12: на | D12: Силовое электрооборудование, Автоматическая мойка цеха 013
H13: (наименование работ и затрат, наименование объекта)
D15: Основание: 13-044-01-ЭМ.С
D16: Сметная стоимость _______________________________________________________________________________________________ | J16: ___________________________177,779 | L16: тыс. руб.
D17: монтажных работ _______________________________________________________________________________________________ | J17: _______________________________________________________________________________________________102,599 | L17: тыс. руб.
D18: оборудования _______________________________________________________________________________________________ | J18: _______________________________________________________________________________________________75,180 | L18: тыс. руб.
D19: Средства на оплату труда _______________________________________________________________________________________________ | J19: ___________________________9,693 | L19: тыс. руб.
D20: Сметная трудоемкость _______________________________________________________________________________________________ | J20: _______________________________________________________________________________________________532,41 | L20: чел.час
D21: Составлен(а) в текущих (прогнозных) ценах по состоянию на ______________
