Workbook
Name Constr: '24429'!$A$7
Name Constr: '24443'!$A$1
Name Constr: '24446'!#REF!
Name Constr: '24449'!#REF!
Name FOT: '24429'!$D$13
Name FOT: '24443'!$D$18
Name FOT: '24446'!$D$12
Name FOT: '24449'!$D$12
Name Ind: '24429'!$H$9
Name Ind: '24443'!#REF!
Name Ind: '24446'!#REF!
Name Ind: '24449'!#REF!
Name Obj: '24429'!#REF!
Name Obj: '24443'!$D$9
Name Obj: '24446'!$E$7
Name Obj: '24449'!$E$7
Name Obosn: '24429'!#REF!
Name Obosn: '24443'!$D$13
Name Obosn: '24446'!$D$10
Name Obosn: '24449'!$D$10
Name SmPr: '24429'!$D$12
Name SmPr: '24443'!$D$14
Name SmPr: '24446'!$D$11
Name SmPr: '24449'!$D$11
Name аааааппппппрррппппппп: #REF!
Name аараооооооооооооо: #REF!
Name автом: #REF!
Name алшрльоплварл: #REF!
Name аолвлддддддддддддддддввввввввв: #REF!
Name апарв: #REF!
Name апрлдджаоырыфрпопрлпрлпрлп: #REF!
Name арлггаджаш: #REF!
Name ароррбллтблпроорапииас: #REF!
Name арррррблллпдрлдддддддддд: #REF!
Name варпаааааааааа: #REF!
Name ввпьььььлднд: #REF!
Name вед: #REF!
Name вертикальная: #REF!
Name вертикплан: #REF!
Name волен: #REF!
Name вп: #REF!
Name впырпфдыпл: #REF!
Name впырпфдыпл: #REF!
Name впьглорьтитттттттттт: #REF!
Name всввввввввввввввввввввввввв: #REF!
Name выб: #REF!
Name выпуск: #REF!
Name выьлепвввввпмп: #REF!
Name еваопродолжэрщэрзшщщх: #REF!
Name измен: #REF!
Name итого: #REF!
Name итого: #REF!
Name итого_сантех: #REF!
Name итого_стр: #REF!
Name итого_строит: #REF!
Name итого_технол: #REF!
Name итого_электр: #REF!
Name квота: #REF!
Name кккккккккк: #REF!
Name корек: #REF!

Sheet 24429
A1: СОГЛАСОВАНО: | E1: ФГУП "Комбинат "Электрохимприбор" | M1: УТВЕРЖДАЮ:
G2: (наименование стройки) | M2: Зам.генерального директора
A3: _________________ | N3: Е.В. Гордеев
A4: " _____ " ________________ 2012 г. | M4: __________________
G5: ЛОКАЛЬНЫЙ СМЕТНЫЙ РАСЧЕТ № 24429 | M5: "______ " __________2012 г.
G6: (локальная смета)
C8: на | D8: реконструкцию. Столовая №11. Обеденный зал для VIP гостей
H9: (наименование работ и затрат, наименование объекта)
D11: Основание: проект №24239-12АР | N11: Справочно, в тыс.руб. :
D12: Сметная стоимость строительных работ _______________________________________________________________________________________________ | J12: ___________________________292,519 | L12: тыс. руб. | N12: с К=4,42 | P12: 1292.934
D13: Средства на оплату труда _______________________________________________________________________________________________ | J13: ___________________________35,611 | L13: тыс. руб. | N13: с К=4,42 | P13: 157.401
D14: Сметная трудоемкость _______________________________________________________________________________________________ | J14: _______________________________________________________________________________________________2625,31 | L14: чел.час
D15: Материалы ________________________________________________________ | K15: 197,554 тыс.руб. | N15: с К=4,42 | P15: 873.189
D16: Составлен(а) в базовых ценах 2001г. в редакции 2009г.
A18: № пп | B18: Обоснование | C18: Наименование | D18: Ед. изм. | E18: Кол. | F18: Стоимость единицы, руб. | J18: Общая стоимость, руб. | N18: Т/з осн. раб.на ед. | O18: Т/з осн. раб. Всего | P18: Т/з мех. на ед. | Q18: Т/з мех. Всего
F19: Всего | G19: В том числе | J19: Всего | K19: В том числе
G20: Осн.З/п | H20: Эк.Маш | I20: З/пМех | K20: Осн.З/п | L20: Эк.Маш | M20: З/пМех
A21: 1 | B21: 2 | C21: 3 | D21: 4 | E21: 5 | F21: 6 | G21: 7 | H21: 8 | I21: 9 | J21: 10 | K21: 11 | L21: 12 | M21: 13 | N21: 14 | O21: 15 | P21: 16 | Q21: 17
A22: Раздел 1. Разборка констукций
A23: 1 | B23: ТЕР09-03-040-01 | C23: Разборка металлического ограждения КОЭФ. К ПОЗИЦИИ: Прил.9.3 Разборка (демонтаж) металлических конструкций ОЗП=0,7; ЭМ=0,7 к расх.; ЗПМ=0,7; МАТ=0 к расх.; ТЗ=0,7; ТЗМ=0,7 | D23: 1 т конструкций | E23: 0.02 | F23: 875.96 | G23: 823.72 | H23: 52.24 | I23: 1.53 | J23: 18 | K23: 17 | L23: 1 | N23: 66 | O23: 1.32 | P23: 0.08
A24: 2 | B24: ТЕР46-04-006-03 | C24: Разборка обшивки из деревянных щитов стен | D24: 100 м2 | E24: 0.162 | F24: 587.7 | G24: 312.05 | H24: 275.65 | I24: 106.84 | J24: 95 | K24: 51 | L24: 44 | M24: 17 | N24: 29.3 | O24: 4.75 | P24: 6.84 | Q24: 1.11
A25: 3 | B25: ТЕР46-04-006-03 прим. | C25: Разборка деревянных ограждений щитовых дощатых | D25: 100 м2 | E25: 0.051 | F25: 587.7 | G25: 312.05 | H25: 275.65 | I25: 106.84 | J25: 30 | K25: 16 | L25: 14 | M25: 5 | N25: 29.3 | O25: 1.49 | P25: 6.84 | Q25: 0.35
A26: 4 | B26: ТЕР46-04-006-03 прим. | C26: Разборка ограждений радиаторов | D26: 100 м2 | E26: 0.193 | F26: 587.7 | G26: 312.05 | H26: 275.65 | I26: 106.84 | J26: 113 | K26: 60 | L26: 53 | M26: 21 | N26: 29.3 | O26: 5.65 | P26: 6.84 | Q26: 1.32
A27: 5 | B27: ТЕР15-04-029-04 | C27: Разборка декоративного покрытия из ткани: стен КОЭФ. К ПОЗИЦИИ: разборка ОЗП=0,8; ЭМ=0,8 к расх.; ЗПМ=0,8; МАТ=0 к расх.; ТЗ=0,8; ТЗМ=0,8 | D27: 100 м2 | E27: 1.77 | F27: 185.62 | G27: 174.5 | H27: 11.12 | I27: 0.25 | J27: 329 | K27: 309 | L27: 20 | N27: 13.82 | O27: 24.46 | P27: 0.02 | Q27: 0.04
A28: 6 | B28: ТЕР15-02-037-01 | C28: Разборка каркаса при отделке стен КОЭФ. К ПОЗИЦИИ: разборка ОЗП=0,8; ЭМ=0,8 к расх.; ЗПМ=0,8; МАТ=0 к расх.; ТЗ=0,8; ТЗМ=0,8 | D28: 100 м2 | E28: 1.77 | F28: 267.7 | G28: 258.59 | H28: 9.11 | I28: 2.62 | J28: 474 | K28: 458 | L28: 16 | M28: 5 | N28: 19.98 | O28: 35.36 | P28: 0.17 | Q28: 0.3
A29: 7 | B29: ТЕР46-02-009-02 | C29: Отбивка штукатурки с поверхностей стен | D29: 100 м2 | E29: 1.14 | F29: 250.79 | G29: 250.79 | J29: 286 | K29: 286 | N29: 22.82 | O29: 26.01
A30: 8 | B30: ТЕРр57-2-3 | C30: Разборка покрытий полов из керамических плиток | D30: 100 м2 покрытия | E30: 0.189 | F30: 897.17 | G30: 839.14 | H30: 58.03 | I30: 22.49 | J30: 170 | K30: 159 | L30: 11 | M30: 4 | N30: 69.87 | O30: 13.21 | P30: 1.44 | Q30: 0.27
A31: 9 | B31: ТЕР46-04-011-02 | C31: Разборка покрытий полов из мраморных плит | D31: 100 м2 покрытия | E31: 0.41 | F31: 541.99 | G31: 464.41 | H31: 77.58 | I31: 7.19 | J31: 222 | K31: 190 | L31: 32 | M31: 3 | N31: 36.77 | O31: 15.08 | P31: 0.46 | Q31: 0.19
A32: 10 | B32: ТЕР46-04-010-03 | C32: Разборка покрытий полов паркетных | D32: 100 м2 покрытия | E32: 0.536 | F32: 576.58 | G32: 505.65 | H32: 70.93 | I32: 27.49 | J32: 309 | K32: 271 | L32: 38 | M32: 15 | N32: 46.01 | O32: 24.66 | P32: 1.76 | Q32: 0.94
A33: 11 | B33: ТЕРр63-10-2 | C33: Разборка облицовки из гипсокартонных листов (ДВП) потолков | D33: 100 м2 облицовки | E33: 0.536 | F33: 124.65 | G33: 116.59 | H33: 8.06 | I33: 3.12 | J33: 67 | K33: 63 | L33: 4 | M33: 2 | N33: 9.58 | O33: 5.13 | P33: 0.2 | Q33: 0.11
A34: 12 | B34: ТЕРр63-10-1 прим. | C34: Разборка облицовки из ЦСП стен и перегородок | D34: 100 м2 облицовки | E34: 0.04 | F34: 97.02 | G34: 88.96 | H34: 8.06 | I34: 3.12 | J34: 4 | K34: 4 | N34: 7.31 | O34: 0.29 | P34: 0.2 | Q34: 0.01
A35: 13 | B35: ТЕР46-04-007-06 | C35: Разборка деревянных подвесных потолков из плит акмигран | D35: 100 м2 | E35: 0.153 | F35: 902.47 | G35: 813.81 | H35: 88.66 | I35: 34.36 | J35: 138 | K35: 125 | L35: 13 | M35: 5 | N35: 66.87 | O35: 10.23 | P35: 2.2 | Q35: 0.34
A36: 14 | B36: ТЕР46-04-012-03 | C36: Разборка деревянных заполнений проемов дверных | D36: 100 м2 | E36: 0.092 | F36: 1496.49 | G36: 1184.57 | H36: 311.92 | I36: 120.9 | J36: 138 | K36: 109 | L36: 29 | M36: 11 | N36: 103.91 | O36: 9.56 | P36: 7.74 | Q36: 0.71
A37: 15 | B37: ТЕР09-03-030-01 | C37: Разборка металлических вешалок КОЭФ. К ПОЗИЦИИ: Прил.9.3 Разборка (демонтаж) металлических конструкций ОЗП=0,7; ЭМ=0,7 к расх.; ЗПМ=0,7; МАТ=0 к расх.; ТЗ=0,7; ТЗМ=0,7 | D37: 1 т конструкций | E37: 0.04 | F37: 882.36 | G37: 354.44 | H37: 527.92 | I37: 60.26 | J37: 35 | K37: 14 | L37: 21 | M37: 2 | N37: 27.39 | O37: 1.1 | P37: 3.3 | Q37: 0.13
A38: 16 | B38: ТЕР09-06-024-01 | C38: Разборка декоративной решетки камина КОЭФ. К ПОЗИЦИИ: Прил.9.3 Разборка (демонтаж) металлических конструкций ОЗП=0,7; ЭМ=0,7 к расх.; ЗПМ=0,7; МАТ=0 к расх.; ТЗ=0,7; ТЗМ=0,7 | D38: 1 т конструкций | E38: 0.03 | F38: 705.37 | G38: 202.6 | H38: 502.77 | I38: 37.58 | J38: 21 | K38: 6 | L38: 15 | M38: 1 | N38: 14.95 | O38: 0.45 | P38: 2.07 | Q38: 0.06
A39: 17 | B39: СЦП1-1-27-А | C39: Погрузочные работы при автомобильных перевозках: мусор строительный КОЭФ. К ПОЗИЦИИ: Коэффициент техн.часть п.3 ПЗ=1,025 (ОЗП=1,025; ЭМ=1,025 к расх.; ЗПМ=1,025; МАТ=1,025 к расх.; ТЗ=1,025; ТЗМ=1,025) | D39: т | E39: 18.89 | F39: 2.77 | G39: 2.77 | J39: 52 | K39: 52
A40: 18 | B40: СЦП3-3-40-1 | C40: Перевозка грузов (грунта и мусора) автомобилями-самосвалами (работающими вне карьеров): расстояние 40 км, класс груза I КОЭФ. К ПОЗИЦИИ: 17 При перевозке грузов к провозной плате (тарифам) применять поправочный коэффициент ПЗ=1,37 (ОЗП=1,37; ЭМ=1,37 к расх.; ЗПМ=1,37; МАТ=1,37 к расх.; ТЗ=1,37; ТЗМ=1,37) | D40: т | E40: 18.89 | F40: 52.85 | H40: 52.85 | J40: 998 | L40: 998
A41: Раздел 2. Общестроительные работы
A42: Стены, перегородки
A43: 19 | B43: ТЕРр53-20-4 | C43: Кладка отдельных участков из кирпича внутренних стен | D43: 100 м3 кладки | E43: 0.003 | F43: 73520.24 | G43: 7912.7 | H43: 9982.44 | I43: 709.8 | J43: 221 | K43: 24 | L43: 30 | M43: 2 | N43: 670 | O43: 2.01 | P43: 39 | Q43: 0.12
...

Sheet 24443
A1: СОГЛАСОВАНО: | E1: ФГУП "Комбинат "Электрохимприбор" | M1: УТВЕРЖДАЮ:
G2: (наименование стройки) | M2: Зам. генерального директора
M3: Е.В.Гордеев
A4: _________________ | M4: _________________
A5: " _____ " ________________ 2012 г. | M5: "______ " __________2012 г.
G6: ЛОКАЛЬНЫЙ СМЕТНЫЙ РАСЧЕТ № 24443
G7: (локальная смета)
D9: на Реконструкцию. Столовая 11.
D10: Электроснабжение обеденного зала для VIP гостей.
G11: (наименование работ и затрат, наименование объекта)
D13: Основание: проект № 24294-12-ЭМ | N13: Справочно, в тыс.руб. :
D14: Сметная стоимость _______________________________________________________________________________________________ | J14: ___________________________85,236 | L14: тыс. руб. | N14: с К=4,42 | P14: =SUM(P15:P17) -> 374.6906
D15: строительных работ _______________________________________________________________________________________________ | J15: _______________________________________________________________________________________________3,348 | L15: тыс. руб. | N15: с К=4,42 | P15: =3.348*4.42 -> 14.79816
D16: монтажных работ _______________________________________________________________________________________________ | J16: _______________________________________________________________________________________________72,964 | L16: тыс. руб. | N16: с К=4,42 | P16: =72.964*4.42 -> 322.50088
D17: оборудования _______________________________________________________________________________________________ | J17: _______________________________________________________________________________________________8,924 | L17: тыс. руб. | N17: с К=4,19 | P17: =8.924*4.19 -> 37.39156
D18: Средства на оплату труда _______________________________________________________________________________________________ | J18: ___________________________9,000 | L18: тыс. руб. | N18: с К=4,42 | P18: =9*4.42 -> 39.78
D19: Сметная трудоемкость _______________________________________________________________________________________________ | J19: _______________________________________________________________________________________________529,38 | L19: чел.час
D20: Материалы ______________________________________ | K20: =K131/1000 -> 47.881 | L20: тыс.руб. | N20: с К=4,42 | P20: =K20*4.42 -> 211.63402
D21: Составлен(а) в базовых ценах 2001г. в редакции 2009г.
A23: № пп | B23: Обоснова-ние | C23: Наименование | D23: Ед. изм. | E23: Кол. | F23: Стоимость единицы, руб. | J23: Общая стоимость, руб. | O23: Т/з осн. раб.на ед. | P23: Т/з осн. раб. Всего | Q23: Общая масса обору-дования, т
F24: Всего | G24: В том числе | J24: Обору-дование | K24: Всего | L24: В том числе
G25: Осн.З/п | H25: Эк.Маш | I25: З/пМех | L25: Осн.З/п | M25: Эк.Маш | N25: З/пМех
A26: 1 | B26: 2 | C26: 3 | D26: 4 | E26: 5 | F26: 6 | G26: 7 | H26: 8 | I26: 9 | J26: 10 | K26: 11 | L26: 12 | M26: 13 | N26: 14 | O26: 15 | P26: 16 | Q26: 17
A27: Раздел 1. Демонтажные работы
A28: 1 | B28: ТЕРм08-03-573-04 | C28: Демонтаж: шкаф (пульт) управления навесной. КОЭФ. К ПОЗИЦИИ: демонтаж ОЗП=0,3; ЭМ=0,3 к расх.; ЗПМ=0,3; МАТ=0 к расх.; ТЗ=0,3; ТЗМ=0,3 | D28: 1 шт. | E28: 1 | F28: 28.55 | G28: 9.93 | H28: 18.62 | I28: 1.41 | K28: 29 | L28: 10 | M28: 19 | N28: 1 | O28: 0.71 | P28: 0.71
A29: 2 | B29: ТЕРр67-4-5 | C29: Демонтаж светильников для люминесцентных ламп | D29: 100 шт. | E29: 0.2 | F29: 205.2 | G29: 201.98 | H29: 3.22 | I29: 1.25 | K29: 41 | L29: 40 | M29: 1 | O29: 17.89 | P29: 3.58
A30: 3 | B30: ТЕРр67-4-1 | C30: Демонтаж выключателей, розеток | D30: 100 шт. | E30: 0.25 | F30: 64.18 | G30: 64.18 | K30: 16 | L30: 16 | O30: 5.84 | P30: 1.46
A31: 4 | B31: ТЕРр67-3-1 | C31: Демонтаж кабеля | D31: 100 м | E31: 4 | F31: 106.34 | G31: 105.94 | H31: 0.4 | I31: 0.16 | K31: 425 | L31: 424 | M31: 1 | N31: 1 | O31: 9.64 | P31: 38.56
A32: Раздел 2. Монтажные работы
A33: 5 | B33: ТЕРм08-03-599-04 | C33: Щитки осветительные, устанавливаемые в нише распорными дюбелями, масса щитка до 50 кг | D33: 1 шт. | E33: 1 | F33: 181.27 | G33: 88.29 | H33: 25.98 | I33: 1.46 | K33: 181 | L33: 88 | M33: 26 | N33: 1 | O33: 6.32 | P33: 6.32
A34: 6 | B34: Цена поставщика | C34: Бокс ЩРН-П-18 модулей навесной пластик IP54 ИЭК MKP12-N-18-40-10 (Ц:728,78руб:1,18:4,42) | D34: шт. | E34: 1 | F34: 139.73 | K34: 140
A35: 7 | B35: ТЕРм08-03-526-02 | C35: Автомат одно-, двух-, трехполюсный, устанавливаемый в щите, на ток до 100 А | D35: 1 шт. | E35: 2 | F35: 65.11 | G35: 31.09 | H35: 4.53 | I35: 0.18 | K35: 130 | L35: 62 | M35: 9 | O35: 2.32 | P35: 4.64
A36: 8 | B36: ТЕРм08-03-526-01 | C36: Автомат одно-, двух-, трехполюсный, устанавливаемый в щите, на ток до 25 А | D36: 1 шт. | E36: 14 | F36: 40.13 | G36: 20.9 | H36: 1.28 | K36: 562 | L36: 293 | M36: 18 | O36: 1.56 | P36: 21.84
A37: 9 | B37: Цена поставщика | C37: Авт. выкл. ВА47-29 3Р 40А 4,5кА х-ка В ИЭК MVA20-3-040-B (Ц:178,85руб:1,18:4,42) | D37: шт. | E37: 1 | F37: 34.29 | K37: 34
A38: 10 | B38: Цена поставщика | C38: Диф. автомат АД12 2Р 20А 30мА ИЭК MAD10-2-020-C-030 (Ц:479,22руб:1,18:4,42) | D38: шт. | E38: 7 | F38: 91.88 | K38: 643
A39: 11 | B39: Цена поставщика | C39: Авт. выкл. ВА47-29 1Р 16А 4,5кА х-ка В ИЭК MVA20-1-016-B (Ц:54,78руб:1,18:4,42) | D39: шт. | E39: 7 | F39: 10.5 | K39: 74
A40: 12 | B40: Цена поставщика | C40: Авт. выкл. ВА47-29 1Р 32А 4,5кА х-ка В ИЭК MVA20-1-032-B (Ц:59,63руб:1,18:4,19) | D40: шт. | E40: 1 | F40: 12.06 | K40: 12
A41: 13 | B41: ТЕРм08-03-593-12 | C41: Люстры и подвесы с количеством ламп до 12 | D41: 1 шт. | E41: 6 | F41: 213.55 | G41: 32.55 | H41: 89.14 | I41: 32.68 | K41: 1281 | L41: 195 | M41: 535 | N41: 196 | O41: 2.33 | P41: 13.98
A42: 14 | B42: Цена поставщика | C42: Люстра БЭ35 "АФИНА" (Ц:3083руб:1,18:4,42) | D42: шт. | E42: 6 | F42: 591.11 | K42: 3547
A43: 15 | B43: ТЕРм08-03-593-11 | C43: Люстры и подвесы с количеством ламп до 5 | D43: 1 шт. | E43: 5 | F43: 121.27 | G43: 16.9 | H43: 36.84 | I43: 15.65 | K43: 606 | L43: 85 | M43: 184 | N43: 78 | O43: 1.21 | P43: 6.05
...

Sheet 24446
A1: СОГЛАСОВАНО: | E1: ФГУП "Комбинат "Электрохимприбор" | M1: УТВЕРЖДАЮ:
G2: (наименование стройки) | M2: Зам. генерального директора
A3: _____________________________ | M3: Е.В.Гордеев
A4: " _____ " ________________ 2012г. | G4: ЛОКАЛЬНЫЙ СМЕТНЫЙ РАСЧЕТ № 24446
G5: (локальная смета) | M5: "______ " __________2012 г.
C7: на | D7: Реконструкцию. Столовая 11 Отопление и вентиляция.
H8: (наименование работ и затрат, наименование объекта)
D10: Основание: 24326-12-ОВ | N10: Справочно, в тыс.руб. :
D11: Сметная стоимость строительных работ _______________________________________________________________________________________________ | J11: ___________________________20,905 | L11: тыс. руб. | N11: с К=4,42 | P11: =20.905*4.42 -> 92.4001
D12: Средства на оплату труда _______________________________________________________________________________________________ | J12: ___________________________1,927 | L12: тыс. руб. | N12: с К=4,42 | P12: =1.927*4.42 -> 8.51734
D13: Сметная трудоемкость _______________________________________________________________________________________________ | J13: _______________________________________________________________________________________________139,56 | L13: чел.час
D14: Материалы ___________________________________________________________ | J14: =J62/1000 -> 15.117 | L14: тыс.руб. | N14: с К=4,42 | P14: =15.117*4.42 -> 66.81714
D15: Составлен(а) в базовых ценах 2001г. в редакции 2009г.
A18: № пп | B18: Обоснование | C18: Наименование | D18: Ед. изм. | E18: Кол. | F18: Стоимость единицы, руб. | J18: Общая стоимость, руб. | N18: Т/з осн. раб.на ед. | O18: Т/з осн. раб. Всего | P18: Т/з мех. на ед. | Q18: Т/з мех. Всего
F19: Всего | G19: В том числе | J19: Всего | K19: В том числе
G20: Осн.З/п | H20: Эк.Маш | I20: З/пМех | K20: Осн.З/п | L20: Эк.Маш | M20: З/пМех
A21: 1 | B21: 2 | C21: 3 | D21: 4 | E21: 5 | F21: 6 | G21: 7 | H21: 8 | I21: 9 | J21: 10 | K21: 11 | L21: 12 | M21: 13 | N21: 14 | O21: 15 | P21: 16 | Q21: 17
A22: Раздел 1. Разборка.
A23: 1 | B23: ТЕРр65-19-1 | C23: Демонтаж радиаторов весом до 80 кг | D23: 100 шт. | E23: 0.03 | F23: 1310.17 | G23: 1219.9 | H23: 90.27 | I23: 34.99 | J23: 39 | K23: 37 | L23: 2 | M23: 1 | N23: 110 | O23: 3.3 | P23: 2.24 | Q23: 0.07
A24: 2 | B24: ТЕРр65-19-5 | C24: Демонтаж конвекторов | D24: 100 экм | E24: 0.14 | F24: 211.01 | G24: 202.95 | H24: 8.06 | I24: 3.12 | J24: 30 | K24: 29 | L24: 1 | N24: 18.3 | O24: 2.56 | P24: 0.2 | Q24: 0.03
A25: 3 | B25: ТЕРр65-1-1 | C25: Разборка трубопроводов из водогазопроводных труб диаметром до 32 мм | D25: 100 м | E25: 0.4 | F25: 483.12 | G25: 405.87 | H25: 8.12 | I25: 1.56 | J25: 193 | K25: 162 | L25: 3 | M25: 1 | N25: 34.66 | O25: 13.86 | P25: 0.1 | Q25: 0.04
A26: Раздел 2. Отопление.
A27: 4 | B27: ТЕР16-02-002-03 прим. | C27: Прокладка трубопроводов из стальных водогазопроводных оцинкованных труб диаметром 25 мм | D27: 100 м | E27: 0.1 | F27: 6208.42 | G27: 502.3 | H27: 79.16 | I27: 2.73 | J27: 621 | K27: 50 | L27: 8 | N27: 37.07 | O27: 3.71 | P27: 0.15 | Q27: 0.02
A28: 5 | B28: ТЕР16-02-002-02 прим. | C28: Прокладка трубопроводов из стальных водогазопроводных оцинкованных труб диаметром 20 мм | D28: 100 м | E28: 0.3 | F28: 5654.2 | G28: 502.3 | H28: 79.16 | I28: 2.73 | J28: 1696 | K28: 151 | L28: 24 | M28: 1 | N28: 37.07 | O28: 11.12 | P28: 0.15 | Q28: 0.05
A29: 6 | B29: ТСЦ-302-1832 | C29: Кран шаровой муфтовый 11Б27П1, диаметром 20 мм | D29: шт. | E29: 10 | F29: 39.32 | J29: 393
A30: 7 | B30: ТСЦ-302-1831 | C30: Кран шаровой муфтовый 11Б27П1, диаметром 15 мм | D30: шт. | E30: 1 | F30: 25.14 | J30: 25
A31: 8 | B31: ТСЦ-301-1224 | C31: Крепления для трубопроводов: кронштейны, планки, хомуты | D31: кг | E31: 8 | F31: 17.02 | J31: 136
A32: 9 | B32: ТЕР18-03-001-03 | C32: Установка конвекторов | D32: 100 кВт | E32: 0.285 | F32: 1509.46 | G32: 1219.68 | H32: 242.21 | I32: 16.79 | J32: 430 | K32: 348 | L32: 69 | M32: 5 | N32: 96.57 | O32: 27.52 | P32: 1.06 | Q32: 0.3
A33: Уд | B33: 1. 301-0420 | C33: Конвекторы отопительные типа АККОРД с креплениями без кожуха | D33: кВт | E33: 100 28,5 | F33: 168.87 | J33: 4812.8
A34: 10 | B34: ТСЦ-301-0425 прим. | C34: Конвекторы отопительные | D34: кВт | E34: 28.5 | F34: 355.64 | J34: 10136
A35: 11 | B35: ТЕР18-03-001-02 | C35: Установка радиаторов | D35: 100 кВт | E35: 0.01 | F35: 2426.28 | G35: 828.53 | H35: 270.15 | I35: 20.22 | J35: 24 | K35: 8 | L35: 3 | N35: 65.6 | O35: 0.66 | P35: 1.28 | Q35: 0.01
A36: Уд | B36: 1. 301-0559 | C36: Радиаторы стальные панельные РСВ2-1, РСВ2-6 однорядные | D36: кВт | E36: 100 1 | F36: 179.38 | J36: 179.38
A37: 12 | B37: ТСЦ-301-1013 прим. | C37: Радиаторы биметаллические, количество секций 6 | D37: шт. | E37: 1 | F37: 1178.24 | J37: 1178
A38: 13 | B38: ТЕР16-07-003-01 | C38: Врезка в действующие внутренние сети трубопроводов отопления и водоснабжения диаметром 15 мм | D38: 1 врезка | E38: 2 | F38: 104.6 | G38: 62.31 | H38: 5.56 | J38: 209 | K38: 125 | L38: 11 | N38: 4.46 | O38: 8.92
A39: 14 | B39: ТЕР16-07-003-03 | C39: Врезка в действующие внутренние сети трубопроводов отопления и водоснабжения диаметром 25 мм | D39: 1 врезка | E39: 6 | F39: 127.66 | G39: 62.31 | H39: 5.56 | J39: 766 | K39: 374 | L39: 33 | N39: 4.46 | O39: 26.76
A40: 15 | B40: ТЕР16-07-005-01 | C40: Гидравлическое испытание трубопроводов систем отопления, водопровода и горячего водоснабжения диаметром до 50 мм | D40: 100 м | E40: 0.4 | F40: 104.4 | G40: 82.16 | H40: 15.29 | J40: 42 | K40: 33 | L40: 6 | N40: 5.01 | O40: 2
A41: 16 | B41: ТЕР13-03-002-04 | C41: Огрунтовка металлических поверхностей за один раз грунтовкой ГФ-021 | D41: 100 м2 | E41: 0.03 | F41: 417.46 | G41: 79.65 | H41: 10.15 | I41: 0.16 | J41: 13 | K41: 2 | N41: 5.31 | O41: 0.16 | P41: 0.01
A42: 17 | B42: ТЕР15-04-030-04 | C42: Масляная окраска металлических труб диаметром менее 50 мм и т.п., количество окрасок 2 | D42: 100 м2 | E42: 0.03 | F42: 1384.09 | G42: 886.83 | H42: 3.68 | I42: 0.16 | J42: 42 | K42: 27 | N42: 71.06 | O42: 2.13 | P42: 0.01
A43: Раздел 3. Вентиляция.
A44: 18 | B44: ТЕР20-01-001-01 прим. | C44: Прокладка воздуховодов из алюминия диаметром до 200 мм | D44: 100 м2 | E44: 0.023 | F44: 2810.67 | G44: 2068.04 | H44: 170.31 | I44: 9.46 | J44: 65 | K44: 48 | L44: 4 | N44: 167.86 | O44: 3.86 | P44: 0.52 | Q44: 0.01
...

Sheet 24449
A1: СОГЛАСОВАНО: | E1: ФГУП "Комбинат "Электрохимприбор" | M1: УТВЕРЖДАЮ:
G2: (наименование стройки) | M2: Зам. генерального директора
A3: _____________________________ | M3: Е.В.Гордеев
A4: " _____ " ________________ 2012г. | G4: ЛОКАЛЬНЫЙ СМЕТНЫЙ РАСЧЕТ № 24449
G5: (локальная смета) | M5: "______ " __________2012 г.
C7: на | D7: Реконструкцию. Здание 429 Столовая 11 Обеденный зал. Водопровод, канализация.
H8: (наименование работ и затрат, наименование объекта)
D10: Основание: № 24289-12-ВК | N10: Справочно, в тыс.руб. :
D11: Сметная стоимость строительных работ _______________________________________________________________________________________________ | J11: ___________________________14,553 | L11: тыс. руб. | N11: с К=4,42 | P11: =14.553*4.42 -> 64.32426
D12: Средства на оплату труда _______________________________________________________________________________________________ | J12: ___________________________1,267 | L12: тыс. руб. | N12: с К=4,42 | P12: =1.267*4.42 -> 5.60014
D13: Сметная трудоемкость _______________________________________________________________________________________________ | J13: _______________________________________________________________________________________________92,37 | L13: чел.час
D14: Материалы ___________________________________________________________ | J14: =J65/1000 -> 10.761 | L14: тыс.руб. | N14: с К=4,42 | P14: =10.761*4.42 -> 47.56362
D15: Составлен(а) в базовых ценах 2001г. в редакции 2009г.
A18: № пп | B18: Обоснование | C18: Наименование | D18: Ед. изм. | E18: Кол. | F18: Стоимость единицы, руб. | J18: Общая стоимость, руб. | N18: Т/з осн. раб.на ед. | O18: Т/з осн. раб. Всего | P18: Т/з мех. на ед. | Q18: Т/з мех. Всего
F19: Всего | G19: В том числе | J19: Всего | K19: В том числе
G20: Осн.З/п | H20: Эк.Маш | I20: З/пМех | K20: Осн.З/п | L20: Эк.Маш | M20: З/пМех
A21: 1 | B21: 2 | C21: 3 | D21: 4 | E21: 5 | F21: 6 | G21: 7 | H21: 8 | I21: 9 | J21: 10 | K21: 11 | L21: 12 | M21: 13 | N21: 14 | O21: 15 | P21: 16 | Q21: 17
A22: Раздел 1. Разборка.
A23: 1 | B23: ТЕРр65-1-1 | C23: Разборка трубопроводов из водогазопроводных труб диаметром до 32 мм | D23: 100 м | E23: 0.1 | F23: 483.12 | G23: 405.87 | H23: 8.12 | I23: 1.56 | J23: 48 | K23: 41 | L23: 1 | N23: 34.66 | O23: 3.47 | P23: 0.1 | Q23: 0.01
A24: Раздел 2. Водопровод.
A25: 2 | B25: ТЕР16-02-002-01 | C25: Прокладка трубопроводов водоснабжения из стальных водогазопроводных оцинкованных труб диаметром 15 мм | D25: 100 м | E25: 0.03 | F25: 5020.27 | G25: 502.3 | H25: 79.16 | I25: 2.73 | J25: 151 | K25: 15 | L25: 2 | N25: 37.07 | O25: 1.11 | P25: 0.15
A26: 3 | B26: ТЕР16-03-002-01 | C26: Прокладка трубопроводов водоснабжения из многослойных металл-полимерных труб диаметром 15 мм | D26: 100 м | E26: 0.11 | F26: 6136.29 | G26: 1541.12 | H26: 66.7 | I26: 1.27 | J26: 675 | K26: 170 | L26: 7 | N26: 112 | O26: 12.32 | P26: 0.07 | Q26: 0.01
A27: 4 | B27: ТСЦ-301-1224 | C27: Крепления для трубопроводов: кронштейны, планки, хомуты | D27: кг | E27: 2.8 | F27: 17.02 | J27: 48
A28: 5 | B28: ТСЦ-302-1831 | C28: Кран шаровой муфтовый 11Б27П1, диаметром 15 мм | D28: шт. | E28: 5 | F28: 25.14 | J28: 126
A29: 6 | B29: ТСЦ-302-1484 | C29: Кран шаровой В-В размером 3/4" | D29: шт. | E29: 1 | F29: 84.98 | J29: 85
A30: 7 | B30: ТЕРр65-6-10 прим. | C30: Установка гибких подводок | D30: 100 приборов | E30: 0.07 | F30: 4008.14 | G30: 669.67 | H30: 7.47 | I30: 0.78 | J30: 281 | K30: 47 | L30: 1 | N30: 52.4 | O30: 3.67 | P30: 0.05
A31: 8 | B31: ТЕР16-07-003-01 | C31: Врезка в действующие внутренние сети трубопроводов отопления и водоснабжения диаметром 15 мм | D31: 1 врезка | E31: 4 | F31: 104.6 | G31: 62.31 | H31: 5.56 | J31: 418 | K31: 249 | L31: 22 | N31: 4.46 | O31: 17.84
A32: 9 | B32: ТЕР16-07-005-01 | C32: Гидравлическое испытание трубопроводов систем отопления, водопровода и горячего водоснабжения диаметром до 50 мм | D32: 100 м | E32: 0.14 | F32: 104.4 | G32: 82.16 | H32: 15.29 | J32: 15 | K32: 12 | L32: 2 | N32: 5.01 | O32: 0.7
A33: Раздел 3. Канализация.
A34: 10 | B34: ТЕР16-04-001-01 | C34: Прокладка трубопроводов канализации из полиэтиленовых труб высокой плотности диаметром 50 мм | D34: 100 м | E34: 0.03 | F34: 5197.98 | G34: 897.43 | H34: 15.84 | I34: 0.36 | J34: 156 | K34: 27 | N34: 64.24 | O34: 1.93 | P34: 0.02
A35: 11 | B35: ТСЦ-301-1097 | C35: Хомуты для крепления канализационных и водосточных пластмассовых трубопроводов, диаметром 50 мм | D35: т | E35: 0.00112 | F35: 29302 | J35: 33
A36: 12 | B36: ТЕРр65-4-7 прим. | C36: Установка сифонов КОЭФ. К ПОЗИЦИИ: ОЗП=0,8; | D36: 100 приборов | E36: 0.02 | F36: 566.98 | G36: 566.01 | H36: 0.97 | I36: 0.38 | J36: 11 | K36: 11 | N36: 47.13 | O36: 0.94 | P36: 0.02
A37: 13 | B37: ТСЦ-115-0802 прим. | C37: Сифон для душевых поддонов | D37: т | E37: 0.00013 | F37: 3864 | J37: 1
A38: 14 | B38: ТЕР17-01-003-01 прим. | C38: Установка унитазов навесных с бачком | D38: 10 компл. | E38: 0.1 | F38: 648.15 | G38: 330.18 | H38: 56.04 | I38: 5 | J38: 65 | K38: 33 | L38: 6 | M38: 1 | N38: 24.64 | O38: 2.46 | P38: 0.32 | Q38: 0.03
A39: Уд | B39: 1. 301-1521 | C39: Унитаз-компакт «Комфорт» | D39: компл. | E39: 10 1 | F39: 499.09 | J39: 499.09
A40: 15 | B40: Цена поставщика. | C40: Унитаз навесной GROHE. (Цена: 5000,00:1,18:4,42*1,02=977,83) | D40: шт | E40: 1 | F40: 977.83 | J40: 978
A41: 16 | B41: Цена поставщика. | C41: Инстоляция для унитаза в сборе ,с кнопкой, крепежом, шумоизоляцией, с бачком GROHE. (Цена: 7500,00:1,18:4,42*1,02=1466,75) | D41: компл. | E41: 1 | F41: 1466.75 | J41: 1467
A42: 17 | B42: ТЕР17-01-001-14 | C42: Установка умывальников одиночных с подводкой холодной и горячей воды | D42: 10 компл. | E42: 0.1 | F42: 407.19 | G42: 293.36 | H42: 29.83 | I42: 2.03 | J42: 41 | K42: 29 | L42: 3 | N42: 21.65 | O42: 2.17 | P42: 0.13 | Q42: 0.01
A43: 18 | B43: ТСЦ-301-0670 прим. | C43: Раковина керамическая с смесителем с нижней камерой смешивания, кронштейнами, сифоном бутылочным латунным и выпуском, прямоугольные со скрытыми установочными поверхностями | D43: компл. | E43: 1 | F43: 290.36 | J43: 290
A44: 19 | B44: Цена поставщика | C44: Смеситель бесконтактный (на фотоэлементах) 220В. (Цена:13400,00:1,18:4,42*1,02=2620,60) | D44: компл. | E44: 1 | F44: 2620.6 | J44: 2621
...

Sheet НМЦ
A3: Расчет начальной (максимальной) цены
A5: Выполнение строительно-монтажных работ по реконструкции обеденного зала столовой №11
A8: № п/п | B8: Номера сметных расчетов и смет | C8: Наименование работ и затрат | D8: Сметная стоимость, руб. | G8: Сметная стоимость, руб.
D9: СМР | E9: Оборудование | F9: Прочие затраты
A10: 1 | B10: 2 | C10: 3 | D10: 4 | E10: 5 | F10: 6 | G10: 7
A11: 1 | B11: 24429 | C11: Реконструкция | D11: ='24429'!J196 -> 292519 | E11: 0 | F11: 0 | G11: =SUM(D11:F11) -> 292519
A12: 2 | B12: 24443 | C12: Электроснабжение обеденного зала для VIP гостей. | D12: ='24443'!K126+'24443'!K127 -> 76312 | E12: ='24443'!K128 -> 8924 | F12: 0 | G12: =SUM(D12:F12) -> 85236
A13: 3 | B13: 24446 | C13: Отопление и вентиляция | D13: ='24446'!J67 -> 20905 | E13: 0 | F13: 0 | G13: =SUM(D13:F13) -> 20905
A14: 4 | B14: 24449 | C14: Водопровод, канализация | D14: ='24449'!J70 -> 14553 | E14: 0 | F14: 0 | G14: =SUM(D14:F14) -> 14553
C15: Итого | D15: =SUM(D11:D14) -> 404289 | E15: =SUM(E11:E14) -> 8924 | F15: =SUM(F11:F14) -> 0 | G15: =SUM(D15:F15) -> 413213
C16: Итого в ценах 2012 (Ксмр =4,42; Коборуд=4,19) | D16: =ROUND(D15*4.42,0) -> 1786957 | E16: =ROUND(E15*4.19,0) -> 37392 | F16: =ROUND(F15*4.19,0) -> 0 | G16: =SUM(D16:F16) -> 1824349
C17: НДС 18% | D17: =ROUND(D16*18%,2) -> 321652.26 | E17: =ROUND(E16*18%,2) -> 6730.56 | F17: =ROUND(F16*18%,2) -> 0 | G17: =SUM(D17:F17) -> 328382.82
C18: Всего в ценах 2012 с НДС | D18: =D16+D17 -> 2108609.3 | E18: =E16+E17 -> 44122.56 | F18: =F16+F17 -> 0 | G18: =SUM(D18:F18) -> 2152731.8
A21: Начальник отдела капитального строительства | F21: Л.В. Грибанова
A23: Инженер по проектно-сметной работе | F23: Т.Ш. Ковязина

Sheet Сводка
J1: Приложение №__ к договору от "___"_______ №___
A3: СВОДКА ЗАТРАТ
A5: Выполнение строительно-монтажных работ по реконструкции обеденного зала столовой №11
A7: № п/п | B7: № локальных сметных расчетов | C7: Наименование | D7: Стоимость в базисных ценах 2001 года | E7: в том числе: | G7: Стоимость в текущих ценах без учета НДС | H7: в том числе: | J7: Стоимость в текущих ценах с учетом НДС
E8: СМР | F8: Оборудование | H8: СМР | I8: Оборудование
A9: 1 | B9: 24429 | C9: Реконструкция | D9: =SUM(E9:F9) -> 292519 | E9: ='24429'!J196 -> 292519 | F9: 0 | G9: =SUM(H9:I9) -> 1292934 | H9: =ROUND(E9*4.42,0) -> 1292934 | I9: =ROUND(F9*4.19,0) -> 0 | J9: =ROUND(G9*1.18,2) -> 1525662.1
A10: 2 | B10: 24443 | C10: Электроснабжение обеденного зала для VIP гостей. | D10: =SUM(E10:F10) -> 85236 | E10: ='24443'!K126+'24443'!K127 -> 76312 | F10: ='24443'!K128 -> 8924 | G10: =SUM(H10:I10) -> 374691 | H10: =ROUND(E10*4.42,0) -> 337299 | I10: =ROUND(F10*4.19,0) -> 37392 | J10: =ROUND(G10*1.18,2) -> 442135.38
A11: 3 | B11: 24446 | C11: Отопление и вентиляция | D11: =SUM(E11:F11) -> 20905 | E11: ='24446'!J67 -> 20905 | F11: 0 | G11: =SUM(H11:I11) -> 92400 | H11: =ROUND(E11*4.42,0) -> 92400 | J11: =ROUND(G11*1.18,2) -> 109032
A12: 4 | B12: 24449 | C12: Водопровод, канализация | D12: =SUM(E12:F12) -> 14553 | E12: ='24449'!J70 -> 14553 | F12: 0 | G12: =SUM(H12:I12) -> 64324 | H12: =ROUND(E12*4.42,0) -> 64324 | I12: =ROUND(F12*4.19,0) -> 0 | J12: =ROUND(G12*1.18,2) -> 75902.32
C13: Итого: | D13: =SUM(D9:D12) -> 413213 | E13: =SUM(E9:E12) -> 404289 | F13: =SUM(F9:F12) -> 8924 | G13: =SUM(G9:G12) -> 1824349 | H13: =SUM(H9:H12) -> 1786957 | I13: =SUM(I9:I12) -> 37392 | J13: =SUM(J9:J12) -> 2152731.8
C16: Заказчик | F16: Подрядчик
