Workbook

Sheet Смета 12 гр. по ФЕР
A1: =Source!B1 -> Smeta.RU (495) 974-1589
I2: Приложение 1 к форме 7
B4: =CONCATENATE( "ЛОКАЛЬНАЯ СМЕТА",IF(Source!F20<>"Новая локальная смета", Source!F20, "")) -> ЛОКАЛЬНАЯ СМЕТА
B6: =IF(Source!G20<>"Новая локальная смета", Source!G20, "")
B8: =IF(Source!G12<>"Новый объект", Source!G12, "") -> На ремонт дворового проезда и пешеходных дорожек территории, прилегающей к общежитиям НИЯУ МИФИ по адресу: г. Москва, ул. Москваречье, д. 19, к. 3, к. 4 | AD8: =IF(Source!G12<>"Новый объект", Source!G12, "") -> На ремонт дворового проезда и пешеходных дорожек территории, прилегающей к общежитиям НИЯУ МИФИ по адресу: г. Москва, ул. Москваречье, д. 19, к. 3, к. 4
B9: (наименование работ и затрат, наименование объекта)
G11: базовая цена | I11: текущая цена
C12: Сметная стоимость | G12: =SUM(O19:O210)/1000 -> 212.10805 | I12: =(Source!P151/1000) -> 1789.8185 | K12: тыс. руб.
C13: Нормативная трудоемкость | G13: =I13 -> 1547.2579 | I13: =(Source!P143+Source!P144) -> 1547.2579 | K13: чел. -ч.
C14: Средства на оплату труда | G14: =SUM(R19:R210)/1000 -> 13.40834 | I14: =((Source!P136 + Source!P135)/1000) -> 95.86943 | K14: тыс. руб.
A16: Составлена в ценах III квартал 2017 года
A17: № п/п | B17: Шифр расценки и коды ресурсов | C17: Наименование работ и затрат | D17: Ед. изм. | E17: Кол-во единиц | F17: Цена на ед. изм. | G17: Попра-вочные коэфф. | H17: Стоимость в ценах 2001г. | I17: Пункт коэфф. пересчета | J17: Коэфф. пересчета | K17: Стоимость в текущих ценах | L17: ЗТР всего чел.-час
A18: 1 | B18: 2 | C18: 3 | D18: 4 | E18: 5 | F18: 6 | G18: 7 | H18: 8 | I18: 9 | J18: 10 | K18: 11 | L18: 12
A19: =Source!E27 -> 1 | B19: =Source!F27 -> 68-14-1 | C19: =Source!G27 -> Разборка бортовых камней на бетонном основании | D19: =Source!H27 -> 100 м | E19: =Source!I27 -> 4.4 | F19: =Source!AL27+Source!AM27+Source!AO27 -> 1478.92 | I19: =Source!BO27 | S19: =ROUND((Source!FX27/100)*((ROUND(Source!AF27*Source!I27, 2)+ROUND(Source!AE27*Source!I27, 2))), 2) -> 3757.8 | T19: =Source!X27 -> 26868.22 | U19: =ROUND((Source!FY27/100)*((ROUND(Source!AF27*Source!I27, 2)+ROUND(Source!AE27*Source!I27, 2))), 2) -> 2167.96 | V19: =Source!Y27 -> 15500.9
C20: ="Объем: "&Source!I27&"=440/"&"100" -> Объем: 4,4=440/100
C21: Зарплата | F21: =Source!AO27 -> 589.77 | G21: =Source!DG27 -> )*1,2 | H21: =ROUND(Source!AF27*Source!I27, 2) -> 3113.99 | J21: =IF(Source!BA27<> 0, Source!BA27, 1) -> 7.15 | K21: =Source!S27 -> 22265 | R21: =H21 -> 3113.99
C22: Эксплуатация машин | F22: =Source!AM27 -> 889.15 | G22: =Source!DE27 -> )*1,2 | H22: =ROUND(Source!AD27*Source!I27, 2) -> 4694.71 | J22: =IF(Source!BB27<> 0, Source!BB27, 1) -> 7.15 | K22: =Source!Q27 -> 33567.19
C23: в т.ч. зарплата машинистов | F23: =Source!AN27 -> 94.56 | G23: =Source!DF27 -> )*1,2 | H23: =ROUND(Source!AE27*Source!I27, 2) -> 499.28 | J23: =IF(Source!BS27<> 0, Source!BS27, 1) -> 7.15 | K23: =Source!R27 -> 3569.83 | R23: =H23 -> 499.28
C24: НР от ФОТ | D24: % | E24: =Source!BZ27 -> 104 | H24: =SUM(S19:S26) -> 3757.8 | J24: =Source!AT27 -> 104 | K24: =SUM(T19:T26) -> 26868.22
C25: СП от ФОТ | D25: % | E25: =Source!CA27 -> 60 | H25: =SUM(U19:U26) -> 2167.96 | J25: =Source!AU27 -> 60 | K25: =SUM(V19:V26) -> 15500.9
C26: Затраты труда | D26: чел-ч | E26: =Source!AQ27 -> 68.26 | G26: =Source!DI27 -> )*1,2 | L26: =Source!U27 -> 360.4128
G27: =H21+H22+H24+H25 -> 13734.46 | J27: =K21+K22+K24+K25 -> 98201.31 | L27: =Source!U27 -> 360.4128 | O27: =G27 -> 13734.46 | P27: =J27 -> 98201.31 | Q27: =L27 -> 360.4128 | W27: =IF(Source!BI27<=1,H21+H22+H24+H25, 0) -> 13734.46 | X27: =IF(Source!BI27=2,H21+H22+H24+H25, 0) -> 0 | Y27: =IF(Source!BI27=3,H21+H22+H24+H25, 0) -> 0 | Z27: =IF(Source!BI27=4,H21+H22+H24+H25, 0) -> 0
A28: =Source!E29 -> 2 | B28: =Source!F29 -> 27-06-008-01 | C28: =Source!G29 -> Устройство шва-стыка в асфальтобетонном покрытии | D28: =Source!H29 -> 100 м | E28: =Source!I29 -> 0.16 | F28: =Source!AL29+Source!AM29+Source!AO29 -> 1537.85 | I28: =Source!BO29 | S28: =ROUND((Source!FX29/100)*((ROUND(Source!AF29*Source!I29, 2)+ROUND(Source!AE29*Source!I29, 2))), 2) -> 55.34 | T28: =Source!X29 -> 396.22 | U28: =ROUND((Source!FY29/100)*((ROUND(Source!AF29*Source!I29, 2)+ROUND(Source!AE29*Source!I29, 2))), 2) -> 34.96 | V28: =Source!Y29 -> 250.74
C29: ="Объем: "&Source!I29&"=16/"&"100" -> Объем: 0,16=16/100
C30: Зарплата | F30: =Source!AO29 -> 178.84 | G30: =Source!DG29 -> )*1,15 | H30: =ROUND(Source!AF29*Source!I29, 2) -> 32.91 | J30: =IF(Source!BA29<> 0, Source!BA29, 1) -> 7.15 | K30: =Source!S29 -> 235.28 | R30: =H30 -> 32.91
C31: Эксплуатация машин | F31: =Source!AM29 -> 1228.57 | G31: =Source!DE29 -> )*1,25 | H31: =ROUND(Source!AD29*Source!I29, 2) -> 245.71 | J31: =IF(Source!BB29<> 0, Source!BB29, 1) -> 7.15 | K31: =Source!Q29 -> 1756.86
C32: в т.ч. зарплата машинистов | F32: =Source!AN29 -> 51.94 | G32: =Source!DF29 -> )*1,25 | H32: =ROUND(Source!AE29*Source!I29, 2) -> 10.39 | J32: =IF(Source!BS29<> 0, Source!BS29, 1) -> 7.15 | K32: =Source!R29 -> 74.27 | R32: =H32 -> 10.39
C33: Материальные ресурсы | F33: =Source!AL29 -> 130.44 | G33: =Source!DD29 | H33: =ROUND(Source!AC29*Source!I29, 2) -> 20.87 | J33: =IF(Source!BC29<> 0, Source!BC29, 1) -> 7.15 | K33: =Source!P29 -> 149.22
C34: НР от ФОТ | D34: % | E34: =Source!BZ29 -> 142 | F34: =CONCATENATE(" )", Source!DL29, Source!FT29, "=", Source!FX29) -> )*0,9=127,8 | H34: =SUM(S28:S38) -> 55.34 | J34: =Source!AT29 -> 128 | K34: =SUM(T28:T38) -> 396.22
C35: СП от ФОТ | D35: % | E35: =Source!CA29 -> 95 | F35: =CONCATENATE(" )", Source!DM29, Source!FU29, "=", Source!FY29) -> )*0,85=80,75 | H35: =SUM(U28:U38) -> 34.96 | J35: =Source!AU29 -> 81 | K35: =SUM(V28:V38) -> 250.74
C36: Затраты труда | D36: чел-ч | E36: =Source!AQ29 -> 21.89 | G36: =Source!DI29 -> )*1,15 | L36: =Source!U29 -> 4.02776
A37: =Source!E31 -> 2,1 | B37: =Source!F31 -> 01.7.07.26-0033 | C37: =Source!G31 -> Шнур полиуретановый | D37: =Source!H31 -> 10 м | E37: =Source!I31 -> 1.6 | F37: =Source!AL31+Source!AM31+Source!AO31 -> 16.8 | H37: =ROUND(Source!AC31*Source!I31, 2)+ROUND(Source!AD31*Source!I31, 2)+ROUND(Source!AF31*Source!I31, 2) -> 26.88 | J37: =IF(Source!BC31<> 0, Source!BC31, 1) -> 7.15 | K37: =Source!O31 -> 192.19 | S37: =ROUND((Source!FX31/100)*((ROUND(Source!AF31*Source!I31, 2)+ROUND(Source!AE31*Source!I31, 2))), 2) -> 0 | T37: =Source!X31 -> 0 | U37: =ROUND((Source!FY31/100)*((ROUND(Source!AF31*Source!I31, 2)+ROUND(Source!AE31*Source!I31, 2))), 2) -> 0 | V37: =Source!Y31 -> 0 | W37: =IF(Source!BI31<=1,H37, 0) -> 26.88 | X37: =IF(Source!BI31=2,H37, 0) -> 0 | Y37: =IF(Source!BI31=3,H37, 0) -> 0 | Z37: =IF(Source!BI31=4,H37, 0) -> 0
A38: =Source!E33 -> 2,2 | B38: =Source!F33 -> 02.3.01.02-0005 | C38: =Source!G33 -> Песок несортированный | D38: =Source!H33 -> м3 | E38: =Source!I33 -> 0.32 | F38: =Source!AL33+Source!AM33+Source!AO33 -> 83.49 | H38: =ROUND(Source!AC33*Source!I33, 2)+ROUND(Source!AD33*Source!I33, 2)+ROUND(Source!AF33*Source!I33, 2) -> 26.72 | J38: =IF(Source!BC33<> 0, Source!BC33, 1) -> 7.15 | K38: =Source!O33 -> 191.03 | S38: =ROUND((Source!FX33/100)*((ROUND(Source!AF33*Source!I33, 2)+ROUND(Source!AE33*Source!I33, 2))), 2) -> 0 | T38: =Source!X33 -> 0 | U38: =ROUND((Source!FY33/100)*((ROUND(Source!AF33*Source!I33, 2)+ROUND(Source!AE33*Source!I33, 2))), 2) -> 0 | V38: =Source!Y33 -> 0 | W38: =IF(Source!BI33<=1,H38, 0) -> 26.72 | X38: =IF(Source!BI33=2,H38, 0) -> 0 | Y38: =IF(Source!BI33=3,H38, 0) -> 0 | Z38: =IF(Source!BI33=4,H38, 0) -> 0
G39: =H30+H31+H33+H34+H35+SUM(H37:H38) -> 443.39 | J39: =K30+K31+K33+K34+K35+SUM(K37:K38) -> 3171.54 | L39: =Source!U29 -> 4.02776 | O39: =G39 -> 443.39 | P39: =J39 -> 3171.54 | Q39: =L39 -> 4.02776 | W39: =IF(Source!BI29<=1,H30+H31+H33+H34+H35, 0) -> 389.79 | X39: =IF(Source!BI29=2,H30+H31+H33+H34+H35, 0) -> 0 | Y39: =IF(Source!BI29=3,H30+H31+H33+H34+H35, 0) -> 0 | Z39: =IF(Source!BI29=4,H30+H31+H33+H34+H35, 0) -> 0
A40: =Source!E35 -> 3 | B40: =Source!F35 -> 68-12-12 | C40: =Source!G35 -> Снятие деформированных асфальтобетонных покрытий самоходными холодными фрезами с шириной фрезерования 1500-2100 мм толщиной слоя до 50 мм | D40: =Source!H35 -> 1000 м2 | E40: =Source!I35 -> 0.695 | F40: =Source!AL35+Source!AM35+Source!AO35 -> 1491.9 | I40: =Source!BO35 | S40: =ROUND((Source!FX35/100)*((ROUND(Source!AF35*Source!I35, 2)+ROUND(Source!AE35*Source!I35, 2))), 2) -> 92.61 | T40: =Source!X35 -> 662.15 | U40: =ROUND((Source!FY35/100)*((ROUND(Source!AF35*Source!I35, 2)+ROUND(Source!AE35*Source!I35, 2))), 2) -> 53.43 | V40: =Source!Y35 -> 382.01
C41: ="Объем: "&Source!I35&"=695/"&"1000" -> Объем: 0,695=695/1000
C42: Зарплата | F42: =Source!AO35 -> 18.1 | G42: =Source!DG35 -> )*1,2 | H42: =ROUND(Source!AF35*Source!I35, 2) -> 15.1 | J42: =IF(Source!BA35<> 0, Source!BA35, 1) -> 7.15 | K42: =Source!S35 -> 107.93 | R42: =H42 -> 15.1
C43: Эксплуатация машин | F43: =Source!AM35 -> 1473.8 | G43: =Source!DE35 -> )*1,2 | H43: =ROUND(Source!AD35*Source!I35, 2) -> 1229.15 | J43: =IF(Source!BB35<> 0, Source!BB35, 1) -> 7.15 | K43: =Source!Q35 -> 8788.42
C44: в т.ч. зарплата машинистов | F44: =Source!AN35 -> 88.67 | G44: =Source!DF35 -> )*1,2 | H44: =ROUND(Source!AE35*Source!I35, 2) -> 73.95 | J44: =IF(Source!BS35<> 0, Source!BS35, 1) -> 7.15 | K44: =Source!R35 -> 528.75 | R44: =H44 -> 73.95
C45: НР от ФОТ | D45: % | E45: =Source!BZ35 -> 104 | H45: =SUM(S40:S48) -> 92.61 | J45: =Source!AT35 -> 104 | K45: =SUM(T40:T48) -> 662.15
...

Sheet Source
A1: 0 | B1: Smeta.RU (495) 974-1589 | D1: _PS_ | F1: 0 | G1: 0 | H1: 0 | I1: Smeta.RU | J1: НИЯУ МИФИ Доп. раб. место MCCS-0016187 | K1: 0 | L1: 16187 | M1: 10
A12: 1 | B12: 214 | C12: 0 | D12: =ROW(A153) -> 153 | E12: 0 | F12: Новый объект | G12: На ремонт дворового проезда и пешеходных дорожек территории, прилегающей к общежитиям НИЯУ МИФИ по адресу: г. Москва, ул. Москваречье, д. 19, к. 3, к. 4 | I12: 0 | K12: 0 | O12: 0 | P12: 0 | Q12: 0 | R12: 0 | S12: 0 | V12: 0 | BH12: Сметные нормы списания | BI12: Коды ценников | BJ12: 1 | BK12: 1 | BL12: 0 | BM12: 0 | BN12: 1 | BO12: 0 | BP12: 6 | BQ12: 2 | BR12: 1 | BS12: 1 | BT12: 0 | BU12: 0 | BV12: 1 | BW12: 0 | BX12: 0 | BY12: ФЕР-2017 | BZ12: ТР для Версии 10: Центральные регионы (с учетом п-ма 2536-ИП/12/ГС от 22.03.2017 г | CA12: ФЕР-2017 | CB12: ФЕР-2017 | CC12: ФЕР-2017 | CD12: ФЕР-2017 | CE12: Поправки для ГСН 2017 от 31.03.2017 г | CF12: 0 | CG12: 0 | CH12: 524288 | CK12: 0 | EC12: 0
A15: 15 | B15: 1
A18: 52 | B18: =B153 -> 214 | C18: =C153 -> 1 | D18: =D153 -> 12 | E18: =E153 -> 0 | F18: =F153 -> Новый объект | G18: =G153 -> На ремонт дворового проезда и пешеходных дорожек территории, прилегающей к общежитиям НИЯУ МИФИ по адресу: г. Москва, ул. Москваречье, д. 19, к. 3, к. 4 | O18: =O153 -> 184768.87 | P18: =P153 -> 158633.95 | Q18: =Q153 -> 14176.9 | R18: =R153 -> 1450.32 | S18: =S153 -> 11958.02 | T18: =T153 -> 0 | U18: =U153 -> 1421.9169 | V18: =V153 -> 125.34103 | ... GX18: =GX153 -> 0
A20: 3 | B20: 1 | D20: =ROW(A121) -> 121 | F20: Новая локальная смета | G20: Новая локальная смета | I20: 0 | K20: 0 | V20: 0 | BX20: 0 | CF20: 0 | CG20: 0
A22: 52 | B22: =B121 -> 1 | C22: =C121 -> 3 | D22: =D121 -> 20 | E22: =E121 -> 0 | F22: =F121 -> Новая локальная смета | G22: =G121 -> Новая локальная смета | O22: =O121 -> 184768.87 | P22: =P121 -> 158633.95 | Q22: =Q121 -> 14176.9 | R22: =R121 -> 1450.32 | S22: =S121 -> 11958.02 | T22: =T121 -> 0 | U22: =U121 -> 1421.9169 | V22: =V121 -> 125.34103 | ... GX22: =GX121 -> 0
A24: 17 | B24: 1 | C24: =ROW(SmtRes!A9) -> 9 | D24: =ROW(EtalonRes!A11) -> 11 | F24: 27-09-008-01 | G24: Демонтаж дорожных знаков бесфундаментных на металлических стойках | H24: 100 ШТ | I24: =ROUND(10/100,9) -> 0.1 | J24: 0 | O24: =ROUND(CP24,2) -> 406.62 | P24: =ROUND(CQ24*I24,2) -> 0 | Q24: =ROUND(CR24*I24,2) -> 188.8 | R24: =ROUND(CS24*I24,2) -> 17.77 | S24: =ROUND(CT24*I24,2) -> 217.82 | T24: =ROUND(CU24*I24,2) -> 0 | U24: =CV24*I24 -> 25.536 | V24: =CW24*I24 -> 1.1403 | W24: =ROUND(CX24*I24,2) -> 0 | X24: =ROUND(CY24,2) -> 301.56 | Y24: =ROUND(CZ24,2) -> 190.83 | AA24: -1 | AB24: =ROUND((AC24+AD24+AF24),6) -> 4066.188 | AC24: =ROUND(((ES24*0)),6) -> 0 | AD24: =ROUND(((((ET24*0.7))-((EU24*0.7)))+AE24),6) -> 1887.97 | AE24: =ROUND(((EU24*0.7)),6) -> 177.709 | AF24: =ROUND(((EV24*0.7)),6) -> 2178.218 | AG24: =ROUND((AP24),6) -> 0 | AH24: =((EW24*0.7)) -> 255.36 | AI24: =((EX24*0.7)) -> 11.403 | AJ24: =ROUND((AS24),6) -> 0 | AK24: 7516.31 | AL24: 1707.47 | AM24: 2697.1 | AN24: 253.87 | AO24: 3111.74 | AP24: 0 | AQ24: 364.8 | AR24: 16.29 | AS24: 0 | AT24: 128 | AU24: 81 | AV24: 1 | AW24: 1 | AZ24: 1 | BA24: 1 | BB24: 1 | BC24: 1 | BH24: 0 | BI24: 1 | BJ24: ФЕР-2001, 27-09-008-01, приказ Минстроя России №1039/пр от 30.12.2016г. | BM24: 27001 | BN24: 0 | BP24: 0 | BQ24: 2 | BR24: 0 | BS24: 1 | BT24: 1 | BU24: 1 | BV24: 1 | BW24: 1 | BX24: 1 | BZ24: 142 | CA24: 95 | CF24: 0 | CG24: 0 | CM24: 0 | CN24: Поправка: МДС 81-36.2004, п.3.3.1.д Наименование: При демонтаже металлических конструкций | CO24: 0 | CP24: =(P24+Q24+S24) -> 406.62 | CQ24: =AC24*BC24 -> 0 | CR24: =AD24*BB24 -> 1887.97 | CS24: =AE24*BS24 -> 177.709 | CT24: =AF24*BA24 -> 2178.218 | CU24: =AG24 -> 0 | CV24: =AH24 -> 255.36 | CW24: =AI24 -> 11.403 | CX24: =AJ24 -> 0 | CY24: =(((S24+R24)*AT24)/100) -> 301.5552 | CZ24: =(((S24+R24)*AU24)/100) -> 190.8279 | DD24: )*0 | DE24: )*0,7 | DF24: )*0,7 | DG24: )*0,7 | DI24: )*0,7 | DJ24: )*0,7 | DN24: 0 | DO24: 0 | DP24: 1 | DQ24: 1 | DU24: 1013 | DV24: 100 ШТ | DW24: 100 ШТ | DX24: 1 | EE24: 26549101 | EF24: 2 | EG24: Общестроительные работы | EH24: 0 | EJ24: 1 | EK24: 27001 | EL24: Автомобильные дороги | EM24: ФЕР-27 | EO24: Поправка: МДС 81-36.2004, п.3.3.1.д | EQ24: 1024 | ER24: 7516.31 | ES24: 1707.47 | ET24: 2697.1 | EU24: 253.87 | EV24: 3111.74 | EW24: 364.8 | EX24: 16.29 | EY24: 0 | FQ24: 0 | FR24: =ROUND(IF(AND(BH24=3,BI24=3),P24,0),2) -> 0 | FS24: 0 | FT24: *0,9 | FU24: *0,85 | FX24: 127.8 | FY24: 80.75 | GD24: 0 | GF24: 209638013 | GG24: 2 | GH24: 1 | GI24: -2 | GJ24: 0 | GK24: =ROUND(R24*(R12)/100,2) -> 0 | GL24: =ROUND(IF(AND(BH24=3,BI24=3,FS24<>0),P24,0),2) -> 0 | GM24: =ROUND(O24+X24+Y24+GK24,2)+GX24 -> 899.01 | GN24: =IF(OR(BI24=0,BI24=1),ROUND(O24+X24+Y24+GK24,2),0) -> 899.01 | GO24: =IF(BI24=2,ROUND(O24+X24+Y24+GK24,2),0) -> 0 | GP24: =IF(BI24=4,ROUND(O24+X24+Y24+GK24,2)+GX24,0) -> 0 | GR24: 0 | GS24: 3 | GT24: 0 | GV24: =ROUND(GT24,6) -> 0 | GW24: 1 | GX24: =ROUND(GV24*GW24*I24,2) -> 0 | HA24: 0 | HB24: 0 | IK24: 0
A25: 17 | B25: 1 | C25: =ROW(SmtRes!A18) -> 18 | D25: =ROW(EtalonRes!A22) -> 22 | F25: 27-09-008-01 | G25: Демонтаж дорожных знаков бесфундаментных на металлических стойках | H25: 100 ШТ | I25: =ROUND(10/100,9) -> 0.1 | J25: 0 | O25: =ROUND(CP25,2) -> 2907.33 | P25: =ROUND(CQ25*I25,2) -> 0 | Q25: =ROUND(CR25*I25,2) -> 1349.9 | R25: =ROUND(CS25*I25,2) -> 127.06 | S25: =ROUND(CT25*I25,2) -> 1557.43 | T25: =ROUND(CU25*I25,2) -> 0 | U25: =CV25*I25 -> 25.536 | V25: =CW25*I25 -> 1.1403 | W25: =ROUND(CX25*I25,2) -> 0 | X25: =ROUND(CY25,2) -> 2156.15 | Y25: =ROUND(CZ25,2) -> 1364.44 | AA25: -1 | AB25: =ROUND((AC25+AD25+AF25),6) -> 4066.188 | AC25: =ROUND(((ES25*0)),6) -> 0 | AD25: =ROUND(((((ET25*0.7))-((EU25*0.7)))+AE25),6) -> 1887.97 | AE25: =ROUND(((EU25*0.7)),6) -> 177.709 | AF25: =ROUND(((EV25*0.7)),6) -> 2178.218 | AG25: =ROUND((AP25),6) -> 0 | AH25: =((EW25*0.7)) -> 255.36 | AI25: =((EX25*0.7)) -> 11.403 | AJ25: =ROUND((AS25),6) -> 0 | AK25: 7516.31 | AL25: 1707.47 | AM25: 2697.1 | AN25: 253.87 | AO25: 3111.74 | AP25: 0 | AQ25: 364.8 | AR25: 16.29 | AS25: 0 | AT25: 128 | AU25: 81 | AV25: 1 | AW25: 1 | AZ25: 7.15 | BA25: 7.15 | BB25: 7.15 | BC25: 7.15 | BH25: 0 | BI25: 1 | BJ25: ФЕР-2001, 27-09-008-01, приказ Минстроя России №1039/пр от 30.12.2016г. | BM25: 27001 | BN25: 0 | BP25: 0 | BQ25: 2 | BR25: 0 | BS25: 7.15 | BT25: 1 | BU25: 1 | BV25: 1 | BW25: 1 | BX25: 1 | BZ25: 142 | CA25: 95 | CF25: 0 | CG25: 0 | CM25: 0 | CN25: Поправка: МДС 81-36.2004, п.3.3.1.д Наименование: При демонтаже металлических конструкций | CO25: 0 | CP25: =(P25+Q25+S25) -> 2907.33 | CQ25: =AC25*BC25 -> 0 | CR25: =AD25*BB25 -> 13498.986 | CS25: =AE25*BS25 -> 1270.6194 | CT25: =AF25*BA25 -> 15574.259 | CU25: =AG25 -> 0 | CV25: =AH25 -> 255.36 | CW25: =AI25 -> 11.403 | CX25: =AJ25 -> 0 | CY25: =(((S25+R25)*AT25)/100) -> 2156.1472 | CZ25: =(((S25+R25)*AU25)/100) -> 1364.4369 | DD25: )*0 | DE25: )*0,7 | DF25: )*0,7 | DG25: )*0,7 | DI25: )*0,7 | DJ25: )*0,7 | DN25: 0 | DO25: 0 | DP25: 1 | DQ25: 1 | DU25: 1013 | DV25: 100 ШТ | DW25: 100 ШТ | DX25: 1 | EE25: 26549101 | EF25: 2 | EG25: Общестроительные работы | EH25: 0 | EJ25: 1 | EK25: 27001 | EL25: Автомобильные дороги | EM25: ФЕР-27 | EO25: Поправка: МДС 81-36.2004, п.3.3.1.д | EQ25: 1024 | ER25: 7516.31 | ES25: 1707.47 | ET25: 2697.1 | EU25: 253.87 | EV25: 3111.74 | EW25: 364.8 | EX25: 16.29 | EY25: 0 | FQ25: 0 | FR25: =ROUND(IF(AND(BH25=3,BI25=3),P25,0),2) -> 0 | FS25: 0 | FT25: *0,9 | FU25: *0,85 | FX25: 127.8 | FY25: 80.75 | GD25: 0 | GF25: 209638013 | GG25: 1 | GH25: 1 | GI25: 4 | GJ25: 0 | GK25: =ROUND(R25*(S12)/100,2) -> 0 | GL25: =ROUND(IF(AND(BH25=3,BI25=3,FS25<>0),P25,0),2) -> 0 | GM25: =ROUND(O25+X25+Y25+GK25,2)+GX25 -> 6427.92 | GN25: =IF(OR(BI25=0,BI25=1),ROUND(O25+X25+Y25+GK25,2),0) -> 6427.92 | GO25: =IF(BI25=2,ROUND(O25+X25+Y25+GK25,2),0) -> 0 | GP25: =IF(BI25=4,ROUND(O25+X25+Y25+GK25,2)+GX25,0) -> 0 | GR25: 0 | GS25: 3 | GT25: 0 | GV25: =ROUND(GT25,6) -> 0 | GW25: 1 | GX25: =ROUND(GV25*GW25*I25,2) -> 0 | HA25: 0 | HB25: 0 | IK25: 0
A26: 17 | B26: 1 | C26: =ROW(SmtRes!A22) -> 22 | D26: =ROW(EtalonRes!A26) -> 26 | E26: 1 | F26: 68-14-1 | G26: Разборка бортовых камней на бетонном основании | H26: 100 м | I26: =ROUND(440/100,9) -> 4.4 | J26: 0 | O26: =ROUND(CP26,2) -> 7808.7 | P26: =ROUND(CQ26*I26,2) -> 0 | Q26: =ROUND(CR26*I26,2) -> 4694.71 | R26: =ROUND(CS26*I26,2) -> 499.28 | S26: =ROUND(CT26*I26,2) -> 3113.99 | T26: =ROUND(CU26*I26,2) -> 0 | U26: =CV26*I26 -> 360.4128 | V26: =CW26*I26 -> 49.632 | W26: =ROUND(CX26*I26,2) -> 0 | X26: =ROUND(CY26,2) -> 3757.8 | Y26: =ROUND(CZ26,2) -> 2167.96 | AA26: 26812436 | AB26: =ROUND((AC26+AD26+AF26),6) -> 1774.704 | AC26: =ROUND((ES26),6) -> 0 | AD26: =ROUND(((((ET26*1.2))-((EU26*1.2)))+AE26),6) -> 1066.98 | AE26: =ROUND(((EU26*1.2)),6) -> 113.472 | AF26: =ROUND(((EV26*1.2)),6) -> 707.724 | AG26: =ROUND((AP26),6) -> 0 | AH26: =((EW26*1.2)) -> 81.912 | AI26: =((EX26*1.2)) -> 11.28 | AJ26: =ROUND((AS26),6) -> 0 | AK26: 1478.92 | AL26: 0 | AM26: 889.15 | AN26: 94.56 | AO26: 589.77 | AP26: 0 | AQ26: 68.26 | AR26: 9.4 | AS26: 0 | AT26: 104 | AU26: 60 | AV26: 1 | AW26: 1 | AZ26: 1 | BA26: 1 | BB26: 1 | BC26: 1 | BH26: 0 | BI26: 1 | BJ26: ФЕР-2001, 68-14-1, приказ Минстроя России №1039/пр от 30.12.2016г. | BM26: 68001 | BN26: 0 | BP26: 0 | BQ26: 6 | BR26: 0 | BS26: 1 | BT26: 1 | BU26: 1 | BV26: 1 | BW26: 1 | BX26: 1 | BZ26: 104 | CA26: 60 | CF26: 0 | CG26: 0 | CM26: 0 | CN26: Поправка: Сб.№68, п.1.68.3 Наименование: Работы по ремонту дорожных оснований и покрытий в условиях непрекрекращающегося движения транспорта определяется по расценкам соответствующих таблиц | CO26: 0 | CP26: =(P26+Q26+S26) -> 7808.7 | CQ26: =AC26*BC26 -> 0 | CR26: =AD26*BB26 -> 1066.98 | CS26: =AE26*BS26 -> 113.472 | CT26: =AF26*BA26 -> 707.724 | CU26: =AG26 -> 0 | CV26: =AH26 -> 81.912 | CW26: =AI26 -> 11.28 | CX26: =AJ26 -> 0 | CY26: =(((S26+R26)*AT26)/100) -> 3757.8008 | CZ26: =(((S26+R26)*AU26)/100) -> 2167.962 | DE26: )*1,2 | DF26: )*1,2 | DG26: )*1,2 | DI26: )*1,2 | DJ26: )*1,2 | DN26: 0 | DO26: 0 | DP26: 1 | DQ26: 1 | DU26: 1003 | DV26: 100 м | DW26: 100 м | DX26: 100 | EE26: 26549186 | EF26: 6 | EG26: Ремонтно-строительные работы | EH26: 0 | EJ26: 1 | EK26: 68001 | EL26: Благоустройство | EM26: рФЕР-68 | EO26: Поправка: Сб.№68, п.1.68.3 | EQ26: 0 | ER26: 1478.92 | ES26: 0 | ET26: 889.15 | EU26: 94.56 | EV26: 589.77 | EW26: 68.26 | EX26: 9.4 | EY26: 0 | FQ26: 0 | FR26: =ROUND(IF(AND(BH26=3,BI26=3),P26,0),2) -> 0 | FS26: 0 | FX26: 104 | FY26: 60 | GD26: 0 | GF26: 882829187 | GG26: 2 | GH26: 1 | GI26: -2 | GJ26: 0 | GK26: =ROUND(R26*(R12)/100,2) -> 0 | GL26: =ROUND(IF(AND(BH26=3,BI26=3,FS26<>0),P26,0),2) -> 0 | GM26: =ROUND(O26+X26+Y26+GK26,2)+GX26 -> 13734.46 | GN26: =IF(OR(BI26=0,BI26=1),ROUND(O26+X26+Y26+GK26,2),0) -> 13734.46 | GO26: =IF(BI26=2,ROUND(O26+X26+Y26+GK26,2),0) -> 0 | GP26: =IF(BI26=4,ROUND(O26+X26+Y26+GK26,2)+GX26,0) -> 0 | GR26: 0 | GS26: 3 | GT26: 0 | GV26: =ROUND(GT26,6) -> 0 | GW26: 1 | GX26: =ROUND(GV26*GW26*I26,2) -> 0 | HA26: 0 | HB26: 0 | IK26: 0
A27: 17 | B27: 1 | C27: =ROW(SmtRes!A26) -> 26 | D27: =ROW(EtalonRes!A30) -> 30 | E27: 1 | F27: 68-14-1 | G27: Разборка бортовых камней на бетонном основании | H27: 100 м | I27: =ROUND(440/100,9) -> 4.4 | J27: 0 | O27: =ROUND(CP27,2) -> 55832.19 | P27: =ROUND(CQ27*I27,2) -> 0 | Q27: =ROUND(CR27*I27,2) -> 33567.19 | R27: =ROUND(CS27*I27,2) -> 3569.83 | S27: =ROUND(CT27*I27,2) -> 22265 | T27: =ROUND(CU27*I27,2) -> 0 | U27: =CV27*I27 -> 360.4128 | V27: =CW27*I27 -> 49.632 | W27: =ROUND(CX27*I27,2) -> 0 | X27: =ROUND(CY27,2) -> 26868.22 | Y27: =ROUND(CZ27,2) -> 15500.9 | AA27: 26812450 | AB27: =ROUND((AC27+AD27+AF27),6) -> 1774.704 | AC27: =ROUND((ES27),6) -> 0 | AD27: =ROUND(((((ET27*1.2))-((EU27*1.2)))+AE27),6) -> 1066.98 | AE27: =ROUND(((EU27*1.2)),6) -> 113.472 | AF27: =ROUND(((EV27*1.2)),6) -> 707.724 | AG27: =ROUND((AP27),6) -> 0 | AH27: =((EW27*1.2)) -> 81.912 | AI27: =((EX27*1.2)) -> 11.28 | AJ27: =ROUND((AS27),6) -> 0 | AK27: 1478.92 | AL27: 0 | AM27: 889.15 | AN27: 94.56 | AO27: 589.77 | AP27: 0 | AQ27: 68.26 | AR27: 9.4 | AS27: 0 | AT27: 104 | AU27: 60 | AV27: 1 | AW27: 1 | AZ27: 7.15 | BA27: 7.15 | BB27: 7.15 | BC27: 7.15 | BH27: 0 | BI27: 1 | BJ27: ФЕР-2001, 68-14-1, приказ Минстроя России №1039/пр от 30.12.2016г. | BM27: 68001 | BN27: 0 | BP27: 0 | BQ27: 6 | BR27: 0 | BS27: 7.15 | BT27: 1 | BU27: 1 | BV27: 1 | BW27: 1 | BX27: 1 | BZ27: 104 | CA27: 60 | CF27: 0 | CG27: 0 | CM27: 0 | CN27: Поправка: Сб.№68, п.1.68.3 Наименование: Работы по ремонту дорожных оснований и покрытий в условиях непрекрекращающегося движения транспорта определяется по расценкам соответствующих таблиц | CO27: 0 | CP27: =(P27+Q27+S27) -> 55832.19 | CQ27: =AC27*BC27 -> 0 | CR27: =AD27*BB27 -> 7628.907 | CS27: =AE27*BS27 -> 811.3248 | CT27: =AF27*BA27 -> 5060.2266 | CU27: =AG27 -> 0 | CV27: =AH27 -> 81.912 | CW27: =AI27 -> 11.28 | CX27: =AJ27 -> 0 | CY27: =(((S27+R27)*AT27)/100) -> 26868.223 | CZ27: =(((S27+R27)*AU27)/100) -> 15500.898 | DE27: )*1,2 | DF27: )*1,2 | DG27: )*1,2 | DI27: )*1,2 | DJ27: )*1,2 | DN27: 0 | DO27: 0 | DP27: 1 | DQ27: 1 | DU27: 1003 | DV27: 100 м | DW27: 100 м | DX27: 100 | EE27: 26549186 | EF27: 6 | EG27: Ремонтно-строительные работы | EH27: 0 | EJ27: 1 | EK27: 68001 | EL27: Благоустройство | EM27: рФЕР-68 | EO27: Поправка: Сб.№68, п.1.68.3 | EQ27: 0 | ER27: 1478.92 | ES27: 0 | ET27: 889.15 | EU27: 94.56 | EV27: 589.77 | EW27: 68.26 | EX27: 9.4 | EY27: 0 | FQ27: 0 | FR27: =ROUND(IF(AND(BH27=3,BI27=3),P27,0),2) -> 0 | FS27: 0 | FX27: 104 | FY27: 60 | GD27: 0 | GF27: 882829187 | GG27: 1 | GH27: 1 | GI27: 4 | GJ27: 0 | GK27: =ROUND(R27*(S12)/100,2) -> 0 | GL27: =ROUND(IF(AND(BH27=3,BI27=3,FS27<>0),P27,0),2) -> 0 | GM27: =ROUND(O27+X27+Y27+GK27,2)+GX27 -> 98201.31 | GN27: =IF(OR(BI27=0,BI27=1),ROUND(O27+X27+Y27+GK27,2),0) -> 98201.31 | GO27: =IF(BI27=2,ROUND(O27+X27+Y27+GK27,2),0) -> 0 | GP27: =IF(BI27=4,ROUND(O27+X27+Y27+GK27,2)+GX27,0) -> 0 | GR27: 0 | GS27: 3 | GT27: 0 | GV27: =ROUND(GT27,6) -> 0 | GW27: 1 | GX27: =ROUND(GV27*GW27*I27,2) -> 0 | HA27: 0 | HB27: 0 | IK27: 0
A28: 17 | B28: 1 | C28: =ROW(SmtRes!A40) -> 40 | D28: =ROW(EtalonRes!A44) -> 44 | E28: 2 | F28: 27-06-008-01 | G28: Устройство шва-стыка в асфальтобетонном покрытии | H28: 100 м | I28: =ROUND(16/100,9) -> 0.16 | J28: 0 | O28: =ROUND(CP28,2) -> 299.49 | P28: =ROUND(CQ28*I28,2) -> 20.87 | Q28: =ROUND(CR28*I28,2) -> 245.71 | R28: =ROUND(CS28*I28,2) -> 10.39 | S28: =ROUND(CT28*I28,2) -> 32.91 | T28: =ROUND(CU28*I28,2) -> 0 | U28: =CV28*I28 -> 4.02776 | V28: =CW28*I28 -> 0.904 | W28: =ROUND(CX28*I28,2) -> 0 | X28: =ROUND(CY28,2) -> 55.42 | Y28: =ROUND(CZ28,2) -> 35.07 | AA28: 26812436 | AB28: =ROUND((AC28+AD28+AF28),6) -> 1871.8185 | AC28: =ROUND((ES28),6) -> 130.44 | AD28: =ROUND(((((ET28*1.25))-((EU28*1.25)))+AE28),6) -> 1535.7125 | AE28: =ROUND(((EU28*1.25)),6) -> 64.925 | AF28: =ROUND(((EV28*1.15)),6) -> 205.666 | AG28: =ROUND((AP28),6) -> 0 | AH28: =((EW28*1.15)) -> 25.1735 | AI28: =((EX28*1.25)) -> 5.65 | AJ28: =ROUND((AS28),6) -> 0 | AK28: 1537.85 | AL28: 130.44 | AM28: 1228.57 | AN28: 51.94 | AO28: 178.84 | AP28: 0 | AQ28: 21.89 | AR28: 4.52 | AS28: 0 | AT28: 128 | AU28: 81 | AV28: 1 | AW28: 1 | AZ28: 1 | BA28: 1 | BB28: 1 | BC28: 1 | BH28: 0 | BI28: 1 | BJ28: ФЕР-2001, 27-06-008-01, приказ Минстроя России №1039/пр от 30.12.2016г. | BM28: 27001 | BN28: 0 | BP28: 0 | BQ28: 2 | BR28: 0 | BS28: 1 | BT28: 1 | BU28: 1 | BV28: 1 | BW28: 1 | BX28: 1 | BZ28: 142 | CA28: 95 | CF28: 0 | CG28: 0 | CM28: 0 | CN28: Поправка: МДС 81-35.2004, п.4.7 Наименование: Работы, выполняемые при реконструкции зданий и сооружений работы, аналогичные технологическим процессам в новом строительстве (в том числе возведение новых конструктивных элементов) стоимость которых определена по соответствующим сборникам ФЕР, кроме сборника № 46 «Работы при реконструкции зданий и сооружений» | CO28: 0 | CP28: =(P28+Q28+S28) -> 299.49 | CQ28: =AC28*BC28 -> 130.44 | CR28: =AD28*BB28 -> 1535.7125 | CS28: =AE28*BS28 -> 64.925 | CT28: =AF28*BA28 -> 205.666 | CU28: =AG28 -> 0 | CV28: =AH28 -> 25.1735 | CW28: =AI28 -> 5.65 | CX28: =AJ28 -> 0 | CY28: =(((S28+R28)*AT28)/100) -> 55.424 | CZ28: =(((S28+R28)*AU28)/100) -> 35.073 | DE28: )*1,25 | DF28: )*1,25 | DG28: )*1,15 | DI28: )*1,15 | DJ28: )*1,25 | DN28: 0 | DO28: 0 | DP28: 1 | DQ28: 1 | DU28: 1003 | DV28: 100 м | DW28: 100 м | DX28: 100 | EE28: 26549101 | EF28: 2 | EG28: Общестроительные работы | EH28: 0 | EJ28: 1 | EK28: 27001 | EL28: Автомобильные дороги | EM28: ФЕР-27 | EO28: Поправка: МДС 81-35.2004, п.4.7 | EQ28: 0 | ER28: 1537.85 | ES28: 130.44 | ET28: 1228.57 | EU28: 51.94 | EV28: 178.84 | EW28: 21.89 | EX28: 4.52 | EY28: 0 | FQ28: 0 | FR28: =ROUND(IF(AND(BH28=3,BI28=3),P28,0),2) -> 0 | FS28: 0 | FT28: *0,9 | FU28: *0,85 | FX28: 127.8 | FY28: 80.75 | GD28: 0 | GF28: -942180140 | GG28: 2 | GH28: 1 | GI28: -2 | GJ28: 0 | GK28: =ROUND(R28*(R12)/100,2) -> 0 | GL28: =ROUND(IF(AND(BH28=3,BI28=3,FS28<>0),P28,0),2) -> 0 | GM28: =ROUND(O28+X28+Y28+GK28,2)+GX28 -> 389.98 | GN28: =IF(OR(BI28=0,BI28=1),ROUND(O28+X28+Y28+GK28,2),0) -> 389.98 | GO28: =IF(BI28=2,ROUND(O28+X28+Y28+GK28,2),0) -> 0 | GP28: =IF(BI28=4,ROUND(O28+X28+Y28+GK28,2)+GX28,0) -> 0 | GR28: 0 | GS28: 3 | GT28: 0 | GV28: =ROUND(GT28,6) -> 0 | GW28: 1 | GX28: =ROUND(GV28*GW28*I28,2) -> 0 | HA28: 0 | HB28: 0 | IK28: 0
A29: 17 | B29: 1 | C29: =ROW(SmtRes!A54) -> 54 | D29: =ROW(EtalonRes!A58) -> 58 | E29: 2 | F29: 27-06-008-01 | G29: Устройство шва-стыка в асфальтобетонном покрытии | H29: 100 м | I29: =ROUND(16/100,9) -> 0.16 | J29: 0 | O29: =ROUND(CP29,2) -> 2141.36 | P29: =ROUND(CQ29*I29,2) -> 149.22 | Q29: =ROUND(CR29*I29,2) -> 1756.86 | R29: =ROUND(CS29*I29,2) -> 74.27 | S29: =ROUND(CT29*I29,2) -> 235.28 | T29: =ROUND(CU29*I29,2) -> 0 | U29: =CV29*I29 -> 4.02776 | V29: =CW29*I29 -> 0.904 | W29: =ROUND(CX29*I29,2) -> 0 | X29: =ROUND(CY29,2) -> 396.22 | Y29: =ROUND(CZ29,2) -> 250.74 | AA29: 26812450 | AB29: =ROUND((AC29+AD29+AF29),6) -> 1871.8185 | AC29: =ROUND((ES29),6) -> 130.44 | AD29: =ROUND(((((ET29*1.25))-((EU29*1.25)))+AE29),6) -> 1535.7125 | AE29: =ROUND(((EU29*1.25)),6) -> 64.925 | AF29: =ROUND(((EV29*1.15)),6) -> 205.666 | AG29: =ROUND((AP29),6) -> 0 | AH29: =((EW29*1.15)) -> 25.1735 | AI29: =((EX29*1.25)) -> 5.65 | AJ29: =ROUND((AS29),6) -> 0 | AK29: 1537.85 | AL29: 130.44 | AM29: 1228.57 | AN29: 51.94 | AO29: 178.84 | AP29: 0 | AQ29: 21.89 | AR29: 4.52 | AS29: 0 | AT29: 128 | AU29: 81 | AV29: 1 | AW29: 1 | AZ29: 7.15 | BA29: 7.15 | BB29: 7.15 | BC29: 7.15 | BH29: 0 | BI29: 1 | BJ29: ФЕР-2001, 27-06-008-01, приказ Минстроя России №1039/пр от 30.12.2016г. | BM29: 27001 | BN29: 0 | BP29: 0 | BQ29: 2 | BR29: 0 | BS29: 7.15 | BT29: 1 | BU29: 1 | BV29: 1 | BW29: 1 | BX29: 1 | BZ29: 142 | CA29: 95 | CF29: 0 | CG29: 0 | CM29: 0 | CN29: Поправка: МДС 81-35.2004, п.4.7 Наименование: Работы, выполняемые при реконструкции зданий и сооружений работы, аналогичные технологическим процессам в новом строительстве (в том числе возведение новых конструктивных элементов) стоимость которых определена по соответствующим сборникам ФЕР, кроме сборника № 46 «Работы при реконструкции зданий и сооружений» | CO29: 0 | CP29: =(P29+Q29+S29) -> 2141.36 | CQ29: =AC29*BC29 -> 932.646 | CR29: =AD29*BB29 -> 10980.344 | CS29: =AE29*BS29 -> 464.21375 | CT29: =AF29*BA29 -> 1470.5119 | CU29: =AG29 -> 0 | CV29: =AH29 -> 25.1735 | CW29: =AI29 -> 5.65 | CX29: =AJ29 -> 0 | CY29: =(((S29+R29)*AT29)/100) -> 396.224 | CZ29: =(((S29+R29)*AU29)/100) -> 250.7355 | DE29: )*1,25 | DF29: )*1,25 | DG29: )*1,15 | DI29: )*1,15 | DJ29: )*1,25 | DN29: 0 | DO29: 0 | DP29: 1 | DQ29: 1 | DU29: 1003 | DV29: 100 м | DW29: 100 м | DX29: 100 | EE29: 26549101 | EF29: 2 | EG29: Общестроительные работы | EH29: 0 | EJ29: 1 | EK29: 27001 | EL29: Автомобильные дороги | EM29: ФЕР-27 | EO29: Поправка: МДС 81-35.2004, п.4.7 | EQ29: 0 | ER29: 1537.85 | ES29: 130.44 | ET29: 1228.57 | EU29: 51.94 | EV29: 178.84 | EW29: 21.89 | EX29: 4.52 | EY29: 0 | FQ29: 0 | FR29: =ROUND(IF(AND(BH29=3,BI29=3),P29,0),2) -> 0 | FS29: 0 | FT29: *0,9 | FU29: *0,85 | FX29: 127.8 | FY29: 80.75 | GD29: 0 | GF29: -942180140 | GG29: 1 | GH29: 1 | GI29: 4 | GJ29: 0 | GK29: =ROUND(R29*(S12)/100,2) -> 0 | GL29: =ROUND(IF(AND(BH29=3,BI29=3,FS29<>0),P29,0),2) -> 0 | GM29: =ROUND(O29+X29+Y29+GK29,2)+GX29 -> 2788.32 | GN29: =IF(OR(BI29=0,BI29=1),ROUND(O29+X29+Y29+GK29,2),0) -> 2788.32 | GO29: =IF(BI29=2,ROUND(O29+X29+Y29+GK29,2),0) -> 0 | GP29: =IF(BI29=4,ROUND(O29+X29+Y29+GK29,2)+GX29,0) -> 0 | GR29: 0 | GS29: 3 | GT29: 0 | GV29: =ROUND(GT29,6) -> 0 | GW29: 1 | GX29: =ROUND(GV29*GW29*I29,2) -> 0 | HA29: 0 | HB29: 0 | IK29: 0
A30: 18 | B30: 1 | C30: 39 | E30: 2,1 | F30: 01.7.07.26-0033 | G30: Шнур полиуретановый | H30: 10 м | I30: =I28*J30 -> 1.6 | J30: 10 | O30: =ROUND(CP30,2) -> 26.88 | P30: =ROUND(CQ30*I30,2) -> 26.88 | Q30: =ROUND(CR30*I30,2) -> 0 | R30: =ROUND(CS30*I30,2) -> 0 | S30: =ROUND(CT30*I30,2) -> 0 | T30: =ROUND(CU30*I30,2) -> 0 | U30: =CV30*I30 -> 0 | V30: =CW30*I30 -> 0 | W30: =ROUND(CX30*I30,2) -> 0 | X30: =ROUND(CY30,2) -> 0 | Y30: =ROUND(CZ30,2) -> 0 | AA30: 26812436 | AB30: =ROUND((AC30+AD30+AF30),6) -> 16.8 | AC30: =ROUND((ES30),6) -> 16.8 | AD30: =ROUND((((ET30)-(EU30))+AE30),6) -> 0 | AE30: =ROUND((EU30),6) -> 0 | AF30: =ROUND((EV30),6) -> 0 | AG30: =ROUND((AP30),6) -> 0 | AH30: =(EW30) -> 0 | AI30: =(EX30) -> 0 | AJ30: =ROUND((AS30),6) -> 0 | AK30: 16.8 | AL30: 16.8 | AM30: 0 | AN30: 0 | AO30: 0 | AP30: 0 | AQ30: 0 | AR30: 0 | AS30: 0 | AT30: 128 | AU30: 81 | AV30: 1 | AW30: 1 | AZ30: 1 | BA30: 1 | BB30: 1 | BC30: 1 | BH30: 3 | BI30: 1 | BJ30: ФССЦ-2001, 01.7.07.26-0033, приказ Минстроя России №1039/пр от 30.12.2016г. | BM30: 27001 | BN30: 0 | BP30: 0 | BQ30: 2 | BR30: 0 | BS30: 1 | BT30: 1 | BU30: 1 | BV30: 1 | BW30: 1 | BX30: 1 | BZ30: 142 | CA30: 95 | CF30: 0 | CG30: 0 | CM30: 0 | CO30: 0 | CP30: =(P30+Q30+S30) -> 26.88 | CQ30: =AC30*BC30 -> 16.8 | CR30: =AD30*BB30 -> 0 | CS30: =AE30*BS30 -> 0 | CT30: =AF30*BA30 -> 0 | CU30: =AG30 -> 0 | CV30: =AH30 -> 0 | CW30: =AI30 -> 0 | CX30: =AJ30 -> 0 | CY30: =(((S30+R30)*AT30)/100) -> 0 | CZ30: =(((S30+R30)*AU30)/100) -> 0 | DN30: 0 | DO30: 0 | DP30: 1 | DQ30: 1 | DU30: 1003 | DV30: 10 м | DW30: 10 м | DX30: 10 | EE30: 26549101 | EF30: 2 | EG30: Общестроительные работы | EH30: 0 | EJ30: 1 | EK30: 27001 | EL30: Автомобильные дороги | EM30: ФЕР-27 | EQ30: 0 | ER30: 16.8 | ES30: 16.8 | ET30: 0 | EU30: 0 | EV30: 0 | EW30: 0 | EX30: 0 | FQ30: 0 | FR30: =ROUND(IF(AND(BH30=3,BI30=3),P30,0),2) -> 0 | FS30: 0 | FT30: *0,9 | FU30: *0,85 | FX30: 127.8 | FY30: 80.75 | GD30: 0 | GF30: 968193160 | GG30: 2 | GH30: 1 | GI30: -2 | GJ30: 0 | GK30: =ROUND(R30*(R12)/100,2) -> 0 | GL30: =ROUND(IF(AND(BH30=3,BI30=3,FS30<>0),P30,0),2) -> 0 | GM30: =ROUND(O30+X30+Y30+GK30,2)+GX30 -> 26.88 | GN30: =IF(OR(BI30=0,BI30=1),ROUND(O30+X30+Y30+GK30,2),0) -> 26.88 | GO30: =IF(BI30=2,ROUND(O30+X30+Y30+GK30,2),0) -> 0 | GP30: =IF(BI30=4,ROUND(O30+X30+Y30+GK30,2)+GX30,0) -> 0 | GR30: 0 | GS30: 3 | GT30: 0 | GV30: =ROUND(GT30,6) -> 0 | GW30: 1 | GX30: =ROUND(GV30*GW30*I30,2) -> 0 | HA30: 0 | HB30: 0 | IK30: 0
A31: 18 | B31: 1 | C31: 53 | E31: 2,1 | F31: 01.7.07.26-0033 | G31: Шнур полиуретановый | H31: 10 м | I31: =I29*J31 -> 1.6 | J31: 10 | O31: =ROUND(CP31,2) -> 192.19 | P31: =ROUND(CQ31*I31,2) -> 192.19 | Q31: =ROUND(CR31*I31,2) -> 0 | R31: =ROUND(CS31*I31,2) -> 0 | S31: =ROUND(CT31*I31,2) -> 0 | T31: =ROUND(CU31*I31,2) -> 0 | U31: =CV31*I31 -> 0 | V31: =CW31*I31 -> 0 | W31: =ROUND(CX31*I31,2) -> 0 | X31: =ROUND(CY31,2) -> 0 | Y31: =ROUND(CZ31,2) -> 0 | AA31: 26812450 | AB31: =ROUND((AC31+AD31+AF31),6) -> 16.8 | AC31: =ROUND((ES31),6) -> 16.8 | AD31: =ROUND((((ET31)-(EU31))+AE31),6) -> 0 | AE31: =ROUND((EU31),6) -> 0 | AF31: =ROUND((EV31),6) -> 0 | AG31: =ROUND((AP31),6) -> 0 | AH31: =(EW31) -> 0 | AI31: =(EX31) -> 0 | AJ31: =ROUND((AS31),6) -> 0 | AK31: 16.8 | AL31: 16.8 | AM31: 0 | AN31: 0 | AO31: 0 | AP31: 0 | AQ31: 0 | AR31: 0 | AS31: 0 | AT31: 128 | AU31: 81 | AV31: 1 | AW31: 1 | AZ31: 7.15 | BA31: 1 | BB31: 1 | BC31: 7.15 | BH31: 3 | BI31: 1 | BJ31: ФССЦ-2001, 01.7.07.26-0033, приказ Минстроя России №1039/пр от 30.12.2016г. | BM31: 27001 | BN31: 0 | BP31: 0 | BQ31: 2 | BR31: 0 | BS31: 1 | BT31: 1 | BU31: 1 | BV31: 1 | BW31: 1 | BX31: 1 | BZ31: 142 | CA31: 95 | CF31: 0 | CG31: 0 | CM31: 0 | CO31: 0 | CP31: =(P31+Q31+S31) -> 192.19 | CQ31: =AC31*BC31 -> 120.12 | CR31: =AD31*BB31 -> 0 | CS31: =AE31*BS31 -> 0 | CT31: =AF31*BA31 -> 0 | CU31: =AG31 -> 0 | CV31: =AH31 -> 0 | CW31: =AI31 -> 0 | CX31: =AJ31 -> 0 | CY31: =(((S31+R31)*AT31)/100) -> 0 | CZ31: =(((S31+R31)*AU31)/100) -> 0 | DN31: 0 | DO31: 0 | DP31: 1 | DQ31: 1 | DU31: 1003 | DV31: 10 м | DW31: 10 м | DX31: 10 | EE31: 26549101 | EF31: 2 | EG31: Общестроительные работы | EH31: 0 | EJ31: 1 | EK31: 27001 | EL31: Автомобильные дороги | EM31: ФЕР-27 | EQ31: 0 | ER31: 16.8 | ES31: 16.8 | ET31: 0 | EU31: 0 | EV31: 0 | EW31: 0 | EX31: 0 | FQ31: 0 | FR31: =ROUND(IF(AND(BH31=3,BI31=3),P31,0),2) -> 0 | FS31: 0 | FT31: *0,9 | FU31: *0,85 | FX31: 127.8 | FY31: 80.75 | GD31: 0 | GF31: 968193160 | GG31: 1 | GH31: 1 | GI31: 4 | GJ31: 0 | GK31: =ROUND(R31*(S12)/100,2) -> 0 | GL31: =ROUND(IF(AND(BH31=3,BI31=3,FS31<>0),P31,0),2) -> 0 | GM31: =ROUND(O31+X31+Y31+GK31,2)+GX31 -> 192.19 | GN31: =IF(OR(BI31=0,BI31=1),ROUND(O31+X31+Y31+GK31,2),0) -> 192.19 | GO31: =IF(BI31=2,ROUND(O31+X31+Y31+GK31,2),0) -> 0 | GP31: =IF(BI31=4,ROUND(O31+X31+Y31+GK31,2)+GX31,0) -> 0 | GR31: 0 | GS31: 3 | GT31: 0 | GV31: =ROUND(GT31,6) -> 0 | GW31: 1 | GX31: =ROUND(GV31*GW31*I31,2) -> 0 | HA31: 0 | HB31: 0 | IK31: 0
A32: 18 | B32: 1 | C32: 40 | E32: 2,2 | F32: 02.3.01.02-0005 | G32: Песок несортированный | H32: м3 | I32: =I28*J32 -> 0.32 | J32: 2 | O32: =ROUND(CP32,2) -> 26.72 | P32: =ROUND(CQ32*I32,2) -> 26.72 | Q32: =ROUND(CR32*I32,2) -> 0 | R32: =ROUND(CS32*I32,2) -> 0 | S32: =ROUND(CT32*I32,2) -> 0 | T32: =ROUND(CU32*I32,2) -> 0 | U32: =CV32*I32 -> 0 | V32: =CW32*I32 -> 0 | W32: =ROUND(CX32*I32,2) -> 0 | X32: =ROUND(CY32,2) -> 0 | Y32: =ROUND(CZ32,2) -> 0 | AA32: 26812436 | AB32: =ROUND((AC32+AD32+AF32),6) -> 83.49 | AC32: =ROUND((ES32),6) -> 83.49 | AD32: =ROUND((((ET32)-(EU32))+AE32),6) -> 0 | AE32: =ROUND((EU32),6) -> 0 | AF32: =ROUND((EV32),6) -> 0 | AG32: =ROUND((AP32),6) -> 0 | AH32: =(EW32) -> 0 | AI32: =(EX32) -> 0 | AJ32: =ROUND((AS32),6) -> 0 | AK32: 83.49 | AL32: 83.49 | AM32: 0 | AN32: 0 | AO32: 0 | AP32: 0 | AQ32: 0 | AR32: 0 | AS32: 0 | AT32: 128 | AU32: 81 | AV32: 1 | AW32: 1 | AZ32: 1 | BA32: 1 | BB32: 1 | BC32: 1 | BH32: 3 | BI32: 1 | BJ32: ФССЦ-2001, 02.3.01.02-0005, приказ Минстроя России №1039/пр от 30.12.2016г. | BM32: 27001 | BN32: 0 | BP32: 0 | BQ32: 2 | BR32: 0 | BS32: 1 | BT32: 1 | BU32: 1 | BV32: 1 | BW32: 1 | BX32: 1 | BZ32: 142 | CA32: 95 | CF32: 0 | CG32: 0 | CM32: 0 | CO32: 0 | CP32: =(P32+Q32+S32) -> 26.72 | CQ32: =AC32*BC32 -> 83.49 | CR32: =AD32*BB32 -> 0 | CS32: =AE32*BS32 -> 0 | CT32: =AF32*BA32 -> 0 | CU32: =AG32 -> 0 | CV32: =AH32 -> 0 | CW32: =AI32 -> 0 | CX32: =AJ32 -> 0 | CY32: =(((S32+R32)*AT32)/100) -> 0 | CZ32: =(((S32+R32)*AU32)/100) -> 0 | DN32: 0 | DO32: 0 | DP32: 1 | DQ32: 1 | DU32: 1007 | DV32: м3 | DW32: м3 | DX32: 1 | EE32: 26549101 | EF32: 2 | EG32: Общестроительные работы | EH32: 0 | EJ32: 1 | EK32: 27001 | EL32: Автомобильные дороги | EM32: ФЕР-27 | EQ32: 0 | ER32: 83.49 | ES32: 83.49 | ET32: 0 | EU32: 0 | EV32: 0 | EW32: 0 | EX32: 0 | FQ32: 0 | FR32: =ROUND(IF(AND(BH32=3,BI32=3),P32,0),2) -> 0 | FS32: 0 | FT32: *0,9 | FU32: *0,85 | FX32: 127.8 | FY32: 80.75 | GD32: 0 | GF32: 866392447 | GG32: 2 | GH32: 1 | GI32: -2 | GJ32: 0 | GK32: =ROUND(R32*(R12)/100,2) -> 0 | GL32: =ROUND(IF(AND(BH32=3,BI32=3,FS32<>0),P32,0),2) -> 0 | GM32: =ROUND(O32+X32+Y32+GK32,2)+GX32 -> 26.72 | GN32: =IF(OR(BI32=0,BI32=1),ROUND(O32+X32+Y32+GK32,2),0) -> 26.72 | GO32: =IF(BI32=2,ROUND(O32+X32+Y32+GK32,2),0) -> 0 | GP32: =IF(BI32=4,ROUND(O32+X32+Y32+GK32,2)+GX32,0) -> 0 | GR32: 0 | GS32: 3 | GT32: 0 | GV32: =ROUND(GT32,6) -> 0 | GW32: 1 | GX32: =ROUND(GV32*GW32*I32,2) -> 0 | HA32: 0 | HB32: 0 | IK32: 0
A33: 18 | B33: 1 | C33: 54 | E33: 2,2 | F33: 02.3.01.02-0005 | G33: Песок несортированный | H33: м3 | I33: =I29*J33 -> 0.32 | J33: 2 | O33: =ROUND(CP33,2) -> 191.03 | P33: =ROUND(CQ33*I33,2) -> 191.03 | Q33: =ROUND(CR33*I33,2) -> 0 | R33: =ROUND(CS33*I33,2) -> 0 | S33: =ROUND(CT33*I33,2) -> 0 | T33: =ROUND(CU33*I33,2) -> 0 | U33: =CV33*I33 -> 0 | V33: =CW33*I33 -> 0 | W33: =ROUND(CX33*I33,2) -> 0 | X33: =ROUND(CY33,2) -> 0 | Y33: =ROUND(CZ33,2) -> 0 | AA33: 26812450 | AB33: =ROUND((AC33+AD33+AF33),6) -> 83.49 | AC33: =ROUND((ES33),6) -> 83.49 | AD33: =ROUND((((ET33)-(EU33))+AE33),6) -> 0 | AE33: =ROUND((EU33),6) -> 0 | AF33: =ROUND((EV33),6) -> 0 | AG33: =ROUND((AP33),6) -> 0 | AH33: =(EW33) -> 0 | AI33: =(EX33) -> 0 | AJ33: =ROUND((AS33),6) -> 0 | AK33: 83.49 | AL33: 83.49 | AM33: 0 | AN33: 0 | AO33: 0 | AP33: 0 | AQ33: 0 | AR33: 0 | AS33: 0 | AT33: 128 | AU33: 81 | AV33: 1 | AW33: 1 | AZ33: 7.15 | BA33: 1 | BB33: 1 | BC33: 7.15 | BH33: 3 | BI33: 1 | BJ33: ФССЦ-2001, 02.3.01.02-0005, приказ Минстроя России №1039/пр от 30.12.2016г. | BM33: 27001 | BN33: 0 | BP33: 0 | BQ33: 2 | BR33: 0 | BS33: 1 | BT33: 1 | BU33: 1 | BV33: 1 | BW33: 1 | BX33: 1 | BZ33: 142 | CA33: 95 | CF33: 0 | CG33: 0 | CM33: 0 | CO33: 0 | CP33: =(P33+Q33+S33) -> 191.03 | CQ33: =AC33*BC33 -> 596.9535 | CR33: =AD33*BB33 -> 0 | CS33: =AE33*BS33 -> 0 | CT33: =AF33*BA33 -> 0 | CU33: =AG33 -> 0 | CV33: =AH33 -> 0 | CW33: =AI33 -> 0 | CX33: =AJ33 -> 0 | CY33: =(((S33+R33)*AT33)/100) -> 0 | CZ33: =(((S33+R33)*AU33)/100) -> 0 | DN33: 0 | DO33: 0 | DP33: 1 | DQ33: 1 | DU33: 1007 | DV33: м3 | DW33: м3 | DX33: 1 | EE33: 26549101 | EF33: 2 | EG33: Общестроительные работы | EH33: 0 | EJ33: 1 | EK33: 27001 | EL33: Автомобильные дороги | EM33: ФЕР-27 | EQ33: 0 | ER33: 83.49 | ES33: 83.49 | ET33: 0 | EU33: 0 | EV33: 0 | EW33: 0 | EX33: 0 | FQ33: 0 | FR33: =ROUND(IF(AND(BH33=3,BI33=3),P33,0),2) -> 0 | FS33: 0 | FT33: *0,9 | FU33: *0,85 | FX33: 127.8 | FY33: 80.75 | GD33: 0 | GF33: 866392447 | GG33: 1 | GH33: 1 | GI33: 4 | GJ33: 0 | GK33: =ROUND(R33*(S12)/100,2) -> 0 | GL33: =ROUND(IF(AND(BH33=3,BI33=3,FS33<>0),P33,0),2) -> 0 | GM33: =ROUND(O33+X33+Y33+GK33,2)+GX33 -> 191.03 | GN33: =IF(OR(BI33=0,BI33=1),ROUND(O33+X33+Y33+GK33,2),0) -> 191.03 | GO33: =IF(BI33=2,ROUND(O33+X33+Y33+GK33,2),0) -> 0 | GP33: =IF(BI33=4,ROUND(O33+X33+Y33+GK33,2)+GX33,0) -> 0 | GR33: 0 | GS33: 3 | GT33: 0 | GV33: =ROUND(GT33,6) -> 0 | GW33: 1 | GX33: =ROUND(GV33*GW33*I33,2) -> 0 | HA33: 0 | HB33: 0 | IK33: 0
A34: 17 | B34: 1 | C34: =ROW(SmtRes!A61) -> 61 | D34: =ROW(EtalonRes!A65) -> 65 | E34: 3 | F34: 68-12-12 | G34: Снятие деформированных асфальтобетонных покрытий самоходными холодными фрезами с шириной фрезерования 1500-2100 мм толщиной слоя до 50 мм | H34: 1000 м2 | I34: =ROUND(695/1000,9) -> 0.695 | J34: 0 | O34: =ROUND(CP34,2) -> 1244.25 | P34: =ROUND(CQ34*I34,2) -> 0 | Q34: =ROUND(CR34*I34,2) -> 1229.15 | R34: =ROUND(CS34*I34,2) -> 73.95 | S34: =ROUND(CT34*I34,2) -> 15.1 | T34: =ROUND(CU34*I34,2) -> 0 | U34: =CV34*I34 -> 1.93488 | V34: =CW34*I34 -> 5.421 | W34: =ROUND(CX34*I34,2) -> 0 | X34: =ROUND(CY34,2) -> 92.61 | Y34: =ROUND(CZ34,2) -> 53.43 | AA34: 26812436 | AB34: =ROUND((AC34+AD34+AF34),6) -> 1790.28 | AC34: =ROUND((ES34),6) -> 0 | AD34: =ROUND(((((ET34*1.2))-((EU34*1.2)))+AE34),6) -> 1768.56 | AE34: =ROUND(((EU34*1.2)),6) -> 106.404 | AF34: =ROUND(((EV34*1.2)),6) -> 21.72 | AG34: =ROUND((AP34),6) -> 0 | AH34: =((EW34*1.2)) -> 2.784 | AI34: =((EX34*1.2)) -> 7.8 | AJ34: =ROUND((AS34),6) -> 0 | AK34: 1491.9 | AL34: 0 | AM34: 1473.8 | AN34: 88.67 | AO34: 18.1 | AP34: 0 | AQ34: 2.32 | AR34: 6.5 | AS34: 0 | AT34: 104 | AU34: 60 | AV34: 1 | AW34: 1 | AZ34: 1 | BA34: 1 | BB34: 1 | BC34: 1 | BH34: 0 | BI34: 1 | BJ34: ФЕР-2001, 68-12-12, приказ Минстроя России №1039/пр от 30.12.2016г. | BM34: 68001 | BN34: 0 | BP34: 0 | BQ34: 6 | BR34: 0 | BS34: 1 | BT34: 1 | BU34: 1 | BV34: 1 | BW34: 1 | BX34: 1 | BZ34: 104 | CA34: 60 | CF34: 0 | CG34: 0 | CM34: 0 | CN34: Поправка: Сб.№68, п.1.68.3 Наименование: Работы по ремонту дорожных оснований и покрытий в условиях непрекрекращающегося движения транспорта определяется по расценкам соответствующих таблиц | CO34: 0 | CP34: =(P34+Q34+S34) -> 1244.25 | CQ34: =AC34*BC34 -> 0 | CR34: =AD34*BB34 -> 1768.56 | CS34: =AE34*BS34 -> 106.404 | CT34: =AF34*BA34 -> 21.72 | CU34: =AG34 -> 0 | CV34: =AH34 -> 2.784 | CW34: =AI34 -> 7.8 | CX34: =AJ34 -> 0 | CY34: =(((S34+R34)*AT34)/100) -> 92.612 | CZ34: =(((S34+R34)*AU34)/100) -> 53.43 | DE34: )*1,2 | DF34: )*1,2 | DG34: )*1,2 | DI34: )*1,2 | DJ34: )*1,2 | DN34: 0 | DO34: 0 | DP34: 1 | DQ34: 1 | DU34: 1005 | DV34: 1000 м2 | DW34: 1000 м2 | DX34: 1000 | EE34: 26549186 | EF34: 6 | EG34: Ремонтно-строительные работы | EH34: 0 | EJ34: 1 | EK34: 68001 | EL34: Благоустройство | EM34: рФЕР-68 | EO34: Поправка: Сб.№68, п.1.68.3 | EQ34: 0 | ER34: 1491.9 | ES34: 0 | ET34: 1473.8 | EU34: 88.67 | EV34: 18.1 | EW34: 2.32 | EX34: 6.5 | EY34: 0 | FQ34: 0 | FR34: =ROUND(IF(AND(BH34=3,BI34=3),P34,0),2) -> 0 | FS34: 0 | FX34: 104 | FY34: 60 | GD34: 0 | GF34: 2051310278 | GG34: 2 | GH34: 1 | GI34: -2 | GJ34: 0 | GK34: =ROUND(R34*(R12)/100,2) -> 0 | GL34: =ROUND(IF(AND(BH34=3,BI34=3,FS34<>0),P34,0),2) -> 0 | GM34: =ROUND(O34+X34+Y34+GK34,2)+GX34 -> 1390.29 | GN34: =IF(OR(BI34=0,BI34=1),ROUND(O34+X34+Y34+GK34,2),0) -> 1390.29 | GO34: =IF(BI34=2,ROUND(O34+X34+Y34+GK34,2),0) -> 0 | GP34: =IF(BI34=4,ROUND(O34+X34+Y34+GK34,2)+GX34,0) -> 0 | GR34: 0 | GS34: 3 | GT34: 0 | GV34: =ROUND(GT34,6) -> 0 | GW34: 1 | GX34: =ROUND(GV34*GW34*I34,2) -> 0 | HA34: 0 | HB34: 0 | IK34: 0
A35: 17 | B35: 1 | C35: =ROW(SmtRes!A68) -> 68 | D35: =ROW(EtalonRes!A72) -> 72 | E35: 3 | F35: 68-12-12 | G35: Снятие деформированных асфальтобетонных покрытий самоходными холодными фрезами с шириной фрезерования 1500-2100 мм толщиной слоя до 50 мм | H35: 1000 м2 | I35: =ROUND(695/1000,9) -> 0.695 | J35: 0 | O35: =ROUND(CP35,2) -> 8896.35 | P35: =ROUND(CQ35*I35,2) -> 0 | Q35: =ROUND(CR35*I35,2) -> 8788.42 | R35: =ROUND(CS35*I35,2) -> 528.75 | S35: =ROUND(CT35*I35,2) -> 107.93 | T35: =ROUND(CU35*I35,2) -> 0 | U35: =CV35*I35 -> 1.93488 | V35: =CW35*I35 -> 5.421 | W35: =ROUND(CX35*I35,2) -> 0 | X35: =ROUND(CY35,2) -> 662.15 | Y35: =ROUND(CZ35,2) -> 382.01 | AA35: 26812450 | AB35: =ROUND((AC35+AD35+AF35),6) -> 1790.28 | AC35: =ROUND((ES35),6) -> 0 | AD35: =ROUND(((((ET35*1.2))-((EU35*1.2)))+AE35),6) -> 1768.56 | AE35: =ROUND(((EU35*1.2)),6) -> 106.404 | AF35: =ROUND(((EV35*1.2)),6) -> 21.72 | AG35: =ROUND((AP35),6) -> 0 | AH35: =((EW35*1.2)) -> 2.784 | AI35: =((EX35*1.2)) -> 7.8 | AJ35: =ROUND((AS35),6) -> 0 | AK35: 1491.9 | AL35: 0 | AM35: 1473.8 | AN35: 88.67 | AO35: 18.1 | AP35: 0 | AQ35: 2.32 | AR35: 6.5 | AS35: 0 | AT35: 104 | AU35: 60 | AV35: 1 | AW35: 1 | AZ35: 7.15 | BA35: 7.15 | BB35: 7.15 | BC35: 7.15 | BH35: 0 | BI35: 1 | BJ35: ФЕР-2001, 68-12-12, приказ Минстроя России №1039/пр от 30.12.2016г. | BM35: 68001 | BN35: 0 | BP35: 0 | BQ35: 6 | BR35: 0 | BS35: 7.15 | BT35: 1 | BU35: 1 | BV35: 1 | BW35: 1 | BX35: 1 | BZ35: 104 | CA35: 60 | CF35: 0 | CG35: 0 | CM35: 0 | CN35: Поправка: Сб.№68, п.1.68.3 Наименование: Работы по ремонту дорожных оснований и покрытий в условиях непрекрекращающегося движения транспорта определяется по расценкам соответствующих таблиц | CO35: 0 | CP35: =(P35+Q35+S35) -> 8896.35 | CQ35: =AC35*BC35 -> 0 | CR35: =AD35*BB35 -> 12645.204 | CS35: =AE35*BS35 -> 760.7886 | CT35: =AF35*BA35 -> 155.298 | CU35: =AG35 -> 0 | CV35: =AH35 -> 2.784 | CW35: =AI35 -> 7.8 | CX35: =AJ35 -> 0 | CY35: =(((S35+R35)*AT35)/100) -> 662.1472 | CZ35: =(((S35+R35)*AU35)/100) -> 382.008 | DE35: )*1,2 | DF35: )*1,2 | DG35: )*1,2 | DI35: )*1,2 | DJ35: )*1,2 | DN35: 0 | DO35: 0 | DP35: 1 | DQ35: 1 | DU35: 1005 | DV35: 1000 м2 | DW35: 1000 м2 | DX35: 1000 | EE35: 26549186 | EF35: 6 | EG35: Ремонтно-строительные работы | EH35: 0 | EJ35: 1 | EK35: 68001 | EL35: Благоустройство | EM35: рФЕР-68 | EO35: Поправка: Сб.№68, п.1.68.3 | EQ35: 0 | ER35: 1491.9 | ES35: 0 | ET35: 1473.8 | EU35: 88.67 | EV35: 18.1 | EW35: 2.32 | EX35: 6.5 | EY35: 0 | FQ35: 0 | FR35: =ROUND(IF(AND(BH35=3,BI35=3),P35,0),2) -> 0 | FS35: 0 | FX35: 104 | FY35: 60 | GD35: 0 | GF35: 2051310278 | GG35: 1 | GH35: 1 | GI35: 4 | GJ35: 0 | GK35: =ROUND(R35*(S12)/100,2) -> 0 | GL35: =ROUND(IF(AND(BH35=3,BI35=3,FS35<>0),P35,0),2) -> 0 | GM35: =ROUND(O35+X35+Y35+GK35,2)+GX35 -> 9940.51 | GN35: =IF(OR(BI35=0,BI35=1),ROUND(O35+X35+Y35+GK35,2),0) -> 9940.51 | GO35: =IF(BI35=2,ROUND(O35+X35+Y35+GK35,2),0) -> 0 | GP35: =IF(BI35=4,ROUND(O35+X35+Y35+GK35,2)+GX35,0) -> 0 | GR35: 0 | GS35: 3 | GT35: 0 | GV35: =ROUND(GT35,6) -> 0 | GW35: 1 | GX35: =ROUND(GV35*GW35*I35,2) -> 0 | HA35: 0 | HB35: 0 | IK35: 0
A36: 18 | B36: 1 | C36: 61 | E36: 3,1 | F36: 01.7.13.01-0001 | G36: Лом асфальтобетона | H36: т | I36: =I34*J36 -> 68.805 | J36: 99 | O36: =ROUND(CP36,2) -> 3529.01 | P36: =ROUND(CQ36*I36,2) -> 3529.01 | Q36: =ROUND(CR36*I36,2) -> 0 | R36: =ROUND(CS36*I36,2) -> 0 | S36: =ROUND(CT36*I36,2) -> 0 | T36: =ROUND(CU36*I36,2) -> 0 | U36: =CV36*I36 -> 0 | V36: =CW36*I36 -> 0 | W36: =ROUND(CX36*I36,2) -> 0 | X36: =ROUND(CY36,2) -> 0 | Y36: =ROUND(CZ36,2) -> 0 | AA36: 26812436 | AB36: =ROUND((AC36+AD36+AF36),6) -> 51.29 | AC36: =ROUND((ES36),6) -> 51.29 | AD36: =ROUND((((ET36)-(EU36))+AE36),6) -> 0 | AE36: =ROUND((EU36),6) -> 0 | AF36: =ROUND((EV36),6) -> 0 | AG36: =ROUND((AP36),6) -> 0 | AH36: =(EW36) -> 0 | AI36: =(EX36) -> 0 | AJ36: =ROUND((AS36),6) -> 0 | AK36: 51.29 | AL36: 51.29 | AM36: 0 | AN36: 0 | AO36: 0 | AP36: 0 | AQ36: 0 | AR36: 0 | AS36: 0 | AT36: 104 | AU36: 60 | AV36: 1 | AW36: 1 | AZ36: 1 | BA36: 1 | BB36: 1 | BC36: 1 | BH36: 3 | BI36: 1 | BJ36: ФССЦ-2001, 01.7.13.01-0001, приказ Минстроя России №1039/пр от 30.12.2016г. | BM36: 68001 | BN36: 0 | BP36: 0 | BQ36: 6 | BR36: 0 | BS36: 1 | BT36: 1 | BU36: 1 | BV36: 1 | BW36: 1 | BX36: 1 | BZ36: 104 | CA36: 60 | CF36: 0 | CG36: 0 | CM36: 0 | CO36: 0 | CP36: =(P36+Q36+S36) -> 3529.01 | CQ36: =AC36*BC36 -> 51.29 | CR36: =AD36*BB36 -> 0 | CS36: =AE36*BS36 -> 0 | CT36: =AF36*BA36 -> 0 | CU36: =AG36 -> 0 | CV36: =AH36 -> 0 | CW36: =AI36 -> 0 | CX36: =AJ36 -> 0 | CY36: =(((S36+R36)*AT36)/100) -> 0 | CZ36: =(((S36+R36)*AU36)/100) -> 0 | DN36: 0 | DO36: 0 | DP36: 1 | DQ36: 1 | DU36: 1009 | DV36: т | DW36: т | DX36: 1000 | EE36: 26549186 | EF36: 6 | EG36: Ремонтно-строительные работы | EH36: 0 | EJ36: 1 | EK36: 68001 | EL36: Благоустройство | EM36: рФЕР-68 | EQ36: 0 | ER36: 51.29 | ES36: 51.29 | ET36: 0 | EU36: 0 | EV36: 0 | EW36: 0 | EX36: 0 | FQ36: 0 | FR36: =ROUND(IF(AND(BH36=3,BI36=3),P36,0),2) -> 0 | FS36: 0 | FX36: 104 | FY36: 60 | GD36: 0 | GF36: 257639785 | GG36: 2 | GH36: 1 | GI36: -2 | GJ36: 0 | GK36: =ROUND(R36*(R12)/100,2) -> 0 | GL36: =ROUND(IF(AND(BH36=3,BI36=3,FS36<>0),P36,0),2) -> 0 | GM36: =ROUND(O36+X36+Y36+GK36,2)+GX36 -> 3529.01 | GN36: =IF(OR(BI36=0,BI36=1),ROUND(O36+X36+Y36+GK36,2),0) -> 3529.01 | GO36: =IF(BI36=2,ROUND(O36+X36+Y36+GK36,2),0) -> 0 | GP36: =IF(BI36=4,ROUND(O36+X36+Y36+GK36,2)+GX36,0) -> 0 | GR36: 0 | GS36: 3 | GT36: 0 | GV36: =ROUND(GT36,6) -> 0 | GW36: 1 | GX36: =ROUND(GV36*GW36*I36,2) -> 0 | HA36: 0 | HB36: 0 | IK36: 0
A37: 18 | B37: 1 | C37: 68 | E37: 3,1 | F37: 01.7.13.01-0001 | G37: Лом асфальтобетона | H37: т | I37: =I35*J37 -> 68.805 | J37: 99 | O37: =ROUND(CP37,2) -> 25232.41 | P37: =ROUND(CQ37*I37,2) -> 25232.41 | Q37: =ROUND(CR37*I37,2) -> 0 | R37: =ROUND(CS37*I37,2) -> 0 | S37: =ROUND(CT37*I37,2) -> 0 | T37: =ROUND(CU37*I37,2) -> 0 | U37: =CV37*I37 -> 0 | V37: =CW37*I37 -> 0 | W37: =ROUND(CX37*I37,2) -> 0 | X37: =ROUND(CY37,2) -> 0 | Y37: =ROUND(CZ37,2) -> 0 | AA37: 26812450 | AB37: =ROUND((AC37+AD37+AF37),6) -> 51.29 | AC37: =ROUND((ES37),6) -> 51.29 | AD37: =ROUND((((ET37)-(EU37))+AE37),6) -> 0 | AE37: =ROUND((EU37),6) -> 0 | AF37: =ROUND((EV37),6) -> 0 | AG37: =ROUND((AP37),6) -> 0 | AH37: =(EW37) -> 0 | AI37: =(EX37) -> 0 | AJ37: =ROUND((AS37),6) -> 0 | AK37: 51.29 | AL37: 51.29 | AM37: 0 | AN37: 0 | AO37: 0 | AP37: 0 | AQ37: 0 | AR37: 0 | AS37: 0 | AT37: 104 | AU37: 60 | AV37: 1 | AW37: 1 | AZ37: 7.15 | BA37: 1 | BB37: 1 | BC37: 7.15 | BH37: 3 | BI37: 1 | BJ37: ФССЦ-2001, 01.7.13.01-0001, приказ Минстроя России №1039/пр от 30.12.2016г. | BM37: 68001 | BN37: 0 | BP37: 0 | BQ37: 6 | BR37: 0 | BS37: 1 | BT37: 1 | BU37: 1 | BV37: 1 | BW37: 1 | BX37: 1 | BZ37: 104 | CA37: 60 | CF37: 0 | CG37: 0 | CM37: 0 | CO37: 0 | CP37: =(P37+Q37+S37) -> 25232.41 | CQ37: =AC37*BC37 -> 366.7235 | CR37: =AD37*BB37 -> 0 | CS37: =AE37*BS37 -> 0 | CT37: =AF37*BA37 -> 0 | CU37: =AG37 -> 0 | CV37: =AH37 -> 0 | CW37: =AI37 -> 0 | CX37: =AJ37 -> 0 | CY37: =(((S37+R37)*AT37)/100) -> 0 | CZ37: =(((S37+R37)*AU37)/100) -> 0 | DN37: 0 | DO37: 0 | DP37: 1 | DQ37: 1 | DU37: 1009 | DV37: т | DW37: т | DX37: 1000 | EE37: 26549186 | EF37: 6 | EG37: Ремонтно-строительные работы | EH37: 0 | EJ37: 1 | EK37: 68001 | EL37: Благоустройство | EM37: рФЕР-68 | EQ37: 0 | ER37: 51.29 | ES37: 51.29 | ET37: 0 | EU37: 0 | EV37: 0 | EW37: 0 | EX37: 0 | FQ37: 0 | FR37: =ROUND(IF(AND(BH37=3,BI37=3),P37,0),2) -> 0 | FS37: 0 | FX37: 104 | FY37: 60 | GD37: 0 | GF37: 257639785 | GG37: 1 | GH37: 1 | GI37: 4 | GJ37: 0 | GK37: =ROUND(R37*(S12)/100,2) -> 0 | GL37: =ROUND(IF(AND(BH37=3,BI37=3,FS37<>0),P37,0),2) -> 0 | GM37: =ROUND(O37+X37+Y37+GK37,2)+GX37 -> 25232.41 | GN37: =IF(OR(BI37=0,BI37=1),ROUND(O37+X37+Y37+GK37,2),0) -> 25232.41 | GO37: =IF(BI37=2,ROUND(O37+X37+Y37+GK37,2),0) -> 0 | GP37: =IF(BI37=4,ROUND(O37+X37+Y37+GK37,2)+GX37,0) -> 0 | GR37: 0 | GS37: 3 | GT37: 0 | GV37: =ROUND(GT37,6) -> 0 | GW37: 1 | GX37: =ROUND(GV37*GW37*I37,2) -> 0 | HA37: 0 | HB37: 0 | IK37: 0
A38: 17 | B38: 1 | C38: =ROW(SmtRes!A69) -> 69 | D38: =ROW(EtalonRes!A73) -> 73 | E38: 4 | F38: 01-01-111-02 | G38: Планировка вручную дна и откосов выемок каналов, группа грунтов 2 | H38: 1000 м2 | I38: =ROUND(68/1000,9) -> 0.068 | J38: 0 | O38: =ROUND(CP38,2) -> 86.05 | P38: =ROUND(CQ38*I38,2) -> 0 | Q38: =ROUND(CR38*I38,2) -> 0 | R38: =ROUND(CS38*I38,2) -> 0 | S38: =ROUND(CT38*I38,2) -> 86.05 | T38: =ROUND(CU38*I38,2) -> 0 | U38: =CV38*I38 -> 10.0878 | V38: =CW38*I38 -> 0 | W38: =ROUND(CX38*I38,2) -> 0 | X38: =ROUND(CY38,2) -> 74 | Y38: =ROUND(CZ38,2) -> 37 | AA38: 26812436 | AB38: =ROUND((AC38+AD38+AF38),6) -> 1265.4255 | AC38: =ROUND((ES38),6) -> 0 | AD38: =ROUND(((((ET38*1.25))-((EU38*1.25)))+AE38),6) -> 0 | AE38: =ROUND(((EU38*1.25)),6) -> 0 | AF38: =ROUND(((EV38*1.15)),6) -> 1265.4255 | AG38: =ROUND((AP38),6) -> 0 | AH38: =((EW38*1.15)) -> 148.35 | AI38: =((EX38*1.25)) -> 0 | AJ38: =ROUND((AS38),6) -> 0 | AK38: 1100.37 | AL38: 0 | AM38: 0 | AN38: 0 | AO38: 1100.37 | AP38: 0 | AQ38: 129 | AR38: 0 | AS38: 0 | AT38: 86 | AU38: 43 | AV38: 1 | AW38: 1 | AZ38: 1 | BA38: 1 | BB38: 1 | BC38: 1 | BH38: 0 | BI38: 1 | BJ38: ФЕР-2001, 01-01-111-02, приказ Минстроя России №1039/пр от 30.12.2016г. | BM38: 1001 | BN38: 0 | BP38: 0 | BQ38: 2 | BR38: 0 | BS38: 1 | BT38: 1 | BU38: 1 | BV38: 1 | BW38: 1 | BX38: 1 | BZ38: 95 | CA38: 50 | CF38: 0 | CG38: 0 | CM38: 0 | CN38: Поправка: МДС 81-35.2004, п.4.7 Наименование: Работы, выполняемые при реконструкции зданий и сооружений работы, аналогичные технологическим процессам в новом строительстве (в том числе возведение новых конструктивных элементов) стоимость которых определена по соответствующим сборникам ФЕР, кроме сборника № 46 «Работы при реконструкции зданий и сооружений» | CO38: 0 | CP38: =(P38+Q38+S38) -> 86.05 | CQ38: =AC38*BC38 -> 0 | CR38: =AD38*BB38 -> 0 | CS38: =AE38*BS38 -> 0 | CT38: =AF38*BA38 -> 1265.4255 | CU38: =AG38 -> 0 | CV38: =AH38 -> 148.35 | CW38: =AI38 -> 0 | CX38: =AJ38 -> 0 | CY38: =(((S38+R38)*AT38)/100) -> 74.003 | CZ38: =(((S38+R38)*AU38)/100) -> 37.0015 | DE38: )*1,25 | DF38: )*1,25 | DG38: )*1,15 | DI38: )*1,15 | DJ38: )*1,25 | DN38: 0 | DO38: 0 | DP38: 1 | DQ38: 1 | DU38: 1005 | DV38: 1000 м2 | DW38: 1000 м2 | DX38: 1000 | EE38: 26549034 | EF38: 2 | EG38: Общестроительные работы | EH38: 0 | EJ38: 1 | EK38: 1001 | EL38: Земляные работы, выполняемые механизированным способом | EM38: ФЕР-01 | EO38: Поправка: МДС 81-35.2004, п.4.7 | EQ38: 0 | ER38: 1100.37 | ES38: 0 | ET38: 0 | EU38: 0 | EV38: 1100.37 | EW38: 129 | EX38: 0 | EY38: 0 | FQ38: 0 | FR38: =ROUND(IF(AND(BH38=3,BI38=3),P38,0),2) -> 0 | FS38: 0 | FT38: *0,9 | FU38: *0,85 | FX38: 85.5 | FY38: 42.5 | GD38: 0 | GF38: 606912225 | GG38: 2 | GH38: 1 | GI38: -2 | GJ38: 0 | GK38: =ROUND(R38*(R12)/100,2) -> 0 | GL38: =ROUND(IF(AND(BH38=3,BI38=3,FS38<>0),P38,0),2) -> 0 | GM38: =ROUND(O38+X38+Y38+GK38,2)+GX38 -> 197.05 | GN38: =IF(OR(BI38=0,BI38=1),ROUND(O38+X38+Y38+GK38,2),0) -> 197.05 | GO38: =IF(BI38=2,ROUND(O38+X38+Y38+GK38,2),0) -> 0 | GP38: =IF(BI38=4,ROUND(O38+X38+Y38+GK38,2)+GX38,0) -> 0 | GR38: 0 | GS38: 3 | GT38: 0 | GV38: =ROUND(GT38,6) -> 0 | GW38: 1 | GX38: =ROUND(GV38*GW38*I38,2) -> 0 | HA38: 0 | HB38: 0 | IK38: 0
A39: 17 | B39: 1 | C39: =ROW(SmtRes!A70) -> 70 | D39: =ROW(EtalonRes!A74) -> 74 | E39: 4 | F39: 01-01-111-02 | G39: Планировка вручную дна и откосов выемок каналов, группа грунтов 2 | H39: 1000 м2 | I39: =ROUND(68/1000,9) -> 0.068 | J39: 0 | O39: =ROUND(CP39,2) -> 615.25 | P39: =ROUND(CQ39*I39,2) -> 0 | Q39: =ROUND(CR39*I39,2) -> 0 | R39: =ROUND(CS39*I39,2) -> 0 | S39: =ROUND(CT39*I39,2) -> 615.25 | T39: =ROUND(CU39*I39,2) -> 0 | U39: =CV39*I39 -> 10.0878 | V39: =CW39*I39 -> 0 | W39: =ROUND(CX39*I39,2) -> 0 | X39: =ROUND(CY39,2) -> 529.12 | Y39: =ROUND(CZ39,2) -> 264.56 | AA39: 26812450 | AB39: =ROUND((AC39+AD39+AF39),6) -> 1265.4255 | AC39: =ROUND((ES39),6) -> 0 | AD39: =ROUND(((((ET39*1.25))-((EU39*1.25)))+AE39),6) -> 0 | AE39: =ROUND(((EU39*1.25)),6) -> 0 | AF39: =ROUND(((EV39*1.15)),6) -> 1265.4255 | AG39: =ROUND((AP39),6) -> 0 | AH39: =((EW39*1.15)) -> 148.35 | AI39: =((EX39*1.25)) -> 0 | AJ39: =ROUND((AS39),6) -> 0 | AK39: 1100.37 | AL39: 0 | AM39: 0 | AN39: 0 | AO39: 1100.37 | AP39: 0 | AQ39: 129 | AR39: 0 | AS39: 0 | AT39: 86 | AU39: 43 | AV39: 1 | AW39: 1 | AZ39: 7.15 | BA39: 7.15 | BB39: 7.15 | BC39: 7.15 | BH39: 0 | BI39: 1 | BJ39: ФЕР-2001, 01-01-111-02, приказ Минстроя России №1039/пр от 30.12.2016г. | BM39: 1001 | BN39: 0 | BP39: 0 | BQ39: 2 | BR39: 0 | BS39: 7.15 | BT39: 1 | BU39: 1 | BV39: 1 | BW39: 1 | BX39: 1 | BZ39: 95 | CA39: 50 | CF39: 0 | CG39: 0 | CM39: 0 | CN39: Поправка: МДС 81-35.2004, п.4.7 Наименование: Работы, выполняемые при реконструкции зданий и сооружений работы, аналогичные технологическим процессам в новом строительстве (в том числе возведение новых конструктивных элементов) стоимость которых определена по соответствующим сборникам ФЕР, кроме сборника № 46 «Работы при реконструкции зданий и сооружений» | CO39: 0 | CP39: =(P39+Q39+S39) -> 615.25 | CQ39: =AC39*BC39 -> 0 | CR39: =AD39*BB39 -> 0 | CS39: =AE39*BS39 -> 0 | CT39: =AF39*BA39 -> 9047.7923 | CU39: =AG39 -> 0 | CV39: =AH39 -> 148.35 | CW39: =AI39 -> 0 | CX39: =AJ39 -> 0 | CY39: =(((S39+R39)*AT39)/100) -> 529.115 | CZ39: =(((S39+R39)*AU39)/100) -> 264.5575 | DE39: )*1,25 | DF39: )*1,25 | DG39: )*1,15 | DI39: )*1,15 | DJ39: )*1,25 | DN39: 0 | DO39: 0 | DP39: 1 | DQ39: 1 | DU39: 1005 | DV39: 1000 м2 | DW39: 1000 м2 | DX39: 1000 | EE39: 26549034 | EF39: 2 | EG39: Общестроительные работы | EH39: 0 | EJ39: 1 | EK39: 1001 | EL39: Земляные работы, выполняемые механизированным способом | EM39: ФЕР-01 | EO39: Поправка: МДС 81-35.2004, п.4.7 | EQ39: 0 | ER39: 1100.37 | ES39: 0 | ET39: 0 | EU39: 0 | EV39: 1100.37 | EW39: 129 | EX39: 0 | EY39: 0 | FQ39: 0 | FR39: =ROUND(IF(AND(BH39=3,BI39=3),P39,0),2) -> 0 | FS39: 0 | FT39: *0,9 | FU39: *0,85 | FX39: 85.5 | FY39: 42.5 | GD39: 0 | GF39: 606912225 | GG39: 1 | GH39: 1 | GI39: 4 | GJ39: 0 | GK39: =ROUND(R39*(S12)/100,2) -> 0 | GL39: =ROUND(IF(AND(BH39=3,BI39=3,FS39<>0),P39,0),2) -> 0 | GM39: =ROUND(O39+X39+Y39+GK39,2)+GX39 -> 1408.93 | GN39: =IF(OR(BI39=0,BI39=1),ROUND(O39+X39+Y39+GK39,2),0) -> 1408.93 | GO39: =IF(BI39=2,ROUND(O39+X39+Y39+GK39,2),0) -> 0 | GP39: =IF(BI39=4,ROUND(O39+X39+Y39+GK39,2)+GX39,0) -> 0 | GR39: 0 | GS39: 3 | GT39: 0 | GV39: =ROUND(GT39,6) -> 0 | GW39: 1 | GX39: =ROUND(GV39*GW39*I39,2) -> 0 | HA39: 0 | HB39: 0 | IK39: 0
