Workbook
Name Constr: '19-4-1223'!#REF!
Name Constr: '19-4-1230'!#REF!
Name FOT: '19-4-1223'!#REF!
Name FOT: '19-4-1230'!#REF!
Name Ind: '19-4-1223'!#REF!
Name Ind: '19-4-1230'!#REF!
Name Obj: '19-4-1223'!#REF!
Name Obj: '19-4-1230'!#REF!
Name Obosn: '19-4-1223'!#REF!
Name Obosn: '19-4-1230'!#REF!
Name SmPr: '19-4-1223'!#REF!
Name SmPr: '19-4-1230'!#REF!
Name аааааппппппрррппппппп: #REF!
Name аараооооооооооооо: #REF!
Name автом: #REF!
Name алшрльоплварл: #REF!
Name аолвлддддддддддддддддввввввввв: #REF!
Name апарв: #REF!
Name апрлдджаоырыфрпопрлпрлпрлп: #REF!
Name арлггаджаш: #REF!
Name ароррбллтблпроорапииас: #REF!
Name арррррблллпдрлдддддддддд: #REF!
Name варпаааааааааа: #REF!
Name ввпьььььлднд: #REF!
Name вед: #REF!
Name вертикальная: #REF!
Name вертикплан: #REF!
Name волен: #REF!
Name вп: #REF!
Name впырпфдыпл: #REF!
Name впьглорьтитттттттттт: #REF!
Name всввввввввввввввввввввввввв: #REF!
Name выб: #REF!
Name выпуск: #REF!
Name выьлепвввввпмп: #REF!
Name еваопродолжэрщэрзшщщх: #REF!
Name измен: #REF!
Name итого: #REF!
Name итого_сантех: #REF!
Name итого_стр: #REF!
Name итого_строит: #REF!
Name итого_технол: #REF!
Name итого_электр: #REF!
Name квота: #REF!
Name кккккккккк: #REF!
Name корек: #REF!
Name корект: #REF!
Name корректир: #REF!
Name лен: #REF!
Name лот: #REF!
Name мамиааааааааааааааааааааааааааааа: #REF!
Name ммпоослччччччччччрччапппппппппр: #REF!
Name мрол: #REF!
Name оз: #REF!
Name озелен: #REF!
Name озеленение: #REF!
Name озеленение2: #REF!
Name ОСР: #REF!
Name ОСР110: #REF!
Name ОСР111: #REF!

Sheet 19-4-1223
A1: СОГЛАСОВАНО: | I1: УТВЕРЖДАЮ:
A4: ______________ | I4: ____________
A5: " _____ " ________________ 201_ г. | I5: "______ " _______________201_ г.
D6: г.Лесной ФГУП Комбинат ЭХП. Площадка 7А
D7: (наименование стройки)
D9: ЛОКАЛЬНЫЙ СМЕТНЫЙ РАСЧЕТ № 312-2582/19-4-1223
D10: (локальная смета)
A12: на | B12: систему физической защиты, Здание 753А. Реконструкция комплекса по переработке ХВО
D13: (наименование работ и затрат, наименование объекта)
B15: Основание: р.ч.0503.07А.753А-ФЗ, инв.№312-61, 312-31/ДСП
B16: Сметная стоимость _______________________________________________________________________________________________ | D16: ___________________________80,719 | F16: тыс. руб.
B17: строительных работ _______________________________________________________________________________________________ | D17: _______________________________________________________________________________________________58,169 | F17: тыс. руб.
B18: монтажных работ _______________________________________________________________________________________________ | D18: _______________________________________________________________________________________________0,135 | F18: тыс. руб.
B19: оборудования _______________________________________________________________________________________________ | D19: _______________________________________________________________________________________________22,415 | F19: тыс. руб.
B20: Средства на оплату труда _______________________________________________________________________________________________ | D20: ___________________________0,993 | F20: тыс. руб.
B21: Сметная трудоемкость _______________________________________________________________________________________________ | D21: _______________________________________________________________________________________________66,08 | F21: чел.час
B22: Составлена в ценах по состоянию на 01.01.2000 г. (редакция 2009 г.)
A25: № пп | B25: Шифр и номер позиции норматива | C25: Наименование работ и затрат, единица измерения | D25: Количество | E25: Стоимость единицы, руб. | G25: Общая стоимость, руб. | J25: Затраты труда рабочих, чел.-ч, не занятых обслуживанием машин
E26: всего | F26: эксплуатации машин | G26: Всего | H26: оплаты труда | I26: эксплуатация машин
E27: оплаты труда | F27: в т.ч. оплаты труда | I27: в т.ч. оплаты труда | J27: на единицу | K27: всего
A28: 1 | B28: 2 | C28: 3 | D28: 4 | E28: 5 | F28: 6 | G28: 7 | H28: 8 | I28: 9 | J28: 10 | K28: 11
A29: Раздел 1. Оборудование и ограждающие конструкции
A30: Сметой учтена территориальная поправка К=1,0434 к заработной плате
A31: Индексs перехода от текущих цен к ценам 2000 г.: на оборудование К=3,66, на материалы К=4,119
A33: Ограждающие конструкции
A34: 1 | B34: г.Москва Системы и оборудование контроля доступа 2012 г. | C34: Турникет-трипод PERCo-T-5 Цена: 38380:1,18:4,119х1,03х1,02 (шт) | D34: 1 | E34: 8296 | G34: 8296
A35: 2 | B35: г.Москва Системы и оборудование контроля доступа 2012 г. | C35: Ограждение Perco-ВН01 Цена: (3840+2800+430х4):1,18:4,119х1,03х1,02 (шт) | D35: 1 | E35: 1807.05 | G35: 1807
A36: 3 | B36: г.Москва Системы и оборудование контроля доступа 2012 г. | C36: Калитка Perco Цена: 37730:1,18:4,119х1,03х1,02 (шт) | D36: 1 | E36: 8155.5 | G36: 8156
A37: 4 | B37: ТЕР09-03-040-01 | C37: Монтаж защитных ограждений оборудования (1 т конструкций) | D37: 0.25 | E37: 1605,16 1227,81 | F37: 74,72 2,27 | G37: 401 | H37: 307 | I37: 19 1 | J37: 94.29 | K37: 23.57
A38: 5 | B38: г.Екатеринбург Призма 2012 г. | C38: Окно передаточное ОП-1 Цена: 69030:1,18:4,119х1,03х1,02 (шт) | D38: 1 | E38: 14921.12 | G38: 14921
A39: 6 | B39: ТЕР10-01-027-03 | C39: Установка в жилых и общественных зданиях блоков оконных с переплетами раздельными (раздельно-спаренными) в стенах каменных площадью проема до 2 м2 (100 м2 проемов) | D39: 0,016731 1,43*1,17*0,01 | E39: 67750,22 3519,10 | F39: 2344,21 150,02 | G39: 1134 | H39: 59 | I39: 39 3 | J39: 270.25 | K39: 4.52
A40: 7 | B40: г.Пенза ЦеСИС 2012 г. | C40: Комплект козырькового ограждения КЗР-125 БСП-В 60 м Цена: 85985:1,18:4,119х1,03х1,02 (компл) | D40: 1 | E40: 18586.02 | G40: 18586
A41: 8 | B41: г.Пенза ЦеСИС 2012 г. | C41: Комплект для натяжения сетки ССЦП Цена: 7245:1,18:4,119х1,03х1,02 (компл) | D41: 1 | E41: 1566.04 | G41: 1566
A42: 9 | B42: ТЕР07-01-056-02 | C42: Установка ограждения и козырька из спиралей армированной колючей ленты (АКЛ) типа "Репейник" установка козырька высотой до 1 м по существующему ограждению (100 м ограждения и козырька) | D42: 0,6 60*0,01 | E42: 2326,86 885,38 | F42: 994,47 88,45 | G42: 1396 | H42: 531 | I42: 597 53 | J42: 58.16 | K42: 34.9
A43: Оборудование и инвентарь
A44: 10 | B44: г.Екатеринбург Пульс цен 2012 г. | C44: Компьютер персональный на базе процессора Intel Celeron Цена: 31160:1,18:3,66х1,03х1,012 (шт) | D44: 1 | E44: 7520.59 | G44: 7521
A45: 11 | B45: ТЕРм11-04-002-02 | C45: Аппарат настольный, масса до 0,03 т (1 шт.) | D45: 1 | E45: 74,39 38,72 | F45: 34.93 | G45: 74 | H45: 39 | I45: 35 | J45: 3.09 | K45: 3.09
A46: 12 | B46: г.Екатеринбург Тинко 2012 г. | C46: Огнетушитель углекислотный ОУ-5 Цена: 1125:1,18:3,66х1,03х1,012 (шт) | D46: 2 | E46: 271.52 | G46: 543
A47: Мебель
A48: 13 | B48: г.Екатеринбург Евромебель 2012 г. | C48: Стол рабочий с двумя тумбами ДС-1800 Цена: (9340+3400х2):1,18:3,66х1,03х1,012 (шт) | D48: 2 | E48: 3895.45 | G48: 7791
...

Sheet 19-4-1230
A1: СОГЛАСОВАНО: | I1: УТВЕРЖДАЮ:
A4: ______________ | I4: ____________
A5: " _____ " ________________ 201_ г. | I5: "______ " _______________201_ г.
D6: г. Лесной.ФГУП"Комбинат "Электрохимприбор". Площадка 7А.
D7: (наименование стройки)
D9: ЛОКАЛЬНЫЙ СМЕТНЫЙ РАСЧЕТ № 312-2582/19-4-1230
D10: (локальная смета)
A12: на | B12: Автоматизацию ИТП, Здание 753А. Реконструкция комплекса по переработке ХВО.
D13: (наименование работ и затрат, наименование объекта)
B15: Основание: 0503.07А.753А-АТС инв. №312-656,654,655
B16: Сметная стоимость _______________________________________________________________________________________________ | D16: ___________________________85,698 | F16: тыс. руб.
B17: монтажных работ _______________________________________________________________________________________________ | D17: _______________________________________________________________________________________________37,749 | F17: тыс. руб.
B18: оборудования _______________________________________________________________________________________________ | D18: _______________________________________________________________________________________________47,949 | F18: тыс. руб.
B19: Средства на оплату труда _______________________________________________________________________________________________ | D19: ___________________________4,757 | F19: тыс. руб.
B20: Сметная трудоемкость _______________________________________________________________________________________________ | D20: _______________________________________________________________________________________________305,77 | F20: чел.час
B21: Трудозатраты механизаторов _______________________________________________________________________________________________ | D21: _______________________________________________________________________________________________26,24 | F21: чел.час
B22: Составлен(а) в ценах по состоянию на 01.01.2000 г.(редакция 2009)
A25: № пп | B25: Шифр и номер позиции норматива | C25: Наименование работ и затрат, единица измерения | D25: Количество | E25: Стоимость единицы, руб. | G25: Общая стоимость, руб. | J25: Затраты труда рабочих, чел.-ч, не занятых обслуживанием машин
E26: всего | F26: эксплуатации машин | G26: Всего | H26: оплаты труда | I26: эксплуатация машин
E27: оплаты труда | F27: в т.ч. оплаты труда | I27: в т.ч. оплаты труда | J27: на единицу | K27: всего
A28: 1 | B28: 2 | C28: 3 | D28: 4 | E28: 5 | F28: 6 | G28: 7 | H28: 8 | I28: 9 | J28: 10 | K28: 11
A29: Раздел 1. Монтажнае работы и оборудование
A30: Применен территориальный коэффициент к зарплате к=1,0434
A31: Цены материалов и оборудования, принятые по прайсам ориентировочно,
A32: могут быть уточнены по предоставлении счета (калькуляции) заказчиком.
A34: 1 | B34: г. Томск ОАО"Манотомь" | C34: Манометр показывающий сигнализирующий ДМ2010Сг, Цена:850,0:3,66*1,03*1,012 (шт.) | D34: 1 | E34: 242.08 | G34: 242
A35: 2 | B35: ТЕРм11-02-001-02 | C35: Приборы, устанавливаемые на резьбовых соединениях, масса, кг, до 5 (1 шт.) | D35: 1 | E35: 24,38 22,74 | G35: 24 | H35: 23 | J35: 1.56 | K35: 1.56
A36: 3 | B36: г.Казань ПО"Теплоконтроль" | C36: Термометр показывающий сигнализирующий ТКП-100ЭК-М1-(0...100)-1,0-6-125 Цена:1923:3,66*1,03*1,012 (шт.) | D36: 1 | E36: 547.67 | G36: 548
A37: 4 | B37: ТЕРм11-02-001-01 | C37: Приборы, устанавливаемые на резьбовых соединениях, масса, кг, до 1,5 (1 шт.) | D37: 1 | E37: 16,5 15,01 | G37: 17 | H37: 15 | J37: 1.03 | K37: 1.03
A38: 5 | B38: ТЕРм11-07-001-04 | C38: Прокладка капилляров манометрических приборов, из к-та ТКП (10 м) | D38: 0,6 0,1*6 | E38: 197,76 16,57 | G38: 119 | H38: 10 | J38: 1.03 | K38: 0.62
A39: 6 | B39: Компания DANFOSS | C39: Реле давления (прессостат) KPI35 Цена:51,80 еврох39,64:3,66*1,03*1,012 (шт.) | D39: 2 | E39: 584.79 | G39: 1170
A40: 7 | B40: ТЕРм11-02-001-02 | C40: Приборы, устанавливаемые на резьбовых соединениях, масса, кг, до 5 (1 шт.) | D40: 2 | E40: 24,38 22,74 | G40: 49 | H40: 45 | J40: 1.56 | K40: 3.12
A41: 8 | B41: г. Екатеринбург ЗАО "ИВП Крейт" | C41: Преобразователь расчетно-измерительный, ТЭКОН-19-06М Цена:8475,0:3,66*1,03*1,012 (компл.) | D41: 1 | E41: 2413.66 | G41: 2414
A42: 9 | B42: ТЕРм11-04-008-02 | C42: Съемные и выдвижные блоки (модули, ячейки, ТЭЗ), масса: до 10 кг из к-та ТЭКОН (1 шт.) | D42: 1 | E42: 27,75 26,16 | F42: 1.09 | G42: 28 | H42: 26 | I42: 1 | J42: 2.06 | K42: 2.06
A43: 10 | B43: г. Екатеринбург ЗАО "ИВП Крейт" | C43: Блок питания БП-63 Цена:2057,0:3,66*1,03*1,012 (шт.) | D43: 1 | E43: 585.83 | G43: 586
A44: 11 | B44: ТЕРм11-07-001-02 | C44: Блок питания (1 шт.) | D44: 1 | E44: 35,59 31,79 | F44: 3.08 | G44: 36 | H44: 32 | I44: 3 | J44: 2.06 | K44: 2.06
A45: 12 | B45: г. Рязань Завод "Теплоприбор" | C45: Датчик-реле уровня РОС 301-2-УХЛ3-(0,6;0,6;0,6) исп.2 Цена:2978,0:3,27*1,03*1,012 (шт.) | D45: 1 | E45: 259.37 | G45: 259
A46: 13 | B46: ТЕРм11-02-001-02 | C46: Прибор, устанавливаемый на резьбовых соединениях, масса: до 5 кг из к-та РОС-301 (1 шт.) | D46: 1 | E46: 24,38 22,74 | G46: 24 | H46: 23 | J46: 1.56 | K46: 1.56
A47: 14 | B47: ТЕРм11-02-001-01 | C47: Прибор, устанавливаемый на резьбовых соединениях, масса: до 1,5 кг из к-та РОС-301 (1 шт.) | D47: 3 1*3 | E47: 16,5 15,01 | G47: 50 | H47: 45 | J47: 1.03 | K47: 3.09
A48: 15 | B48: ТЕРм08-02-472-09 | C48: Проводник заземляющий открыто по строительным основаниям: из круглой стали диаметром 12 мм (100 м) | D48: 0,006 0,01*0,6 | E48: 1409,81 294,48 | F48: 85,82 3,61 | G48: 8 | H48: 2 | I48: 1 | J48: 21.3 | K48: 0.13
...

Sheet 02-01-14--4-1541
A1: СОГЛАСОВАНО: | I1: УТВЕРЖДАЮ:
A4: ______________ | I4: ____________
A5: " _____ " ________________ 2012 г. | I5: "______ " _______________2012 г.
D6: Реконструкция комплекса по переработке РАО. Площадка 7Б
D7: (наименование стройки)
D9: ЛОКАЛЬНЫЙ СМЕТНЫЙ РАСЧЕТ № 02-01-14/4-1541/314-2964
D10: (локальная смета)
A12: на | B12: Автоматизация водоснабжения и водоотведения, Здание 765
D13: (наименование работ и затрат, наименование объекта)
B15: Основание: р.ч. 0503.07Б.0765 - АВК инв. 314-749, 314-748, 314-747
B16: Сметная стоимость _______________________________________________________________________________________________ | D16: ___________________________140,380 | F16: тыс. руб.
B17: монтажных работ _______________________________________________________________________________________________ | D17: _______________________________________________________________________________________________77,458 | F17: тыс. руб.
B18: оборудования _______________________________________________________________________________________________ | D18: _______________________________________________________________________________________________62,922 | F18: тыс. руб.
B19: Средства на оплату труда _______________________________________________________________________________________________ | D19: ___________________________9,005 | F19: тыс. руб.
B20: Сметная трудоемкость _______________________________________________________________________________________________ | D20: _______________________________________________________________________________________________492,06 | F20: чел.час
B21: Трудозатраты механизаторов _______________________________________________________________________________________________ | D21: _______________________________________________________________________________________________149,95 | F21: чел.час
B22: Составлен(а) в ценах по состоянию на 01.01.2000 г. (редакция 2009 г.)
A25: № пп | B25: Шифр и номер позиции норматива | C25: Наименование работ и затрат, единица измерения | D25: Количество | E25: Стоимость единицы, руб. | G25: Общая стоимость, руб. | J25: Затраты труда рабочих, чел.-ч, не занятых обслуживанием машин
E26: всего | F26: эксплуата- ции машин | G26: Всего | H26: оплаты труда | I26: эксплуата- ция машин
E27: оплаты труда | F27: в т.ч. оплаты труда | I27: в т.ч. оплаты труда | J27: на единицу | K27: всего
A28: 1 | B28: 2 | C28: 3 | D28: 4 | E28: 5 | F28: 6 | G28: 7 | H28: 8 | I28: 9 | J28: 10 | K28: 11
A29: Раздел 1. Монтажные работы и оборудование
A30: Учтены индексы перехода от текущих цен к ценам 2000 года:
A31: К=4,37 к стоимости оборудования (прил.5 письмо Минрегиона РФ №21331-СД/10 от 12.11.2013г.),
A32: К=5,59 к стоимости материалов (прил.1 письмо Минрегиона РФ №21331-СД/10 от 12.11.2013г.)
A33: Заготовительно-складские расходы 1,2% от стоимости оборудования, 2% от стоимости материалов, 3% - транспортные расходы
A34: Цены оборудования, принятые по прайсам ориентировочно, могут быть уточнены по предоставлении счета (калькуляции) заказчиком или при предоставлении ТКП производителя.
A36: 1 | B36: г. Самара, "Мера-тек" III кв.2013 г. | C36: Датчик-реле уровня РОС301-2-УХЛ3 (1,6; 1,6; 0,25); (0,25; 0,25;0,25); (0,25; 0,25;0,6) Цена: 3100,00/1,18/4,37*1,03*1,012 (к-т) | D36: 4 1+2+1 | E36: 626.64 | G36: 2507
A37: 2 | B37: ТЕРм11-02-001-02 | C37: Прибор, устанавливаемый на резьбовых соединениях, масса до 5 кг (1 шт.) | D37: 4 1+2+1 | E37: 23,43 21,79 | G37: 94 | H37: 87 | J37: 1.56 | K37: 6.24
A38: 3 | B38: ТЕРм11-01-001-02 | C38: Конструкции для установки приборов, масса до 2 кг (кронштейн КР-2) (1 шт.) | D38: 5 | E38: 43,24 6,41 | F38: 8,23 0,81 | G38: 216 | H38: 32 | I38: 41 4 | J38: 0.52 | K38: 2.6
A39: 4 | B39: ТЕРм08-02-472-09 | C39: Проводник заземляющий открыто по строительным основаниям из круглой стали диаметром 12 мм (100 м) | D39: 0,016 0,01*1,6 | E39: 1397,41 282,23 | F39: 85,67 3,46 | G39: 22 | H39: 5 | I39: 1 | J39: 21.3 | K39: 0.34
A40: 5 | B40: ТСЦ-101-1617 | C40: Сталь круглая углеродистая обыкновенного качества марки ВСт3пс5-1 диаметром 12 мм (т) | D40: -0.0015 | E40: 5852.2 | G40: -9
A41: 6 | B41: г. Самара, "Мера-тек" III кв.2013 г. | C41: Датчик индикатор РИС 121У-225-42 Цена: 6100,00/4,37*1,03*1,012 (к-т) | D41: 4 | E41: 1455.01 | G41: 5820
A42: 7 | B42: ТЕРм11-02-001-02 | C42: Прибор, устанавливаемый на резьбовых соединениях, масса до 5 кг (1 шт.) | D42: 4 | E42: 23,43 21,79 | G42: 94 | H42: 87 | J42: 1.56 | K42: 6.24
A43: 8 | B43: ТЕРм11-01-001-01 | C43: Конструкции для установки приборов, масса до 1 кг (1 шт.) | D43: 4 | E43: 34,2 6,41 | F43: 7,18 0,81 | G43: 137 | H43: 26 | I43: 29 3 | J43: 0.52 | K43: 2.08
A44: 9 | B44: г. Самара, "Мера-тек" III кв.2013 г. | C44: Датчик-реле уровня РОС102-121-УХЛ-2,0-0,6 Цена: 7300,00/1,18/4,37*1,03*1,012 (к-т) | D44: 4 | E44: 1475.63 | G44: 5903
A45: 10 | B45: ТЕРм11-02-001-02 | C45: Прибор, устанавливаемый на резьбовых соединениях, масса до 5 кг (1 шт.) | D45: 4 | E45: 23,43 21,79 | G45: 94 | H45: 87 | J45: 1.56 | K45: 6.24
A46: 11 | B46: ТЕРм11-01-001-01 | C46: Конструкции для установки приборов, масса до 1 кг (1 шт.) | D46: 4 | E46: 34,2 6,41 | F46: 7,18 0,81 | G46: 137 | H46: 26 | I46: 29 3 | J46: 0.52 | K46: 2.08
A47: 12 | B47: ТСЦ-301-1262 | C47: Манометр сигнализирующий ДМ 2010сг (шт.) | D47: 4 | E47: 251 | G47: 1004
A48: 13 | B48: ТЕРм11-02-002-02 | C48: Прибор, устанавливаемый на фланцевых соединениях, масса до 5 кг (1 шт.) | D48: 4 | E48: 46,43 43,03 | G48: 186 | H48: 172 | J48: 3.08 | K48: 12.32
...

Sheet 04-03-14--4-1545
A1: ______________ | I1: ____________
A2: " _____ " ________________ 2014 г. | I2: "______ " _______________2014 г.
D3: Реконструкция комплекса по переработке РАО (пл. 7Б)
D4: (наименование стройки)
D6: ЛОКАЛЬНЫЙ СМЕТНЫЙ РАСЧЕТ № 04-03-14/4-1545/314-2965
D7: (локальная смета)
A9: на | B9: Перевод сетей 6 кВ, Здание 765
D10: (наименование работ и затрат, наименование объекта)
B12: Основание: р.ч. 0503.07Б.0000 - ЭС, инв. №314-738; 314-62/ДСП, ПОС инв. №311-208/ДСП
B13: Сметная стоимость _______________________________________________________________________________________________ | D13: ___________________________43,932 | F13: тыс. руб.
B14: строительных работ _______________________________________________________________________________________________ | D14: _______________________________________________________________________________________________6,216 | F14: тыс. руб.
B15: монтажных работ _______________________________________________________________________________________________ | D15: _______________________________________________________________________________________________37,716 | F15: тыс. руб.
B16: Средства на оплату труда _______________________________________________________________________________________________ | D16: ___________________________4,891 | F16: тыс. руб.
B17: Сметная трудоемкость _______________________________________________________________________________________________ | D17: _______________________________________________________________________________________________340,45 | F17: чел.час
B18: Трудозатраты механизаторов _______________________________________________________________________________________________ | D18: _______________________________________________________________________________________________47,8 | F18: чел.час
B19: Общая длина кабеля/стоимость 1 пм ___________________________________________130/337,94 руб.
B20: Составлен(а) в по состоянию на 01.01.2000 г. (редакция 2009)
A23: № пп | B23: Шифр и номер позиции норматива | C23: Наименование работ и затрат, единица измерения | D23: Количество | E23: Стоимость единицы, руб. | G23: Общая стоимость, руб. | J23: Затраты труда рабочих, чел.-ч, не занятых обслуживанием машин
E24: всего | F24: эксплуата- ции машин | G24: Всего | H24: оплаты труда | I24: эксплуата- ция машин
E25: оплаты труда | F25: в т.ч. оплаты труда | I25: в т.ч. оплаты труда | J25: на единицу | K25: всего
A26: 1 | B26: 2 | C26: 3 | D26: 4 | E26: 5 | F26: 6 | G26: 7 | H26: 8 | I26: 9 | J26: 10 | K26: 11
A27: Раздел 1. Монтажные работы и оборудование
A29: Откопать существующий кабель
A30: 1 | B30: ТЕРм08-02-148-04 Кдем=0,6 | C30: Кабель до 35 кВ в проложенных трубах, блоках и коробах, масса 1 м кабеля до 6 кг (100 м кабеля) | D30: 0,02 2*0,01 | E30: 1073,15 234,14 | F30: 839,01 82,98 | G30: 21 | H30: 5 | I30: 16 2 | J30: 17.28 | K30: 0.35
A31: Устройство постели для двух кабелей
A32: 2 | B32: ТЕРм08-02-142-01 | C32: Устройство постели при одном кабеле в траншее (100 м кабеля) | D32: 0,36 (40-4)*0,01 | E32: 1549,97 89,84 | F32: 1458,33 90,82 | G32: 558 | H32: 32 | I32: 525 33 | J32: 6.63 | K32: 2.39
A33: 3 | B33: ТЕРм08-02-142-02 | C33: На каждый последующий кабель добавлять к расценке 08-02-142-01 (100 м кабеля) | D33: 0,36 (40-4)*0,01 | E33: 452,33 33,74 | F33: 417,92 26,03 | G33: 163 | H33: 12 | I33: 150 9 | J33: 2.49 | K33: 0.9
A34: Устройство постели для четырёх кабелей
A35: 4 | B35: ТЕРм08-02-142-01 | C35: Устройство постели при одном кабеле в траншее (100 м кабеля) | D35: 0,05 5*0,01 | E35: 1549,97 89,84 | F35: 1458,33 90,82 | G35: 77 | H35: 4 | I35: 73 5 | J35: 6.63 | K35: 0.33
A36: 5 | B36: ТЕРм08-02-142-02 | C36: На каждый последующий кабель добавлять к норме 08-01-142-1 (100 м кабеля) | D36: 0,15 0,05*3 | E36: 452,33 33,74 | F36: 417,92 26,03 | G36: 68 | H36: 5 | I36: 63 4 | J36: 2.49 | K36: 0.37
A37: 6 | B37: ТЕРм08-02-148-04 | C37: Кабель до 35 кВ в проложенных трубах, блоках и коробах, масса 1 м кабеля до 6 кг (100 м кабеля) | D37: 0,04 0,01*4 | E37: 1879,03 390,24 | F37: 1398,34 138,3 | G37: 75 | H37: 16 | I37: 56 6 | J37: 28.8 | K37: 1.15
A38: 7 | B38: ТЕРм08-02-141-04 | C38: Кабель до 35 кВ в готовых траншеях без покрытий, масса 1 м: до 6 кг (100 м кабеля) | D38: 1,26 0,01*(75+55-4) | E38: 1606,72 295,39 | F38: 1194,52 113,96 | G38: 2024 | H38: 372 | I38: 1505 144 | J38: 21.8 | K38: 27.47
A39: Поктрытие кирпичом двух кабелей
A40: 8 | B40: ТЕРм08-02-143-01 | C40: Покрытие кабеля, проложенного в траншее, кирпичом: одного кабеля (100 м кабеля) | D40: 0,36 (40-4)*0,01 | E40: 1329,11 88,21 | F40: 1239,14 77,17 | G40: 478 | H40: 32 | I40: 446 28 | J40: 6.51 | K40: 2.34
A41: 9 | B41: ТЕРм08-02-143-02 | C41: Покрытие кабеля, проложенного в траншее кирпичом каждого последующего (100 м кабеля) | D41: 0,36 (40-4)*0,01 | E41: 789,31 46,07 | F41: 742,32 46,23 | G41: 284 | H41: 17 | I41: 267 17 | J41: 3.4 | K41: 1.22
A42: Поктрытие кирпичом четырёх кабелей
A43: 10 | B43: ТЕРм08-02-143-01 | C43: Покрытие кабеля, проложенного в траншее, кирпичом: одного кабеля (100 м кабеля) | D43: 0,05 5*0,01 | E43: 1329,11 88,21 | F43: 1239,14 77,17 | G43: 66 | H43: 4 | I43: 62 4 | J43: 6.51 | K43: 0.33
A44: 11 | B44: ТЕРм08-02-143-02 | C44: Покрытие кабеля, проложенного в траншее, кирпичом: каждого последующего (100 м кабеля) | D44: 0,15 0,05*3 | E44: 789,31 46,07 | F44: 742,32 46,23 | G44: 118 | H44: 7 | I44: 111 7 | J44: 3.4 | K44: 0.51
A45: 12 | B45: ТЕРм08-02-472-10 прим | C45: Проводник заземляющий: из медного изолированного провода сечением 25 мм2 открыто по строительным основаниям (100 м) | D45: 0,045 4,5*0,01 | E45: 4732,43 617,45 | F45: 45,38 0,55 | G45: 213 | H45: 28 | I45: 2 | J45: 46.6 | K45: 2.1
A46: 13 | B46: ТЕРм08-02-155-01 прим | C46: Ввод кабелей в здания (1 проход кабеля) | D46: 6 | E46: 22,58 6,37 | G46: 135 | H46: 38 | J46: 0.47 | K46: 2.82
...

Sheet 02-01-22--4-1544
A1: СОГЛАСОВАНО: | I1: УТВЕРЖДАЮ:
A4: ______________ | I4: ____________
A5: " _____ " ________________ 2014 г. | I5: "______ " _______________2014 г.
D6: Реконструкция комплекса по переработке РАО (пл. 7Б)
D7: (наименование стройки)
D9: ЛОКАЛЬНЫЙ СМЕТНЫЙ РАСЧЕТ № 02-01-22/4-1544/314-2972
D10: (локальная смета)
A12: на | B12: Активное оборудование ЛВС, Здание 765
D13: (наименование работ и затрат, наименование объекта)
B15: Основание: р.ч.0503.7Б.0765-СС инв. №314-740, 314-739
B16: Сметная стоимость _______________________________________________________________________________________________ | D16: ___________________________38,240 | F16: тыс. руб.
B17: монтажных работ _______________________________________________________________________________________________ | D17: _______________________________________________________________________________________________27,713 | F17: тыс. руб.
B18: оборудования _______________________________________________________________________________________________ | D18: _______________________________________________________________________________________________10,527 | F18: тыс. руб.
B19: Средства на оплату труда _______________________________________________________________________________________________ | D19: ___________________________2,793 | F19: тыс. руб.
B20: Сметная трудоемкость _______________________________________________________________________________________________ | D20: _______________________________________________________________________________________________130,01 | F20: чел.час
B21: Трудозатраты механизаторов _______________________________________________________________________________________________ | D21: _______________________________________________________________________________________________47,39 | F21: чел.час
B22: Составлен(а) в ценах по состоянию на 01.01.2000 г. (редакция 2009)
A25: № пп | B25: Шифр и номер позиции норматива | C25: Наименование работ и затрат, единица измерения | D25: Количество | E25: Стоимость единицы, руб. | G25: Общая стоимость, руб. | J25: Затраты труда рабочих, чел.-ч, не занятых обслуживанием машин
E26: всего | F26: эксплуата- ции машин | G26: Всего | H26: оплаты труда | I26: эксплуата- ция машин
E27: оплаты труда | F27: в т.ч. оплаты труда | I27: в т.ч. оплаты труда | J27: на единицу | K27: всего
A28: 1 | B28: 2 | C28: 3 | D28: 4 | E28: 5 | F28: 6 | G28: 7 | H28: 8 | I28: 9 | J28: 10 | K28: 11
A29: Раздел 1. Монтажные работы и оборудование
A30: Учтён территориальный коэффициент к заработной плате К=1,2:1,15=1,0434
A31: Транспортные расходы (3%), заготовительно-складские расходы (2%) на материалы; (1,2%) на оборудование
A32: К= 4,48 - индекс пересчета стоимости оборудования от цен на III квартал 2014 г. к ценам на 01.01.2000г.(письмо Минстроя РФ №15285-ЕС/08 от 04.08.14)
A33: К= 4,4 - индекс пересчета стоимости оборудования от цен на IV квартал 2014 г. к ценам на 01.01.2000г.(письмо Минстроя РФ №25374-ЮР/08 от 13.11.14)
A34: К= 5,71 - индекс пересчета стоимости материалов от цен на IV квартал 2014 г. к ценам на 01.01.2000г.(письмо Минстроя РФ №25374-ЮР/08 от 13.11.14)
A36: Активное оборудование ЛВС
A37: 1 О | B37: ООО "АйТи-Практика", г.Екатеринбург III кв. 2014 г. | C37: Коммутатор управляемый D-LINK DES-3526 Цена:305,04$*54,49:1,18:4,48х1,03х1,012 (шт) | D37: 1 | E37: 3337 | G37: 3337
A38: 2 | B38: ТЕРм10-04-100-06 прим | C38: Установка коммутатора (1 шт.) | D38: 1 | E38: 308,79 94,85 | G38: 309 | H38: 95 | J38: 7 | K38: 7
A39: 3 О | B39: ООО "АйТи-Практика", г.Екатеринбург III кв. 2014 г. | C39: Медиаконвертер DМC-515 SC Цена:68.22$*54,49:4,48:1,18х1,03х1,012 (шт) | D39: 1 | E39: 746.3 | G39: 746
A40: 4 О | B40: ООО "АйТи-Практика", г.Екатеринбург III кв. 2014 г. прим. | C40: Медиаконвертер DМS-615 SC Цена:68.22$*54,49:4,48х1,03х1,012 (шт) | D40: 1 | E40: 746.3 | G40: 746
A41: 5 | B41: ТЕРм11-04-008-02 прим | C41: Установка медиаконвертера (1 шт.) | D41: 2 1+1 | E41: 26,66 25,07 | F41: 1.09 | G41: 53 | H41: 50 | I41: 2 | J41: 2.06 | K41: 4.12
A42: 6 О | B42: г. Екатеринбург Amelta IV кв. 2014 г. | C42: Источник бесперебойного питания VGD-1000 RM 2U Цена:20652,19:1,18:4,4х1,03х1,012 (шт) | D42: 1 | E42: 4146.19 | G42: 4146
A43: 7 | B43: ТЕРм10-08-003-03 | C43: Блок питания и контроля (1 шт.) | D43: 1 | E43: 59,97 51,77 | F43: 0.37 | G43: 60 | H43: 52 | J43: 3.6 | K43: 3.6
A44: 8 О | B44: г. Екатеринбург Amelta | C44: Внутренний SNMP-адаптер для ИБП Цена:7729,36:1,18:4,4х1,03х1,012 (шт) | D44: 1 | E44: 1551.77 | G44: 1552
A45: 9 | B45: ТЕРм11-04-008-01 прим | C45: Установка SNMP-адаптера (1 шт.) | D45: 1 | E45: 13,88 12,54 | F45: 1.09 | G45: 14 | H45: 13 | I45: 1 | J45: 1.03 | K45: 1.03
A46: 10 | B46: ТЕРм08-03-591-08 прим | C46: Розетка оптическая (100 шт.) | D46: 0.01 | E46: 813,8 603,5 | F46: 29,99 0,73 | G46: 8 | H46: 6 | J46: 43.2 | K46: 0.43
A47: 11 | B47: ТЕРм10-04-100-01 прим | C47: Установка комплекта телекоммуникационного шкафа (1 шт.) | D47: 1 | E47: 179,67 176,15 | G47: 180 | H47: 176 | J47: 13 | K47: 13
A48: 12 | B48: ТЕРм10-06-055-03 | C48: Установка, монтаж УССЛК с учетом измерений в процессе монтажа на волоконно-оптическом кабеле ГТС с числом волокон 12 (коммуник. панель) (1 УССЛК) | D48: 2 | E48: 3559,09 744,48 | F48: 2789,9 345,2 | G48: 7118 | H48: 1489 | I48: 5580 690 | J48: 44 | K48: 88
...

Sheet 05-05-08--4-1551
A1: СОГЛАСОВАНО: | I1: УТВЕРЖДАЮ:
A4: ______________ | I4: ____________
A5: " _____ " ________________ 2014 г. | I5: "______ " _______________2014 г.
D6: Реконструкция комплекса по переработке РАО. Площадка 7Б
D7: (наименование стройки)
D9: ЛОКАЛЬНЫЙ СМЕТНЫЙ РАСЧЕТ № 05-05-08/4-1551/314-2984
D10: (локальная смета)
A12: на | B12: Пожарную сигнализацию, Здание 765А
D13: (наименование работ и затрат, наименование объекта)
B15: Основание: р.ч. 0503.07Б.0765 - СС1 инв. № 314-849, 314-131/ДСП
B16: Сметная стоимость монтажных работ _______________________________________________________________________________________________ | D16: ___________________________7,158 | F16: тыс. руб.
B17: Средства на оплату труда _______________________________________________________________________________________________ | D17: ___________________________0,995 | F17: тыс. руб.
B18: Сметная трудоемкость _______________________________________________________________________________________________ | D18: _______________________________________________________________________________________________61,77 | F18: чел.час
B19: Трудозатраты механизаторов _______________________________________________________________________________________________ | D19: _______________________________________________________________________________________________9,54 | F19: чел.час
B20: Составлен(а) в ценах по состоянию на 01.01.2000 г. (редакция 2009 г.)
A22: № пп | B22: Шифр и номер позиции норматива | C22: Наименование работ и затрат, единица измерения | D22: Количество | E22: Стоимость единицы, руб. | G22: Общая стоимость, руб. | J22: Затраты труда рабочих, чел.-ч, не занятых обслуживанием машин
E23: всего | F23: эксплуата- ции машин | G23: Всего | H23: оплаты труда | I23: эксплуата- ция машин
E24: оплаты труда | F24: в т.ч. оплаты труда | I24: в т.ч. оплаты труда | J24: на единицу | K24: всего
A25: 1 | B25: 2 | C25: 3 | D25: 4 | E25: 5 | F25: 6 | G25: 7 | H25: 8 | I25: 9 | J25: 10 | K25: 11
A26: Раздел 1. Монтажные работы
A27: Учтены индексы перехода от текущих цен к ценам 2000 года:
A28: К=5,59 к стоимости материалов (прил.1 письмо Минрегиона РФ №21331-СД/10 от 12.11.2013г.)
A29: Заготовительно-складские расходы 2% от стоимости материалов, 3% - транспортные расходы
A30: 1 | B30: ТЕРм08-02-148-01 | C30: Кабель до 35 кВ в проложенных трубах, блоках и коробах, масса 1 м кабеля до 1 кг (100 м кабеля) | D30: 2 0,01*(30+30+10+60+60+10) | E30: 798,84 168,02 | F30: 544,81 57,87 | G30: 1598 | H30: 336 | I30: 1090 116 | J30: 12.4 | K30: 24.8
A31: 2 | B31: ТЕРм10-06-034-23 | C31: Устройство для вывода кабеля из канализации на стену с рытьем и засыпкой, без прохода через стену (100 шт.) | D31: 0,06 0,01*6 | E31: 20608,15 6775 | G31: 1236 | H31: 407 | J31: 500 | K31: 30
A32: 3 | B32: ТЕРм08-02-155-01 | C32: Герметизация проходов при вводе кабелей во взрывоопасные помещения уплотнительной массой (1 проход кабеля) | D32: 6 | E32: 22,58 6,37 | G32: 135 | H32: 38 | J32: 0.47 | K32: 2.82
A33: 4 | B33: ТЕРм08-02-407-02 | C33: Труба стальная по установленным конструкциям, по стенам с креплением скобами, диаметр до 40 мм (100 м) | D33: 0,1 0,01*10 | E33: 3009,12 549,88 | F33: 1234,04 433,04 | G33: 301 | H33: 55 | I33: 123 43 | J33: 41.5 | K33: 4.15
A34: Итого прямые затраты по разделу в ценах 2001г. | G34: 3270 | H34: 836 | I34: 1213 159 | K34: 61.77
A35: Накладные расходы | G35: 966
A36: В том числе, справочно:
A37: 95% ФОТ (от 588) (Поз. 1, 3-4) | G37: 559
A38: 100% ФОТ (от 407) (Поз. 2) | G38: 407
A39: Сметная прибыль | G39: 647
A40: В том числе, справочно:
A41: 65% ФОТ (от 995) (Поз. 1, 3-4, 2) | G41: 647
A42: Итого по разделу 1 Монтажные работы | G42: 4883 | K42: 61.77
A43: Раздел 2. Материалы, не учтенные ценником
A44: 5 | B44: г. Подольск, "Подольскпаритет" III кв. 2013 г. | C44: Кабель КСРЭВнг-FRLS, сеч. 2х0,5 Цена: 9550,00:1,18:5,59х1,02х1,03 (1000 м) | D44: 0,07 0,001*70 | E44: 1521.06 | G44: 106
A45: 6 | B45: г. Екатеринбург, "Стронекс" III кв. 2013 г. | C45: Кабель КПСЭнг-FRHF, сеч. 2х1,5 Цена: 95193,00:1,18:5,59х1,02х1,03 (1000 м) | D45: 0,13 0,001*130 | E45: 15161.72 | G45: 1971
A46: 7 | B46: ТСЦ-103-0133 прим. | C46: Трубы стальные электросварные прямошовные со снятой фаской из стали марок БСт2кп-БСт4кп и БСт2пс-БСт4пс наружный диаметр 40 мм, толщина стенки 1,6 мм (м) | D46: 10 | E46: 19.8 | G46: 198
...

Sheet 05-05-09--4-1552
A1: СОГЛАСОВАНО: | I1: УТВЕРЖДАЮ:
A4: ______________ | I4: ____________
A5: " _____ " ________________ 2014 г. | I5: "______ " _______________2014 г.
D6: Реконструкция комплекса по переработке РАО. Площадка 7Б
D7: (наименование стройки)
D9: ЛОКАЛЬНЫЙ СМЕТНЫЙ РАСЧЕТ № 05-05-09/4-1552/314-2984
D10: (локальная смета)
A12: на | B12: Охранную сигнализацию, Здание 765Б
D13: (наименование работ и затрат, наименование объекта)
B15: Основание: р.ч. 0503.07Б.0765 - СС1 инв. № 314-849, 314-131/ДСП
B16: Сметная стоимость _______________________________________________________________________________________________ | D16: ___________________________13,592 | F16: тыс. руб.
B17: строительных работ _______________________________________________________________________________________________ | D17: _______________________________________________________________________________________________7,265 | F17: тыс. руб.
B18: монтажных работ _______________________________________________________________________________________________ | D18: _______________________________________________________________________________________________6,327 | F18: тыс. руб.
B19: Средства на оплату труда _______________________________________________________________________________________________ | D19: ___________________________1,561 | F19: тыс. руб.
B20: Сметная трудоемкость _______________________________________________________________________________________________ | D20: _______________________________________________________________________________________________111,37 | F20: чел.час
B21: Трудозатраты механизаторов _______________________________________________________________________________________________ | D21: _______________________________________________________________________________________________11,98 | F21: чел.час
B22: Составлен(а) в ценах по состоянию на 01.01.2000 г. (редакция 2009 г.)
A25: № пп | B25: Шифр и номер позиции норматива | C25: Наименование работ и затрат, единица измерения | D25: Количество | E25: Стоимость единицы, руб. | G25: Общая стоимость, руб. | J25: Затраты труда рабочих, чел.-ч, не занятых обслуживанием машин
E26: всего | F26: эксплуата- ции машин | G26: Всего | H26: оплаты труда | I26: эксплуата- ция машин
E27: оплаты труда | F27: в т.ч. оплаты труда | I27: в т.ч. оплаты труда | J27: на единицу | K27: всего
A28: 1 | B28: 2 | C28: 3 | D28: 4 | E28: 5 | F28: 6 | G28: 7 | H28: 8 | I28: 9 | J28: 10 | K28: 11
A29: Раздел 1. Монтажные работы
A30: Учтены индексы перехода от текущих цен к ценам 2000 года:
A31: К=5,59 к стоимости материалов (прил.1 письмо Минрегиона РФ №21331-СД/10 от 12.11.2013г.)
A32: Заготовительно-складские расходы 2% от стоимости материалов, 3% - транспортные расходы
A34: 1 | B34: ТЕРм08-02-148-01 | C34: Кабель до 35 кВ в проложенных трубах, блоках и коробах, масса 1 м кабеля до 1 кг (100 м кабеля) | D34: 0,7 0,01*(30+30+10) | E34: 798,84 168,02 | F34: 544,81 57,87 | G34: 559 | H34: 118 | I34: 381 41 | J34: 12.4 | K34: 8.68
A35: 2 | B35: ТЕРм08-02-396-05 | C35: Короб металлический по стенам и потолкам, длина 2 м (100 м) | D35: 0,24 0,01*24 | E35: 1840,21 498,2 | F35: 788,16 202,95 | G35: 442 | H35: 120 | I35: 189 49 | J35: 37.6 | K35: 9.02
A36: 3 | B36: ТЕРм10-01-052-07 | C36: Кроссировка в шкафу (10 шт. (кроссировок)) | D36: 1 0,1*10 | E36: 16,51 15,62 | G36: 17 | H36: 16 | J36: 1 | K36: 1
A37: 4 | B37: ТЕРм10-06-028-01 прим. | C37: Муфта прямая на кабеле в котлованах, емкость до 10х2 (1 шт.) | D37: 2 | E37: 288,16 76,68 | F37: 83,32 10,31 | G37: 576 | H37: 153 | I37: 167 21 | J37: 6 | K37: 12
A38: 5 | B38: ТСЦ-502-0641 | C38: Муфта защитная для кабелей связи соединительная марки МЗС-25 (шт.) | D38: -2 | E38: 35.35 | G38: -71
A39: 6 | B39: ТЕРм10-06-034-23 | C39: Устройство для вывода кабеля из канализации на стену с рытьем и засыпкой, без прохода через стену (100 шт.) | D39: 0,02 0,01*2 | E39: 20608,15 6775 | G39: 412 | H39: 136 | J39: 500 | K39: 10
A40: 7 | B40: ТЕРм08-02-155-01 | C40: Герметизация проходов при вводе кабелей во взрывоопасные помещения уплотнительной массой (1 проход кабеля) | D40: 2 | E40: 22,58 6,37 | G40: 45 | H40: 13 | J40: 0.47 | K40: 0.94
A41: 8 | B41: ТЕРм10-06-032-02 | C41: Прослушивание и измерение переходных затуханий на парных кабелях, емкость до 100х2 (1 кабель) | D41: 1 | E41: 55,28 54,2 | G41: 55 | H41: 54 | J41: 4 | K41: 4
A42: 9 | B42: ТЕРм10-06-032-01 | C42: Комплекс измерений постоянным током смонтированных парных кабелей до и после включения в оконечные устройства (100 пар) | D42: 0,3 0,01*30 | E42: 188,66 176,15 | G42: 57 | H42: 53 | J42: 13 | K42: 3.9
A43: 10 | B43: ТЕРм08-02-407-02 | C43: Труба стальная по установленным конструкциям, по стенам с креплением скобами, диаметр до 40 мм (100 м) | D43: 0,1 0,01*10 | E43: 3009,12 549,88 | F43: 1234,04 433,04 | G43: 301 | H43: 55 | I43: 123 43 | J43: 41.5 | K43: 4.15
A44: 11 | B44: ТЕРм08-02-177-01 | C44: Указатель месторасположения трассы кабелей, проложенных в земле (1 шт.) | D44: 1 | E44: 33,09 8,67 | G44: 33 | H44: 9 | J44: 0.64 | K44: 0.64
A45: 12 | B45: ТЕРм08-02-152-08 | C45: Полка кабельная, устанавливаемая на стойках, масса до 0,7 кг (100 шт.) | D45: 0,12 0,01*12 | E45: 122,93 30,49 | F45: 87,68 5,46 | G45: 15 | H45: 4 | I45: 11 1 | J45: 2.25 | K45: 0.27
A46: 13 | B46: ТЕРм08-02-152-01 | C46: Полка-кронштейн из угловой стали (1 т) | D46: 0,007 0,001*2*3,50 | E46: 21846,04 1368,55 | F46: 863,32 38,4 | G46: 153 | H46: 10 | I46: 6 | J46: 101 | K46: 0.71
A47: 14 | B47: ТСЦ-201-0843 | C47: Конструкции стальные индивидуальные решетчатые сварные массой до 0,1 т (т) | D47: -0.007 | E47: 16144.61 | G47: -113
A48: Итого прямые затраты по разделу в ценах 2001г. | G48: 2481 | H48: 741 | I48: 877 155 | K48: 55.31
...

Sheet 05-05-10--4-1553
A1: СОГЛАСОВАНО: | I1: УТВЕРЖДАЮ:
A4: ______________ | I4: ____________
A5: " _____ " ________________ 2014 г. | I5: "______ " _______________2014 г.
D6: Реконструкция комплекса по переработке РАО. Площадка 7Б
D7: (наименование стройки)
D9: ЛОКАЛЬНЫЙ СМЕТНЫЙ РАСЧЕТ № 05-05-10/4-1553/314-2984
D10: (локальная смета)
A12: на | B12: Телефонизацию, Здание 765Б
D13: (наименование работ и затрат, наименование объекта)
B15: Основание: р.ч. 0503.07Б.0765 - СС1 инв. № 314-849, 314-131/ДСП
B16: Сметная стоимость _______________________________________________________________________________________________ | D16: ___________________________11,546 | F16: тыс. руб.
B17: строительных работ _______________________________________________________________________________________________ | D17: _______________________________________________________________________________________________4,114 | F17: тыс. руб.
B18: монтажных работ _______________________________________________________________________________________________ | D18: _______________________________________________________________________________________________5,215 | F18: тыс. руб.
B19: оборудования _______________________________________________________________________________________________ | D19: _______________________________________________________________________________________________2,217 | F19: тыс. руб.
B20: Средства на оплату труда _______________________________________________________________________________________________ | D20: ___________________________1,787 | F20: тыс. руб.
B21: Сметная трудоемкость _______________________________________________________________________________________________ | D21: _______________________________________________________________________________________________135,85 | F21: чел.час
B22: Трудозатраты механизаторов _______________________________________________________________________________________________ | D22: _______________________________________________________________________________________________8,46 | F22: чел.час
B23: Составлен(а) в ценах по состоянию на 01.01.2000 г. (редакция 2009 г.)
A25: № пп | B25: Шифр и номер позиции норматива | C25: Наименование работ и затрат, единица измерения | D25: Количество | E25: Стоимость единицы, руб. | G25: Общая стоимость, руб. | J25: Затраты труда рабочих, чел.-ч, не занятых обслуживанием машин
E26: всего | F26: эксплуата- ции машин | G26: Всего | H26: оплаты труда | I26: эксплуата- ция машин
E27: оплаты труда | F27: в т.ч. оплаты труда | I27: в т.ч. оплаты труда | J27: на единицу | K27: всего
A28: 1 | B28: 2 | C28: 3 | D28: 4 | E28: 5 | F28: 6 | G28: 7 | H28: 8 | I28: 9 | J28: 10 | K28: 11
A29: Раздел 1. Монтажные работы
A30: Учтены индексы перехода от текущих цен к ценам 2000 года:
A31: К=4,37 к стоимости оборудования (прил.5 письмо Минрегиона РФ №21331-СД/10 от 12.11.2013г.),
A32: К=5,59 к стоимости материалов (прил.1 письмо Минрегиона РФ №21331-СД/10 от 12.11.2013г.)
A33: Заготовительно-складские расходы 2% от стоимости материалов, 1,2% от стоимости оборудования, 3% - транспортные расходы
A34: 1 | B34: ТЕРм10-06-003-01 | C34: Кабель, прокладываемый в траншее, масса 1м кабеля до 0,6 кг (1 км кабеля) | D34: 0,047 0,001*47 | E34: 1733,94 345,06 | F34: 1381,98 115,9 | G34: 81 | H34: 16 | I34: 65 5 | J34: 27 | K34: 1.27
A35: 2 | B35: ТЕРм08-02-148-01 прим. | C35: Кабель связи в проложенных трубах, блоках и коробах, масса 1 м кабеля до 1 кг (100 м кабеля) | D35: 0,64 0,01*(11+3+50) | E35: 798,84 168,02 | F35: 544,81 57,87 | G35: 511 | H35: 108 | I35: 349 37 | J35: 12.4 | K35: 7.94
A36: 3 | B36: ТЕРм10-01-055-02 | C36: Прокладка кабеля, масса 1 м до 1 кг, по стене кирпичной (100 м кабеля) | D36: 0,2 0,01*(10+10) | E36: 1837,57 474,14 | F36: 129,78 23,9 | G36: 368 | H36: 95 | I36: 26 5 | J36: 37.1 | K36: 7.42
A37: 4 | B37: ТЕРм10-01-052-07 | C37: Кроссировка в шкафу (10 шт. (кроссировок)) | D37: 2 0,1*20 | E37: 16,51 15,62 | G37: 33 | H37: 31 | J37: 1 | K37: 2
A38: 5 | B38: ТЕРм10-06-028-01 прим. | C38: Муфта соединительная на кабеле в котлованах, емкость до 10х2 (1 шт.) | D38: 2 | E38: 288,16 76,68 | F38: 83,32 10,31 | G38: 576 | H38: 153 | I38: 167 21 | J38: 6 | K38: 12
A39: 6 | B39: ТСЦ-502-0641 | C39: Муфта защитная для кабелей связи соединительная марки МЗС-25 (шт.) | D39: -2 | E39: 35.35 | G39: -71
A40: 7 | B40: ТЕРм10-06-034-23 | C40: Устройство для вывода кабеля из канализации на стену с рытьем и засыпкой, без прохода через стену (100 шт.) | D40: 0,02 0,01*2 | E40: 20608,15 6775 | G40: 412 | H40: 136 | J40: 500 | K40: 10
A41: 8 | B41: ТЕРм08-02-155-01 | C41: Герметизация проходов при вводе кабелей во взрывоопасные помещения уплотнительной массой (1 проход кабеля) | D41: 2 | E41: 22,58 6,37 | G41: 45 | H41: 13 | J41: 0.47 | K41: 0.94
A42: 9 | B42: ТЕРм10-06-032-02 | C42: Прослушивание и измерение переходных затуханий на парных кабелях, емкость до 100х2 (1 кабель) | D42: 1 | E42: 55,28 54,2 | G42: 55 | H42: 54 | J42: 4 | K42: 4
A43: 10 | B43: ТЕРм10-06-032-01 | C43: Комплекс измерений постоянным током смонтированных парных кабелей до и после включения в оконечные устройства (100 пар) | D43: 0,3 0,01*30 | E43: 188,66 176,15 | G43: 57 | H43: 53 | J43: 13 | K43: 3.9
A44: 11 | B44: ТЕРм08-02-407-02 | C44: Труба стальная по установленным конструкциям, по стенам с креплением скобами, диаметр до 40 мм (100 м) | D44: 0,03 0,01*3 | E44: 3009,12 549,88 | F44: 1234,04 433,04 | G44: 90 | H44: 16 | I44: 37 13 | J44: 41.5 | K44: 1.25
A45: 12 | B45: ТЕРм08-02-177-01 | C45: Указатель месторасположения трассы кабелей, проложенных в земле (1 шт.) | D45: 4 | E45: 33,09 8,67 | G45: 132 | H45: 35 | J45: 0.64 | K45: 2.56
A46: 13 О | B46: г. Москва, "ТЕЛТА" III кв. 2013 г. | C46: Аппарат телефонный настенный ТАШ-1319 Цена: 10970,00:1,18:4,37х1,012х1,03 (шт.) | D46: 1 | E46: 2217.49 | G46: 2217
...

Sheet 05-05-11--4-1554
A1: СОГЛАСОВАНО: | I1: УТВЕРЖДАЮ:
A4: ______________ | I4: ____________
A5: " _____ " ________________ 2014 г. | I5: "______ " _______________2014 г.
D6: Реконструкция комплекса по переработке РАО. Площадка 7Б
D7: (наименование стройки)
D9: ЛОКАЛЬНЫЙ СМЕТНЫЙ РАСЧЕТ № 05-05-11/4-1554/314-2984
D10: (локальная смета)
A12: на | B12: Пожарную сигнализацию, Здание 765Б
D13: (наименование работ и затрат, наименование объекта)
B15: Основание: р.ч. 0503.07Б.0765 - СС1 инв. № 314-849, 314-131/ДСП
B16: Сметная стоимость _______________________________________________________________________________________________ | D16: ___________________________15,832 | F16: тыс. руб.
B17: монтажных работ _______________________________________________________________________________________________ | D17: _______________________________________________________________________________________________14,924 | F17: тыс. руб.
B18: оборудования _______________________________________________________________________________________________ | D18: _______________________________________________________________________________________________0,908 | F18: тыс. руб.
B19: Средства на оплату труда _______________________________________________________________________________________________ | D19: ___________________________2,284 | F19: тыс. руб.
B20: Сметная трудоемкость _______________________________________________________________________________________________ | D20: _______________________________________________________________________________________________160,49 | F20: чел.час
B21: Трудозатраты механизаторов _______________________________________________________________________________________________ | D21: _______________________________________________________________________________________________7,05 | F21: чел.час
B22: Составлен(а) в ценах по состоянию на 01.01.2000 г. (редакция 2009 г.)
A25: № пп | B25: Шифр и номер позиции норматива | C25: Наименование работ и затрат, единица измерения | D25: Количество | E25: Стоимость единицы, руб. | G25: Общая стоимость, руб. | J25: Затраты труда рабочих, чел.-ч, не занятых обслуживанием машин
E26: всего | F26: эксплуата- ции машин | G26: Всего | H26: оплаты труда | I26: эксплуата- ция машин
E27: оплаты труда | F27: в т.ч. оплаты труда | I27: в т.ч. оплаты труда | J27: на единицу | K27: всего
A28: 1 | B28: 2 | C28: 3 | D28: 4 | E28: 5 | F28: 6 | G28: 7 | H28: 8 | I28: 9 | J28: 10 | K28: 11
A29: Раздел 1. Монтажные работы
A30: Учтены индексы перехода от текущих цен к ценам 2000 года:
A31: К=4,37 к стоимости оборудования (прил.5 письмо Минрегиона РФ №21331-СД/10 от 12.11.2013г.),
A32: К=5,59 к стоимости материалов (прил.1 письмо Минрегиона РФ №21331-СД/10 от 12.11.2013г.)
A33: Заготовительно-складские расходы 2% от стоимости материалов, 1,2% от стоимости оборудования, 3% - транспортные расходы
A35: 1 | B35: ТЕРм10-01-055-02 | C35: Прокладка кабеля, масса 1 м до 1 кг, по стене кирпичной (100 м кабеля) | D35: 1,55 0,01*(120+30+5) | E35: 1837,57 474,14 | F35: 129,78 23,9 | G35: 2848 | H35: 735 | I35: 201 37 | J35: 37.1 | K35: 57.51
A36: 2 | B36: ТЕРм10-06-003-01 | C36: Кабель, прокладываемый в траншее, масса 1м кабеля до 0,6 кг (1 км кабеля) | D36: 0,078 0,001*78 | E36: 1733,94 345,06 | F36: 1381,98 115,9 | G36: 135 | H36: 27 | I36: 108 9 | J36: 27 | K36: 2.11
A37: 3 | B37: ТЕРм08-02-148-01 | C37: Кабель до 35 кВ в проложенных трубах, блоках и коробах, масса 1 м кабеля до 1 кг (100 м кабеля) | D37: 1,08 0,01*(22+6+80) | E37: 798,84 168,02 | F37: 544,81 57,87 | G37: 863 | H37: 181 | I37: 588 62 | J37: 12.4 | K37: 13.39
A38: 4 | B38: ТЕРм10-06-034-23 | C38: Устройство для вывода кабеля из канализации на стену с рытьем и засыпкой, без прохода через стену (100 шт.) | D38: 0,04 0,01*4 | E38: 20608,15 6775 | G38: 824 | H38: 271 | J38: 500 | K38: 20
A39: 5 | B39: ТЕРм08-02-155-01 | C39: Герметизация проходов при вводе кабелей во взрывоопасные помещения уплотнительной массой (1 проход кабеля) | D39: 4 | E39: 22,58 6,37 | G39: 90 | H39: 25 | J39: 0.47 | K39: 1.88
A40: 6 О | B40: г. Москва, "Болид" III кв. 2013 г. | C40: Прибор приемно-контрольный охранно-пожарный "С2000-4" Цена: 1501,15:1,18:4,37х1,012х1,03 (шт.) | D40: 1 | E40: 303.44 | G40: 303
A41: 7 | B41: ТЕРм10-08-001-04 | C41: Приборы ПС на 4 луча (1 шт.) | D41: 1 | E41: 58,33 48,15 | F41: 0.83 | G41: 58 | H41: 48 | I41: 1 | J41: 3.3 | K41: 3.3
A42: 8 О | B42: ТСЦ-509-0584 | C42: Резисторы (шт.) | D42: 18 5+13 | E42: 1.19 | G42: 21
A43: 9 | B43: ТЕРм11-03-001-01 | C43: Приборы, устанавливаемые на металлоконструкциях, щитах и пультах, масса до 5 кг (1 шт.) | D43: 18 5+13 | E43: 8,41 7,26 | G43: 151 | H43: 131 | J43: 0.52 | K43: 9.36
A44: 10 | B44: ТЕРм10-04-101-10 | C44: Ключ или кнопка на панели (1 шт.) | D44: 5 | E44: 21,13 12,78 | G44: 106 | H44: 64 | J44: 1 | K44: 5
A45: 11 | B45: ТЕРм10-08-002-02 | C45: Извещатель ПС автоматический дымовой, фотоэлектрический, радиоизотопный, световой в нормальном исполнении (1 шт.) | D45: 13 | E45: 28,38 22,76 | F45: 0.46 | G45: 369 | H45: 296 | I45: 6 | J45: 1.68 | K45: 21.84
A46: 12 О | B46: г. Москва, "Болид" III кв. 2013 г., прим. | C46: Устройство контроля шлейфов УКШ-02 Цена: 163,55:1,18:4,37х1,012х1,03 (шт.) | D46: 2 | E46: 33.06 | G46: 66
A47: 13 | B47: ТЕРм10-08-001-12 | C47: Устройства промежуточные на количество лучей 5 (1 шт.) | D47: 2 | E47: 126,21 116,72 | F47: 0.37 | G47: 252 | H47: 233 | I47: 1 | J47: 8 | K47: 16
A48: 14 О | B48: г. Москва, "Болид" III кв. 2013 г., прим. | C48: Резервированный источник питания РИП-24-1А-2х4,5 Цена: 1777,61:1,18:4,37х1,012х1,03 (шт.) | D48: 1 | E48: 359.33 | G48: 359
...

Sheet 05-05-12--4-1555
A1: СОГЛАСОВАНО: | I1: УТВЕРЖДАЮ:
A4: ______________ | I4: ____________
A5: " _____ " ________________ 2014 г. | I5: "______ " _______________2014 г.
D6: Реконструкция комплекса по переработке РАО. Площадка 7Б
D7: (наименование стройки)
D9: ЛОКАЛЬНЫЙ СМЕТНЫЙ РАСЧЕТ № 05-05-12/4-1555/314-2984
D10: (локальная смета)
A12: на | B12: Пожарную сигнализацию, Здание 765
D13: (наименование работ и затрат, наименование объекта)
B15: Основание: р.ч. 0503.07Б.0765- СС1 инв. № 314-849, 314-131/ДСП
B16: Сметная стоимость монтажных работ _______________________________________________________________________________________________ | D16: ___________________________5,800 | F16: тыс. руб.
B17: Средства на оплату труда _______________________________________________________________________________________________ | D17: ___________________________0,899 | F17: тыс. руб.
B18: Сметная трудоемкость _______________________________________________________________________________________________ | D18: _______________________________________________________________________________________________66,84 | F18: чел.час
B19: Трудозатраты механизаторов _______________________________________________________________________________________________ | D19: _______________________________________________________________________________________________4,92 | F19: чел.час
B20: Составлен(а) в ценах по состоянию на 01.01.2000 г. (редакция 2009 г.)
A23: № пп | B23: Шифр и номер позиции норматива | C23: Наименование работ и затрат, единица измерения | D23: Количество | E23: Стоимость единицы, руб. | G23: Общая стоимость, руб. | J23: Затраты труда рабочих, чел.-ч, не занятых обслуживанием машин
E24: всего | F24: эксплуата- ции машин | G24: Всего | H24: оплаты труда | I24: эксплуата- ция машин
E25: оплаты труда | F25: в т.ч. оплаты труда | I25: в т.ч. оплаты труда | J25: на единицу | K25: всего
A26: 1 | B26: 2 | C26: 3 | D26: 4 | E26: 5 | F26: 6 | G26: 7 | H26: 8 | I26: 9 | J26: 10 | K26: 11
A27: Раздел 1. Монтажные работы
A28: Учтены индексы перехода от текущих цен к ценам 2000 года:
A29: К=4,37 к стоимости оборудования (прил.5 письмо Минрегиона РФ №21331-СД/10 от 12.11.2013г.),
A30: К=5,59 к стоимости материалов (прил.1 письмо Минрегиона РФ №21331-СД/10 от 12.11.2013г.)
A31: Заготовительно-складские расходы 2% от стоимости материалов, 1,2% от стоимости оборудования, 3% - транспортные расходы
A33: 1 | B33: ТЕРм10-06-026-01 | C33: Прокладка кабеля в подземной канализации, масса 1 м кабеля до 1 кг (1 км) | D33: 0,4 0,001*(200+200) | E33: 6327,57 1633,36 | F33: 2052,48 172,13 | G33: 2531 | H33: 653 | I33: 821 69 | J33: 136 | K33: 54.4
A34: 2 | B34: ТЕРм08-02-396-05 | C34: Короб металлический по стенам и потолкам, длина 2 м (100 м) | D34: 0,04 0,01*4 | E34: 1840,21 498,2 | F34: 788,16 202,95 | G34: 74 | H34: 20 | I34: 32 8 | J34: 37.6 | K34: 1.5
A35: 3 | B35: ТЕРм10-06-034-23 | C35: Устройство для вывода кабеля из канализации на стену с рытьем и засыпкой, без прохода через стену (100 шт.) | D35: 0,02 0,01*2 | E35: 20608,15 6775 | G35: 412 | H35: 136 | J35: 500 | K35: 10
A36: 4 | B36: ТЕРм08-02-155-01 | C36: Герметизация проходов при вводе кабелей во взрывоопасные помещения уплотнительной массой (1 проход кабеля) | D36: 2 | E36: 22,58 6,37 | G36: 45 | H36: 13 | J36: 0.47 | K36: 0.94
A37: Итого прямые затраты по разделу в ценах 2001г. | G37: 3062 | H37: 822 | I37: 853 77 | K37: 66.84
A38: Накладные расходы | G38: 897
A39: В том числе, справочно:
A40: 95% ФОТ (от 41) (Поз. 2, 4) | G40: 39
A41: 100% ФОТ (от 858) (Поз. 1, 3) | G41: 858
A42: Сметная прибыль | G42: 585
A43: В том числе, справочно:
A44: 65% ФОТ (от 899) (Поз. 1, 3, 2, 4) | G44: 585
A45: Итого по разделу 1 Монтажные работы | G45: 4544 | K45: 66.84
A46: Раздел 2. Материалы, не учтенные ценником
A47: 5 | B47: г. Подольск, "Подольскпаритет" III кв. 2013 г. | C47: Кабель КСРЭВнг-FRLS, сеч. 2х2х0,97 Цена: 39415,00:1,18:5,59х1,02х1,03 (1000 м) | D47: 0,2 0,001*200 | E47: 6277.77 | G47: 1256
A48: Итого прямые затраты по разделу в ценах 2001г. | G48: 1256
...

Sheet 05-05-13--4-1556
A1: СОГЛАСОВАНО: | I1: УТВЕРЖДАЮ:
A4: ______________ | I4: ____________
A5: " _____ " ________________ 2014 г. | I5: "______ " _______________2014 г.
D6: Реконструкция комплекса по переработке РАО. Площадка 7Б
D7: (наименование стройки)
D9: ЛОКАЛЬНЫЙ СМЕТНЫЙ РАСЧЕТ № 05-05-13/4-1556/314-2984
D10: (локальная смета)
A12: на | B12: Охранную сигнализацию, Здание 765
D13: (наименование работ и затрат, наименование объекта)
B15: Основание: р.ч. 0503.07Б.0000 - СС1 инв. № 314-849, 314-131/ДСП
B16: Сметная стоимость монтажных работ _______________________________________________________________________________________________ | D16: ___________________________15,479 | F16: тыс. руб.
B17: Средства на оплату труда _______________________________________________________________________________________________ | D17: ___________________________1,989 | F17: тыс. руб.
B18: Сметная трудоемкость _______________________________________________________________________________________________ | D18: _______________________________________________________________________________________________134,45 | F18: чел.час
B19: Трудозатраты механизаторов _______________________________________________________________________________________________ | D19: _______________________________________________________________________________________________13,19 | F19: чел.час
B20: Составлен(а) в ценах по состоянию на 01.01.2000 г. (редакция 2009 г.)
A23: № пп | B23: Шифр и номер позиции норматива | C23: Наименование работ и затрат, единица измерения | D23: Количество | E23: Стоимость единицы, руб. | G23: Общая стоимость, руб. | J23: Затраты труда рабочих, чел.-ч, не занятых обслуживанием машин
E24: всего | F24: эксплуата- ции машин | G24: Всего | H24: оплаты труда | I24: эксплуата- ция машин
E25: оплаты труда | F25: в т.ч. оплаты труда | I25: в т.ч. оплаты труда | J25: на единицу | K25: всего
A26: 1 | B26: 2 | C26: 3 | D26: 4 | E26: 5 | F26: 6 | G26: 7 | H26: 8 | I26: 9 | J26: 10 | K26: 11
A27: Раздел 1. Монтажные работы
A28: Учтены индексы перехода от текущих цен к ценам 2000 года:
A29: К=5,59 к стоимости материалов (прил.1 письмо Минрегиона РФ №21331-СД/10 от 12.11.2013г.)
A30: Заготовительно-складские расходы 2% от стоимости материалов, 3% - транспортные расходы
A32: 1 | B32: ТЕРм10-06-026-02 | C32: Прокладка кабеля в подземной канализации, масса 1 м кабеля до 2 кг (1 км) | D32: 0,2 0,001*200 | E32: 7628,91 2209,84 | F32: 2765,81 231,96 | G32: 1526 | H32: 442 | I32: 553 46 | J32: 184 | K32: 36.8
A33: 2 | B33: ТЕРм10-01-052-07 | C33: Кроссировка в шкафу (10 шт. (кроссировок)) | D33: 20 0,1*200 | E33: 16,51 15,62 | G33: 330 | H33: 312 | J33: 1 | K33: 20
A34: 3 | B34: ТЕРм10-06-028-05 прим. | C34: Муфта прямая на кабеле в котлованах, емкость до 100х2 (1 шт.) | D34: 2 | E34: 653,66 166,14 | F34: 193,15 23,9 | G34: 1307 | H34: 332 | I34: 386 48 | J34: 13 | K34: 26
A35: 4 | B35: ТСЦ-502-0642 | C35: Муфта защитная для кабелей связи соединительная марки МЗС-35 (шт.) | D35: -2 | E35: 58.81 | G35: -118
A36: 5 | B36: ТЕРм08-02-409-01 | C36: Труба винипластовая по установленным конструкциям, по стенам и колоннам с креплением скобами, диаметр до 25 мм (100 м) | D36: 0,45 0,01*45 | E36: 2435,2 315,35 | F36: 611,58 248,83 | G36: 1096 | H36: 142 | I36: 275 112 | J36: 23.8 | K36: 10.71
A37: 6 | B37: ТЕРм10-06-034-23 | C37: Устройство для вывода кабеля из канализации на стену с рытьем и засыпкой, без прохода через стену (100 шт.) | D37: 0,02 0,01*2 | E37: 20608,15 6775 | G37: 412 | H37: 136 | J37: 500 | K37: 10
A38: 7 | B38: ТЕРм08-02-155-01 | C38: Герметизация проходов при вводе кабелей во взрывоопасные помещения уплотнительной массой (1 проход кабеля) | D38: 2 | E38: 22,58 6,37 | G38: 45 | H38: 13 | J38: 0.47 | K38: 0.94
A39: 8 | B39: ТЕРм10-06-032-02 | C39: Прослушивание и измерение переходных затуханий на парных кабелях, емкость 100х2 (1 кабель) | D39: 1 | E39: 55,28 54,2 | G39: 55 | H39: 54 | J39: 4 | K39: 4
A40: 9 | B40: ТЕРм10-06-032-01 | C40: Комплекс измерений постоянным током смонтированных парных кабелей до и после включения в оконечные устройства (100 пар) | D40: 2 0,01*200 | E40: 188,66 176,15 | G40: 377 | H40: 352 | J40: 13 | K40: 26
A41: Итого прямые затраты по разделу в ценах 2001г. | G41: 5030 | H41: 1783 | I41: 1214 206 | K41: 134.45
A42: Накладные расходы | G42: 1914
A43: В том числе, справочно:
A44: 80% ФОТ (от 312) (Поз. 2) | G44: 250
A45: 95% ФОТ (от 267) (Поз. 5, 7) | G45: 254
A46: 100% ФОТ (от 1410) (Поз. 1, 3, 6, 8-9) | G46: 1410
A47: Сметная прибыль | G47: 1278
A48: В том числе, справочно:
...

Sheet 19-4-2098
A1: СОГЛАСОВАНО: | M1: УТВЕРЖДАЮ:
A4: _________________ | M4: _________________
A5: " _____ " ________________ 2014 г. | M5: "______ " _______________2014 г.
G7: (наименование стройки)
G9: ЛОКАЛЬНЫЙ СМЕТНЫЙ РАСЧЕТ № 313-2042/19-4-2098
G10: (локальная смета)
C12: на | D12: Охранная сигнализация здания 776. Система физической защиты
G13: (наименование работ и затрат, наименование объекта)
D15: Основание:
