Workbook

Sheet П1
H4: Приложение 1 к Форме 7
B10: СМЕТА
B11: =IF(SourceП1!G20<>"Новая локальная смета", SourceП1!G20, "")
B13: выполнение работ по монтажу комплекса систем пожарной безопасности в квартире № 1 в здании общежития НИЯУ МИФИ по адресу: 109263, г. Москва, ул. Шкулева, д. 27, стр. 2
G15: базовая цена | I15: текущая цена
C16: Сметная стоимость | G16: =SUM(O27:O148)/1000 -> 39.56137 | I16: =(SourceП1!F85/1000) -> 345.34571 | K16: тыс. руб.
C17: Строительные работы | G17: =SUM(W27:W148)/1000 -> 0 | I17: =(SourceП1!F72)/1000 -> 0 | K17: тыс. руб.
C18: Монтажные работы | G18: =SUM(X27:X148)/1000 -> 39.56137 | I18: =(SourceП1!F73)/1000 -> 292.66586 | K18: тыс. руб.
C19: Оборудование | G19: =SUM(Y27:Y148)/1000 -> 0 | I19: =(SourceП1!F64)/1000 -> 0 | K19: тыс. руб.
C20: Прочие работы | G20: =SUM(Z27:Z148)/1000 -> 0 | I20: =(SourceП1!F74+SourceП1!F75)/1000 -> 0 | K20: тыс. руб.
C21: Нормативная трудоемкость | G21: =I21 -> 434.4524 | I21: =(SourceП1!F77+SourceП1!F78) -> 434.4524 | K21: чел. -ч.
C22: Средства на оплату труда | G22: =SUM(R27:R148)/1000 -> 4.36195 | I22: =(SourceП1!F70+ SourceП1!F69)/1000 -> 32.01802 | K22: тыс. руб.
A24: Составлена в ценах III квартал 2017 года
A25: № п/п | B25: Шифр расценки и коды ресурсов | C25: Наименование работ и затрат | D25: Ед. изм. | E25: Кол-во единиц | F25: Цена на ед. изм. | G25: Попра-вочные коэфф. | H25: Стоимость в ценах 2001г. | I25: Пункт коэфф. пересчета | J25: Коэфф. пересчета | K25: Стоимость в текущих ценах | L25: ЗТР всего чел.-час
A26: 1 | B26: 2 | C26: 3 | D26: 4 | E26: 5 | F26: 6 | G26: 7 | H26: 8 | I26: 9 | J26: 10 | K26: 11 | L26: 12
A27: =SourceП1!E24 -> 1 | B27: =SourceП1!F24 -> м10-02-016-06 | C27: =SourceП1!G24 -> Установка контролера,источника вторичного питания | D27: =SourceП1!H24 -> ШТ | E27: =SourceП1!I24 -> 3 | F27: =SourceП1!AL24+SourceП1!AM24+SourceП1!AO24 -> 199.95 | I27: =SourceП1!BO24 | S27: =ROUND((SourceП1!FX24/100)*((ROUND(SourceП1!AF24*SourceП1!I24, 2)+ROUND(SourceП1!AE24*SourceП1!I24, 2))), 2) -> 279.46 | T27: =SourceП1!X24 -> 2126.66 | U27: =ROUND((SourceП1!FY24/100)*((ROUND(SourceП1!AF24*SourceП1!I24, 2)+ROUND(SourceП1!AE24*SourceП1!I24, 2))), 2) -> 209.59 | V27: =SourceП1!Y24 -> 1595
C28: Зарплата | F28: =SourceП1!AO24 -> 112.01 | G28: =SourceП1!DG24 | H28: =ROUND(SourceП1!AF24*SourceП1!I24, 2) -> 336.03 | J28: =IF(SourceП1!BA24<> 0, SourceП1!BA24, 1) -> 7.61 | K28: =SourceП1!S24 -> 2557.19 | R28: =H28 -> 336.03
C29: Эксплуатация машин | F29: =SourceП1!AM24 -> 39.6 | G29: =SourceП1!DE24 | H29: =ROUND(SourceП1!AD24*SourceП1!I24, 2) -> 118.8 | J29: =IF(SourceП1!BB24<> 0, SourceП1!BB24, 1) -> 7.61 | K29: =SourceП1!Q24 -> 904.07
C30: в т.ч. зарплата машинистов | F30: =SourceП1!AN24 -> 4.43 | G30: =SourceП1!DF24 | H30: =ROUND(SourceП1!AE24*SourceП1!I24, 2) -> 13.29 | J30: =IF(SourceП1!BS24<> 0, SourceП1!BS24, 1) -> 7.61 | K30: =SourceП1!R24 -> 101.14 | R30: =H30 -> 13.29
C31: Материальные ресурсы | F31: =SourceП1!AL24 -> 48.34 | G31: =SourceП1!DD24 | H31: =ROUND(SourceП1!AC24*SourceП1!I24, 2) -> 145.02 | J31: =IF(SourceП1!BC24<> 0, SourceП1!BC24, 1) -> 7.61 | K31: =SourceП1!P24 -> 1103.6
C32: НР от ФОТ | D32: % | E32: =SourceП1!BZ24 -> 80 | H32: =SUM(S27:S37) -> 279.46 | J32: =SourceП1!AT24 -> 80 | K32: =SUM(T27:T37) -> 2126.66
C33: СП от ФОТ | D33: % | E33: =SourceП1!CA24 -> 60 | H33: =SUM(U27:U37) -> 209.59 | J33: =SourceП1!AU24 -> 60 | K33: =SUM(V27:V37) -> 1595
C34: Затраты труда | D34: чел-ч | E34: =SourceП1!AQ24 -> 10.1 | G34: =SourceП1!DI24 | L34: =SourceП1!U24 -> 30.3
A35: =SourceП1!E25 -> 1,1 | B35: =SourceП1!F25 -> 61.2.07.04-0002 | C35: =SourceП1!G25 -> Контроллер двухпроводной линии связи, марка "С2000-КДЛ" | D35: =SourceП1!H25 -> шт. | E35: =SourceП1!I25 -> 1 | F35: =SourceП1!AL25+SourceП1!AM25+SourceП1!AO25 -> 175.63 | H35: =ROUND(SourceП1!AC25*SourceП1!I25, 2)+ROUND(SourceП1!AD25*SourceП1!I25, 2)+ROUND(SourceП1!AF25*SourceП1!I25, 2) -> 175.63 | J35: =IF(SourceП1!BC25<> 0, SourceП1!BC25, 1) -> 7.61 | K35: =SourceП1!O25 -> 1336.54 | S35: =ROUND((SourceП1!FX25/100)*((ROUND(SourceП1!AF25*SourceП1!I25, 2)+ROUND(SourceП1!AE25*SourceП1!I25, 2))), 2) -> 0 | T35: =SourceП1!X25 -> 0 | U35: =ROUND((SourceП1!FY25/100)*((ROUND(SourceП1!AF25*SourceП1!I25, 2)+ROUND(SourceП1!AE25*SourceП1!I25, 2))), 2) -> 0 | V35: =SourceП1!Y25 -> 0 | W35: =IF(SourceП1!BI25<=1,H35, 0) -> 0 | X35: =IF(SourceП1!BI25=2,H35, 0) -> 175.63 | Y35: =IF(SourceП1!BI25=3,H35, 0) -> 0 | Z35: =IF(SourceП1!BI25=4,H35, 0) -> 0
A36: =SourceП1!E26 -> 1,2 | B36: =SourceП1!F26 -> 61.2.07.02-0034 | C36: =SourceП1!G26 -> Блок контрольно-пусковой, марка "С2000-КПБ" | D36: =SourceП1!H26 -> шт. | E36: =SourceП1!I26 -> 1 | F36: =SourceП1!AL26+SourceП1!AM26+SourceП1!AO26 -> 243.85 | H36: =ROUND(SourceП1!AC26*SourceП1!I26, 2)+ROUND(SourceП1!AD26*SourceП1!I26, 2)+ROUND(SourceП1!AF26*SourceП1!I26, 2) -> 243.85 | J36: =IF(SourceП1!BC26<> 0, SourceП1!BC26, 1) -> 7.61 | K36: =SourceП1!O26 -> 1855.7 | S36: =ROUND((SourceП1!FX26/100)*((ROUND(SourceП1!AF26*SourceП1!I26, 2)+ROUND(SourceП1!AE26*SourceП1!I26, 2))), 2) -> 0 | T36: =SourceП1!X26 -> 0 | U36: =ROUND((SourceП1!FY26/100)*((ROUND(SourceП1!AF26*SourceП1!I26, 2)+ROUND(SourceП1!AE26*SourceП1!I26, 2))), 2) -> 0 | V36: =SourceП1!Y26 -> 0 | W36: =IF(SourceП1!BI26<=1,H36, 0) -> 0 | X36: =IF(SourceП1!BI26=2,H36, 0) -> 243.85 | Y36: =IF(SourceП1!BI26=3,H36, 0) -> 0 | Z36: =IF(SourceП1!BI26=4,H36, 0) -> 0
A37: =SourceП1!E27 -> 1,3 | B37: =SourceП1!F27 -> Прайс-лист ВижнПро | C37: Источник вторичного электропитания резервирования СКАТ-1200МDIN Базисная стоимость: 189,31 = [1 700 / 1,18 / 7,61] | D37: =SourceП1!H27 -> ШТ | E37: =SourceП1!I27 -> 1 | F37: =SourceП1!AL27+SourceП1!AM27+SourceП1!AO27 -> 189.31 | H37: =ROUND(SourceП1!AC27*SourceП1!I27, 2)+ROUND(SourceП1!AD27*SourceП1!I27, 2)+ROUND(SourceП1!AF27*SourceП1!I27, 2) -> 189.31 | J37: =IF(SourceП1!BC27<> 0, SourceП1!BC27, 1) -> 7.61 | K37: =SourceП1!O27 -> 1440.65 | S37: =ROUND((SourceП1!FX27/100)*((ROUND(SourceП1!AF27*SourceП1!I27, 2)+ROUND(SourceП1!AE27*SourceП1!I27, 2))), 2) -> 0 | T37: =SourceП1!X27 -> 0 | U37: =ROUND((SourceП1!FY27/100)*((ROUND(SourceП1!AF27*SourceП1!I27, 2)+ROUND(SourceП1!AE27*SourceП1!I27, 2))), 2) -> 0 | V37: =SourceП1!Y27 -> 0 | W37: =IF(SourceП1!BI27<=1,H37, 0) -> 0 | X37: =IF(SourceП1!BI27=2,H37, 0) -> 189.31 | Y37: =IF(SourceП1!BI27=3,H37, 0) -> 0 | Z37: =IF(SourceП1!BI27=4,H37, 0) -> 0
G38: =H28+H29+H31+H32+H33+SUM(H35:H37) -> 1697.69 | J38: =K28+K29+K31+K32+K33+SUM(K35:K37) -> 12919.41 | L38: =SourceП1!U24 -> 30.3 | O38: =G38 -> 1697.69 | P38: =J38 -> 12919.41 | Q38: =L38 -> 30.3 | W38: =IF(SourceП1!BI24<=1,H28+H29+H31+H32+H33, 0) -> 0 | X38: =IF(SourceП1!BI24=2,H28+H29+H31+H32+H33, 0) -> 1088.9 | Y38: =IF(SourceП1!BI24=3,H28+H29+H31+H32+H33, 0) -> 0 | Z38: =IF(SourceП1!BI24=4,H28+H29+H31+H32+H33, 0) -> 0
A39: =SourceП1!E28 -> 2 | B39: =SourceП1!F28 -> м10-08-002-03 | C39: =SourceП1!G28 -> Извещатель ПС автоматический тепловой, дымовой, световой во взрывозащищенном исполнении | D39: =SourceП1!H28 -> ШТ | E39: =SourceП1!I28 -> 48 | F39: =SourceП1!AL28+SourceП1!AM28+SourceП1!AO28 -> 23.03 | I39: =SourceП1!BO28 | S39: =ROUND((SourceП1!FX28/100)*((ROUND(SourceП1!AF28*SourceП1!I28, 2)+ROUND(SourceП1!AE28*SourceП1!I28, 2))), 2) -> 762.62 | T39: =SourceП1!X28 -> 5803.57 | U39: =ROUND((SourceП1!FY28/100)*((ROUND(SourceП1!AF28*SourceП1!I28, 2)+ROUND(SourceП1!AE28*SourceП1!I28, 2))), 2) -> 571.97 | V39: =SourceП1!Y28 -> 4352.68
C40: Зарплата | F40: =SourceП1!AO28 -> 19.86 | G40: =SourceП1!DG28 | H40: =ROUND(SourceП1!AF28*SourceП1!I28, 2) -> 953.28 | J40: =IF(SourceП1!BA28<> 0, SourceП1!BA28, 1) -> 7.61 | K40: =SourceП1!S28 -> 7254.46 | R40: =H40 -> 953.28
C41: Материальные ресурсы | F41: =SourceП1!AL28 -> 3.17 | G41: =SourceП1!DD28 | H41: =ROUND(SourceП1!AC28*SourceП1!I28, 2) -> 152.16 | J41: =IF(SourceП1!BC28<> 0, SourceП1!BC28, 1) -> 7.61 | K41: =SourceП1!P28 -> 1157.94
C42: НР от ФОТ | D42: % | E42: =SourceП1!BZ28 -> 80 | H42: =SUM(S39:S45) -> 762.62 | J42: =SourceП1!AT28 -> 80 | K42: =SUM(T39:T45) -> 5803.57
C43: СП от ФОТ | D43: % | E43: =SourceП1!CA28 -> 60 | H43: =SUM(U39:U45) -> 571.97 | J43: =SourceП1!AU28 -> 60 | K43: =SUM(V39:V45) -> 4352.68
C44: Затраты труда | D44: чел-ч | E44: =SourceП1!AQ28 -> 1.68 | G44: =SourceП1!DI28 | L44: =SourceП1!U28 -> 80.64
A45: =SourceП1!E29 -> 2,1 | B45: =SourceП1!F29 -> 61.2.02.01-0019 | C45: =SourceП1!G29 -> Извещатель пожарный дымовой ДИП-34А-03 | D45: =SourceП1!H29 -> 10 шт. | E45: =SourceП1!I29 -> 4.8 | F45: =SourceП1!AL29+SourceП1!AM29+SourceП1!AO29 -> 1165.22 | H45: =ROUND(SourceП1!AC29*SourceП1!I29, 2)+ROUND(SourceП1!AD29*SourceП1!I29, 2)+ROUND(SourceП1!AF29*SourceП1!I29, 2) -> 5593.06 | J45: =IF(SourceП1!BC29<> 0, SourceП1!BC29, 1) -> 7.61 | K45: =SourceП1!O29 -> 42563.16 | S45: =ROUND((SourceП1!FX29/100)*((ROUND(SourceП1!AF29*SourceП1!I29, 2)+ROUND(SourceП1!AE29*SourceП1!I29, 2))), 2) -> 0 | T45: =SourceП1!X29 -> 0 | U45: =ROUND((SourceП1!FY29/100)*((ROUND(SourceП1!AF29*SourceП1!I29, 2)+ROUND(SourceП1!AE29*SourceП1!I29, 2))), 2) -> 0 | V45: =SourceП1!Y29 -> 0 | W45: =IF(SourceП1!BI29<=1,H45, 0) -> 0 | X45: =IF(SourceП1!BI29=2,H45, 0) -> 5593.06 | Y45: =IF(SourceП1!BI29=3,H45, 0) -> 0 | Z45: =IF(SourceП1!BI29=4,H45, 0) -> 0
G46: =H40+H41+H42+H43+SUM(H45:H45) -> 8033.09 | J46: =K40+K41+K42+K43+SUM(K45:K45) -> 61131.81 | L46: =SourceП1!U28 -> 80.64 | O46: =G46 -> 8033.09 | P46: =J46 -> 61131.81 | Q46: =L46 -> 80.64 | W46: =IF(SourceП1!BI28<=1,H40+H41+H42+H43, 0) -> 0 | X46: =IF(SourceП1!BI28=2,H40+H41+H42+H43, 0) -> 2440.03 | Y46: =IF(SourceП1!BI28=3,H40+H41+H42+H43, 0) -> 0 | Z46: =IF(SourceП1!BI28=4,H40+H41+H42+H43, 0) -> 0
A47: =SourceП1!E30 -> 3 | B47: =SourceП1!F30 -> м10-01-039-06 | C47: =SourceП1!G30 -> Извещатель пожарный ручной адресный | D47: =SourceП1!H30 -> ШТ | E47: =SourceП1!I30 -> 5 | F47: =SourceП1!AL30+SourceП1!AM30+SourceП1!AO30 -> 17.4 | I47: =SourceП1!BO30 | S47: =ROUND((SourceП1!FX30/100)*((ROUND(SourceП1!AF30*SourceП1!I30, 2)+ROUND(SourceП1!AE30*SourceП1!I30, 2))), 2) -> 68.24 | T47: =SourceП1!X30 -> 519.3 | U47: =ROUND((SourceП1!FY30/100)*((ROUND(SourceП1!AF30*SourceП1!I30, 2)+ROUND(SourceП1!AE30*SourceП1!I30, 2))), 2) -> 51.18 | V47: =SourceП1!Y30 -> 389.48
C48: Зарплата | F48: =SourceП1!AO30 -> 17.06 | G48: =SourceП1!DG30 | H48: =ROUND(SourceП1!AF30*SourceП1!I30, 2) -> 85.3 | J48: =IF(SourceП1!BA30<> 0, SourceП1!BA30, 1) -> 7.61 | K48: =SourceП1!S30 -> 649.13 | R48: =H48 -> 85.3
C49: Материальные ресурсы | F49: =SourceП1!AL30 -> 0.34 | G49: =SourceП1!DD30 | H49: =ROUND(SourceП1!AC30*SourceП1!I30, 2) -> 1.7 | J49: =IF(SourceП1!BC30<> 0, SourceП1!BC30, 1) -> 7.61 | K49: =SourceП1!P30 -> 12.94
C50: НР от ФОТ | D50: % | E50: =SourceП1!BZ30 -> 80 | H50: =SUM(S47:S53) -> 68.24 | J50: =SourceП1!AT30 -> 80 | K50: =SUM(T47:T53) -> 519.3
C51: СП от ФОТ | D51: % | E51: =SourceП1!CA30 -> 60 | H51: =SUM(U47:U53) -> 51.18 | J51: =SourceП1!AU30 -> 60 | K51: =SUM(V47:V53) -> 389.48
...

Sheet П2
H3: Приложение 2 к Форме 7
B10: СМЕТА
B11: =IF(SourceП2!G20<>"Новая локальная смета", SourceП2!G20, "")
B13: выполнение работ по монтажу комплекса систем пожарно безопасности в квартире № 3 в здании общежития НИЯУ МИФИ по адресу: 109263, г. Москва, ул. Шкулева, д. 27, стр. 2
G15: базовая цена | I15: текущая цена
C16: Сметная стоимость | G16: =SUM(O27:O213)/1000 -> 140.66178 | I16: =(SourceП2!F106/1000) -> 1263.1146 | K16: тыс. руб.
C17: Строительные работы | G17: =SUM(W27:W213)/1000 -> 0 | I17: =(SourceП2!F93)/1000 -> 0 | K17: тыс. руб.
C18: Монтажные работы | G18: =SUM(X27:X213)/1000 -> 140.66178 | I18: =(SourceП2!F94)/1000 -> 1070.4361 | K18: тыс. руб.
C19: Оборудование | G19: =SUM(Y27:Y213)/1000 -> 0 | I19: =(SourceП2!F85)/1000 -> 0 | K19: тыс. руб.
C20: Прочие работы | G20: =SUM(Z27:Z213)/1000 -> 0 | I20: =(SourceП2!F95+SourceП2!F96)/1000 -> 0 | K20: тыс. руб.
C21: Нормативная трудоемкость | G21: =I21 -> 1072.1201 | I21: =(SourceП2!F98+SourceП2!F99) -> 1072.1201 | K21: чел. -ч.
C22: Средства на оплату труда | G22: =SUM(R27:R213)/1000 -> 12.22597 | I22: =(SourceП2!F91+ SourceП2!F90)/1000 -> 93.03964 | K22: тыс. руб.
A24: Составлена в ценах III квартал 2017 года
A25: № п/п | B25: Шифр расценки и коды ресурсов | C25: Наименование работ и затрат | D25: Ед. изм. | E25: Кол-во единиц | F25: Цена на ед. изм. | G25: Попра-вочные коэфф. | H25: Стоимость в ценах 2001г. | I25: Пункт коэфф. пересчета | J25: Коэфф. пересчета | K25: Стоимость в текущих ценах | L25: ЗТР всего чел.-час
A26: 1 | B26: 2 | C26: 3 | D26: 4 | E26: 5 | F26: 6 | G26: 7 | H26: 8 | I26: 9 | J26: 10 | K26: 11 | L26: 12
A27: =SourceП2!E24 -> 1 | B27: =SourceП2!F24 -> м10-04-077-15 | C27: =SourceП2!G24 -> Монтаж пульта контроля и управления | D27: =SourceП2!H24 -> ШТ | E27: =SourceП2!I24 -> 1 | F27: =SourceП2!AL24+SourceП2!AM24+SourceП2!AO24 -> 1170.69 | I27: =SourceП2!BO24 | S27: =ROUND((SourceП2!FX24/100)*((ROUND(SourceП2!AF24*SourceП2!I24, 2)+ROUND(SourceП2!AE24*SourceП2!I24, 2))), 2) -> 690.15 | T27: =SourceП2!X24 -> 5252.02 | U27: =ROUND((SourceП2!FY24/100)*((ROUND(SourceП2!AF24*SourceП2!I24, 2)+ROUND(SourceП2!AE24*SourceП2!I24, 2))), 2) -> 487.6 | V27: =SourceП2!Y24 -> 3710.67
C28: Зарплата | F28: =SourceП2!AO24 -> 712.84 | G28: =SourceП2!DG24 | H28: =ROUND(SourceП2!AF24*SourceП2!I24, 2) -> 712.84 | J28: =IF(SourceП2!BA24<> 0, SourceП2!BA24, 1) -> 7.61 | K28: =SourceП2!S24 -> 5424.71 | R28: =H28 -> 712.84
C29: Эксплуатация машин | F29: =SourceП2!AM24 -> 333.86 | G29: =SourceП2!DE24 | H29: =ROUND(SourceП2!AD24*SourceП2!I24, 2) -> 333.86 | J29: =IF(SourceП2!BB24<> 0, SourceП2!BB24, 1) -> 7.61 | K29: =SourceП2!Q24 -> 2540.67
C30: в т.ч. зарплата машинистов | F30: =SourceП2!AN24 -> 37.32 | G30: =SourceП2!DF24 | H30: =ROUND(SourceП2!AE24*SourceП2!I24, 2) -> 37.32 | J30: =IF(SourceП2!BS24<> 0, SourceП2!BS24, 1) -> 7.61 | K30: =SourceП2!R24 -> 284.01 | R30: =H30 -> 37.32
C31: Материальные ресурсы | F31: =SourceП2!AL24 -> 123.99 | G31: =SourceП2!DD24 | H31: =ROUND(SourceП2!AC24*SourceП2!I24, 2) -> 123.99 | J31: =IF(SourceП2!BC24<> 0, SourceП2!BC24, 1) -> 7.61 | K31: =SourceП2!P24 -> 943.56
C32: НР от ФОТ | D32: % | E32: =SourceП2!BZ24 -> 92 | H32: =SUM(S27:S35) -> 690.15 | J32: =SourceП2!AT24 -> 92 | K32: =SUM(T27:T35) -> 5252.02
C33: СП от ФОТ | D33: % | E33: =SourceП2!CA24 -> 65 | H33: =SUM(U27:U35) -> 487.6 | J33: =SourceП2!AU24 -> 65 | K33: =SUM(V27:V35) -> 3710.67
C34: Затраты труда | D34: чел-ч | E34: =SourceП2!AQ24 -> 74.1 | G34: =SourceП2!DI24 | L34: =SourceП2!U24 -> 74.1
A35: =SourceП2!E25 -> 1,1 | B35: =SourceП2!F25 -> 61.2.04.10-0004 | C35: =SourceП2!G25 -> Пульт контроля и управления охранно-пожарный, марка "С2000- М" | D35: =SourceП2!H25 -> шт. | E35: =SourceП2!I25 -> 1 | F35: =SourceП2!AL25+SourceП2!AM25+SourceП2!AO25 -> 627.51 | H35: =ROUND(SourceП2!AC25*SourceП2!I25, 2)+ROUND(SourceП2!AD25*SourceП2!I25, 2)+ROUND(SourceП2!AF25*SourceП2!I25, 2) -> 627.51 | J35: =IF(SourceП2!BC25<> 0, SourceП2!BC25, 1) -> 7.61 | K35: =SourceП2!O25 -> 4775.35 | S35: =ROUND((SourceП2!FX25/100)*((ROUND(SourceП2!AF25*SourceП2!I25, 2)+ROUND(SourceП2!AE25*SourceП2!I25, 2))), 2) -> 0 | T35: =SourceП2!X25 -> 0 | U35: =ROUND((SourceП2!FY25/100)*((ROUND(SourceП2!AF25*SourceП2!I25, 2)+ROUND(SourceП2!AE25*SourceП2!I25, 2))), 2) -> 0 | V35: =SourceП2!Y25 -> 0 | W35: =IF(SourceП2!BI25<=1,H35, 0) -> 0 | X35: =IF(SourceП2!BI25=2,H35, 0) -> 627.51 | Y35: =IF(SourceП2!BI25=3,H35, 0) -> 0 | Z35: =IF(SourceП2!BI25=4,H35, 0) -> 0
G36: =H28+H29+H31+H32+H33+SUM(H35:H35) -> 2975.95 | J36: =K28+K29+K31+K32+K33+SUM(K35:K35) -> 22646.98 | L36: =SourceП2!U24 -> 74.1 | O36: =G36 -> 2975.95 | P36: =J36 -> 22646.98 | Q36: =L36 -> 74.1 | W36: =IF(SourceП2!BI24<=1,H28+H29+H31+H32+H33, 0) -> 0 | X36: =IF(SourceП2!BI24=2,H28+H29+H31+H32+H33, 0) -> 2348.44 | Y36: =IF(SourceП2!BI24=3,H28+H29+H31+H32+H33, 0) -> 0 | Z36: =IF(SourceП2!BI24=4,H28+H29+H31+H32+H33, 0) -> 0
A37: =SourceП2!E26 -> 2 | B37: =SourceП2!F26 -> м10-02-016-06 | C37: =SourceП2!G26 -> Установка контролера, блока сигнально-пускового,контрольно-пускового,блок индикации,блоки питания | D37: =SourceП2!H26 -> ШТ | E37: =SourceП2!I26 -> 8 | F37: =SourceП2!AL26+SourceП2!AM26+SourceП2!AO26 -> 199.95 | I37: =SourceП2!BO26 | S37: =ROUND((SourceП2!FX26/100)*((ROUND(SourceП2!AF26*SourceП2!I26, 2)+ROUND(SourceП2!AE26*SourceП2!I26, 2))), 2) -> 745.22 | T37: =SourceП2!X26 -> 5671.1 | U37: =ROUND((SourceП2!FY26/100)*((ROUND(SourceП2!AF26*SourceП2!I26, 2)+ROUND(SourceП2!AE26*SourceП2!I26, 2))), 2) -> 558.91 | V37: =SourceП2!Y26 -> 4253.32
C38: Зарплата | F38: =SourceП2!AO26 -> 112.01 | G38: =SourceП2!DG26 | H38: =ROUND(SourceП2!AF26*SourceП2!I26, 2) -> 896.08 | J38: =IF(SourceП2!BA26<> 0, SourceП2!BA26, 1) -> 7.61 | K38: =SourceП2!S26 -> 6819.17 | R38: =H38 -> 896.08
C39: Эксплуатация машин | F39: =SourceП2!AM26 -> 39.6 | G39: =SourceП2!DE26 | H39: =ROUND(SourceП2!AD26*SourceП2!I26, 2) -> 316.8 | J39: =IF(SourceП2!BB26<> 0, SourceП2!BB26, 1) -> 7.61 | K39: =SourceП2!Q26 -> 2410.85
C40: в т.ч. зарплата машинистов | F40: =SourceП2!AN26 -> 4.43 | G40: =SourceП2!DF26 | H40: =ROUND(SourceП2!AE26*SourceП2!I26, 2) -> 35.44 | J40: =IF(SourceП2!BS26<> 0, SourceП2!BS26, 1) -> 7.61 | K40: =SourceП2!R26 -> 269.7 | R40: =H40 -> 35.44
C41: Материальные ресурсы | F41: =SourceП2!AL26 -> 48.34 | G41: =SourceП2!DD26 | H41: =ROUND(SourceП2!AC26*SourceП2!I26, 2) -> 386.72 | J41: =IF(SourceП2!BC26<> 0, SourceП2!BC26, 1) -> 7.61 | K41: =SourceП2!P26 -> 2942.94
C42: НР от ФОТ | D42: % | E42: =SourceП2!BZ26 -> 80 | H42: =SUM(S37:S49) -> 745.22 | J42: =SourceП2!AT26 -> 80 | K42: =SUM(T37:T49) -> 5671.1
C43: СП от ФОТ | D43: % | E43: =SourceП2!CA26 -> 60 | H43: =SUM(U37:U49) -> 558.91 | J43: =SourceП2!AU26 -> 60 | K43: =SUM(V37:V49) -> 4253.32
C44: Затраты труда | D44: чел-ч | E44: =SourceП2!AQ26 -> 10.1 | G44: =SourceП2!DI26 | L44: =SourceП2!U26 -> 80.8
A45: =SourceП2!E27 -> 2,1 | B45: =SourceП2!F27 -> 61.2.07.04-0002 | C45: =SourceП2!G27 -> Контроллер двухпроводной линии связи, марка "С2000-КДЛ" | D45: =SourceП2!H27 -> шт. | E45: =SourceП2!I27 -> 1 | F45: =SourceП2!AL27+SourceП2!AM27+SourceП2!AO27 -> 175.63 | H45: =ROUND(SourceП2!AC27*SourceП2!I27, 2)+ROUND(SourceП2!AD27*SourceП2!I27, 2)+ROUND(SourceП2!AF27*SourceП2!I27, 2) -> 175.63 | J45: =IF(SourceП2!BC27<> 0, SourceП2!BC27, 1) -> 7.61 | K45: =SourceП2!O27 -> 1336.54 | S45: =ROUND((SourceП2!FX27/100)*((ROUND(SourceП2!AF27*SourceП2!I27, 2)+ROUND(SourceП2!AE27*SourceП2!I27, 2))), 2) -> 0 | T45: =SourceП2!X27 -> 0 | U45: =ROUND((SourceП2!FY27/100)*((ROUND(SourceП2!AF27*SourceП2!I27, 2)+ROUND(SourceП2!AE27*SourceП2!I27, 2))), 2) -> 0 | V45: =SourceП2!Y27 -> 0 | W45: =IF(SourceП2!BI27<=1,H45, 0) -> 0 | X45: =IF(SourceП2!BI27=2,H45, 0) -> 175.63 | Y45: =IF(SourceП2!BI27=3,H45, 0) -> 0 | Z45: =IF(SourceП2!BI27=4,H45, 0) -> 0
A46: =SourceП2!E28 -> 2,2 | B46: =SourceП2!F28 -> 61.2.07.02-0079 | C46: =SourceП2!G28 -> Блок сигнально-пусковой (релейный блок), марка "С2000-СП1" | D46: =SourceП2!H28 -> шт. | E46: =SourceП2!I28 -> 1 | F46: =SourceП2!AL28+SourceП2!AM28+SourceП2!AO28 -> 153.02 | H46: =ROUND(SourceП2!AC28*SourceП2!I28, 2)+ROUND(SourceП2!AD28*SourceП2!I28, 2)+ROUND(SourceП2!AF28*SourceП2!I28, 2) -> 153.02 | J46: =IF(SourceП2!BC28<> 0, SourceП2!BC28, 1) -> 7.61 | K46: =SourceП2!O28 -> 1164.48 | S46: =ROUND((SourceП2!FX28/100)*((ROUND(SourceП2!AF28*SourceП2!I28, 2)+ROUND(SourceП2!AE28*SourceП2!I28, 2))), 2) -> 0 | T46: =SourceП2!X28 -> 0 | U46: =ROUND((SourceП2!FY28/100)*((ROUND(SourceП2!AF28*SourceП2!I28, 2)+ROUND(SourceП2!AE28*SourceП2!I28, 2))), 2) -> 0 | V46: =SourceП2!Y28 -> 0 | W46: =IF(SourceП2!BI28<=1,H46, 0) -> 0 | X46: =IF(SourceП2!BI28=2,H46, 0) -> 153.02 | Y46: =IF(SourceП2!BI28=3,H46, 0) -> 0 | Z46: =IF(SourceП2!BI28=4,H46, 0) -> 0
A47: =SourceП2!E29 -> 2,3 | B47: =SourceП2!F29 -> 61.2.07.02-0034 | C47: =SourceП2!G29 -> Блок контрольно-пусковой, марка "С2000-КПБ" | D47: =SourceП2!H29 -> шт. | E47: =SourceП2!I29 -> 1 | F47: =SourceП2!AL29+SourceП2!AM29+SourceП2!AO29 -> 243.85 | H47: =ROUND(SourceП2!AC29*SourceП2!I29, 2)+ROUND(SourceП2!AD29*SourceП2!I29, 2)+ROUND(SourceП2!AF29*SourceП2!I29, 2) -> 243.85 | J47: =IF(SourceП2!BC29<> 0, SourceП2!BC29, 1) -> 7.61 | K47: =SourceП2!O29 -> 1855.7 | S47: =ROUND((SourceП2!FX29/100)*((ROUND(SourceП2!AF29*SourceП2!I29, 2)+ROUND(SourceП2!AE29*SourceП2!I29, 2))), 2) -> 0 | T47: =SourceП2!X29 -> 0 | U47: =ROUND((SourceП2!FY29/100)*((ROUND(SourceП2!AF29*SourceП2!I29, 2)+ROUND(SourceП2!AE29*SourceП2!I29, 2))), 2) -> 0 | V47: =SourceП2!Y29 -> 0 | W47: =IF(SourceП2!BI29<=1,H47, 0) -> 0 | X47: =IF(SourceП2!BI29=2,H47, 0) -> 243.85 | Y47: =IF(SourceП2!BI29=3,H47, 0) -> 0 | Z47: =IF(SourceП2!BI29=4,H47, 0) -> 0
A48: =SourceП2!E30 -> 2,4 | B48: =SourceП2!F30 -> 61.2.07.02-0030 | C48: =SourceП2!G30 -> Блок индикации, марка "С2000-БИ" | D48: =SourceП2!H30 -> шт. | E48: =SourceП2!I30 -> 4 | F48: =SourceП2!AL30+SourceП2!AM30+SourceП2!AO30 -> 473.91 | H48: =ROUND(SourceП2!AC30*SourceП2!I30, 2)+ROUND(SourceП2!AD30*SourceП2!I30, 2)+ROUND(SourceП2!AF30*SourceП2!I30, 2) -> 1895.64 | J48: =IF(SourceП2!BC30<> 0, SourceП2!BC30, 1) -> 7.61 | K48: =SourceП2!O30 -> 14425.82 | S48: =ROUND((SourceП2!FX30/100)*((ROUND(SourceП2!AF30*SourceП2!I30, 2)+ROUND(SourceП2!AE30*SourceП2!I30, 2))), 2) -> 0 | T48: =SourceП2!X30 -> 0 | U48: =ROUND((SourceП2!FY30/100)*((ROUND(SourceП2!AF30*SourceП2!I30, 2)+ROUND(SourceП2!AE30*SourceП2!I30, 2))), 2) -> 0 | V48: =SourceП2!Y30 -> 0 | W48: =IF(SourceП2!BI30<=1,H48, 0) -> 0 | X48: =IF(SourceП2!BI30=2,H48, 0) -> 1895.64 | Y48: =IF(SourceП2!BI30=3,H48, 0) -> 0 | Z48: =IF(SourceП2!BI30=4,H48, 0) -> 0
A49: =SourceП2!E31 -> 2,5 | B49: =SourceП2!F31 -> Прайс-лист Видеоглаз | C49: Блок основного и резервного питания системы LPA-EVA-BC Базисная стоимость: 6 494,58 = [58 320 / 1,18 / 7,61] | D49: =SourceП2!H31 -> ШТ | E49: =SourceП2!I31 -> 1 | F49: =SourceП2!AL31+SourceП2!AM31+SourceП2!AO31 -> 6494.58 | H49: =ROUND(SourceП2!AC31*SourceП2!I31, 2)+ROUND(SourceП2!AD31*SourceП2!I31, 2)+ROUND(SourceП2!AF31*SourceП2!I31, 2) -> 6494.58 | J49: =IF(SourceП2!BC31<> 0, SourceП2!BC31, 1) -> 7.61 | K49: =SourceП2!O31 -> 49423.75 | S49: =ROUND((SourceП2!FX31/100)*((ROUND(SourceП2!AF31*SourceП2!I31, 2)+ROUND(SourceП2!AE31*SourceП2!I31, 2))), 2) -> 0 | T49: =SourceП2!X31 -> 0 | U49: =ROUND((SourceП2!FY31/100)*((ROUND(SourceП2!AF31*SourceП2!I31, 2)+ROUND(SourceП2!AE31*SourceП2!I31, 2))), 2) -> 0 | V49: =SourceП2!Y31 -> 0 | W49: =IF(SourceП2!BI31<=1,H49, 0) -> 0 | X49: =IF(SourceП2!BI31=2,H49, 0) -> 6494.58 | Y49: =IF(SourceП2!BI31=3,H49, 0) -> 0 | Z49: =IF(SourceП2!BI31=4,H49, 0) -> 0
G50: =H38+H39+H41+H42+H43+SUM(H45:H49) -> 11866.45 | J50: =K38+K39+K41+K42+K43+SUM(K45:K49) -> 90303.67 | L50: =SourceП2!U26 -> 80.8 | O50: =G50 -> 11866.45 | P50: =J50 -> 90303.67 | Q50: =L50 -> 80.8 | W50: =IF(SourceП2!BI26<=1,H38+H39+H41+H42+H43, 0) -> 0 | X50: =IF(SourceП2!BI26=2,H38+H39+H41+H42+H43, 0) -> 2903.73 | Y50: =IF(SourceП2!BI26=3,H38+H39+H41+H42+H43, 0) -> 0 | Z50: =IF(SourceП2!BI26=4,H38+H39+H41+H42+H43, 0) -> 0
A51: =SourceП2!E32 -> 3 | B51: =SourceП2!F32 -> м10-08-002-03 | C51: =SourceП2!G32 -> Извещатель ПС автоматический тепловой, дымовой, световой во взрывозащищенном исполнении | D51: =SourceП2!H32 -> ШТ | E51: =SourceП2!I32 -> 54 | F51: =SourceП2!AL32+SourceП2!AM32+SourceП2!AO32 -> 23.03 | I51: =SourceП2!BO32 | S51: =ROUND((SourceП2!FX32/100)*((ROUND(SourceП2!AF32*SourceП2!I32, 2)+ROUND(SourceП2!AE32*SourceП2!I32, 2))), 2) -> 857.95 | T51: =SourceП2!X32 -> 6529.02 | U51: =ROUND((SourceП2!FY32/100)*((ROUND(SourceП2!AF32*SourceП2!I32, 2)+ROUND(SourceП2!AE32*SourceП2!I32, 2))), 2) -> 643.46 | V51: =SourceП2!Y32 -> 4896.76
...

Sheet П3
H3: Приложение 3 к Форме 7
B10: СМЕТА
B11: =IF(SourceП3!G20<>"Новая локальная смета", SourceП3!G20, "")
B13: выполнение работ по монтажу комплекса систем пожарной безопасности в квартире № 4 в здании общежития НИЯУ МИФИ по адресу: 109263, г. Москва, ул. Шкулева, д. 27, стр. 2
G15: базовая цена | I15: текущая цена
C16: Сметная стоимость | G16: =SUM(O27:O132)/1000 -> 27.37456 | I16: =(SourceП3!F81/1000) -> 245.81786 | K16: тыс. руб.
C17: Строительные работы | G17: =SUM(W27:W132)/1000 -> 0 | I17: =(SourceП3!F68)/1000 -> 0 | K17: тыс. руб.
C18: Монтажные работы | G18: =SUM(X27:X132)/1000 -> 27.37456 | I18: =(SourceП3!F69)/1000 -> 208.32022 | K18: тыс. руб.
C19: Оборудование | G19: =SUM(Y27:Y132)/1000 -> 0 | I19: =(SourceП3!F60)/1000 -> 0 | K19: тыс. руб.
C20: Прочие работы | G20: =SUM(Z27:Z132)/1000 -> 0 | I20: =(SourceП3!F70+SourceП3!F71)/1000 -> 0 | K20: тыс. руб.
C21: Нормативная трудоемкость | G21: =I21 -> 299.7452 | I21: =(SourceП3!F73+SourceП3!F74) -> 299.7452 | K21: чел. -ч.
C22: Средства на оплату труда | G22: =SUM(R27:R132)/1000 -> 2.88024 | I22: =(SourceП3!F66+ SourceП3!F65)/1000 -> 21.91856 | K22: тыс. руб.
A24: Составлена в ценах III квартал 2017 года
A25: № п/п | B25: Шифр расценки и коды ресурсов | C25: Наименование работ и затрат | D25: Ед. изм. | E25: Кол-во единиц | F25: Цена на ед. изм. | G25: Попра-вочные коэфф. | H25: Стоимость в ценах 2001г. | I25: Пункт коэфф. пересчета | J25: Коэфф. пересчета | K25: Стоимость в текущих ценах | L25: ЗТР всего чел.-час
A26: 1 | B26: 2 | C26: 3 | D26: 4 | E26: 5 | F26: 6 | G26: 7 | H26: 8 | I26: 9 | J26: 10 | K26: 11 | L26: 12
A27: =SourceП3!E24 -> 1 | B27: =SourceП3!F24 -> м10-02-016-06 | C27: =SourceП3!G24 -> Установка контролера, блока сигнально-пускового,контрольно-пускового,блок индикации,блоки питания | D27: =SourceП3!H24 -> ШТ | E27: =SourceП3!I24 -> 3 | F27: =SourceП3!AL24+SourceП3!AM24+SourceП3!AO24 -> 199.95 | I27: =SourceП3!BO24 | S27: =ROUND((SourceП3!FX24/100)*((ROUND(SourceП3!AF24*SourceП3!I24, 2)+ROUND(SourceП3!AE24*SourceП3!I24, 2))), 2) -> 279.46 | T27: =SourceП3!X24 -> 2126.66 | U27: =ROUND((SourceП3!FY24/100)*((ROUND(SourceП3!AF24*SourceП3!I24, 2)+ROUND(SourceП3!AE24*SourceП3!I24, 2))), 2) -> 209.59 | V27: =SourceП3!Y24 -> 1595
C28: Зарплата | F28: =SourceП3!AO24 -> 112.01 | G28: =SourceП3!DG24 | H28: =ROUND(SourceП3!AF24*SourceП3!I24, 2) -> 336.03 | J28: =IF(SourceП3!BA24<> 0, SourceП3!BA24, 1) -> 7.61 | K28: =SourceП3!S24 -> 2557.19 | R28: =H28 -> 336.03
C29: Эксплуатация машин | F29: =SourceП3!AM24 -> 39.6 | G29: =SourceП3!DE24 | H29: =ROUND(SourceП3!AD24*SourceП3!I24, 2) -> 118.8 | J29: =IF(SourceП3!BB24<> 0, SourceП3!BB24, 1) -> 7.61 | K29: =SourceП3!Q24 -> 904.07
C30: в т.ч. зарплата машинистов | F30: =SourceП3!AN24 -> 4.43 | G30: =SourceП3!DF24 | H30: =ROUND(SourceП3!AE24*SourceП3!I24, 2) -> 13.29 | J30: =IF(SourceП3!BS24<> 0, SourceП3!BS24, 1) -> 7.61 | K30: =SourceП3!R24 -> 101.14 | R30: =H30 -> 13.29
C31: Материальные ресурсы | F31: =SourceП3!AL24 -> 48.34 | G31: =SourceП3!DD24 | H31: =ROUND(SourceП3!AC24*SourceП3!I24, 2) -> 145.02 | J31: =IF(SourceП3!BC24<> 0, SourceП3!BC24, 1) -> 7.61 | K31: =SourceП3!P24 -> 1103.6
C32: НР от ФОТ | D32: % | E32: =SourceП3!BZ24 -> 80 | H32: =SUM(S27:S37) -> 279.46 | J32: =SourceП3!AT24 -> 80 | K32: =SUM(T27:T37) -> 2126.66
C33: СП от ФОТ | D33: % | E33: =SourceП3!CA24 -> 60 | H33: =SUM(U27:U37) -> 209.59 | J33: =SourceП3!AU24 -> 60 | K33: =SUM(V27:V37) -> 1595
C34: Затраты труда | D34: чел-ч | E34: =SourceП3!AQ24 -> 10.1 | G34: =SourceП3!DI24 | L34: =SourceП3!U24 -> 30.3
A35: =SourceП3!E25 -> 1,1 | B35: =SourceП3!F25 -> 61.2.07.04-0002 | C35: =SourceП3!G25 -> Контроллер двухпроводной линии связи, марка "С2000-КДЛ" | D35: =SourceП3!H25 -> шт. | E35: =SourceП3!I25 -> 1 | F35: =SourceП3!AL25+SourceП3!AM25+SourceП3!AO25 -> 175.63 | H35: =ROUND(SourceП3!AC25*SourceП3!I25, 2)+ROUND(SourceП3!AD25*SourceП3!I25, 2)+ROUND(SourceП3!AF25*SourceП3!I25, 2) -> 175.63 | J35: =IF(SourceП3!BC25<> 0, SourceП3!BC25, 1) -> 7.61 | K35: =SourceП3!O25 -> 1336.54 | S35: =ROUND((SourceП3!FX25/100)*((ROUND(SourceП3!AF25*SourceП3!I25, 2)+ROUND(SourceП3!AE25*SourceП3!I25, 2))), 2) -> 0 | T35: =SourceП3!X25 -> 0 | U35: =ROUND((SourceП3!FY25/100)*((ROUND(SourceП3!AF25*SourceП3!I25, 2)+ROUND(SourceП3!AE25*SourceП3!I25, 2))), 2) -> 0 | V35: =SourceП3!Y25 -> 0 | W35: =IF(SourceП3!BI25<=1,H35, 0) -> 0 | X35: =IF(SourceП3!BI25=2,H35, 0) -> 175.63 | Y35: =IF(SourceП3!BI25=3,H35, 0) -> 0 | Z35: =IF(SourceП3!BI25=4,H35, 0) -> 0
A36: =SourceП3!E26 -> 1,2 | B36: =SourceП3!F26 -> 61.2.07.02-0034 | C36: =SourceП3!G26 -> Блок контрольно-пусковой, марка "С2000-КПБ" | D36: =SourceП3!H26 -> шт. | E36: =SourceП3!I26 -> 1 | F36: =SourceП3!AL26+SourceП3!AM26+SourceП3!AO26 -> 243.85 | H36: =ROUND(SourceП3!AC26*SourceП3!I26, 2)+ROUND(SourceП3!AD26*SourceП3!I26, 2)+ROUND(SourceП3!AF26*SourceП3!I26, 2) -> 243.85 | J36: =IF(SourceП3!BC26<> 0, SourceП3!BC26, 1) -> 7.61 | K36: =SourceП3!O26 -> 1855.7 | S36: =ROUND((SourceП3!FX26/100)*((ROUND(SourceП3!AF26*SourceП3!I26, 2)+ROUND(SourceП3!AE26*SourceП3!I26, 2))), 2) -> 0 | T36: =SourceП3!X26 -> 0 | U36: =ROUND((SourceП3!FY26/100)*((ROUND(SourceП3!AF26*SourceП3!I26, 2)+ROUND(SourceП3!AE26*SourceП3!I26, 2))), 2) -> 0 | V36: =SourceП3!Y26 -> 0 | W36: =IF(SourceП3!BI26<=1,H36, 0) -> 0 | X36: =IF(SourceП3!BI26=2,H36, 0) -> 243.85 | Y36: =IF(SourceП3!BI26=3,H36, 0) -> 0 | Z36: =IF(SourceП3!BI26=4,H36, 0) -> 0
A37: =SourceП3!E27 -> 1,3 | B37: =SourceП3!F27 -> Прайс-лист ВижнПро | C37: Источник вторичного электропитания резервирования СКАТ-1200МDIN Базисная стоимость: 189,31 = [1 700 / 1,18 / 7,61] | D37: =SourceП3!H27 -> ШТ | E37: =SourceП3!I27 -> 1 | F37: =SourceП3!AL27+SourceП3!AM27+SourceП3!AO27 -> 189.31 | H37: =ROUND(SourceП3!AC27*SourceП3!I27, 2)+ROUND(SourceП3!AD27*SourceП3!I27, 2)+ROUND(SourceП3!AF27*SourceП3!I27, 2) -> 189.31 | J37: =IF(SourceП3!BC27<> 0, SourceП3!BC27, 1) -> 7.61 | K37: =SourceП3!O27 -> 1440.65 | S37: =ROUND((SourceП3!FX27/100)*((ROUND(SourceП3!AF27*SourceП3!I27, 2)+ROUND(SourceП3!AE27*SourceП3!I27, 2))), 2) -> 0 | T37: =SourceП3!X27 -> 0 | U37: =ROUND((SourceП3!FY27/100)*((ROUND(SourceП3!AF27*SourceП3!I27, 2)+ROUND(SourceП3!AE27*SourceП3!I27, 2))), 2) -> 0 | V37: =SourceП3!Y27 -> 0 | W37: =IF(SourceП3!BI27<=1,H37, 0) -> 0 | X37: =IF(SourceП3!BI27=2,H37, 0) -> 189.31 | Y37: =IF(SourceП3!BI27=3,H37, 0) -> 0 | Z37: =IF(SourceП3!BI27=4,H37, 0) -> 0
G38: =H28+H29+H31+H32+H33+SUM(H35:H37) -> 1697.69 | J38: =K28+K29+K31+K32+K33+SUM(K35:K37) -> 12919.41 | L38: =SourceП3!U24 -> 30.3 | O38: =G38 -> 1697.69 | P38: =J38 -> 12919.41 | Q38: =L38 -> 30.3 | W38: =IF(SourceП3!BI24<=1,H28+H29+H31+H32+H33, 0) -> 0 | X38: =IF(SourceП3!BI24=2,H28+H29+H31+H32+H33, 0) -> 1088.9 | Y38: =IF(SourceП3!BI24=3,H28+H29+H31+H32+H33, 0) -> 0 | Z38: =IF(SourceП3!BI24=4,H28+H29+H31+H32+H33, 0) -> 0
A39: =SourceП3!E28 -> 2 | B39: =SourceП3!F28 -> м08-03-593-10 | C39: =SourceП3!G28 -> Световые настенные указатели | D39: =SourceП3!H28 -> 100 ШТ | E39: =SourceП3!I28 -> 0.02 | F39: =SourceП3!AL28+SourceП3!AM28+SourceП3!AO28 -> 1335.26 | I39: =SourceП3!BO28 | S39: =ROUND((SourceП3!FX28/100)*((ROUND(SourceП3!AF28*SourceП3!I28, 2)+ROUND(SourceП3!AE28*SourceП3!I28, 2))), 2) -> 14.91 | T39: =SourceП3!X28 -> 113.4 | U39: =ROUND((SourceП3!FY28/100)*((ROUND(SourceП3!AF28*SourceП3!I28, 2)+ROUND(SourceП3!AE28*SourceП3!I28, 2))), 2) -> 10.2 | V39: =SourceП3!Y28 -> 77.59
C40: Зарплата | F40: =SourceП3!AO28 -> 779.32 | G40: =SourceП3!DG28 | H40: =ROUND(SourceП3!AF28*SourceП3!I28, 2) -> 15.59 | J40: =IF(SourceП3!BA28<> 0, SourceП3!BA28, 1) -> 7.61 | K40: =SourceП3!S28 -> 118.61 | R40: =H40 -> 15.59
C41: Эксплуатация машин | F41: =SourceП3!AM28 -> 35.54 | G41: =SourceП3!DE28 | H41: =ROUND(SourceП3!AD28*SourceП3!I28, 2) -> 0.71 | J41: =IF(SourceП3!BB28<> 0, SourceП3!BB28, 1) -> 7.61 | K41: =SourceП3!Q28 -> 5.41
C42: в т.ч. зарплата машинистов | F42: =SourceП3!AN28 -> 5.02 | G42: =SourceП3!DF28 | H42: =ROUND(SourceП3!AE28*SourceП3!I28, 2) -> 0.1 | J42: =IF(SourceП3!BS28<> 0, SourceП3!BS28, 1) -> 7.61 | K42: =SourceП3!R28 -> 0.76 | R42: =H42 -> 0.1
C43: Материальные ресурсы | F43: =SourceП3!AL28 -> 520.4 | G43: =SourceП3!DD28 | H43: =ROUND(SourceП3!AC28*SourceП3!I28, 2) -> 10.41 | J43: =IF(SourceП3!BC28<> 0, SourceП3!BC28, 1) -> 7.61 | K43: =SourceП3!P28 -> 79.2
C44: НР от ФОТ | D44: % | E44: =SourceП3!BZ28 -> 95 | H44: =SUM(S39:S47) -> 14.91 | J44: =SourceП3!AT28 -> 95 | K44: =SUM(T39:T47) -> 113.4
C45: СП от ФОТ | D45: % | E45: =SourceП3!CA28 -> 65 | H45: =SUM(U39:U47) -> 10.2 | J45: =SourceП3!AU28 -> 65 | K45: =SUM(V39:V47) -> 77.59
C46: Затраты труда | D46: чел-ч | E46: =SourceП3!AQ28 -> 78.56 | G46: =SourceП3!DI28 | L46: =SourceП3!U28 -> 1.5712
A47: =SourceП3!E29 -> 2,1 | B47: =SourceП3!F29 -> 61.2.04.07-0008 | C47: =SourceП3!G29 -> Оповещатель световой МОЛНИЯ-12 ВЫХОД | D47: =SourceП3!H29 -> шт. | E47: =SourceП3!I29 -> 2 | F47: =SourceП3!AL29+SourceП3!AM29+SourceП3!AO29 -> 38.38 | H47: =ROUND(SourceП3!AC29*SourceП3!I29, 2)+ROUND(SourceП3!AD29*SourceП3!I29, 2)+ROUND(SourceП3!AF29*SourceП3!I29, 2) -> 76.76 | J47: =IF(SourceП3!BC29<> 0, SourceП3!BC29, 1) -> 7.61 | K47: =SourceП3!O29 -> 584.14 | S47: =ROUND((SourceП3!FX29/100)*((ROUND(SourceП3!AF29*SourceП3!I29, 2)+ROUND(SourceП3!AE29*SourceП3!I29, 2))), 2) -> 0 | T47: =SourceП3!X29 -> 0 | U47: =ROUND((SourceП3!FY29/100)*((ROUND(SourceП3!AF29*SourceП3!I29, 2)+ROUND(SourceП3!AE29*SourceП3!I29, 2))), 2) -> 0 | V47: =SourceП3!Y29 -> 0 | W47: =IF(SourceП3!BI29<=1,H47, 0) -> 0 | X47: =IF(SourceП3!BI29=2,H47, 0) -> 76.76 | Y47: =IF(SourceП3!BI29=3,H47, 0) -> 0 | Z47: =IF(SourceП3!BI29=4,H47, 0) -> 0
G48: =H40+H41+H43+H44+H45+SUM(H47:H47) -> 128.58 | J48: =K40+K41+K43+K44+K45+SUM(K47:K47) -> 978.35 | L48: =SourceП3!U28 -> 1.5712 | O48: =G48 -> 128.58 | P48: =J48 -> 978.35 | Q48: =L48 -> 1.5712 | W48: =IF(SourceП3!BI28<=1,H40+H41+H43+H44+H45, 0) -> 0 | X48: =IF(SourceП3!BI28=2,H40+H41+H43+H44+H45, 0) -> 51.82 | Y48: =IF(SourceП3!BI28=3,H40+H41+H43+H44+H45, 0) -> 0 | Z48: =IF(SourceП3!BI28=4,H40+H41+H43+H44+H45, 0) -> 0
A49: =SourceП3!E30 -> 3 | B49: =SourceП3!F30 -> м08-03-572-05 | C49: =SourceП3!G30 -> Блок управления шкафного исполнения или распределительный пункт (шкаф), устанавливаемый на стене, высота и ширина до 1700х1100 мм | D49: =SourceП3!H30 -> ШТ | E49: =SourceП3!I30 -> 1 | F49: =SourceП3!AL30+SourceП3!AM30+SourceП3!AO30 -> 455.82 | I49: =SourceП3!BO30 | S49: =ROUND((SourceП3!FX30/100)*((ROUND(SourceП3!AF30*SourceП3!I30, 2)+ROUND(SourceП3!AE30*SourceП3!I30, 2))), 2) -> 40.76 | T49: =SourceП3!X30 -> 310.22 | U49: =ROUND((SourceП3!FY30/100)*((ROUND(SourceП3!AF30*SourceП3!I30, 2)+ROUND(SourceП3!AE30*SourceП3!I30, 2))), 2) -> 27.89 | V49: =SourceП3!Y30 -> 212.26
C50: Зарплата | F50: =SourceП3!AO30 -> 34.62 | G50: =SourceП3!DG30 | H50: =ROUND(SourceП3!AF30*SourceП3!I30, 2) -> 34.62 | J50: =IF(SourceП3!BA30<> 0, SourceП3!BA30, 1) -> 7.61 | K50: =SourceП3!S30 -> 263.46 | R50: =H50 -> 34.62
C51: Эксплуатация машин | F51: =SourceП3!AM30 -> 69.09 | G51: =SourceП3!DE30 | H51: =ROUND(SourceП3!AD30*SourceП3!I30, 2) -> 69.09 | J51: =IF(SourceП3!BB30<> 0, SourceП3!BB30, 1) -> 7.61 | K51: =SourceП3!Q30 -> 525.77
...

Sheet П4
H3: Приложение 4 к Форме 7
B10: СМЕТА
B11: =IF(SourceП4!G20<>"Новая локальная смета", SourceП4!G20, "")
B13: выполнение работ по монтажу комплекса систем пожарной безопасности в квартире № 5 в здании общежития НИЯУ МИФИ по адресу: 109263, г. Москва, ул. Шкулева, д. 27, стр. 2
G16: базовая цена | I16: текущая цена
C17: Сметная стоимость | G17: =SUM(O28:O150)/1000 -> 56.14415 | I17: =(SourceП4!F87/1000) -> 504.16308 | K17: тыс. руб.
C18: Строительные работы | G18: =SUM(W28:W150)/1000 -> 0 | I18: =(SourceП4!F74)/1000 -> 0 | K18: тыс. руб.
C19: Монтажные работы | G19: =SUM(X28:X150)/1000 -> 56.14415 | I19: =(SourceП4!F75)/1000 -> 427.25685 | K19: тыс. руб.
C20: Оборудование | G20: =SUM(Y28:Y150)/1000 -> 0 | I20: =(SourceП4!F66)/1000 -> 0 | K20: тыс. руб.
C21: Прочие работы | G21: =SUM(Z28:Z150)/1000 -> 0 | I21: =(SourceП4!F76+SourceП4!F77)/1000 -> 0 | K21: тыс. руб.
C22: Нормативная трудоемкость | G22: =I22 -> 696.9507 | I22: =(SourceП4!F79+SourceП4!F80) -> 696.9507 | K22: чел. -ч.
C23: Средства на оплату труда | G23: =SUM(R28:R150)/1000 -> 7.01997 | I23: =(SourceП4!F72+ SourceП4!F71)/1000 -> 53.42192 | K23: тыс. руб.
A25: Составлена в ценах III квартал 2017 года
A26: № п/п | B26: Шифр расценки и коды ресурсов | C26: Наименование работ и затрат | D26: Ед. изм. | E26: Кол-во единиц | F26: Цена на ед. изм. | G26: Попра-вочные коэфф. | H26: Стоимость в ценах 2001г. | I26: Пункт коэфф. пересчета | J26: Коэфф. пересчета | K26: Стоимость в текущих ценах | L26: ЗТР всего чел.-час
A27: 1 | B27: 2 | C27: 3 | D27: 4 | E27: 5 | F27: 6 | G27: 7 | H27: 8 | I27: 9 | J27: 10 | K27: 11 | L27: 12
A28: =SourceП4!E24 -> 1 | B28: =SourceП4!F24 -> м10-02-016-06 | C28: =SourceП4!G24 -> Установка контролера, блока сигнально-пускового,контрольно-пускового,блок индикации,блоки питания | D28: =SourceП4!H24 -> ШТ | E28: =SourceП4!I24 -> 3 | F28: =SourceП4!AL24+SourceП4!AM24+SourceП4!AO24 -> 199.95 | I28: =SourceП4!BO24 | S28: =ROUND((SourceП4!FX24/100)*((ROUND(SourceП4!AF24*SourceП4!I24, 2)+ROUND(SourceП4!AE24*SourceП4!I24, 2))), 2) -> 279.46 | T28: =SourceП4!X24 -> 2126.66 | U28: =ROUND((SourceП4!FY24/100)*((ROUND(SourceП4!AF24*SourceП4!I24, 2)+ROUND(SourceП4!AE24*SourceП4!I24, 2))), 2) -> 209.59 | V28: =SourceП4!Y24 -> 1595
C29: Зарплата | F29: =SourceП4!AO24 -> 112.01 | G29: =SourceП4!DG24 | H29: =ROUND(SourceП4!AF24*SourceП4!I24, 2) -> 336.03 | J29: =IF(SourceП4!BA24<> 0, SourceП4!BA24, 1) -> 7.61 | K29: =SourceП4!S24 -> 2557.19 | R29: =H29 -> 336.03
C30: Эксплуатация машин | F30: =SourceП4!AM24 -> 39.6 | G30: =SourceП4!DE24 | H30: =ROUND(SourceП4!AD24*SourceП4!I24, 2) -> 118.8 | J30: =IF(SourceП4!BB24<> 0, SourceП4!BB24, 1) -> 7.61 | K30: =SourceП4!Q24 -> 904.07
C31: в т.ч. зарплата машинистов | F31: =SourceП4!AN24 -> 4.43 | G31: =SourceП4!DF24 | H31: =ROUND(SourceП4!AE24*SourceП4!I24, 2) -> 13.29 | J31: =IF(SourceП4!BS24<> 0, SourceП4!BS24, 1) -> 7.61 | K31: =SourceП4!R24 -> 101.14 | R31: =H31 -> 13.29
C32: Материальные ресурсы | F32: =SourceП4!AL24 -> 48.34 | G32: =SourceП4!DD24 | H32: =ROUND(SourceП4!AC24*SourceП4!I24, 2) -> 145.02 | J32: =IF(SourceП4!BC24<> 0, SourceП4!BC24, 1) -> 7.61 | K32: =SourceП4!P24 -> 1103.6
C33: НР от ФОТ | D33: % | E33: =SourceП4!BZ24 -> 80 | H33: =SUM(S28:S38) -> 279.46 | J33: =SourceП4!AT24 -> 80 | K33: =SUM(T28:T38) -> 2126.66
C34: СП от ФОТ | D34: % | E34: =SourceП4!CA24 -> 60 | H34: =SUM(U28:U38) -> 209.59 | J34: =SourceП4!AU24 -> 60 | K34: =SUM(V28:V38) -> 1595
C35: Затраты труда | D35: чел-ч | E35: =SourceП4!AQ24 -> 10.1 | G35: =SourceП4!DI24 | L35: =SourceП4!U24 -> 30.3
A36: =SourceП4!E25 -> 1,1 | B36: =SourceП4!F25 -> 61.2.07.04-0002 | C36: =SourceП4!G25 -> Контроллер двухпроводной линии связи, марка "С2000-КДЛ" | D36: =SourceП4!H25 -> шт. | E36: =SourceП4!I25 -> 1 | F36: =SourceП4!AL25+SourceП4!AM25+SourceП4!AO25 -> 175.63 | H36: =ROUND(SourceП4!AC25*SourceП4!I25, 2)+ROUND(SourceП4!AD25*SourceП4!I25, 2)+ROUND(SourceП4!AF25*SourceП4!I25, 2) -> 175.63 | J36: =IF(SourceП4!BC25<> 0, SourceП4!BC25, 1) -> 7.61 | K36: =SourceП4!O25 -> 1336.54 | S36: =ROUND((SourceП4!FX25/100)*((ROUND(SourceП4!AF25*SourceП4!I25, 2)+ROUND(SourceП4!AE25*SourceП4!I25, 2))), 2) -> 0 | T36: =SourceП4!X25 -> 0 | U36: =ROUND((SourceП4!FY25/100)*((ROUND(SourceП4!AF25*SourceП4!I25, 2)+ROUND(SourceП4!AE25*SourceП4!I25, 2))), 2) -> 0 | V36: =SourceП4!Y25 -> 0 | W36: =IF(SourceП4!BI25<=1,H36, 0) -> 0 | X36: =IF(SourceП4!BI25=2,H36, 0) -> 175.63 | Y36: =IF(SourceП4!BI25=3,H36, 0) -> 0 | Z36: =IF(SourceП4!BI25=4,H36, 0) -> 0
A37: =SourceП4!E26 -> 1,2 | B37: =SourceП4!F26 -> 61.2.07.02-0034 | C37: =SourceП4!G26 -> Блок контрольно-пусковой, марка "С2000-КПБ" | D37: =SourceП4!H26 -> шт. | E37: =SourceП4!I26 -> 1 | F37: =SourceП4!AL26+SourceП4!AM26+SourceП4!AO26 -> 243.85 | H37: =ROUND(SourceП4!AC26*SourceП4!I26, 2)+ROUND(SourceП4!AD26*SourceП4!I26, 2)+ROUND(SourceП4!AF26*SourceП4!I26, 2) -> 243.85 | J37: =IF(SourceП4!BC26<> 0, SourceП4!BC26, 1) -> 7.61 | K37: =SourceП4!O26 -> 1855.7 | S37: =ROUND((SourceП4!FX26/100)*((ROUND(SourceП4!AF26*SourceП4!I26, 2)+ROUND(SourceП4!AE26*SourceП4!I26, 2))), 2) -> 0 | T37: =SourceП4!X26 -> 0 | U37: =ROUND((SourceП4!FY26/100)*((ROUND(SourceП4!AF26*SourceП4!I26, 2)+ROUND(SourceП4!AE26*SourceП4!I26, 2))), 2) -> 0 | V37: =SourceП4!Y26 -> 0 | W37: =IF(SourceП4!BI26<=1,H37, 0) -> 0 | X37: =IF(SourceП4!BI26=2,H37, 0) -> 243.85 | Y37: =IF(SourceП4!BI26=3,H37, 0) -> 0 | Z37: =IF(SourceП4!BI26=4,H37, 0) -> 0
A38: =SourceП4!E27 -> 1,3 | B38: =SourceП4!F27 -> Прайс-лист ВижнПро | C38: Источник вторичного электропитания резервирования СКАТ-1200МDIN Базисная стоимость: 189,31 = [1 700 / 1,18 / 7,61] | D38: =SourceП4!H27 -> ШТ | E38: =SourceП4!I27 -> 1 | F38: =SourceП4!AL27+SourceП4!AM27+SourceП4!AO27 -> 189.31 | H38: =ROUND(SourceП4!AC27*SourceП4!I27, 2)+ROUND(SourceП4!AD27*SourceП4!I27, 2)+ROUND(SourceП4!AF27*SourceП4!I27, 2) -> 189.31 | J38: =IF(SourceП4!BC27<> 0, SourceП4!BC27, 1) -> 7.61 | K38: =SourceП4!O27 -> 1440.65 | S38: =ROUND((SourceП4!FX27/100)*((ROUND(SourceП4!AF27*SourceП4!I27, 2)+ROUND(SourceП4!AE27*SourceП4!I27, 2))), 2) -> 0 | T38: =SourceП4!X27 -> 0 | U38: =ROUND((SourceП4!FY27/100)*((ROUND(SourceП4!AF27*SourceП4!I27, 2)+ROUND(SourceП4!AE27*SourceП4!I27, 2))), 2) -> 0 | V38: =SourceП4!Y27 -> 0 | W38: =IF(SourceП4!BI27<=1,H38, 0) -> 0 | X38: =IF(SourceП4!BI27=2,H38, 0) -> 189.31 | Y38: =IF(SourceП4!BI27=3,H38, 0) -> 0 | Z38: =IF(SourceП4!BI27=4,H38, 0) -> 0
G39: =H29+H30+H32+H33+H34+SUM(H36:H38) -> 1697.69 | J39: =K29+K30+K32+K33+K34+SUM(K36:K38) -> 12919.41 | L39: =SourceП4!U24 -> 30.3 | O39: =G39 -> 1697.69 | P39: =J39 -> 12919.41 | Q39: =L39 -> 30.3 | W39: =IF(SourceП4!BI24<=1,H29+H30+H32+H33+H34, 0) -> 0 | X39: =IF(SourceП4!BI24=2,H29+H30+H32+H33+H34, 0) -> 1088.9 | Y39: =IF(SourceП4!BI24=3,H29+H30+H32+H33+H34, 0) -> 0 | Z39: =IF(SourceП4!BI24=4,H29+H30+H32+H33+H34, 0) -> 0
A40: =SourceП4!E28 -> 2 | B40: =SourceП4!F28 -> м10-08-002-03 | C40: =SourceП4!G28 -> Извещатель ПС автоматический тепловой, дымовой, световой во взрывозащищенном исполнении | D40: =SourceП4!H28 -> ШТ | E40: =SourceП4!I28 -> 71 | F40: =SourceП4!AL28+SourceП4!AM28+SourceП4!AO28 -> 23.03 | I40: =SourceП4!BO28 | S40: =ROUND((SourceП4!FX28/100)*((ROUND(SourceП4!AF28*SourceП4!I28, 2)+ROUND(SourceП4!AE28*SourceП4!I28, 2))), 2) -> 1128.05 | T40: =SourceП4!X28 -> 8584.45 | U40: =ROUND((SourceП4!FY28/100)*((ROUND(SourceП4!AF28*SourceП4!I28, 2)+ROUND(SourceП4!AE28*SourceП4!I28, 2))), 2) -> 846.04 | V40: =SourceП4!Y28 -> 6438.34
C41: Зарплата | F41: =SourceП4!AO28 -> 19.86 | G41: =SourceП4!DG28 | H41: =ROUND(SourceП4!AF28*SourceП4!I28, 2) -> 1410.06 | J41: =IF(SourceП4!BA28<> 0, SourceП4!BA28, 1) -> 7.61 | K41: =SourceП4!S28 -> 10730.56 | R41: =H41 -> 1410.06
C42: Материальные ресурсы | F42: =SourceП4!AL28 -> 3.17 | G42: =SourceП4!DD28 | H42: =ROUND(SourceП4!AC28*SourceП4!I28, 2) -> 225.07 | J42: =IF(SourceП4!BC28<> 0, SourceП4!BC28, 1) -> 7.61 | K42: =SourceП4!P28 -> 1712.78
C43: НР от ФОТ | D43: % | E43: =SourceП4!BZ28 -> 80 | H43: =SUM(S40:S47) -> 1128.05 | J43: =SourceП4!AT28 -> 80 | K43: =SUM(T40:T47) -> 8584.45
C44: СП от ФОТ | D44: % | E44: =SourceП4!CA28 -> 60 | H44: =SUM(U40:U47) -> 846.04 | J44: =SourceП4!AU28 -> 60 | K44: =SUM(V40:V47) -> 6438.34
C45: Затраты труда | D45: чел-ч | E45: =SourceП4!AQ28 -> 1.68 | G45: =SourceП4!DI28 | L45: =SourceП4!U28 -> 119.28
A46: =SourceП4!E29 -> 2,1 | B46: =SourceП4!F29 -> 61.2.02.01-0019 | C46: =SourceП4!G29 -> Извещатель пожарный дымовой ДИП-34А-03 | D46: =SourceП4!H29 -> 10 шт. | E46: =SourceП4!I29 -> 6.7 | F46: =SourceП4!AL29+SourceП4!AM29+SourceП4!AO29 -> 1165.22 | H46: =ROUND(SourceП4!AC29*SourceП4!I29, 2)+ROUND(SourceП4!AD29*SourceП4!I29, 2)+ROUND(SourceП4!AF29*SourceП4!I29, 2) -> 7806.97 | J46: =IF(SourceП4!BC29<> 0, SourceП4!BC29, 1) -> 7.61 | K46: =SourceП4!O29 -> 59411.07 | S46: =ROUND((SourceП4!FX29/100)*((ROUND(SourceП4!AF29*SourceП4!I29, 2)+ROUND(SourceП4!AE29*SourceП4!I29, 2))), 2) -> 0 | T46: =SourceП4!X29 -> 0 | U46: =ROUND((SourceП4!FY29/100)*((ROUND(SourceП4!AF29*SourceП4!I29, 2)+ROUND(SourceП4!AE29*SourceП4!I29, 2))), 2) -> 0 | V46: =SourceП4!Y29 -> 0 | W46: =IF(SourceП4!BI29<=1,H46, 0) -> 0 | X46: =IF(SourceП4!BI29=2,H46, 0) -> 7806.97 | Y46: =IF(SourceП4!BI29=3,H46, 0) -> 0 | Z46: =IF(SourceП4!BI29=4,H46, 0) -> 0
A47: =SourceП4!E30 -> 2,2 | B47: =SourceП4!F30 -> 61.2.02.02-0051 | C47: =SourceП4!G30 -> Извещатель пожарный тепловой максимально- дифференциальный адресно-аналоговый, марка "С2000-ИП-03" | D47: =SourceП4!H30 -> шт. | E47: =SourceП4!I30 -> 4 | F47: =SourceП4!AL30+SourceП4!AM30+SourceП4!AO30 -> 137.34 | H47: =ROUND(SourceП4!AC30*SourceП4!I30, 2)+ROUND(SourceП4!AD30*SourceП4!I30, 2)+ROUND(SourceП4!AF30*SourceП4!I30, 2) -> 549.36 | J47: =IF(SourceП4!BC30<> 0, SourceП4!BC30, 1) -> 7.61 | K47: =SourceП4!O30 -> 4180.63 | S47: =ROUND((SourceП4!FX30/100)*((ROUND(SourceП4!AF30*SourceП4!I30, 2)+ROUND(SourceП4!AE30*SourceП4!I30, 2))), 2) -> 0 | T47: =SourceП4!X30 -> 0 | U47: =ROUND((SourceП4!FY30/100)*((ROUND(SourceП4!AF30*SourceП4!I30, 2)+ROUND(SourceП4!AE30*SourceП4!I30, 2))), 2) -> 0 | V47: =SourceП4!Y30 -> 0 | W47: =IF(SourceП4!BI30<=1,H47, 0) -> 0 | X47: =IF(SourceП4!BI30=2,H47, 0) -> 549.36 | Y47: =IF(SourceП4!BI30=3,H47, 0) -> 0 | Z47: =IF(SourceП4!BI30=4,H47, 0) -> 0
G48: =H41+H42+H43+H44+SUM(H46:H47) -> 11965.55 | J48: =K41+K42+K43+K44+SUM(K46:K47) -> 91057.83 | L48: =SourceП4!U28 -> 119.28 | O48: =G48 -> 11965.55 | P48: =J48 -> 91057.83 | Q48: =L48 -> 119.28 | W48: =IF(SourceП4!BI28<=1,H41+H42+H43+H44, 0) -> 0 | X48: =IF(SourceП4!BI28=2,H41+H42+H43+H44, 0) -> 3609.22 | Y48: =IF(SourceП4!BI28=3,H41+H42+H43+H44, 0) -> 0 | Z48: =IF(SourceП4!BI28=4,H41+H42+H43+H44, 0) -> 0
A49: =SourceП4!E31 -> 3 | B49: =SourceП4!F31 -> м10-01-039-06 | C49: =SourceП4!G31 -> Извещатель пожарный ручной адресный | D49: =SourceП4!H31 -> ШТ | E49: =SourceП4!I31 -> 2 | F49: =SourceП4!AL31+SourceП4!AM31+SourceП4!AO31 -> 17.4 | I49: =SourceП4!BO31 | S49: =ROUND((SourceП4!FX31/100)*((ROUND(SourceП4!AF31*SourceП4!I31, 2)+ROUND(SourceП4!AE31*SourceП4!I31, 2))), 2) -> 27.3 | T49: =SourceП4!X31 -> 207.72 | U49: =ROUND((SourceП4!FY31/100)*((ROUND(SourceП4!AF31*SourceП4!I31, 2)+ROUND(SourceП4!AE31*SourceП4!I31, 2))), 2) -> 20.47 | V49: =SourceП4!Y31 -> 155.79
C50: Зарплата | F50: =SourceП4!AO31 -> 17.06 | G50: =SourceП4!DG31 | H50: =ROUND(SourceП4!AF31*SourceП4!I31, 2) -> 34.12 | J50: =IF(SourceП4!BA31<> 0, SourceП4!BA31, 1) -> 7.61 | K50: =SourceП4!S31 -> 259.65 | R50: =H50 -> 34.12
C51: Материальные ресурсы | F51: =SourceП4!AL31 -> 0.34 | G51: =SourceП4!DD31 | H51: =ROUND(SourceП4!AC31*SourceП4!I31, 2) -> 0.68 | J51: =IF(SourceП4!BC31<> 0, SourceП4!BC31, 1) -> 7.61 | K51: =SourceП4!P31 -> 5.17
C52: НР от ФОТ | D52: % | E52: =SourceП4!BZ31 -> 80 | H52: =SUM(S49:S55) -> 27.3 | J52: =SourceП4!AT31 -> 80 | K52: =SUM(T49:T55) -> 207.72
...

Sheet П5
H3: Приложение 5 к Форме 7
B10: СМЕТА
B12: =IF(SourceП5!G20<>"Новая локальная смета", SourceП5!G20, "")
B14: выполнение работ по монтажу комплекса систем пожарной безопасности в квартире № 6 в здании общежития НИЯУ МИФИ по адресу: 109263, г. Москва, ул. Шкулева, д. 27, стр. 2
B15: (наименование работ и затрат, наименование объекта)
A17: =CONCATENATE("Основание: ", SourceП5!J20) -> Основание:
G20: базовая цена | I20: текущая цена
C21: Сметная стоимость | G21: =SUM(O32:O154)/1000 -> 55.59583 | I21: =(SourceП5!F87/1000) -> 499.23945 | K21: тыс. руб.
C22: Строительные работы | G22: =SUM(W32:W154)/1000 -> 0 | I22: =(SourceП5!F74)/1000 -> 0 | K22: тыс. руб.
C23: Монтажные работы | G23: =SUM(X32:X154)/1000 -> 55.59583 | I23: =(SourceП5!F75)/1000 -> 423.08428 | K23: тыс. руб.
C24: Оборудование | G24: =SUM(Y32:Y154)/1000 -> 0 | I24: =(SourceП5!F66)/1000 -> 0 | K24: тыс. руб.
C25: Прочие работы | G25: =SUM(Z32:Z154)/1000 -> 0 | I25: =(SourceП5!F76+SourceП5!F77)/1000 -> 0 | K25: тыс. руб.
C26: Нормативная трудоемкость | G26: =I26 -> 589.2218 | I26: =(SourceП5!F79+SourceП5!F80) -> 589.2218 | K26: чел. -ч.
C27: Средства на оплату труда | G27: =SUM(R32:R154)/1000 -> 5.99054 | I27: =(SourceП5!F72+ SourceП5!F71)/1000 -> 45.58797 | K27: тыс. руб.
A29: Составлена в ценах III квартал 2017 года
A30: № п/п | B30: Шифр расценки и коды ресурсов | C30: Наименование работ и затрат | D30: Ед. изм. | E30: Кол-во единиц | F30: Цена на ед. изм. | G30: Попра-вочные коэфф. | H30: Стоимость в ценах 2001г. | I30: Пункт коэфф. пересчета | J30: Коэфф. пересчета | K30: Стоимость в текущих ценах | L30: ЗТР всего чел.-час
A31: 1 | B31: 2 | C31: 3 | D31: 4 | E31: 5 | F31: 6 | G31: 7 | H31: 8 | I31: 9 | J31: 10 | K31: 11 | L31: 12
A32: =SourceП5!E24 -> 1 | B32: =SourceП5!F24 -> м10-02-016-06 | C32: =SourceП5!G24 -> Установка контролера, блока сигнально-пускового,контрольно-пускового,блок индикации,блоки питания | D32: =SourceП5!H24 -> ШТ | E32: =SourceП5!I24 -> 3 | F32: =SourceП5!AL24+SourceП5!AM24+SourceП5!AO24 -> 199.95 | I32: =SourceП5!BO24 | S32: =ROUND((SourceП5!FX24/100)*((ROUND(SourceП5!AF24*SourceП5!I24, 2)+ROUND(SourceП5!AE24*SourceП5!I24, 2))), 2) -> 279.46 | T32: =SourceП5!X24 -> 2126.66 | U32: =ROUND((SourceП5!FY24/100)*((ROUND(SourceП5!AF24*SourceП5!I24, 2)+ROUND(SourceП5!AE24*SourceП5!I24, 2))), 2) -> 209.59 | V32: =SourceП5!Y24 -> 1595
C33: Зарплата | F33: =SourceП5!AO24 -> 112.01 | G33: =SourceП5!DG24 | H33: =ROUND(SourceП5!AF24*SourceП5!I24, 2) -> 336.03 | J33: =IF(SourceП5!BA24<> 0, SourceП5!BA24, 1) -> 7.61 | K33: =SourceП5!S24 -> 2557.19 | R33: =H33 -> 336.03
C34: Эксплуатация машин | F34: =SourceП5!AM24 -> 39.6 | G34: =SourceП5!DE24 | H34: =ROUND(SourceП5!AD24*SourceП5!I24, 2) -> 118.8 | J34: =IF(SourceП5!BB24<> 0, SourceП5!BB24, 1) -> 7.61 | K34: =SourceП5!Q24 -> 904.07
C35: в т.ч. зарплата машинистов | F35: =SourceП5!AN24 -> 4.43 | G35: =SourceП5!DF24 | H35: =ROUND(SourceП5!AE24*SourceП5!I24, 2) -> 13.29 | J35: =IF(SourceП5!BS24<> 0, SourceП5!BS24, 1) -> 7.61 | K35: =SourceП5!R24 -> 101.14 | R35: =H35 -> 13.29
C36: Материальные ресурсы | F36: =SourceП5!AL24 -> 48.34 | G36: =SourceП5!DD24 | H36: =ROUND(SourceП5!AC24*SourceП5!I24, 2) -> 145.02 | J36: =IF(SourceП5!BC24<> 0, SourceП5!BC24, 1) -> 7.61 | K36: =SourceП5!P24 -> 1103.6
C37: НР от ФОТ | D37: % | E37: =SourceП5!BZ24 -> 80 | H37: =SUM(S32:S42) -> 279.46 | J37: =SourceП5!AT24 -> 80 | K37: =SUM(T32:T42) -> 2126.66
C38: СП от ФОТ | D38: % | E38: =SourceП5!CA24 -> 60 | H38: =SUM(U32:U42) -> 209.59 | J38: =SourceП5!AU24 -> 60 | K38: =SUM(V32:V42) -> 1595
C39: Затраты труда | D39: чел-ч | E39: =SourceП5!AQ24 -> 10.1 | G39: =SourceП5!DI24 | L39: =SourceП5!U24 -> 30.3
A40: =SourceП5!E25 -> 1,1 | B40: =SourceП5!F25 -> 61.2.07.04-0002 | C40: =SourceП5!G25 -> Контроллер двухпроводной линии связи, марка "С2000-КДЛ" | D40: =SourceП5!H25 -> шт. | E40: =SourceП5!I25 -> 1 | F40: =SourceП5!AL25+SourceП5!AM25+SourceП5!AO25 -> 175.63 | H40: =ROUND(SourceП5!AC25*SourceП5!I25, 2)+ROUND(SourceП5!AD25*SourceП5!I25, 2)+ROUND(SourceП5!AF25*SourceП5!I25, 2) -> 175.63 | J40: =IF(SourceП5!BC25<> 0, SourceП5!BC25, 1) -> 7.61 | K40: =SourceП5!O25 -> 1336.54 | S40: =ROUND((SourceП5!FX25/100)*((ROUND(SourceП5!AF25*SourceП5!I25, 2)+ROUND(SourceП5!AE25*SourceП5!I25, 2))), 2) -> 0 | T40: =SourceП5!X25 -> 0 | U40: =ROUND((SourceП5!FY25/100)*((ROUND(SourceП5!AF25*SourceП5!I25, 2)+ROUND(SourceП5!AE25*SourceП5!I25, 2))), 2) -> 0 | V40: =SourceП5!Y25 -> 0 | W40: =IF(SourceП5!BI25<=1,H40, 0) -> 0 | X40: =IF(SourceП5!BI25=2,H40, 0) -> 175.63 | Y40: =IF(SourceП5!BI25=3,H40, 0) -> 0 | Z40: =IF(SourceП5!BI25=4,H40, 0) -> 0
A41: =SourceП5!E26 -> 1,2 | B41: =SourceП5!F26 -> 61.2.07.02-0034 | C41: =SourceП5!G26 -> Блок контрольно-пусковой, марка "С2000-КПБ" | D41: =SourceП5!H26 -> шт. | E41: =SourceП5!I26 -> 1 | F41: =SourceП5!AL26+SourceП5!AM26+SourceП5!AO26 -> 243.85 | H41: =ROUND(SourceП5!AC26*SourceП5!I26, 2)+ROUND(SourceП5!AD26*SourceП5!I26, 2)+ROUND(SourceП5!AF26*SourceП5!I26, 2) -> 243.85 | J41: =IF(SourceП5!BC26<> 0, SourceП5!BC26, 1) -> 7.61 | K41: =SourceП5!O26 -> 1855.7 | S41: =ROUND((SourceП5!FX26/100)*((ROUND(SourceП5!AF26*SourceП5!I26, 2)+ROUND(SourceП5!AE26*SourceП5!I26, 2))), 2) -> 0 | T41: =SourceП5!X26 -> 0 | U41: =ROUND((SourceП5!FY26/100)*((ROUND(SourceП5!AF26*SourceП5!I26, 2)+ROUND(SourceП5!AE26*SourceП5!I26, 2))), 2) -> 0 | V41: =SourceП5!Y26 -> 0 | W41: =IF(SourceП5!BI26<=1,H41, 0) -> 0 | X41: =IF(SourceП5!BI26=2,H41, 0) -> 243.85 | Y41: =IF(SourceП5!BI26=3,H41, 0) -> 0 | Z41: =IF(SourceП5!BI26=4,H41, 0) -> 0
A42: =SourceП5!E27 -> 1,3 | B42: =SourceП5!F27 -> Прайс-лист ВижнПро | C42: Источник вторичного электропитания резервирования СКАТ-1200МDIN Базисная стоимость: 189,31 = [1 700 / 1,18 / 7,61] | D42: =SourceП5!H27 -> ШТ | E42: =SourceП5!I27 -> 1 | F42: =SourceП5!AL27+SourceП5!AM27+SourceП5!AO27 -> 189.31 | H42: =ROUND(SourceП5!AC27*SourceП5!I27, 2)+ROUND(SourceП5!AD27*SourceП5!I27, 2)+ROUND(SourceП5!AF27*SourceП5!I27, 2) -> 189.31 | J42: =IF(SourceП5!BC27<> 0, SourceП5!BC27, 1) -> 7.61 | K42: =SourceП5!O27 -> 1440.65 | S42: =ROUND((SourceП5!FX27/100)*((ROUND(SourceП5!AF27*SourceП5!I27, 2)+ROUND(SourceП5!AE27*SourceП5!I27, 2))), 2) -> 0 | T42: =SourceП5!X27 -> 0 | U42: =ROUND((SourceП5!FY27/100)*((ROUND(SourceП5!AF27*SourceП5!I27, 2)+ROUND(SourceП5!AE27*SourceП5!I27, 2))), 2) -> 0 | V42: =SourceП5!Y27 -> 0 | W42: =IF(SourceП5!BI27<=1,H42, 0) -> 0 | X42: =IF(SourceП5!BI27=2,H42, 0) -> 189.31 | Y42: =IF(SourceП5!BI27=3,H42, 0) -> 0 | Z42: =IF(SourceП5!BI27=4,H42, 0) -> 0
G43: =H33+H34+H36+H37+H38+SUM(H40:H42) -> 1697.69 | J43: =K33+K34+K36+K37+K38+SUM(K40:K42) -> 12919.41 | L43: =SourceП5!U24 -> 30.3 | O43: =G43 -> 1697.69 | P43: =J43 -> 12919.41 | Q43: =L43 -> 30.3 | W43: =IF(SourceП5!BI24<=1,H33+H34+H36+H37+H38, 0) -> 0 | X43: =IF(SourceП5!BI24=2,H33+H34+H36+H37+H38, 0) -> 1088.9 | Y43: =IF(SourceП5!BI24=3,H33+H34+H36+H37+H38, 0) -> 0 | Z43: =IF(SourceП5!BI24=4,H33+H34+H36+H37+H38, 0) -> 0
A44: =SourceП5!E28 -> 2 | B44: =SourceП5!F28 -> м10-08-002-03 | C44: =SourceП5!G28 -> Извещатель ПС автоматический тепловой, дымовой, световой во взрывозащищенном исполнении | D44: =SourceП5!H28 -> ШТ | E44: =SourceП5!I28 -> 88 | F44: =SourceП5!AL28+SourceП5!AM28+SourceП5!AO28 -> 23.03 | I44: =SourceП5!BO28 | S44: =ROUND((SourceП5!FX28/100)*((ROUND(SourceП5!AF28*SourceП5!I28, 2)+ROUND(SourceП5!AE28*SourceП5!I28, 2))), 2) -> 1398.14 | T44: =SourceП5!X28 -> 10639.87 | U44: =ROUND((SourceП5!FY28/100)*((ROUND(SourceП5!AF28*SourceП5!I28, 2)+ROUND(SourceП5!AE28*SourceП5!I28, 2))), 2) -> 1048.61 | V44: =SourceП5!Y28 -> 7979.9
C45: Зарплата | F45: =SourceП5!AO28 -> 19.86 | G45: =SourceП5!DG28 | H45: =ROUND(SourceП5!AF28*SourceП5!I28, 2) -> 1747.68 | J45: =IF(SourceП5!BA28<> 0, SourceП5!BA28, 1) -> 7.61 | K45: =SourceП5!S28 -> 13299.84 | R45: =H45 -> 1747.68
C46: Материальные ресурсы | F46: =SourceП5!AL28 -> 3.17 | G46: =SourceП5!DD28 | H46: =ROUND(SourceП5!AC28*SourceП5!I28, 2) -> 278.96 | J46: =IF(SourceП5!BC28<> 0, SourceП5!BC28, 1) -> 7.61 | K46: =SourceП5!P28 -> 2122.89
C47: НР от ФОТ | D47: % | E47: =SourceП5!BZ28 -> 80 | H47: =SUM(S44:S51) -> 1398.14 | J47: =SourceП5!AT28 -> 80 | K47: =SUM(T44:T51) -> 10639.87
C48: СП от ФОТ | D48: % | E48: =SourceП5!CA28 -> 60 | H48: =SUM(U44:U51) -> 1048.61 | J48: =SourceП5!AU28 -> 60 | K48: =SUM(V44:V51) -> 7979.9
C49: Затраты труда | D49: чел-ч | E49: =SourceП5!AQ28 -> 1.68 | G49: =SourceП5!DI28 | L49: =SourceП5!U28 -> 147.84
A50: =SourceП5!E29 -> 2,1 | B50: =SourceП5!F29 -> 61.2.02.01-0019 | C50: =SourceП5!G29 -> Извещатель пожарный дымовой ДИП-34А-03 | D50: =SourceП5!H29 -> 10 шт. | E50: =SourceП5!I29 -> 8.4 | F50: =SourceП5!AL29+SourceП5!AM29+SourceП5!AO29 -> 1165.22 | H50: =ROUND(SourceП5!AC29*SourceП5!I29, 2)+ROUND(SourceП5!AD29*SourceП5!I29, 2)+ROUND(SourceП5!AF29*SourceП5!I29, 2) -> 9787.85 | J50: =IF(SourceП5!BC29<> 0, SourceП5!BC29, 1) -> 7.61 | K50: =SourceП5!O29 -> 74485.52 | S50: =ROUND((SourceП5!FX29/100)*((ROUND(SourceП5!AF29*SourceП5!I29, 2)+ROUND(SourceП5!AE29*SourceП5!I29, 2))), 2) -> 0 | T50: =SourceП5!X29 -> 0 | U50: =ROUND((SourceП5!FY29/100)*((ROUND(SourceП5!AF29*SourceП5!I29, 2)+ROUND(SourceП5!AE29*SourceП5!I29, 2))), 2) -> 0 | V50: =SourceП5!Y29 -> 0 | W50: =IF(SourceП5!BI29<=1,H50, 0) -> 0 | X50: =IF(SourceП5!BI29=2,H50, 0) -> 9787.85 | Y50: =IF(SourceП5!BI29=3,H50, 0) -> 0 | Z50: =IF(SourceП5!BI29=4,H50, 0) -> 0
A51: =SourceП5!E30 -> 2,2 | B51: =SourceП5!F30 -> 61.2.02.02-0051 | C51: =SourceП5!G30 -> Извещатель пожарный тепловой максимально- дифференциальный адресно-аналоговый, марка "С2000-ИП-03" | D51: =SourceП5!H30 -> шт. | E51: =SourceП5!I30 -> 4 | F51: =SourceП5!AL30+SourceП5!AM30+SourceП5!AO30 -> 137.34 | H51: =ROUND(SourceП5!AC30*SourceП5!I30, 2)+ROUND(SourceП5!AD30*SourceП5!I30, 2)+ROUND(SourceП5!AF30*SourceП5!I30, 2) -> 549.36 | J51: =IF(SourceП5!BC30<> 0, SourceП5!BC30, 1) -> 7.61 | K51: =SourceП5!O30 -> 4180.63 | S51: =ROUND((SourceП5!FX30/100)*((ROUND(SourceП5!AF30*SourceП5!I30, 2)+ROUND(SourceП5!AE30*SourceП5!I30, 2))), 2) -> 0 | T51: =SourceП5!X30 -> 0 | U51: =ROUND((SourceП5!FY30/100)*((ROUND(SourceП5!AF30*SourceП5!I30, 2)+ROUND(SourceП5!AE30*SourceП5!I30, 2))), 2) -> 0 | V51: =SourceП5!Y30 -> 0 | W51: =IF(SourceП5!BI30<=1,H51, 0) -> 0 | X51: =IF(SourceП5!BI30=2,H51, 0) -> 549.36 | Y51: =IF(SourceП5!BI30=3,H51, 0) -> 0 | Z51: =IF(SourceП5!BI30=4,H51, 0) -> 0
G52: =H45+H46+H47+H48+SUM(H50:H51) -> 14810.6 | J52: =K45+K46+K47+K48+SUM(K50:K51) -> 112708.65 | L52: =SourceП5!U28 -> 147.84 | O52: =G52 -> 14810.6 | P52: =J52 -> 112708.65 | Q52: =L52 -> 147.84 | W52: =IF(SourceП5!BI28<=1,H45+H46+H47+H48, 0) -> 0 | X52: =IF(SourceП5!BI28=2,H45+H46+H47+H48, 0) -> 4473.39 | Y52: =IF(SourceП5!BI28=3,H45+H46+H47+H48, 0) -> 0 | Z52: =IF(SourceП5!BI28=4,H45+H46+H47+H48, 0) -> 0
A53: =SourceП5!E31 -> 3 | B53: =SourceП5!F31 -> м10-01-039-06 | C53: =SourceП5!G31 -> Извещатель пожарный ручной адресный | D53: =SourceП5!H31 -> ШТ | E53: =SourceП5!I31 -> 2 | F53: =SourceП5!AL31+SourceП5!AM31+SourceП5!AO31 -> 17.4 | I53: =SourceП5!BO31 | S53: =ROUND((SourceП5!FX31/100)*((ROUND(SourceП5!AF31*SourceП5!I31, 2)+ROUND(SourceП5!AE31*SourceП5!I31, 2))), 2) -> 27.3 | T53: =SourceП5!X31 -> 207.72 | U53: =ROUND((SourceП5!FY31/100)*((ROUND(SourceП5!AF31*SourceП5!I31, 2)+ROUND(SourceП5!AE31*SourceП5!I31, 2))), 2) -> 20.47 | V53: =SourceП5!Y31 -> 155.79
C54: Зарплата | F54: =SourceП5!AO31 -> 17.06 | G54: =SourceП5!DG31 | H54: =ROUND(SourceП5!AF31*SourceП5!I31, 2) -> 34.12 | J54: =IF(SourceП5!BA31<> 0, SourceП5!BA31, 1) -> 7.61 | K54: =SourceП5!S31 -> 259.65 | R54: =H54 -> 34.12
...

Sheet П6
H3: Приложение 6 к Форме 7
B10: СМЕТА
B11: =IF(SourceП6!G20<>"Новая локальная смета", SourceП6!G20, "")
B13: выполнение работ по монтажу комплекса систем пожарной безопасности в квартире № 7 в здании общежития НИЯУ МИФИ по адресу: 109263, г. Москва, ул. Шкулева, д. 27, стр. 2
G15: базовая цена | I15: текущая цена
C16: Сметная стоимость | G16: =SUM(O27:O132)/1000 -> 27.73835 | I16: =(SourceП6!F81/1000) -> 249.08451 | K16: тыс. руб.
C17: Строительные работы | G17: =SUM(W27:W132)/1000 -> 0 | I17: =(SourceП6!F68)/1000 -> 0 | K17: тыс. руб.
C18: Монтажные работы | G18: =SUM(X27:X132)/1000 -> 27.73835 | I18: =(SourceП6!F69)/1000 -> 211.08857 | K18: тыс. руб.
C19: Оборудование | G19: =SUM(Y27:Y132)/1000 -> 0 | I19: =(SourceП6!F60)/1000 -> 0 | K19: тыс. руб.
C20: Прочие работы | G20: =SUM(Z27:Z132)/1000 -> 0 | I20: =(SourceП6!F70+SourceП6!F71)/1000 -> 0 | K20: тыс. руб.
C21: Нормативная трудоемкость | G21: =I21 -> 303.2822 | I21: =(SourceП6!F73+SourceП6!F74) -> 303.2822 | K21: чел. -ч.
C22: Средства на оплату труда | G22: =SUM(R27:R132)/1000 -> 2.91336 | I22: =(SourceП6!F66+ SourceП6!F65)/1000 -> 22.17055 | K22: тыс. руб.
A24: Составлена в ценах III квартал 2017 года
A25: № п/п | B25: Шифр расценки и коды ресурсов | C25: Наименование работ и затрат | D25: Ед. изм. | E25: Кол-во единиц | F25: Цена на ед. изм. | G25: Попра-вочные коэфф. | H25: Стоимость в ценах 2001г. | I25: Пункт коэфф. пересчета | J25: Коэфф. пересчета | K25: Стоимость в текущих ценах | L25: ЗТР всего чел.-час
A26: 1 | B26: 2 | C26: 3 | D26: 4 | E26: 5 | F26: 6 | G26: 7 | H26: 8 | I26: 9 | J26: 10 | K26: 11 | L26: 12
