Workbook
Name Constr: '25203'!#REF!
Name Constr: '25222'!#REF!
Name FOT: '25203'!$D$18
Name FOT: '25222'!$D$18
Name Ind: '25203'!$H$7
Name Ind: '25222'!$H$7
Name Obj: '25203'!$E$10
Name Obj: '25222'!$E$10
Name Obosn: '25203'!$D$14
Name Obosn: '25222'!$D$14
Name SmPr: '25203'!$D$15
Name SmPr: '25222'!$D$15
Name аааааппппппрррппппппп: #REF!
Name аааааппппппрррппппппп: #REF!
Name аааааппппппрррппппппп: #REF!
Name аараооооооооооооо: #REF!
Name аараооооооооооооо: #REF!
Name аараооооооооооооо: #REF!
Name автом: #REF!
Name автом: #REF!
Name автом: #REF!
Name алшрльоплварл: #REF!
Name алшрльоплварл: #REF!
Name алшрльоплварл: #REF!
Name аолвлддддддддддддддддввввввввв: #REF!
Name аолвлддддддддддддддддввввввввв: #REF!
Name аолвлддддддддддддддддввввввввв: #REF!
Name апарв: #REF!
Name апарв: #REF!
Name апарв: #REF!
Name апрлдджаоырыфрпопрлпрлпрлп: #REF!
Name апрлдджаоырыфрпопрлпрлпрлп: #REF!
Name апрлдджаоырыфрпопрлпрлпрлп: #REF!
Name арлггаджаш: #REF!
Name арлггаджаш: #REF!
Name арлггаджаш: #REF!
Name ароррбллтблпроорапииас: #REF!
Name ароррбллтблпроорапииас: #REF!
Name ароррбллтблпроорапииас: #REF!
Name арррррблллпдрлдддддддддд: #REF!
Name арррррблллпдрлдддддддддд: #REF!
Name арррррблллпдрлдддддддддд: #REF!
Name варпаааааааааа: #REF!
Name варпаааааааааа: #REF!
Name варпаааааааааа: #REF!
Name ввпьььььлднд: #REF!
Name ввпьььььлднд: #REF!
Name ввпьььььлднд: #REF!
Name вед: #REF!
Name вед: #REF!
Name вед: #REF!
Name вертикальная: #REF!
Name вертикальная: #REF!
Name вертикальная: #REF!
Name вертикплан: #REF!
Name вертикплан: #REF!
Name вертикплан: #REF!
Name волен: #REF!
Name волен: #REF!
Name волен: #REF!

Sheet 25203
A1: СОГЛАСОВАНО: | E1: ФГУП "Комбинат "Электрохимприбор" | L1: УТВЕРЖДАЮ:
G2: (наименование стройки) | L2: Зам.генерального директора
A3: _________________ | M3: Е.В. Гордеев
A4: " _____ " ________________ 2014 г. | L4: __________________
L5: "______ " __________2014 г.
H7: ЛОКАЛЬНЫЙ СМЕТНЫЙ РАСЧЕТ № 25203
H8: (локальная смета)
C10: на | D10: монтажные работы по строительству здания 637. Площадка 6
E11: Раздел: Электроснабжение (наружные сети)
H12: (наименование работ и затрат, наименование объекта)
D14: Основание: Проект №24799-13-ЭС
D15: Сметная стоимость _______________________________________________________________________________________________ | J15: ___________________________22,524 | L15: тыс. руб.
D16: строительных работ _______________________________________________________________________________________________ | J16: _______________________________________________________________________________________________4,835 | L16: тыс. руб.
D17: монтажных работ _______________________________________________________________________________________________ | J17: _______________________________________________________________________________________________17,689 | L17: тыс. руб.
D18: Средства на оплату труда _______________________________________________________________________________________________ | J18: ___________________________1,717 | L18: тыс. руб.
D19: Сметная трудоемкость _______________________________________________________________________________________________ | J19: _______________________________________________________________________________________________84,79 | L19: чел.час
D20: Составлен(а) в базовых ценах 2001г. в редакции 2009г.
A21: № пп | B21: Обоснование | C21: Наименование | D21: Ед. изм. | E21: Кол. | F21: Стоимость единицы, руб. | J21: Общая стоимость, руб. | N21: Т/з осн. раб.на ед. | O21: Т/з осн. раб. Всего | P21: Т/з мех. на ед. | Q21: Т/з мех. Всего
F22: Всего | G22: В том числе | J22: Всего | K22: В том числе
G23: Осн.З/п | H23: Эк.Маш | I23: З/пМех | K23: Осн.З/п | L23: Эк.Маш | M23: З/пМех
A24: 1 | B24: 2 | C24: 3 | D24: 4 | E24: 5 | F24: 6 | G24: 7 | H24: 8 | I24: 9 | J24: 10 | K24: 11 | L24: 12 | M24: 13 | N24: 14 | O24: 15 | P24: 16 | Q24: 17
A25: Раздел 1. Монтажные работы (наружные сети)
A26: 1 | B26: ФССЦ-504-0308 | C26: Ящики силовые серии ЯРП типа ЯРП-100 на 100А КОЭФ. К ПОЗИЦИИ: Приведение расценок ФЕР к территориальному уровню (Письмо УРЦЦС Ц-297 от 12.04.2011) ОЗП=1,41; ЭМ=1,242; ЗПМ=1,41; МАТ=1,052 | D26: шт. | E26: 1 | F26: 849.05 | J26: 849
A27: 2 | B27: ТЕРм08-03-521-01 | C27: Рубильник на плите с центральной или боковой рукояткой или управлением штангой, устанавливаемый на металлическом основании, однополюсный на ток до 250 А | D27: 1 шт. | E27: 1 | F27: 55 | G27: 17.7 | H27: 0.33 | J27: 55 | K27: 18 | N27: 1.18 | O27: 1.18
A28: 3 | B28: ТЕРм08-02-472-06 | C28: Проводник заземляющий открыто по строительным основаниям из полосовой стали сечением 100 мм2 | D28: 100 м | E28: 0.15 | F28: 1351.39 | G28: 251.75 | H28: 85.67 | I28: 3.46 | J28: 203 | K28: 38 | L28: 13 | M28: 1 | N28: 19 | O28: 2.85 | P28: 0.19 | Q28: 0.03
A29: 4 | B29: ФССЦ-501-8462 | C29: Кабель силовой с медными жилами с поливинилхлоридной изоляцией и оболочкой, не распространяющий горение марки ВВГнг, напряжением 0,66 кВ, с числом жил - 5 и сечением 25 мм2 КОЭФ. К ПОЗИЦИИ: Приведение расценок ФЕР к территориальному уровню (Письмо УРЦЦС Ц-297 от 12.04.2011) ОЗП=1,41; ЭМ=1,242; ЗПМ=1,41; МАТ=1,052 | D29: 1000 м | E29: 0.005 | F29: 79969.35 | J29: 400
A30: 5 | B30: ТЕРм08-02-146-01 | C30: Кабель до 35 кВ с креплением накладными скобами, масса 1 м кабеля до 0,5 кг КОЭФ. К ПОЗИЦИИ: Т.ч. п.1.8.3 Производство работ на высоте св.2 до 8 м ОЗП=1,05; ТЗ=1,05 | D30: 100 м кабеля | E30: 0.05 | F30: 2838.69 | G30: 209.15 | H30: 1292.95 | I30: 147.72 | J30: 142 | K30: 10 | L30: 65 | M30: 7 | N30: 15.44 | O30: 0.77 | P30: 8.36 | Q30: 0.42
A31: 6 | B31: Цена поставщика 2014г. | C31: Кабель силовой медный с ПВХ изоляцией с защитным покровом типа БбШв пониженной горючести сечением 5х25 | D31: 1000м | E31: 0.095 | F31: 77016,61 543460/1,18/5,98 | J31: 7317
A32: 7 | B32: ТЕРм08-02-142-01 | C32: Устройство постели при одном кабеле в траншее | D32: 100 м кабеля | E32: 0.25 | F32: 1549.97 | G32: 89.84 | H32: 1458.33 | I32: 90.82 | J32: 387 | K32: 22 | L32: 365 | M32: 23 | N32: 6.63 | O32: 1.66 | P32: 4.99 | Q32: 1.25
A33: 8 | B33: ТЕРм08-02-142-02 | C33: На каждый последующий кабель добавлять к расценке 08-02-142-01 | D33: 100 м кабеля | E33: 0.25 | F33: 452.33 | G33: 33.74 | H33: 417.92 | I33: 26.03 | J33: 113 | K33: 8 | L33: 104 | M33: 7 | N33: 2.49 | O33: 0.62 | P33: 1.43 | Q33: 0.36
A34: 9 | B34: ТЕРм08-02-143-01 | C34: Покрытие кабеля, проложенного в траншее кирпичом одного кабеля | D34: 100 м кабеля | E34: 0.18 | F34: 1329.11 | G34: 88.21 | H34: 1239.14 | I34: 77.17 | J34: 239 | K34: 16 | L34: 223 | M34: 14 | N34: 6.51 | O34: 1.17 | P34: 4.24 | Q34: 0.76
A35: 10 | B35: ТЕРм08-02-143-02 | C35: Покрытие кабеля, проложенного в траншее кирпичом каждого последующего | D35: 100 м кабеля | E35: 0.18 | F35: 789.31 | G35: 46.07 | H35: 742.32 | I35: 46.23 | J35: 142 | K35: 8 | L35: 134 | M35: 8 | N35: 3.4 | O35: 0.61 | P35: 2.54 | Q35: 0.46
A36: 11 | B36: ТСЦ-404-0005 | C36: Кирпич керамический одинарный, размером 250х120х65 мм, марка 100 | D36: 1000 шт. | E36: 0.468 | F36: 1006.39 | J36: 471
A37: 12 | B37: ТЕРм08-02-148-01 | C37: Кабель до 35 кВ в проложенных трубах, блоках и коробах, масса 1 м кабеля до 1 кг ( в траншее) | D37: 100 м кабеля | E37: 0.55 | F37: 798.84 | G37: 168.02 | H37: 544.81 | I37: 57.87 | J37: 439 | K37: 92 | L37: 300 | M37: 32 | N37: 12.4 | O37: 6.82 | P37: 3.39 | Q37: 1.86
A38: 13 | B38: ТЕРм08-02-148-01 | C38: Кабель до 35 кВ в проложенных трубах, блоках и коробах, масса 1 м кабеля до 1 кг (по стене) КОЭФ. К ПОЗИЦИИ: Т.ч. п.1.8.3 Производство работ на высоте св.2 до 8 м ОЗП=1,05; ТЗ=1,05 | D38: 100 м кабеля | E38: 0.1 | F38: 807.24 | G38: 176.42 | H38: 544.81 | I38: 57.87 | J38: 81 | K38: 18 | L38: 54 | M38: 6 | N38: 13.02 | O38: 1.3 | P38: 3.39 | Q38: 0.34
A39: 14 | B39: ТЕРм08-02-146-01 | C39: Кабель до 35 кВ с креплением накладными скобами, масса 1 м кабеля до 0,5 кг КОЭФ. К ПОЗИЦИИ: Т.ч. п.1.8.3 Производство работ на высоте св.2 до 8 м ОЗП=1,05; ТЗ=1,05 | D39: 100 м кабеля | E39: 0.3 | F39: 2838.69 | G39: 209.15 | H39: 1292.95 | I39: 147.72 | J39: 852 | K39: 63 | L39: 388 | M39: 44 | N39: 15.44 | O39: 4.63 | P39: 8.36 | Q39: 2.51
A40: 15 | B40: ТЕР22-01-011-03 | C40: Укладка стальных водопроводных труб диаметром 100 мм ( в траншее) | D40: 1 км | E40: 0.014 | F40: 102266.83 | G40: 5150.27 | H40: 4754.2 | I40: 605.7 | J40: 1432 | K40: 72 | L40: 67 | M40: 8 | N40: 353 | O40: 4.94 | P40: 41.26 | Q40: 0.58
A41: 16 | B41: ТСЦ-103-0006 | C41: Трубы стальные сварные водогазопроводные с резьбой черные легкие (неоцинкованные) диаметр условного прохода 50 мм, толщина стенки 3 мм | D41: м | E41: 10 | F41: 40.14 | J41: 401
A42: 17 | B42: ТЕРм08-02-407-03 | C42: Труба стальная по установленным конструкциям, по стенам с креплением скобами, диаметр до 50 мм КОЭФ. К ПОЗИЦИИ: Т.ч. п.1.8.3 Производство работ на высоте св.2 до 8 м ОЗП=1,05; ТЗ=1,05 | D42: 100 м | E42: 0.1 | F42: 3580.4 | G42: 659.45 | H42: 1373.2 | I42: 497.53 | J42: 358 | K42: 66 | L42: 137 | M42: 50 | N42: 49.77 | O42: 4.98 | P42: 31.71 | Q42: 3.17
A43: 18 | B43: ТЕРм08-02-144-04 | C43: Присоединение к зажимам жил проводов или кабелей сечением до 35 мм2 КОЭФ. К ПОЗИЦИИ: Т.ч. п.1.8.3 Производство работ на высоте св.2 до 8 ОЗП=1,05; ТЗ=1,05 | D43: 100 шт. | E43: 0.2 | F43: 247.93 | G43: 243.3 | J43: 50 | K43: 49 | N43: 17.96 | O43: 3.59
...

Sheet 25222
A1: СОГЛАСОВАНО: | E1: ФГУП "Комбинат "Электрохимприбор" | L1: УТВЕРЖДАЮ:
G2: (наименование стройки) | L2: Зам.генерального директора
A3: _________________ | M3: Е.В. Гордеев
A4: " _____ " ________________ 2014 г. | L4: __________________
L5: "______ " __________2014 г.
H7: ЛОКАЛЬНЫЙ СМЕТНЫЙ РАСЧЕТ № 25222
H8: (локальная смета)
C10: на | D10: монтажные работы по строительству здания 637. Площадка 6
E11: Раздел: Телефонная связь (наружные сети)
H12: (наименование работ и затрат, наименование объекта)
D14: Основание: Проект №24799-13-ЭС
D15: Сметная стоимость _______________________________________________________________________________________________ | J15: ___________________________6,340 | L15: тыс. руб.
D16: строительных работ _______________________________________________________________________________________________ | J16: _______________________________________________________________________________________________0,551 | L16: тыс. руб.
D17: монтажных работ _______________________________________________________________________________________________ | J17: _______________________________________________________________________________________________5,789 | L17: тыс. руб.
D18: Средства на оплату труда _______________________________________________________________________________________________ | J18: ___________________________0,642 | L18: тыс. руб.
D19: Сметная трудоемкость _______________________________________________________________________________________________ | J19: _______________________________________________________________________________________________30,36 | L19: чел.час
D20: Составлен(а) в базовых ценах 2001г. в редакции 2009г.
A21: № пп | B21: Обоснование | C21: Наименование | D21: Ед. изм. | E21: Кол. | F21: Стоимость единицы, руб. | J21: Общая стоимость, руб. | N21: Т/з осн. раб.на ед. | O21: Т/з осн. раб. Всего | P21: Т/з мех. на ед. | Q21: Т/з мех. Всего
F22: Всего | G22: В том числе | J22: Всего | K22: В том числе
G23: Осн.З/п | H23: Эк.Маш | I23: З/пМех | K23: Осн.З/п | L23: Эк.Маш | M23: З/пМех
A24: 1 | B24: 2 | C24: 3 | D24: 4 | E24: 5 | F24: 6 | G24: 7 | H24: 8 | I24: 9 | J24: 10 | K24: 11 | L24: 12 | M24: 13 | N24: 14 | O24: 15 | P24: 16 | Q24: 17
A25: Раздел 1. Монтажные работы (телефонная связь наружные сети)
A26: 1 | B26: Цена поставщика 2014г. | C26: Распределительная коробка Kronection BOX I | D26: 1 шт. | E26: 2 | F26: 191,46 1351/1,18/5,98 | J26: 383
A27: 2 | B27: Цена поставщика 2014г. | C27: Бокс наружной установки для плинтов LSA-PLUS типоряд 2 емкостью до 50 пар с монтажным хомутом, IP54 (ВС 40) | D27: шт. | E27: 2 | F27: 346,88 54,31*45,07/1,18/5,98 | J27: 694
A28: 3 | B28: Цена поставщика 2014г. | C28: Замок ВС 40/50 | D28: шт. | E28: 2 | F28: 118,61 18,57*45,07/1,18/5,98 | J28: 237
A29: 4 | B29: Цена поставщика 2014г. | C29: Плинт LSA-PLUS 2/10 с нормально замкнутыми контактами | D29: шт. | E29: 6 | F29: 38,39 6,01*45,07/1,18/5,98 | J29: 230
A30: 5 | B30: ТЕРм08-03-573-04 | C30: Шкаф (бокс наружной установки) навесной, высота, ширина и глубина до 600х600х350 мм | D30: 1 шт. | E30: 2 | F30: 99.26 | G30: 33.11 | H30: 62.05 | I30: 4.71 | J30: 199 | K30: 66 | L30: 124 | M30: 9 | N30: 2.37 | O30: 4.74 | P30: 0.29 | Q30: 0.58
A31: 6 | B31: Цена поставщика 2014г. | C31: Кабели связи с полиэтиленовой изоляцией, с алюмополиэтиленовым экраном, марки ТППэп3Б 10х2х0,5 | D31: 1000 м | E31: 0.095 | F31: 9189,04 64841,55/1,18/5,98 | J31: 873
A32: 7 | B32: ТЕРм08-02-148-01 | C32: Кабель до 35 кВ в проложенных трубах, блоках и коробах, масса 1 м кабеля до 1 кг ( в траншее) | D32: 100 м кабеля | E32: 0.55 | F32: 798.84 | G32: 168.02 | H32: 544.81 | I32: 57.87 | J32: 439 | K32: 92 | L32: 300 | M32: 32 | N32: 12.4 | O32: 6.82 | P32: 3.39 | Q32: 1.86
A33: 8 | B33: ТЕРм08-02-148-01 | C33: Кабель до 35 кВ в проложенных трубах, блоках и коробах, масса 1 м кабеля до 1 кг (по стене) КОЭФ. К ПОЗИЦИИ: Т.ч. п.1.8.3 Производство работ на высоте св.2 до 8 м ОЗП=1,05; ТЗ=1,05 | D33: 100 м кабеля | E33: 0.1 | F33: 807.24 | G33: 176.42 | H33: 544.81 | I33: 57.87 | J33: 81 | K33: 18 | L33: 54 | M33: 6 | N33: 13.02 | O33: 1.3 | P33: 3.39 | Q33: 0.34
A34: 9 | B34: ТЕРм08-02-146-01 | C34: Кабель до 35 кВ с креплением накладными скобами, масса 1 м кабеля до 0,5 кг КОЭФ. К ПОЗИЦИИ: Т.ч. п.1.8.3 Производство работ на высоте св.2 до 8 м ОЗП=1,05; ТЗ=1,05 | D34: 100 м кабеля | E34: 0.3 | F34: 2838.69 | G34: 209.15 | H34: 1292.95 | I34: 147.72 | J34: 852 | K34: 63 | L34: 388 | M34: 44 | N34: 15.44 | O34: 4.63 | P34: 8.36 | Q34: 2.51
A35: 10 | B35: ТСЦ-103-0005 | C35: Трубы стальные сварные водогазопроводные с резьбой черные легкие (неоцинкованные) диаметр условного прохода 40 мм, толщина стенки 3 мм | D35: м | E35: 10 | F35: 32.13 | J35: 321
A36: 11 | B36: ТЕРм08-02-407-02 | C36: Труба стальная по установленным конструкциям, по стенам с креплением скобами, диаметр до 40 мм КОЭФ. К ПОЗИЦИИ: Т.ч. п.1.8.3 Производство работ на высоте св.2 до 8 м ОЗП=1,05; ТЗ=1,05 | D36: 100 м | E36: 0.1 | F36: 3036.61 | G36: 577.37 | H36: 1234.04 | I36: 433.04 | J36: 304 | K36: 58 | L36: 123 | M36: 43 | N36: 43.58 | O36: 4.36 | P36: 27.6 | Q36: 2.76
A37: Итого прямые затраты по разделу в ценах 2001г. | J37: 4613 | K37: 297 | L37: 989 | M37: 134 | O37: 21.85 | Q37: 8.05
A38: Итого прямые затраты по разделу с учетом коэффициентов к итогам | J38: 5137 | K38: 419 | L38: 1343 | M38: 189 | O38: 29.5 | Q38: 10.87
A39: Накладные расходы | J39: 578
A40: Сметная прибыль | J40: 395
A41: Итого по разделу 1 Монтажные работы (телефонная связь наружные сети) | J41: 6110 | O41: 29.5 | Q41: 10.87
A42: Раздел 2. Строительные работы
A43: Прочие работы
...

Sheet СМР
A1: Расчет начальной (максимальной) цены на
A2: выполнение монтажных работ по строительству здания 637. Площадка 6
A4: Наименование глав ССР, объектный сметных расчетов, локальных сметных расчетов, видов прочих работ | B4: Сметная стоимость строительства в базисном уровне цен на 01.01.2000г. по ССР | F4: Остаток сметной стоимости в базисном уровне цен на 01.01.2014 | J4: Сметная стоимость строительства в базисном уровне цен на 01.01.2000г., выставленная на конкурс | N4: Текущая стоимость на момент определения начальной (максимальной) цены | O4: № обосновывающего расчета | P4: 2014 год
B5: Всего | C5: СМР | D5: Оборудование | E5: Прочие | F5: Всего | G5: СМР | H5: Оборудование | I5: Прочие | J5: Всего | K5: СМР | L5: Оборудование | M5: Прочие | P5: СМР | Q5: Оборудование | R5: Прочие
A6: 1 | B6: 2 | C6: 3 | D6: 4 | E6: 5 | F6: 6 | G6: 7 | H6: 8 | I6: 9 | J6: 10 | K6: 11 | L6: 12 | M6: 13 | N6: 14 | O6: 15 | P6: 16 | Q6: 17 | R6: 18
A7: Электроснабжение (наружные сети) | B7: =SUM(C7:E7) -> 22524 | C7: ='25203'!J110 -> 22524 | F7: =SUM(G7:I7) -> 22524 | G7: =C7 -> 22524 | H7: =D7 -> 0 | I7: =E7 -> 0 | J7: =SUM(K7:M7) -> 22524 | K7: =P7 -> 22524 | L7: =Q7 -> 0 | M7: =R7 -> 0 | O7: 25203 | P7: =G7 -> 22524 | Q7: =H7 -> 0 | R7: =I7 -> 0
A8: Телефонная связь (наружные сети) | B8: =SUM(C8:E8) -> 6340 | C8: ='25222'!J74 -> 6340 | F8: =SUM(G8:I8) -> 6340 | G8: =C8 -> 6340 | J8: =SUM(K8:M8) -> 6340 | K8: =P8 -> 6340 | O8: 25222 | P8: =G8 -> 6340
A9: Итого в ценах 2000 года: | B9: =SUM(B7:B8) -> 28864 | C9: =SUM(C7:C8) -> 28864 | D9: =SUM(D7:D8) -> 0 | E9: =SUM(E7:E8) -> 0 | F9: =SUM(F7:F8) -> 28864 | G9: =SUM(G7:G8) -> 28864 | H9: =SUM(H7:H7) -> 0 | I9: =SUM(I7:I7) -> 0 | J9: =SUM(J7:J8) -> 28864 | K9: =SUM(K7:K8) -> 28864 | L9: =SUM(L7:L7) -> 0 | M9: =SUM(M7:M7) -> 0 | N9: =SUM(P9:R9) -> 28864 | P9: =SUM(P7:P8) -> 28864 | Q9: =SUM(Q7:Q7) -> 0 | R9: =SUM(R7:R7) -> 0
A10: Итого в текущих ценах*: | N10: =SUM(P10:R10) -> 172607 | P10: =ROUND(P9*5.98,0) -> 172607 | Q10: =ROUND(Q9*4.21,0) -> 0 | R10: =ROUND(R9*10.48,0) -> 0
A11: НДС 18% | N11: =SUM(P11:R11) -> 31069.26 | P11: =ROUND(P10*18%,2) -> 31069.26 | Q11: =ROUND(Q10*18%,2) -> 0 | R11: =ROUND(R10*18%,2) -> 0
A12: Всего: | N12: =SUM(P12:R12) -> 203676.26 | P12: =SUM(P10:P11) -> 203676.26 | Q12: =SUM(Q10:Q11) -> 0 | R12: =SUM(R11:R11) -> 0
P13: 60000000
A14: * В расчете использованы индексы: | Q14: =P13-P12 -> 59796324
A15: - 5,98 индекс изменения сметной стоимости СМР к ТЕР 2001 (приказ ФГУП "Комбинат "Электрохимприбор" от 18.09.2013 №1902-П).
A17: Начальник отдела капитального строительства
A18: ФГУП "Комбинат "Электрохимприбор" | H18: В.В. Моляков
A20: Инженер по проектно-сметной работе | H20: Т.Ш. Ковязина
A22: Согласовано | H22: отдел 028

Sheet НМЦ договора
G1: Приложение №1
G2: к извещению на размещение заказа
G3: на выполнение комплекса работ
G4: по строительству объекта
A8: Определение начальной (максимальной) цены договора генерального подряда
A9: на выполнение работ на реконструкцию здания 377 Д (инв.№ 9101054) (устройство пола)
A10: на 2014 год
G13: ц.2000г./текущие цены, руб.
A14: Наименование услуг и работ (затрат) | C14: Сметная стоимость строительства в базисном уровне цен на 01.01.2000 г. | D14: Сметная стоимость строительства в текущем уровне цен, пресчитанная на момент проведения процедуры закупки | F14: Начальная (максимальная) цена | G14: в том числе по годам строительства
G17: 2014 г.
A21: 1 | C21: 2 | D21: 3 | F21: 4 | G21: 5
A22: СМР | C22: =СМР!K9 -> 28864 | D22: =F22 -> 172607 | F22: =G22 -> 172607 | G22: =СМР!P10 -> 172607
A23: Оборудование | C23: =СМР!L9 -> 0 | D23: =F23 -> 0 | F23: =G23 -> 0 | G23: =СМР!Q10 -> 0
A24: Прочие затраты | C24: =СМР!M9 -> 0 | D24: =F24 -> 0 | F24: =G24 -> 0 | G24: =СМР!R10 -> 0
A25: Всего: | C25: =SUM(C22:C24) -> 28864 | D25: =F25 -> 172607 | F25: =G25 -> 172607 | G25: =SUM(G22:G24) -> 172607
A26: НДС | D26: =F26 -> 31069.26 | F26: =G26 -> 31069.26 | G26: =СМР!P11+СМР!Q11 -> 31069.26
A27: Итого с НДС | D27: =F27 -> 203676.26 | F27: =G27 -> 203676.26 | G27: =СМР!P12+СМР!Q12 -> 203676.26
A29: В расчете использованы индексы:
A31: - 5,98 индекс изменения сметной стоимости СМР к ТЕР 2001 (приказ ФГУП "Комбинат "Электрохимприбор" от 18.09.2013 №1902-П)
A34: Начальник отдела капитального строительства
A35: ФГУП "Комбинат "Электрохимприбор" | F35: В.В. Моляков
A37: Инженер по проектно-сметной работе | F37: Т.Ш. Ковязина
A39: Согласовано | F39: отдел 028
