Workbook
Name Constr: '25491'!$A$1
Name FOT: '25491'!$B$17
Name Ind: '25491'!$D$9
Name Obj: '25491'!#REF!
Name Obosn: '25491'!$B$15
Name SmPr: '25491'!$B$16
Name аааааппппппрррппппппп: #REF!
Name аараооооооооооооо: #REF!
Name автом: #REF!
Name алшрльоплварл: #REF!
Name аолвлддддддддддддддддввввввввв: #REF!
Name апарв: #REF!
Name апрлдджаоырыфрпопрлпрлпрлп: #REF!
Name арлггаджаш: #REF!
Name ароррбллтблпроорапииас: #REF!
Name арррррблллпдрлдддддддддд: #REF!
Name варпаааааааааа: #REF!
Name ввпьььььлднд: #REF!
Name вед: #REF!
Name вертикальная: #REF!
Name вертикплан: #REF!
Name волен: #REF!
Name вп: #REF!
Name впырпфдыпл: #REF!
Name впьглорьтитттттттттт: #REF!
Name всввввввввввввввввввввввввв: #REF!
Name выб: #REF!
Name выпуск: #REF!
Name выьлепвввввпмп: #REF!
Name еваопродолжэрщэрзшщщх: #REF!
Name измен: #REF!
Name итого: #REF!
Name итого_сантех: #REF!
Name итого_стр: #REF!
Name итого_строит: #REF!
Name итого_технол: #REF!
Name итого_электр: #REF!
Name квота: #REF!
Name кккккккккк: #REF!
Name корек: #REF!
Name корект: #REF!
Name корректир: #REF!
Name лен: #REF!
Name лот: #REF!
Name мамиааааааааааааааааааааааааааааа: #REF!
Name ммпоослччччччччччрччапппппппппр: #REF!
Name мрол: #REF!
Name оз: #REF!
Name озелен: #REF!
Name озеленение: #REF!
Name озеленение2: #REF!
Name ОСР: #REF!
Name ОСР110: #REF!
Name ОСР111: #REF!
Name план: #REF!
Name планировка: #REF!
Name плдщхэж.юрббдлююбо: #REF!
Name площадки: #REF!
Name пос: #REF!
Name прав: #REF!

Sheet 25491
A1: СОГЛАСОВАНО: | E1: ФГУП "Комбинат "Электрохимприбор" | M1: УТВЕРЖДАЮ:
G2: (наименование стройки) | M2: Зам.генерального директора
A3: _________________ | N3: Е.В. Гордеев
A4: " _____ " ________________ 2014 г. | M4: __________________
M5: "______ " __________2014 г.
G7: ЛОКАЛЬНЫЙ СМЕТНЫЙ РАСЧЕТ № 25491
G8: (локальная смета)
C10: на | D10: антиобледенительную систему кровли. Здание 420. Инв.№7412290
D11: Раздел: силовое электрооборудование
G12: (наименование работ и затрат, наименование объекта)
D14: Основание: проект №24940-14-ЭМ | N14: Справочно, в тыс.руб. :
D15: Сметная стоимость _______________________________________________________________________________________________ | J15: ___________________________403,531 | L15: тыс. руб. | N15: Всего: | P15: =P16+P17+P18+P19 -> 2399.0877
D16: строительных работ _______________________________________________________________________________________________ | J16: _______________________________________________________________________________________________18,674 | L16: тыс. руб. | N16: с К=5,98 | P16: =18.674*5.98 -> 111.67052
D17: монтажных работ _______________________________________________________________________________________________ | J17: _______________________________________________________________________________________________368,887 | L17: тыс. руб. | N17: с К=5,98 | P17: =368.887*5.98 -> 2205.9443
D18: прочих (ПНР "вхолостую")_______________________________________________________________________________________________ | J18: _______________________________________________________________________________________________2,271 | L18: тыс. руб. | N18: с К=10,48 | P18: =2.271*10.48 -> 23.80008
D19: оборудования _______________________________________________________________________________________________ | J19: _______________________________________________________________________________________________13,699 | L19: тыс. руб. | N19: с К=4,21 | P19: =13.699*4.21 -> 57.67279
D20: Средства на оплату труда _______________________________________________________________________________________________ | J20: ___________________________27,034 | L20: тыс. руб.
D21: Сметная трудоемкость _______________________________________________________________________________________________ | J21: _______________________________________________________________________________________________1311,68 | L21: чел.час
D22: Материалы________________________________________________279,608 | L22: тыс. руб. | N22: с К=5,98 | P22: =279.608*5.98 -> 1672.0558
D23: Составлен(а) в базовых ценах 2001г. в редакции 2009г.
A26: № пп | B26: Обосно- вание | C26: Наименование | D26: Ед. изм. | E26: Кол. | F26: Стоимость единицы, руб. | J26: Общая стоимость, руб. | O26: Т/з осн. раб.на ед. | P26: Т/з осн. раб. Всего | Q26: Общая масса обору-дования, т
F27: Всего | G27: В том числе | J27: Обору- дование | K27: Всего | L27: В том числе
G28: Осн.З/п | H28: Эк.Маш | I28: З/пМех | L28: Осн.З/п | M28: Эк.Маш | N28: З/пМех
A29: 1 | B29: 2 | C29: 3 | D29: 4 | E29: 5 | F29: 6 | G29: 7 | H29: 8 | I29: 9 | J29: 10 | K29: 11 | L29: 12 | M29: 13 | N29: 14 | O29: 15 | P29: 16 | Q29: 17
A30: Раздел 1. Демонтажные работы (в здании и пристрое)
A31: 1 | B31: ТЕРр67-4-1 | C31: Демонтаж выключателей (автомат АЕ2056М-100 Iн=80А в РП-2 и ВА57d35 Iн=100А в РП-1) | D31: 100 шт. | E31: 0.02 | F31: 64.18 | G31: 64.18 | K31: 1 | L31: 1 | O31: 5.84 | P31: 0.12
A32: 2 | B32: ТЕРм08-03-572-04 | C32: Демонтаж блока управления шкафного исполнения или распределительный пункт (шкаф), устанавливаемый на стене, высота и ширина до 1200х1000 мм (Демонтаж оборудования, которое не подлежит дальнейшему использованию (предназначено в лом) без разборки и резки ОЗП=0,3; ЭМ=0,3 к расх.; ЗПМ=0,3; МАТ=0 к расх.; ТЗ=0,3; ТЗМ=0,3) | D32: 1 шт. | E32: 1 | F32: 43.15 | G32: 14.63 | H32: 28.52 | I32: 1.58 | K32: 43 | L32: 15 | M32: 28 | N32: 2 | O32: 1.047 | P32: 1.05
A33: 3 | B33: ТЕРр67-3-1 | C33: Демонтаж кабеля (АВВГ 3х0+1х25) | D33: 100 м | E33: 0.7 | F33: 106.34 | G33: 105.94 | H33: 0.4 | I33: 0.16 | K33: 74 | L33: 74 | O33: 9.64 | P33: 6.75
A34: 4 | B34: ТЕРм08-03-523-03 | C34: Демонтаж предохранителя, устанавливаемого на изоляционном основании, на ток до 400 А (Демонтаж оборудования, которое не подлежит дальнейшему использованию (предназначено в лом) без разборки и резки ОЗП=0,3; ЭМ=0,3 к расх.; ЗПМ=0,3; МАТ=0 к расх.; ТЗ=0,3; ТЗМ=0,3) | D34: 1 шт. | E34: 3 | F34: 8.5 | G34: 8.35 | H34: 0.15 | K34: 26 | L34: 26 | O34: 0.549 | P34: 1.65
A35: 5 | B35: ТЕРм08-03-523-02 | C35: Демонтаж предохранителя, устанавливаемого на изоляционном основании, на ток до 250 А (Демонтаж оборудования, которое не подлежит дальнейшему использованию (предназначено в лом) без разборки и резки ОЗП=0,3; ЭМ=0,3 к расх.; ЗПМ=0,3; МАТ=0 к расх.; ТЗ=0,3; ТЗМ=0,3) | D35: 1 шт. | E35: 6 | F35: 5.71 | G35: 5.61 | H35: 0.1 | K35: 34 | L35: 34 | O35: 0.369 | P35: 2.21
A36: Итого прямые затраты по разделу в ценах 2001г. | K36: 178 | L36: 150 | M36: 28 | N36: 2 | P36: 11.78
A37: Итого прямые затраты по разделу с учетом коэффициентов к итогам | K37: 221 | L37: 183 | M37: 38 | N37: 3 | P37: 13.5
A38: Накладные расходы | K38: 169
A39: Сметная прибыль | K39: 121
A40: Итого по разделу 1 Демонтажные работы (в здании и пристрое) | K40: 511 | P40: 13.5
A41: Раздел 2. Монтажные работы
A42: Здание 420
A43: 6 | B43: ТЕРм08-03-526-02 | C43: Монтаж: автомат одно-, двух-, трехполюсный, устанавливаемый на конструкции, на ток до 100 А | D43: 1 шт. | E43: 1 | F43: 215.9 | G43: 31.09 | H43: 4.53 | I43: 0.18 | K43: 216 | L43: 31 | M43: 5 | O43: 2.32 | P43: 2.32
A44: 7 | B44: ТСЦ-509-0300 прим. | C44: Выключатели автоматические АЕ2046М У3 I-80А | D44: шт. | E44: 1 | F44: 130.91 | K44: 131
A45: 8 | B45: ТЕРм08-03-573-04 | C45: Шкаф (пульт) управления навесной, высота, ширина и глубина до 600х600х350 мм | D45: 1 шт. | E45: 1 | F45: 99.26 | G45: 33.11 | H45: 62.05 | I45: 4.71 | K45: 99 | L45: 33 | M45: 62 | N45: 5 | O45: 2.37 | P45: 2.37
...

Sheet СМР
A1: Расчет начальной (максимальной) цены на
A2: выполнение работ по устройству антиобледенительной системы кровли. Здание 420. Инв.№7412290
A4: Наименование глав ССР, объектный сметных расчетов, локальных сметных расчетов, видов прочих работ | B4: Сметная стоимость строительства в базисном уровне цен на 01.01.2000г. по ССР | F4: Остаток сметной стоимости в базисном уровне цен на 01.01.2014 | J4: Сметная стоимость строительства в базисном уровне цен на 01.01.2000г., выставленная на конкурс | N4: Текущая стоимость на момент определения начальной (максимальной) цены | O4: № обосновывающего расчета | P4: 2014 год
B5: Всего | C5: СМР | D5: Оборудование | E5: Прочие | F5: Всего | G5: СМР | H5: Оборудование | I5: Прочие | J5: Всего | K5: СМР | L5: Оборудование | M5: Прочие | P5: СМР | Q5: Оборудование | R5: Прочие
A6: 1 | B6: 2 | C6: 3 | D6: 4 | E6: 5 | F6: 6 | G6: 7 | H6: 8 | I6: 9 | J6: 10 | K6: 11 | L6: 12 | M6: 13 | N6: 14 | O6: 15 | P6: 16 | Q6: 17 | R6: 18
A7: Антиобледенительная система кровли. Здание 420. Инв.№7412290 | B7: =SUM(C7:E7) -> 403531 | C7: =18674+368887 -> 387561 | D7: 13699 | E7: 2271 | F7: =SUM(G7:I7) -> 403531 | G7: =C7 -> 387561 | H7: =D7 -> 13699 | I7: =E7 -> 2271 | J7: =SUM(K7:M7) -> 403531 | K7: =P7 -> 387561 | L7: =Q7 -> 13699 | M7: =R7 -> 2271 | O7: 178см85 | P7: =G7 -> 387561 | Q7: =H7 -> 13699 | R7: =I7 -> 2271
A8: Итого в ценах 2000 года: | B8: =SUM(B7:B7) -> 403531 | C8: =SUM(C7:C7) -> 387561 | D8: =SUM(D7:D7) -> 13699 | E8: =SUM(E7:E7) -> 2271 | F8: =SUM(F7:F7) -> 403531 | G8: =SUM(G7:G7) -> 387561 | H8: =SUM(H7:H7) -> 13699 | I8: =SUM(I7:I7) -> 2271 | ... M8: =SUM(M7:M7) -> 2271 | N8: =SUM(P8:R8) -> 403531 | P8: =SUM(P7:P7) -> 387561 | Q8: =SUM(Q7:Q7) -> 13699 | R8: =SUM(R7:R7) -> 2271
A9: Итого в текущих ценах*: | N9: =SUM(P9:R9) -> 2295034 | P9: =ROUND(P8*5.73,0) -> 2220725 | Q9: =ROUND(Q8*3.76,0) -> 51508 | R9: =ROUND(R8*10.04,0) -> 22801
A10: НДС 18% | N10: =SUM(P10:R10) -> 413106.12 | P10: =ROUND(P9*18%,2) -> 399730.5 | Q10: =ROUND(Q9*18%,2) -> 9271.44 | R10: =ROUND(R9*18%,2) -> 4104.18
A11: Всего: | N11: =SUM(N9:N10) -> 2708140.1 | P11: =SUM(P9:P10) -> 2620455.5 | Q11: =SUM(Q9:Q10) -> 60779.44 | R11: =SUM(R9:R10) -> 26905.18
P12: 60000000
A13: * В расчете использованы индексы: | Q13: =P12-P11 -> 57379544
A14: - 5,73 индекс изменения сметной стоимости СМР к ТЕР 2001 (Письмо Минстроя от 04.08.2014 №15285-ЕС/08 приложение 1 прочие объекты).
A15: - 3,76 индекс изменения сметной стоимости оборудования к ТЕР 2001 (Письмо Минстроя от 04.08.2014 №15285-ЕС/08 приложение 5 экономика в целом).
A16: - 10,04 индекс изменения сметной стоимости прочих затрат к ТЕР 2001 (Письмо Минстроя от 04.08.2014 №15285-ЕС/08 приложение 1 пусконаладочные работы).
A18: Начальник отдела капитального строительства
A19: ФГУП "Комбинат "Электрохимприбор" | H19: В.В. Моляков
A21: Инженер по проектно-сметной работе | H21: Н.А. Басова
A23: Согласовано | H23: отд. 028

Sheet НМЦ договора
A5: Определение начальной (максимальной) цены договора генерального подряда
A6: на выполнение работ по устройству антиобледенительной системы кровли. Здание 420. Инв.№7412290
A7: на 2014 год
A9: Способ закупки: открытый запрос предложений
G10: ц.2000г./текущие цены, руб.
A11: Наименование услуг и работ (затрат) | C11: Сметная стоимость строительства в базисном уровне цен на 01.01.2000 г. | D11: Сметная стоимость строительства в текущем уровне цен, пресчитанная на момент проведения процедуры закупки | F11: Начальная (максимальная) цена | G11: в том числе по годам строительства
G14: 2014 г.
A18: 1 | C18: 2 | D18: 3 | F18: 4 | G18: 5
A19: СМР | C19: =СМР!K8 -> 387561 | D19: =F19 -> 2220725 | F19: =G19 -> 2220725 | G19: =СМР!P9 -> 2220725
A20: Оборудование | C20: =СМР!L8 -> 13699 | D20: =F20 -> 51508 | F20: =G20 -> 51508 | G20: =СМР!Q9 -> 51508
A21: Прочие затраты | C21: =СМР!M8 -> 2271 | D21: =F21 -> 22801 | F21: =G21 -> 22801 | G21: =СМР!R9 -> 22801
A22: Всего: | C22: =SUM(C19:C21) -> 403531 | D22: =F22 -> 2295034 | F22: =G22 -> 2295034 | G22: =SUM(G19:G21) -> 2295034
A23: НДС | D23: =F23 -> 413106.12 | F23: =G23 -> 413106.12 | G23: =СМР!P10+СМР!Q10+СМР!R10 -> 413106.12
A24: Итого с НДС | D24: =F24 -> 2708140.1 | F24: =G24 -> 2708140.1 | G24: =СМР!P11+СМР!Q11+СМР!R11 -> 2708140.1
A26: В расчете использованы индексы:
A28: - 5,73 индекс изменения сметной стоимости СМР к ТЕР 2001 (Письмо Минстроя от 04.08.2014 №15285-ЕС/08 приложение 1 прочие объекты). - 3,76 индекс изменения сметной стоимости оборудования к ТЕР 2001 (Письмо Минстроя от 04.08.2014 №15285-ЕС/08 приложение 5 экономика в целом). - 10,04 индекс изменения сметной стоимости прочих затрат к ТЕР 2001 (Письмо Минстроя от 04.08.2014 №15285-ЕС/08 приложение 1 пусконаладочные работы).
A30: Начальник отдела капитального строительства
A31: ФГУП "Комбинат "Электрохимприбор" | G31: В.В. Моляков
A33: Инженер по проектно-сметной работе | G33: Н.А. Басова
A35: Согласовано | G35: отд. 028
