Workbook
Name Constr: '24965'!#REF!
Name Constr: '24971'!$A$7
Name Constr: '25002'!$A$7
Name Constr: '25003'!$A$7
Name Constr: '25004'!$A$1
Name Constr: '25031'!$A$7
Name Constr: '25032'!$A$7
Name FOT: '24965'!$D$15
Name FOT: '24971'!$D$13
Name FOT: '25002'!$D$17
Name FOT: '25003'!$D$15
Name FOT: '25004'!$D$16
Name FOT: '25031'!$D$16
Name FOT: '25032'!$D$17
Name Ind: '24965'!#REF!
Name Ind: '24971'!$H$9
Name Ind: '25002'!#REF!
Name Ind: '25003'!$H$9
Name Ind: '25004'!$G$9
Name Ind: '25031'!$H$9
Name Ind: '25032'!$H$9
Name Obj: '24965'!$E$7
Name Obj: '24971'!#REF!
Name Obj: '25002'!$E$9
Name Obj: '25003'!#REF!
Name Obj: '25004'!#REF!
Name Obj: '25031'!#REF!
Name Obj: '25032'!#REF!
Name Obosn: '24965'!$D$11
Name Obosn: '24971'!$D$11
Name Obosn: '25002'!$D$12
Name Obosn: '25003'!$D$13
Name Obosn: '25004'!$D$11
Name Obosn: '25031'!$D$12
Name Obosn: '25032'!$D$13
Name SmPr: '24965'!$D$12
Name SmPr: '24971'!$D$12
Name SmPr: '25002'!$D$13
Name SmPr: '25003'!$D$14
Name SmPr: '25004'!$D$12
Name SmPr: '25031'!$D$13
Name SmPr: '25032'!$D$14
Name аааааппппппрррппппппп: #REF!
Name аааааппппппрррппппппп: #REF!
Name аараооооооооооооо: #REF!
Name аараооооооооооооо: #REF!
Name автом: #REF!
Name автом: #REF!
Name алшрльоплварл: #REF!
Name алшрльоплварл: #REF!
Name аолвлддддддддддддддддввввввввв: #REF!
Name аолвлддддддддддддддддввввввввв: #REF!
Name апарв: #REF!
Name апарв: #REF!
Name апрлдджаоырыфрпопрлпрлпрлп: #REF!
Name апрлдджаоырыфрпопрлпрлпрлп: #REF!
Name арлггаджаш: #REF!
Name арлггаджаш: #REF!
Name ароррбллтблпроорапииас: #REF!
Name ароррбллтблпроорапииас: #REF!

Sheet 24965
A1: СОГЛАСОВАНО: | E1: ФГУП "Комбинат "Электрохимприбор" | M1: УТВЕРЖДАЮ:
G2: (наименование стройки) | M2: Зам. генерального директора
A3: _____________________________ | M3: Е.В.Гордеев
A4: " _____ " ________________ 2013г. | G4: ЛОКАЛЬНЫЙ СМЕТНЫЙ РАСЧЕТ № 24965
G5: (локальная смета) | M5: "______ " __________2013 г.
C7: на | D7: Реконструкцию помещений для отдела 042. Город Лесной ул.Островского, 2
E8: Отопление и вентиляция.
H9: (наименование работ и затрат, наименование объекта)
D11: Основание: Проект № 24668-13-ОВ | N11: Справочно, в тыс.руб. :
D12: Сметная стоимость _______________________________________________________________________________________________ | J12: ___________________________34,441 | L12: тыс. руб. | N12: с К=5,56 | P12: =ROUND(34.441*5.56,3) -> 191.492
D13: строительных работ _______________________________________________________________________________________________ | J13: _______________________________________________________________________________________________33,654 | L13: тыс. руб. | N13: с К=5,56 | P13: =ROUND(33.654*5.56,3) -> 187.116
D14: монтажных работ _______________________________________________________________________________________________ | J14: _______________________________________________________________________________________________0,787 | L14: тыс. руб. | N14: с К=5,56 | P14: =ROUND(0.787*5.56,3) -> 4.376
D15: Средства на оплату труда _______________________________________________________________________________________________ | J15: ___________________________3,710 | L15: тыс. руб. | N15: с К=5,56 | P15: =ROUND(3.71*5.56,3) -> 20.628
D16: Сметная трудоемкость _______________________________________________________________________________________________ | J16: _______________________________________________________________________________________________292,68 | L16: чел.час
D17: Материалы ___________________________________________________________ | J17: =J79/1000 -> 24.416 | L17: тыс.руб. | N17: с К=5,56 | P17: =ROUND(24.416*5.56,3) -> 135.753
D18: Составлен(а) в базовых ценах 2001г. в редакции 2009г.
A20: № пп | B20: Обоснование | C20: Наименование | D20: Ед. изм. | E20: Кол. | F20: Стоимость единицы, руб. | J20: Общая стоимость, руб. | N20: Т/з осн. раб.на ед. | O20: Т/з осн. раб. Всего | P20: Т/з мех. на ед. | Q20: Т/з мех. Всего
F21: Всего | G21: В том числе | J21: Всего | K21: В том числе
G22: Осн.З/п | H22: Эк.Маш | I22: З/пМех | K22: Осн.З/п | L22: Эк.Маш | M22: З/пМех
A23: 1 | B23: 2 | C23: 3 | D23: 4 | E23: 5 | F23: 6 | G23: 7 | H23: 8 | I23: 9 | J23: 10 | K23: 11 | L23: 12 | M23: 13 | N23: 14 | O23: 15 | P23: 16 | Q23: 17
A24: Раздел 1. Разборка.
A25: 1 | B25: ТЕРр65-19-1 | C25: Демонтаж радиаторов весом до 80 кг | D25: 100 шт. | E25: 1.24 | F25: 1310.17 | G25: 1219.9 | H25: 90.27 | I25: 34.99 | J25: 1625 | K25: 1513 | L25: 112 | M25: 43 | N25: 110 | O25: 136.4 | P25: 2.24 | Q25: 2.78
A26: 2 | B26: ТЕРр65-19-5 | C26: Демонтаж конвекторов | D26: 100 экм | E26: 0.572 | F26: 211.01 | G26: 202.95 | H26: 8.06 | I26: 3.12 | J26: 121 | K26: 116 | L26: 5 | M26: 2 | N26: 18.3 | O26: 10.47 | P26: 0.2 | Q26: 0.11
A27: Раздел 2. Отопление.
A28: 3 | B28: ТЕР16-02-001-02 | C28: Прокладка трубопроводов отопления из стальных водогазопроводных неоцинкованных труб диаметром 20 мм | D28: 100 м | E28: 0.2 | F28: 4340.3 | G28: 446.74 | H28: 69.04 | I28: 2.73 | J28: 868 | K28: 89 | L28: 14 | M28: 1 | N28: 32.97 | O28: 6.59 | P28: 0.15 | Q28: 0.03
A29: 4 | B29: ТСЦ-301-1224 | C29: Крепления для трубопроводов: кронштейны, планки, хомуты | D29: кг | E29: 4 | F29: 17.02 | J29: 68
A30: 5 | B30: ТЕР18-03-001-02 | C30: Установка радиаторов стальных | D30: 100 кВт | E30: 0.546 | F30: 2426.28 | G30: 828.53 | H30: 270.15 | I30: 20.22 | J30: 1325 | K30: 452 | L30: 148 | M30: 11 | N30: 65.6 | O30: 35.82 | P30: 1.28 | Q30: 0.7
A31: Уд | B31: 1. 301-0559 | C31: Радиаторы стальные панельные РСВ2-1, РСВ2-6 однорядные | D31: кВт | E31: 100 54,6 | F31: 179.38 | J31: 9794.15
A32: 6 | B32: Цена поставщика. | C32: Радиатор "Термал 500" (Цена: 228,00:1,18:5,56*1,02=35,45) | D32: секций | E32: 332 | F32: 35.45 | J32: 11769
A33: 7 | B33: ТСЦ-101-2201 | C33: Дюбели распорные полиэтиленовые | D33: 10 шт. | E33: 4.859 | F33: 1.73 | J33: 8
A34: 8 | B34: ТЕРм11-02-001-01 | C34: Прибор, устанавливаемый на резьбовых соединениях, масса до 1,5 кг | D34: 1 шт. | E34: 21 | F34: 15.88 | G34: 14.39 | J34: 333 | K34: 302 | N34: 1.03 | O34: 21.63
A35: 9 | B35: Цена поставщика. | C35: Терморегулятор RTD-G (Цена:1819,00:1,18:5,56*1,02=282,80) | D35: шт | E35: 21 | F35: 282.8 | J35: 5939
A36: 10 | B36: Цена поставщика. | C36: Гайка глухая 3/4 (Цена:190,40:1,18:5,56*1,02=29,60) | D36: шт | E36: 24 | F36: 29.6 | J36: 710
A37: 11 | B37: ТЕР16-05-001-01 прим. | C37: Установка клапанов диаметром до 25 мм | D37: 1 шт. | E37: 24 | F37: 84.1 | G37: 18.79 | H37: 4.23 | J37: 2018 | K37: 451 | L37: 102 | N37: 1.47 | O37: 35.28
A38: 12 | B38: ТСЦ-301-1487 прим. | C38: Клапаны размером 3/4" | D38: шт. | E38: 24 | F38: 64.44 | J38: 1547
A39: 13 | B39: ТСЦ-302-1237 | C39: Сгоны стальные с муфтой и контргайкой, диаметром 20 мм | D39: шт. | E39: 24 | F39: 14.64 | J39: 351
A40: 14 | B40: ТЕР16-07-005-01 | C40: Гидравлическое испытание трубопроводов систем отопления, водопровода и горячего водоснабжения диаметром до 50 мм | D40: 100 м | E40: 0.2 | F40: 104.4 | G40: 82.16 | H40: 15.29 | J40: 21 | K40: 16 | L40: 3 | N40: 5.01 | O40: 1
A41: 15 | B41: ТЕР13-03-002-04 | C41: Огрунтовка металлических поверхностей за один раз грунтовкой ГФ-021 | D41: 100 м2 | E41: 0.026 | F41: 417.46 | G41: 79.65 | H41: 10.15 | I41: 0.16 | J41: 11 | K41: 2 | N41: 5.31 | O41: 0.14 | P41: 0.01
A42: 16 | B42: ТЕР15-04-030-04 | C42: Масляная окраска металлических труб диаметром менее 50 мм и т.п., количество окрасок 2 | D42: 100 м2 | E42: 0.026 | F42: 1384.09 | G42: 886.83 | H42: 3.68 | I42: 0.16 | J42: 36 | K42: 23 | N42: 71.06 | O42: 1.85 | P42: 0.01
A43: 17 | B43: ТЕРр62-32-2 | C43: Окраска масляными составами ранее окрашенных поверхностей труб стальных за 2 раза | D43: 100 м2 | E43: 0.241 | F43: 1496.17 | G43: 918.84 | H43: 1.09 | J43: 361 | K43: 221 | N43: 80.6 | O43: 19.42
...

Sheet 24971
A1: СОГЛАСОВАНО: | E1: ФГУП "Комбинат "Электрохимприбор" | M1: УТВЕРЖДАЮ:
G2: (наименование стройки) | M2: Зам. генерального директора
A3: _____________________________ | M3: Е.В.Гордеев
A4: " _____ " ________________ 2013г. | G4: ЛОКАЛЬНЫЙ СМЕТНЫЙ РАСЧЕТ № 24971
G5: (локальная смета) | M5: "______ " __________2013 г.
C7: на | D7: Реконструкцию помещений для отдела 042. Город Лесной ул.Островского 2 (инв.№ 8811031)
E8: Раздел: Водопровод и канализация.
H9: (наименование работ и затрат, наименование объекта)
D11: Основание: Проект № 24669-13-ВК
D12: Сметная стоимость строительных работ _______________________________________________________________________________________________ | J12: ___________________________6,222 | L12: тыс. руб.
D13: Средства на оплату труда _______________________________________________________________________________________________ | J13: ___________________________0,913 | L13: тыс. руб.
D14: Сметная трудоемкость _______________________________________________________________________________________________ | J14: _______________________________________________________________________________________________66,1 | L14: чел.час
D15: Материалы ___________________________________________________________ | J15: =J74/1000 -> 3.411 | L15: тыс.руб.
D16: Составлен(а) в базовых ценах 2001г. в редакции 2009г.
A19: № пп | B19: Обоснование | C19: Наименование | D19: Ед. изм. | E19: Кол. | F19: Стоимость единицы, руб. | J19: Общая стоимость, руб. | N19: Т/з осн. раб.на ед. | O19: Т/з осн. раб. Всего | P19: Т/з мех. на ед. | Q19: Т/з мех. Всего
F20: Всего | G20: В том числе | J20: Всего | K20: В том числе
G21: Осн.З/п | H21: Эк.Маш | I21: З/пМех | K21: Осн.З/п | L21: Эк.Маш | M21: З/пМех
A22: 1 | B22: 2 | C22: 3 | D22: 4 | E22: 5 | F22: 6 | G22: 7 | H22: 8 | I22: 9 | J22: 10 | K22: 11 | L22: 12 | M22: 13 | N22: 14 | O22: 15 | P22: 16 | Q22: 17
A23: Раздел 1. Разборка.
A24: 1 | B24: ТЕРр65-1-1 | C24: Разборка трубопроводов из водогазопроводных труб диаметром до 32 мм | D24: 100 м | E24: 0.06 | F24: 483.12 | G24: 405.87 | H24: 8.12 | I24: 1.56 | J24: 29 | K24: 24 | N24: 34.66 | O24: 2.08 | P24: 0.1 | Q24: 0.01
A25: 2 | B25: ТЕРр65-2-1 | C25: Разборка трубопроводов из чугунных канализационных труб диаметром 50 мм | D25: 100 м | E25: 0.03 | F25: 825.86 | G25: 819.41 | H25: 6.45 | I25: 2.5 | J25: 25 | K25: 25 | N25: 68.8 | O25: 2.06 | P25: 0.16
A26: 3 | B26: ТЕРр65-4-1 | C26: Демонтаж умывальников и раковин | D26: 100 приборов | E26: 0.01 | F26: 626.59 | G26: 616.11 | H26: 10.48 | I26: 4.06 | J26: 6 | K26: 6 | N26: 51.3 | O26: 0.51 | P26: 0.26
A27: Раздел 2. Водопровод.
A28: 4 | B28: ТЕР16-03-002-01 | C28: Прокладка трубопроводов водоснабжения из многослойных металл-полимерных труб диаметром 15 мм | D28: 100 м | E28: 0.12 | F28: 6136.29 | G28: 1541.12 | H28: 66.7 | I28: 1.27 | J28: 736 | K28: 185 | L28: 8 | N28: 112 | O28: 13.44 | P28: 0.07 | Q28: 0.01
A29: 5 | B29: ТСЦ-301-1224 | C29: Крепления для трубопроводов: кронштейны, планки, хомуты | D29: кг | E29: 2.4 | F29: 17.02 | J29: 41
A30: 6 | B30: ТСЦ-507-2617 прим. | C30: Соединительная муфта диаметром до 20 мм | D30: 10 шт. | E30: 0.4 | F30: 9 | J30: 4
A31: 7 | B31: ФССЦ-507-4169 | C31: Уголок соединительный 90° для металлополимерных труб, диаметром 16 мм КОЭФ. К ПОЗИЦИИ: Проведение расценок ФЕР к территориальному уровню (Письмо УРЦЦС Ц-297 от 12.04.2011) ОЗП=1,41; ЭМ=1,242; ЗПМ=1,41; МАТ=1,052 | D31: шт. | E31: 4 | F31: 36.59 | J31: 146
A32: 8 | B32: ФССЦ-507-4165 | C32: Тройник равнопроходной для металлополимерных труб диаметром 16 мм КОЭФ. К ПОЗИЦИИ: Проведение расценок ФЕР к территориальному уровню (Письмо УРЦЦС Ц-297 от 12.04.2011) ОЗП=1,41; ЭМ=1,242; ЗПМ=1,41; МАТ=1,052 | D32: шт. | E32: 1 | F32: 38.85 | J32: 39
A33: 9 | B33: ТСЦ-302-1831 | C33: Кран шаровой муфтовый 11Б27П1, диаметром 15 мм | D33: шт. | E33: 5 | F33: 25.14 | J33: 126
A34: 10 | B34: ТЕРр65-6-10 прим. | C34: Установка гибких подводок | D34: 100 приборов | E34: 0.05 | F34: 4008.14 | G34: 669.67 | H34: 7.47 | I34: 0.78 | J34: 200 | K34: 33 | N34: 52.4 | O34: 2.62 | P34: 0.05
A35: 11 | B35: ТЕР16-07-005-01 | C35: Гидравлическое испытание трубопроводов систем отопления, водопровода и горячего водоснабжения диаметром до 50 мм | D35: 100 м | E35: 0.12 | F35: 104.4 | G35: 82.16 | H35: 15.29 | J35: 13 | K35: 10 | L35: 2 | N35: 5.01 | O35: 0.6
A36: 12 | B36: ТЕР16-07-003-02 | C36: Врезка в действующие внутренние сети трубопроводов отопления и водоснабжения диаметром 20 мм | D36: 1 врезка | E36: 2 | F36: 107.91 | G36: 62.31 | H36: 5.56 | J36: 216 | K36: 125 | L36: 11 | N36: 4.46 | O36: 8.92
A37: Раздел 3. Канализация.
A38: 13 | B38: ТЕР16-04-001-02 | C38: Прокладка трубопроводов канализации из полиэтиленовых труб высокой плотности диаметром 100 мм | D38: 100 м | E38: 0.007 | F38: 8610.79 | G38: 860.55 | H38: 36.81 | I38: 1.09 | J38: 60 | K38: 6 | N38: 61.6 | O38: 0.43 | P38: 0.06
A39: 14 | B39: ТСЦ-301-1098 | C39: Хомуты для крепления канализационных и водосточных пластмассовых трубопроводов, диаметром 100 мм | D39: т | E39: 0.0001 | F39: 36386 | J39: 4
A40: 15 | B40: ТЕР16-04-001-01 | C40: Прокладка трубопроводов канализации из полиэтиленовых труб высокой плотности диаметром 50 мм | D40: 100 м | E40: 0.045 | F40: 5197.98 | G40: 897.43 | H40: 15.84 | I40: 0.36 | J40: 234 | K40: 40 | L40: 1 | N40: 64.24 | O40: 2.89 | P40: 0.02
A41: 16 | B41: ТСЦ-301-1097 | C41: Хомуты для крепления канализационных и водосточных пластмассовых трубопроводов, диаметром 50 мм | D41: т | E41: 0.001 | F41: 29302 | J41: 29
A42: 17 | B42: ТЕР17-01-001-14 | C42: Установка умывальников одиночных с подводкой холодной и горячей воды | D42: 10 компл. | E42: 0.1 | F42: 407.19 | G42: 293.36 | H42: 29.83 | I42: 2.03 | J42: 41 | K42: 29 | L42: 3 | N42: 21.65 | O42: 2.17 | P42: 0.13 | Q42: 0.01
A43: 18 | B43: ТСЦ-301-0758 прим. | C43: Умывальник керамический с краном настольным, кронштейнами, сифоном бутылочным латунным и выпуском, овальные со скрытыми установочными поверхностями без спинки размером 450х500 | D43: компл. | E43: 1 | F43: 205.57 | J43: 206
A44: 19 | B44: ТСЦ-301-0628 | C44: Смесители для умывальников | D44: компл. | E44: 1 | F44: 111.4 | J44: 111
...

Sheet 25002
A1: СОГЛАСОВАНО: | E1: ФГУП "Комбинат "Электрохимприбор" | M1: УТВЕРЖДАЮ:
G2: (наименование стройки) | M2: Зам. генерального директора
M3: Е.В.Гордеев
A4: _________________ | M4: _________________
A5: " _____ " ________________ 2013 г. | M5: "______ " __________2013 г.
G6: ЛОКАЛЬНЫЙ СМЕТНЫЙ РАСЧЕТ № 25002
G7: (локальная смета)
C9: на | D9: Реконструкцию помещений для отдела 042. г.Лесной, ул.Островского, 2. Инв. № 8811031
H10: (наименование работ и затрат, наименование объекта)
D12: Основание: проект № 24685-13-ПС
D13: Сметная стоимость _______________________________________________________________________________________________ | J13: ___________________________58,231 | L13: тыс. руб.
D14: монтажных работ _______________________________________________________________________________________________ | J14: _______________________________________________________________________________________________45,893 | L14: тыс. руб.
D15: прочих (ПНР "в холостую") _______________________________________________________________________________________________ | J15: _______________________________________________________________________________________________6,405 | L15: тыс. руб.
D16: оборудования _______________________________________________________________________________________________ | J16: _______________________________________________________________________________________________5,933 | L16: тыс. руб.
D17: Средства на оплату труда _______________________________________________________________________________________________ | J17: ___________________________15,249 | L17: тыс. руб.
D18: Сметная трудоемкость _______________________________________________________________________________________________ | J18: _______________________________________________________________________________________________1017,12 | L18: чел.час
D19: Составлен(а) в базовых ценах 2001г. в редакции 2009г.
A21: № пп | B21: Обоснование | C21: Наименование | D21: Ед. изм. | E21: Кол. | F21: Стоимость единицы, руб. | J21: Общая стоимость, руб. | N21: Т/з осн. раб.на ед. | O21: Т/з осн. раб. Всего | P21: Т/з мех. на ед. | Q21: Т/з мех. Всего
F22: Всего | G22: В том числе | J22: Всего | K22: В том числе
G23: Осн.З/п | H23: Эк.Маш | I23: З/пМех | K23: Осн.З/п | L23: Эк.Маш | M23: З/пМех
A24: 1 | B24: 2 | C24: 3 | D24: 4 | E24: 5 | F24: 6 | G24: 7 | H24: 8 | I24: 9 | J24: 10 | K24: 11 | L24: 12 | M24: 13 | N24: 14 | O24: 15 | P24: 16 | Q24: 17
A25: Раздел 1. Демонтажные работы
A26: 1 | B26: ТЕРм10-08-001-13 | C26: Демонтаж: пульт контроля и управления КОЭФ. К ПОЗИЦИИ: Демонтаж оборудования, которое не подлежит дальнейшему использованию (предназначено в лом) без разборки и резки ОЗП=0,3; ЭМ=0,3 к расх.; ЗПМ=0,3; МАТ=0 к расх.; ТЗ=0,3; ТЗМ=0,3 | D26: 1 шт. | E26: 1 | F26: 17.37 | G26: 17.26 | H26: 0.11 | J26: 17 | K26: 17 | N26: 1.2 | O26: 1.2
A27: 2 | B27: ТЕРм10-06-037-05 | C27: Демонтаж: шкаф настенный для приборов КОЭФ. К ПОЗИЦИИ: Демонтаж оборудования, которое не подлежит дальнейшему использованию (предназначено в лом) без разборки и резки ОЗП=0,3; ЭМ=0,3 к расх.; ЗПМ=0,3; МАТ=0 к расх.; ТЗ=0,3; ТЗМ=0,3 | D27: 1 шт. | E27: 2 | F27: 8.62 | G27: 7.9 | H27: 0.72 | J27: 17 | K27: 16 | L27: 1 | N27: 0.62 | O27: 1.24
A28: 3 | B28: ТЕРм10-02-016-06 | C28: Демонтаж: блок питания КОЭФ. К ПОЗИЦИИ: Демонтаж оборудования, которое не подлежит дальнейшему использованию (предназначено в лом) без разборки и резки ОЗП=0,3; ЭМ=0,3 к расх.; ЗПМ=0,3; МАТ=0 к расх.; ТЗ=0,3; ТЗМ=0,3 | D28: 1 шт. | E28: 1 | F28: 57.48 | G28: 47.33 | H28: 10.15 | I28: 2.06 | J28: 57 | K28: 47 | L28: 10 | M28: 2 | N28: 3.03 | O28: 3.03 | P28: 0.13 | Q28: 0.13
A29: 4 | B29: ТЕРм10-08-002-02 | C29: Демонтаж: извещатель пожарный дымовой КОЭФ. К ПОЗИЦИИ: Демонтаж оборудования, которое не подлежит дальнейшему использованию (предназначено в лом) без разборки и резки ОЗП=0,3; ЭМ=0,3 к расх.; ЗПМ=0,3; МАТ=0 к расх.; ТЗ=0,3; ТЗМ=0,3 | D29: 1 шт. | E29: 32 | F29: 6.97 | G29: 6.83 | H29: 0.14 | J29: 223 | K29: 219 | L29: 4 | N29: 0.5 | O29: 16
A30: 5 | B30: ТЕРм10-04-066-05 | C30: Демонтаж: извещатель пожарный ручной КОЭФ. К ПОЗИЦИИ: Демонтаж оборудования, которое не подлежит дальнейшему использованию (предназначено в лом) без разборки и резки ОЗП=0,3; ЭМ=0,3 к расх.; ЗПМ=0,3; МАТ=0 к расх.; ТЗ=0,3; ТЗМ=0,3 | D30: 1 шт. | E30: 3 | F30: 3.83 | G30: 3.83 | J30: 11 | K30: 11 | N30: 0.3 | O30: 0.9
A31: 6 | B31: ТЕРм10-04-066-05 | C31: Демонтаж: оповещатель звуковой КОЭФ. К ПОЗИЦИИ: Демонтаж оборудования, которое не подлежит дальнейшему использованию (предназначено в лом) без разборки и резки ОЗП=0,3; ЭМ=0,3 к расх.; ЗПМ=0,3; МАТ=0 к расх.; ТЗ=0,3; ТЗМ=0,3 | D31: 1 шт. | E31: 10 | F31: 3.83 | G31: 3.83 | J31: 38 | K31: 38 | N31: 0.3 | O31: 3
A32: 7 | B32: ТЕРм10-04-066-06 | C32: Демонтаж: оповещатель световой КОЭФ. К ПОЗИЦИИ: Демонтаж оборудования, которое не подлежит дальнейшему использованию (предназначено в лом) без разборки и резки ОЗП=0,3; ЭМ=0,3 к расх.; ЗПМ=0,3; МАТ=0 к расх.; ТЗ=0,3; ТЗМ=0,3 | D32: 1 шт. | E32: 4 | F32: 22.46 | G32: 22.46 | J32: 90 | K32: 90 | N32: 1.8 | O32: 7.2
A33: 8 | B33: ТЕРм10-08-019-01 | C33: Демонтаж: коробка КОЭФ. К ПОЗИЦИИ: Демонтаж оборудования, которое не подлежит дальнейшему использованию (предназначено в лом) без разборки и резки ОЗП=0,3; ЭМ=0,3 к расх.; ЗПМ=0,3; МАТ=0 к расх.; ТЗ=0,3; ТЗМ=0,3 | D33: 1 шт. | E33: 15 | F33: 2.06 | G33: 2.06 | J33: 31 | K33: 31 | N33: 0.15 | O33: 2.25
A34: 9 | B34: ТЕРр67-3-1 | C34: Демонтаж кабеля | D34: 100 м | E34: 5.3 | F34: 106.34 | G34: 105.94 | H34: 0.4 | I34: 0.16 | J34: 564 | K34: 562 | L34: 2 | M34: 1 | N34: 9.64 | O34: 51.09 | P34: 0.01 | Q34: 0.05
A35: Раздел 2. Монтажные работы
A36: 10 | B36: Цена поставщика | C36: Пульт контроля и управления С2000-М (Ц:6504,30руб:1,18:4,19) | D36: 1 шт. | E36: 1 | J36: 1316
A37: 11 | B37: ТЕРм10-08-001-13 | C37: Монтаж: пульт контроля и управления С2000-М | D37: 1 шт. | E37: 1 | F37: 64.92 | G37: 57.52 | H37: 0.37 | J37: 65 | K37: 58 | N37: 4 | O37: 4
A38: 12 | B38: Цена поставщика | C38: Контроль по двухпроводной линии С2000-КДЛ-2И (Ц:2168,10руб:1,18:4,19) | D38: 1 шт. | E38: 1 | J38: 439
A39: 13 | B39: ТЕРм10-08-001-13 | C39: Монтаж: контроллер С2000-КДЛ-2И | D39: 1 шт. | E39: 1 | F39: 64.92 | G39: 57.52 | H39: 0.37 | J39: 65 | K39: 58 | N39: 4 | O39: 4
A40: 14 | B40: Цена поставщика | C40: Адресный релейный блок на два реле С2000-СП1 (Ц:1700,60руб:1,18:4,19) | D40: 1 шт. | E40: 1 | J40: 219
A41: 15 | B41: ТЕРм10-08-001-13 | C41: Монтаж: блок сигнально-пусковой С2000-СП1 | D41: 1 шт. | E41: 1 | F41: 64.92 | G41: 57.52 | H41: 0.37 | J41: 65 | K41: 58 | N41: 4 | O41: 4
A42: 16 | B42: Цена поставщика | C42: Источник питания СКАТ2412 (Ц:5861руб:1,18:4,19) | D42: 1 шт. | E42: 1 | J42: 1185
A43: 17 | B43: ТЕРм10-02-016-06 | C43: Монтаж: преобразователь или блок питания | D43: 1 шт. | E43: 1 | F43: 256.7 | G43: 157.76 | H43: 33.83 | I43: 6.87 | J43: 257 | K43: 158 | L43: 34 | M43: 7 | N43: 10.1 | O43: 10.1 | P43: 0.44 | Q43: 0.44
...

Sheet 25003
A1: СОГЛАСОВАНО: | E1: ФГУП "Комбинат "Электрохимприбор" | M1: УТВЕРЖДАЮ:
G2: (наименование стройки) | M2: Зам. генерального директора
M3: Е.В.Гордеев
A4: _________________ | M4: _________________
A5: " _____ " ________________ 2013 г. | M5: "______ " __________2013 г.
G6: ЛОКАЛЬНЫЙ СМЕТНЫЙ РАСЧЕТ № 25003
G7: (локальная смета)
C9: на | D9: реконструкцию помещений для отдела 042. г.Лесной ул.Островского, 2. Инв.№ 8811031
D10: Раздел: Электрооборудование. Электроосвещение.
G11: (наименование работ и затрат, наименование объекта)
D13: Основание: проект № 24684-13-ЭМО
D14: Сметная стоимость монтажных работ _______________________________________________________________________________________________ | J14: ___________________________106,725 | L14: тыс. руб.
D15: Средства на оплату труда _______________________________________________________________________________________________ | J15: ___________________________12,094 | L15: тыс. руб.
D16: Сметная трудоемкость _______________________________________________________________________________________________ | J16: _______________________________________________________________________________________________718,9 | L16: чел.час
D17: Составлен(а) в базовых ценах 2001г. в редакции 2009г.
A19: № пп | B19: Обоснование | C19: Наименование | D19: Ед. изм. | E19: Кол. | F19: Стоимость единицы, руб. | J19: Общая стоимость, руб. | N19: Т/з осн. раб.на ед. | O19: Т/з осн. раб. Всего | P19: Т/з мех. на ед. | Q19: Т/з мех. Всего
F20: Всего | G20: В том числе | J20: Всего | K20: В том числе
G21: Осн.З/п | H21: Эк.Маш | I21: З/пМех | K21: Осн.З/п | L21: Эк.Маш | M21: З/пМех
A22: 1 | B22: 2 | C22: 3 | D22: 4 | E22: 5 | F22: 6 | G22: 7 | H22: 8 | I22: 9 | J22: 10 | K22: 11 | L22: 12 | M22: 13 | N22: 14 | O22: 15 | P22: 16 | Q22: 17
A23: Раздел 1. Демонтажные работы
A24: 1 | B24: ТЕРр67-4-5 | C24: Демонтаж светильников для люминесцентных ламп | D24: 100 шт. | E24: 0.73 | F24: 205.2 | G24: 201.98 | H24: 3.22 | I24: 1.25 | J24: 150 | K24: 148 | L24: 2 | M24: 1 | N24: 17.89 | O24: 13.06 | P24: 0.08 | Q24: 0.06
A25: 2 | B25: ТЕРр67-4-1 | C25: Демонтаж выключателей, розеток | D25: 100 шт. | E25: 0.62 | F25: 64.18 | G25: 64.18 | J25: 40 | K25: 40 | N25: 5.84 | O25: 3.62
A26: 3 | B26: ТЕРр67-3-1 | C26: Демонтаж кабеля | D26: 100 м | E26: 2 | F26: 106.34 | G26: 105.94 | H26: 0.4 | I26: 0.16 | J26: 213 | K26: 212 | L26: 1 | N26: 9.64 | O26: 19.28 | P26: 0.01 | Q26: 0.02
A27: 4 | B27: ТЕРм08-03-572-04 | C27: Демонтаж: пульт управления вентиляцией КОЭФ. К ПОЗИЦИИ: Демонтаж оборудования, которое не подлежит дальнейшему использованию (предназначено в лом) без разборки и резки ОЗП=0,3; ЭМ=0,3 к расх.; ЗПМ=0,3; МАТ=0 к расх.; ТЗ=0,3; ТЗМ=0,3 | D27: 1 шт. | E27: 2 | F27: 43.15 | G27: 14.63 | H27: 28.52 | I27: 1.58 | J27: 86 | K27: 29 | L27: 57 | M27: 3 | N27: 1.05 | O27: 2.1 | P27: 0.09 | Q27: 0.18
A28: 5 | B28: ТЕРм08-03-599-10 | C28: Демонтаж: щиток осветительный КОЭФ. К ПОЗИЦИИ: Демонтаж оборудования, которое не подлежит дальнейшему использованию (предназначено в лом) без разборки и резки ОЗП=0,3; ЭМ=0,3 к расх.; ЗПМ=0,3; МАТ=0 к расх.; ТЗ=0,3; ТЗМ=0,3 | D28: 1 шт. | E28: 2 | F28: 19.83 | G28: 17.48 | H28: 2.35 | I28: 0.11 | J28: 40 | K28: 35 | L28: 5 | N28: 1.25 | O28: 2.5 | P28: 0.01 | Q28: 0.02
A29: Раздел 2. Освещение
A30: 6 | B30: Цена поставщика | C30: Светильник ЛВО07-4х18-031 PRB HF 1076418031 | D30: шт. | E30: 43 | F30: 255,61 1677/1,18/5,56 | J30: 10991
A31: 7 | B31: Цена поставщика | C31: Светильник OWP/R 418 HF 1373000280 | D31: шт. | E31: 3 | F31: 882,67 5791/1,18/5,56 | J31: 2648
A32: 8 | B32: ТЕРм08-03-594-11 | C32: Светильник в подвесных потолках, устанавливаемый на подвесках, количество ламп в светильнике до 4 | D32: 100 шт. | E32: 0.46 | F32: 21718.13 | G32: 4428.49 | H32: 2997.27 | I32: 1185.44 | J32: 9990 | K32: 2037 | L32: 1379 | M32: 545 | N32: 317 | O32: 145.82 | P32: 75.65 | Q32: 34.8
A33: 9 | B33: Цена поставщика | C33: Светильник ЛБО54-18-112 Econom 1054118112 | D33: шт. | E33: 10 | F33: 136,11 893/1,18/5,56 | J33: 1361
A34: 10 | B34: Цена поставщика | C34: Светильник NBS 50F114 1415000310 | D34: шт. | E34: 1 | F34: 658,37 4319.46/1,18/5,56 | J34: 658
A35: 11 | B35: Цена поставщика | C35: Светильник НПП2602А белый/круг без решетки пластик 60Вт IP54ИЭК LNPP0-2602A-1-060-K01 | D35: шт. | E35: 10 | F35: 31,51 206,75/1,18/5,56 | J35: 315
A36: 12 | B36: ТЕРм08-03-594-01 | C36: Светильник отдельно устанавливаемый на штырях с количеством ламп в светильнике 1 | D36: 100 шт. | E36: 0.21 | F36: 5754.44 | G36: 1229.36 | H36: 1526.51 | I36: 520.21 | J36: 1208 | K36: 258 | L36: 321 | M36: 109 | N36: 88 | O36: 18.48 | P36: 33.05 | Q36: 6.94
A37: 13 | B37: Цена поставщика | C37: Светильник ЛПО46-2х28-613 Luxe 1056228613 | D37: шт. | E37: 23 | F37: 175,44 1151/1,18/5,56 | J37: 4035
A38: 14 | B38: ТЕРм08-03-594-02 | C38: Светильник отдельно устанавливаемый на штырях с количеством ламп в светильнике 2 | D38: 100 шт. | E38: 0.23 | F38: 6855.13 | G38: 1620.52 | H38: 2228.22 | I38: 710.91 | J38: 1577 | K38: 373 | L38: 512 | M38: 164 | N38: 116 | O38: 26.68 | P38: 45.08 | Q38: 10.37
A39: 15 | B39: ТСЦ-509-0696 | C39: Лампы люминесцентные | D39: 10 шт. | E39: 25.1 | F39: 113.9 | J39: 2859
A40: 16 | B40: Цена поставщика | C40: Выключатель одноклавишный для открытой установки ВС20-1-0-ОБ серия "Октава" EVО10-K01-10-DC | D40: шт. | E40: 10 | F40: 19,43 127,48/1,18/5,56 | J40: 194
A41: 17 | B41: ТЕРм08-03-591-01 | C41: Выключатель одноклавишный неутопленного типа при открытой проводке | D41: 100 шт. | E41: 0.1 | F41: 758.17 | G41: 551.82 | H41: 27.07 | I41: 0.55 | J41: 76 | K41: 55 | L41: 3 | N41: 39.5 | O41: 3.95 | P41: 0.03
A42: 18 | B42: Цена поставщика | C42: Выключатель двухклавишный для открытой установки ВС20-2-0-ОБ серия "Октава" EVО20-K01-10-DC | D42: шт. | E42: 7 | F42: 29,19 191,51/1,18/5,56 | J42: 204
A43: 19 | B43: ТЕРм08-03-591-04 | C43: Выключатель двухклавишный неутопленного типа при открытой проводке | D43: 100 шт. | E43: 0.07 | F43: 801.67 | G43: 613.28 | H43: 29.99 | I43: 0.73 | J43: 56 | K43: 43 | L43: 2 | N43: 43.9 | O43: 3.07 | P43: 0.04
...

Sheet 25004
A1: СОГЛАСОВАНО: | E1: ФГУП "Комбинат "Электрохимприбор" | M1: УТВЕРЖДАЮ:
G2: (наименование стройки) | M2: Зам. генерального директора
A3: _____________________________ | M3: Е.В.Гордеев
A4: " _____ " ________________ 2013г. | G4: ЛОКАЛЬНЫЙ СМЕТНЫЙ РАСЧЕТ № 25004
G5: (локальная смета) | M5: "______ " __________2013 г.
C7: на | D7: Реконструкцию помещений для отдела 042. Город Лесной ул.Островского 2 (инв.№ 8811031)
E8: Раздел: Кондиционирование
H9: (наименование работ и затрат, наименование объекта)
D11: Основание: Проект № 24686-13-ОВ
D12: Сметная стоимость _______________________________________________________________________________________________ | J12: ___________________________61,961 | L12: тыс. руб.
D13: строительных работ _______________________________________________________________________________________________ | J13: _______________________________________________________________________________________________29,104 | L13: тыс. руб.
D14: монтажных работ _______________________________________________________________________________________________ | J14: _______________________________________________________________________________________________2,248 | L14: тыс. руб.
D15: оборудования _______________________________________________________________________________________________ | J15: _______________________________________________________________________________________________30,609 | L15: тыс. руб.
D16: Средства на оплату труда _______________________________________________________________________________________________ | J16: ___________________________6,593 | L16: тыс. руб.
D17: Сметная трудоемкость _______________________________________________________________________________________________ | J17: _______________________________________________________________________________________________474,93 | L17: чел.час
D18: Материалы ___________________________________________________________ | J18: 9.992 | L18: тыс.руб.
D19: Составлен(а) в базовых ценах 2001г. в редакции 2009г.
A22: № пп | B22: Обоснова-ние | C22: Наименование | D22: Ед. изм. | E22: Кол. | F22: Стоимость единицы, руб. | J22: Общая стоимость, руб. | O22: Т/з осн. раб.на ед. | P22: Т/з осн. раб. Всего | Q22: Общая масса обору-дования, т
F23: Всего | G23: В том числе | J23: Обору-дование | K23: Всего | L23: В том числе
G24: Осн.З/п | H24: Эк.Маш | I24: З/пМех | L24: Осн.З/п | M24: Эк.Маш | N24: З/пМех
A25: 1 | B25: 2 | C25: 3 | D25: 4 | E25: 5 | F25: 6 | G25: 7 | H25: 8 | I25: 9 | J25: 10 | K25: 11 | L25: 12 | M25: 13 | N25: 14 | O25: 15 | P25: 16 | Q25: 17
A26: Раздел 1. Сплит-кондиционеры.
A27: Помещение №2
A28: 1 | B28: ТЕР20-06-002-01 прим. | C28: Установка наружного блока сплит-системы Panaconik CS/CU-E7MKD | D28: 1 блок | E28: 1 | F28: 965.62 | G28: 565.61 | H28: 115.2 | I28: 4 | K28: 966 | L28: 566 | M28: 115 | N28: 4 | O28: 43.71 | P28: 43.71
A29: 2 | B29: ТЕР20-06-004-01 прим. | C29: Установка внутреннего блока сплит-системы Panaconik CS/CU-E7MKD | D29: 1 блок | E29: 1 | F29: 876.98 | G29: 172.22 | H29: 40.4 | I29: 2.18 | K29: 877 | L29: 172 | M29: 40 | N29: 2 | O29: 12.71 | P29: 12.71
A30: 3 | B30: Цена поставщика. | C30: Сплит-системы Panaconik CS/CU-E7MKD | D30: шт | E30: 1 | F30: 26747,23/1,18/4,19*1,012*1,01*1,03 | J30: 5695 | K30: 5695
A31: 4 | B31: ТЕРм12-01-105-01 | C31: Трубопровод из медных труб | D31: 100 м | E31: 0.05 | F31: 1654.94 | G31: 1196.47 | H31: 359.37 | I31: 25.11 | K31: 83 | L31: 60 | M31: 18 | N31: 1 | O31: 88.3 | P31: 4.42
A32: 5 | B32: ФССЦ-507-2958 | C32: Трубы медные КОЭФ. К ПОЗИЦИИ: Проведение расценок ФЕР к территориальному уровню (Письмо УРЦЦС Ц-297 от 12.04.2011) ОЗП=1,41; ЭМ=1,242; ЗПМ=1,41; МАТ=1,052 | D32: м | E32: 5 | F32: 25.53 | K32: 128
A33: 6 | B33: ТЕРм12-01-163-01 | C33: Прокладка трубки дренажной | D33: 10 м | E33: 0.5 | F33: 180.8 | G33: 147.7 | H33: 25.75 | I33: 0.18 | K33: 90 | L33: 74 | M33: 13 | O33: 10.9 | P33: 5.45
A34: 7 | B34: ФССЦ-301-1348 прим. | C34: Трубки дренажные для систем кондиционирования КОЭФ. К ПОЗИЦИИ: Проведение расценок ФЕР к территориальному уровню (Письмо УРЦЦС Ц-297 от 12.04.2011) ОЗП=1,41; ЭМ=1,242; ЗПМ=1,41; МАТ=1,052 | D34: м | E34: 5 | F34: 7.5 | K34: 38
A35: 8 | B35: ТЕР26-01-017-01 | C35: Изоляция трубопроводов изделиями из вспененного полиэтилена («Термофлекс») трубками | D35: 10 м | E35: 0.5 | F35: 1189.41 | G35: 49.17 | H35: 28.25 | K35: 595 | L35: 25 | M35: 14 | O35: 3.52 | P35: 1.76
A36: 9 | B36: ФССЦ-111-0079 | C36: Узел крепления кронштейна окрашенный КОЭФ. К ПОЗИЦИИ: Проведение расценок ФЕР к территориальному уровню (Письмо УРЦЦС Ц-297 от 12.04.2011) ОЗП=1,41; ЭМ=1,242; ЗПМ=1,41; МАТ=1,052 | D36: шт. | E36: 1 | F36: 135.49 | K36: 135
A37: 10 | B37: ТЕР12-01-010-01 | C37: Устройство защитного козырька из листовой оцинкованной стали над внешним блоком | D37: 100 м2 | E37: 0.005 | F37: 15322.3 | G37: 1354.13 | H37: 58.83 | I37: 3.64 | K37: 77 | L37: 7 | O37: 112.75 | P37: 0.56
A38: 11 | B38: ТСЦ-103-0057 | C38: Трубы стальные водогазопроводные диаметр условного прохода 90 мм, (Для гильзы) | D38: м | E38: 1 | F38: 112.99 | K38: 113
A39: 12 | B39: ТЕР46-03-009-08 | C39: Пробивка в кирпичных стенах отверстий круглых диаметром до 50 мм при толщине стен до 51 см | D39: 100 шт. | E39: 0.01 | F39: 5264.08 | G39: 1256.86 | H39: 4007.22 | I39: 443.92 | K39: 53 | L39: 13 | M39: 40 | N39: 4 | O39: 97.13 | P39: 0.97
A40: 13 | B40: ТЕРр69-4-1 | C40: Заделка отверстий в местах прохода трубопроводов в стенах и перегородках оштукатуренных | D40: 100 отверстий | E40: 0.01 | F40: 1343.1 | G40: 944.71 | H40: 2.02 | I40: 0.78 | K40: 13 | L40: 9 | O40: 78.66 | P40: 0.79
A41: Помещение №3,5,6
A42: 14 | B42: ТЕР20-06-002-01 прим. | C42: Установка наружного блока сплит-системы Panaconik CS/CU-E9MKD | D42: 1 блок | E42: 3 | F42: 965.62 | G42: 565.61 | H42: 115.2 | I42: 4 | K42: 2897 | L42: 1697 | M42: 346 | N42: 12 | O42: 43.71 | P42: 131.13
A43: 15 | B43: ТЕР20-06-004-01 прим. | C43: Установка внутреннего блока сплит-системы Panaconik CS/CU-E9MKD | D43: 1 блок | E43: 3 | F43: 876.98 | G43: 172.22 | H43: 40.4 | I43: 2.18 | K43: 2631 | L43: 517 | M43: 121 | N43: 7 | O43: 12.71 | P43: 38.13
A44: 16 | B44: Цена поставщика. | C44: Сплит-системы Panaconik CS/CU-E9MKD | D44: шт | E44: 3 | F44: 28311,27/1,18/4,19*1,012*1,01*1,03 | J44: 18085 | K44: 18085
...

Sheet 25031
A1: СОГЛАСОВАНО: | E1: ФГУП "Комбинат "Электрохимприбор" | M1: УТВЕРЖДАЮ:
G2: (наименование стройки) | M2: Зам.генерального директора
A3: _________________ | N3: Е.В. Гордеев
A4: " _____ " ________________ 2013 г. | M4: __________________
G5: ЛОКАЛЬНЫЙ СМЕТНЫЙ РАСЧЕТ № 25031 | M5: "______ " __________2013 г.
G6: (локальная смета)
C8: на | D8: Реконструкцию помещений для отдела 042. Город, ул.Островского, 2 (Инв.№ 8811031)
D9: Раздел: архитектурно-строительный
D10: (наименование работ и затрат, наименование объекта)
D12: Основание: проект № 24671-13-АС
D13: Сметная стоимость _______________________________________________________________________________________________ | J13: ___________________________786,593 | L13: тыс. руб.
D14: строительных работ _______________________________________________________________________________________________ | J14: _______________________________________________________________________________________________786,315 | L14: тыс. руб.
D15: монтажных работ _______________________________________________________________________________________________ | J15: _______________________________________________________________________________________________0,278 | L15: тыс. руб.
D16: Средства на оплату труда _______________________________________________________________________________________________ | J16: ___________________________86,985 | L16: тыс. руб.
D17: Сметная трудоемкость _______________________________________________________________________________________________ | J17: _______________________________________________________________________________________________6377,47 | L17: чел.час
D18: Материалы _________________________________________________________ | K18: 516,203 тыс.руб.
D19: Составлен(а) в базовых ценах 2001г. в редакции 2009г.
A21: № пп | B21: Обоснование | C21: Наименование | D21: Ед. изм. | E21: Кол. | F21: Стоимость единицы, руб. | J21: Общая стоимость, руб. | N21: Т/з осн. раб.на ед. | O21: Т/з осн. раб. Всего | P21: Т/з мех. на ед. | Q21: Т/з мех. Всего
F22: Всего | G22: В том числе | J22: Всего | K22: В том числе
G23: Осн.З/п | H23: Эк.Маш | I23: З/пМех | K23: Осн.З/п | L23: Эк.Маш | M23: З/пМех
A24: 1 | B24: 2 | C24: 3 | D24: 4 | E24: 5 | F24: 6 | G24: 7 | H24: 8 | I24: 9 | J24: 10 | K24: 11 | L24: 12 | M24: 13 | N24: 14 | O24: 15 | P24: 16 | Q24: 17
A25: Раздел 1. Разборка конструкций
A26: 1 | B26: ТЕР09-06-001-02 | C26: Разборка решеток КОЭФ. К ПОЗИЦИИ: Разборка (демонтаж) металлических конструкций ОЗП=0,7; ЭМ=0,7 к расх.; ЗПМ=0,7; МАТ=0 к расх.; ТЗ=0,7; ТЗМ=0,7 | D26: 1 т | E26: 1.64 | F26: 533.68 | G26: 426.99 | H26: 106.69 | I26: 1.53 | J26: 875 | K26: 700 | L26: 175 | M26: 3 | N26: 35.55 | O26: 58.3 | P26: 0.08 | Q26: 0.13
A27: 2 | B27: ТЕР46-04-012-01 | C27: Разборка деревянных заполнений проемов оконных с подоконными досками | D27: 100 м2 | E27: 0.637 | F27: 2461.28 | G27: 2149.36 | H27: 311.92 | I27: 120.9 | J27: 1568 | K27: 1369 | L27: 199 | M27: 77 | N27: 188.54 | O27: 120.1 | P27: 7.74 | Q27: 4.93
A28: 3 | B28: ТЕРр58-3-1 | C28: Разборка мелких покрытий и обделок из листовой стали отливов, свесов и т.п. | D28: 100 м | E28: 0.35 | F28: 100.24 | G28: 100.01 | H28: 0.23 | J28: 35 | K28: 35 | N28: 9.1 | O28: 3.19
A29: 4 | B29: ТЕР46-04-012-03 | C29: Разборка деревянных заполнений проемов дверных | D29: 100 м2 | E29: 0.26 | F29: 1496.49 | G29: 1184.57 | H29: 311.92 | I29: 120.9 | J29: 389 | K29: 308 | L29: 81 | M29: 31 | N29: 103.91 | O29: 27.02 | P29: 7.74 | Q29: 2.01
A30: 5 | B30: ТЕР46-04-001-04 | C30: Разборка кирпичной перегородки | D30: 1 м3 | E30: 2.1 | F30: 296.8 | G30: 102.84 | H30: 193.96 | I30: 17.96 | J30: 623 | K30: 216 | L30: 407 | M30: 38 | N30: 8.24 | O30: 17.3 | P30: 1.15 | Q30: 2.42
A31: 6 | B31: ТЕР46-03-007-03 | C31: Пробивка отверстий в конструкциях из кирпича КОЭФ. К ПОЗИЦИИ: При работах на высоте от опорной площадки более 1,5 м ОЗП=1,2; ЭМ=1,2 к расх.; ЗПМ=1,2; ТЗ=1,2; ТЗМ=1,2 | D31: 1 м3 | E31: 0.01 | F31: 700.5 | G31: 186.42 | H31: 514.08 | I31: 47.6 | J31: 7 | K31: 2 | L31: 5 | N31: 14.76 | O31: 0.15 | P31: 3.05 | Q31: 0.03
A32: 7 | B32: ТЕР09-04-010-02 прим. | C32: Разборка остекленной перегородки КОЭФ. К ПОЗИЦИИ: Разборка ОЗП=0,7; ЭМ=0,7 к расх.; ЗПМ=0,7; МАТ=0 к расх.; ТЗ=0,7; ТЗМ=0,7 | D32: 1 т | E32: 0.21 | F32: 4412.71 | G32: 3996.03 | H32: 416.68 | I32: 1.53 | J32: 927 | K32: 839 | L32: 88 | N32: 294.91 | O32: 61.93 | P32: 0.08 | Q32: 0.02
A33: 8 | B33: ТЕРр57-3-1 | C33: Разборка плинтусов деревянных | D33: 100 м | E33: 2.072 | F33: 41.43 | G33: 41.43 | J33: 86 | K33: 86 | N33: 3.77 | O33: 7.81
A34: 9 | B34: ТЕРр57-2-2 | C34: Разборка покрытий полов из плиток поливинилхлоридных | D34: 100 м2 | E34: 0.35 | F34: 395.28 | G34: 390.04 | H34: 5.24 | I34: 2.03 | J34: 138 | K34: 137 | L34: 1 | M34: 1 | N34: 35.49 | O34: 12.42 | P34: 0.13 | Q34: 0.05
A35: 10 | B35: ТЕРр57-2-1 | C35: Разборка покрытий полов из линолеума | D35: 100 м2 | E35: 1.586 | F35: 130.42 | G35: 125.18 | H35: 5.24 | I35: 2.03 | J35: 207 | K35: 199 | L35: 8 | M35: 3 | N35: 11.39 | O35: 18.06 | P35: 0.13 | Q35: 0.21
A36: 11 | B36: ТЕРр57-2-7 | C36: Разборка покрытий полов из древесноволокнистых плит | D36: 100 м2 | E36: 0.625 | F36: 126.72 | G36: 121.88 | H36: 4.84 | I36: 1.87 | J36: 79 | K36: 76 | L36: 3 | M36: 1 | N36: 11.09 | O36: 6.93 | P36: 0.12 | Q36: 0.08
A37: 12 | B37: ТЕРр57-2-4 | C37: Разборка цементно-песчаной стяжки | D37: 100 м2 | E37: 1.936 | F37: 4262.51 | G37: 1335.51 | H37: 2927 | I37: 288.33 | J37: 8252 | K37: 2586 | L37: 5666 | M37: 558 | N37: 111.2 | O37: 215.28 | P37: 21 | Q37: 40.66
A38: 13 | B38: ТЕР46-04-007-06 прим. | C38: Разборка облицовки из плит АГШ стен и потолков | D38: 100 м2 | E38: 0.679 | F38: 902.47 | G38: 813.81 | H38: 88.66 | I38: 34.36 | J38: 613 | K38: 553 | L38: 60 | M38: 23 | N38: 66.87 | O38: 45.4 | P38: 2.2 | Q38: 1.49
A39: 14 | B39: ТЕР10-01-012-03 | C39: Разборка обшивки из плит древесностружечных стен КОЭФ. К ПОЗИЦИИ: Разборка ОЗП=0,8; ЭМ=0,8 к расх.; ЗПМ=0,8; МАТ=0 к расх.; ТЗ=0,8; ТЗМ=0,8 | D39: 100 м2 | E39: 0.177 | F39: 785.88 | G39: 742.16 | H39: 43.72 | J39: 139 | K39: 131 | L39: 8 | N39: 60.24 | O39: 10.66
A40: 15 | B40: ТЕРр61-25-1 прим. | C40: Очистка поверхности стен от отделочного покрытия "Левкас" | D40: 100 м2 | E40: 1.206 | F40: 1206.01 | G40: 228.76 | H40: 963.08 | I40: 124.12 | J40: 1454 | K40: 276 | L40: 1161 | M40: 150 | N40: 18.33 | O40: 22.11 | P40: 9.16 | Q40: 11.05
A41: 16 | B41: ТЕРр65-30-2 | C41: Разборка воздуховодов из листовой стали толщиной до 0,9 мм периметром до 1000 мм | D41: 100 м2 | E41: 0.075 | F41: 509.43 | G41: 479.2 | H41: 30.23 | I41: 11.72 | J41: 38 | K41: 36 | L41: 2 | M41: 1 | N41: 39.9 | O41: 2.99 | P41: 0.75 | Q41: 0.06
A42: 17 | B42: ТЕРр67-2-10 | C42: Демонтаж стальных труб, проложенных в борозде пола диаметром до 80 мм | D42: 100 м труб | E42: 0.14 | F42: 767.48 | G42: 749.53 | H42: 11.1 | I42: 3.59 | J42: 107 | K42: 105 | L42: 2 | M42: 1 | N42: 65.12 | O42: 9.12 | P42: 0.23 | Q42: 0.03
A43: 18 | B43: ТЕР09-06-001-02 | C43: Разборка металлических конструкций щита выхода на крышу КОЭФ. К ПОЗИЦИИ: Разборка (демонтаж) металлических конструкций ОЗП=0,7; ЭМ=0,7 к расх.; ЗПМ=0,7; МАТ=0 к расх.; ТЗ=0,7; ТЗМ=0,7 | D43: 1 т | E43: 0.021 | F43: 533.68 | G43: 426.99 | H43: 106.69 | I43: 1.53 | J43: 11 | K43: 9 | L43: 2 | N43: 35.55 | O43: 0.75 | P43: 0.08
...

Sheet 25032
A1: СОГЛАСОВАНО: | E1: ФГУП "Комбинат "Электрохимприбор" | M1: УТВЕРЖДАЮ:
G2: (наименование стройки) | M2: Зам. генерального директора
M3: Е.В.Гордеев
A4: _________________ | M4: _________________
A5: " _____ " ________________ 2013 г. | M5: "______ " __________2013 г.
G6: ЛОКАЛЬНЫЙ СМЕТНЫЙ РАСЧЕТ № 25032
G7: (локальная смета)
C9: на | D9: реконструкцию помещений для отдела 042. г.Лесной ул.Островского, 2. Инв.№ 8811031
D10: Раздел: Система доступа
G11: (наименование работ и затрат, наименование объекта)
D13: Основание: проект № 24698-13-СД
D14: Сметная стоимость _______________________________________________________________________________________________ | J14: ___________________________12,441 | L14: тыс. руб.
D15: строительных работ _______________________________________________________________________________________________ | J15: _______________________________________________________________________________________________0,274 | L15: тыс. руб.
D16: монтажных работ _______________________________________________________________________________________________ | J16: _______________________________________________________________________________________________12,167 | L16: тыс. руб.
D17: Средства на оплату труда _______________________________________________________________________________________________ | J17: ___________________________3,077 | L17: тыс. руб.
D18: Сметная трудоемкость _______________________________________________________________________________________________ | J18: _______________________________________________________________________________________________188,94 | L18: чел.час
D19: Материалы ______________________________________ | K19: =J99/1000 -> 4.356 | L19: тыс.руб.
D20: Составлен(а) в базовых ценах 2001г. в редакции 2009г.
A22: № пп | B22: Обоснование | C22: Наименование | D22: Ед. изм. | E22: Кол. | F22: Стоимость единицы, руб. | J22: Общая стоимость, руб. | N22: Т/з осн. раб.на ед. | O22: Т/з осн. раб. Всего | P22: Т/з мех. на ед. | Q22: Т/з мех. Всего
F23: Всего | G23: В том числе | J23: Всего | K23: В том числе
G24: Осн.З/п | H24: Эк.Маш | I24: З/пМех | K24: Осн.З/п | L24: Эк.Маш | M24: З/пМех
A25: 1 | B25: 2 | C25: 3 | D25: 4 | E25: 5 | F25: 6 | G25: 7 | H25: 8 | I25: 9 | J25: 10 | K25: 11 | L25: 12 | M25: 13 | N25: 14 | O25: 15 | P25: 16 | Q25: 17
A26: Раздел 1. Монтажные работы
A27: 1 | B27: Цена поставщика | C27: Блок вызова домофона БВД-SM101RCPL | D27: шт | E27: 1 | F27: 687,42 4510/1,18/5,56 | J27: 687
A28: 2 | B28: ТЕРм10-02-016-06 | C28: Монтаж: блок вызова домофона | D28: 1 шт. | E28: 1 | F28: 256.7 | G28: 157.76 | H28: 33.83 | I28: 6.87 | J28: 257 | K28: 158 | L28: 34 | M28: 7 | N28: 10.1 | O28: 10.1 | P28: 0.44 | Q28: 0.44
A29: 3 | B29: Цена поставщика | C29: Комплект монтажный МК-341 для блока вызова домофона БВД-SM101RCPL | D29: шт | E29: 1 | F29: 111,27 730/1,18/5,56 | J29: 111
A30: 4 | B30: Цена поставщика | C30: Блок коммутации БК-10 | D30: шт | E30: 1 | F30: 55,33 363/1,18/5,56 | J30: 55
A31: 5 | B31: ТЕРм10-02-016-02 | C31: Монтаж: блок коммутации, емкость до 10 номеров | D31: шт | E31: 1 | F31: 166.73 | G31: 52.8 | H31: 9.99 | I31: 2.03 | J31: 167 | K31: 53 | L31: 10 | M31: 2 | N31: 3.38 | O31: 3.38 | P31: 0.13 | Q31: 0.13
A32: 6 | B32: Цена поставщика | C32: Устройство квартирное переговорное УКП-12-1 | D32: шт | E32: 5 | F32: 60,36 396/1,18/5,56 | J32: 302
A33: 7 | B33: ТЕРм10-02-030-02 | C33: Монтаж: устройство квартирное переговорное настенное | D33: 1 шт. | E33: 4 | F33: 110.22 | G33: 97.56 | J33: 441 | K33: 390 | N33: 7.2 | O33: 28.8
A34: 8 | B34: Цена поставщика | C34: Источник питания БПД 18/12-1 | D34: шт | E34: 1 | F34: 127,42 836/1,18/5,56 | J34: 127
A35: 9 | B35: ТЕРм10-02-016-06 | C35: Монтаж: блок питания | D35: 1 шт. | E35: 1 | F35: 256.7 | G35: 157.76 | H35: 33.83 | I35: 6.87 | J35: 257 | K35: 158 | L35: 34 | M35: 7 | N35: 10.1 | O35: 10.1 | P35: 0.44 | Q35: 0.44
A36: 10 | B36: Цена поставщика | C36: Монтажный бокс 260х345х115мм VIZIT-МВ1 | D36: шт | E36: 1 | F36: 179,4 1177/1,18/5,56 | J36: 179
A37: 11 | B37: ТЕРм10-03-013-08 | C37: Монтаж: шкаф приборный | D37: 1 шт. | E37: 1 | F37: 161.11 | G37: 121.14 | H37: 27.05 | I37: 5.15 | J37: 161 | K37: 121 | L37: 27 | M37: 5 | N37: 8.94 | O37: 8.94 | P37: 0.33 | Q37: 0.33
A38: 12 | B38: ТЕРм10-01-052-07 | C38: Кроссировка в шкафу | D38: 10 шт. (кроссировок) | E38: 2 | F38: 16.51 | G38: 15.62 | J38: 33 | K38: 31 | N38: 1 | O38: 2
A39: 13 | B39: Цена поставщика | C39: Замок электромагнитный VIZIT-МL400-50 | D39: шт | E39: 1 | F39: 286,7 1881/1.18/5.56 | J39: 287
A40: 14 | B40: ТЕРм08-01-081-01 | C40: Монтаж: замок электромагнитной блокировки | D40: 1 шт. | E40: 1 | F40: 29.8 | G40: 15.31 | H40: 11.69 | I40: 0.73 | J40: 30 | K40: 15 | L40: 12 | M40: 1 | N40: 1.13 | O40: 1.13 | P40: 0.04 | Q40: 0.04
A41: 15 | B41: Цена поставщика | C41: Кнопка "EXIT 300М" | D41: шт | E41: 1 | F41: 60,36 396/1.18/5.56 | J41: 60
A42: 16 | B42: ТЕРм08-01-081-01 | C42: Монтаж: кнопка | D42: 1 шт. | E42: 1 | F42: 29.8 | G42: 15.31 | H42: 11.69 | I42: 0.73 | J42: 30 | K42: 15 | L42: 12 | M42: 1 | N42: 1.13 | O42: 1.13 | P42: 0.04 | Q42: 0.04
A43: 17 | B43: Цена поставщика | C43: Переключатель кулачковый однополюсный на 12 А AS1201R | D43: шт | E43: 1 | F43: 26,26 172,27/1.18/5.56 | J43: 26
...

Sheet НМЦ
A1: г. Лесной ФГУП "Комбинат "Электрохимприбор"
A3: Расчет начальной (максимальной) цены
A5: Выполнение работ по реконструкции здания расположенного по ул. Островского, 2
A8: Составлен в ценах по состоянию на 01.01.2000 г. с переводом в текущие | D8: руб.
A9: Наименование глав ССР, объектных сметных расчетов, локальных сметных расчетов, видов работ | B9: Сметная стоимость в базисных ценах на 01.01.2000 | C9: Текущая стоимость на момент определения начальной (максимальной) цены | D9: № обосновывающего расчета
A13: 1 | B13: 2 | C13: 3 | D13: 4
A14: Отопление и вентиляция | B14: ='Сводка затрат'!H13 -> 34441 | C14: =ROUND('Сводка затрат'!D13*5.98,0)+ROUND('Сводка затрат'!E13*5.98,0)+ROUND('Сводка затрат'!F13*4.21,0)+ROUND('Сводка затрат'!G13*10.48,0) -> 205957 | D14: 25033
A15: Водопровод и канализация | B15: ='Сводка затрат'!H14 -> 6222 | C15: =ROUND('Сводка затрат'!D14*5.98,0)+ROUND('Сводка затрат'!E14*5.98,0)+ROUND('Сводка затрат'!F14*4.21,0)+ROUND('Сводка затрат'!G14*10.48,0) -> 37208 | D15: 25074
A16: Реконструкция | B16: ='Сводка затрат'!H15 -> 58231 | C16: =ROUND('Сводка затрат'!D15*5.98,0)+ROUND('Сводка затрат'!E15*5.98,0)+ROUND('Сводка затрат'!F15*4.21,0)+ROUND('Сводка затрат'!G15*10.48,0) -> 366542 | D16: 25079
A17: Электрооборудование. Электроосвещение | B17: ='Сводка затрат'!H16 -> 106725 | C17: =ROUND('Сводка затрат'!D16*5.98,0)+ROUND('Сводка затрат'!E16*5.98,0)+ROUND('Сводка затрат'!F16*4.21,0)+ROUND('Сводка затрат'!G16*10.48,0) -> 638216 | D17: 25081
A18: Кондиционирование | B18: ='Сводка затрат'!H17 -> 61961 | C18: =ROUND('Сводка затрат'!D17*5.98,0)+ROUND('Сводка затрат'!E17*5.98,0)+ROUND('Сводка затрат'!F17*4.21,0)+ROUND('Сводка затрат'!G17*10.48,0) -> 316349 | D18: 25082
A19: Архитектурно-строительные | B19: ='Сводка затрат'!H18 -> 786593 | C19: =ROUND('Сводка затрат'!D18*5.98,0)+ROUND('Сводка затрат'!E18*5.98,0)+ROUND('Сводка затрат'!F18*4.21,0)+ROUND('Сводка затрат'!G18*10.48,0) -> 4703826 | D19: 25083
A20: Система доступа | B20: ='Сводка затрат'!H19 -> 12441 | C20: =ROUND('Сводка затрат'!D19*5.98,0)+ROUND('Сводка затрат'!E19*5.98,0)+ROUND('Сводка затрат'!F19*4.21,0)+ROUND('Сводка затрат'!G19*10.48,0) -> 74398 | D20: 25085
A21: Итого | B21: =SUM(B14:B20) -> 1066614 | C21: =SUM(C14:C20) -> 6342496
A23: НДС 18% | C23: =ROUND(C21*18%,2) -> 1141649.3
A25: Всего | C25: =SUM(C21:C24) -> 7484145.3
A28: Начальник отдела
A29: капитального строительства | C29: В.В. Моляков
A31: Инженер по проектно-сметной работе | C31: Т.Ш. Ковязина
A34: Согласовано | C34: отдел 028

Sheet Сводка затрат
A1: Приложение №__ к договору от "__"______2013 №_______
A3: г. Лесной. ФГУП "Комбинат "Электрохимприбор"
A5: Сводка затрат
A7: Выполнение работ по реконструкции здания расположенного по ул. Островского, 2 (отдел 042)
A9: Составлен в ценах по состоянию на 01.01.2000 г.
A10: № п/п | B10: Номера сметных расчетов и смет | C10: Наименование работ и затрат | D10: Сметная стоимость | H10: Общая сметная стоимость, руб.
D11: строительных работ | E11: монтажных работ | F11: оборудования, мебели, инвентаря | G11: прочих затрат
A12: 1 | B12: 2 | C12: 3 | D12: 4 | E12: 5 | F12: 6 | G12: 7 | H12: 8
A13: 1 | B13: 24965 | C13: Отопление и вентиляция | D13: ='24965'!J75 -> 33654 | E13: ='24965'!J76 -> 787 | F13: 0 | G13: 0 | H13: =SUM(D13:G13) -> 34441 | J13: =ROUND(D13*5.98,0) -> 201251 | K13: =ROUND(E13*5.98,0) -> 4706 | L13: =ROUND(F13*4.21,0) -> 0 | M13: =ROUND(G13*10.48,0) -> 0 | N13: =SUM(J13:M13) -> 205957
A14: 2 | B14: 24971 | C14: Водопровод и канализация | D14: ='24971'!J79 -> 6222 | E14: 0 | F14: 0 | G14: 0 | H14: =SUM(D14:G14) -> 6222 | J14: =ROUND(D14*5.98,0) -> 37208 | K14: =ROUND(E14*5.98,0) -> 0 | L14: =ROUND(F14*4.21,0) -> 0 | M14: =ROUND(G14*10.48,0) -> 0 | N14: =SUM(J14:M14) -> 37208
A15: 3 | B15: 25002 | C15: Реконструкция | D15: 0 | E15: ='25002'!J121 -> 45893 | F15: ='25002'!J122 -> 5933 | G15: ='25002'!J123 -> 6405 | H15: =SUM(D15:G15) -> 58231 | J15: =ROUND(D15*5.98,0) -> 0 | K15: =ROUND(E15*5.98,0) -> 274440 | L15: =ROUND(F15*4.21,0) -> 24978 | M15: =ROUND(G15*10.48,0) -> 67124 | N15: =SUM(J15:M15) -> 366542
A16: 4 | B16: 25003 | C16: Электрооборудование. Электроосвещение | D16: 0 | E16: ='25003'!J138 -> 106725 | F16: 0 | G16: 0 | H16: =SUM(D16:G16) -> 106725 | J16: =ROUND(D16*5.98,0) -> 0 | K16: =ROUND(E16*5.98,0) -> 638216 | L16: =ROUND(F16*4.21,0) -> 0 | M16: =ROUND(G16*10.48,0) -> 0 | N16: =SUM(J16:M16) -> 638216
A17: 5 | B17: 25004 | C17: Кондиционирование | D17: ='25004'!K91 -> 29104 | E17: ='25004'!K92 -> 2248 | F17: ='25004'!K93 -> 30609 | G17: 0 | H17: =SUM(D17:G17) -> 61961 | J17: =ROUND(D17*5.98,0) -> 174042 | K17: =ROUND(E17*5.98,0) -> 13443 | L17: =ROUND(F17*4.21,0) -> 128864 | M17: =ROUND(G17*10.48,0) -> 0 | N17: =SUM(J17:M17) -> 316349
A18: 6 | B18: 25031 | C18: Архитектурно-строительные | D18: ='25031'!J209 -> 786315 | E18: ='25031'!J210 -> 278 | F18: 0 | G18: 0 | H18: =SUM(D18:G18) -> 786593 | J18: =ROUND(D18*5.98,0) -> 4702164 | K18: =ROUND(E18*5.98,0) -> 1662 | L18: =ROUND(F18*4.21,0) -> 0 | M18: =ROUND(G18*10.48,0) -> 0 | N18: =SUM(J18:M18) -> 4703826
A19: 7 | B19: 25032 | C19: Система доступа | D19: ='25032'!J95 -> 274 | E19: ='25032'!J96 -> 12167 | F19: 0 | G19: 0 | H19: =SUM(D19:G19) -> 12441 | J19: =ROUND(D19*5.98,0) -> 1639 | K19: =ROUND(E19*5.98,0) -> 72759 | L19: =ROUND(F19*4.21,0) -> 0 | M19: =ROUND(G19*10.48,0) -> 0 | N19: =SUM(J19:M19) -> 74398
C20: Итого в базисных ценах 2000 г. | D20: =SUM(D13:D19) -> 855569 | E20: =SUM(E13:E19) -> 168098 | F20: =SUM(F13:F19) -> 36542 | G20: =SUM(G13:G19) -> 6405 | H20: =SUM(D20:G20) -> 1066614 | J20: =SUM(J13:J19) -> 5116304 | K20: =SUM(K13:K19) -> 1005226 | L20: =SUM(L13:L19) -> 153842 | M20: =SUM(M13:M19) -> 67124 | N20: =SUM(N13:N19) -> 6342496
C21: Всего в ценах 2014 (Ксмр=5,98, Коб.=4,21, Кпнр.=10,48) | D21: =ROUND(D20*5.98,0)+1 -> 5116304 | E21: =ROUND(E20*5.98,0) -> 1005226 | F21: =ROUND(F20*4.21,0) -> 153842 | G21: =ROUND(G20*10.48,0) -> 67124 | H21: =SUM(D21:G21) -> 6342496
C22: НДС 18% | D22: =ROUND(D21*18%,2) -> 920934.72 | E22: =ROUND(E21*18%,2) -> 180940.68 | F22: =ROUND(F21*18%,2) -> 27691.56 | G22: =ROUND(G21*18%,2) -> 12082.32 | H22: =SUM(D22:G22) -> 1141649.3
C23: Всего в ценах 2014 с НДС | D23: =SUM(D21:D22) -> 6037238.7 | E23: =SUM(E21:E22) -> 1186166.7 | F23: =SUM(F21:F22) -> 181533.56 | G23: =SUM(G21:G22) -> 79206.32 | H23: =SUM(D23:G23) -> 7484145.3
C27: ЗАКАЗЧИК: | H27: ПОДРЯДЧИК:
C28: Генеральный директор
C29: ФГУП "Комбинат "Электрохимприбор"
C31: __________________ А.В. Новиков
