Workbook

Sheet Смета 12 гр. по ФЕР
A1: =Source!B1 -> Smeta.RU (495) 974-1589 | H1: ПРИЛОЖЕНИЕ 1 к ФОРМЕ 6
B4: СМЕТА
B8: Капитальный ремонт оконных проемов с заменой деревянных оконных блоков на оконные блоки из ПВХ в кабинетах №8,№1, аудиториях №7, №6, №5, №3, №15, №16, №18, №11, препараторских № 4, № 17 четвертого учебного корпуса Нововоронежского политехнического колледжа - филиала НИЯУ МИФИ (НВПК НИЯУ МИФИ) по адреcу: Воронежская обл., г. Нововоронеж, ул. Октябрьская, д.1 | AD8: =IF(Source!G12<>"Новый объект", Source!G12, "") -> по капитальному ремонту оконных проемов с заменой деревянных оконных блоков на оконные блоки из ПВХ на лестничных клетках с второго по четвертый этажи,в кабинетах № 8, № 1, аудиториях № 7, № 6,№ 5,№ 3,№ 15,№ 16,№ 18, № 11, препараторских № 4,№ 17 четвертого этажа здания учебного корпуса Нововоронежского политехнического колледжа - филиала НИЯУ МИФИ (НВПК НИЯУ МИФИ) по адреcу: Воронежская обл., г. Нововоронеж, ул. Октябрьская, д.1
B9: (наименование работ и затрат, наименование объекта)
A11: =CONCATENATE("Основание: ", Source!J12) -> Основание:
G14: базовая цена | I14: текущая цена
C15: Сметная стоимость | G15: =SUM(O1:O104)/1000 -> 125.73446 | I15: 946.77 | K15: тыс. руб.
C16: Строительные работы | G16: =SUM(W1:W104)/1000 -> 125.73446 | I16: =(Source!F92)/1000 -> 802.344 | K16: тыс. руб.
C17: Монтажные работы | G17: =SUM(X1:X104)/1000 -> 0 | I17: =(Source!F93)/1000 -> 0 | K17: тыс. руб.
C18: Оборудование | G18: =SUM(Y1:Y104)/1000 -> 0 | I18: =(Source!F84)/1000 -> 0 | K18: тыс. руб.
C19: Прочие работы | G19: =SUM(Z1:Z104)/1000 -> 0 | I19: =(Source!F94+Source!F95)/1000 -> 0 | K19: тыс. руб.
C20: Нормативная трудоемкость | G20: =I20 -> 660.07762 | I20: =(Source!F97+Source!F98) -> 660.07762 | K20: чел. -ч.
C21: Средства на оплату труда | G21: =SUM(R1:R104)/1000 -> 5.7263 | I21: =(Source!F90+ Source!F89)/1000 -> 36.53372 | K21: тыс. руб.
A23: Составлена в ценах IV квартал 2017 года
A24: № п/п | B24: Шифр расценки и коды ресурсов | C24: Наименование работ и затрат | D24: Ед. изм. | E24: Кол-во единиц | F24: Цена на ед. изм. | G24: Попра-вочные коэфф. | H24: Стоимость в ценах 2001г. | I24: Пункт коэфф. пересчета | J24: Коэфф. пересчета | K24: Стоимость в текущих ценах | L24: ЗТР всего чел.-час
A25: 1 | B25: 2 | C25: 3 | D25: 4 | E25: 5 | F25: 6 | G25: 7 | H25: 8 | I25: 9 | J25: 10 | K25: 11 | L25: 12
A27: =CONCATENATE("Локальная смета: ",IF(Source!G20<>"Новая локальная смета", Source!G20, "")) -> Локальная смета:
A28: =Source!E24 -> 1 | B28: =Source!F24 -> 46-04-012-01 | C28: =Source!G24 -> Разборка деревянных заполнений проемов оконных с подоконными досками | D28: =Source!H24 -> 100 м2 | E28: =Source!I24 -> 1.3179 | F28: =Source!AL24+Source!AM24+Source!AO24 -> 1767.24 | I28: =Source!BO24 | S28: =ROUND((Source!FX24/100)*((ROUND(Source!AF24*Source!I24, 2)+ROUND(Source!AE24*Source!I24, 2))), 2) -> 2126.41 | T28: =Source!X24 -> 13566.48 | U28: =ROUND((Source!FY24/100)*((ROUND(Source!AF24*Source!I24, 2)+ROUND(Source!AE24*Source!I24, 2))), 2) -> 1277.99 | V28: =Source!Y24 -> 8222.11
C29: ="Объем: "&Source!I24&"=131,79/"&"100" -> Объем: 1,3179=131,79/100
C30: Зарплата | F30: =Source!AO24 -> 1525.29 | G30: =Source!DG24 | H30: =ROUND(Source!AF24*Source!I24, 2) -> 2010.18 | J30: =IF(Source!BA24<> 0, Source!BA24, 1) -> 6.38 | K30: =Source!S24 -> 12824.95 | R30: =H30 -> 2010.18
C31: Эксплуатация машин | F31: =Source!AM24 -> 241.95 | G31: =Source!DE24 | H31: =ROUND(Source!AD24*Source!I24, 2) -> 318.87 | J31: =IF(Source!BB24<> 0, Source!BB24, 1) -> 6.38 | K31: =Source!Q24 -> 2034.36
C32: в т.ч. зарплата машинистов | F32: =Source!AN24 -> 104.49 | G32: =Source!DF24 | H32: =ROUND(Source!AE24*Source!I24, 2) -> 137.71 | J32: =IF(Source!BS24<> 0, Source!BS24, 1) -> 6.38 | K32: =Source!R24 -> 878.57 | R32: =H32 -> 137.71
C33: НР от ФОТ | D33: % | E33: =Source!BZ24 -> 110 | F33: =CONCATENATE(" )", Source!DL24, Source!FT24, "=", Source!FX24) -> )*0,9=99 | H33: =SUM(S28:S35) -> 2126.41 | J33: =Source!AT24 -> 99 | K33: =SUM(T28:T35) -> 13566.48
C34: СП от ФОТ | D34: % | E34: =Source!CA24 -> 70 | F34: =CONCATENATE(" )", Source!DM24, Source!FU24, "=", Source!FY24) -> )*0,85=59,5 | H34: =SUM(U28:U35) -> 1277.99 | J34: =Source!AU24 -> 60 | K34: =SUM(V28:V35) -> 8222.11
C35: Затраты труда | D35: чел-ч | E35: =Source!AQ24 -> 188.54 | G35: =Source!DI24 | L35: =Source!U24 -> 248.47687
G36: =H30+H31+H33+H34 -> 5733.45 | J36: =K30+K31+K33+K34 -> 36647.9 | L36: =Source!U24 -> 248.47687 | O36: =G36 -> 5733.45 | P36: =J36 -> 36647.9 | Q36: =L36 -> 248.47687 | W36: =IF(Source!BI24<=1,H30+H31+H33+H34, 0) -> 5733.45 | X36: =IF(Source!BI24=2,H30+H31+H33+H34, 0) -> 0 | Y36: =IF(Source!BI24=3,H30+H31+H33+H34, 0) -> 0 | Z36: =IF(Source!BI24=4,H30+H31+H33+H34, 0) -> 0
A37: =Source!E25 -> 2 | B37: =Source!F25 -> 10-01-034-08 | C37: =Source!G25 -> Установка в жилых и общественных зданиях оконных блоков из ПВХ профилей поворотных (откидных, поворотно-откидных) с площадью проема более 2 м2 трехстворчатых, в том числе при наличии створок глухого остекления | D37: =Source!H25 -> 100 м2 | E37: =Source!I25 -> 1.3179 | F37: =Source!AL25+Source!AM25+Source!AO25 -> 10107.89 | I37: =Source!BO25 | S37: =ROUND((Source!FX25/100)*((ROUND(Source!AF25*Source!I25, 2)+ROUND(Source!AE25*Source!I25, 2))), 2) -> 2186.35 | T37: =Source!X25 -> 13922.61 | U37: =ROUND((Source!FY25/100)*((ROUND(Source!AF25*Source!I25, 2)+ROUND(Source!AE25*Source!I25, 2))), 2) -> 1102.44 | V37: =Source!Y25 -> 7092.65
C38: ="Объем: "&Source!I25&"=131,79/"&"100" -> Объем: 1,3179=131,79/100
C39: Зарплата | F39: =Source!AO25 -> 1303.66 | G39: =Source!DG25 -> )*1,15 | H39: =ROUND(Source!AF25*Source!I25, 2) -> 1975.81 | J39: =IF(Source!BA25<> 0, Source!BA25, 1) -> 6.38 | K39: =Source!S25 -> 12605.66 | R39: =H39 -> 1975.81
C40: Эксплуатация машин | F40: =Source!AM25 -> 255.21 | G40: =Source!DE25 -> )*1,25 | H40: =ROUND(Source!AD25*Source!I25, 2) -> 420.42 | J40: =IF(Source!BB25<> 0, Source!BB25, 1) -> 6.38 | K40: =Source!Q25 -> 2682.3
C41: в т.ч. зарплата машинистов | F41: =Source!AN25 -> 50.32 | G41: =Source!DF25 -> )*1,25 | H41: =ROUND(Source!AE25*Source!I25, 2) -> 82.9 | J41: =IF(Source!BS25<> 0, Source!BS25, 1) -> 6.38 | K41: =Source!R25 -> 528.88 | R41: =H41 -> 82.9
C42: Материальные ресурсы | F42: =Source!AL25 -> 8549.02 | G42: =Source!DD25 | H42: =ROUND(Source!AC25*Source!I25, 2) -> 11266.75 | J42: =IF(Source!BC25<> 0, Source!BC25, 1) -> 6.38 | K42: =Source!P25 -> 71881.89
C43: НР от ФОТ | D43: % | E43: =Source!BZ25 -> 118 | F43: =CONCATENATE(" )", Source!DL25, Source!FT25, "=", Source!FX25) -> )*0,9=106,2 | H43: =SUM(S37:S46) -> 2186.35 | J43: =Source!AT25 -> 106 | K43: =SUM(T37:T46) -> 13922.61
C44: СП от ФОТ | D44: % | E44: =Source!CA25 -> 63 | F44: =CONCATENATE(" )", Source!DM25, Source!FU25, "=", Source!FY25) -> )*0,85=53,55 | H44: =SUM(U37:U46) -> 1102.44 | J44: =Source!AU25 -> 54 | K44: =SUM(V37:V46) -> 7092.65
C45: Затраты труда | D45: чел-ч | E45: =Source!AQ25 -> 149.16 | G45: =Source!DI25 -> )*1,15 | L45: =Source!U25 -> 226.06466
A46: =Source!E26 -> 2,1 | B46: =Source!F26 -> Средняя цена коммерческих предложений | C46: Оконный блок из ПВХ Базисная стоимость: 519,77 = [3 913 / 1,18 / 6,38] | D46: =Source!H26 -> м2 | E46: =Source!I26 -> 131.79 | F46: =Source!AL26+Source!AM26+Source!AO26 -> 519.77 | H46: =ROUND(Source!AC26*Source!I26, 2)+ROUND(Source!AD26*Source!I26, 2)+ROUND(Source!AF26*Source!I26, 2) -> 68500.49 | J46: =IF(Source!BC26<> 0, Source!BC26, 1) -> 6.38 | K46: =Source!O26 -> 437033.12 | S46: =ROUND((Source!FX26/100)*((ROUND(Source!AF26*Source!I26, 2)+ROUND(Source!AE26*Source!I26, 2))), 2) -> 0 | T46: =Source!X26 -> 0 | U46: =ROUND((Source!FY26/100)*((ROUND(Source!AF26*Source!I26, 2)+ROUND(Source!AE26*Source!I26, 2))), 2) -> 0 | V46: =Source!Y26 -> 0 | W46: =IF(Source!BI26<=1,H46, 0) -> 68500.49 | X46: =IF(Source!BI26=2,H46, 0) -> 0 | Y46: =IF(Source!BI26=3,H46, 0) -> 0 | Z46: =IF(Source!BI26=4,H46, 0) -> 0
G47: =H39+H40+H42+H43+H44+SUM(H46:H46) -> 85452.26 | J47: =K39+K40+K42+K43+K44+SUM(K46:K46) -> 545218.23 | L47: =Source!U25 -> 226.06466 | O47: =G47 -> 85452.26 | P47: =J47 -> 545218.23 | Q47: =L47 -> 226.06466 | W47: =IF(Source!BI25<=1,H39+H40+H42+H43+H44, 0) -> 16951.77 | X47: =IF(Source!BI25=2,H39+H40+H42+H43+H44, 0) -> 0 | Y47: =IF(Source!BI25=3,H39+H40+H42+H43+H44, 0) -> 0 | Z47: =IF(Source!BI25=4,H39+H40+H42+H43+H44, 0) -> 0
A48: =Source!E27 -> 3 | B48: =Source!F27 -> 12-01-010-01 | C48: =Source!G27 -> Устройство мелких покрытий (брандмауэры, парапеты, свесы и т.п.) из листовой оцинкованной стали | D48: =Source!H27 -> 100 м2 | E48: =Source!I27 -> 0.1196 | F48: =Source!AL27+Source!AM27+Source!AO27 -> 9874.22 | I48: =Source!BO27 | S48: =ROUND((Source!FX27/100)*((ROUND(Source!AF27*Source!I27, 2)+ROUND(Source!AE27*Source!I27, 2))), 2) -> 143.43 | T48: =Source!X27 -> 915.08 | U48: =ROUND((Source!FY27/100)*((ROUND(Source!AF27*Source!I27, 2)+ROUND(Source!AE27*Source!I27, 2))), 2) -> 73.38 | V48: =Source!Y27 -> 466.02
C49: ="Объем: "&Source!I27&"=11,96/"&"100" -> Объем: 0,1196=11,96/100
C50: Зарплата | F50: =Source!AO27 -> 961.76 | G50: =Source!DG27 -> )*1,15 | H50: =ROUND(Source!AF27*Source!I27, 2) -> 132.28 | J50: =IF(Source!BA27<> 0, Source!BA27, 1) -> 6.38 | K50: =Source!S27 -> 843.95 | R50: =H50 -> 132.28
...

Sheet Акт КС-2 c НР и СП
A1: =Source!B1 -> Smeta.RU (495) 974-1589
E2: Унифицированная форма № КС-2
E3: Утверждена постановлением Госкомстата России
E4: от 11.11.99. № 100
G6: Код
F7: Форма по ОКУД | G7: 0322005
G8: =IF(Source!AT15 <> "", Source!AT15, "")
A9: Инвестор | C9: =IF(Source!BA15 <> "", Source!BA15, IF(Source!AU15 <> "", Source!AU15, "")) | F9: по ОКПО
C10: организация, адрес, телефон, факс | G10: =IF(Source!AK15 <> "", Source!AK15, "")
A11: Заказчик | C11: =IF(Source!AX12<> "", Source!AX12, IF(Source!AJ12 <> "", Source!AJ12, "")) | F11: по ОКПО
C12: организация, адрес, телефон, факс | G12: =IF(Source!AO15 <> "", Source!AO15, "")
A13: Подрядчик | C13: =IF(Source!AY12<> "", Source!AY12, IF(Source!AN12 <> "", Source!AN12, "")) | F13: по ОКПО
C14: организация, адрес, телефон, факс | G14: =IF(Source!CO15 <> "", Source!CO15, "")
A15: Стройка | C15: Капитальный ремонт оконных проемов НВПК НИЯУ МИФИ учебный корпус( _счет поставщика) | AE15: Капитальный ремонт оконных проемов НВПК НИЯУ МИФИ учебный корпус( _счет поставщика)
C16: наименование, адрес | G16: =IF(Source!CP15 <> "", Source!CP15, "")
A17: Объект | C17: =IF(Source!G12<>"Новый объект", Source!G12, "") -> по капитальному ремонту оконных проемов с заменой деревянных оконных блоков на оконные блоки из ПВХ на лестничных клетках с второго по четвертый этажи,в кабинетах № 8, № 1, аудиториях № 7, № 6,№ 5,№ 3,№ 15,№ 16,№ 18, № 11, препараторских № 4,№ 17 четвертого этажа здания учебного корпуса Нововоронежского политехнического колледжа - филиала НИЯУ МИФИ (НВПК НИЯУ МИФИ) по адреcу: Воронежская обл., г. Нововоронеж, ул. Октябрьская, д.1 | AE17: =IF(Source!G12<>"Новый объект", Source!G12, "") -> по капитальному ремонту оконных проемов с заменой деревянных оконных блоков на оконные блоки из ПВХ на лестничных клетках с второго по четвертый этажи,в кабинетах № 8, № 1, аудиториях № 7, № 6,№ 5,№ 3,№ 15,№ 16,№ 18, № 11, препараторских № 4,№ 17 четвертого этажа здания учебного корпуса Нововоронежского политехнического колледжа - филиала НИЯУ МИФИ (НВПК НИЯУ МИФИ) по адреcу: Воронежская обл., г. Нововоронеж, ул. Октябрьская, д.1
C18: наименование
D19: Вид деятельности по ОКДП | G19: =IF(Source!CQ15 <> "", Source!CQ15, "")
D20: Договор подряда | F20: номер | G20: =IF(Source!CR15 <> "", Source!CR15, "")
F21: дата | G21: =IF(Source!CS15 <> 0, Source!CS15, "")
F22: Вид операции | G22: =IF(Source!CT15 <> "", Source!CT15, "")
D24: Номер документа | E24: Дата составления | F24: Отчетный период
F25: с | G25: по
D26: =IF(Source!CN15 <> "", Source!CN15, "") | E26: 43207.423
A28: AKT
A29: О ПРИЕМКЕ ВЫПОЛНЕННЫХ РАБОТ
A31: Сметная (договорная) стоимость в соответствии с договором подряда (субподряда) | F31: =(Source!F102/1000) -> 802.344 | H31: тыс.руб
A33: Номер | C33: Наименование работ | D33: Номер единичной расценки | E33: Единица измерения | F33: Выполнено работ
A34: по порядку | B34: поз. по смете | F34: Количество | G34: цена за единицу, руб | H34: стоимость, руб
A35: 1 | B35: 2 | C35: 3 | D35: 4 | E35: 5 | F35: 6 | G35: 7 | H35: 8
A37: =CONCATENATE("Локальная смета: ",IF(Source!G20<>"Новая локальная смета", Source!G20, "")) -> Локальная смета:
A38: 1 | B38: =Source!E24 -> 1 | C38: =Source!G24 -> Разборка деревянных заполнений проемов оконных с подоконными досками | D38: =Source!F24 -> 46-04-012-01 | E38: =Source!H24 -> 100 м2 | F38: =Source!I24 -> 1.3179 | G38: =Source!AB24 -> 1767.24 | H38: =Source!O24 -> 14859.31 | T38: =Source!O24+Source!X24+Source!Y24 -> 36647.9 | U38: =Source!P24 -> 0 | V38: =Source!S24 -> 12824.95 | W38: =Source!Q24 -> 2034.36 | X38: =Source!R24 -> 878.57 | Y38: =Source!U24 -> 248.47687 | Z38: =Source!V24 -> 10.200546 | AA38: =Source!X24 -> 13566.48 | AB38: =Source!Y24 -> 8222.11
C39: ="Объем: "&Source!I24&"=131,79/"&"100" -> Объем: 1,3179=131,79/100
C40: Коэфф. к ОЗП | D40: =Source!BA24 -> 6.38
C41: Коэфф. к эксплуатации машин | D41: =Source!BB24 -> 6.38
C42: Коэфф. к материалам | D42: =Source!BC24 -> 6.38
C43: Коэфф. к ЗПМ | D43: =Source!BS24 -> 6.38
C44: % НР | F44: =Source!BZ24 -> 110 | G44: =(Source!AF24+Source!AE24)*Source!FX24/100 -> 1613.4822 | H44: =Source!X24 -> 13566.48
C45: % НР с поправкой | G45: =CONCATENATE(Source!DL24,Source!FT24, "=", Source!FX24, "%") -> *0,9=99% | H45: =CONCATENATE(Source!AT24) -> 99
C46: % СП | F46: =Source!CA24 -> 70 | G46: =(Source!AF24+Source!AE24)*Source!FY24/100 -> 969.7191 | H46: =Source!Y24 -> 8222.11
...

Sheet Source
A1: 0 | B1: Smeta.RU (495) 974-1589 | D1: _PS_ | F1: 0 | G1: 0 | H1: 0 | I1: Smeta.RU | J1: НИЯУ МИФИ Доп. раб. место MCCS-0027251 | K1: 0 | L1: 27251 | M1: 10
A12: 1 | B12: 133 | C12: 0 | D12: =ROW(A75) -> 75 | E12: 0 | F12: Новый объект_(Копия)_(Копия)_(Копия) | G12: по капитальному ремонту оконных проемов с заменой деревянных оконных блоков на оконные блоки из ПВХ на лестничных клетках с второго по четвертый этажи,в кабинетах № 8, № 1, аудиториях № 7, № 6,№ 5,№ 3,№ 15,№ 16,№ 18, № 11, препараторских № 4,№ 17 четвертого этажа здания учебного корпуса Нововоронежского политехнического колледжа - филиала НИЯУ МИФИ (НВПК НИЯУ МИФИ) по адреcу: Воронежская обл., г. Нововоронеж, ул. Октябрьская, д.1 | I12: 0 | K12: 0 | O12: 0 | P12: 0 | Q12: 0 | R12: 0 | V12: 0 | BH12: Сметные нормы списания | BI12: Коды ценников | BJ12: 1 | BK12: 1 | BL12: 0 | BM12: 0 | BN12: 1 | BO12: 0 | BP12: 2 | BQ12: 2 | BR12: 1 | BS12: 1 | BT12: 0 | BU12: 0 | BV12: 0 | BW12: 0 | BX12: 0 | BY12: ФЕР-2017 | BZ12: ТР для Версии 10: Центральные регионы (с учетом п-ма 2536-ИП/12/ГС от 22.03.2017 г | CA12: ФЕР-2017 | CB12: ФЕР-2017 | CC12: ФЕР-2017 | CD12: ФЕР-2017 | CE12: Поправки для ГСН 2017 от 31.03.2017 г | CF12: 0 | CG12: 0 | CH12: 524296 | CK12: 4 | EC12: 0
A15: 15 | B15: 1
A18: 52 | B18: =B75 -> 133 | C18: =C75 -> 1 | D18: =D75 -> 12 | E18: =E75 -> 0 | F18: =F75 -> Новый объект_(Копия)_(Копия)_(Копия) | G18: =G75 -> по капитальному ремонту оконных проемов с заменой деревянных оконных блоков на оконные блоки из ПВХ на лестничных клетках с второго по четвертый этажи,в кабинетах № 8, № 1, аудиториях № 7, № 6,№ 5,№ 3,№ 15,№ 16,№ 18, № 11, препараторских № 4,№ 17 четвертого этажа здания учебного корпуса Нововоронежского политехнического колледжа - филиала НИЯУ МИФИ (НВПК НИЯУ МИФИ) по адреcу: Воронежская обл., г. Нововоронеж, ул. Октябрьская, д.1 | O18: =O75 -> 743144.1 | P18: =P75 -> 703093.17 | Q18: =Q75 -> 4974.72 | R18: =R75 -> 1457.51 | S18: =S75 -> 35076.21 | T18: =T75 -> 0 | U18: =U75 -> 642.25272 | V18: =V75 -> 17.824902 | ... GX18: =GX75 -> 0
A20: 3 | B20: 1 | D20: =ROW(A43) -> 43 | F20: Новая локальная смета | G20: Новая локальная смета | I20: 0 | K20: 0 | V20: 0 | BX20: 0 | CF20: 0 | CG20: 0
A22: 52 | B22: =B43 -> 1 | C22: =C43 -> 3 | D22: =D43 -> 20 | E22: =E43 -> 0 | F22: =F43 -> Новая локальная смета | G22: =G43 -> Новая локальная смета | O22: =O43 -> 743144.1 | P22: =P43 -> 703093.17 | Q22: =Q43 -> 4974.72 | R22: =R43 -> 1457.51 | S22: =S43 -> 35076.21 | T22: =T43 -> 0 | U22: =U43 -> 642.25272 | V22: =V43 -> 17.824902 | ... GX22: =GX43 -> 0
A24: 17 | B24: 1 | C24: =ROW(SmtRes!A3) -> 3 | D24: =ROW(EtalonRes!A3) -> 3 | E24: 1 | F24: 46-04-012-01 | G24: Разборка деревянных заполнений проемов оконных с подоконными досками | H24: 100 м2 | I24: =ROUND(131.79/100,9) -> 1.3179 | J24: 0 | O24: =ROUND(CP24,2) -> 14859.31 | P24: =ROUND(CQ24*I24,2) -> 0 | Q24: =ROUND(CR24*I24,2) -> 2034.36 | R24: =ROUND(CS24*I24,2) -> 878.57 | S24: =ROUND(CT24*I24,2) -> 12824.95 | T24: =ROUND(CU24*I24,2) -> 0 | U24: =CV24*I24 -> 248.47687 | V24: =CW24*I24 -> 10.200546 | W24: =ROUND(CX24*I24,2) -> 0 | X24: =ROUND(CY24,2) -> 13566.48 | Y24: =ROUND(CZ24,2) -> 8222.11 | AA24: 16628881 | AB24: =ROUND((AC24+AD24+AF24),2) -> 1767.24 | AC24: =ROUND((ES24),2) -> 0 | AD24: =ROUND((((ET24)-(EU24))+AE24),2) -> 241.95 | AE24: =ROUND((EU24),2) -> 104.49 | AF24: =ROUND((EV24),2) -> 1525.29 | AG24: =ROUND((AP24),2) -> 0 | AH24: =(EW24) -> 188.54 | AI24: =(EX24) -> 7.74 | AJ24: =ROUND((AS24),2) -> 0 | AK24: 1767.24 | AL24: 0 | AM24: 241.95 | AN24: 104.49 | AO24: 1525.29 | AP24: 0 | AQ24: 188.54 | AR24: 7.74 | AS24: 0 | AT24: 99 | AU24: 60 | AV24: 1 | AW24: 1 | AZ24: 6.38 | BA24: 6.38 | BB24: 6.38 | BC24: 6.38 | BH24: 0 | BI24: 1 | BJ24: ФЕР-2001, 46-04-012-01, приказ Минстроя России №1039/пр от 30.12.2016г. | BM24: 46001 | BN24: 0 | BP24: 0 | BQ24: 2 | BR24: 0 | BS24: 6.38 | BT24: 1 | BU24: 1 | BV24: 1 | BW24: 1 | BX24: 1 | BZ24: 110 | CA24: 70 | CF24: 0 | CG24: 0 | CM24: 0 | CO24: 0 | CP24: =(P24+Q24+S24) -> 14859.31 | CQ24: =AC24*BC24 -> 0 | CR24: =AD24*BB24 -> 1543.641 | CS24: =AE24*BS24 -> 666.6462 | CT24: =AF24*BA24 -> 9731.3502 | CU24: =AG24 -> 0 | CV24: =AH24 -> 188.54 | CW24: =AI24 -> 7.74 | CX24: =AJ24 -> 0 | CY24: =(((S24+R24)*AT24)/100) -> 13566.485 | CZ24: =(((S24+R24)*AU24)/100) -> 8222.112 | DN24: 0 | DO24: 0 | DP24: 1 | DQ24: 1 | DU24: 1005 | DV24: 100 м2 | DW24: 100 м2 | DX24: 100 | EE24: 16510555 | EF24: 2 | EG24: Общестроительные работы | EH24: 0 | EJ24: 1 | EK24: 46001 | EL24: Реконструкция зданий и сооружений | EM24: ФЕР-46 | EQ24: 0 | ER24: 1767.24 | ES24: 0 | ET24: 241.95 | EU24: 104.49 | EV24: 1525.29 | EW24: 188.54 | EX24: 7.74 | EY24: 0 | FQ24: 0 | FR24: =ROUND(IF(AND(BH24=3,BI24=3),P24,0),2) -> 0 | FS24: 0 | FT24: *0,9 | FU24: *0,85 | FX24: 99 | FY24: 59.5 | GD24: 0 | GF24: 1630687704 | GG24: 1 | GH24: 1 | GI24: 4 | GJ24: 0 | GK24: =ROUND(R24*(R12)/100,2) -> 0 | GL24: =ROUND(IF(AND(BH24=3,BI24=3,FS24<>0),P24,0),2) -> 0 | GM24: =ROUND(O24+X24+Y24+GK24,2)+GX24 -> 36647.9 | GN24: =IF(OR(BI24=0,BI24=1),ROUND(O24+X24+Y24+GK24,2),0) -> 36647.9 | GO24: =IF(BI24=2,ROUND(O24+X24+Y24+GK24,2),0) -> 0 | GP24: =IF(BI24=4,ROUND(O24+X24+Y24+GK24,2)+GX24,0) -> 0 | GR24: 0 | GS24: 3 | GT24: 0 | GV24: =ROUND(GT24,2) -> 0 | GW24: 1 | GX24: =ROUND(GV24*GW24*I24,2) -> 0 | HA24: 0 | HB24: 0 | IK24: 0
A25: 17 | B25: 1 | C25: =ROW(SmtRes!A14) -> 14 | D25: =ROW(EtalonRes!A14) -> 14 | E25: 2 | F25: 10-01-034-08 | G25: Установка в жилых и общественных зданиях оконных блоков из ПВХ профилей поворотных (откидных, поворотно-откидных) с площадью проема более 2 м2 трехстворчатых, в том числе при наличии створок глухого остекления | H25: 100 м2 | I25: =ROUND(131.79/100,9) -> 1.3179 | J25: 0 | O25: =ROUND(CP25,2) -> 87169.85 | P25: =ROUND(CQ25*I25,2) -> 71881.89 | Q25: =ROUND(CR25*I25,2) -> 2682.3 | R25: =ROUND(CS25*I25,2) -> 528.88 | S25: =ROUND(CT25*I25,2) -> 12605.66 | T25: =ROUND(CU25*I25,2) -> 0 | U25: =CV25*I25 -> 226.06466 | V25: =CW25*I25 -> 6.9683963 | W25: =ROUND(CX25*I25,2) -> 0 | X25: =ROUND(CY25,2) -> 13922.61 | Y25: =ROUND(CZ25,2) -> 7092.65 | AA25: 16628881 | AB25: =ROUND((AC25+AD25+AF25),2) -> 10367.24 | AC25: =ROUND((ES25),2) -> 8549.02 | AD25: =ROUND(((((ET25*1.25))-((EU25*1.25)))+AE25),2) -> 319.01 | AE25: =ROUND(((EU25*1.25)),2) -> 62.9 | AF25: =ROUND(((EV25*1.15)),2) -> 1499.21 | AG25: =ROUND((AP25),2) -> 0 | AH25: =((EW25*1.15)) -> 171.534 | AI25: =((EX25*1.25)) -> 5.2875 | AJ25: =ROUND((AS25),2) -> 0 | AK25: 10107.89 | AL25: 8549.02 | AM25: 255.21 | AN25: 50.32 | AO25: 1303.66 | AP25: 0 | AQ25: 149.16 | AR25: 4.23 | AS25: 0 | AT25: 106 | AU25: 54 | AV25: 1 | AW25: 1 | AZ25: 6.38 | BA25: 6.38 | BB25: 6.38 | BC25: 6.38 | BH25: 0 | BI25: 1 | BJ25: ФЕР-2001, 10-01-034-08, приказ Минстроя России №1039/пр от 30.12.2016г. | BM25: 10001 | BN25: 0 | BP25: 0 | BQ25: 2 | BR25: 0 | BS25: 6.38 | BT25: 1 | BU25: 1 | BV25: 1 | BW25: 1 | BX25: 1 | BZ25: 118 | CA25: 63 | CF25: 0 | CG25: 0 | CM25: 0 | CN25: Поправка: МДС 81-35.2004, п.4.7 Наименование: Работы, выполняемые при реконструкции зданий и сооружений работы, аналогичные технологическим процессам в новом строительстве (в том числе возведение новых конструктивных элементов) стоимость которых определена по соответствующим сборникам ФЕР, кроме сборника № 46 «Работы при реконструкции зданий и сооружений» Поправка: МДС 81-35.2004, п.4.7 Наименование: Работы, выполняемые при реконструкции зданий и сооружений работы, аналогичные технологическим процессам в новом строительстве (в том числе возведение новых конструктивных элементов) стоимость которых определена по соответствующим сборникам ФЕР, кроме сборника № 46 «Работы при реконструкции зданий и сооружений» | CO25: 0 | CP25: =(P25+Q25+S25) -> 87169.85 | CQ25: =AC25*BC25 -> 54542.748 | CR25: =AD25*BB25 -> 2035.2838 | CS25: =AE25*BS25 -> 401.302 | CT25: =AF25*BA25 -> 9564.9598 | CU25: =AG25 -> 0 | CV25: =AH25 -> 171.534 | CW25: =AI25 -> 5.2875 | CX25: =AJ25 -> 0 | CY25: =(((S25+R25)*AT25)/100) -> 13922.612 | CZ25: =(((S25+R25)*AU25)/100) -> 7092.6516 | DE25: )*1,25 | DF25: )*1,25 | DG25: )*1,15 | DI25: )*1,15 | DJ25: )*1,25 | DN25: 0 | DO25: 0 | DP25: 1 | DQ25: 1 | DU25: 1005 | DV25: 100 м2 | DW25: 100 м2 | DX25: 100 | EE25: 16510487 | EF25: 2 | EG25: Общестроительные работы | EH25: 0 | EJ25: 1 | EK25: 10001 | EL25: Деревянные конструкции | EM25: ФЕР-10 | EO25: Поправка: МДС 81-35.2004, п.4.7 Поправка: МДС 81-35.2004, п.4.7 | EQ25: 131072 | ER25: 10107.89 | ES25: 8549.02 | ET25: 255.21 | EU25: 50.32 | EV25: 1303.66 | EW25: 149.16 | EX25: 4.23 | EY25: 0 | FQ25: 0 | FR25: =ROUND(IF(AND(BH25=3,BI25=3),P25,0),2) -> 0 | FS25: 0 | FT25: *0,9 | FU25: *0,85 | FX25: 106.2 | FY25: 53.55 | GD25: 0 | GF25: -330529066 | GG25: 1 | GH25: 1 | GI25: 4 | GJ25: 0 | GK25: =ROUND(R25*(R12)/100,2) -> 0 | GL25: =ROUND(IF(AND(BH25=3,BI25=3,FS25<>0),P25,0),2) -> 0 | GM25: =ROUND(O25+X25+Y25+GK25,2)+GX25 -> 108185.11 | GN25: =IF(OR(BI25=0,BI25=1),ROUND(O25+X25+Y25+GK25,2),0) -> 108185.11 | GO25: =IF(BI25=2,ROUND(O25+X25+Y25+GK25,2),0) -> 0 | GP25: =IF(BI25=4,ROUND(O25+X25+Y25+GK25,2)+GX25,0) -> 0 | GR25: 0 | GS25: 3 | GT25: 0 | GV25: =ROUND(GT25,2) -> 0 | GW25: 1 | GX25: =ROUND(GV25*GW25*I25,2) -> 0 | HA25: 0 | HB25: 0 | IK25: 0
A26: 18 | B26: 1 | C26: 14 | E26: 2,1 | F26: Средняя цена коммерческих предложений | G26: Оконный блок из ПВХ | H26: м2 | I26: =I25*J26 -> 131.79 | J26: 100 | O26: =ROUND(CP26,2) -> 437033.12 | P26: =ROUND(CQ26*I26,2) -> 437033.12 | Q26: =ROUND(CR26*I26,2) -> 0 | R26: =ROUND(CS26*I26,2) -> 0 | S26: =ROUND(CT26*I26,2) -> 0 | T26: =ROUND(CU26*I26,2) -> 0 | U26: =CV26*I26 -> 0 | V26: =CW26*I26 -> 0 | W26: =ROUND(CX26*I26,2) -> 0 | X26: =ROUND(CY26,2) -> 0 | Y26: =ROUND(CZ26,2) -> 0 | AA26: 16628881 | AB26: =ROUND((AC26+AD26+AF26),2) -> 519.77 | AC26: =ROUND((ES26),2) -> 519.77 | AD26: =ROUND((((ET26)-(EU26))+AE26),2) -> 0 | AE26: =ROUND((EU26),2) -> 0 | AF26: =ROUND((EV26),2) -> 0 | AG26: =ROUND((AP26),2) -> 0 | AH26: =(EW26) -> 0 | AI26: =(EX26) -> 0 | AJ26: =ROUND((AS26),2) -> 0 | AK26: 519.77 | AL26: 519.77 | AM26: 0 | AN26: 0 | AO26: 0 | AP26: 0 | AQ26: 0 | AR26: 0 | AS26: 0 | AT26: 106 | AU26: 54 | AV26: 1 | AW26: 1 | AZ26: 6.38 | BA26: 1 | BB26: 1 | BC26: 6.38 | BH26: 3 | BI26: 1 | BM26: 10001 | BN26: 0 | BP26: 0 | BQ26: 2 | BR26: 0 | BS26: 1 | BT26: 1 | BU26: 1 | BV26: 1 | BW26: 1 | BX26: 1 | BZ26: 118 | CA26: 63 | CF26: 0 | CG26: 0 | CM26: 0 | CO26: 0 | CP26: =(P26+Q26+S26) -> 437033.12 | CQ26: =AC26*BC26 -> 3316.1326 | CR26: =AD26*BB26 -> 0 | CS26: =AE26*BS26 -> 0 | CT26: =AF26*BA26 -> 0 | CU26: =AG26 -> 0 | CV26: =AH26 -> 0 | CW26: =AI26 -> 0 | CX26: =AJ26 -> 0 | CY26: =(((S26+R26)*AT26)/100) -> 0 | CZ26: =(((S26+R26)*AU26)/100) -> 0 | DN26: 0 | DO26: 0 | DP26: 1 | DQ26: 1 | DU26: 1005 | DV26: м2 | DW26: м2 | DX26: 1 | EE26: 16510487 | EF26: 2 | EG26: Общестроительные работы | EH26: 0 | EJ26: 1 | EK26: 10001 | EL26: Деревянные конструкции | EM26: ФЕР-10 | EQ26: 0 | ER26: 519.77 | ES26: 519.77 | ET26: 0 | EU26: 0 | EV26: 0 | EW26: 0 | EX26: 0 | EZ26: 5 | FC26: 1 | FD26: 18 | FF26: 3913 | FQ26: 0 | FR26: =ROUND(IF(AND(BH26=3,BI26=3),P26,0),2) -> 0 | FS26: 0 | FT26: *0,9 | FU26: *0,85 | FX26: 106.2 | FY26: 53.55 | GA26: [3 913 / 1,18 / 6,38] | GD26: 0 | GF26: 1285733230 | GG26: 1 | GH26: 3 | GI26: 4 | GJ26: 0 | GK26: =ROUND(R26*(R12)/100,2) -> 0 | GL26: =ROUND(IF(AND(BH26=3,BI26=3,FS26<>0),P26,0),2) -> 0 | GM26: =ROUND(O26+X26+Y26+GK26,2)+GX26 -> 437033.12 | GN26: =IF(OR(BI26=0,BI26=1),ROUND(O26+X26+Y26+GK26,2),0) -> 437033.12 | GO26: =IF(BI26=2,ROUND(O26+X26+Y26+GK26,2),0) -> 0 | GP26: =IF(BI26=4,ROUND(O26+X26+Y26+GK26,2)+GX26,0) -> 0 | GR26: 1 | GS26: 1 | GT26: 0 | GV26: =ROUND(GT26,2) -> 0 | GW26: 1 | GX26: =ROUND(GV26*GW26*I26,2) -> 0 | HA26: 0 | HB26: 0 | IK26: 0
A27: 17 | B27: 1 | C27: =ROW(SmtRes!A22) -> 22 | D27: =ROW(EtalonRes!A21) -> 21 | E27: 3 | F27: 12-01-010-01 | G27: Устройство мелких покрытий (брандмауэры, парапеты, свесы и т.п.) из листовой оцинкованной стали | H27: 100 м2 | I27: =ROUND(11.96/100,9) -> 0.1196 | J27: 0 | O27: =ROUND(CP27,2) -> 7648.76 | P27: =ROUND(CQ27*I27,2) -> 6783.94 | Q27: =ROUND(CR27*I27,2) -> 20.87 | R27: =ROUND(CS27*I27,2) -> 3.35 | S27: =ROUND(CT27*I27,2) -> 843.95 | T27: =ROUND(CU27*I27,2) -> 0 | U27: =CV27*I27 -> 15.507635 | V27: =CW27*I27 -> 0.040365 | W27: =ROUND(CX27*I27,2) -> 0 | X27: =ROUND(CY27,2) -> 915.08 | Y27: =ROUND(CZ27,2) -> 466.02 | AA27: 16628881 | AB27: =ROUND((AC27+AD27+AF27),2) -> 10023.95 | AC27: =ROUND((ES27),2) -> 8890.58 | AD27: =ROUND(((((ET27*1.25))-((EU27*1.25)))+AE27),2) -> 27.35 | AE27: =ROUND(((EU27*1.25)),2) -> 4.39 | AF27: =ROUND(((EV27*1.15)),2) -> 1106.02 | AG27: =ROUND((AP27),2) -> 0 | AH27: =((EW27*1.15)) -> 129.6625 | AI27: =((EX27*1.25)) -> 0.3375 | AJ27: =ROUND((AS27),2) -> 0 | AK27: 9874.22 | AL27: 8890.58 | AM27: 21.88 | AN27: 3.51 | AO27: 961.76 | AP27: 0 | AQ27: 112.75 | AR27: 0.27 | AS27: 0 | AT27: 108 | AU27: 55 | AV27: 1 | AW27: 1 | AZ27: 6.38 | BA27: 6.38 | BB27: 6.38 | BC27: 6.38 | BH27: 0 | BI27: 1 | BJ27: ФЕР-2001, 12-01-010-01, приказ Минстроя России №1039/пр от 30.12.2016г. | BM27: 12001 | BN27: 0 | BP27: 0 | BQ27: 2 | BR27: 0 | BS27: 6.38 | BT27: 1 | BU27: 1 | BV27: 1 | BW27: 1 | BX27: 1 | BZ27: 120 | CA27: 65 | CF27: 0 | CG27: 0 | CM27: 0 | CN27: Поправка: МДС 81-35.2004, п.4.7 Наименование: Работы, выполняемые при реконструкции зданий и сооружений работы, аналогичные технологическим процессам в новом строительстве (в том числе возведение новых конструктивных элементов) стоимость которых определена по соответствующим сборникам ФЕР, кроме сборника № 46 «Работы при реконструкции зданий и сооружений» Поправка: МДС 81-35.2004, п.4.7 Наименование: Работы, выполняемые при реконструкции зданий и сооружений работы, аналогичные технологическим процессам в новом строительстве (в том числе возведение новых конструктивных элементов) стоимость которых определена по соответствующим сборникам ФЕР, кроме сборника № 46 «Работы при реконструкции зданий и сооружений» | CO27: 0 | CP27: =(P27+Q27+S27) -> 7648.76 | CQ27: =AC27*BC27 -> 56721.9 | CR27: =AD27*BB27 -> 174.493 | CS27: =AE27*BS27 -> 28.0082 | CT27: =AF27*BA27 -> 7056.4076 | CU27: =AG27 -> 0 | CV27: =AH27 -> 129.6625 | CW27: =AI27 -> 0.3375 | CX27: =AJ27 -> 0 | CY27: =(((S27+R27)*AT27)/100) -> 915.084 | CZ27: =(((S27+R27)*AU27)/100) -> 466.015 | DE27: )*1,25 | DF27: )*1,25 | DG27: )*1,15 | DI27: )*1,15 | DJ27: )*1,25 | DN27: 0 | DO27: 0 | DP27: 1 | DQ27: 1 | DU27: 1005 | DV27: 100 м2 | DW27: 100 м2 | DX27: 100 | EE27: 16510489 | EF27: 2 | EG27: Общестроительные работы | EH27: 0 | EJ27: 1 | EK27: 12001 | EL27: Кровли | EM27: ФЕР-12 | EO27: Поправка: МДС 81-35.2004, п.4.7 Поправка: МДС 81-35.2004, п.4.7 | EQ27: 131072 | ER27: 9874.22 | ES27: 8890.58 | ET27: 21.88 | EU27: 3.51 | EV27: 961.76 | EW27: 112.75 | EX27: 0.27 | EY27: 0 | FQ27: 0 | FR27: =ROUND(IF(AND(BH27=3,BI27=3),P27,0),2) -> 0 | FS27: 0 | FT27: *0,9 | FU27: *0,85 | FX27: 108 | FY27: 55.25 | GD27: 0 | GF27: -1197977700 | GG27: 1 | GH27: 1 | GI27: 4 | GJ27: 0 | GK27: =ROUND(R27*(R12)/100,2) -> 0 | GL27: =ROUND(IF(AND(BH27=3,BI27=3,FS27<>0),P27,0),2) -> 0 | GM27: =ROUND(O27+X27+Y27+GK27,2)+GX27 -> 9029.86 | GN27: =IF(OR(BI27=0,BI27=1),ROUND(O27+X27+Y27+GK27,2),0) -> 9029.86 | GO27: =IF(BI27=2,ROUND(O27+X27+Y27+GK27,2),0) -> 0 | GP27: =IF(BI27=4,ROUND(O27+X27+Y27+GK27,2)+GX27,0) -> 0 | GR27: 0 | GS27: 3 | GT27: 0 | GV27: =ROUND(GT27,2) -> 0 | GW27: 1 | GX27: =ROUND(GV27*GW27*I27,2) -> 0 | HA27: 0 | HB27: 0 | IK27: 0
A28: 18 | B28: 1 | C28: 22 | E28: 3,1 | F28: Средняя цена коммерческих предложений | G28: Водоотлив оконный шириной до 250 мм из оцинкованной стали с полимерным покрытием | H28: м | I28: =I27*J28 -> 59.8 | J28: 500 | O28: =ROUND(CP28,2) -> 7569.44 | P28: =ROUND(CQ28*I28,2) -> 7569.44 | Q28: =ROUND(CR28*I28,2) -> 0 | R28: =ROUND(CS28*I28,2) -> 0 | S28: =ROUND(CT28*I28,2) -> 0 | T28: =ROUND(CU28*I28,2) -> 0 | U28: =CV28*I28 -> 0 | V28: =CW28*I28 -> 0 | W28: =ROUND(CX28*I28,2) -> 0 | X28: =ROUND(CY28,2) -> 0 | Y28: =ROUND(CZ28,2) -> 0 | AA28: 16628881 | AB28: =ROUND((AC28+AD28+AF28),2) -> 19.84 | AC28: =ROUND((ES28),2) -> 19.84 | AD28: =ROUND((((ET28)-(EU28))+AE28),2) -> 0 | AE28: =ROUND((EU28),2) -> 0 | AF28: =ROUND((EV28),2) -> 0 | AG28: =ROUND((AP28),2) -> 0 | AH28: =(EW28) -> 0 | AI28: =(EX28) -> 0 | AJ28: =ROUND((AS28),2) -> 0 | AK28: 19.84 | AL28: 19.84 | AM28: 0 | AN28: 0 | AO28: 0 | AP28: 0 | AQ28: 0 | AR28: 0 | AS28: 0 | AT28: 108 | AU28: 55 | AV28: 1 | AW28: 1 | AZ28: 6.38 | BA28: 1 | BB28: 1 | BC28: 6.38 | BH28: 3 | BI28: 1 | BM28: 12001 | BN28: 0 | BP28: 0 | BQ28: 2 | BR28: 0 | BS28: 1 | BT28: 1 | BU28: 1 | BV28: 1 | BW28: 1 | BX28: 1 | BZ28: 120 | CA28: 65 | CF28: 0 | CG28: 0 | CM28: 0 | CO28: 0 | CP28: =(P28+Q28+S28) -> 7569.44 | CQ28: =AC28*BC28 -> 126.5792 | CR28: =AD28*BB28 -> 0 | CS28: =AE28*BS28 -> 0 | CT28: =AF28*BA28 -> 0 | CU28: =AG28 -> 0 | CV28: =AH28 -> 0 | CW28: =AI28 -> 0 | CX28: =AJ28 -> 0 | CY28: =(((S28+R28)*AT28)/100) -> 0 | CZ28: =(((S28+R28)*AU28)/100) -> 0 | DN28: 0 | DO28: 0 | DP28: 1 | DQ28: 1 | DU28: 1003 | DV28: м | DW28: м | DX28: 1 | EE28: 16510489 | EF28: 2 | EG28: Общестроительные работы | EH28: 0 | EJ28: 1 | EK28: 12001 | EL28: Кровли | EM28: ФЕР-12 | EQ28: 0 | ER28: 19.84 | ES28: 19.84 | ET28: 0 | EU28: 0 | EV28: 0 | EW28: 0 | EX28: 0 | EZ28: 5 | FC28: 1 | FD28: 18 | FF28: 149.33 | FQ28: 0 | FR28: =ROUND(IF(AND(BH28=3,BI28=3),P28,0),2) -> 0 | FS28: 0 | FT28: *0,9 | FU28: *0,85 | FX28: 108 | FY28: 55.25 | GA28: [149,33 / 1,18 / 6,38] | GD28: 0 | GF28: -589723811 | GG28: 1 | GH28: 3 | GI28: 4 | GJ28: 0 | GK28: =ROUND(R28*(R12)/100,2) -> 0 | GL28: =ROUND(IF(AND(BH28=3,BI28=3,FS28<>0),P28,0),2) -> 0 | GM28: =ROUND(O28+X28+Y28+GK28,2)+GX28 -> 7569.44 | GN28: =IF(OR(BI28=0,BI28=1),ROUND(O28+X28+Y28+GK28,2),0) -> 7569.44 | GO28: =IF(BI28=2,ROUND(O28+X28+Y28+GK28,2),0) -> 0 | GP28: =IF(BI28=4,ROUND(O28+X28+Y28+GK28,2)+GX28,0) -> 0 | GR28: 1 | GS28: 1 | GT28: 0 | GV28: =ROUND(GT28,2) -> 0 | GW28: 1 | GX28: =ROUND(GV28*GW28*I28,2) -> 0 | HA28: 0 | HB28: 0 | IK28: 0
A29: 18 | B29: 1 | C29: 21 | E29: 3,2 | F29: 08.3.05.05-0053 | G29: Сталь листовая оцинкованная толщиной листа 0,7 мм | H29: т | I29: =I27*J29 -> -0.093527 | J29: -0.78199833 | O29: =ROUND(CP29,2) -> -6683.07 | P29: =ROUND(CQ29*I29,2) -> -6683.07 | Q29: =ROUND(CR29*I29,2) -> 0 | R29: =ROUND(CS29*I29,2) -> 0 | S29: =ROUND(CT29*I29,2) -> 0 | T29: =ROUND(CU29*I29,2) -> 0 | U29: =CV29*I29 -> 0 | V29: =CW29*I29 -> 0 | W29: =ROUND(CX29*I29,2) -> 0 | X29: =ROUND(CY29,2) -> 0 | Y29: =ROUND(CZ29,2) -> 0 | AA29: 16628881 | AB29: =ROUND((AC29+AD29+AF29),2) -> 11200 | AC29: =ROUND((ES29),2) -> 11200 | AD29: =ROUND((((ET29)-(EU29))+AE29),2) -> 0 | AE29: =ROUND((EU29),2) -> 0 | AF29: =ROUND((EV29),2) -> 0 | AG29: =ROUND((AP29),2) -> 0 | AH29: =(EW29) -> 0 | AI29: =(EX29) -> 0 | AJ29: =ROUND((AS29),2) -> 0 | AK29: 11200 | AL29: 11200 | AM29: 0 | AN29: 0 | AO29: 0 | AP29: 0 | AQ29: 0 | AR29: 0 | AS29: 0 | AT29: 108 | AU29: 55 | AV29: 1 | AW29: 1 | AZ29: 6.38 | BA29: 1 | BB29: 1 | BC29: 6.38 | BH29: 3 | BI29: 1 | BJ29: ФССЦ-2001, 08.3.05.05-0053, приказ Минстроя России №1039/пр от 30.12.2016г. | BM29: 12001 | BN29: 0 | BP29: 0 | BQ29: 2 | BR29: 1 | BS29: 1 | BT29: 1 | BU29: 1 | BV29: 1 | BW29: 1 | BX29: 1 | BZ29: 120 | CA29: 65 | CF29: 0 | CG29: 0 | CM29: 0 | CO29: 0 | CP29: =(P29+Q29+S29) -> -6683.07 | CQ29: =AC29*BC29 -> 71456 | CR29: =AD29*BB29 -> 0 | CS29: =AE29*BS29 -> 0 | CT29: =AF29*BA29 -> 0 | CU29: =AG29 -> 0 | CV29: =AH29 -> 0 | CW29: =AI29 -> 0 | CX29: =AJ29 -> 0 | CY29: =(((S29+R29)*AT29)/100) -> 0 | CZ29: =(((S29+R29)*AU29)/100) -> 0 | DN29: 0 | DO29: 0 | DP29: 1 | DQ29: 1 | DU29: 1009 | DV29: т | DW29: т | DX29: 1000 | EE29: 16510489 | EF29: 2 | EG29: Общестроительные работы | EH29: 0 | EJ29: 1 | EK29: 12001 | EL29: Кровли | EM29: ФЕР-12 | EQ29: 0 | ER29: 11200 | ES29: 11200 | ET29: 0 | EU29: 0 | EV29: 0 | EW29: 0 | EX29: 0 | FQ29: 0 | FR29: =ROUND(IF(AND(BH29=3,BI29=3),P29,0),2) -> 0 | FS29: 0 | FT29: *0,9 | FU29: *0,85 | FX29: 108 | FY29: 55.25 | GA29: занесена вручную | GD29: 0 | GF29: -272931147 | GG29: 1 | GH29: 1 | GI29: 4 | GJ29: 0 | GK29: =ROUND(R29*(R12)/100,2) -> 0 | GL29: =ROUND(IF(AND(BH29=3,BI29=3,FS29<>0),P29,0),2) -> 0 | GM29: =ROUND(O29+X29+Y29+GK29,2)+GX29 -> -6683.07 | GN29: =IF(OR(BI29=0,BI29=1),ROUND(O29+X29+Y29+GK29,2),0) -> -6683.07 | GO29: =IF(BI29=2,ROUND(O29+X29+Y29+GK29,2),0) -> 0 | GP29: =IF(BI29=4,ROUND(O29+X29+Y29+GK29,2)+GX29,0) -> 0 | GR29: 0 | GS29: 4 | GT29: 0 | GV29: =ROUND(GT29,2) -> 0 | GW29: 1 | GX29: =ROUND(GV29*GW29*I29,2) -> 0 | HA29: 0 | HB29: 0 | IK29: 0
A30: 17 | B30: 1 | C30: =ROW(SmtRes!A31) -> 31 | D30: =ROW(EtalonRes!A29) -> 29 | E30: 4 | F30: 15-01-050-04 | G30: Облицовка оконных и дверных откосов декоративным бумажно-слоистым пластиком или листами из синтетических материалов | H30: 100 м2 | I30: =ROUND(65.32/100,9) -> 0.6532 | J30: 0 | O30: =ROUND(CP30,2) -> 7509.6 | P30: =ROUND(CQ30*I30,2) -> 1.5 | Q30: =ROUND(CR30*I30,2) -> 184.2 | R30: =ROUND(CS30*I30,2) -> 35.84 | S30: =ROUND(CT30*I30,2) -> 7323.9 | T30: =ROUND(CU30*I30,2) -> 0 | U30: =CV30*I30 -> 125.04893 | V30: =CW30*I30 -> 0.47357 | W30: =ROUND(CX30*I30,2) -> 0 | X30: =ROUND(CY30,2) -> 6991.75 | Y30: =ROUND(CZ30,2) -> 3459.08 | AA30: 16628881 | AB30: =ROUND((AC30+AD30+AF30),2) -> 1801.98 | AC30: =ROUND((ES30),2) -> 0.36 | AD30: =ROUND(((((ET30*1.25))-((EU30*1.25)))+AE30),2) -> 44.2 | AE30: =ROUND(((EU30*1.25)),2) -> 8.6 | AF30: =ROUND(((EV30*1.15)),2) -> 1757.42 | AG30: =ROUND((AP30),2) -> 0 | AH30: =((EW30*1.15)) -> 191.4405 | AI30: =((EX30*1.25)) -> 0.725 | AJ30: =ROUND((AS30),2) -> 0 | AK30: 1563.91 | AL30: 0.36 | AM30: 35.36 | AN30: 6.88 | AO30: 1528.19 | AP30: 0 | AQ30: 166.47 | AR30: 0.58 | AS30: 0 | AT30: 95 | AU30: 47 | AV30: 1 | AW30: 1 | AZ30: 6.38 | BA30: 6.38 | BB30: 6.38 | BC30: 6.38 | BH30: 0 | BI30: 1 | BJ30: ФЕР-2001, 15-01-050-04, приказ Минстроя России №1039/пр от 30.12.2016г. | BM30: 15001 | BN30: 0 | BP30: 0 | BQ30: 2 | BR30: 0 | BS30: 6.38 | BT30: 1 | BU30: 1 | BV30: 1 | BW30: 1 | BX30: 1 | BZ30: 105 | CA30: 55 | CF30: 0 | CG30: 0 | CM30: 0 | CN30: Поправка: МДС 81-35.2004, п.4.7 Наименование: Работы, выполняемые при реконструкции зданий и сооружений работы, аналогичные технологическим процессам в новом строительстве (в том числе возведение новых конструктивных элементов) стоимость которых определена по соответствующим сборникам ФЕР, кроме сборника № 46 «Работы при реконструкции зданий и сооружений» Поправка: МДС 81-35.2004, п.4.7 Наименование: Работы, выполняемые при реконструкции зданий и сооружений работы, аналогичные технологическим процессам в новом строительстве (в том числе возведение новых конструктивных элементов) стоимость которых определена по соответствующим сборникам ФЕР, кроме сборника № 46 «Работы при реконструкции зданий и сооружений» | CO30: 0 | CP30: =(P30+Q30+S30) -> 7509.6 | CQ30: =AC30*BC30 -> 2.2968 | CR30: =AD30*BB30 -> 281.996 | CS30: =AE30*BS30 -> 54.868 | CT30: =AF30*BA30 -> 11212.34 | CU30: =AG30 -> 0 | CV30: =AH30 -> 191.4405 | CW30: =AI30 -> 0.725 | CX30: =AJ30 -> 0 | CY30: =(((S30+R30)*AT30)/100) -> 6991.753 | CZ30: =(((S30+R30)*AU30)/100) -> 3459.0778 | DE30: )*1,25 | DF30: )*1,25 | DG30: )*1,15 | DI30: )*1,15 | DJ30: )*1,25 | DN30: 0 | DO30: 0 | DP30: 1 | DQ30: 1 | DU30: 1005 | DV30: 100 м2 | DW30: 100 м2 | DX30: 100 | EE30: 16510513 | EF30: 2 | EG30: Общестроительные работы | EH30: 0 | EJ30: 1 | EK30: 15001 | EL30: Отделочные работы | EM30: ФЕР-15 | EO30: Поправка: МДС 81-35.2004, п.4.7 Поправка: МДС 81-35.2004, п.4.7 | EQ30: 131072 | ER30: 1563.91 | ES30: 0.36 | ET30: 35.36 | EU30: 6.88 | EV30: 1528.19 | EW30: 166.47 | EX30: 0.58 | EY30: 0 | FQ30: 0 | FR30: =ROUND(IF(AND(BH30=3,BI30=3),P30,0),2) -> 0 | FS30: 0 | FT30: *0,9 | FU30: *0,85 | FX30: 94.5 | FY30: 46.75 | GD30: 0 | GF30: 802970418 | GG30: 1 | GH30: 1 | GI30: 4 | GJ30: 0 | GK30: =ROUND(R30*(R12)/100,2) -> 0 | GL30: =ROUND(IF(AND(BH30=3,BI30=3,FS30<>0),P30,0),2) -> 0 | GM30: =ROUND(O30+X30+Y30+GK30,2)+GX30 -> 17960.43 | GN30: =IF(OR(BI30=0,BI30=1),ROUND(O30+X30+Y30+GK30,2),0) -> 17960.43 | GO30: =IF(BI30=2,ROUND(O30+X30+Y30+GK30,2),0) -> 0 | GP30: =IF(BI30=4,ROUND(O30+X30+Y30+GK30,2)+GX30,0) -> 0 | GR30: 0 | GS30: 3 | GT30: 0 | GV30: =ROUND(GT30,2) -> 0 | GW30: 1 | GX30: =ROUND(GV30*GW30*I30,2) -> 0 | HA30: 0 | HB30: 0 | IK30: 0
A31: 18 | B31: 1 | C31: 31 | E31: 4,1 | F31: Средняя цена коммерческих предложений | G31: Сэндвич панели для откосов из ПВХ размером 2700х250х10 мм | H31: м | I31: =I30*J31 -> 163.3 | J31: 250 | O31: =ROUND(CP31,2) -> 82754.46 | P31: =ROUND(CQ31*I31,2) -> 82754.46 | Q31: =ROUND(CR31*I31,2) -> 0 | R31: =ROUND(CS31*I31,2) -> 0 | S31: =ROUND(CT31*I31,2) -> 0 | T31: =ROUND(CU31*I31,2) -> 0 | U31: =CV31*I31 -> 0 | V31: =CW31*I31 -> 0 | W31: =ROUND(CX31*I31,2) -> 0 | X31: =ROUND(CY31,2) -> 0 | Y31: =ROUND(CZ31,2) -> 0 | AA31: 16628881 | AB31: =ROUND((AC31+AD31+AF31),2) -> 79.43 | AC31: =ROUND((ES31),2) -> 79.43 | AD31: =ROUND((((ET31)-(EU31))+AE31),2) -> 0 | AE31: =ROUND((EU31),2) -> 0 | AF31: =ROUND((EV31),2) -> 0 | AG31: =ROUND((AP31),2) -> 0 | AH31: =(EW31) -> 0 | AI31: =(EX31) -> 0 | AJ31: =ROUND((AS31),2) -> 0 | AK31: 79.43 | AL31: 79.43 | AM31: 0 | AN31: 0 | AO31: 0 | AP31: 0 | AQ31: 0 | AR31: 0 | AS31: 0 | AT31: 95 | AU31: 47 | AV31: 1 | AW31: 1 | AZ31: 6.38 | BA31: 1 | BB31: 1 | BC31: 6.38 | BH31: 3 | BI31: 1 | BM31: 15001 | BN31: 0 | BP31: 0 | BQ31: 2 | BR31: 0 | BS31: 1 | BT31: 1 | BU31: 1 | BV31: 1 | BW31: 1 | BX31: 1 | BZ31: 105 | CA31: 55 | CF31: 0 | CG31: 0 | CM31: 0 | CO31: 0 | CP31: =(P31+Q31+S31) -> 82754.46 | CQ31: =AC31*BC31 -> 506.7634 | CR31: =AD31*BB31 -> 0 | CS31: =AE31*BS31 -> 0 | CT31: =AF31*BA31 -> 0 | CU31: =AG31 -> 0 | CV31: =AH31 -> 0 | CW31: =AI31 -> 0 | CX31: =AJ31 -> 0 | CY31: =(((S31+R31)*AT31)/100) -> 0 | CZ31: =(((S31+R31)*AU31)/100) -> 0 | DN31: 0 | DO31: 0 | DP31: 1 | DQ31: 1 | DU31: 1003 | DV31: м | DW31: м | DX31: 1 | EE31: 16510513 | EF31: 2 | EG31: Общестроительные работы | EH31: 0 | EJ31: 1 | EK31: 15001 | EL31: Отделочные работы | EM31: ФЕР-15 | EQ31: 0 | ER31: 79.43 | ES31: 79.43 | ET31: 0 | EU31: 0 | EV31: 0 | EW31: 0 | EX31: 0 | EZ31: 5 | FC31: 1 | FD31: 18 | FF31: 598 | FQ31: 0 | FR31: =ROUND(IF(AND(BH31=3,BI31=3),P31,0),2) -> 0 | FS31: 0 | FT31: *0,9 | FU31: *0,85 | FX31: 94.5 | FY31: 46.75 | GA31: [598 / 1,18 / 6,38] | GD31: 0 | GF31: 199748778 | GG31: 1 | GH31: 3 | GI31: 4 | GJ31: 0 | GK31: =ROUND(R31*(R12)/100,2) -> 0 | GL31: =ROUND(IF(AND(BH31=3,BI31=3,FS31<>0),P31,0),2) -> 0 | GM31: =ROUND(O31+X31+Y31+GK31,2)+GX31 -> 82754.46 | GN31: =IF(OR(BI31=0,BI31=1),ROUND(O31+X31+Y31+GK31,2),0) -> 82754.46 | GO31: =IF(BI31=2,ROUND(O31+X31+Y31+GK31,2),0) -> 0 | GP31: =IF(BI31=4,ROUND(O31+X31+Y31+GK31,2)+GX31,0) -> 0 | GR31: 1 | GS31: 1 | GT31: 0 | GV31: =ROUND(GT31,2) -> 0 | GW31: 1 | GX31: =ROUND(GV31*GW31*I31,2) -> 0 | HA31: 0 | HB31: 0 | IK31: 0
A32: 18 | B32: 1 | C32: 29 | E32: 4,2 | F32: 14.2.02.01-0001 | G32: Клей огнестойкий, марка "Conlit Glue" ROCKWOOL | H32: кг | I32: =I30*J32 -> 19.596 | J32: 30 | O32: =ROUND(CP32,2) -> 2465.44 | P32: =ROUND(CQ32*I32,2) -> 2465.44 | Q32: =ROUND(CR32*I32,2) -> 0 | R32: =ROUND(CS32*I32,2) -> 0 | S32: =ROUND(CT32*I32,2) -> 0 | T32: =ROUND(CU32*I32,2) -> 0 | U32: =CV32*I32 -> 0 | V32: =CW32*I32 -> 0 | W32: =ROUND(CX32*I32,2) -> 0 | X32: =ROUND(CY32,2) -> 0 | Y32: =ROUND(CZ32,2) -> 0 | AA32: 16628881 | AB32: =ROUND((AC32+AD32+AF32),2) -> 19.72 | AC32: =ROUND((ES32),2) -> 19.72 | AD32: =ROUND((((ET32)-(EU32))+AE32),2) -> 0 | AE32: =ROUND((EU32),2) -> 0 | AF32: =ROUND((EV32),2) -> 0 | AG32: =ROUND((AP32),2) -> 0 | AH32: =(EW32) -> 0 | AI32: =(EX32) -> 0 | AJ32: =ROUND((AS32),2) -> 0 | AK32: 19.72 | AL32: 19.72 | AM32: 0 | AN32: 0 | AO32: 0 | AP32: 0 | AQ32: 0 | AR32: 0 | AS32: 0 | AT32: 95 | AU32: 47 | AV32: 1 | AW32: 1 | AZ32: 6.38 | BA32: 1 | BB32: 1 | BC32: 6.38 | BH32: 3 | BI32: 1 | BJ32: ФССЦ-2001, 14.2.02.01-0001, приказ Минстроя России №1039/пр от 30.12.2016г. | BM32: 15001 | BN32: 0 | BP32: 0 | BQ32: 2 | BR32: 0 | BS32: 1 | BT32: 1 | BU32: 1 | BV32: 1 | BW32: 1 | BX32: 1 | BZ32: 105 | CA32: 55 | CF32: 0 | CG32: 0 | CM32: 0 | CO32: 0 | CP32: =(P32+Q32+S32) -> 2465.44 | CQ32: =AC32*BC32 -> 125.8136 | CR32: =AD32*BB32 -> 0 | CS32: =AE32*BS32 -> 0 | CT32: =AF32*BA32 -> 0 | CU32: =AG32 -> 0 | CV32: =AH32 -> 0 | CW32: =AI32 -> 0 | CX32: =AJ32 -> 0 | CY32: =(((S32+R32)*AT32)/100) -> 0 | CZ32: =(((S32+R32)*AU32)/100) -> 0 | DN32: 0 | DO32: 0 | DP32: 1 | DQ32: 1 | DU32: 1009 | DV32: кг | DW32: кг | DX32: 1 | EE32: 16510513 | EF32: 2 | EG32: Общестроительные работы | EH32: 0 | EJ32: 1 | EK32: 15001 | EL32: Отделочные работы | EM32: ФЕР-15 | EQ32: 0 | ER32: 19.72 | ES32: 19.72 | ET32: 0 | EU32: 0 | EV32: 0 | EW32: 0 | EX32: 0 | FQ32: 0 | FR32: =ROUND(IF(AND(BH32=3,BI32=3),P32,0),2) -> 0 | FS32: 0 | FT32: *0,9 | FU32: *0,85 | FX32: 94.5 | FY32: 46.75 | GD32: 0 | GF32: 1227292258 | GG32: 1 | GH32: 1 | GI32: 4 | GJ32: 0 | GK32: =ROUND(R32*(R12)/100,2) -> 0 | GL32: =ROUND(IF(AND(BH32=3,BI32=3,FS32<>0),P32,0),2) -> 0 | GM32: =ROUND(O32+X32+Y32+GK32,2)+GX32 -> 2465.44 | GN32: =IF(OR(BI32=0,BI32=1),ROUND(O32+X32+Y32+GK32,2),0) -> 2465.44 | GO32: =IF(BI32=2,ROUND(O32+X32+Y32+GK32,2),0) -> 0 | GP32: =IF(BI32=4,ROUND(O32+X32+Y32+GK32,2)+GX32,0) -> 0 | GR32: 0 | GS32: 3 | GT32: 0 | GV32: =ROUND(GT32,2) -> 0 | GW32: 1 | GX32: =ROUND(GV32*GW32*I32,2) -> 0 | HA32: 0 | HB32: 0 | IK32: 0
A33: 18 | B33: 1 | C33: 30 | E33: 4,3 | F33: 14.3.01.01-0105 | G33: Грунтовка: по бетону, марка "WG-Welestrong Sealer" | H33: кг | I33: =I30*J33 -> 5.81348 | J33: 8.9 | O33: =ROUND(CP33,2) -> 7822.28 | P33: =ROUND(CQ33*I33,2) -> 7822.28 | Q33: =ROUND(CR33*I33,2) -> 0 | R33: =ROUND(CS33*I33,2) -> 0 | S33: =ROUND(CT33*I33,2) -> 0 | T33: =ROUND(CU33*I33,2) -> 0 | U33: =CV33*I33 -> 0 | V33: =CW33*I33 -> 0 | W33: =ROUND(CX33*I33,2) -> 0 | X33: =ROUND(CY33,2) -> 0 | Y33: =ROUND(CZ33,2) -> 0 | AA33: 16628881 | AB33: =ROUND((AC33+AD33+AF33),2) -> 210.9 | AC33: =ROUND((ES33),2) -> 210.9 | AD33: =ROUND((((ET33)-(EU33))+AE33),2) -> 0 | AE33: =ROUND((EU33),2) -> 0 | AF33: =ROUND((EV33),2) -> 0 | AG33: =ROUND((AP33),2) -> 0 | AH33: =(EW33) -> 0 | AI33: =(EX33) -> 0 | AJ33: =ROUND((AS33),2) -> 0 | AK33: 210.9 | AL33: 210.9 | AM33: 0 | AN33: 0 | AO33: 0 | AP33: 0 | AQ33: 0 | AR33: 0 | AS33: 0 | AT33: 95 | AU33: 47 | AV33: 1 | AW33: 1 | AZ33: 6.38 | BA33: 1 | BB33: 1 | BC33: 6.38 | BH33: 3 | BI33: 1 | BJ33: ФССЦ-2001, 14.3.01.01-0105, приказ Минстроя России №1039/пр от 30.12.2016г. | BM33: 15001 | BN33: 0 | BP33: 0 | BQ33: 2 | BR33: 0 | BS33: 1 | BT33: 1 | BU33: 1 | BV33: 1 | BW33: 1 | BX33: 1 | BZ33: 105 | CA33: 55 | CF33: 0 | CG33: 0 | CM33: 0 | CO33: 0 | CP33: =(P33+Q33+S33) -> 7822.28 | CQ33: =AC33*BC33 -> 1345.542 | CR33: =AD33*BB33 -> 0 | CS33: =AE33*BS33 -> 0 | CT33: =AF33*BA33 -> 0 | CU33: =AG33 -> 0 | CV33: =AH33 -> 0 | CW33: =AI33 -> 0 | CX33: =AJ33 -> 0 | CY33: =(((S33+R33)*AT33)/100) -> 0 | CZ33: =(((S33+R33)*AU33)/100) -> 0 | DN33: 0 | DO33: 0 | DP33: 1 | DQ33: 1 | DU33: 1009 | DV33: кг | DW33: кг | DX33: 1 | EE33: 16510513 | EF33: 2 | EG33: Общестроительные работы | EH33: 0 | EJ33: 1 | EK33: 15001 | EL33: Отделочные работы | EM33: ФЕР-15 | EQ33: 0 | ER33: 210.9 | ES33: 210.9 | ET33: 0 | EU33: 0 | EV33: 0 | EW33: 0 | EX33: 0 | FQ33: 0 | FR33: =ROUND(IF(AND(BH33=3,BI33=3),P33,0),2) -> 0 | FS33: 0 | FT33: *0,9 | FU33: *0,85 | FX33: 94.5 | FY33: 46.75 | GD33: 0 | GF33: 1092481488 | GG33: 1 | GH33: 1 | GI33: 4 | GJ33: 0 | GK33: =ROUND(R33*(R12)/100,2) -> 0 | GL33: =ROUND(IF(AND(BH33=3,BI33=3,FS33<>0),P33,0),2) -> 0 | GM33: =ROUND(O33+X33+Y33+GK33,2)+GX33 -> 7822.28 | GN33: =IF(OR(BI33=0,BI33=1),ROUND(O33+X33+Y33+GK33,2),0) -> 7822.28 | GO33: =IF(BI33=2,ROUND(O33+X33+Y33+GK33,2),0) -> 0 | GP33: =IF(BI33=4,ROUND(O33+X33+Y33+GK33,2)+GX33,0) -> 0 | GR33: 0 | GS33: 3 | GT33: 0 | GV33: =ROUND(GT33,2) -> 0 | GW33: 1 | GX33: =ROUND(GV33*GW33*I33,2) -> 0 | HA33: 0 | HB33: 0 | IK33: 0
A34: 18 | B34: 1 | C34: 28 | E34: 4,4 | F34: 14.1.06.05 | G34: Клей | H34: кг | I34: =I30*J34 -> 19.596 | J34: 30 | O34: =ROUND(CP34,2) -> 0 | P34: =ROUND(CQ34*I34,2) -> 0 | Q34: =ROUND(CR34*I34,2) -> 0 | R34: =ROUND(CS34*I34,2) -> 0 | S34: =ROUND(CT34*I34,2) -> 0 | T34: =ROUND(CU34*I34,2) -> 0 | U34: =CV34*I34 -> 0 | V34: =CW34*I34 -> 0 | W34: =ROUND(CX34*I34,2) -> 0 | X34: =ROUND(CY34,2) -> 0 | Y34: =ROUND(CZ34,2) -> 0 | AA34: 16628881 | AB34: =ROUND((AC34+AD34+AF34),2) -> 0 | AC34: =ROUND((ES34),2) -> 0 | AD34: =ROUND((((ET34)-(EU34))+AE34),2) -> 0 | AE34: =ROUND((EU34),2) -> 0 | AF34: =ROUND((EV34),2) -> 0 | AG34: =ROUND((AP34),2) -> 0 | AH34: =(EW34) -> 0 | AI34: =(EX34) -> 0 | AJ34: =ROUND((AS34),2) -> 0 | AK34: 0 | AL34: 0 | AM34: 0 | AN34: 0 | AO34: 0 | AP34: 0 | AQ34: 0 | AR34: 0 | AS34: 0 | AT34: 95 | AU34: 47 | AV34: 1 | AW34: 1 | AZ34: 6.38 | BA34: 1 | BB34: 1 | BC34: 6.38 | BH34: 3 | BI34: 1 | BM34: 15001 | BN34: 0 | BP34: 0 | BQ34: 2 | BR34: 0 | BS34: 1 | BT34: 1 | BU34: 1 | BV34: 1 | BW34: 1 | BX34: 1 | BZ34: 105 | CA34: 55 | CF34: 0 | CG34: 0 | CM34: 0 | CO34: 0 | CP34: =(P34+Q34+S34) -> 0 | CQ34: =AC34*BC34 -> 0 | CR34: =AD34*BB34 -> 0 | CS34: =AE34*BS34 -> 0 | CT34: =AF34*BA34 -> 0 | CU34: =AG34 -> 0 | CV34: =AH34 -> 0 | CW34: =AI34 -> 0 | CX34: =AJ34 -> 0 | CY34: =(((S34+R34)*AT34)/100) -> 0 | CZ34: =(((S34+R34)*AU34)/100) -> 0 | DN34: 0 | DO34: 0 | DP34: 1 | DQ34: 1 | DU34: 1009 | DV34: кг | DW34: кг | DX34: 1 | EE34: 16510513 | EF34: 2 | EG34: Общестроительные работы | EH34: 0 | EJ34: 1 | EK34: 15001 | EL34: Отделочные работы | EM34: ФЕР-15 | EQ34: 0 | ER34: 0 | ES34: 0 | ET34: 0 | EU34: 0 | EV34: 0 | EW34: 0 | EX34: 0 | FQ34: 0 | FR34: =ROUND(IF(AND(BH34=3,BI34=3),P34,0),2) -> 0 | FS34: 0 | FT34: *0,9 | FU34: *0,85 | FX34: 94.5 | FY34: 46.75 | GA34: занесена вручную | GD34: 0 | GF34: -1516100259 | GG34: 1 | GH34: 1 | GI34: 4 | GJ34: 0 | GK34: =ROUND(R34*(R12)/100,2) -> 0 | GL34: =ROUND(IF(AND(BH34=3,BI34=3,FS34<>0),P34,0),2) -> 0 | GM34: =ROUND(O34+X34+Y34+GK34,2)+GX34 -> 0 | GN34: =IF(OR(BI34=0,BI34=1),ROUND(O34+X34+Y34+GK34,2),0) -> 0 | GO34: =IF(BI34=2,ROUND(O34+X34+Y34+GK34,2),0) -> 0 | GP34: =IF(BI34=4,ROUND(O34+X34+Y34+GK34,2)+GX34,0) -> 0 | GR34: 0 | GS34: 4 | GT34: 0 | GV34: =ROUND(GT34,2) -> 0 | GW34: 1 | GX34: =ROUND(GV34*GW34*I34,2) -> 0 | HA34: 0 | HB34: 0 | IK34: 0
A35: 17 | B35: 1 | C35: =ROW(SmtRes!A35) -> 35 | D35: =ROW(EtalonRes!A32) -> 32 | E35: 5 | F35: 10-01-036-01 | G35: Установка уголков ПВХ на клее | H35: 100 м | I35: =ROUND(163.3/100,9) -> 1.633 | J35: 0 | O35: =ROUND(CP35,2) -> 1059.78 | P35: =ROUND(CQ35*I35,2) -> 375.07 | Q35: =ROUND(CR35*I35,2) -> 0 | R35: =ROUND(CS35*I35,2) -> 0 | S35: =ROUND(CT35*I35,2) -> 684.71 | T35: =ROUND(CU35*I35,2) -> 0 | U35: =CV35*I35 -> 12.582265 | V35: =CW35*I35 -> 0 | W35: =ROUND(CX35*I35,2) -> 0 | X35: =ROUND(CY35,2) -> 725.79 | Y35: =ROUND(CZ35,2) -> 369.74 | AA35: 16628881 | AB35: =ROUND((AC35+AD35+AF35),2) -> 101.72 | AC35: =ROUND((ES35),2) -> 36 | AD35: =ROUND(((((ET35*1.25))-((EU35*1.25)))+AE35),2) -> 0 | AE35: =ROUND(((EU35*1.25)),2) -> 0 | AF35: =ROUND(((EV35*1.15)),2) -> 65.72 | AG35: =ROUND((AP35),2) -> 0 | AH35: =((EW35*1.15)) -> 7.705 | AI35: =((EX35*1.25)) -> 0 | AJ35: =ROUND((AS35),2) -> 0 | AK35: 93.15 | AL35: 36 | AM35: 0 | AN35: 0 | AO35: 57.15 | AP35: 0 | AQ35: 6.7 | AR35: 0 | AS35: 0 | AT35: 106 | AU35: 54 | AV35: 1 | AW35: 1 | AZ35: 6.38 | BA35: 6.38 | BB35: 6.38 | BC35: 6.38 | BH35: 0 | BI35: 1 | BJ35: ФЕР-2001, 10-01-036-01, приказ Минстроя России №1039/пр от 30.12.2016г. | BM35: 10001 | BN35: 0 | BP35: 0 | BQ35: 2 | BR35: 0 | BS35: 6.38 | BT35: 1 | BU35: 1 | BV35: 1 | BW35: 1 | BX35: 1 | BZ35: 118 | CA35: 63 | CF35: 0 | CG35: 0 | CM35: 0 | CN35: Поправка: МДС 81-35.2004, п.4.7 Наименование: Работы, выполняемые при реконструкции зданий и сооружений работы, аналогичные технологическим процессам в новом строительстве (в том числе возведение новых конструктивных элементов) стоимость которых определена по соответствующим сборникам ФЕР, кроме сборника № 46 «Работы при реконструкции зданий и сооружений» Поправка: МДС 81-35.2004, п.4.7 Наименование: Работы, выполняемые при реконструкции зданий и сооружений работы, аналогичные технологическим процессам в новом строительстве (в том числе возведение новых конструктивных элементов) стоимость которых определена по соответствующим сборникам ФЕР, кроме сборника № 46 «Работы при реконструкции зданий и сооружений» | CO35: 0 | CP35: =(P35+Q35+S35) -> 1059.78 | CQ35: =AC35*BC35 -> 229.68 | CR35: =AD35*BB35 -> 0 | CS35: =AE35*BS35 -> 0 | CT35: =AF35*BA35 -> 419.2936 | CU35: =AG35 -> 0 | CV35: =AH35 -> 7.705 | CW35: =AI35 -> 0 | CX35: =AJ35 -> 0 | CY35: =(((S35+R35)*AT35)/100) -> 725.7926 | CZ35: =(((S35+R35)*AU35)/100) -> 369.7434 | DE35: )*1,25 | DF35: )*1,25 | DG35: )*1,15 | DI35: )*1,15 | DJ35: )*1,25 | DN35: 0 | DO35: 0 | DP35: 1 | DQ35: 1 | DU35: 1003 | DV35: 100 м | DW35: 100 м | DX35: 100 | EE35: 16510487 | EF35: 2 | EG35: Общестроительные работы | EH35: 0 | EJ35: 1 | EK35: 10001 | EL35: Деревянные конструкции | EM35: ФЕР-10 | EO35: Поправка: МДС 81-35.2004, п.4.7 Поправка: МДС 81-35.2004, п.4.7 | EQ35: 0 | ER35: 93.15 | ES35: 36 | ET35: 0 | EU35: 0 | EV35: 57.15 | EW35: 6.7 | EX35: 0 | EY35: 0 | FQ35: 0 | FR35: =ROUND(IF(AND(BH35=3,BI35=3),P35,0),2) -> 0 | FS35: 0 | FT35: *0,9 | FU35: *0,85 | FX35: 106.2 | FY35: 53.55 | GD35: 0 | GF35: -1862938563 | GG35: 1 | GH35: 1 | GI35: 4 | GJ35: 0 | GK35: =ROUND(R35*(R12)/100,2) -> 0 | GL35: =ROUND(IF(AND(BH35=3,BI35=3,FS35<>0),P35,0),2) -> 0 | GM35: =ROUND(O35+X35+Y35+GK35,2)+GX35 -> 2155.31 | GN35: =IF(OR(BI35=0,BI35=1),ROUND(O35+X35+Y35+GK35,2),0) -> 2155.31 | GO35: =IF(BI35=2,ROUND(O35+X35+Y35+GK35,2),0) -> 0 | GP35: =IF(BI35=4,ROUND(O35+X35+Y35+GK35,2)+GX35,0) -> 0 | GR35: 0 | GS35: 3 | GT35: 0 | GV35: =ROUND(GT35,2) -> 0 | GW35: 1 | GX35: =ROUND(GV35*GW35*I35,2) -> 0 | HA35: 0 | HB35: 0 | IK35: 0
A36: 18 | B36: 1 | C36: 33 | E36: 5,1 | F36: 11.3.03.13 | G36: Уголок ПВХ | H36: П.М | I36: =I35*J36 -> 163.3 | J36: 100 | O36: =ROUND(CP36,2) -> 0 | P36: =ROUND(CQ36*I36,2) -> 0 | Q36: =ROUND(CR36*I36,2) -> 0 | R36: =ROUND(CS36*I36,2) -> 0 | S36: =ROUND(CT36*I36,2) -> 0 | T36: =ROUND(CU36*I36,2) -> 0 | U36: =CV36*I36 -> 0 | V36: =CW36*I36 -> 0 | W36: =ROUND(CX36*I36,2) -> 0 | X36: =ROUND(CY36,2) -> 0 | Y36: =ROUND(CZ36,2) -> 0 | AA36: 16628881 | AB36: =ROUND((AC36+AD36+AF36),2) -> 0 | AC36: =ROUND((ES36),2) -> 0 | AD36: =ROUND((((ET36)-(EU36))+AE36),2) -> 0 | AE36: =ROUND((EU36),2) -> 0 | AF36: =ROUND((EV36),2) -> 0 | AG36: =ROUND((AP36),2) -> 0 | AH36: =(EW36) -> 0 | AI36: =(EX36) -> 0 | AJ36: =ROUND((AS36),2) -> 0 | AK36: 0 | AL36: 0 | AM36: 0 | AN36: 0 | AO36: 0 | AP36: 0 | AQ36: 0 | AR36: 0 | AS36: 0 | AT36: 106 | AU36: 54 | AV36: 1 | AW36: 1 | AZ36: 6.38 | BA36: 1 | BB36: 1 | BC36: 6.38 | BH36: 3 | BI36: 1 | BM36: 10001 | BN36: 0 | BP36: 0 | BQ36: 2 | BR36: 0 | BS36: 1 | BT36: 1 | BU36: 1 | BV36: 1 | BW36: 1 | BX36: 1 | BZ36: 118 | CA36: 63 | CF36: 0 | CG36: 0 | CM36: 0 | CO36: 0 | CP36: =(P36+Q36+S36) -> 0 | CQ36: =AC36*BC36 -> 0 | CR36: =AD36*BB36 -> 0 | CS36: =AE36*BS36 -> 0 | CT36: =AF36*BA36 -> 0 | CU36: =AG36 -> 0 | CV36: =AH36 -> 0 | CW36: =AI36 -> 0 | CX36: =AJ36 -> 0 | CY36: =(((S36+R36)*AT36)/100) -> 0 | CZ36: =(((S36+R36)*AU36)/100) -> 0 | DN36: 0 | DO36: 0 | DP36: 1 | DQ36: 1 | DU36: 1013 | DV36: П.М | DW36: П.М | DX36: 1 | EE36: 16510487 | EF36: 2 | EG36: Общестроительные работы | EH36: 0 | EJ36: 1 | EK36: 10001 | EL36: Деревянные конструкции | EM36: ФЕР-10 | EQ36: 0 | ER36: 0 | ES36: 0 | ET36: 0 | EU36: 0 | EV36: 0 | EW36: 0 | EX36: 0 | FQ36: 0 | FR36: =ROUND(IF(AND(BH36=3,BI36=3),P36,0),2) -> 0 | FS36: 0 | FT36: *0,9 | FU36: *0,85 | FX36: 106.2 | FY36: 53.55 | GD36: 0 | GF36: -1710570218 | GG36: 1 | GH36: 1 | GI36: 4 | GJ36: 0 | GK36: =ROUND(R36*(R12)/100,2) -> 0 | GL36: =ROUND(IF(AND(BH36=3,BI36=3,FS36<>0),P36,0),2) -> 0 | GM36: =ROUND(O36+X36+Y36+GK36,2)+GX36 -> 0 | GN36: =IF(OR(BI36=0,BI36=1),ROUND(O36+X36+Y36+GK36,2),0) -> 0 | GO36: =IF(BI36=2,ROUND(O36+X36+Y36+GK36,2),0) -> 0 | GP36: =IF(BI36=4,ROUND(O36+X36+Y36+GK36,2)+GX36,0) -> 0 | GR36: 0 | GS36: 3 | GT36: 0 | GV36: =ROUND(GT36,2) -> 0 | GW36: 1 | GX36: =ROUND(GV36*GW36*I36,2) -> 0 | HA36: 0 | HB36: 0 | IK36: 0
A37: 18 | B37: 1 | C37: 34 | E37: 5,2 | F37: 11.3.03.13-0043 | G37: Уголок ПВХ, размером 20х20 мм | H37: 10 м | I37: =I35*J37 -> 16.33 | J37: 10 | O37: =ROUND(CP37,2) -> 2667.15 | P37: =ROUND(CQ37*I37,2) -> 2667.15 | Q37: =ROUND(CR37*I37,2) -> 0 | R37: =ROUND(CS37*I37,2) -> 0 | S37: =ROUND(CT37*I37,2) -> 0 | T37: =ROUND(CU37*I37,2) -> 0 | U37: =CV37*I37 -> 0 | V37: =CW37*I37 -> 0 | W37: =ROUND(CX37*I37,2) -> 0 | X37: =ROUND(CY37,2) -> 0 | Y37: =ROUND(CZ37,2) -> 0 | AA37: 16628881 | AB37: =ROUND((AC37+AD37+AF37),2) -> 25.6 | AC37: =ROUND((ES37),2) -> 25.6 | AD37: =ROUND((((ET37)-(EU37))+AE37),2) -> 0 | AE37: =ROUND((EU37),2) -> 0 | AF37: =ROUND((EV37),2) -> 0 | AG37: =ROUND((AP37),2) -> 0 | AH37: =(EW37) -> 0 | AI37: =(EX37) -> 0 | AJ37: =ROUND((AS37),2) -> 0 | AK37: 25.6 | AL37: 25.6 | AM37: 0 | AN37: 0 | AO37: 0 | AP37: 0 | AQ37: 0 | AR37: 0 | AS37: 0 | AT37: 106 | AU37: 54 | AV37: 1 | AW37: 1 | AZ37: 6.38 | BA37: 1 | BB37: 1 | BC37: 6.38 | BH37: 3 | BI37: 1 | BJ37: ФССЦ-2001, 11.3.03.13-0043, приказ Минстроя России №1039/пр от 30.12.2016г. | BM37: 10001 | BN37: 0 | BP37: 0 | BQ37: 2 | BR37: 0 | BS37: 1 | BT37: 1 | BU37: 1 | BV37: 1 | BW37: 1 | BX37: 1 | BZ37: 118 | CA37: 63 | CF37: 0 | CG37: 0 | CM37: 0 | CO37: 0 | CP37: =(P37+Q37+S37) -> 2667.15 | CQ37: =AC37*BC37 -> 163.328 | CR37: =AD37*BB37 -> 0 | CS37: =AE37*BS37 -> 0 | CT37: =AF37*BA37 -> 0 | CU37: =AG37 -> 0 | CV37: =AH37 -> 0 | CW37: =AI37 -> 0 | CX37: =AJ37 -> 0 | CY37: =(((S37+R37)*AT37)/100) -> 0 | CZ37: =(((S37+R37)*AU37)/100) -> 0 | DN37: 0 | DO37: 0 | DP37: 1 | DQ37: 1 | DU37: 1003 | DV37: 10 м | DW37: 10 м | DX37: 10 | EE37: 16510487 | EF37: 2 | EG37: Общестроительные работы | EH37: 0 | EJ37: 1 | EK37: 10001 | EL37: Деревянные конструкции | EM37: ФЕР-10 | EQ37: 0 | ER37: 25.6 | ES37: 25.6 | ET37: 0 | EU37: 0 | EV37: 0 | EW37: 0 | EX37: 0 | FQ37: 0 | FR37: =ROUND(IF(AND(BH37=3,BI37=3),P37,0),2) -> 0 | FS37: 0 | FT37: *0,9 | FU37: *0,85 | FX37: 106.2 | FY37: 53.55 | GD37: 0 | GF37: 189188006 | GG37: 1 | GH37: 1 | GI37: 4 | GJ37: 0 | GK37: =ROUND(R37*(R12)/100,2) -> 0 | GL37: =ROUND(IF(AND(BH37=3,BI37=3,FS37<>0),P37,0),2) -> 0 | GM37: =ROUND(O37+X37+Y37+GK37,2)+GX37 -> 2667.15 | GN37: =IF(OR(BI37=0,BI37=1),ROUND(O37+X37+Y37+GK37,2),0) -> 2667.15 | GO37: =IF(BI37=2,ROUND(O37+X37+Y37+GK37,2),0) -> 0 | GP37: =IF(BI37=4,ROUND(O37+X37+Y37+GK37,2)+GX37,0) -> 0 | GR37: 0 | GS37: 3 | GT37: 0 | GV37: =ROUND(GT37,2) -> 0 | GW37: 1 | GX37: =ROUND(GV37*GW37*I37,2) -> 0 | HA37: 0 | HB37: 0 | IK37: 0
A38: 17 | B38: 1 | C38: =ROW(SmtRes!A42) -> 42 | D38: =ROW(EtalonRes!A39) -> 39 | E38: 6 | F38: 10-01-035-01 | G38: Установка подоконных досок из ПВХ в каменных стенах толщиной до 0,51 м | H38: 100 м | I38: =ROUND(59.8/100,9) -> 0.598 | J38: 0 | O38: =ROUND(CP38,2) -> 16077.23 | P38: =ROUND(CQ38*I38,2) -> 15231.2 | Q38: =ROUND(CR38*I38,2) -> 52.99 | R38: =ROUND(CS38*I38,2) -> 10.87 | S38: =ROUND(CT38*I38,2) -> 793.04 | T38: =ROUND(CU38*I38,2) -> 0 | U38: =CV38*I38 -> 14.572363 | V38: =CW38*I38 -> 0.142025 | W38: =ROUND(CX38*I38,2) -> 0 | X38: =ROUND(CY38,2) -> 852.14 | Y38: =ROUND(CZ38,2) -> 434.11 | AA38: 16628881 | AB38: =ROUND((AC38+AD38+AF38),2) -> 4213.95 | AC38: =ROUND((ES38),2) -> 3992.2 | AD38: =ROUND(((((ET38*1.25))-((EU38*1.25)))+AE38),2) -> 13.89 | AE38: =ROUND(((EU38*1.25)),2) -> 2.85 | AF38: =ROUND(((EV38*1.15)),2) -> 207.86 | AG38: =ROUND((AP38),2) -> 0 | AH38: =((EW38*1.15)) -> 24.3685 | AI38: =((EX38*1.25)) -> 0.2375 | AJ38: =ROUND((AS38),2) -> 0 | AK38: 4184.06 | AL38: 3992.2 | AM38: 11.11 | AN38: 2.28 | AO38: 180.75 | AP38: 0 | AQ38: 21.19 | AR38: 0.19 | AS38: 0 | AT38: 106 | AU38: 54 | AV38: 1 | AW38: 1 | AZ38: 6.38 | BA38: 6.38 | BB38: 6.38 | BC38: 6.38 | BH38: 0 | BI38: 1 | BJ38: ФЕР-2001, 10-01-035-01, приказ Минстроя России №1039/пр от 30.12.2016г. | BM38: 10001 | BN38: 0 | BP38: 0 | BQ38: 2 | BR38: 0 | BS38: 6.38 | BT38: 1 | BU38: 1 | BV38: 1 | BW38: 1 | BX38: 1 | BZ38: 118 | CA38: 63 | CF38: 0 | CG38: 0 | CM38: 0 | CN38: Поправка: МДС 81-35.2004, п.4.7 Наименование: Работы, выполняемые при реконструкции зданий и сооружений работы, аналогичные технологическим процессам в новом строительстве (в том числе возведение новых конструктивных элементов) стоимость которых определена по соответствующим сборникам ФЕР, кроме сборника № 46 «Работы при реконструкции зданий и сооружений» Поправка: МДС 81-35.2004, п.4.7 Наименование: Работы, выполняемые при реконструкции зданий и сооружений работы, аналогичные технологическим процессам в новом строительстве (в том числе возведение новых конструктивных элементов) стоимость которых определена по соответствующим сборникам ФЕР, кроме сборника № 46 «Работы при реконструкции зданий и сооружений» | CO38: 0 | CP38: =(P38+Q38+S38) -> 16077.23 | CQ38: =AC38*BC38 -> 25470.236 | CR38: =AD38*BB38 -> 88.6182 | CS38: =AE38*BS38 -> 18.183 | CT38: =AF38*BA38 -> 1326.1468 | CU38: =AG38 -> 0 | CV38: =AH38 -> 24.3685 | CW38: =AI38 -> 0.2375 | CX38: =AJ38 -> 0 | CY38: =(((S38+R38)*AT38)/100) -> 852.1446 | CZ38: =(((S38+R38)*AU38)/100) -> 434.1114 | DE38: )*1,25 | DF38: )*1,25 | DG38: )*1,15 | DI38: )*1,15 | DJ38: )*1,25 | DN38: 0 | DO38: 0 | DP38: 1 | DQ38: 1 | DU38: 1003 | DV38: 100 м | DW38: 100 м | DX38: 100 | EE38: 16510487 | EF38: 2 | EG38: Общестроительные работы | EH38: 0 | EJ38: 1 | EK38: 10001 | EL38: Деревянные конструкции | EM38: ФЕР-10 | EO38: Поправка: МДС 81-35.2004, п.4.7 Поправка: МДС 81-35.2004, п.4.7 | EQ38: 131072 | ER38: 4184.06 | ES38: 3992.2 | ET38: 11.11 | EU38: 2.28 | EV38: 180.75 | EW38: 21.19 | EX38: 0.19 | EY38: 0 | FQ38: 0 | FR38: =ROUND(IF(AND(BH38=3,BI38=3),P38,0),2) -> 0 | FS38: 0 | FT38: *0,9 | FU38: *0,85 | FX38: 106.2 | FY38: 53.55 | GD38: 0 | GF38: 756108961 | GG38: 1 | GH38: 1 | GI38: 4 | GJ38: 0 | GK38: =ROUND(R38*(R12)/100,2) -> 0 | GL38: =ROUND(IF(AND(BH38=3,BI38=3,FS38<>0),P38,0),2) -> 0 | GM38: =ROUND(O38+X38+Y38+GK38,2)+GX38 -> 17363.48 | GN38: =IF(OR(BI38=0,BI38=1),ROUND(O38+X38+Y38+GK38,2),0) -> 17363.48 | GO38: =IF(BI38=2,ROUND(O38+X38+Y38+GK38,2),0) -> 0 | GP38: =IF(BI38=4,ROUND(O38+X38+Y38+GK38,2)+GX38,0) -> 0 | GR38: 0 | GS38: 3 | GT38: 0 | GV38: =ROUND(GT38,2) -> 0 | GW38: 1 | GX38: =ROUND(GV38*GW38*I38,2) -> 0 | HA38: 0 | HB38: 0 | IK38: 0
