Workbook
Name Constr: '01-01'!$A$2
Name Constr: '01-02'!$A$2
Name Constr: '01-03'!$A$2
Name Constr: '02-01-01'!$A$2
Name Constr: '02-01-02'!$A$2
Name Constr: '02-01-03'!$A$2
Name Constr: '02-01-04'!$A$2
Name Constr: '02-01-05'!$A$2
Name Constr: '02-01-06'!$A$7
Name Constr: '07-01'!$A$2
Name Constr: '07-02'!$A$2
Name Constr: '247гн-14'!$A$7
Name FOT: '01-01'!$D$12
Name FOT: '01-02'!$D$12
Name FOT: '01-03'!$D$12
Name FOT: '02-01-01'!$D$12
Name FOT: '02-01-02'!$D$12
Name FOT: '02-01-03'!$D$14
Name FOT: '02-01-04'!$D$15
Name FOT: '02-01-05'!$D$14
Name FOT: '02-01-06'!$D$19
Name FOT: '07-01'!$D$12
Name FOT: '07-02'!$D$12
Name FOT: '247гн-14'!$D$17
Name Ind: '01-01'!$H$4
Name Ind: '01-02'!$H$4
Name Ind: '01-03'!$H$4
Name Ind: '02-01-01'!$H$4
Name Ind: '02-01-02'!$H$4
Name Ind: '02-01-03'!$H$4
Name Ind: '02-01-04'!$H$4
Name Ind: '02-01-05'!$H$4
Name Ind: '02-01-06'!$H$9
Name Ind: '07-01'!$H$4
Name Ind: '07-02'!$H$4
Name Ind: '247гн-14'!$H$9
Name Obj: '01-01'!$E$7
Name Obj: '01-02'!$E$7
Name Obj: '01-03'!$E$7
Name Obj: '02-01-01'!$E$7
Name Obj: '02-01-02'!$E$7
Name Obj: '02-01-03'!$E$7
Name Obj: '02-01-04'!$E$7
Name Obj: '02-01-05'!$E$7
Name Obj: '02-01-06'!$E$12
Name Obj: '07-01'!$E$7
Name Obj: '07-02'!$E$7
Name Obj: '247гн-14'!$E$12
Name Obosn: '01-01'!$D$10
Name Obosn: '01-02'!$D$10
Name Obosn: '01-03'!$D$10
Name Obosn: '02-01-01'!$D$10
Name Obosn: '02-01-02'!$D$10
Name Obosn: '02-01-03'!$D$10
Name Obosn: '02-01-04'!$D$10
Name Obosn: '02-01-05'!$D$10
Name Obosn: '02-01-06'!$D$15
Name Obosn: '07-01'!$D$10
Name Obosn: '07-02'!$D$10
Name Obosn: '247гн-14'!$D$15

Sheet 01-01
H1: ФГУП "Комбинат "Электрохимприбор"
H2: (наименование стройки)
H4: ЛОКАЛЬНЫЙ СМЕТНЫЙ РАСЧЕТ № 01-01
H5: (локальная смета)
C7: на | D7: разборку. Реконструкция КПП промышленной площадки №5 ФГУП "Комбинат "Электрохимприбор"
H8: (наименование работ и затрат, наименование объекта)
D10: Основание: Р-055/10671-ГП
D11: Сметная стоимость строительных работ _______________________________________________________________________________________________ | J11: ___________________________0,335 | L11: тыс. руб.
D12: Средства на оплату труда _______________________________________________________________________________________________ | J12: ___________________________0,036 | L12: тыс. руб.
D13: Сметная трудоемкость _______________________________________________________________________________________________ | J13: _______________________________________________________________________________________________2,34 | L13: чел.час
D14: Составлен(а) в ценах 2001 г.
A17: № пп | B17: Обосно- вание | C17: Наименование | D17: Ед. изм. | E17: Кол. | F17: Стоимость единицы, руб. | J17: Общая стоимость, руб. | N17: Т/з осн. раб.на ед. | O17: Т/з осн. раб. Всего | P17: Т/з мех. на ед. | Q17: Т/з мех. Всего
F18: Всего | G18: В том числе | J18: Всего | K18: В том числе
G19: Осн.З/п | H19: Эк.Маш | I19: З/пМех | K19: Осн.З/п | L19: Эк.Маш | M19: З/пМех
A20: 1 | B20: 2 | C20: 3 | D20: 4 | E20: 5 | F20: 6 | G20: 7 | H20: 8 | I20: 9 | J20: 10 | K20: 11 | L20: 12 | M20: 13 | N20: 14 | O20: 15 | P20: 16 | Q20: 17
A21: Раздел 1. Разборка
A22: 1 | B22: ТЕР27-03-008-04 | C22: Разборка покрытий и оснований асфальтобетонных | D22: 100 м3 конструкций | E22: 0.013 | F22: 9798.75 | G22: 2105.46 | H22: 7693.29 | I22: 716.85 | J22: 127 | K22: 27 | L22: 100 | M22: 9 | N22: 179.8 | O22: 2.34 | P22: 45.63 | Q22: 0.59
A23: 2 | B23: СЦП1-1-27-А | C23: Погрузочные работы при автомобильных перевозках: мусор строительный | D23: т | E23: 2.9 | F23: 2.7 | J23: 8
A24: 3 | B24: СЦП3-3-40-1 | C24: Перевозка грузов автомобилями-самосвалами (работающими вне карьеров): расстояние 40 км, класс груза I | D24: т | E24: 2.9 | F24: 38.58 | H24: 38.58 | J24: 112 | L24: 112
A25: Итого прямые затраты по смете в ценах 2001г. | J25: 247 | K25: 27 | L25: 212 | M25: 9 | O25: 2.34 | Q25: 0.59
A26: Накладные расходы | J26: 54
A27: В том числе, справочно:
A28: 149% ФОТ (от 36) (Поз. 1) | J28: 54
A29: Сметная прибыль | J29: 34
A30: В том числе, справочно:
A31: 95% ФОТ (от 36) (Поз. 1) | J31: 34
A32: Итоги по смете:
A33: Автомобильные дороги | J33: 215 | O33: 2.34 | Q33: 0.59
A34: Погрузо-разгрузочные работы при автомобильных перевозках | J34: 8
A35: Перевозка грузов автомобильным транспортом | J35: 112
A36: Итого | J36: 335 | O36: 2.34 | Q36: 0.59
A37: В том числе:
A38: Машины и механизмы | J38: 212
A39: ФОТ | J39: 36
A40: Накладные расходы | J40: 54
A41: Сметная прибыль | J41: 34
A42: ВСЕГО по смете | J42: 335 | O42: 2.34 | Q42: 0.59

Sheet 01-02
H1: ФГУП "Комбинат "Электрохимприбор"
H2: (наименование стройки)
H4: ЛОКАЛЬНЫЙ СМЕТНЫЙ РАСЧЕТ № 01-02
H5: (локальная смета)
C7: на | D7: демонтажные работы, Реконструкция КПП промышленной площадки №5
H8: (наименование работ и затрат, наименование объекта)
D10: Основание: 055/10671-ПОД
D11: Сметная стоимость строительных работ _______________________________________________________________________________________________ | J11: ___________________________28,464 | L11: тыс. руб.
D12: Средства на оплату труда _______________________________________________________________________________________________ | J12: ___________________________5,345 | L12: тыс. руб.
D13: Сметная трудоемкость _______________________________________________________________________________________________ | J13: _______________________________________________________________________________________________349,29 | L13: чел.час
D14: Составлен(а) в текущих (прогнозных) ценах 2001г.
A17: № пп | B17: Обосно- вание | C17: Наименование | D17: Ед. изм. | E17: Кол. | F17: Стоимость единицы, руб. | J17: Общая стоимость, руб. | N17: Т/з осн. раб.на ед. | O17: Т/з осн. раб. Всего | P17: Т/з мех. на ед. | Q17: Т/з мех. Всего
F18: Всего | G18: В том числе | J18: Всего | K18: В том числе
G19: Осн.З/п | H19: Эк.Маш | I19: З/пМех | K19: Осн.З/п | L19: Эк.Маш | M19: З/пМех
A20: 1 | B20: 2 | C20: 3 | D20: 4 | E20: 5 | F20: 6 | G20: 7 | H20: 8 | I20: 9 | J20: 10 | K20: 11 | L20: 12 | M20: 13 | N20: 14 | O20: 15 | P20: 16 | Q20: 17
A21: Раздел 1. Демонтажные работы
A22: 1 | B22: ТЕР46-04-008-01 | C22: Разборка покрытий кровель из рулонных материалов | D22: 100 м2 покрытия | E22: 0,32 32/100 | F22: 202.89 | G22: 158.04 | H22: 44.85 | J22: 65 | K22: 51 | L22: 14 | N22: 14.38 | O22: 4.6
A23: 2 | B23: ТЕР46-04-009-01 примен. | C23: Разборка цементной стяжки | D23: 1 м3 | E23: 1,6 32*0,05 | F23: 495.3 | G23: 114.13 | H23: 381.17 | I23: 35.3 | J23: 792 | K23: 183 | L23: 609 | M23: 56 | N23: 8.93 | O23: 14.29 | P23: 2.26 | Q23: 3.62
A24: 3 | B24: ТЕР12-01-014-02 | C24: Разборка утеплителя из шлака 81,04 = 352,39 - 1,03 x 263,45 (демонтаж ПЗ=0,8 (ОЗП=0,8; ЭМ=0,8 к расх.; ЗПМ=0,8; МАТ=0,8 к расх.; ТЗ=0,8; ТЗМ=0,8)) | D24: 1 м3 утеплителя | E24: 4,8 32*0,15 | F24: 64.83 | G24: 26.73 | H24: 38.1 | I24: 4.5 | J24: 311 | K24: 128 | L24: 183 | M24: 22 | N24: 2.43 | O24: 11.66 | P24: 0.27 | Q24: 1.3
A25: 4 | B25: ТЕР09-04-002-01 | C25: Демонтаж покрытия из оцинкованного профлиста (демонтаж ПЗ=0,7 (ОЗП=0,7; ЭМ=0,7 к расх.; ЗПМ=0,7; МАТ=0,7 к расх.; ТЗ=0,7; ТЗМ=0,7)) | D25: 100 м2 покрытия | E25: 0,32 32/100 | F25: 873.54 | G25: 306.15 | H25: 410.4 | I25: 36.3 | J25: 280 | K25: 98 | L25: 131 | M25: 12 | N25: 24.85 | O25: 7.95 | P25: 1.83 | Q25: 0.59
A26: 5 | B26: ТЕР09-06-001-01 | C26: Демонтаж стальных ворот (демонтаж ПЗ=0,7 (ОЗП=0,7; ЭМ=0,7 к расх.; ЗПМ=0,7; МАТ=0,7 к расх.; ТЗ=0,7; ТЗМ=0,7)) | D26: 1 т конструкций | E26: 0.05 | F26: 896.4 | G26: 752.34 | H26: 111.36 | I26: 6.24 | J26: 45 | K26: 38 | L26: 6 | N26: 62.64 | O26: 3.13 | P26: 0.34 | Q26: 0.02
A27: 6 | B27: ТЕР46-04-001-04 | C27: Разборка кирпичных стен | D27: 1 м3 | E27: 24 | F27: 296.8 | G27: 102.84 | H27: 193.96 | I27: 17.96 | J27: 7123 | K27: 2468 | L27: 4655 | M27: 431 | N27: 8.24 | O27: 197.76 | P27: 1.15 | Q27: 27.6
A28: 7 | B28: ТЕР46-04-009-01 | C28: Разборка бетонных оснований под полы на гравии | D28: 1 м3 | E28: 6.4 | F28: 495.3 | G28: 114.13 | H28: 381.17 | I28: 35.3 | J28: 3170 | K28: 730 | L28: 2440 | M28: 226 | N28: 8.93 | O28: 57.15 | P28: 2.26 | Q28: 14.46
A29: 8 | B29: ТЕР46-04-001-02 | C29: Разборка бетонных фундаментов | D29: 1 м3 | E29: 5.5 | F29: 598.67 | G29: 119.68 | H29: 478.99 | I29: 44.36 | J29: 3293 | K29: 658 | L29: 2635 | M29: 244 | N29: 9.59 | O29: 52.75 | P29: 2.84 | Q29: 15.62
A30: 9 | B30: СЦП1-1-13-А | C30: Погрузочные работы при автомобильных перевозках: изделия металлические (армокаркасы, заготовки трубные и др.) | D30: т | E30: 0,306 0,05+32*8*0,001 | F30: 23.27 | J30: 7
A31: 10 | B31: СЦП1-1-27-А | C31: Погрузочные работы при автомобильных перевозках: мусор строительный | D31: т | E31: 85,616 ф1 | F31: 2.7 | J31: 231
A32: 11 | B32: СЦП3-2-40-1 | C32: Перевозка строительных грузов (кроме массовых навалочных, перевозимых автосамосвалами, а также бетонных и ж/б изделий, стеновых и перегородочных материалов), лесоматериалов круглых и пиломатериалов: расстояние 40 км, класс груза I (металлолом) | D32: т | E32: 0,306 0,05+32*0,008 | F32: 41.02 | H32: 41.02 | J32: 13 | L32: 13
A33: 12 | B33: СЦП3-2-40-1 | C33: Перевозка строительных грузов (кроме массовых навалочных, перевозимых автосамосвалами, а также бетонных и ж/б изделий, стеновых и перегородочных материалов), лесоматериалов круглых и пиломатериалов: расстояние 40 км, класс груза I (мусор строительный) | D33: т | E33: 85,616 ф1 | F33: 41.02 | H33: 41.02 | J33: 3512 | L33: 3512
A34: Итого прямые затраты по смете в ценах 2001г. | J34: 18842 | K34: 4354 | L34: 14198 | M34: 991 | O34: 349.29 | Q34: 63.21
A35: Накладные расходы | J35: 5865
A36: В том числе, справочно:
A37: 90% ФОТ (от 148) (Поз. 4-5) | J37: 133
A38: 110% ФОТ (от 5047) (Поз. 1-2, 6-8) | J38: 5552
A39: 120% ФОТ (от 150) (Поз. 3) | J39: 180
A40: Сметная прибыль | J40: 3757
A41: В том числе, справочно:
A42: 65% ФОТ (от 150) (Поз. 3) | J42: 98
A43: 70% ФОТ (от 5047) (Поз. 1-2, 6-8) | J43: 3533
A44: 85% ФОТ (от 148) (Поз. 4-5) | J44: 126
A45: Итоги по смете:
...

Sheet 01-03
H1: ФГУП "Комбинат "Электрохимприбор"
H2: (наименование стройки)
H4: ЛОКАЛЬНЫЙ СМЕТНЫЙ РАСЧЕТ № 01-03
H5: (локальная смета)
C7: на | D7: демонтаж тепловых сетей, Реконструкция КПП промышленной площадки №5
H8: (наименование работ и затрат, наименование объекта)
D10: Основание: 055/10671-ПОД
D11: Сметная стоимость строительных работ _______________________________________________________________________________________________ | J11: ___________________________3,392 | L11: тыс. руб.
D12: Средства на оплату труда _______________________________________________________________________________________________ | J12: ___________________________0,584 | L12: тыс. руб.
D13: Сметная трудоемкость _______________________________________________________________________________________________ | J13: _______________________________________________________________________________________________40,03 | L13: чел.час
D14: Составлен(а) в текущих (прогнозных) ценах 2001г.
A17: № пп | B17: Обосно- вание | C17: Наименование | D17: Ед. изм. | E17: Кол. | F17: Стоимость единицы, руб. | J17: Общая стоимость, руб. | N17: Т/з осн. раб.на ед. | O17: Т/з осн. раб. Всего | P17: Т/з мех. на ед. | Q17: Т/з мех. Всего
F18: Всего | G18: В том числе | J18: Всего | K18: В том числе
G19: Осн.З/п | H19: Эк.Маш | I19: З/пМех | K19: Осн.З/п | L19: Эк.Маш | M19: З/пМех
A20: 1 | B20: 2 | C20: 3 | D20: 4 | E20: 5 | F20: 6 | G20: 7 | H20: 8 | I20: 9 | J20: 10 | K20: 11 | L20: 12 | M20: 13 | N20: 14 | O20: 15 | P20: 16 | Q20: 17
A21: Раздел 1. Земляные работы
A22: 1 | B22: ТЕР01-01-003-14 | C22: Разработка грунта в отвал экскаваторами «драглайн» или «обратная лопата» с ковшом вместимостью 0,5 (0,5-0,63) м3, группа грунтов 2 | D22: 1000 м3 грунта | E22: 0,0072 7,2/1000 | F22: 4077.94 | G22: 149.13 | H22: 3928.81 | I22: 460.79 | J22: 29 | K22: 1 | L22: 28 | M22: 3 | N22: 13.57 | O22: 0.1 | P22: 29.5 | Q22: 0.21
A23: 2 | B23: ТЕР01-02-057-02 | C23: Разработка грунта вручную в траншеях глубиной до 2 м без креплений с откосами, группа грунтов 2 | D23: 100 м3 грунта | E23: 0,077 7,7/100 | F23: 1692.46 | G23: 1692.46 | J23: 130 | K23: 130 | N23: 154 | O23: 11.86
A24: 3 | B24: ТЕР07-06-001-01 | C24: Демонтаж непроходных каналов одноячейковых, перекрываемых или опирающихся на плиту (МДС 81-36.2004 п.п.3.3.1.Демонтаж (разборка) сборных бетонных и железобетонных конструкций ОЗП=0,8; ЭМ=0,8 к расх.; ЗПМ=0,8; МАТ=0 к расх.; ТЗ=0,8; ТЗМ=0,8) | D24: 100 м3 сборных конструкций | E24: 0,062 (3,6+2,6)/100 | F24: 11261.32 | G24: 3860.88 | H24: 7400.44 | I24: 812.45 | J24: 698 | K24: 239 | L24: 459 | M24: 50 | N24: 298.37 | O24: 18.5 | P24: 44.64 | Q24: 2.77
A25: 4 | B25: ТЕР24-01-002-03 примен. | C25: Демонтаж трубопроводов в непроходном канале при условном давлении 1,6 МПа, температуре 150°С, диаметр труб 80 мм (МДС 81-36.2004 п.п.3.3.1.Демонтаж (разборка) наружных сетей водопровода, канализации, теплоснабжения и газоснабжения ОЗП=0,6; ЭМ=0,6 к расх.; ЗПМ=0,6; МАТ=0 к расх.; ТЗ=0,6; ТЗМ=0,6) | D25: 1 км трубопровода | E25: 0,024 24/1000 | F25: 11742.42 | G25: 3905.09 | H25: 7837.33 | I25: 779.89 | J25: 282 | K25: 94 | L25: 188 | M25: 19 | N25: 283.8 | O25: 6.81 | P25: 46.64 | Q25: 1.12
A26: 5 | B26: ТЕР01-01-033-02 | C26: Засыпка траншей и котлованов с перемещением грунта до 5 м бульдозерами мощностью 59 кВт (80 л.с.), группа грунтов 2 | D26: 1000 м3 грунта | E26: 0,022 22/1000 | F26: 822.69 | H26: 822.69 | I26: 138.55 | J26: 18 | L26: 18 | M26: 3 | P26: 8.87 | Q26: 0.2
A27: 6 | B27: ТЕР01-01-033-08 | C27: При перемещении грунта на каждые последующие 5 м добавлять к расценке 01-01-033-02 | D27: 1000 м3 грунта | E27: 0,022 22/1000 | F27: 406.25 | H27: 406.25 | I27: 68.42 | J27: 9 | L27: 9 | M27: 2 | P27: 4.38 | Q27: 0.1
A28: 7 | B28: ТСЦ-408-0200 | C28: Смесь песчано-гравийная природная (недостающий грунт для обратной засыпки канала) | D28: м3 | E28: 7.1 | F28: 138.7 | J28: 985
A29: 8 | B29: ТЕР01-02-005-01 | C29: Уплотнение грунта пневматическими трамбовками, группа грунтов 1-2 | D29: 100 м3 уплотненного грунта | E29: 0,22 22/100 | F29: 604.71 | G29: 150.49 | H29: 454.22 | I29: 47.48 | J29: 133 | K29: 33 | L29: 100 | M29: 10 | N29: 12.53 | O29: 2.76 | P29: 3.04 | Q29: 0.67
A30: Итого прямые затраты по смете в ценах 2001г. | J30: 2284 | K30: 497 | L30: 802 | M30: 87 | O30: 40.03 | Q30: 5.07
A31: Накладные расходы | J31: 676
A32: В том числе, справочно:
A33: 80% ФОТ (от 130) (Поз. 2) | J33: 104
A34: 95% ФОТ (от 52) (Поз. 1, 5-8) | J34: 49
A35: 130% ФОТ (от 402) (Поз. 3-4) | J35: 523
A36: Сметная прибыль | J36: 432
A37: В том числе, справочно:
A38: 45% ФОТ (от 130) (Поз. 2) | J38: 59
A39: 50% ФОТ (от 52) (Поз. 1, 5-8) | J39: 26
A40: 85% ФОТ (от 289) (Поз. 3) | J40: 246
A41: 89% ФОТ (от 113) (Поз. 4) | J41: 101
A42: Итоги по смете:
A43: Земляные работы, выполняемые механизированным способом | J43: 1249 | O43: 2.86 | Q43: 1.18
A44: Земляные работы, выполняемые ручным способом | J44: 293 | O44: 11.86
A45: Бетонные и железобетонные сборные конструкции в промышленном строительстве | J45: 1320 | O45: 18.5 | Q45: 2.77
...

Sheet 02-01-01
H1: ФГУП "Комбинат "Электрохимприбор"
H2: (наименование стройки)
H4: ЛОКАЛЬНЫЙ СМЕТНЫЙ РАСЧЕТ № 02-01-01
H5: (локальная смета)
C7: на | D7: общестроительные работы, Реконструкция КПП промышленной площадки №5
H8: (наименование работ и затрат, наименование объекта)
D10: Основание: Р-055/10671-258(АС-1-13)
D11: Сметная стоимость строительных работ _______________________________________________________________________________________________ | J11: ___________________________320,948 | L11: тыс. руб.
D12: Средства на оплату труда _______________________________________________________________________________________________ | J12: ___________________________45,674 | L12: тыс. руб.
D13: Сметная трудоемкость _______________________________________________________________________________________________ | J13: _______________________________________________________________________________________________3394,73 | L13: чел.час
D14: Составлен(а) в текущих (прогнозных) ценах 2001г.
A17: № пп | B17: Обосно- вание | C17: Наименование | D17: Ед. изм. | E17: Кол. | F17: Стоимость единицы, руб. | J17: Общая стоимость, руб. | N17: Т/з осн. раб.на ед. | O17: Т/з осн. раб. Всего | P17: Т/з мех. на ед. | Q17: Т/з мех. Всего
F18: Всего | G18: В том числе | J18: Всего | K18: В том числе
G19: Осн.З/п | H19: Эк.Маш | I19: З/пМех | K19: Осн.З/п | L19: Эк.Маш | M19: З/пМех
A20: 1 | B20: 2 | C20: 3 | D20: 4 | E20: 5 | F20: 6 | G20: 7 | H20: 8 | I20: 9 | J20: 10 | K20: 11 | L20: 12 | M20: 13 | N20: 14 | O20: 15 | P20: 16 | Q20: 17
A21: Раздел 1. Стены
A22: 1 | B22: ТЕР08-02-001-01 | C22: Кладка стен кирпичных наружных простых при высоте этажа до 4 м (парапета и карниза) | D22: 1 м3 кладки | E22: 3,41 (13,82*2+8,12)*0,25*0,2+(0,51*0,32+0,05*0,12*6)*8,12 | F22: 714.69 | G22: 63.23 | H22: 102.38 | I22: 7.28 | J22: 2437 | K22: 216 | L22: 349 | M22: 25 | N22: 5.4 | O22: 18.41 | P22: 0.4 | Q22: 1.36
A23: 2 | B23: ТЕРр53-25-1 | C23: Устройство металлических перемычек в стенах существующих зданий | D23: 1 т металлоконструкций перемычек | E23: 0,0383 0,0372*1,03 | F23: 15207.66 | G23: 2018.76 | H23: 98 | I23: 6.37 | J23: 582 | K23: 77 | L23: 4 | N23: 165.88 | O23: 6.35 | P23: 0.47 | Q23: 0.02
A24: 3 | B24: ТЕР46-03-007-03 | C24: Пробивка проемов в конструкциях из кирпича | D24: 1 м3 | E24: 0,0765 0,5*0,3*0,51 | F24: 583.75 | G24: 155.35 | H24: 428.4 | I24: 39.67 | J24: 45 | K24: 12 | L24: 33 | M24: 3 | N24: 12.3 | O24: 0.94 | P24: 2.54 | Q24: 0.19
A25: 4 | B25: ТЕР15-02-036-01 | C25: Штукатурка по сетке без устройства каркаса улучшенная стен | D25: 100 м2 оштукатуриваемой поверхности | E25: 0,0065 0,65/100 | F25: 7137.98 | G25: 1681.55 | H25: 63.15 | I25: 22.49 | J25: 46 | K25: 11 | N25: 129.95 | O25: 0.84 | P25: 1.44 | Q25: 0.01
A26: 5 | B26: ТЕР15-02-037-01 | C26: Устройство каркаса при оштукатуривании стен | D26: 100 м2 оштукатуриваемой поверхности | E26: 0,0065 0,65/100 | F26: 2068.31 | G26: 323.24 | H26: 11.39 | I26: 3.28 | J26: 13 | K26: 2 | N26: 24.98 | O26: 0.16 | P26: 0.21
A27: 6 | B27: ТЕР46-02-007-01 | C27: Кладка отдельных участков кирпичных стен и заделка проемов в кирпичных стенах при объеме кладки в одном месте до 5 м3 (оконного проема) | D27: 1 м3 | E27: 1,1169 2,19*0,51 | F27: 729.34 | G27: 168.39 | H27: 2.31 | J27: 815 | K27: 188 | L27: 3 | N27: 14.63 | O27: 16.34
A28: 7 | B28: ТЕР46-03-010-02 примен. | C28: Пробивка отверстия 100х100 мм в стенах толщиной 510 мм (ПЗ=3,5 (ОЗП=3,5; ЭМ=3,5 к расх.; ЗПМ=3,5; МАТ=3,5 к расх.; ТЗ=3,5; ТЗМ=3,5)) | D28: 100 отверстий | E28: 0,01 1/100 | F28: 6968.54 | G28: 1661.66 | H28: 5306.88 | I28: 491.47 | J28: 70 | K28: 17 | L28: 53 | M28: 5 | N28: 124.01 | O28: 1.24 | P28: 31.47 | Q28: 0.31
A29: 8 | B29: ТЕР46-03-010-02 | C29: Пробивка в бетонных стенах и полах толщиной 100 мм отверстий площадью до 100 см2 (перегородках) | D29: 100 отверстий | E29: 0,01 1/100 | F29: 1991.01 | G29: 474.76 | H29: 1516.25 | I29: 140.42 | J29: 20 | K29: 5 | L29: 15 | M29: 1 | N29: 35.43 | O29: 0.35 | P29: 8.99 | Q29: 0.09
A30: 9 | B30: ТЕР46-03-010-06 | C30: Пробивка в бетонных потолках толщиной 100 мм отверстий площадью до 500 см2 | D30: 100 отверстий | E30: 0,08 (1+6+1)/100 | F30: 8899.95 | G30: 1983.2 | H30: 6916.75 | I30: 640.58 | J30: 712 | K30: 159 | L30: 553 | M30: 51 | N30: 148 | O30: 11.84 | P30: 41.01 | Q30: 3.28
A31: 10 | B31: ТЕР13-06-003-01 | C31: Очистка поверхности щетками | D31: 1 м2 очищаемой поверхности | E31: 14.82 | F31: 10.81 | G31: 10.81 | J31: 160 | K31: 160 | N31: 0.9 | O31: 13.34
A32: 11 | B32: ТЕР13-06-004-01 | C32: Обеспыливание поверхности | D32: 1 м2 обеспыливаемой поверхности | E32: 14.82 | F32: 2.59 | G32: 1.2 | H32: 1.39 | J32: 38 | K32: 18 | L32: 20 | N32: 0.1 | O32: 1.48
A33: 12 | B33: ТЕРр62-39-1 | C33: Промывка поверхности водой | D33: 100 м2 промытой поверхности | E33: 0,1482 14,82/100 | F33: 78.11 | G33: 66.92 | J33: 12 | K33: 10 | N33: 5.98 | O33: 0.89
A34: 13 | B34: ТЕР15-02-001-01 | C34: Улучшенная штукатурка фасадов цементно-известковым раствором по камню стен | D34: 100 м2 оштукатуриваемой поверхности | E34: 0,1482 14,82/100 | F34: 2288.85 | G34: 960.42 | H34: 84.88 | I34: 33.39 | J34: 339 | K34: 142 | L34: 13 | M34: 5 | N34: 70.88 | O34: 10.5 | P34: 2.78 | Q34: 0.41
A35: 14 | B35: ТЕР46-02-009-02 | C35: Отбивка штукатурки с поверхностей стен и потолков кирпичных | D35: 100 м2 | E35: 1,336 133,6/100 | F35: 250.79 | G35: 250.79 | J35: 335 | K35: 335 | N35: 22.82 | O35: 30.49
A36: 15 | B36: ТЕР13-06-003-01 | C36: Очистка поверхности щетками | D36: 1 м2 очищаемой поверхности | E36: 133.6 | F36: 10.81 | G36: 10.81 | J36: 1444 | K36: 1444 | N36: 0.9 | O36: 120.24
A37: 16 | B37: ТЕРр62-39-1 | C37: Промывка поверхности водой | D37: 100 м2 промытой поверхности | E37: 1,336 133,6/100 | F37: 78.11 | G37: 66.92 | J37: 104 | K37: 89 | N37: 5.98 | O37: 7.99
A38: 17 | B38: ТЕР15-02-036-01 | C38: Штукатурка по сетке без устройства каркаса улучшенная стен | D38: 100 м2 оштукатуриваемой поверхности | E38: 1,336 133,6/100 | F38: 7137.98 | G38: 1681.55 | H38: 63.15 | I38: 22.49 | J38: 9536 | K38: 2247 | L38: 84 | M38: 30 | N38: 129.95 | O38: 173.61 | P38: 1.44 | Q38: 1.92
A39: 18 | B39: ТЕР15-02-037-01 | C39: Устройство каркаса при оштукатуривании стен | D39: 100 м2 оштукатуриваемой поверхности | E39: 1,336 133,6/100 | F39: 2068.31 | G39: 323.24 | H39: 11.39 | I39: 3.28 | J39: 2763 | K39: 432 | L39: 15 | M39: 4 | N39: 24.98 | O39: 33.37 | P39: 0.21 | Q39: 0.28
A40: 19 | B40: ТЕР26-01-037-01 | C40: Изоляция стен утеплителем Тизол Евро Фасад толщ. 70 мм 822,93 = 2 061,08 - 0,97 x 1 276,44 | D40: 1 м3 изоляции | E40: 11,32 ф41*0,07 | F40: 822.93 | G40: 271.54 | H40: 110.02 | J40: 9316 | K40: 3074 | L40: 1245 | N40: 20.04 | O40: 226.85
A41: 20 | B41: Прайс-лист ОАО ТИЗОЛ от 30.07.2013 | C41: Утеплитель Тизол Евро Фасад толщ. 70 мм (=461,23/1,18/5,53) | D41: м2 | E41: 164,91 ф41*1,02 | F41: 70,68 461,23/1,18/5,53 | J41: 11656
A42: 21 | B42: ТЕР26-01-048-04 | C42: Устройство на плоских и криволинейных поверхностях каркаса изоляции из сетки | D42: 100 м2 изолируемой поверхности | E42: 1,617 ф41/100 | F42: 1867.85 | G42: 134.51 | H42: 61.14 | J42: 3020 | K42: 218 | L42: 99 | N42: 11.2 | O42: 18.11
A43: 22 | B43: ТЕР15-02-002-01 | C43: Высококачественная штукатурка фасадов цементно-известковым раствором по камню стен гладких | D43: 100 м2 оштукатуриваемой поверхности | E43: 1,617 ф41/100 | F43: 3400.18 | G43: 1636.73 | H43: 86.24 | I43: 33.39 | J43: 5498 | K43: 2647 | L43: 139 | M43: 54 | N43: 117.16 | O43: 189.45 | P43: 2.78 | Q43: 4.5
A44: 23 | B44: ТЕР15-02-003-01 | C44: Высококачественная штукатурка фасадов цементно-известковым раствором по камню откосов при ширине до 200 мм плоских | D44: 100 м откосов | E44: 0,527 ((1,81+1,21)*2*7+5,2*2)/100 | F44: 878.69 | G44: 433.6 | H44: 4.61 | J44: 463 | K44: 229 | L44: 2 | N44: 32 | O44: 16.86
A45: Итого прямые затраты по разделу в ценах 2001г. | J45: 49424 | K45: 11732 | L45: 2627 | M45: 178 | O45: 899.65 | Q45: 12.37
...

Sheet 02-01-02
H1: ФГУП "Комбинат "Электрохимприбор"
H2: (наименование стройки)
H4: ЛОКАЛЬНЫЙ СМЕТНЫЙ РАСЧЕТ № 02-01-02
H5: (локальная смета)
C7: на | D7: водопровод и канализацию, Реконструкция КПП промышленной площадки №5
H8: (наименование работ и затрат, наименование объекта)
D10: Основание: Р-055/10671-258-ВК
D11: Сметная стоимость строительных работ _______________________________________________________________________________________________ | J11: ___________________________12,342 | L11: тыс. руб.
D12: Средства на оплату труда _______________________________________________________________________________________________ | J12: ___________________________1,245 | L12: тыс. руб.
D13: Сметная трудоемкость _______________________________________________________________________________________________ | J13: _______________________________________________________________________________________________85,78 | L13: чел.час
D14: Составлен(а) в текущих (прогнозных) ценах 2001г.
A17: № пп | B17: Обосно- вание | C17: Наименование | D17: Ед. изм. | E17: Кол. | F17: Стоимость единицы, руб. | J17: Общая стоимость, руб. | N17: Т/з осн. раб.на ед. | O17: Т/з осн. раб. Всего | P17: Т/з мех. на ед. | Q17: Т/з мех. Всего
F18: Всего | G18: В том числе | J18: Всего | K18: В том числе
G19: Осн.З/п | H19: Эк.Маш | I19: З/пМех | K19: Осн.З/п | L19: Эк.Маш | M19: З/пМех
A20: 1 | B20: 2 | C20: 3 | D20: 4 | E20: 5 | F20: 6 | G20: 7 | H20: 8 | I20: 9 | J20: 10 | K20: 11 | L20: 12 | M20: 13 | N20: 14 | O20: 15 | P20: 16 | Q20: 17
A21: Раздел 1. водопровод и канализация
A22: Хоз-питьевой водопровод В1
A23: 1 | B23: ТЕР16-06-005-01 | C23: Установка счетчиков (водомеров) диаметром до 40 мм 7,47 = 1 266,37 - 1 x 1 258,90 | D23: 1 счетчик (водомер) | E23: 1 | F23: 7.47 | G23: 5.43 | H23: 1.09 | J23: 7 | K23: 5 | L23: 1 | N23: 0.41 | O23: 0.41
A24: 2 | B24: ООО"Калипсо" 1кв 2013 | C24: Счетчик универсальный с импульсным входом ВСКМ90ГД-15 580,75/1,18/5,52 (коэф на транспорт МАТ=1%) | D24: шт | E24: 1 | F24: 90,05 580,75/1,18/5,52 | J24: 90
A25: 3 | B25: ТЕР18-07-001-02 | C25: Установка манометров с трехходовым краном | D25: 1 компл. | E25: 1 | F25: 244.31 | G25: 3.07 | J25: 244 | K25: 3 | N25: 0.22 | O25: 0.22
A26: 4 | B26: Данфосс 1кв2013г | C26: Фильтр сетчатый муфтовый Y666 д25мм 104,15*40/5,52 (коэф на транспорт МАТ=1%) | D26: шт | E26: 1 | F26: 762,26 104,15*40/5,52 | J26: 762
A27: 5 | B27: ТСЦ-302-1833 | C27: Кран шаровой муфтовый 11Б27П1, диаметром 25 мм | D27: шт. | E27: 6 | F27: 56.62 | J27: 340
A28: 6 | B28: ТСЦ-302-1831 | C28: Кран шаровой муфтовый 11Б27П1, диаметром 15 мм | D28: шт. | E28: 4 | F28: 25.14 | J28: 101
A29: 7 | B29: ТСЦ-302-1279 | C29: Вентили проходные муфтовые 15Б3Р для воды и пара давлением 1,0 МПа (10 кгс/см2) диаметром 25 мм | D29: шт. | E29: 1 | F29: 39.2 | J29: 39
A30: 8 | B30: ТСЦ-301-0616 | C30: Смесители для умывальников СМ-УМ-ОРА с поворотным корпусом, одной рукояткой, с аэратором | D30: компл. | E30: 1 | F30: 282 | J30: 282
A31: 9 | B31: ТЕР16-02-002-06 | C31: Прокладка трубопроводов водоснабжения из стальных водогазопроводных оцинкованных труб диаметром 50 мм | D31: 100 м трубопровода | E31: 0,005 0,5/100 | F31: 10345.12 | G31: 645.39 | H31: 142.18 | I31: 3.82 | J31: 52 | K31: 3 | L31: 1 | N31: 47.63 | O31: 0.24 | P31: 0.21
A32: 10 | B32: ТЕР16-04-002-03 | C32: Прокладка трубопроводов водоснабжения из напорных полиэтиленовых труб низкого давления среднего типа наружным диаметром 32 мм 2 304,16 = 3 066,66 - 9,38 x 81,29 | D32: 100 м трубопровода | E32: 0,14 14/100 | F32: 2304.16 | G32: 1701.55 | H32: 541.81 | I32: 82.32 | J32: 323 | K32: 238 | L32: 76 | M32: 12 | N32: 121.8 | O32: 17.05 | P32: 4.72 | Q32: 0.66
A33: 11 | B33: Экопластик 2013г | C33: Труба Wavin Ekoplastik FIBER PN20 32х5.4 5,09*40/1,18/5,52 (коэф на транспарт МАТ=1%) | D33: м | E33: 14 | F33: 31,57 5,09*40/1,18/5,52 | J33: 442
A34: 12 | B34: Экопластик 2013г | C34: Переход с металл. резьбой наружной Ekoplastik "dGK 32х5.4 6.64*40/1,18/5,52 (коэф на транспорт МАТ=1%) | D34: шт | E34: 7 | F34: 41,19 6.64*40/1,18/5,52 | J34: 288
A35: 13 | B35: Экопластик 2013г | C35: Переход с металл. резьбой внутренней Ekoplastik "dGK 32х5.4 5,25*40/1,18/5,52 (коэф на транспарт МАТ=1%) | D35: шт | E35: 5 | F35: 32,56 5,25*40/1,18/5,52 | J35: 163
A36: 14 | B36: Экопластик 2013г | C36: Угольник с металл. резьбой внутренней Ekoplastik д32 6,44*40/1,18/5,52 (коэф на транспарт МАТ=1%) | D36: шт | E36: 1 | F36: 39,95 6,44*40/1,18/5,52 | J36: 40
A37: 15 | B37: ТЕР16-04-002-01 | C37: Прокладка трубопроводов водоснабжения из напорных полиэтиленовых труб низкого давления среднего типа наружным диаметром 20 мм 4 230,69 = 4 717,86 - 8,99 x 54,19 | D37: 100 м трубопровода | E37: 0,12 12/100 | F37: 4230.69 | G37: 2657.65 | H37: 1481.49 | I37: 233.91 | J37: 508 | K37: 319 | L37: 178 | M37: 28 | N37: 190.24 | O37: 22.83 | P37: 13.42 | Q37: 1.61
A38: 16 | B38: Экопластик 2013г | C38: Труба Wavin Ekoplastik FIBER PN20 20х3.4 2,33*40/1,18/5,52 (коэф на транспарт МАТ=1%) | D38: м | E38: 14 | F38: 14,45 2,33*40/1,18/5,52 | J38: 202
A39: 17 | B39: ООО"Стройпласт" 2013 | C39: Переход латунный НР 25х15 191/1,18/5,52 (коэф на транспарт МАТ=1%) | D39: шт | E39: 1 | F39: 29,61 191/1,18/5,52 | J39: 30
A40: 18 | B40: ООО"Стройпласт" 2013 | C40: Переход латунный НР-ВР 25х15 191/1,18/5,52 (коэф на транспарт МАТ=1%) | D40: шт | E40: 1 | F40: 29,61 191/1,18/5,52 | J40: 30
A41: 19 | B41: ООО"Стройпласт" 2013 | C41: Тройник латунный НР-ВР 15 179/1,18/5,52 (коэф на транспарт МАТ=1%) | D41: шт | E41: 1 | F41: 27,75 179/1,18/5,52 | J41: 28
A42: 20 | B42: Экопластик 2013г | C42: Тройник с металл. резьбой наружной д20 3,51*40/1,18/5,52 (коэф на транспарт МАТ=1% к расх.) | D42: шт | E42: 3 | F42: 21,77 3,51*40/1,18/5,52 | J42: 65
A43: 21 | B43: ТСЦ-301-1520 | C43: Подводка гибкая армированная резиновая 500 мм | D43: шт. | E43: 2 | F43: 33.31 | J43: 67
A44: 22 | B44: ТСЦ-301-0608 | C44: Рукава резинотканевые напорно-всасывающие для воды давлением 1 МПа (10 кгс/см2), диаметром 25 мм | D44: м | E44: 35 | F44: 59.12 | J44: 2069
A45: 23 | B45: ТЕР16-07-005-01 | C45: Гидравлическое испытание трубопроводов систем отопления, водопровода и горячего водоснабжения диаметром до 50 мм | D45: 100 м трубопровода | E45: 0,265 26,5/100 | F45: 104.4 | G45: 82.16 | H45: 15.29 | J45: 28 | K45: 22 | L45: 4 | N45: 5.01 | O45: 1.33
...

Sheet 02-01-03
H1: ФГУП "Комбинат "Электрохимприбор"
H2: (наименование стройки)
H4: ЛОКАЛЬНЫЙ СМЕТНЫЙ РАСЧЕТ № 02-01-03
H5: (локальная смета)
C7: на | D7: отопление, Реконструкция КПП промышленной площадки №5
H8: (наименование работ и затрат, наименование объекта)
D10: Основание: Р-055/10671-258-ОВ
D11: Сметная стоимость _______________________________________________________________________________________________ | J11: ___________________________34,813 | L11: тыс. руб.
D12: строительных работ _______________________________________________________________________________________________ | J12: _______________________________________________________________________________________________28,955 | L12: тыс. руб.
D13: монтажных работ _______________________________________________________________________________________________ | J13: _______________________________________________________________________________________________5,858 | L13: тыс. руб.
D14: Средства на оплату труда _______________________________________________________________________________________________ | J14: ___________________________2,125 | L14: тыс. руб.
D15: Сметная трудоемкость _______________________________________________________________________________________________ | J15: _______________________________________________________________________________________________155,1 | L15: чел.час
D16: Составлен(а) в текущих (прогнозных) ценах 2001г.
A19: № пп | B19: Обосно- вание | C19: Наименование | D19: Ед. изм. | E19: Кол. | F19: Стоимость единицы, руб. | J19: Общая стоимость, руб. | N19: Т/з осн. раб.на ед. | O19: Т/з осн. раб. Всего | P19: Т/з мех. на ед. | Q19: Т/з мех. Всего
F20: Всего | G20: В том числе | J20: Всего | K20: В том числе
G21: Осн.З/п | H21: Эк.Маш | I21: З/пМех | K21: Осн.З/п | L21: Эк.Маш | M21: З/пМех
A22: 1 | B22: 2 | C22: 3 | D22: 4 | E22: 5 | F22: 6 | G22: 7 | H22: 8 | I22: 9 | J22: 10 | K22: 11 | L22: 12 | M22: 13 | N22: 14 | O22: 15 | P22: 16 | Q22: 17
A23: Раздел 1. Отопление
A24: 1 | B24: ТЕР16-02-005-01 | C24: Прокладка трубопроводов отопления и водоснабжения из стальных электросварных труб диаметром до 40 мм 1 042,84 = 6 013,84 - 100 x 49,71 | D24: 100 м трубопровода | E24: 0,04 4/100 | F24: 1042.84 | G24: 837.02 | H24: 157.48 | I24: 3.46 | J24: 42 | K24: 33 | L24: 6 | N24: 60.83 | O24: 2.43 | P24: 0.19 | Q24: 0.01
A25: 2 | B25: ТСЦ-103-0133 | C25: Трубы стальные электросварные прямошовные со снятой фаской из стали марок БСт2кп-БСт4кп и БСт2пс-БСт4пс наружный диаметр 38 мм, толщина стенки 2 мм | D25: м | E25: 4 | F25: 19.8 | J25: 79
A26: 3 | B26: ТЕР16-02-001-02 | C26: Прокладка трубопроводов отопления из стальных водогазопроводных неоцинкованных труб диаметром 20 мм | D26: 100 м трубопровода | E26: 0,4 40/100 | F26: 4340.3 | G26: 446.74 | H26: 69.04 | I26: 2.73 | J26: 1736 | K26: 179 | L26: 28 | M26: 1 | N26: 32.97 | O26: 13.19 | P26: 0.15 | Q26: 0.06
A27: 4 | B27: ТЕР16-02-001-03 | C27: Прокладка трубопроводов отопления из стальных водогазопроводных неоцинкованных труб диаметром 25 мм | D27: 100 м трубопровода | E27: 0,9 90/100 | F27: 4893.53 | G27: 446.74 | H27: 69.04 | I27: 2.73 | J27: 4404 | K27: 402 | L27: 62 | M27: 2 | N27: 32.97 | O27: 29.67 | P27: 0.15 | Q27: 0.14
A28: 5 | B28: ТЕР16-07-005-01 | C28: Гидравлическое испытание трубопроводов систем отопления, водопровода и горячего водоснабжения диаметром до 50 мм | D28: 100 м трубопровода | E28: 1,34 134/100 | F28: 104.4 | G28: 82.16 | H28: 15.29 | J28: 140 | K28: 110 | L28: 20 | N28: 5.01 | O28: 6.71
A29: 6 | B29: ТЕРм08-03-602-01 | C29: Установка конвектора | D29: 1 шт. | E29: 2 | F29: 24.58 | G29: 16.76 | H29: 3.67 | I29: 0.18 | J29: 49 | K29: 34 | L29: 7 | N29: 1.2 | O29: 2.4 | P29: 0.01 | Q29: 0.02
A30: 7 | B30: Прайс-лист "Термомир" 2кв.2013г. | C30: Конвектор Thermor 1000 в комплекте с термостатом (Цена=3690/1,18/5,56) | D30: шт | E30: 2 | F30: 565,48 3690/1,18/5,53 | J30: 1131
A31: 8 | B31: ТЕР18-03-001-01 | C31: Установка радиаторов чугунных | D31: 100 кВт радиаторов и конвекторов | E31: 0,1 10/100 | F31: 23624.42 | G31: 956.09 | H31: 487.05 | I31: 42.84 | J31: 2362 | K31: 96 | L31: 49 | M31: 4 | N31: 75.7 | O31: 7.57 | P31: 2.72 | Q31: 0.27
A32: 9 | B32: ТСЦ-302-0472 | C32: Краны регулирующие трехходовые КРТПП, латунные диаметром 20 мм | D32: шт. | E32: 9 | F32: 30.93 | J32: 278
A33: 10 | B33: ТСЦ-302-1832 | C33: Кран шаровой муфтовый 11Б27П1, диаметром 20 мм | D33: шт. | E33: 13 | F33: 39.32 | J33: 511
A34: 11 | B34: ТСЦ-302-1833 | C34: Кран шаровой муфтовый 11Б27П1, диаметром 25 мм | D34: шт. | E34: 2 | F34: 56.62 | J34: 113
A35: 12 | B35: ТЕР16-05-001-01 | C35: Установка вентилей, задвижек, затворов, клапанов обратных, кранов проходных на трубопроводах из стальных труб диаметром до 25 мм 45,54 = 84,10 - 2 x 19,28 | D35: 1 шт. | E35: 2 | F35: 45.54 | G35: 18.79 | H35: 4.23 | J35: 91 | K35: 38 | L35: 8 | N35: 1.47 | O35: 2.94
A36: 13 | B36: Прайс-лист ООО "Данфосс" 2кв. 2013г. | C36: Ручной балансировочный клапан MSV-F2 Ду25 код 003Z1087 (Цена=182х41,3/5,53) | D36: шт | E36: 2 | F36: 1359,24 182*41,3/5,53 | J36: 2718
A37: 14 | B37: ТСЦ-507-0997 | C37: Фланцы стальные плоские приварные из стали ВСт3сп2, ВСт3сп3, давлением 1,6 МПа (16 кгс/см2), диаметром 25 мм | D37: шт. | E37: 4 | F37: 24.1 | J37: 96
A38: 15 | B38: ТЕР18-07-001-05 | C38: Установка кранов воздушных | D38: 1 компл. | E38: 9 | F38: 15.29 | G38: 1.73 | J38: 138 | K38: 16 | N38: 0.12 | O38: 1.08
A39: 16 | B39: ТСЦ-301-1224 | C39: Крепления для трубопроводов: кронштейны, планки, хомуты | D39: кг | E39: 25 | F39: 17.02 | J39: 426
A40: 17 | B40: ТЕР13-03-002-04 | C40: Огрунтовка металлических поверхностей за один раз грунтовкой ГФ-021 | D40: 100 м2 окрашиваемой поверхности | E40: 0,08 8/100 | F40: 417.46 | G40: 79.65 | H40: 10.15 | I40: 0.16 | J40: 33 | K40: 6 | L40: 1 | N40: 5.31 | O40: 0.42 | P40: 0.01
A41: 18 | B41: ТЕР13-03-004-23 | C41: Окраска металлических огрунтованных поверхностей краской БТ-177 серебристой | D41: 100 м2 окрашиваемой поверхности | E41: 0,16 16/100 | F41: 388.79 | G41: 36.81 | H41: 13.3 | I41: 0.16 | J41: 62 | K41: 6 | L41: 2 | N41: 2.88 | O41: 0.46 | P41: 0.01
A42: 19 | B42: ТЕР26-01-017-01 | C42: Изоляция трубопроводов изделиями из вспененного каучука («Армофлекс»), вспененного полиэтилена («Термофлекс») трубками 259,25 = 1 189,41 - 11 x 84,56 | D42: 10 м трубопровода | E42: 1 10/10 | F42: 259.25 | G42: 49.17 | H42: 28.25 | J42: 259 | K42: 49 | L42: 28 | N42: 3.52 | O42: 3.52
A43: 20 | B43: ФССЦ-104-0396 | C43: Трубки из вспененного каучука, толщиной 19 мм, диаметром 35 мм (от ФЕР к ТЕР Свердлов. обл. МАТ=1,05) | D43: м | E43: 6,6 6*1,1 | F43: 117.01 | J43: 772
A44: 21 | B44: ФССЦ-104-0397 | C44: Трубки из вспененного каучука, толщиной 25 мм, диаметром 42 мм (от ФЕР к ТЕР Свердлов. обл. МАТ=1,05) | D44: м | E44: 4,4 4*1,1 | F44: 132.79 | J44: 584
A45: Узел управления
...

Sheet 02-01-04
H1: ФГУП "Комбинат "Электрохимприбор"
H2: (наименование стройки)
H4: ЛОКАЛЬНЫЙ СМЕТНЫЙ РАСЧЕТ № 02-01-04
H5: (локальная смета)
C7: на | D7: освещение и автоматизацию. Реконструкция КПП промышленной площадки №5
H8: (наименование работ и затрат, наименование объекта)
D10: Основание: 055/10671-ЭМ
D11: Сметная стоимость _______________________________________________________________________________________________ | J11: ___________________________70,554 | L11: тыс. руб.
D12: строительных работ _______________________________________________________________________________________________ | J12: _______________________________________________________________________________________________0,086 | L12: тыс. руб.
D13: монтажных работ _______________________________________________________________________________________________ | J13: _______________________________________________________________________________________________47,065 | L13: тыс. руб.
D14: оборудования _______________________________________________________________________________________________ | J14: _______________________________________________________________________________________________23,403 | L14: тыс. руб.
D15: Средства на оплату труда _______________________________________________________________________________________________ | J15: ___________________________3,581 | L15: тыс. руб.
D16: Сметная трудоемкость _______________________________________________________________________________________________ | J16: _______________________________________________________________________________________________215,49 | L16: чел.час
D17: Составлен(а) в текущих (прогнозных) ценах 2001г.
A20: № пп | B20: Обосно- вание | C20: Наименование | D20: Ед. изм. | E20: Кол. | F20: Стоимость единицы, руб. | J20: Общая стоимость, руб. | N20: Т/з осн. раб.на ед. | O20: Т/з осн. раб. Всего | P20: Т/з мех. на ед. | Q20: Т/з мех. Всего
F21: Всего | G21: В том числе | J21: Всего | K21: В том числе
G22: Осн.З/п | H22: Эк.Маш | I22: З/пМех | K22: Осн.З/п | L22: Эк.Маш | M22: З/пМех
A23: 1 | B23: 2 | C23: 3 | D23: 4 | E23: 5 | F23: 6 | G23: 7 | H23: 8 | I23: 9 | J23: 10 | K23: 11 | L23: 12 | M23: 13 | N23: 14 | O23: 15 | P23: 16 | Q23: 17
A24: Раздел 1. Автоматизация
A25: Приборы и средства автоматизации
A26: Расход падающей сетевой воды от отсутвующей теплосети и обратной сетевой воды в теплосеть G0,099 м3/ч
A27: 1 | B27: ТЕРм11-03-001-01 | C27: Приборы, устанавливаемые на металлоконструкциях, щитах и пультах, масса до 5 кг (тепловычислитель ТСРВ-034) | D27: 1 шт. | E27: 1 | F27: 8.41 | G27: 7.26 | J27: 8 | K27: 7 | N27: 0.52 | O27: 0.52
A28: 2 | B28: ТЕР16-05-001-01 | C28: Установка вентилей, задвижек, затворов, клапанов обратных, кранов проходных на трубопроводах из стальных труб диаметром до 25 мм 45,54 = 84,10 - 2 x 19,28 | D28: 1 шт. | E28: 1 | F28: 45.54 | G28: 18.79 | H28: 4.23 | J28: 46 | K28: 19 | L28: 4 | N28: 1.47 | O28: 1.47
A29: 3 | B29: ТЕРм11-02-022-02 | C29: Ротаметр, счетчик, преобразователь, устанавливаемые на фланцевых соединениях, диаметр условного прохода до 20 мм (расходомер-счетчик ЭРСВ) | D29: 1 шт. | E29: 2 | F29: 17.84 | G29: 12.69 | J29: 36 | K29: 25 | N29: 1.03 | O29: 2.06
A30: 4 | B30: ТЕРм10-02-016-06 | C30: Отдельно устанавливаемый преобразователь или блок питания ADN | D30: 1 шт. | E30: 3 | F30: 256.7 | G30: 157.76 | H30: 33.83 | I30: 6.87 | J30: 770 | K30: 473 | L30: 101 | M30: 21 | N30: 10.1 | O30: 30.3 | P30: 0.44 | Q30: 1.32
A31: 5 | B31: ТЕРм11-02-001-01 | C31: Прибор, устанавливаемый на резьбовых соединениях, масса до 1,5 кг (парный термопреобразователь Взлет ТСП) | D31: 1 шт. | E31: 2 | F31: 15.88 | G31: 14.39 | J31: 32 | K31: 29 | N31: 1.03 | O31: 2.06
A32: 6 | B32: Комерческое предложенине Взлет №9617 от 01.08.20123г | C32: Теплосчетчик-регистратор Взлет ТСР-М исп. ТСР-034 в комплекте :Расходомер -счетчик э/м "ВзлетЭР" исп.ЭРСВ-540Л Ду,термопреобразователь ТСП 50мм и приседенительная арматура №2 Ду 15/25 Цена=47960/1,18/3,63 | D32: компл. | E32: 1 | F32: 11196,71 47960/1,18/3,63 | J32: 11197
A33: 7 | B33: Комерческое предложенине Взлет №9617 от 01.08.20123г | C33: Термопреобразователь "Взлет ТСП" согласованная пара ТСП 133мм Pt100 Цена=3140/1,18/3,63 | D33: компл. | E33: 1 | F33: 733,06 3140/1,18/3,63 | J33: 733
A34: 8 | B34: Комерческое предложенине Взлет №9617 от 01.08.20123г | C34: Расходомер-счетчик э/м "Взлет" исп. ЭРС-540л В Ду15 в комплекте источник питания ADN-15,24 и присоединительная арматура КПА Ду15/25 Цена=19960/1,18/3,63 | D34: компл. | E34: 2 | F34: 4659,85 19960/1,18/3,63 | J34: 9320
A35: Итого прямые затраты по разделу в ценах 2001г. | J35: 22142 | K35: 553 | L35: 105 | M35: 21 | O35: 36.41 | Q35: 1.32
A36: Итого прямые затраты по разделу с учетом коэффициентов к итогам | J36: 23043 | K36: 553 | L36: 105 | M36: 21 | O36: 36.41 | Q36: 1.32
A37: В том числе, справочно:
A38: Транспорт оборудования ПЗ=1,03 (Поз. 6-8) | J38: 638
A39: Заготовительно-складские расходы на оборудование ПЗ=1,012 (ОЗП=1,012; ЭМ=1,012; МАТ=1,012) (Поз. 6-8) | J39: 263
A40: Накладные расходы | J40: 468
A41: Сметная прибыль | J41: 349
A42: Итоги по разделу 1 Автоматизация :
A43: Итого Строительные работы | J43: 86 | O43: 1.47
A44: Итого Монтажные работы | J44: 1623 | O44: 34.94 | Q44: 1.32
A45: Итого Оборудование | J45: 22151
...

Sheet 02-01-05
H1: ФГУП "Комбинат "Электрохимприбор"
H2: (наименование стройки)
H4: ЛОКАЛЬНЫЙ СМЕТНЫЙ РАСЧЕТ № 02-01-05
H5: (локальная смета)
C7: на | D7: пожарную сигнализацию. Реконструкция КПП промышленной площадки №5
H8: (наименование работ и затрат, наименование объекта)
D10: Основание: Р-055/10671-258-ПС
D11: Сметная стоимость _______________________________________________________________________________________________ | J11: ___________________________18,580 | L11: тыс. руб.
D12: монтажных работ _______________________________________________________________________________________________ | J12: _______________________________________________________________________________________________16,204 | L12: тыс. руб.
D13: оборудования _______________________________________________________________________________________________ | J13: _______________________________________________________________________________________________2,376 | L13: тыс. руб.
D14: Средства на оплату труда _______________________________________________________________________________________________ | J14: ___________________________2,822 | L14: тыс. руб.
D15: Сметная трудоемкость _______________________________________________________________________________________________ | J15: _______________________________________________________________________________________________202,22 | L15: чел.час
D16: Составлен(а) в текущих (прогнозных) ценах 2001г.
A19: № пп | B19: Обосно- вание | C19: Наименование | D19: Ед. изм. | E19: Кол. | F19: Стоимость единицы, руб. | J19: Общая стоимость, руб. | N19: Т/з осн. раб.на ед. | O19: Т/з осн. раб. Всего | P19: Т/з мех. на ед. | Q19: Т/з мех. Всего
F20: Всего | G20: В том числе | J20: Всего | K20: В том числе
G21: Осн.З/п | H21: Эк.Маш | I21: З/пМех | K21: Осн.З/п | L21: Эк.Маш | M21: З/пМех
A22: 1 | B22: 2 | C22: 3 | D22: 4 | E22: 5 | F22: 6 | G22: 7 | H22: 8 | I22: 9 | J22: 10 | K22: 11 | L22: 12 | M22: 13 | N22: 14 | O22: 15 | P22: 16 | Q22: 17
A23: Раздел 1.
A24: Пожарная сигнализация
A25: 1 | B25: ТЕРм10-08-001-03 | C25: Приборы ПС приемно-контрольные, пусковые, концентратор блок линейный | D25: 10 лучей | E25: 12,7 127/10 | F25: 97.72 | G25: 75.44 | H25: 0.46 | J25: 1241 | K25: 958 | L25: 6 | N25: 5.4 | O25: 68.58
A26: 2 | B26: Прайс-лист "Болид"на 05.08.2013 г. | C26: Контроллер двухпроводной линии связи "С2000-КДЛ" Цена=1830,4/1,18/3,63 (Транспорт оборудования ПЗ=1,03) | D26: шт. | E26: 1 | F26: 440,14 1830,4/1,18/3,63 | J26: 440
A27: 3 | B27: ТЕРм10-08-001-04 | C27: Приборы ПС на 4 луча | D27: 1 шт. | E27: 1 | F27: 58.33 | G27: 48.15 | H27: 0.83 | J27: 58 | K27: 48 | L27: 1 | N27: 3.3 | O27: 3.3
A28: 4 | B28: Прайс-лист "Болид"на 05.08.2013 г. | C28: Адресный релейный блок на два реле С2000-СП2 Цена=915,2/1,18/3,63 (Транспорт оборудования ПЗ=1,03) | D28: шт. | E28: 1 | F28: 220,07 915,2/1,18/3,63 | J28: 220
A29: 5 | B29: ТЕРм10-08-001-13 | C29: Устройства промежуточные на количество лучей 1 | D29: 1 шт. | E29: 1 | F29: 64.92 | G29: 57.52 | H29: 0.37 | J29: 65 | K29: 58 | N29: 4 | O29: 4
A30: 6 | B30: Прайс-лист "Болид"на 05.08.2013 г. | C30: Адресный двухпозиционый расширитель С2000-АР1 исп.02 Цена=337,48/1,18/5,53 | D30: шт. | E30: 1 | F30: 51,72 337,48/1,18/5,53 | J30: 52
A31: 7 | B31: ТЕРм10-08-002-06 | C31: Извещатель пожарный ручной | D31: 1 шт. | E31: 2 | F31: 8.84 | G31: 4.74 | H31: 1.08 | J31: 18 | K31: 9 | L31: 2 | N31: 0.35 | O31: 0.7
A32: 8 | B32: Прайс-лист "Болид"на 05.08.2013 г. | C32: Извещатель пожарный ручной адресный ИПР 513-3АМ Цена=460,20/1,18/5,53 | D32: шт. | E32: 2 | F32: 70,52 460,20/1,18/5,53 | J32: 141
A33: 9 | B33: ТЕРм10-08-002-02 | C33: Извещатель ПС автоматический дымовой, фотоэлектрический, радиоизотопный, световой в нормальном исполнении | D33: 1 шт. | E33: 8 | F33: 28.38 | G33: 22.76 | H33: 0.46 | J33: 227 | K33: 182 | L33: 4 | N33: 1.68 | O33: 13.44
A34: 10 | B34: Прайс-лист "Болид"на 05.08.2013 г. | C34: Извещатель дымовой оптико-электронный адресно-аналоговый ДИП-34А 01-02 Цена=650/1,18/5,53 | D34: шт. | E34: 8 | F34: 99,61 650/1,18/5,53 | J34: 797
A35: 11 | B35: ТЕРм10-04-066-04 применительно | C35: Коробка кабельная соединительная или разветвительная ( Блок разветвительно-изолирующий ) | D35: 1 шт. | E35: 3 | F35: 58.16 | G35: 48.04 | J35: 174 | K35: 144 | N35: 4 | O35: 12
A36: 12 | B36: Прайс-лист "Болид"на 05.08.2013 г. | C36: Блок разветвительно-изолирующий БРИЗ Цена=320,61/1,18/5,53 | D36: шт. | E36: 3 | F36: 49,13 320,61/1,18/5,53 | J36: 147
A37: 13 | B37: ТЕРм10-02-016-06 | C37: Отдельно устанавливаемый преобразователь или блок питания | D37: 1 шт. | E37: 1 | F37: 256.7 | G37: 157.76 | H37: 33.83 | I37: 6.87 | J37: 257 | K37: 158 | L37: 34 | M37: 7 | N37: 10.1 | O37: 10.1 | P37: 0.44 | Q37: 0.44
A38: 14 | B38: Прайс-лист "Болид"на 05.08.2013 г. | C38: Источник питания СКАТ-2400 Цена=4507,20/1,18/3,63 (Транспорт оборудования ПЗ=1,03) | D38: шт. | E38: 1 | F38: 1083,82 4507,20/1,18/3,63 | J38: 1084
A39: 15 | B39: ТЕРм10-01-003-08 | C39: Аккумуляторная батарея монтаж | D39: 1 ящик | E39: 2 | F39: 48.5 | G39: 39.62 | J39: 97 | K39: 79 | N39: 3.1 | O39: 6.2
A40: 16 | B40: Прайс-лист "Болид"на 05.08.2013 г. | C40: Аккумуляторная батарея U=12В, емк. 12 А?час DELTA DTM1212 Цена=827,875/1,18/3,63 (Транспорт оборудования ПЗ=1,03) | D40: шт. | E40: 2 | F40: 199,08 827,875/1,18/3,63 | J40: 398
A41: 17 | B41: ТЕРм10-06-034-26 | C41: Устройство заземления Панель заземления | D41: 1 бокс | E41: 1 | F41: 3725.57 | G41: 121.95 | J41: 3726 | K41: 122 | N41: 9 | O41: 9
A42: 18 | B42: Прайс-лист ЦМО 1 квартал 2013г. | C42: Панель заземления горизонтальная 19" Код номенклатуры 30517720100 Цена=1230/1,18/5,53 (Транспорт оборудования ПЗ=1,03) | D42: шт | E42: 1 | F42: 194,14 1230/1,18/5,53 | J42: 194
A43: 19 | B43: ФЕРм08-02-390-01 | C43: Короба пластмассовые: шириной до 40 мм (от ФЕР к ТЕР ОЗП=1,41; ЭМ=1,242 к расх.; ЗПМ=1,41; МАТ=1,052) | D43: 100 м | E43: 1,2 120/100 | F43: 311.4 | G43: 218.44 | H43: 38.75 | I43: 0.17 | J43: 374 | K43: 262 | L43: 47 | N43: 16.29 | O43: 19.55 | P43: 0.01 | Q43: 0.01
A44: 20 | B44: ФССЦ-509-1841 | C44: Кабель-канал (короб) "Legrand" 20х12,5 мм (материалы от ФЕР к ТЕР МАТ=1,052) | D44: м | E44: 120 кк1*100 | F44: 7.52 | J44: 902
A45: 21 | B45: ТЕРм08-02-399-01 | C45: Кабель в кабельных каналах, сечением до 6 мм2 | D45: 100 м | E45: 1,35 135/100 | F45: 189.23 | G45: 46.64 | H45: 56.09 | I45: 24.55 | J45: 255 | K45: 63 | L45: 76 | M45: 33 | N45: 3.52 | O45: 4.75 | P45: 1.57 | Q45: 2.12
...

Sheet 02-01-06
A1: СОГЛАСОВАНО: | M1: УТВЕРЖДАЮ:
A4: _________________ | M4: _________________
A5: " _____ " ________________ 2012 г. | M5: "____" ______________2012 г.
I6: ФГУП "Комбинат "Электрохимприбор", Реконструкция КПП промышленной площадки №5
H7: (наименование стройки)
H9: ЛОКАЛЬНЫЙ СМЕТНЫЙ РАСЧЕТ № 02-01-06 (дополнение к смете №02-01-05)
H10: (локальная смета)
C12: на | D12: пожарную сигнализацию
H13: (наименование работ и затрат, наименование объекта)
D15: Основание: Р-055/10671-258-ПС изм.1
D16: Сметная стоимость _______________________________________________________________________________________________ | J16: ___________________________2,210 | L16: тыс. руб.
D17: монтажных работ _______________________________________________________________________________________________ | J17: _______________________________________________________________________________________________1,103 | L17: тыс. руб.
D18: оборудования _______________________________________________________________________________________________ | J18: _______________________________________________________________________________________________1,107 | L18: тыс. руб.
D19: Средства на оплату труда _______________________________________________________________________________________________ | J19: ___________________________0,379 | L19: тыс. руб.
D20: Сметная трудоемкость _______________________________________________________________________________________________ | J20: _______________________________________________________________________________________________28 | L20: чел.час
D21: Составлен ценах 2001г.
A24: № пп | B24: Обосно- вание | C24: Наименование | D24: Ед. изм. | E24: Кол. | F24: Стоимость единицы, руб. | J24: Общая стоимость, руб. | N24: Т/з осн. раб.на ед. | O24: Т/з осн. раб. Всего | P24: Т/з мех. на ед. | Q24: Т/з мех. Всего
F25: Всего | G25: В том числе | J25: Всего | K25: В том числе
G26: Осн.З/п | H26: Эк.Маш | I26: З/пМех | K26: Осн.З/п | L26: Эк.Маш | M26: З/пМех
A27: 1 | B27: 2 | C27: 3 | D27: 4 | E27: 5 | F27: 6 | G27: 7 | H27: 8 | I27: 9 | J27: 10 | K27: 11 | L27: 12 | M27: 13 | N27: 14 | O27: 15 | P27: 16 | Q27: 17
A28: Раздел 1. Добавить к смете №02-01-05
A29: Пожарная сигнализация
A30: 1 | B30: ТЕРм10-04-112-02 | C30: Шкаф или панель коммутации связи и сигнализации на стене или в нише, количество пар 100 | D30: 1 шт. | E30: 1 | F30: 508.42 | G30: 379.4 | J30: 508 | K30: 379 | N30: 28 | O30: 28
A31: 2 | B31: Прайс-лист ЦМО 1 квартал 2013г. | C31: Шкаф телекоммуникационный настенный 9U (600х300) дверь стекло ШРН-9.300 (Транспорт оборудования ПЗ=1,03) | D31: шт | E31: 1 | F31: 1094,08 4600/1,18/3,67 | J31: 1094
A32: Итого прямые затраты по смете в ценах 2001г. | J32: 1602 | K32: 379 | O32: 28
A33: Итого прямые затраты по смете с учетом коэффициентов к итогам (Заготовительно-складские затраты на оборудование ПЗ=1,012 (Поз. 2)) | J33: 1615 | K33: 379 | O33: 28
A34: Накладные расходы | J34: 349
A35: Сметная прибыль | J35: 246
A36: Итоги по смете:
A37: Итоги по Монтажным работам
A38: Монтаж радиотелевизионного и электронного оборудования:
A39: Итого Поз. 1 | J39: 508 | K39: 379 | O39: 28
A40: Накладные расходы 92% ФОТ (от 379) | J40: 349
A41: Сметная прибыль 65% ФОТ (от 379) | J41: 246
A42: Итого c накладными и см. прибылью | J42: 1103 | O42: 28
A43: Итого | J43: 1103 | O43: 28
A44: Итоги по Оборудованию
A45: Оборудование:
A46: Итого Поз. 2 | J46: 1094
A47: Всего с учетом "Заготовительно-складские затраты на оборудование ПЗ=1,012" | J47: 1107
...

Sheet 07-01
H1: ФГУП "Комбинат "Электрохимприбор"
H2: (наименование стройки)
H4: ЛОКАЛЬНЫЙ СМЕТНЫЙ РАСЧЕТ № 07-01
H5: (локальная смета)
C7: на | D7: вертикальную планировку. Реконструкция КПП промышленной площадки №5
H8: (наименование работ и затрат, наименование объекта)
D10: Основание: Р-055/10671-ГП
D11: Сметная стоимость строительных работ _______________________________________________________________________________________________ | J11: ___________________________0,585 | L11: тыс. руб.
D12: Средства на оплату труда _______________________________________________________________________________________________ | J12: ___________________________0,036 | L12: тыс. руб.
D13: Сметная трудоемкость _______________________________________________________________________________________________ | J13: _______________________________________________________________________________________________0,45 | L13: чел.час
D14: Составлен(а) в ценах 2001 г.
A17: № пп | B17: Обосно- вание | C17: Наименование | D17: Ед. изм. | E17: Кол. | F17: Стоимость единицы, руб. | J17: Общая стоимость, руб. | N17: Т/з осн. раб.на ед. | O17: Т/з осн. раб. Всего | P17: Т/з мех. на ед. | Q17: Т/з мех. Всего
F18: Всего | G18: В том числе | J18: Всего | K18: В том числе
G19: Осн.З/п | H19: Эк.Маш | I19: З/пМех | K19: Осн.З/п | L19: Эк.Маш | M19: З/пМех
A20: 1 | B20: 2 | C20: 3 | D20: 4 | E20: 5 | F20: 6 | G20: 7 | H20: 8 | I20: 9 | J20: 10 | K20: 11 | L20: 12 | M20: 13 | N20: 14 | O20: 15 | P20: 16 | Q20: 17
A21: Раздел 1. Вертикальная планировка
A22: 1 | B22: ТЕР01-01-031-02 | C22: Разработка грунта с перемещением до 10 м бульдозерами мощностью 96 кВт (130 л.с.), группа грунтов 2 (под автодорожные покрытия, покрытия площадки) | D22: 1000 м3 грунта | E22: 0.048 | F22: 1770.89 | H22: 1770.89 | I22: 186.12 | J22: 85 | L22: 85 | M22: 9 | P22: 11 | Q22: 0.53
A23: 2 | B23: ТЕР01-01-013-07 | C23: Разработка грунта с погрузкой на автомобили-самосвалы экскаваторами с ковшом вместимостью 0,65 (0,5-1) м3, группа грунтов 1 (погрузка избыточного грунта) | D23: 1000 м3 грунта | E23: 0.048 | F23: 4089.05 | G23: 101.99 | H23: 3983.23 | I23: 455.32 | J23: 196 | K23: 5 | L23: 191 | M23: 22 | N23: 9.28 | O23: 0.45 | P23: 26.91 | Q23: 1.29
A24: 3 | B24: СЦП3-3-1-1 | C24: Перевозка грузов автомобилями-самосвалами (работающими вне карьеров): расстояние 1 км, класс груза I | D24: т | E24: 79.2 | F24: 3.16 | H24: 3.16 | J24: 250 | L24: 250
A25: Итого прямые затраты по смете в ценах 2001г. | J25: 531 | K25: 5 | L25: 526 | M25: 31 | O25: 0.45 | Q25: 1.82
A26: Накладные расходы | J26: 36
A27: В том числе, справочно:
A28: 100% ФОТ (от 36) (Поз. 1-2) | J28: 36
A29: Сметная прибыль | J29: 18
A30: В том числе, справочно:
A31: 50% ФОТ (от 36) (Поз. 1-2) | J31: 18
A32: Итоги по смете:
A33: Земляные работы, выполняемые механизированным способом | J33: 335 | O33: 0.45 | Q33: 1.82
A34: Перевозка грузов автомобильным транспортом | J34: 250
A35: Итого | J35: 585 | O35: 0.45 | Q35: 1.82
A36: В том числе:
A37: Машины и механизмы | J37: 526
A38: ФОТ | J38: 36
A39: Накладные расходы | J39: 36
A40: Сметная прибыль | J40: 18
A41: ВСЕГО по смете | J41: 585 | O41: 0.45 | Q41: 1.82

Sheet 07-02
H1: ФГУП "Комбинат "Электрохимприбор"
H2: (наименование стройки)
H4: ЛОКАЛЬНЫЙ СМЕТНЫЙ РАСЧЕТ № 07-02
H5: (локальная смета)
C7: на | D7: покрытие площадки. Реконструкция КПП промышленной площадки №5 ФГУП "Комбинат "Электрохимприбор"
H8: (наименование работ и затрат, наименование объекта)
D10: Основание: Р-055/10671-ГП
D11: Сметная стоимость строительных работ _______________________________________________________________________________________________ | J11: ___________________________16,385 | L11: тыс. руб.
D12: Средства на оплату труда _______________________________________________________________________________________________ | J12: ___________________________0,235 | L12: тыс. руб.
D13: Сметная трудоемкость _______________________________________________________________________________________________ | J13: _______________________________________________________________________________________________9,21 | L13: чел.час
D14: Составлен(а) в ценах 2001 г.
A17: № пп | B17: Обосно- вание | C17: Наименование | D17: Ед. изм. | E17: Кол. | F17: Стоимость единицы, руб. | J17: Общая стоимость, руб. | N17: Т/з осн. раб.на ед. | O17: Т/з осн. раб. Всего | P17: Т/з мех. на ед. | Q17: Т/з мех. Всего
F18: Всего | G18: В том числе | J18: Всего | K18: В том числе
G19: Осн.З/п | H19: Эк.Маш | I19: З/пМех | K19: Осн.З/п | L19: Эк.Маш | M19: З/пМех
A20: 1 | B20: 2 | C20: 3 | D20: 4 | E20: 5 | F20: 6 | G20: 7 | H20: 8 | I20: 9 | J20: 10 | K20: 11 | L20: 12 | M20: 13 | N20: 14 | O20: 15 | P20: 16 | Q20: 17
A21: Раздел 1. Покрытие площадки
A22: А/б покрытие
A23: 1 | B23: ТЕР27-04-001-02 | C23: Устройство подстилающих и выравнивающих слоев оснований из песчано-гравийной смеси, дресвы (h=0,54 м) | D23: 100 м3 материала основания (в плотном теле) | E23: 0.259 | F23: 2693.01 | G23: 177.48 | H23: 2481.37 | I23: 248.22 | J23: 697 | K23: 46 | L23: 643 | M23: 64 | N23: 15.72 | O23: 4.07 | P23: 14.81 | Q23: 3.84
A24: 2 | B24: ТСЦ-408-0200 | C24: Смесь песчано-гравийная природная | D24: м3 | E24: 31.6 | F24: 138.7 | J24: 4383
A25: 3 | B25: ТЕР27-04-003-05 | C25: Устройство оснований и покрытий из песчано-гравийных или щебеночно-песчаных смесей непрерывной гранулометрии С-4 и С-6, однослойных толщиной 15 см (h=0,35 м с добавлением щебня) | D25: 1000 м2 основания или покрытия | E25: 0.048 | F25: 8562.02 | G25: 356.82 | H25: 8083.2 | I25: 366.77 | J25: 411 | K25: 17 | L25: 388 | M25: 18 | N25: 29.71 | O25: 1.43 | P25: 20.97 | Q25: 1.01
A26: 4 | B26: ТЕР27-04-003-08 | C26: На каждый 1 см изменения толщины слоя добавлять или исключать к расценкам с 27-04-003-05 по 27-04-003-07 (коэффициент на толщину слоя ПЗ=20 (ОЗП=20; ЭМ=20 к расх.; ЗПМ=20; МАТ=20 к расх.; ТЗ=20; ТЗМ=20)) | D26: 1000 м2 основания или покрытия | E26: 0.048 | F26: 4389.4 | H26: 4389.4 | I26: 162.2 | J26: 211 | L26: 211 | M26: 8 | P26: 9.2 | Q26: 0.44
A27: 5 | B27: ТСЦ-408-0200 | C27: Смесь песчано-гравийная природная (80%) | D27: м3 | E27: 16.4 | F27: 138.7 | J27: 2275
A28: 6 | B28: ТСЦ-408-0006 | C28: Щебень из природного камня для строительных работ марка 1200, фракция 10-20 мм (20%) | D28: м3 | E28: 4.1 | F28: 146.57 | J28: 601
A29: 7 | B29: ТЕР27-06-026-01 | C29: Розлив вяжущих материалов | D29: 1 т | E29: 0.144 | F29: 2017.46 | H29: 46.53 | I29: 11.16 | J29: 291 | L29: 7 | M29: 2 | P29: 0.66 | Q29: 0.1
A30: 8 | B30: ТЕР27-06-020-03 | C30: Устройство покрытия толщиной 4 см из горячих асфальтобетонных смесей плотных крупнозернинистых типа АБ, плотность каменных материалов 2,5-2,9 т/м3 (толщиной 6 см) | D30: 1000 м2 покрытия | E30: 0.048 | F30: 51885.73 | G30: 518.97 | H30: 2984 | I30: 322.26 | J30: 2491 | K30: 25 | L30: 143 | M30: 15 | N30: 38.3 | O30: 1.84 | P30: 19.08 | Q30: 0.92
A31: 9 | B31: ТЕР27-06-021-03 | C31: На каждые 0,5 см изменения толщины покрытия добавлять или исключать к расценке 27-06-020-03 (коэффициент на толщину слоя ПЗ=4 (ОЗП=4; ЭМ=4 к расх.; ЗПМ=4; МАТ=4 к расх.; ТЗ=4; ТЗМ=4)) | D31: 1000 м2 покрытия | E31: 0.048 | F31: 24143.44 | G31: 4.88 | H31: 12.52 | J31: 1159 | L31: 1 | N31: 0.36 | O31: 0.02
A32: 10 | B32: ТЕР27-06-020-01 | C32: Устройство покрытия толщиной 4 см из горячих асфальтобетонных смесей плотных мелкозернистых типа АБВ, плотность каменных материалов 2,5-2,9 т/м3 (толщиной 5 см) | D32: 1000 м2 покрытия | E32: 0.048 | F32: 55602.96 | G32: 518.97 | H32: 2984 | I32: 322.26 | J32: 2669 | K32: 25 | L32: 143 | M32: 15 | N32: 38.3 | O32: 1.84 | P32: 19.08 | Q32: 0.92
A33: 11 | B33: ТЕР27-06-021-01 | C33: На каждые 0,5 см изменения толщины покрытия добавлять или исключать к расценке 27-06-020-01 (коэффициент на толщину слоя ПЗ=2 (ОЗП=2; ЭМ=2 к расх.; ЗПМ=2; МАТ=2 к расх.; ТЗ=2; ТЗМ=2)) | D33: 1000 м2 покрытия | E33: 0.048 | F33: 13003.12 | G33: 2.44 | H33: 6.64 | J33: 624 | N33: 0.18 | O33: 0.01
A34: Итого прямые затраты по смете в ценах 2001г. | J34: 15812 | K34: 113 | L34: 1536 | M34: 122 | O34: 9.21 | Q34: 7.23
A35: Накладные расходы | J35: 350
A36: В том числе, справочно:
A37: 149% ФОТ (от 235) (Поз. 1, 3-4, 7-11) | J37: 350
A38: Сметная прибыль | J38: 223
A39: В том числе, справочно:
A40: 95% ФОТ (от 235) (Поз. 1, 3-4, 7-11) | J40: 223
A41: Итоги по смете:
A42: Автомобильные дороги | J42: 9126 | O42: 9.21 | Q42: 7.23
A43: Материалы | J43: 7259
A44: Итого | J44: 16385 | O44: 9.21 | Q44: 7.23
A45: В том числе:
...

Sheet 247гн-14
A1: СОГЛАСОВАНО: | M1: УТВЕРЖДАЮ:
